Workbook

Sheet PPTO
G1: MUNICIPIO DE VILLAVICENCIO | J1: 1010-F-GCT-45-V2
G2: PROCESO DE GESTIÓN DE LA CONTRATACIÓN | J2: VIGENCIA 09/01/2014
G3: FORMATO PRESUPUESTO OFICIAL | J3: PAGINA 1 DE 1
E5: PRESUPUESTO OFICIAL
H7: DD MM AAAA
E8: FECHA DE ELABORACION: | H8: 44823
E9: OBJETO: | H9: RECONSTRUCCIÓN TOTAL DE LA INSTITUCIÓN EDUCATIVA ALFONSO LÓPEZ PUMAREJO SEDE PRINCIPAL DEL MUNICIPIO DE VILLAVICENCIO - META
E10: TERMINO DE EJECUCION: | H10: 13 MESES y 15 DIAS
E11: DIRECCION; | H11: KM 26 VIA PUERTO LOPEZ- VDA POMPEYA
B12: Nº | C12: ESPECIFICACIONES GENERAL | D12: ESPECIFICACIONES PARTICULAR | E12: ITEM | F12: CÓDIGO UNSPSC | G12: DESCRIPCIÓN | H12: UNDIDAD DE MEDIDA | I12: CANTIDAD | J12: VALOR UNITARIO | K12: VALOR TOTAL
E13: 1 | G13: DEMOLICIONES Y PRELIMINARES
E14: 1.1 | G14: DEMOLICIONES GENERALES
B15: 1 | C15: =+IFERROR(VLOOKUP(PPTO!$D15,'[1]ANEXO 2 LIST PRECIOS RESUMI'!$A$11:$O$2502,2,0),0) -> A 029.001.225 | D15: 1875 | E15: 1.1.1 | G15: =+VLOOKUP(PPTO!$D15,'[1]ANEXO 2 LIST PRECIOS RESUMI'!$A$11:$O$2502,10,0) -> DEMOLICIÓN DE EDIFICACIONES INCLUYE: (MUROS, ESTRUCT. CONFINAM, CUBIERTA,DESMONTESAPARATOS, CARP, Y RETIROS SOBRANTES) | H15: =+VLOOKUP(PPTO!$D15,'[1]ANEXO 2 LIST PRECIOS RESUMI'!$A$11:$O$2502,11,0) -> M2 | I15: 2493.31 | J15: =+VLOOKUP(PPTO!$D15,'[1]ANEXO 2 LIST PRECIOS RESUMI'!$A$11:$O$2502,15,0) -> 88962 | K15: =+ROUND(I15*J15,0.1) -> 221809844
B16: 2 | C16: =+IFERROR(VLOOKUP(PPTO!$D16,'[1]ANEXO 2 LIST PRECIOS RESUMI'!$A$11:$O$2502,2,0),0) -> A 029.001.226 | D16: 1876 | E16: 1.1.2 | G16: =+VLOOKUP(PPTO!$D16,'[1]ANEXO 2 LIST PRECIOS RESUMI'!$A$11:$O$2502,10,0) -> DEMOLICIÓN PLACAS PISO E=0.10M INC CARGUE MANUAL, RETIRO 5 KM | H16: =+VLOOKUP(PPTO!$D16,'[1]ANEXO 2 LIST PRECIOS RESUMI'!$A$11:$O$2502,11,0) -> M2 | I16: 3504.18 | J16: =+VLOOKUP(PPTO!$D16,'[1]ANEXO 2 LIST PRECIOS RESUMI'!$A$11:$O$2502,15,0) -> 24282 | K16: =+ROUND(I16*J16,0.1) -> 85088499
E17: 2 | G17: ACONDICIONAMIENTO DEL TERRENO
E18: 2.1 | G18: LOCALIZACION Y REPLOANTEO
B19: 3 | C19: =+IFERROR(VLOOKUP(PPTO!$D19,'[1]ANEXO 2 LIST PRECIOS RESUMI'!$A$11:$O$2502,2,0),0) -> A 001.001.004 | D19: 2110 | E19: 2.1.1 | G19: =+VLOOKUP(PPTO!$D19,'[1]ANEXO 2 LIST PRECIOS RESUMI'!$A$11:$O$2502,10,0) -> LOCALIZACION TOPOGRAFICA (sardineles y redes) | H19: =+VLOOKUP(PPTO!$D19,'[1]ANEXO 2 LIST PRECIOS RESUMI'!$A$11:$O$2502,11,0) -> ML | I19: 756.75 | J19: =+VLOOKUP(PPTO!$D19,'[1]ANEXO 2 LIST PRECIOS RESUMI'!$A$11:$O$2502,15,0) -> 1628 | K19: =+ROUND(I19*J19,0.1) -> 1231989
B20: 4 | C20: =+IFERROR(VLOOKUP(PPTO!$D20,'[1]ANEXO 2 LIST PRECIOS RESUMI'!$A$11:$O$2502,2,0),0) -> A 001.001.005 | D20: 2111 | E20: 2.1.2 | G20: =+VLOOKUP(PPTO!$D20,'[1]ANEXO 2 LIST PRECIOS RESUMI'!$A$11:$O$2502,10,0) -> LOCALIZACION Y NIVELACION TOPOGRAFICA PARA VIAS (excavacion y conformacion de banca - ancho de calzada 6-8m) | H20: =+VLOOKUP(PPTO!$D20,'[1]ANEXO 2 LIST PRECIOS RESUMI'!$A$11:$O$2502,11,0) -> ML | I20: 377.1 | J20: =+VLOOKUP(PPTO!$D20,'[1]ANEXO 2 LIST PRECIOS RESUMI'!$A$11:$O$2502,15,0) -> 7052 | K20: =+ROUND(I20*J20,0.1) -> 2659309
B21: 5 | C21: =+IFERROR(VLOOKUP(PPTO!$D21,'[1]ANEXO 2 LIST PRECIOS RESUMI'!$A$11:$O$2502,2,0),0) -> A 001.001.006 | D21: 2112 | E21: 2.1.3 | G21: =+VLOOKUP(PPTO!$D21,'[1]ANEXO 2 LIST PRECIOS RESUMI'!$A$11:$O$2502,10,0) -> TRAZADO Y REPLANTEO ARQUIT | H21: =+VLOOKUP(PPTO!$D21,'[1]ANEXO 2 LIST PRECIOS RESUMI'!$A$11:$O$2502,11,0) -> M2 | I21: 6154.56 | J21: =+VLOOKUP(PPTO!$D21,'[1]ANEXO 2 LIST PRECIOS RESUMI'!$A$11:$O$2502,15,0) -> 4158 | K21: =+ROUND(I21*J21,0.1) -> 25590660
E22: 2.2 | G22: DESCAPOTES MAQ./MANUAL
B23: 6 | C23: =+IFERROR(VLOOKUP(PPTO!$D23,'[1]ANEXO 2 LIST PRECIOS RESUMI'!$A$11:$O$2502,2,0),0) -> A 001.004.003 | D23: 2113 | E23: 2.2.1 | G23: =+VLOOKUP(PPTO!$D23,'[1]ANEXO 2 LIST PRECIOS RESUMI'!$A$11:$O$2502,10,0) -> DESCAPOTE MECANICO.e= < 0.2m,lnc retiro.5 kms | H23: =+VLOOKUP(PPTO!$D23,'[1]ANEXO 2 LIST PRECIOS RESUMI'!$A$11:$O$2502,11,0) -> M2 | I23: 4708.56 | J23: =+VLOOKUP(PPTO!$D23,'[1]ANEXO 2 LIST PRECIOS RESUMI'!$A$11:$O$2502,15,0) -> 13148 | K23: =+ROUND(I23*J23,0.1) -> 61908147
B24: 7 | C24: =+IFERROR(VLOOKUP(PPTO!$D24,'[1]ANEXO 2 LIST PRECIOS RESUMI'!$A$11:$O$2502,2,0),0) -> A 001.004.002 | D24: 54 | E24: 2.2.2 | G24: =+VLOOKUP(PPTO!$D24,'[1]ANEXO 2 LIST PRECIOS RESUMI'!$A$11:$O$2502,10,0) -> DESCAPOTE MANUAL INC RETIRO | H24: =+VLOOKUP(PPTO!$D24,'[1]ANEXO 2 LIST PRECIOS RESUMI'!$A$11:$O$2502,11,0) -> M2 | I24: 399.68 | J24: =+VLOOKUP(PPTO!$D24,'[1]ANEXO 2 LIST PRECIOS RESUMI'!$A$11:$O$2502,15,0) -> 7932 | K24: =+ROUND(I24*J24,0.1) -> 3170262
B25: 8 | C25: =+IFERROR(VLOOKUP(PPTO!$D25,'[1]ANEXO 2 LIST PRECIOS RESUMI'!$A$11:$O$2502,2,0),0) -> A 001.004.001 | D25: 53 | E25: 2.2.3 | G25: =+VLOOKUP(PPTO!$D25,'[1]ANEXO 2 LIST PRECIOS RESUMI'!$A$11:$O$2502,10,0) -> DESCAPOTE MECANICO.e= <o= 0.15m,lnc retiro.5 kms | H25: =+VLOOKUP(PPTO!$D25,'[1]ANEXO 2 LIST PRECIOS RESUMI'!$A$11:$O$2502,11,0) -> M2 | I25: 6211.56 | J25: =+VLOOKUP(PPTO!$D25,'[1]ANEXO 2 LIST PRECIOS RESUMI'!$A$11:$O$2502,15,0) -> 8947 | K25: =+ROUND(I25*J25,0.1) -> 55574827
B26: 9 | C26: A 026.003.061 | D26: 731 | E26: 2.2.4 | G26: =+VLOOKUP(PPTO!$D26,'[1]ANEXO 2 LIST PRECIOS RESUMI'!$A$11:$O$2502,10,0) -> TALA ARBOL CLASE II 5m<H<10m inc. transp5km, desen | H26: =+VLOOKUP(PPTO!$D26,'[1]ANEXO 2 LIST PRECIOS RESUMI'!$A$11:$O$2502,11,0) -> UN | I26: 9 | J26: =+VLOOKUP(PPTO!$D26,'[1]ANEXO 2 LIST PRECIOS RESUMI'!$A$11:$O$2502,15,0) -> 268564 | K26: =+ROUND(I26*J26,0.1) -> 2417076
B27: 10 | C27: A 026.003.062 | D27: 732 | E27: 2.2.5 | G27: =+VLOOKUP(PPTO!$D27,'[1]ANEXO 2 LIST PRECIOS RESUMI'!$A$11:$O$2502,10,0) -> TALA ARBOL CLASE III 10m<H<20m inc. transp5km, des | H27: =+VLOOKUP(PPTO!$D27,'[1]ANEXO 2 LIST PRECIOS RESUMI'!$A$11:$O$2502,11,0) -> UN | I27: 62 | J27: =+VLOOKUP(PPTO!$D27,'[1]ANEXO 2 LIST PRECIOS RESUMI'!$A$11:$O$2502,15,0) -> 424796 | K27: =+ROUND(I27*J27,0.1) -> 26337352
B28: 11 | C28: A 026.003.063 | D28: 733 | E28: 2.2.6 | G28: =+VLOOKUP(PPTO!$D28,'[1]ANEXO 2 LIST PRECIOS RESUMI'!$A$11:$O$2502,10,0) -> TALA ARBOL CLASE IV 20m<H<30m inc. transp5km, dese | H28: =+VLOOKUP(PPTO!$D28,'[1]ANEXO 2 LIST PRECIOS RESUMI'!$A$11:$O$2502,11,0) -> UN | I28: 10 | J28: =+VLOOKUP(PPTO!$D28,'[1]ANEXO 2 LIST PRECIOS RESUMI'!$A$11:$O$2502,15,0) -> 692315 | K28: =+ROUND(I28*J28,0.1) -> 6923150
E29: 2.3 | G29: EXCAVACIONES
B30: =+B28+1 -> 12 | C30: =+IFERROR(VLOOKUP(PPTO!$D30,'[1]ANEXO 2 LIST PRECIOS RESUMI'!$A$11:$O$2502,2,0),0) -> V 003.002.004 | D30: 1414 | E30: 2.3.1 | G30: =+VLOOKUP(PPTO!$D30,'[1]ANEXO 2 LIST PRECIOS RESUMI'!$A$11:$O$2502,10,0) -> EXCAV MECAN INC RETIRO DE SOBRANTES(xa cajas vías- | H30: =+VLOOKUP(PPTO!$D30,'[1]ANEXO 2 LIST PRECIOS RESUMI'!$A$11:$O$2502,11,0) -> M3 | I30: 2168.65 | J30: =+VLOOKUP(PPTO!$D30,'[1]ANEXO 2 LIST PRECIOS RESUMI'!$A$11:$O$2502,15,0) -> 42747 | K30: =+ROUND(I30*J30,0.1) -> 92703282
B31: 13 | C31: =+IFERROR(VLOOKUP(PPTO!$D31,'[1]ANEXO 2 LIST PRECIOS RESUMI'!$A$11:$O$2502,2,0),0) -> A 002.001.004 | D31: 2114 | E31: 2.3.2 | G31: =+VLOOKUP(PPTO!$D31,'[1]ANEXO 2 LIST PRECIOS RESUMI'!$A$11:$O$2502,10,0) -> EXCAVA. MANUAL VIAS CONGLOMER 0,20M. Incl retiro 5 km | H31: =+VLOOKUP(PPTO!$D31,'[1]ANEXO 2 LIST PRECIOS RESUMI'!$A$11:$O$2502,11,0) -> M3 | I31: 197.6 | J31: =+VLOOKUP(PPTO!$D31,'[1]ANEXO 2 LIST PRECIOS RESUMI'!$A$11:$O$2502,15,0) -> 37940 | K31: =+ROUND(I31*J31,0.1) -> 7496944
B32: 14 | C32: =+IFERROR(VLOOKUP(PPTO!$D32,'[1]ANEXO 2 LIST PRECIOS RESUMI'!$A$11:$O$2502,2,0),0) -> V 003.002.013 | D32: 1819 | E32: 2.3.3 | G32: =+VLOOKUP(PPTO!$D32,'[1]ANEXO 2 LIST PRECIOS RESUMI'!$A$11:$O$2502,10,0) -> EXCAVACIÓN MECÁNICA EN CONGLOMERADO HUMEDO H < 4.0M | H32: =+VLOOKUP(PPTO!$D32,'[1]ANEXO 2 LIST PRECIOS RESUMI'!$A$11:$O$2502,11,0) -> M3 | I32: 4542.19 | J32: =+VLOOKUP(PPTO!$D32,'[1]ANEXO 2 LIST PRECIOS RESUMI'!$A$11:$O$2502,15,0) -> 34344 | K32: =+ROUND(I32*J32,0.1) -> 155996973
B33: 15 | C33: =+IFERROR(VLOOKUP(PPTO!$D33,'[1]ANEXO 2 LIST PRECIOS RESUMI'!$A$11:$O$2502,2,0),0) -> A 002.001.001 | D33: 72 | E33: 2.3.4 | G33: =+VLOOKUP(PPTO!$D33,'[1]ANEXO 2 LIST PRECIOS RESUMI'!$A$11:$O$2502,10,0) -> EXCAV. SECAS CONGLOMDO MANUAL. Incl. retiro 5 kms | H33: =+VLOOKUP(PPTO!$D33,'[1]ANEXO 2 LIST PRECIOS RESUMI'!$A$11:$O$2502,11,0) -> M3 | I33: 144.55 | J33: =+VLOOKUP(PPTO!$D33,'[1]ANEXO 2 LIST PRECIOS RESUMI'!$A$11:$O$2502,15,0) -> 67710 | K33: =+ROUND(I33*J33,0.1) -> 9787481
B34: 16 | C34: =+IFERROR(VLOOKUP(PPTO!$D34,'[1]ANEXO 2 LIST PRECIOS RESUMI'!$A$11:$O$2502,2,0),0) -> A 002.002.007 | D34: 2115 | E34: 2.3.5 | G34: =+VLOOKUP(PPTO!$D34,'[1]ANEXO 2 LIST PRECIOS RESUMI'!$A$11:$O$2502,10,0) -> EXCAVACION MECANICA EN CONGLOMER TERRAC. Inc retiro 5 km | H34: =+VLOOKUP(PPTO!$D34,'[1]ANEXO 2 LIST PRECIOS RESUMI'!$A$11:$O$2502,11,0) -> M3 | I34: 2544 | J34: =+VLOOKUP(PPTO!$D34,'[1]ANEXO 2 LIST PRECIOS RESUMI'!$A$11:$O$2502,15,0) -> 46230 | K34: =+ROUND(I34*J34,0.1) -> 117609120
E35: 2.4 | G35: RELLENOS, EXPLANACION, RETIROS
B36: 17 | C36: =+IFERROR(VLOOKUP(PPTO!$D36,'[1]ANEXO 2 LIST PRECIOS RESUMI'!$A$11:$O$2502,2,0),0) -> A 014.002.003 | D36: 404 | E36: 2.4.1 | G36: =+VLOOKUP(PPTO!$D36,'[1]ANEXO 2 LIST PRECIOS RESUMI'!$A$11:$O$2502,10,0) -> RELLENO MATERIAL T. MAX. 2" COMP.MECAN.selecc rio (5km) | H36: =+VLOOKUP(PPTO!$D36,'[1]ANEXO 2 LIST PRECIOS RESUMI'!$A$11:$O$2502,11,0) -> M3 | I36: 2298.02 | J36: =+VLOOKUP(PPTO!$D36,'[1]ANEXO 2 LIST PRECIOS RESUMI'!$A$11:$O$2502,15,0) -> 97155 | K36: =+ROUND(I36*J36,0.1) -> 223264133
B37: 18 | C37: =+IFERROR(VLOOKUP(PPTO!$D37,'[1]ANEXO 2 LIST PRECIOS RESUMI'!$A$11:$O$2502,2,0),0) -> V 006.002.017 | D37: 1481 | E37: 2.4.2 | G37: =+VLOOKUP(PPTO!$D37,'[1]ANEXO 2 LIST PRECIOS RESUMI'!$A$11:$O$2502,10,0) -> RELLENOS MATERIAL EXCAVA(Relleno exten mecánico | H37: =+VLOOKUP(PPTO!$D37,'[1]ANEXO 2 LIST PRECIOS RESUMI'!$A$11:$O$2502,11,0) -> M3 | I37: 2969.91 | J37: =+VLOOKUP(PPTO!$D37,'[1]ANEXO 2 LIST PRECIOS RESUMI'!$A$11:$O$2502,15,0) -> 20287 | K37: =+ROUND(I37*J37,0.1) -> 60250564
E38: 3 | G38: CIMENTACIONES
E39: 3.1 | G39: BASES - SOLADOS
B40: 19 | C40: =+IFERROR(VLOOKUP(PPTO!$D40,'[1]ANEXO 2 LIST PRECIOS RESUMI'!$A$11:$O$2502,2,0),0) -> V 004.001.030 | D40: 1449 | E40: 3.1.1 | G40: =+VLOOKUP(PPTO!$D40,'[1]ANEXO 2 LIST PRECIOS RESUMI'!$A$11:$O$2502,10,0) -> CONCRET013,8 MPa, (2000 psi), solado, conc limpie | H40: =+VLOOKUP(PPTO!$D40,'[1]ANEXO 2 LIST PRECIOS RESUMI'!$A$11:$O$2502,11,0) -> M3 | I40: 146.42 | J40: =+VLOOKUP(PPTO!$D40,'[1]ANEXO 2 LIST PRECIOS RESUMI'!$A$11:$O$2502,15,0) -> 577106 | K40: =+ROUND(I40*J40,0.1) -> 84499861
E41: 3.2 | G41: ZAPATAS CORRIDAS-AISLADAS | K41: =+ROUND(I41*J41,0.1) -> 0
B42: 20 | C42: =+IFERROR(VLOOKUP(PPTO!$D42,'[1]ANEXO 2 LIST PRECIOS RESUMI'!$A$11:$O$2502,2,0),0) -> A 003.003.001 | D42: 86 | E42: 3.2.1 | G42: =+VLOOKUP(PPTO!$D42,'[1]ANEXO 2 LIST PRECIOS RESUMI'!$A$11:$O$2502,10,0) -> CONCRETO ZAPATA 20.7MPa,(3000 psi) No inc hierro. | H42: =+VLOOKUP(PPTO!$D42,'[1]ANEXO 2 LIST PRECIOS RESUMI'!$A$11:$O$2502,11,0) -> M3 | I42: 1938.26 | J42: =+VLOOKUP(PPTO!$D42,'[1]ANEXO 2 LIST PRECIOS RESUMI'!$A$11:$O$2502,15,0) -> 843578 | K42: =+ROUND(I42*J42,0.1) -> 1635073494
...
