Workbook

Sheet REPUESTOS VEHICULOS
E1: 0.05
A4: LISTA DE PRECIO SECCIONAL CESAR | Y4: VALOR SELECCIONADO | AA4: VALOR SELECCIONADO | AC4: VALOR SELECCIONADO | AE4: VALOR SELECCIONADO | AG4: VALOR SELECCIONADO | AI4: VALOR SELECCIONADO | AK4: VALOR SELECCIONADO | AM4: VALOR SELECCIONADO | AO4: VALOR SELECCIONADO | AQ4: VALOR SELECCIONADO | AS4: VALOR SELECCIONADO | AU4: VALOR SELECCIONADO | AW4: VALOR SELECCIONADO | AY4: VALOR SELECCIONADO
A5: NECESIDAD CONTRATACIÓN MULTIMARCA REPUESTOS | E5: 1. REPUESTOS | F5: VALOR CON DESCUENTO | G5: 2. REPUESTOS | H5: VALOR CON DESCUENTO | I5: 3. REPUESTOS | J5: VALOR CON DESCUENTO | K5: 4. REPUESTOS | L5: VALOR CON DESCUENTO | M5: 5. REPUESTOS | N5: VALOR CON DESCUENTO | O5: 6. REPUESTOS | P5: VALOR CON DESCUENTO | Q5: 7. REPUESTOS | R5: VALOR CON DESCUENTO | S5: 8. REPUESTOS | T5: VALOR CON DESCUENTO | U5: 9. REPUESTOS | V5: VALOR CON DESCUENTO | W5: 10. REPUESTOS | X5: VALOR CON DESCUENTO | Y5: 11.REPUESTOS | Z5: VALOR CON DESCUENTO | AA5: 12. REPUESTOS | AB5: VALOR CON DESCUENTO | AC5: 13. REPUESTOS | AD5: VALOR CON DESCUENTO | AE5: 14. REPUESTOS | AF5: VALOR CON DESCUENTO | AG5: 15. REPUESTOS | AH5: VALOR CON DESCUENTO | AI5: 16. REPUESTOS | AJ5: VALOR CON DESCUENTO | AK5: 17. REPUESTOS | AL5: VALOR CON DESCUENTO | AM5: 18. REPUESTOS | AN5: VALOR CON DESCUENTO | AO5: 19. REPUESTOS | AP5: VALOR CON DESCUENTO | AQ5: 20. REPUESTOS | AR5: VALOR CON DESCUENTO | AS5: 21. REPUESTOS | AT5: VALOR CON DESCUENTO | AU5: 22. REPUESTOS | AV5: VALOR CON DESCUENTO | AW5: 23. REPUESTOS | AX5: VALOR CON DESCUENTO | AY5: 24. REPUESTOS | AZ5: VALOR CON DESCUENTO
A7: NOMBRE DEL ACTIVO | E7: CAMIONETA | G7: CAMIONETA | I7: CAMPERO | K7: BUS | M7: AUTOMÓVIL | O7: AUTOMÓVIL | Q7: CAMIONETA | S7: CAMPERO | U7: AUTOMÓVIL | W7: CAMIONETA | Y7: CAMIONETA | AA7: CAMIONETA | AC7: CAMPERO | AE7: AUTOMÓVIL | AG7: AUTOMÓVIL | AI7: AUTOMÓVIL | AK7: CAMIONETA | AM7: CAMIONETA | AO7: CAMIONETA | AQ7: CAMIONETA | AS7: CAMIONETA | AU7: CAMION | AW7: AUTOMOVIL | AY7: CAMIONETA
A8: MARCA | E8: CHEVROLET | G8: CHEVROLET | I8: CHEVROLET | K8: CHEVROLET | M8: CHEVROLET | O8: CHEVROLET | Q8: FORD | S8: HYUNDAI | U8: HYUNDAI | W8: MAZDA | Y8: NISSAN | AA8: NISSAN | AC8: NISSAN | AE8: NISSAN | AG8: NISSAN | AI8: NISSAN | AK8: TOYOTA | AM8: MAHINDRA | AO8: TOYOTA | AQ8: TOYOTA | AS8: TOYOTA | AU8: JAC | AW8: MERCEDES | AY8: NISSAN
A9: LÍNEA | C9: CANTIDAD | E9: LUV D-MAX (6) | G9: LUV D-MAX (5) | I9: GRAND VITARA (1) | K9: NQR (1) | M9: SONIC (2) | O9: SPARK (2) | Q9: RANGER (1) | S9: VERACRUZ GLS (2) | U9: ACCENT (1) | W9: BT-50 (3) | Y9: FRONTIER D22 (15) | AA9: NAVARA (3) | AC9: XTRAIL (3) | AE9: SENTRA (4) | AG9: TIDA (2) | AI9: VERSA (1) | AK9: BURBUJA LAND CRUISER (1) | AM9: PIK UP (1) | AO9: FORTUNER (1) | AQ9: HILUX (4) | AS9: PRADO (3) | AU9: FURGON (1) | AW9: BENZ ( 1 ) | AY9: FRONTIER DSL-PRO4X-7A ( 1 )
A10: MODELO | E10: 2007 A 2009 | G10: 2010 A 2015 | I10: 2011 | K10: 2018 | M10: 2016 | O10: 2011 - 2016 | Q10: 2009 | S10: 2009 | U10: 2006 | W10: 2008 A 2010 | Y10: 2006-2008-2011-2012 | AA10: 2014 | AC10: 2012 | AE10: 2012 | AG10: 2012 | AI10: 2015 | AK10: 1994 | AM10: 2012 | AO10: 2012 | AQ10: 2003-2012-2015 | AS10: 2005-2009-2015 | AU10: 2020 | AW10: 2016 | AY10: 2021
A11: MUTIMARCA CAMIONETAS Y AUTOMÓVILES | E11: COSTO REPUESTO (S) | G11: COSTO REPUESTO (S) | I11: COSTO REPUESTO (S) | K11: COSTO REPUESTO (S) | M11: COSTO REPUESTO (S) | O11: COSTO REPUESTO (S) | Q11: COSTO REPUESTO (S) | S11: COSTO REPUESTO (S) | U11: COSTO REPUESTO (S) | W11: COSTO REPUESTO (S) | Y11: COSTO REPUESTO (S) | AA11: COSTO REPUESTO (S) | AC11: COSTO REPUESTO (S) | AE11: COSTO REPUESTO (S) | AG11: COSTO REPUESTO (S) | AI11: COSTO REPUESTO (S) | AK11: COSTO REPUESTO (S) | AM11: COSTO REPUESTO (S) | AO11: COSTO REPUESTO (S) | AQ11: COSTO REPUESTO (S) | AS11: COSTO REPUESTO (S) | AU11: COSTO REPUESTO (S) | AW11: COSTO REPUESTO (S) | AY11: COSTO REPUESTO (S)
E12: VALOR UNITARIO INCLUIDO IVA | G12: VALOR UNITARIO INCLUIDO IVA | I12: VALOR UNITARIO INCLUIDO IVA | K12: VALOR UNITARIO INCLUIDO IVA | M12: VALOR UNITARIO INCLUIDO IVA | O12: VALOR UNITARIO INCLUIDO IVA | Q12: VALOR UNITARIO INCLUIDO IVA | S12: VALOR UNITARIO INCLUIDO IVA | U12: VALOR UNITARIO INCLUIDO IVA | W12: VALOR UNITARIO INCLUIDO IVA | Y12: VALOR UNITARIO INCLUIDO IVA | AA12: VALOR UNITARIO INCLUIDO IVA | AC12: VALOR UNITARIO INCLUIDO IVA | AE12: VALOR UNITARIO INCLUIDO IVA | AG12: VALOR UNITARIO INCLUIDO IVA | AI12: VALOR UNITARIO INCLUIDO IVA | AK12: VALOR UNITARIO INCLUIDO IVA | AM12: VALOR UNITARIO INCLUIDO IVA | AO12: VALOR UNITARIO INCLUIDO IVA | AQ12: VALOR UNITARIO INCLUIDO IVA | AS12: VALOR UNITARIO INCLUIDO IVA | AU12: VALOR UNITARIO INCLUIDO IVA | AW12: VALOR UNITARIO INCLUIDO IVA | AY12: VALOR UNITARIO INCLUIDO IVA
A13: ÌTEM | B13: SISTEMA DE FRENOS
A14: 1 | B14: Juego de Bandas Remachadas (Dos pares) | C14: 1 | E14: 115294 | F14: =+IF(E14="N/A","N/A",(E14-(E14*$E$1))) -> 109529.3 | G14: 115294 | H14: =+IF(G14="N/A","N/A",(G14-(G14*$E$1))) -> 109529.3 | I14: 122984 | J14: =+IF(I14="N/A","N/A",(I14-(I14*$E$1))) -> 116834.8 | K14: N/A | L14: =+IF(K14="N/A","N/A",(K14-(K14*$E$1))) -> N/A | M14: N/A | N14: =+IF(M14="N/A","N/A",(M14-(M14*$E$1))) -> N/A | O14: N/A | P14: =+IF(O14="N/A","N/A",(O14-(O14*$E$1))) -> N/A | Q14: 126099 | R14: =+IF(Q14="N/A","N/A",(Q14-(Q14*$E$1))) -> 119794.05 | S14: 105087 | T14: =+IF(S14="N/A","N/A",(S14-(S14*$E$1))) -> 99832.65 | U14: N/A | V14: =+IF(U14="N/A","N/A",(U14-(U14*$E$1))) -> N/A | W14: 127711 | X14: =+IF(W14="N/A","N/A",(W14-(W14*$E$1))) -> 121325.45 | Y14: 128950 | Z14: =+IF(Y14="N/A","N/A",(Y14-(Y14*$E$1))) -> 122502.5 | AA14: 128950 | AB14: =+IF(AA14="N/A","N/A",(AA14-(AA14*$E$1))) -> 122502.5 | AC14: 127813 | AD14: =+IF(AC14="N/A","N/A",(AC14-(AC14*$E$1))) -> 121422.35 | AE14: N/A | AF14: =+IF(AE14="N/A","N/A",(AE14-(AE14*$E$1))) -> N/A | AG14: N/A | AH14: =+IF(AG14="N/A","N/A",(AG14-(AG14*$E$1))) -> N/A | AI14: N/A | AJ14: =+IF(AI14="N/A","N/A",(AI14-(AI14*$E$1))) -> N/A | AK14: 138443 | AL14: =+IF(AK14="N/A","N/A",(AK14-(AK14*$E$1))) -> 131520.85 | AM14: 202868 | AN14: =+IF(AM14="N/A","N/A",(AM14-(AM14*$E$1))) -> 192724.6 | AO14: 142522 | AP14: =+IF(AO14="N/A","N/A",(AO14-(AO14*$E$1))) -> 135395.9 | AQ14: 136218 | AR14: =+IF(AQ14="N/A","N/A",(AQ14-(AQ14*$E$1))) -> 129407.1 | AS14: 150661 | AT14: =+IF(AS14="N/A","N/A",(AS14-(AS14*$E$1))) -> 143127.95 | AU14: N/A | AV14: =+IF(AU14="N/A","N/A",(AU14-(AU14*$E$1))) -> N/A | AW14: 250778 | AX14: =+IF(AW14="N/A","N/A",(AW14-(AW14*$E$1))) -> 238239.1 | AY14: 226896 | AZ14: =+IF(AY14="N/A","N/A",(AY14-(AY14*$E$1))) -> 215551.2
A15: 2 | B15: Juego De Bandas Frenos (Dos pares) | C15: 1 | E15: 250276 | F15: =+IF(E15="N/A","N/A",(E15-(E15*$E$1))) -> 237762.2 | G15: 253301 | H15: =+IF(G15="N/A","N/A",(G15-(G15*$E$1))) -> 240635.95 | I15: 251115 | J15: =+IF(I15="N/A","N/A",(I15-(I15*$E$1))) -> 238559.25 | K15: 1027136 | L15: =+IF(K15="N/A","N/A",(K15-(K15*$E$1))) -> 975779.2 | M15: 340274 | N15: =+IF(M15="N/A","N/A",(M15-(M15*$E$1))) -> 323260.3 | O15: 188690 | P15: =+IF(O15="N/A","N/A",(O15-(O15*$E$1))) -> 179255.5 | Q15: 398678 | R15: =+IF(Q15="N/A","N/A",(Q15-(Q15*$E$1))) -> 378744.1 | S15: 398059 | T15: =+IF(S15="N/A","N/A",(S15-(S15*$E$1))) -> 378156.05 | U15: 262918 | V15: =+IF(U15="N/A","N/A",(U15-(U15*$E$1))) -> 249772.1 | W15: 391054 | X15: =+IF(W15="N/A","N/A",(W15-(W15*$E$1))) -> 371501.3 | Y15: 334742 | Z15: =+IF(Y15="N/A","N/A",(Y15-(Y15*$E$1))) -> 318004.9 | AA15: 354208 | AB15: =+IF(AA15="N/A","N/A",(AA15-(AA15*$E$1))) -> 336497.6 | AC15: 362994 | AD15: =+IF(AC15="N/A","N/A",(AC15-(AC15*$E$1))) -> 344844.3 | AE15: 329555 | AF15: =+IF(AE15="N/A","N/A",(AE15-(AE15*$E$1))) -> 313077.25 | AG15: 307266 | AH15: =+IF(AG15="N/A","N/A",(AG15-(AG15*$E$1))) -> 291902.7 | AI15: 329555 | AJ15: =+IF(AI15="N/A","N/A",(AI15-(AI15*$E$1))) -> 313077.25 | AK15: 279083 | AL15: =+IF(AK15="N/A","N/A",(AK15-(AK15*$E$1))) -> 265128.85 | AM15: 445700 | AN15: =+IF(AM15="N/A","N/A",(AM15-(AM15*$E$1))) -> 423415 | AO15: 303612 | AP15: =+IF(AO15="N/A","N/A",(AO15-(AO15*$E$1))) -> 288431.4 | AQ15: 409882 | AR15: =+IF(AQ15="N/A","N/A",(AQ15-(AQ15*$E$1))) -> 389387.9 | AS15: 323820 | AT15: =+IF(AS15="N/A","N/A",(AS15-(AS15*$E$1))) -> 307629 | AU15: 1807317 | AV15: =+IF(AU15="N/A","N/A",(AU15-(AU15*$E$1))) -> 1716951.1 | AW15: 534226 | AX15: =+IF(AW15="N/A","N/A",(AW15-(AW15*$E$1))) -> 507514.7 | AY15: 623254 | AZ15: =+IF(AY15="N/A","N/A",(AY15-(AY15*$E$1))) -> 592091.3
A16: 3 | B16: Cilindro De Freno | C16: 1 | E16: 191011 | F16: =+IF(E16="N/A","N/A",(E16-(E16*$E$1))) -> 181460.45 | G16: 217381 | H16: =+IF(G16="N/A","N/A",(G16-(G16*$E$1))) -> 206511.95 | I16: 255820 | J16: =+IF(I16="N/A","N/A",(I16-(I16*$E$1))) -> 243029 | K16: 251779 | L16: =+IF(K16="N/A","N/A",(K16-(K16*$E$1))) -> 239190.05 | M16: 166542 | N16: =+IF(M16="N/A","N/A",(M16-(M16*$E$1))) -> 158214.9 | O16: 91647 | P16: =+IF(O16="N/A","N/A",(O16-(O16*$E$1))) -> 87064.65 | Q16: 249476 | R16: =+IF(Q16="N/A","N/A",(Q16-(Q16*$E$1))) -> 237002.2 | S16: 165861 | T16: =+IF(S16="N/A","N/A",(S16-(S16*$E$1))) -> 157567.95 | U16: 131082 | V16: =+IF(U16="N/A","N/A",(U16-(U16*$E$1))) -> 124527.9 | W16: 247325 | X16: =+IF(W16="N/A","N/A",(W16-(W16*$E$1))) -> 234958.75 | Y16: 144118 | Z16: =+IF(Y16="N/A","N/A",(Y16-(Y16*$E$1))) -> 136912.1 | AA16: 149136 | AB16: =+IF(AA16="N/A","N/A",(AA16-(AA16*$E$1))) -> 141679.2 | AC16: 156451 | AD16: =+IF(AC16="N/A","N/A",(AC16-(AC16*$E$1))) -> 148628.45 | AE16: 147074 | AF16: =+IF(AE16="N/A","N/A",(AE16-(AE16*$E$1))) -> 139720.3 | AG16: 140823 | AH16: =+IF(AG16="N/A","N/A",(AG16-(AG16*$E$1))) -> 133781.85 | AI16: 147074 | AJ16: =+IF(AI16="N/A","N/A",(AI16-(AI16*$E$1))) -> 139720.3 | AK16: 91765 | AL16: =+IF(AK16="N/A","N/A",(AK16-(AK16*$E$1))) -> 87176.75 | AM16: 382498 | AN16: =+IF(AM16="N/A","N/A",(AM16-(AM16*$E$1))) -> 363373.1 | AO16: 102435 | AP16: =+IF(AO16="N/A","N/A",(AO16-(AO16*$E$1))) -> 97313.25 | AQ16: 164680 | AR16: =+IF(AQ16="N/A","N/A",(AQ16-(AQ16*$E$1))) -> 156446 | AS16: 111221 | AT16: =+IF(AS16="N/A","N/A",(AS16-(AS16*$E$1))) -> 105659.95 | AU16: 443022 | AV16: =+IF(AU16="N/A","N/A",(AU16-(AU16*$E$1))) -> 420870.9 | AW16: 1250000 | AX16: =+IF(AW16="N/A","N/A",(AW16-(AW16*$E$1))) -> 1187500 | AY16: 262415 | AZ16: =+IF(AY16="N/A","N/A",(AY16-(AY16*$E$1))) -> 249294.25
A17: 4 | B17: Discos De Frenos Delanteros (Par) | C17: 1 | E17: 652502 | F17: =+IF(E17="N/A","N/A",(E17-(E17*$E$1))) -> 619876.9 | G17: 678566 | H17: =+IF(G17="N/A","N/A",(G17-(G17*$E$1))) -> 644637.7 | I17: 516022 | J17: =+IF(I17="N/A","N/A",(I17-(I17*$E$1))) -> 490220.9 | K17: N/A | L17: =+IF(K17="N/A","N/A",(K17-(K17*$E$1))) -> N/A | M17: 494363 | N17: =+IF(M17="N/A","N/A",(M17-(M17*$E$1))) -> 469644.85 | O17: 305600 | P17: =+IF(O17="N/A","N/A",(O17-(O17*$E$1))) -> 290320 | Q17: 406610 | R17: =+IF(Q17="N/A","N/A",(Q17-(Q17*$E$1))) -> 386279.5 | S17: 546486 | T17: =+IF(S17="N/A","N/A",(S17-(S17*$E$1))) -> 519161.7 | U17: 393263 | V17: =+IF(U17="N/A","N/A",(U17-(U17*$E$1))) -> 373599.85 | W17: 374238 | X17: =+IF(W17="N/A","N/A",(W17-(W17*$E$1))) -> 355526.1 | Y17: 340965 | Z17: =+IF(Y17="N/A","N/A",(Y17-(Y17*$E$1))) -> 323916.75 | AA17: 365173 | AB17: =+IF(AA17="N/A","N/A",(AA17-(AA17*$E$1))) -> 346914.35 | AC17: 439791 | AD17: =+IF(AC17="N/A","N/A",(AC17-(AC17*$E$1))) -> 417801.45 | AE17: 418320 | AF17: =+IF(AE17="N/A","N/A",(AE17-(AE17*$E$1))) -> 397404 | AG17: 404008 | AH17: =+IF(AG17="N/A","N/A",(AG17-(AG17*$E$1))) -> 383807.6 | AI17: 418320 | AJ17: =+IF(AI17="N/A","N/A",(AI17-(AI17*$E$1))) -> 397404 | AK17: 484237 | AL17: =+IF(AK17="N/A","N/A",(AK17-(AK17*$E$1))) -> 460025.15 | AM17: 1193983 | AN17: =+IF(AM17="N/A","N/A",(AM17-(AM17*$E$1))) -> 1134283.9 | AO17: 517340 | AP17: =+IF(AO17="N/A","N/A",(AO17-(AO17*$E$1))) -> 491473 | AQ17: 547440 | AR17: =+IF(AQ17="N/A","N/A",(AQ17-(AQ17*$E$1))) -> 520068 | AS17: 544613 | AT17: =+IF(AS17="N/A","N/A",(AS17-(AS17*$E$1))) -> 517382.35 | AU17: N/A | AV17: =+IF(AU17="N/A","N/A",(AU17-(AU17*$E$1))) -> N/A | AW17: 3589980 | AX17: =+IF(AW17="N/A","N/A",(AW17-(AW17*$E$1))) -> 3410481 | AY17: 642547 | AZ17: =+IF(AY17="N/A","N/A",(AY17-(AY17*$E$1))) -> 610419.65
A18: 5 | B18: Juego De Pastillas De Frenos Delantera (Dos pares) | C18: 1 | E18: 170078 | F18: =+IF(E18="N/A","N/A",(E18-(E18*$E$1))) -> 161574.1 | G18: 207033 | H18: =+IF(G18="N/A","N/A",(G18-(G18*$E$1))) -> 196681.35 | I18: 225060 | J18: =+IF(I18="N/A","N/A",(I18-(I18*$E$1))) -> 213807 | K18: N/A | L18: =+IF(K18="N/A","N/A",(K18-(K18*$E$1))) -> N/A | M18: 142831 | N18: =+IF(M18="N/A","N/A",(M18-(M18*$E$1))) -> 135689.45 | O18: 103511 | P18: =+IF(O18="N/A","N/A",(O18-(O18*$E$1))) -> 98335.45 | Q18: 196843 | R18: =+IF(Q18="N/A","N/A",(Q18-(Q18*$E$1))) -> 187000.85 | S18: 222491 | T18: =+IF(S18="N/A","N/A",(S18-(S18*$E$1))) -> 211366.45 | U18: 102373 | V18: =+IF(U18="N/A","N/A",(U18-(U18*$E$1))) -> 97254.35 | W18: 189758 | X18: =+IF(W18="N/A","N/A",(W18-(W18*$E$1))) -> 180270.1 | Y18: 137418 | Z18: =+IF(Y18="N/A","N/A",(Y18-(Y18*$E$1))) -> 130547.1 | AA18: 141766 | AB18: =+IF(AA18="N/A","N/A",(AA18-(AA18*$E$1))) -> 134677.7 | AC18: 166834 | AD18: =+IF(AC18="N/A","N/A",(AC18-(AC18*$E$1))) -> 158492.3 | AE18: 155900 | AF18: =+IF(AE18="N/A","N/A",(AE18-(AE18*$E$1))) -> 148105 | AG18: 148610 | AH18: =+IF(AG18="N/A","N/A",(AG18-(AG18*$E$1))) -> 141179.5 | AI18: 155900 | AJ18: =+IF(AI18="N/A","N/A",(AI18-(AI18*$E$1))) -> 148105 | AK18: 184070 | AL18: =+IF(AK18="N/A","N/A",(AK18-(AK18*$E$1))) -> 174866.5 | AM18: 364288 | AN18: =+IF(AM18="N/A","N/A",(AM18-(AM18*$E$1))) -> 346073.6 | AO18: 199976 | AP18: =+IF(AO18="N/A","N/A",(AO18-(AO18*$E$1))) -> 189977.2 | AQ18: 199778 | AR18: =+IF(AQ18="N/A","N/A",(AQ18-(AQ18*$E$1))) -> 189789.1 | AS18: 213080 | AT18: =+IF(AS18="N/A","N/A",(AS18-(AS18*$E$1))) -> 202426 | AU18: N/A | AV18: =+IF(AU18="N/A","N/A",(AU18-(AU18*$E$1))) -> N/A | AW18: 1052458 | AX18: =+IF(AW18="N/A","N/A",(AW18-(AW18*$E$1))) -> 999835.1 | AY18: 249446 | AZ18: =+IF(AY18="N/A","N/A",(AY18-(AY18*$E$1))) -> 236973.7
A19: 6 | B19: Juego De Pastillas De Frenos Traseras (Dos pares) | C19: 1 | E19: N/A | F19: =+IF(E19="N/A","N/A",(E19-(E19*$E$1))) -> N/A | G19: N/A | H19: =+IF(G19="N/A","N/A",(G19-(G19*$E$1))) -> N/A | I19: N/A | J19: =+IF(I19="N/A","N/A",(I19-(I19*$E$1))) -> N/A | K19: N/A | L19: =+IF(K19="N/A","N/A",(K19-(K19*$E$1))) -> N/A | M19: N/A | N19: =+IF(M19="N/A","N/A",(M19-(M19*$E$1))) -> N/A | O19: N/A | P19: =+IF(O19="N/A","N/A",(O19-(O19*$E$1))) -> N/A | Q19: N/A | R19: =+IF(Q19="N/A","N/A",(Q19-(Q19*$E$1))) -> N/A | S19: N/A | T19: =+IF(S19="N/A","N/A",(S19-(S19*$E$1))) -> N/A | U19: N/A | V19: =+IF(U19="N/A","N/A",(U19-(U19*$E$1))) -> N/A | W19: N/A | X19: =+IF(W19="N/A","N/A",(W19-(W19*$E$1))) -> N/A | Y19: N/A | Z19: =+IF(Y19="N/A","N/A",(Y19-(Y19*$E$1))) -> N/A | AA19: N/A | AB19: =+IF(AA19="N/A","N/A",(AA19-(AA19*$E$1))) -> N/A | AC19: N/A | AD19: =+IF(AC19="N/A","N/A",(AC19-(AC19*$E$1))) -> N/A | AE19: N/A | AF19: =+IF(AE19="N/A","N/A",(AE19-(AE19*$E$1))) -> N/A | AG19: N/A | AH19: =+IF(AG19="N/A","N/A",(AG19-(AG19*$E$1))) -> N/A | AI19: N/A | AJ19: =+IF(AI19="N/A","N/A",(AI19-(AI19*$E$1))) -> N/A | AK19: 140274 | AL19: =+IF(AK19="N/A","N/A",(AK19-(AK19*$E$1))) -> 133260.3 | AM19: N/A | AN19: =+IF(AM19="N/A","N/A",(AM19-(AM19*$E$1))) -> N/A | AO19: 148450 | AP19: =+IF(AO19="N/A","N/A",(AO19-(AO19*$E$1))) -> 141027.5 | AQ19: 125258 | AR19: =+IF(AQ19="N/A","N/A",(AQ19-(AQ19*$E$1))) -> 118995.1 | AS19: 155186 | AT19: =+IF(AS19="N/A","N/A",(AS19-(AS19*$E$1))) -> 147426.7 | AU19: N/A | AV19: =+IF(AU19="N/A","N/A",(AU19-(AU19*$E$1))) -> N/A | AW19: 1060458 | AX19: =+IF(AW19="N/A","N/A",(AW19-(AW19*$E$1))) -> 1007435.1 | AY19: N/A | AZ19: =+IF(AY19="N/A","N/A",(AY19-(AY19*$E$1))) -> N/A
A20: 7 | B20: Pistón Caliper | C20: 1 | E20: 99474 | F20: =+IF(E20="N/A","N/A",(E20-(E20*$E$1))) -> 94500.3 | G20: 111833 | H20: =+IF(G20="N/A","N/A",(G20-(G20*$E$1))) -> 106241.35 | I20: 119496 | J20: =+IF(I20="N/A","N/A",(I20-(I20*$E$1))) -> 113521.2 | K20: N/A | L20: =+IF(K20="N/A","N/A",(K20-(K20*$E$1))) -> N/A | M20: 249788 | N20: =+IF(M20="N/A","N/A",(M20-(M20*$E$1))) -> 237298.6 | O20: 86586 | P20: =+IF(O20="N/A","N/A",(O20-(O20*$E$1))) -> 82256.7 | Q20: 113296 | R20: =+IF(Q20="N/A","N/A",(Q20-(Q20*$E$1))) -> 107631.2 | S20: 124846 | T20: =+IF(S20="N/A","N/A",(S20-(S20*$E$1))) -> 118603.7 | U20: 113892 | V20: =+IF(U20="N/A","N/A",(U20-(U20*$E$1))) -> 108197.4 | W20: 120074 | X20: =+IF(W20="N/A","N/A",(W20-(W20*$E$1))) -> 114070.3 | Y20: 188810 | Z20: =+IF(Y20="N/A","N/A",(Y20-(Y20*$E$1))) -> 179369.5 | AA20: 193847 | AB20: =+IF(AA20="N/A","N/A",(AA20-(AA20*$E$1))) -> 184154.65 | AC20: 147003 | AD20: =+IF(AC20="N/A","N/A",(AC20-(AC20*$E$1))) -> 139652.85 | AE20: 131874 | AF20: =+IF(AE20="N/A","N/A",(AE20-(AE20*$E$1))) -> 125280.3 | AG20: 121787 | AH20: =+IF(AG20="N/A","N/A",(AG20-(AG20*$E$1))) -> 115697.65 | AI20: 131874 | AJ20: =+IF(AI20="N/A","N/A",(AI20-(AI20*$E$1))) -> 125280.3 | AK20: 111048 | AL20: =+IF(AK20="N/A","N/A",(AK20-(AK20*$E$1))) -> 105495.6 | AM20: 196777 | AN20: =+IF(AM20="N/A","N/A",(AM20-(AM20*$E$1))) -> 186938.15 | AO20: 122504 | AP20: =+IF(AO20="N/A","N/A",(AO20-(AO20*$E$1))) -> 116378.8 | AQ20: 168037 | AR20: =+IF(AQ20="N/A","N/A",(AQ20-(AQ20*$E$1))) -> 159635.15 | AS20: 131938 | AT20: =+IF(AS20="N/A","N/A",(AS20-(AS20*$E$1))) -> 125341.1 | AU20: N/A | AV20: =+IF(AU20="N/A","N/A",(AU20-(AU20*$E$1))) -> N/A | AW20: 4580069 | AX20: =+IF(AW20="N/A","N/A",(AW20-(AW20*$E$1))) -> 4351065.5 | AY20: 341086 | AZ20: =+IF(AY20="N/A","N/A",(AY20-(AY20*$E$1))) -> 324031.7
A21: 8 | B21: Juego Interiores Caliper | C21: 1 | E21: 181802 | F21: =+IF(E21="N/A","N/A",(E21-(E21*$E$1))) -> 172711.9 | G21: 199610 | H21: =+IF(G21="N/A","N/A",(G21-(G21*$E$1))) -> 189629.5 | I21: 101373 | J21: =+IF(I21="N/A","N/A",(I21-(I21*$E$1))) -> 96304.35 | K21: N/A | L21: =+IF(K21="N/A","N/A",(K21-(K21*$E$1))) -> N/A | M21: 84368 | N21: =+IF(M21="N/A","N/A",(M21-(M21*$E$1))) -> 80149.6 | O21: 72211 | P21: =+IF(O21="N/A","N/A",(O21-(O21*$E$1))) -> 68600.45 | Q21: 71550 | R21: =+IF(Q21="N/A","N/A",(Q21-(Q21*$E$1))) -> 67972.5 | S21: 103643 | T21: =+IF(S21="N/A","N/A",(S21-(S21*$E$1))) -> 98460.85 | U21: 94851 | V21: =+IF(U21="N/A","N/A",(U21-(U21*$E$1))) -> 90108.45 | W21: 74997 | X21: =+IF(W21="N/A","N/A",(W21-(W21*$E$1))) -> 71247.15 | Y21: 111644 | Z21: =+IF(Y21="N/A","N/A",(Y21-(Y21*$E$1))) -> 106061.8 | AA21: 118359 | AB21: =+IF(AA21="N/A","N/A",(AA21-(AA21*$E$1))) -> 112441.05 | AC21: 106235 | AD21: =+IF(AC21="N/A","N/A",(AC21-(AC21*$E$1))) -> 100923.25 | AE21: 96974 | AF21: =+IF(AE21="N/A","N/A",(AE21-(AE21*$E$1))) -> 92125.3 | AG21: 90799 | AH21: =+IF(AG21="N/A","N/A",(AG21-(AG21*$E$1))) -> 86259.05 | AI21: 96974 | AJ21: =+IF(AI21="N/A","N/A",(AI21-(AI21*$E$1))) -> 92125.3 | AK21: 98067 | AL21: =+IF(AK21="N/A","N/A",(AK21-(AK21*$E$1))) -> 93163.65 | AM21: 351228 | AN21: =+IF(AM21="N/A","N/A",(AM21-(AM21*$E$1))) -> 333666.6 | AO21: 107526 | AP21: =+IF(AO21="N/A","N/A",(AO21-(AO21*$E$1))) -> 102149.7 | AQ21: 138206 | AR21: =+IF(AQ21="N/A","N/A",(AQ21-(AQ21*$E$1))) -> 131295.7 | AS21: 115313 | AT21: =+IF(AS21="N/A","N/A",(AS21-(AS21*$E$1))) -> 109547.35 | AU21: N/A | AV21: =+IF(AU21="N/A","N/A",(AU21-(AU21*$E$1))) -> N/A | AW21: 689900 | AX21: =+IF(AW21="N/A","N/A",(AW21-(AW21*$E$1))) -> 655405 | AY21: 208261 | AZ21: =+IF(AY21="N/A","N/A",(AY21-(AY21*$E$1))) -> 197847.95
A22: 9 | B22: Liquido De Freno (Pinta 290 ml) | C22: 1 | E22: 9301 | F22: =+IF(E22="N/A","N/A",(E22-(E22*$E$1))) -> 8835.95 | G22: 9301 | H22: =+IF(G22="N/A","N/A",(G22-(G22*$E$1))) -> 8835.95 | I22: 10278 | J22: =+IF(I22="N/A","N/A",(I22-(I22*$E$1))) -> 9764.1 | K22: N/A | L22: =+IF(K22="N/A","N/A",(K22-(K22*$E$1))) -> N/A | M22: 10610 | N22: =+IF(M22="N/A","N/A",(M22-(M22*$E$1))) -> 10079.5 | O22: 10605 | P22: =+IF(O22="N/A","N/A",(O22-(O22*$E$1))) -> 10074.75 | Q22: 45809 | R22: =+IF(Q22="N/A","N/A",(Q22-(Q22*$E$1))) -> 43518.55 | S22: 50680 | T22: =+IF(S22="N/A","N/A",(S22-(S22*$E$1))) -> 48146 | U22: 9661 | V22: =+IF(U22="N/A","N/A",(U22-(U22*$E$1))) -> 9177.95 | W22: 11303 | X22: =+IF(W22="N/A","N/A",(W22-(W22*$E$1))) -> 10737.85 | Y22: 10667 | Z22: =+IF(Y22="N/A","N/A",(Y22-(Y22*$E$1))) -> 10133.65 | AA22: 11324 | AB22: =+IF(AA22="N/A","N/A",(AA22-(AA22*$E$1))) -> 10757.8 | AC22: 10667 | AD22: =+IF(AC22="N/A","N/A",(AC22-(AC22*$E$1))) -> 10133.65 | AE22: 10667 | AF22: =+IF(AE22="N/A","N/A",(AE22-(AE22*$E$1))) -> 10133.65 | AG22: 10667 | AH22: =+IF(AG22="N/A","N/A",(AG22-(AG22*$E$1))) -> 10133.65 | AI22: 10667 | AJ22: =+IF(AI22="N/A","N/A",(AI22-(AI22*$E$1))) -> 10133.65 | AK22: 10667 | AL22: =+IF(AK22="N/A","N/A",(AK22-(AK22*$E$1))) -> 10133.65 | AM22: 16366 | AN22: =+IF(AM22="N/A","N/A",(AM22-(AM22*$E$1))) -> 15547.7 | AO22: 10667 | AP22: =+IF(AO22="N/A","N/A",(AO22-(AO22*$E$1))) -> 10133.65 | AQ22: 10667 | AR22: =+IF(AQ22="N/A","N/A",(AQ22-(AQ22*$E$1))) -> 10133.65 | AS22: 10667 | AT22: =+IF(AS22="N/A","N/A",(AS22-(AS22*$E$1))) -> 10133.65 | AU22: N/A | AV22: =+IF(AU22="N/A","N/A",(AU22-(AU22*$E$1))) -> N/A | AW22: 58000 | AX22: =+IF(AW22="N/A","N/A",(AW22-(AW22*$E$1))) -> 55100 | AY22: 19926 | AZ22: =+IF(AY22="N/A","N/A",(AY22-(AY22*$E$1))) -> 18929.7
A23: 10 | B23: Suministro Bomba Freno | C23: 1 | E23: 565051 | F23: =+IF(E23="N/A","N/A",(E23-(E23*$E$1))) -> 536798.45 | G23: 640973 | H23: =+IF(G23="N/A","N/A",(G23-(G23*$E$1))) -> 608924.35 | I23: 738771 | J23: =+IF(I23="N/A","N/A",(I23-(I23*$E$1))) -> 701832.45 | K23: 1980000 | L23: =+IF(K23="N/A","N/A",(K23-(K23*$E$1))) -> 1881000 | M23: 535676 | N23: =+IF(M23="N/A","N/A",(M23-(M23*$E$1))) -> 508892.2 | O23: 640000 | P23: =+IF(O23="N/A","N/A",(O23-(O23*$E$1))) -> 608000 | Q23: 406572 | R23: =+IF(Q23="N/A","N/A",(Q23-(Q23*$E$1))) -> 386243.4 | S23: 1743263 | T23: =+IF(S23="N/A","N/A",(S23-(S23*$E$1))) -> 1656099.9 | U23: 490000 | V23: =+IF(U23="N/A","N/A",(U23-(U23*$E$1))) -> 465500 | W23: 363091 | X23: =+IF(W23="N/A","N/A",(W23-(W23*$E$1))) -> 344936.45 | Y23: 314032 | Z23: =+IF(Y23="N/A","N/A",(Y23-(Y23*$E$1))) -> 298330.4 | AA23: 415102 | AB23: =+IF(AA23="N/A","N/A",(AA23-(AA23*$E$1))) -> 394346.9 | AC23: 324023 | AD23: =+IF(AC23="N/A","N/A",(AC23-(AC23*$E$1))) -> 307821.85 | AE23: 257436 | AF23: =+IF(AE23="N/A","N/A",(AE23-(AE23*$E$1))) -> 244564.2 | AG23: 266436 | AH23: =+IF(AG23="N/A","N/A",(AG23-(AG23*$E$1))) -> 253114.2 | AI23: 341686 | AJ23: =+IF(AI23="N/A","N/A",(AI23-(AI23*$E$1))) -> 324601.7 | AK23: 306436 | AL23: =+IF(AK23="N/A","N/A",(AK23-(AK23*$E$1))) -> 291114.2 | AM23: 1250000 | AN23: =+IF(AM23="N/A","N/A",(AM23-(AM23*$E$1))) -> 1187500 | AO23: 580136 | AP23: =+IF(AO23="N/A","N/A",(AO23-(AO23*$E$1))) -> 551129.2 | AQ23: 579936 | AR23: =+IF(AQ23="N/A","N/A",(AQ23-(AQ23*$E$1))) -> 550939.2 | AS23: 327436 | AT23: =+IF(AS23="N/A","N/A",(AS23-(AS23*$E$1))) -> 311064.2 | AU23: 1980000 | AV23: =+IF(AU23="N/A","N/A",(AU23-(AU23*$E$1))) -> 1881000 | AW23: 5896689 | AX23: =+IF(AW23="N/A","N/A",(AW23-(AW23*$E$1))) -> 5601854.5 | AY23: 789850 | AZ23: =+IF(AY23="N/A","N/A",(AY23-(AY23*$E$1))) -> 750357.5
A24: 11 | B24: Interiores De Bomba | C24: 1 | E24: 220291 | F24: =+IF(E24="N/A","N/A",(E24-(E24*$E$1))) -> 209276.45 | G24: 233798 | H24: =+IF(G24="N/A","N/A",(G24-(G24*$E$1))) -> 222108.1 | I24: 421121 | J24: =+IF(I24="N/A","N/A",(I24-(I24*$E$1))) -> 400064.95 | K24: N/A | L24: =+IF(K24="N/A","N/A",(K24-(K24*$E$1))) -> N/A | M24: 668545 | N24: =+IF(M24="N/A","N/A",(M24-(M24*$E$1))) -> 635117.75 | O24: N/A | P24: =+IF(O24="N/A","N/A",(O24-(O24*$E$1))) -> N/A | Q24: 242554 | R24: =+IF(Q24="N/A","N/A",(Q24-(Q24*$E$1))) -> 230426.3 | S24: 267309 | T24: =+IF(S24="N/A","N/A",(S24-(S24*$E$1))) -> 253943.55 | U24: N/A | V24: =+IF(U24="N/A","N/A",(U24-(U24*$E$1))) -> N/A | W24: 272105 | X24: =+IF(W24="N/A","N/A",(W24-(W24*$E$1))) -> 258499.75 | Y24: 285882 | Z24: =+IF(Y24="N/A","N/A",(Y24-(Y24*$E$1))) -> 271587.9 | AA24: 295330 | AB24: =+IF(AA24="N/A","N/A",(AA24-(AA24*$E$1))) -> 280563.5 | AC24: 442511 | AD24: =+IF(AC24="N/A","N/A",(AC24-(AC24*$E$1))) -> 420385.45 | AE24: 255200 | AF24: =+IF(AE24="N/A","N/A",(AE24-(AE24*$E$1))) -> 242440 | AG24: 255200 | AH24: =+IF(AG24="N/A","N/A",(AG24-(AG24*$E$1))) -> 242440 | AI24: 255200 | AJ24: =+IF(AI24="N/A","N/A",(AI24-(AI24*$E$1))) -> 242440 | AK24: 255200 | AL24: =+IF(AK24="N/A","N/A",(AK24-(AK24*$E$1))) -> 242440 | AM24: 233798 | AN24: =+IF(AM24="N/A","N/A",(AM24-(AM24*$E$1))) -> 222108.1 | AO24: 255200 | AP24: =+IF(AO24="N/A","N/A",(AO24-(AO24*$E$1))) -> 242440 | AQ24: 255200 | AR24: =+IF(AQ24="N/A","N/A",(AQ24-(AQ24*$E$1))) -> 242440 | AS24: 255200 | AT24: =+IF(AS24="N/A","N/A",(AS24-(AS24*$E$1))) -> 242440 | AU24: N/A | AV24: =+IF(AU24="N/A","N/A",(AU24-(AU24*$E$1))) -> N/A | AW24: N/A | AX24: =+IF(AW24="N/A","N/A",(AW24-(AW24*$E$1))) -> N/A | AY24: 295330 | AZ24: =+IF(AY24="N/A","N/A",(AY24-(AY24*$E$1))) -> 280563.5
B25: SINCRONIZACIÓN | F25: =+IF(E25="N/A","N/A",(E25-(E25*$E$1))) -> 0 | H25: =+IF(G25="N/A","N/A",(G25-(G25*$E$1))) -> 0 | J25: =+IF(I25="N/A","N/A",(I25-(I25*$E$1))) -> 0 | L25: =+IF(K25="N/A","N/A",(K25-(K25*$E$1))) -> 0 | N25: =+IF(M25="N/A","N/A",(M25-(M25*$E$1))) -> 0 | P25: =+IF(O25="N/A","N/A",(O25-(O25*$E$1))) -> 0 | R25: =+IF(Q25="N/A","N/A",(Q25-(Q25*$E$1))) -> 0 | T25: =+IF(S25="N/A","N/A",(S25-(S25*$E$1))) -> 0 | V25: =+IF(U25="N/A","N/A",(U25-(U25*$E$1))) -> 0 | X25: =+IF(W25="N/A","N/A",(W25-(W25*$E$1))) -> 0 | Z25: =+IF(Y25="N/A","N/A",(Y25-(Y25*$E$1))) -> 0 | AB25: =+IF(AA25="N/A","N/A",(AA25-(AA25*$E$1))) -> 0 | AD25: =+IF(AC25="N/A","N/A",(AC25-(AC25*$E$1))) -> 0 | AF25: =+IF(AE25="N/A","N/A",(AE25-(AE25*$E$1))) -> 0 | AH25: =+IF(AG25="N/A","N/A",(AG25-(AG25*$E$1))) -> 0 | AJ25: =+IF(AI25="N/A","N/A",(AI25-(AI25*$E$1))) -> 0 | AL25: =+IF(AK25="N/A","N/A",(AK25-(AK25*$E$1))) -> 0 | AN25: =+IF(AM25="N/A","N/A",(AM25-(AM25*$E$1))) -> 0 | AP25: =+IF(AO25="N/A","N/A",(AO25-(AO25*$E$1))) -> 0 | AR25: =+IF(AQ25="N/A","N/A",(AQ25-(AQ25*$E$1))) -> 0 | AT25: =+IF(AS25="N/A","N/A",(AS25-(AS25*$E$1))) -> 0 | AV25: =+IF(AU25="N/A","N/A",(AU25-(AU25*$E$1))) -> 0 | AX25: =+IF(AW25="N/A","N/A",(AW25-(AW25*$E$1))) -> 0 | AZ25: =+IF(AY25="N/A","N/A",(AY25-(AY25*$E$1))) -> 0
A26: 12 | B26: Bujía | C26: 1 | E26: 52063 | F26: =+IF(E26="N/A","N/A",(E26-(E26*$E$1))) -> 49459.85 | G26: 49308 | H26: =+IF(G26="N/A","N/A",(G26-(G26*$E$1))) -> 46842.6 | I26: 21411 | J26: =+IF(I26="N/A","N/A",(I26-(I26*$E$1))) -> 20340.45 | K26: 72434 | L26: =+IF(K26="N/A","N/A",(K26-(K26*$E$1))) -> 68812.3 | M26: 22937 | N26: =+IF(M26="N/A","N/A",(M26-(M26*$E$1))) -> 21790.15 | O26: 9665 | P26: =+IF(O26="N/A","N/A",(O26-(O26*$E$1))) -> 9181.75 | Q26: 23110 | R26: =+IF(Q26="N/A","N/A",(Q26-(Q26*$E$1))) -> 21954.5 | S26: 48428 | T26: =+IF(S26="N/A","N/A",(S26-(S26*$E$1))) -> 46006.6 | U26: 20942 | V26: =+IF(U26="N/A","N/A",(U26-(U26*$E$1))) -> 19894.9 | W26: 21184 | X26: =+IF(W26="N/A","N/A",(W26-(W26*$E$1))) -> 20124.8 | Y26: 51378 | Z26: =+IF(Y26="N/A","N/A",(Y26-(Y26*$E$1))) -> 48809.1 | AA26: 54155 | AB26: =+IF(AA26="N/A","N/A",(AA26-(AA26*$E$1))) -> 51447.25 | AC26: 61146 | AD26: =+IF(AC26="N/A","N/A",(AC26-(AC26*$E$1))) -> 58088.7 | AE26: 55514 | AF26: =+IF(AE26="N/A","N/A",(AE26-(AE26*$E$1))) -> 52738.3 | AG26: 51759 | AH26: =+IF(AG26="N/A","N/A",(AG26-(AG26*$E$1))) -> 49171.05 | AI26: 55514 | AJ26: =+IF(AI26="N/A","N/A",(AI26-(AI26*$E$1))) -> 52738.3 | AK26: 38067 | AL26: =+IF(AK26="N/A","N/A",(AK26-(AK26*$E$1))) -> 36163.65 | AM26: 87440 | AN26: =+IF(AM26="N/A","N/A",(AM26-(AM26*$E$1))) -> 83068 | AO26: 40621 | AP26: =+IF(AO26="N/A","N/A",(AO26-(AO26*$E$1))) -> 38589.95 | AQ26: 26327 | AR26: =+IF(AQ26="N/A","N/A",(AQ26-(AQ26*$E$1))) -> 25010.65 | AS26: 42724 | AT26: =+IF(AS26="N/A","N/A",(AS26-(AS26*$E$1))) -> 40587.8 | AU26: 128449 | AV26: =+IF(AU26="N/A","N/A",(AU26-(AU26*$E$1))) -> 122026.55 | AW26: 458000 | AX26: =+IF(AW26="N/A","N/A",(AW26-(AW26*$E$1))) -> 435100 | AY26: 96035 | AZ26: =+IF(AY26="N/A","N/A",(AY26-(AY26*$E$1))) -> 91233.25
A27: 13 | B27: Suministro Bovina Bujia Que Realiza la Funcion Como Cable de Alta | C27: 1 | E27: 480000 | F27: =+IF(E27="N/A","N/A",(E27-(E27*$E$1))) -> 456000 | G27: 480000 | H27: =+IF(G27="N/A","N/A",(G27-(G27*$E$1))) -> 456000 | I27: 640000 | J27: =+IF(I27="N/A","N/A",(I27-(I27*$E$1))) -> 608000 | K27: 320000 | L27: =+IF(K27="N/A","N/A",(K27-(K27*$E$1))) -> 304000 | M27: 1240000 | N27: =+IF(M27="N/A","N/A",(M27-(M27*$E$1))) -> 1178000 | O27: 290000 | P27: =+IF(O27="N/A","N/A",(O27-(O27*$E$1))) -> 275500 | Q27: 460000 | R27: =+IF(Q27="N/A","N/A",(Q27-(Q27*$E$1))) -> 437000 | S27: 630000 | T27: =+IF(S27="N/A","N/A",(S27-(S27*$E$1))) -> 598500 | U27: 380000 | V27: =+IF(U27="N/A","N/A",(U27-(U27*$E$1))) -> 361000 | W27: 420000 | X27: =+IF(W27="N/A","N/A",(W27-(W27*$E$1))) -> 399000 | Y27: 980000 | Z27: =+IF(Y27="N/A","N/A",(Y27-(Y27*$E$1))) -> 931000 | AA27: 740000 | AB27: =+IF(AA27="N/A","N/A",(AA27-(AA27*$E$1))) -> 703000 | AC27: 490000 | AD27: =+IF(AC27="N/A","N/A",(AC27-(AC27*$E$1))) -> 465500 | AE27: 542150 | AF27: =+IF(AE27="N/A","N/A",(AE27-(AE27*$E$1))) -> 515042.5 | AG27: 542150 | AH27: =+IF(AG27="N/A","N/A",(AG27-(AG27*$E$1))) -> 515042.5 | AI27: 541150 | AJ27: =+IF(AI27="N/A","N/A",(AI27-(AI27*$E$1))) -> 514092.5 | AK27: 365250 | AL27: =+IF(AK27="N/A","N/A",(AK27-(AK27*$E$1))) -> 346987.5 | AM27: 480000 | AN27: =+IF(AM27="N/A","N/A",(AM27-(AM27*$E$1))) -> 456000 | AO27: 980000 | AP27: =+IF(AO27="N/A","N/A",(AO27-(AO27*$E$1))) -> 931000 | AQ27: 458960 | AR27: =+IF(AQ27="N/A","N/A",(AQ27-(AQ27*$E$1))) -> 436012 | AS27: 654825 | AT27: =+IF(AS27="N/A","N/A",(AS27-(AS27*$E$1))) -> 622083.75 | AU27: 320000 | AV27: =+IF(AU27="N/A","N/A",(AU27-(AU27*$E$1))) -> 304000 | AW27: 3256980 | AX27: =+IF(AW27="N/A","N/A",(AW27-(AW27*$E$1))) -> 3094131 | AY27: 740000 | AZ27: =+IF(AY27="N/A","N/A",(AY27-(AY27*$E$1))) -> 703000
A28: 14 | B28: Filtro Aire | C28: 1 | E28: 35583 | F28: =+IF(E28="N/A","N/A",(E28-(E28*$E$1))) -> 33803.85 | G28: 52916 | H28: =+IF(G28="N/A","N/A",(G28-(G28*$E$1))) -> 50270.2 | I28: 54015 | J28: =+IF(I28="N/A","N/A",(I28-(I28*$E$1))) -> 51314.25 | K28: 62083 | L28: =+IF(K28="N/A","N/A",(K28-(K28*$E$1))) -> 58978.85 | M28: 54196 | N28: =+IF(M28="N/A","N/A",(M28-(M28*$E$1))) -> 51486.2 | O28: 43456 | P28: =+IF(O28="N/A","N/A",(O28-(O28*$E$1))) -> 41283.2 | Q28: 73650 | R28: =+IF(Q28="N/A","N/A",(Q28-(Q28*$E$1))) -> 69967.5 | S28: 85984 | T28: =+IF(S28="N/A","N/A",(S28-(S28*$E$1))) -> 81684.8 | U28: 45955 | V28: =+IF(U28="N/A","N/A",(U28-(U28*$E$1))) -> 43657.25 | W28: 64794 | X28: =+IF(W28="N/A","N/A",(W28-(W28*$E$1))) -> 61554.3 | Y28: 69149 | Z28: =+IF(Y28="N/A","N/A",(Y28-(Y28*$E$1))) -> 65691.55 | AA28: 71607 | AB28: =+IF(AA28="N/A","N/A",(AA28-(AA28*$E$1))) -> 68026.65 | AC28: 88844 | AD28: =+IF(AC28="N/A","N/A",(AC28-(AC28*$E$1))) -> 84401.8 | AE28: 82202 | AF28: =+IF(AE28="N/A","N/A",(AE28-(AE28*$E$1))) -> 78091.9 | AG28: 77776 | AH28: =+IF(AG28="N/A","N/A",(AG28-(AG28*$E$1))) -> 73887.2 | AI28: 82202 | AJ28: =+IF(AI28="N/A","N/A",(AI28-(AI28*$E$1))) -> 78091.9 | AK28: 63754 | AL28: =+IF(AK28="N/A","N/A",(AK28-(AK28*$E$1))) -> 60566.3 | AM28: 93838 | AN28: =+IF(AM28="N/A","N/A",(AM28-(AM28*$E$1))) -> 89146.1 | AO28: 67140 | AP28: =+IF(AO28="N/A","N/A",(AO28-(AO28*$E$1))) -> 63783 | AQ28: 73666 | AR28: =+IF(AQ28="N/A","N/A",(AQ28-(AQ28*$E$1))) -> 69982.7 | AS28: 69929 | AT28: =+IF(AS28="N/A","N/A",(AS28-(AS28*$E$1))) -> 66432.55 | AU28: 110093 | AV28: =+IF(AU28="N/A","N/A",(AU28-(AU28*$E$1))) -> 104588.35 | AW28: 450000 | AX28: =+IF(AW28="N/A","N/A",(AW28-(AW28*$E$1))) -> 427500 | AY28: 126982 | AZ28: =+IF(AY28="N/A","N/A",(AY28-(AY28*$E$1))) -> 120632.9
A29: 15 | B29: Filtro Combustible | C29: 1 | E29: 29546 | F29: =+IF(E29="N/A","N/A",(E29-(E29*$E$1))) -> 28068.7 | G29: 41395 | H29: =+IF(G29="N/A","N/A",(G29-(G29*$E$1))) -> 39325.25 | I29: 27160 | J29: =+IF(I29="N/A","N/A",(I29-(I29*$E$1))) -> 25802 | K29: 74822 | L29: =+IF(K29="N/A","N/A",(K29-(K29*$E$1))) -> 71080.9 | M29: N/A | N29: =+IF(M29="N/A","N/A",(M29-(M29*$E$1))) -> N/A | O29: 25664 | P29: =+IF(O29="N/A","N/A",(O29-(O29*$E$1))) -> 24380.8 | Q29: 76315 | R29: =+IF(Q29="N/A","N/A",(Q29-(Q29*$E$1))) -> 72499.25 | S29: 147281 | T29: =+IF(S29="N/A","N/A",(S29-(S29*$E$1))) -> 139916.95 | U29: 67700 | V29: =+IF(U29="N/A","N/A",(U29-(U29*$E$1))) -> 64315 | W29: 71264 | X29: =+IF(W29="N/A","N/A",(W29-(W29*$E$1))) -> 67700.8 | Y29: 76795 | Z29: =+IF(Y29="N/A","N/A",(Y29-(Y29*$E$1))) -> 72955.25 | AA29: 79755 | AB29: =+IF(AA29="N/A","N/A",(AA29-(AA29*$E$1))) -> 75767.25 | AC29: 75467 | AD29: =+IF(AC29="N/A","N/A",(AC29-(AC29*$E$1))) -> 71693.65 | AE29: N/A | AF29: =+IF(AE29="N/A","N/A",(AE29-(AE29*$E$1))) -> N/A | AG29: N/A | AH29: =+IF(AG29="N/A","N/A",(AG29-(AG29*$E$1))) -> N/A | AI29: N/A | AJ29: =+IF(AI29="N/A","N/A",(AI29-(AI29*$E$1))) -> N/A | AK29: 85554 | AL29: =+IF(AK29="N/A","N/A",(AK29-(AK29*$E$1))) -> 81276.3 | AM29: 73407 | AN29: =+IF(AM29="N/A","N/A",(AM29-(AM29*$E$1))) -> 69736.65 | AO29: 92322 | AP29: =+IF(AO29="N/A","N/A",(AO29-(AO29*$E$1))) -> 87705.9 | AQ29: 66668 | AR29: =+IF(AQ29="N/A","N/A",(AQ29-(AQ29*$E$1))) -> 63334.6 | AS29: 97899 | AT29: =+IF(AS29="N/A","N/A",(AS29-(AS29*$E$1))) -> 93004.05 | AU29: 132683 | AV29: =+IF(AU29="N/A","N/A",(AU29-(AU29*$E$1))) -> 126048.85 | AW29: 398900 | AX29: =+IF(AW29="N/A","N/A",(AW29-(AW29*$E$1))) -> 378955 | AY29: 141431 | AZ29: =+IF(AY29="N/A","N/A",(AY29-(AY29*$E$1))) -> 134359.45
A30: 16 | B30: Juego Cables De Alta | C30: 1 | E30: N/A | F30: =+IF(E30="N/A","N/A",(E30-(E30*$E$1))) -> N/A | G30: N/A | H30: =+IF(G30="N/A","N/A",(G30-(G30*$E$1))) -> N/A | I30: N/A | J30: =+IF(I30="N/A","N/A",(I30-(I30*$E$1))) -> N/A | K30: N/A | L30: =+IF(K30="N/A","N/A",(K30-(K30*$E$1))) -> N/A | M30: 260402 | N30: =+IF(M30="N/A","N/A",(M30-(M30*$E$1))) -> 247381.9 | O30: 54696 | P30: =+IF(O30="N/A","N/A",(O30-(O30*$E$1))) -> 51961.2 | Q30: N/A | R30: =+IF(Q30="N/A","N/A",(Q30-(Q30*$E$1))) -> N/A | S30: N/A | T30: =+IF(S30="N/A","N/A",(S30-(S30*$E$1))) -> N/A | U30: 166637 | V30: =+IF(U30="N/A","N/A",(U30-(U30*$E$1))) -> 158305.15 | W30: 144771 | X30: =+IF(W30="N/A","N/A",(W30-(W30*$E$1))) -> 137532.45 | Y30: N/A | Z30: =+IF(Y30="N/A","N/A",(Y30-(Y30*$E$1))) -> N/A | AA30: N/A | AB30: =+IF(AA30="N/A","N/A",(AA30-(AA30*$E$1))) -> N/A | AC30: N/A | AD30: =+IF(AC30="N/A","N/A",(AC30-(AC30*$E$1))) -> N/A | AE30: 81708 | AF30: =+IF(AE30="N/A","N/A",(AE30-(AE30*$E$1))) -> 77622.6 | AG30: 92196 | AH30: =+IF(AG30="N/A","N/A",(AG30-(AG30*$E$1))) -> 87586.2 | AI30: 97441 | AJ30: =+IF(AI30="N/A","N/A",(AI30-(AI30*$E$1))) -> 92568.95 | AK30: 111880 | AL30: =+IF(AK30="N/A","N/A",(AK30-(AK30*$E$1))) -> 106286 | AM30: N/A | AN30: =+IF(AM30="N/A","N/A",(AM30-(AM30*$E$1))) -> N/A | AO30: N/A | AP30: =+IF(AO30="N/A","N/A",(AO30-(AO30*$E$1))) -> N/A | AQ30: N/A | AR30: =+IF(AQ30="N/A","N/A",(AQ30-(AQ30*$E$1))) -> N/A | AS30: N/A | AT30: =+IF(AS30="N/A","N/A",(AS30-(AS30*$E$1))) -> N/A | AU30: N/A | AV30: =+IF(AU30="N/A","N/A",(AU30-(AU30*$E$1))) -> N/A | AW30: N/A | AX30: =+IF(AW30="N/A","N/A",(AW30-(AW30*$E$1))) -> N/A | AY30: N/A | AZ30: =+IF(AY30="N/A","N/A",(AY30-(AY30*$E$1))) -> N/A
A31: 17 | B31: Filtro De Aceite | C31: 1 | E31: 36283 | F31: =+IF(E31="N/A","N/A",(E31-(E31*$E$1))) -> 34468.85 | G31: 46421 | H31: =+IF(G31="N/A","N/A",(G31-(G31*$E$1))) -> 44099.95 | I31: 36312 | J31: =+IF(I31="N/A","N/A",(I31-(I31*$E$1))) -> 34496.4 | K31: 71533 | L31: =+IF(K31="N/A","N/A",(K31-(K31*$E$1))) -> 67956.35 | M31: 39317 | N31: =+IF(M31="N/A","N/A",(M31-(M31*$E$1))) -> 37351.15 | O31: 12069 | P31: =+IF(O31="N/A","N/A",(O31-(O31*$E$1))) -> 11465.55 | Q31: 50564 | R31: =+IF(Q31="N/A","N/A",(Q31-(Q31*$E$1))) -> 48035.8 | S31: 64382 | T31: =+IF(S31="N/A","N/A",(S31-(S31*$E$1))) -> 61162.9 | U31: 23194 | V31: =+IF(U31="N/A","N/A",(U31-(U31*$E$1))) -> 22034.3 | W31: 50483 | X31: =+IF(W31="N/A","N/A",(W31-(W31*$E$1))) -> 47958.85 | Y31: 26042 | Z31: =+IF(Y31="N/A","N/A",(Y31-(Y31*$E$1))) -> 24739.9 | AA31: 26811 | AB31: =+IF(AA31="N/A","N/A",(AA31-(AA31*$E$1))) -> 25470.45 | AC31: 28732 | AD31: =+IF(AC31="N/A","N/A",(AC31-(AC31*$E$1))) -> 27295.4 | AE31: 27175 | AF31: =+IF(AE31="N/A","N/A",(AE31-(AE31*$E$1))) -> 25816.25 | AG31: 26138 | AH31: =+IF(AG31="N/A","N/A",(AG31-(AG31*$E$1))) -> 24831.1 | AI31: 27175 | AJ31: =+IF(AI31="N/A","N/A",(AI31-(AI31*$E$1))) -> 25816.25 | AK31: 22750 | AL31: =+IF(AK31="N/A","N/A",(AK31-(AK31*$E$1))) -> 21612.5 | AM31: 82319 | AN31: =+IF(AM31="N/A","N/A",(AM31-(AM31*$E$1))) -> 78203.05 | AO31: 25378 | AP31: =+IF(AO31="N/A","N/A",(AO31-(AO31*$E$1))) -> 24109.1 | AQ31: 36553 | AR31: =+IF(AQ31="N/A","N/A",(AQ31-(AQ31*$E$1))) -> 34725.35 | AS31: 27538 | AT31: =+IF(AS31="N/A","N/A",(AS31-(AS31*$E$1))) -> 26161.1 | AU31: 126851 | AV31: =+IF(AU31="N/A","N/A",(AU31-(AU31*$E$1))) -> 120508.45 | AW31: 158900 | AX31: =+IF(AW31="N/A","N/A",(AW31-(AW31*$E$1))) -> 150955 | AY31: 47545 | AZ31: =+IF(AY31="N/A","N/A",(AY31-(AY31*$E$1))) -> 45167.75
A32: 18 | B32: Filtro Trampa | C32: 1 | E32: 31358 | F32: =+IF(E32="N/A","N/A",(E32-(E32*$E$1))) -> 29790.1 | G32: 46313 | H32: =+IF(G32="N/A","N/A",(G32-(G32*$E$1))) -> 43997.35 | I32: N/A | J32: =+IF(I32="N/A","N/A",(I32-(I32*$E$1))) -> N/A | K32: 57985 | L32: =+IF(K32="N/A","N/A",(K32-(K32*$E$1))) -> 55085.75 | M32: N/A | N32: =+IF(M32="N/A","N/A",(M32-(M32*$E$1))) -> N/A | O32: N/A | P32: =+IF(O32="N/A","N/A",(O32-(O32*$E$1))) -> N/A | Q32: N/A | R32: =+IF(Q32="N/A","N/A",(Q32-(Q32*$E$1))) -> N/A | S32: N/A | T32: =+IF(S32="N/A","N/A",(S32-(S32*$E$1))) -> N/A | U32: N/A | V32: =+IF(U32="N/A","N/A",(U32-(U32*$E$1))) -> N/A | W32: 44933 | X32: =+IF(W32="N/A","N/A",(W32-(W32*$E$1))) -> 42686.35 | Y32: 40836 | Z32: =+IF(Y32="N/A","N/A",(Y32-(Y32*$E$1))) -> 38794.2 | AA32: 42560 | AB32: =+IF(AA32="N/A","N/A",(AA32-(AA32*$E$1))) -> 40432 | AC32: 39246 | AD32: =+IF(AC32="N/A","N/A",(AC32-(AC32*$E$1))) -> 37283.7 | AE32: N/A | AF32: =+IF(AE32="N/A","N/A",(AE32-(AE32*$E$1))) -> N/A | AG32: N/A | AH32: =+IF(AG32="N/A","N/A",(AG32-(AG32*$E$1))) -> N/A | AI32: N/A | AJ32: =+IF(AI32="N/A","N/A",(AI32-(AI32*$E$1))) -> N/A | AK32: 31466 | AL32: =+IF(AK32="N/A","N/A",(AK32-(AK32*$E$1))) -> 29892.7 | AM32: 82129 | AN32: =+IF(AM32="N/A","N/A",(AM32-(AM32*$E$1))) -> 78022.55 | AO32: 31466 | AP32: =+IF(AO32="N/A","N/A",(AO32-(AO32*$E$1))) -> 29892.7 | AQ32: 39263 | AR32: =+IF(AQ32="N/A","N/A",(AQ32-(AQ32*$E$1))) -> 37299.85 | AS32: 31466 | AT32: =+IF(AS32="N/A","N/A",(AS32-(AS32*$E$1))) -> 29892.7 | AU32: 102826 | AV32: =+IF(AU32="N/A","N/A",(AU32-(AU32*$E$1))) -> 97684.7 | AW32: 100000 | AX32: =+IF(AW32="N/A","N/A",(AW32-(AW32*$E$1))) -> 95000 | AY32: 75473 | AZ32: =+IF(AY32="N/A","N/A",(AY32-(AY32*$E$1))) -> 71699.35
A33: 19 | B33: Suministro Inyector | C33: 1 | E33: 2548200 | F33: =+IF(E33="N/A","N/A",(E33-(E33*$E$1))) -> 2420790 | G33: 2548200 | H33: =+IF(G33="N/A","N/A",(G33-(G33*$E$1))) -> 2420790 | I33: 435674 | J33: =+IF(I33="N/A","N/A",(I33-(I33*$E$1))) -> 413890.3 | K33: 1551079 | L33: =+IF(K33="N/A","N/A",(K33-(K33*$E$1))) -> 1473525.1 | M33: 772259 | N33: =+IF(M33="N/A","N/A",(M33-(M33*$E$1))) -> 733646.05 | O33: 362678 | P33: =+IF(O33="N/A","N/A",(O33-(O33*$E$1))) -> 344544.1 | Q33: 758321 | R33: =+IF(Q33="N/A","N/A",(Q33-(Q33*$E$1))) -> 720404.95 | S33: 623642 | T33: =+IF(S33="N/A","N/A",(S33-(S33*$E$1))) -> 592459.9 | U33: 545930 | V33: =+IF(U33="N/A","N/A",(U33-(U33*$E$1))) -> 518633.5 | W33: N/A | X33: =+IF(W33="N/A","N/A",(W33-(W33*$E$1))) -> N/A | Y33: 1022395 | Z33: =+IF(Y33="N/A","N/A",(Y33-(Y33*$E$1))) -> 971275.25 | AA33: 1345453 | AB33: =+IF(AA33="N/A","N/A",(AA33-(AA33*$E$1))) -> 1278180.4 | AC33: 1065748 | AD33: =+IF(AC33="N/A","N/A",(AC33-(AC33*$E$1))) -> 1012460.6 | AE33: 1016017 | AF33: =+IF(AE33="N/A","N/A",(AE33-(AE33*$E$1))) -> 965216.15 | AG33: 982864 | AH33: =+IF(AG33="N/A","N/A",(AG33-(AG33*$E$1))) -> 933720.8 | AI33: 1016017 | AJ33: =+IF(AI33="N/A","N/A",(AI33-(AI33*$E$1))) -> 965216.15 | AK33: 638813 | AL33: =+IF(AK33="N/A","N/A",(AK33-(AK33*$E$1))) -> 606872.35 | AM33: 2548200 | AN33: =+IF(AM33="N/A","N/A",(AM33-(AM33*$E$1))) -> 2420790 | AO33: 708359 | AP33: =+IF(AO33="N/A","N/A",(AO33-(AO33*$E$1))) -> 672941.05 | AQ33: 1230658 | AR33: =+IF(AQ33="N/A","N/A",(AQ33-(AQ33*$E$1))) -> 1169125.1 | AS33: 765659 | AT33: =+IF(AS33="N/A","N/A",(AS33-(AS33*$E$1))) -> 727376.05 | AU33: 2890265 | AV33: =+IF(AU33="N/A","N/A",(AU33-(AU33*$E$1))) -> 2745751.8 | AW33: 6890254 | AX33: =+IF(AW33="N/A","N/A",(AW33-(AW33*$E$1))) -> 6545741.3 | AY33: 2452620 | AZ33: =+IF(AY33="N/A","N/A",(AY33-(AY33*$E$1))) -> 2329989
A34: 20 | B34: lavado de Inyectore | C34: 1 | E34: N/A | F34: =+IF(E34="N/A","N/A",(E34-(E34*$E$1))) -> N/A | G34: N/A | H34: =+IF(G34="N/A","N/A",(G34-(G34*$E$1))) -> N/A | I34: 450000 | J34: =+IF(I34="N/A","N/A",(I34-(I34*$E$1))) -> 427500 | K34: 450000 | L34: =+IF(K34="N/A","N/A",(K34-(K34*$E$1))) -> 427500 | M34: N/A | N34: =+IF(M34="N/A","N/A",(M34-(M34*$E$1))) -> N/A | O34: 450000 | P34: =+IF(O34="N/A","N/A",(O34-(O34*$E$1))) -> 427500 | Q34: 450000 | R34: =+IF(Q34="N/A","N/A",(Q34-(Q34*$E$1))) -> 427500 | S34: 450000 | T34: =+IF(S34="N/A","N/A",(S34-(S34*$E$1))) -> 427500 | U34: 450000 | V34: =+IF(U34="N/A","N/A",(U34-(U34*$E$1))) -> 427500 | W34: N/A | X34: =+IF(W34="N/A","N/A",(W34-(W34*$E$1))) -> N/A | Y34: 450000 | Z34: =+IF(Y34="N/A","N/A",(Y34-(Y34*$E$1))) -> 427500 | AA34: 450000 | AB34: =+IF(AA34="N/A","N/A",(AA34-(AA34*$E$1))) -> 427500 | AC34: 450000 | AD34: =+IF(AC34="N/A","N/A",(AC34-(AC34*$E$1))) -> 427500 | AE34: 450000 | AF34: =+IF(AE34="N/A","N/A",(AE34-(AE34*$E$1))) -> 427500 | AG34: 450000 | AH34: =+IF(AG34="N/A","N/A",(AG34-(AG34*$E$1))) -> 427500 | AI34: 450000 | AJ34: =+IF(AI34="N/A","N/A",(AI34-(AI34*$E$1))) -> 427500 | AK34: 450000 | AL34: =+IF(AK34="N/A","N/A",(AK34-(AK34*$E$1))) -> 427500 | AM34: N/A | AN34: =+IF(AM34="N/A","N/A",(AM34-(AM34*$E$1))) -> N/A | AO34: 450000 | AP34: =+IF(AO34="N/A","N/A",(AO34-(AO34*$E$1))) -> 427500 | AQ34: 450000 | AR34: =+IF(AQ34="N/A","N/A",(AQ34-(AQ34*$E$1))) -> 427500 | AS34: 450000 | AT34: =+IF(AS34="N/A","N/A",(AS34-(AS34*$E$1))) -> 427500 | AU34: 450000 | AV34: =+IF(AU34="N/A","N/A",(AU34-(AU34*$E$1))) -> 427500 | AW34: 450000 | AX34: =+IF(AW34="N/A","N/A",(AW34-(AW34*$E$1))) -> 427500 | AY34: 450000 | AZ34: =+IF(AY34="N/A","N/A",(AY34-(AY34*$E$1))) -> 427500
A35: 21 | B35: Bomba De Inyección | C35: 1 | E35: 5407636 | F35: =+IF(E35="N/A","N/A",(E35-(E35*$E$1))) -> 5137254.2 | G35: 4852279 | H35: =+IF(G35="N/A","N/A",(G35-(G35*$E$1))) -> 4609665 | I35: N/A | J35: =+IF(I35="N/A","N/A",(I35-(I35*$E$1))) -> N/A | K35: 6463200 | L35: =+IF(K35="N/A","N/A",(K35-(K35*$E$1))) -> 6140040 | M35: N/A | N35: =+IF(M35="N/A","N/A",(M35-(M35*$E$1))) -> N/A | O35: N/A | P35: =+IF(O35="N/A","N/A",(O35-(O35*$E$1))) -> N/A | Q35: N/A | R35: =+IF(Q35="N/A","N/A",(Q35-(Q35*$E$1))) -> N/A | S35: N/A | T35: =+IF(S35="N/A","N/A",(S35-(S35*$E$1))) -> N/A | U35: N/A | V35: =+IF(U35="N/A","N/A",(U35-(U35*$E$1))) -> N/A | W35: 4214314 | X35: =+IF(W35="N/A","N/A",(W35-(W35*$E$1))) -> 4003598.3 | Y35: 4494500 | Z35: =+IF(Y35="N/A","N/A",(Y35-(Y35*$E$1))) -> 4269775 | AA35: 4519653 | AB35: =+IF(AA35="N/A","N/A",(AA35-(AA35*$E$1))) -> 4293670.3 | AC35: 4440657 | AD35: =+IF(AC35="N/A","N/A",(AC35-(AC35*$E$1))) -> 4218624.2 | AE35: N/A | AF35: =+IF(AE35="N/A","N/A",(AE35-(AE35*$E$1))) -> N/A | AG35: N/A | AH35: =+IF(AG35="N/A","N/A",(AG35-(AG35*$E$1))) -> N/A | AI35: N/A | AJ35: =+IF(AI35="N/A","N/A",(AI35-(AI35*$E$1))) -> N/A | AK35: 4195515 | AL35: =+IF(AK35="N/A","N/A",(AK35-(AK35*$E$1))) -> 3985739.2 | AM35: 8604655 | AN35: =+IF(AM35="N/A","N/A",(AM35-(AM35*$E$1))) -> 8174422.2 | AO35: 4195515 | AP35: =+IF(AO35="N/A","N/A",(AO35-(AO35*$E$1))) -> 3985739.2 | AQ35: 4345905 | AR35: =+IF(AQ35="N/A","N/A",(AQ35-(AQ35*$E$1))) -> 4128609.8 | AS35: 4195515 | AT35: =+IF(AS35="N/A","N/A",(AS35-(AS35*$E$1))) -> 3985739.2 | AU35: 11461337 | AV35: =+IF(AU35="N/A","N/A",(AU35-(AU35*$E$1))) -> 10888270 | AW35: 12548980 | AX35: =+IF(AW35="N/A","N/A",(AW35-(AW35*$E$1))) -> 11921531 | AY35: 8014802 | AZ35: =+IF(AY35="N/A","N/A",(AY35-(AY35*$E$1))) -> 7614061.9
A36: 22 | B36: Oring Sellos | C36: 1 | E36: 26391 | F36: =+IF(E36="N/A","N/A",(E36-(E36*$E$1))) -> 25071.45 | G36: 23654 | H36: =+IF(G36="N/A","N/A",(G36-(G36*$E$1))) -> 22471.3 | I36: 53381 | J36: =+IF(I36="N/A","N/A",(I36-(I36*$E$1))) -> 50711.95 | K36: 29114 | L36: =+IF(K36="N/A","N/A",(K36-(K36*$E$1))) -> 27658.3 | M36: N/A | N36: =+IF(M36="N/A","N/A",(M36-(M36*$E$1))) -> N/A | O36: N/A | P36: =+IF(O36="N/A","N/A",(O36-(O36*$E$1))) -> N/A | Q36: N/A | R36: =+IF(Q36="N/A","N/A",(Q36-(Q36*$E$1))) -> N/A | S36: N/A | T36: =+IF(S36="N/A","N/A",(S36-(S36*$E$1))) -> N/A | U36: N/A | V36: =+IF(U36="N/A","N/A",(U36-(U36*$E$1))) -> N/A | W36: 24462 | X36: =+IF(W36="N/A","N/A",(W36-(W36*$E$1))) -> 23238.9 | Y36: 24037 | Z36: =+IF(Y36="N/A","N/A",(Y36-(Y36*$E$1))) -> 22835.15 | AA36: 24692 | AB36: =+IF(AA36="N/A","N/A",(AA36-(AA36*$E$1))) -> 23457.4 | AC36: 24037 | AD36: =+IF(AC36="N/A","N/A",(AC36-(AC36*$E$1))) -> 22835.15 | AE36: N/A | AF36: =+IF(AE36="N/A","N/A",(AE36-(AE36*$E$1))) -> N/A | AG36: N/A | AH36: =+IF(AG36="N/A","N/A",(AG36-(AG36*$E$1))) -> N/A | AI36: N/A | AJ36: =+IF(AI36="N/A","N/A",(AI36-(AI36*$E$1))) -> N/A | AK36: 23386 | AL36: =+IF(AK36="N/A","N/A",(AK36-(AK36*$E$1))) -> 22216.7 | AM36: 41946 | AN36: =+IF(AM36="N/A","N/A",(AM36-(AM36*$E$1))) -> 39848.7 | AO36: 24430 | AP36: =+IF(AO36="N/A","N/A",(AO36-(AO36*$E$1))) -> 23208.5 | AQ36: 24037 | AR36: =+IF(AQ36="N/A","N/A",(AQ36-(AQ36*$E$1))) -> 22835.15 | AS36: 25285 | AT36: =+IF(AS36="N/A","N/A",(AS36-(AS36*$E$1))) -> 24020.75 | AU36: 51628 | AV36: =+IF(AU36="N/A","N/A",(AU36-(AU36*$E$1))) -> 49046.6 | AW36: 43323 | AX36: =+IF(AW36="N/A","N/A",(AW36-(AW36*$E$1))) -> 41156.85 | AY36: 43788 | AZ36: =+IF(AY36="N/A","N/A",(AY36-(AY36*$E$1))) -> 41598.6
A37: 22 | B37: Bomba De Combustible | C37: 1 | E37: 2886804 | F37: =+IF(E37="N/A","N/A",(E37-(E37*$E$1))) -> 2742463.8 | G37: 2368856 | H37: =+IF(G37="N/A","N/A",(G37-(G37*$E$1))) -> 2250413.2 | I37: 1195555 | J37: =+IF(I37="N/A","N/A",(I37-(I37*$E$1))) -> 1135777.2 | K37: 1327639 | L37: =+IF(K37="N/A","N/A",(K37-(K37*$E$1))) -> 1261257.1 | M37: 1429735 | N37: =+IF(M37="N/A","N/A",(M37-(M37*$E$1))) -> 1358248.2 | O37: 1057084 | P37: =+IF(O37="N/A","N/A",(O37-(O37*$E$1))) -> 1004229.8 | Q37: 1028454 | R37: =+IF(Q37="N/A","N/A",(Q37-(Q37*$E$1))) -> 977031.3 | S37: 1264484 | T37: =+IF(S37="N/A","N/A",(S37-(S37*$E$1))) -> 1201259.8 | U37: 1356523 | V37: =+IF(U37="N/A","N/A",(U37-(U37*$E$1))) -> 1288696.9 | W37: 1119799 | X37: =+IF(W37="N/A","N/A",(W37-(W37*$E$1))) -> 1063809.1 | Y37: 1934919 | Z37: =+IF(Y37="N/A","N/A",(Y37-(Y37*$E$1))) -> 1838173.1 | AA37: 2042796 | AB37: =+IF(AA37="N/A","N/A",(AA37-(AA37*$E$1))) -> 1940656.2 | AC37: 2043478 | AD37: =+IF(AC37="N/A","N/A",(AC37-(AC37*$E$1))) -> 1941304.1 | AE37: 1894286 | AF37: =+IF(AE37="N/A","N/A",(AE37-(AE37*$E$1))) -> 1799571.7 | AG37: 1794826 | AH37: =+IF(AG37="N/A","N/A",(AG37-(AG37*$E$1))) -> 1705084.7 | AI37: 1894286 | AJ37: =+IF(AI37="N/A","N/A",(AI37-(AI37*$E$1))) -> 1799571.7 | AK37: 1724126 | AL37: =+IF(AK37="N/A","N/A",(AK37-(AK37*$E$1))) -> 1637919.7 | AM37: 4200744 | AN37: =+IF(AM37="N/A","N/A",(AM37-(AM37*$E$1))) -> 3990706.8 | AO37: 1843289 | AP37: =+IF(AO37="N/A","N/A",(AO37-(AO37*$E$1))) -> 1751124.6 | AQ37: 1769558 | AR37: =+IF(AQ37="N/A","N/A",(AQ37-(AQ37*$E$1))) -> 1681080.1 | AS37: 1941475 | AT37: =+IF(AS37="N/A","N/A",(AS37-(AS37*$E$1))) -> 1844401.2 | AU37: 2354332 | AV37: =+IF(AU37="N/A","N/A",(AU37-(AU37*$E$1))) -> 2236615.4 | AW37: 5489785 | AX37: =+IF(AW37="N/A","N/A",(AW37-(AW37*$E$1))) -> 5215295.8 | AY37: 3622536 | AZ37: =+IF(AY37="N/A","N/A",(AY37-(AY37*$E$1))) -> 3441409.2
A38: 23 | B38: Bujía Precalentadora | C38: 1 | E38: 221355 | F38: =+IF(E38="N/A","N/A",(E38-(E38*$E$1))) -> 210287.25 | G38: 213998 | H38: =+IF(G38="N/A","N/A",(G38-(G38*$E$1))) -> 203298.1 | I38: 2471 | J38: =+IF(I38="N/A","N/A",(I38-(I38*$E$1))) -> 2347.45 | K38: N/A | L38: =+IF(K38="N/A","N/A",(K38-(K38*$E$1))) -> N/A | M38: N/A | N38: =+IF(M38="N/A","N/A",(M38-(M38*$E$1))) -> N/A | O38: N/A | P38: =+IF(O38="N/A","N/A",(O38-(O38*$E$1))) -> N/A | Q38: N/A | R38: =+IF(Q38="N/A","N/A",(Q38-(Q38*$E$1))) -> N/A | S38: N/A | T38: =+IF(S38="N/A","N/A",(S38-(S38*$E$1))) -> N/A | U38: N/A | V38: =+IF(U38="N/A","N/A",(U38-(U38*$E$1))) -> N/A | W38: 156330 | X38: =+IF(W38="N/A","N/A",(W38-(W38*$E$1))) -> 148513.5 | Y38: 310590 | Z38: =+IF(Y38="N/A","N/A",(Y38-(Y38*$E$1))) -> 295060.5 | AA38: 318924 | AB38: =+IF(AA38="N/A","N/A",(AA38-(AA38*$E$1))) -> 302977.8 | AC38: 339896 | AD38: =+IF(AC38="N/A","N/A",(AC38-(AC38*$E$1))) -> 322901.2 | AE38: N/A | AF38: =+IF(AE38="N/A","N/A",(AE38-(AE38*$E$1))) -> N/A | AG38: N/A | AH38: =+IF(AG38="N/A","N/A",(AG38-(AG38*$E$1))) -> N/A | AI38: N/A | AJ38: =+IF(AI38="N/A","N/A",(AI38-(AI38*$E$1))) -> N/A | AK38: 909028 | AL38: =+IF(AK38="N/A","N/A",(AK38-(AK38*$E$1))) -> 863576.6 | AM38: 379488 | AN38: =+IF(AM38="N/A","N/A",(AM38-(AM38*$E$1))) -> 360513.6 | AO38: 909028 | AP38: =+IF(AO38="N/A","N/A",(AO38-(AO38*$E$1))) -> 863576.6 | AQ38: 318635 | AR38: =+IF(AQ38="N/A","N/A",(AQ38-(AQ38*$E$1))) -> 302703.25 | AS38: 909028 | AT38: =+IF(AS38="N/A","N/A",(AS38-(AS38*$E$1))) -> 863576.6 | AU38: N/A | AV38: =+IF(AU38="N/A","N/A",(AU38-(AU38*$E$1))) -> N/A | AW38: 1612000 | AX38: =+IF(AW38="N/A","N/A",(AW38-(AW38*$E$1))) -> 1531400 | AY38: 565555 | AZ38: =+IF(AY38="N/A","N/A",(AY38-(AY38*$E$1))) -> 537277.25
A39: 24 | B39: Bombín | C39: 1 | E39: 561482 | F39: =+IF(E39="N/A","N/A",(E39-(E39*$E$1))) -> 533407.9 | G39: 320767 | H39: =+IF(G39="N/A","N/A",(G39-(G39*$E$1))) -> 304728.65 | I39: 57543 | J39: =+IF(I39="N/A","N/A",(I39-(I39*$E$1))) -> 54665.85 | K39: 486606 | L39: =+IF(K39="N/A","N/A",(K39-(K39*$E$1))) -> 462275.7 | M39: N/A | N39: =+IF(M39="N/A","N/A",(M39-(M39*$E$1))) -> N/A | O39: N/A | P39: =+IF(O39="N/A","N/A",(O39-(O39*$E$1))) -> N/A | Q39: N/A | R39: =+IF(Q39="N/A","N/A",(Q39-(Q39*$E$1))) -> N/A | S39: N/A | T39: =+IF(S39="N/A","N/A",(S39-(S39*$E$1))) -> N/A | U39: N/A | V39: =+IF(U39="N/A","N/A",(U39-(U39*$E$1))) -> N/A | W39: 191400 | X39: =+IF(W39="N/A","N/A",(W39-(W39*$E$1))) -> 181830 | Y39: 368454 | Z39: =+IF(Y39="N/A","N/A",(Y39-(Y39*$E$1))) -> 350031.3 | AA39: 368663 | AB39: =+IF(AA39="N/A","N/A",(AA39-(AA39*$E$1))) -> 350229.85 | AC39: 513181 | AD39: =+IF(AC39="N/A","N/A",(AC39-(AC39*$E$1))) -> 487521.95 | AE39: N/A | AF39: =+IF(AE39="N/A","N/A",(AE39-(AE39*$E$1))) -> N/A | AG39: N/A | AH39: =+IF(AG39="N/A","N/A",(AG39-(AG39*$E$1))) -> N/A | AI39: N/A | AJ39: =+IF(AI39="N/A","N/A",(AI39-(AI39*$E$1))) -> N/A | AK39: 454514 | AL39: =+IF(AK39="N/A","N/A",(AK39-(AK39*$E$1))) -> 431788.3 | AM39: 568823 | AN39: =+IF(AM39="N/A","N/A",(AM39-(AM39*$E$1))) -> 540381.85 | AO39: 454514 | AP39: =+IF(AO39="N/A","N/A",(AO39-(AO39*$E$1))) -> 431788.3 | AQ39: 317950 | AR39: =+IF(AQ39="N/A","N/A",(AQ39-(AQ39*$E$1))) -> 302052.5 | AS39: 454514 | AT39: =+IF(AS39="N/A","N/A",(AS39-(AS39*$E$1))) -> 431788.3 | AU39: 862910 | AV39: =+IF(AU39="N/A","N/A",(AU39-(AU39*$E$1))) -> 819764.5 | AW39: 806000 | AX39: =+IF(AW39="N/A","N/A",(AW39-(AW39*$E$1))) -> 765700 | AY39: 653759 | AZ39: =+IF(AY39="N/A","N/A",(AY39-(AY39*$E$1))) -> 621071.05
A40: 25 | B40: Tornillo Peter | C40: 1 | E40: 34386 | F40: =+IF(E40="N/A","N/A",(E40-(E40*$E$1))) -> 32666.7 | G40: 41753 | H40: =+IF(G40="N/A","N/A",(G40-(G40*$E$1))) -> 39665.35 | I40: N/A | J40: =+IF(I40="N/A","N/A",(I40-(I40*$E$1))) -> N/A | K40: 244171 | L40: =+IF(K40="N/A","N/A",(K40-(K40*$E$1))) -> 231962.45 | M40: N/A | N40: =+IF(M40="N/A","N/A",(M40-(M40*$E$1))) -> N/A | O40: N/A | P40: =+IF(O40="N/A","N/A",(O40-(O40*$E$1))) -> N/A | Q40: N/A | R40: =+IF(Q40="N/A","N/A",(Q40-(Q40*$E$1))) -> N/A | S40: N/A | T40: =+IF(S40="N/A","N/A",(S40-(S40*$E$1))) -> N/A | U40: N/A | V40: =+IF(U40="N/A","N/A",(U40-(U40*$E$1))) -> N/A | W40: 34513 | X40: =+IF(W40="N/A","N/A",(W40-(W40*$E$1))) -> 32787.35 | Y40: 97808 | Z40: =+IF(Y40="N/A","N/A",(Y40-(Y40*$E$1))) -> 92917.6 | AA40: 97808 | AB40: =+IF(AA40="N/A","N/A",(AA40-(AA40*$E$1))) -> 92917.6 | AC40: 34508 | AD40: =+IF(AC40="N/A","N/A",(AC40-(AC40*$E$1))) -> 32782.6 | AE40: N/A | AF40: =+IF(AE40="N/A","N/A",(AE40-(AE40*$E$1))) -> N/A | AG40: N/A | AH40: =+IF(AG40="N/A","N/A",(AG40-(AG40*$E$1))) -> N/A | AI40: N/A | AJ40: =+IF(AI40="N/A","N/A",(AI40-(AI40*$E$1))) -> N/A | AK40: 32641 | AL40: =+IF(AK40="N/A","N/A",(AK40-(AK40*$E$1))) -> 31008.95 | AM40: 74041 | AN40: =+IF(AM40="N/A","N/A",(AM40-(AM40*$E$1))) -> 70338.95 | AO40: 35625 | AP40: =+IF(AO40="N/A","N/A",(AO40-(AO40*$E$1))) -> 33843.75 | AQ40: 66569 | AR40: =+IF(AQ40="N/A","N/A",(AQ40-(AQ40*$E$1))) -> 63240.55 | AS40: 38080 | AT40: =+IF(AS40="N/A","N/A",(AS40-(AS40*$E$1))) -> 36176 | AU40: 432994 | AV40: =+IF(AU40="N/A","N/A",(AU40-(AU40*$E$1))) -> 411344.3 | AW40: 63175 | AX40: =+IF(AW40="N/A","N/A",(AW40-(AW40*$E$1))) -> 60016.25 | AY40: 173445 | AZ40: =+IF(AY40="N/A","N/A",(AY40-(AY40*$E$1))) -> 164772.75
B41: SISTEMA DE SUSPENSIÓN | F41: =+IF(E41="N/A","N/A",(E41-(E41*$E$1))) -> 0 | H41: =+IF(G41="N/A","N/A",(G41-(G41*$E$1))) -> 0 | J41: =+IF(I41="N/A","N/A",(I41-(I41*$E$1))) -> 0 | L41: =+IF(K41="N/A","N/A",(K41-(K41*$E$1))) -> 0 | N41: =+IF(M41="N/A","N/A",(M41-(M41*$E$1))) -> 0 | P41: =+IF(O41="N/A","N/A",(O41-(O41*$E$1))) -> 0 | R41: =+IF(Q41="N/A","N/A",(Q41-(Q41*$E$1))) -> 0 | T41: =+IF(S41="N/A","N/A",(S41-(S41*$E$1))) -> 0 | V41: =+IF(U41="N/A","N/A",(U41-(U41*$E$1))) -> 0 | X41: =+IF(W41="N/A","N/A",(W41-(W41*$E$1))) -> 0 | Z41: =+IF(Y41="N/A","N/A",(Y41-(Y41*$E$1))) -> 0 | AB41: =+IF(AA41="N/A","N/A",(AA41-(AA41*$E$1))) -> 0 | AD41: =+IF(AC41="N/A","N/A",(AC41-(AC41*$E$1))) -> 0 | AF41: =+IF(AE41="N/A","N/A",(AE41-(AE41*$E$1))) -> 0 | AH41: =+IF(AG41="N/A","N/A",(AG41-(AG41*$E$1))) -> 0 | AJ41: =+IF(AI41="N/A","N/A",(AI41-(AI41*$E$1))) -> 0 | AL41: =+IF(AK41="N/A","N/A",(AK41-(AK41*$E$1))) -> 0 | AN41: =+IF(AM41="N/A","N/A",(AM41-(AM41*$E$1))) -> 0 | AP41: =+IF(AO41="N/A","N/A",(AO41-(AO41*$E$1))) -> 0 | AR41: =+IF(AQ41="N/A","N/A",(AQ41-(AQ41*$E$1))) -> 0 | AT41: =+IF(AS41="N/A","N/A",(AS41-(AS41*$E$1))) -> 0 | AV41: =+IF(AU41="N/A","N/A",(AU41-(AU41*$E$1))) -> 0 | AX41: =+IF(AW41="N/A","N/A",(AW41-(AW41*$E$1))) -> 0 | AZ41: =+IF(AY41="N/A","N/A",(AY41-(AY41*$E$1))) -> 0
A42: 26 | B42: Brazo Axial | C42: 1 | E42: 153927 | F42: =+IF(E42="N/A","N/A",(E42-(E42*$E$1))) -> 146230.65 | G42: 167157 | H42: =+IF(G42="N/A","N/A",(G42-(G42*$E$1))) -> 158799.15 | I42: 216999 | J42: =+IF(I42="N/A","N/A",(I42-(I42*$E$1))) -> 206149.05 | K42: N/A | L42: =+IF(K42="N/A","N/A",(K42-(K42*$E$1))) -> N/A | M42: 133107 | N42: =+IF(M42="N/A","N/A",(M42-(M42*$E$1))) -> 126451.65 | O42: 241383 | P42: =+IF(O42="N/A","N/A",(O42-(O42*$E$1))) -> 229313.85 | Q42: 207063 | R42: =+IF(Q42="N/A","N/A",(Q42-(Q42*$E$1))) -> 196709.85 | S42: 316769 | T42: =+IF(S42="N/A","N/A",(S42-(S42*$E$1))) -> 300930.55 | U42: 151961 | V42: =+IF(U42="N/A","N/A",(U42-(U42*$E$1))) -> 144362.95 | W42: N/A | X42: =+IF(W42="N/A","N/A",(W42-(W42*$E$1))) -> N/A | Y42: 235543 | Z42: =+IF(Y42="N/A","N/A",(Y42-(Y42*$E$1))) -> 223765.85 | AA42: 252629 | AB42: =+IF(AA42="N/A","N/A",(AA42-(AA42*$E$1))) -> 239997.55 | AC42: 187977 | AD42: =+IF(AC42="N/A","N/A",(AC42-(AC42*$E$1))) -> 178578.15 | AE42: 164235 | AF42: =+IF(AE42="N/A","N/A",(AE42-(AE42*$E$1))) -> 156023.25 | AG42: 151906 | AH42: =+IF(AG42="N/A","N/A",(AG42-(AG42*$E$1))) -> 144310.7 | AI42: 164235 | AJ42: =+IF(AI42="N/A","N/A",(AI42-(AI42*$E$1))) -> 156023.25 | AK42: 258723 | AL42: =+IF(AK42="N/A","N/A",(AK42-(AK42*$E$1))) -> 245786.85 | AM42: 296422 | AN42: =+IF(AM42="N/A","N/A",(AM42-(AM42*$E$1))) -> 281600.9 | AO42: 295873 | AP42: =+IF(AO42="N/A","N/A",(AO42-(AO42*$E$1))) -> 281079.35 | AQ42: 168404 | AR42: =+IF(AQ42="N/A","N/A",(AQ42-(AQ42*$E$1))) -> 159983.8 | AS42: 308458 | AT42: =+IF(AS42="N/A","N/A",(AS42-(AS42*$E$1))) -> 293035.1 | AU42: N/A | AV42: =+IF(AU42="N/A","N/A",(AU42-(AU42*$E$1))) -> N/A | AW42: 980000 | AX42: =+IF(AW42="N/A","N/A",(AW42-(AW42*$E$1))) -> 931000 | AY42: 447993 | AZ42: =+IF(AY42="N/A","N/A",(AY42-(AY42*$E$1))) -> 425593.35
A43: 27 | B43: Juego de Terminales Direccion (Largo y Corto) | C43: 1 | E43: 363296 | F43: =+IF(E43="N/A","N/A",(E43-(E43*$E$1))) -> 345131.2 | G43: 423641 | H43: =+IF(G43="N/A","N/A",(G43-(G43*$E$1))) -> 402458.95 | I43: 253035 | J43: =+IF(I43="N/A","N/A",(I43-(I43*$E$1))) -> 240383.25 | K43: 281970 | L43: =+IF(K43="N/A","N/A",(K43-(K43*$E$1))) -> 267871.5 | M43: 244950 | N43: =+IF(M43="N/A","N/A",(M43-(M43*$E$1))) -> 232702.5 | O43: 273996 | P43: =+IF(O43="N/A","N/A",(O43-(O43*$E$1))) -> 260296.2 | Q43: 254381 | R43: =+IF(Q43="N/A","N/A",(Q43-(Q43*$E$1))) -> 241661.95 | S43: 485012 | T43: =+IF(S43="N/A","N/A",(S43-(S43*$E$1))) -> 460761.4 | U43: 228137 | V43: =+IF(U43="N/A","N/A",(U43-(U43*$E$1))) -> 216730.15 | W43: 235616 | X43: =+IF(W43="N/A","N/A",(W43-(W43*$E$1))) -> 223835.2 | Y43: 287522 | Z43: =+IF(Y43="N/A","N/A",(Y43-(Y43*$E$1))) -> 273145.9 | AA43: 296871 | AB43: =+IF(AA43="N/A","N/A",(AA43-(AA43*$E$1))) -> 282027.45 | AC43: 277456 | AD43: =+IF(AC43="N/A","N/A",(AC43-(AC43*$E$1))) -> 263583.2 | AE43: 249210 | AF43: =+IF(AE43="N/A","N/A",(AE43-(AE43*$E$1))) -> 236749.5 | AG43: 240870 | AH43: =+IF(AG43="N/A","N/A",(AG43-(AG43*$E$1))) -> 228826.5 | AI43: 249210 | AJ43: =+IF(AI43="N/A","N/A",(AI43-(AI43*$E$1))) -> 236749.5 | AK43: 284007 | AL43: =+IF(AK43="N/A","N/A",(AK43-(AK43*$E$1))) -> 269806.65 | AM43: 751251 | AN43: =+IF(AM43="N/A","N/A",(AM43-(AM43*$E$1))) -> 713688.45 | AO43: 284007 | AP43: =+IF(AO43="N/A","N/A",(AO43-(AO43*$E$1))) -> 269806.65 | AQ43: 305853 | AR43: =+IF(AQ43="N/A","N/A",(AQ43-(AQ43*$E$1))) -> 290560.35 | AS43: 295125 | AT43: =+IF(AS43="N/A","N/A",(AS43-(AS43*$E$1))) -> 280368.75 | AU43: 500023 | AV43: =+IF(AU43="N/A","N/A",(AU43-(AU43*$E$1))) -> 475021.85 | AW43: 3659874 | AX43: =+IF(AW43="N/A","N/A",(AW43-(AW43*$E$1))) -> 3476880.3 | AY43: 526448 | AZ43: =+IF(AY43="N/A","N/A",(AY43-(AY43*$E$1))) -> 500125.6
...

Sheet MANO DE OBRA MOTOS
E1: 0.05
A3: NECESIDAD CONTRATACION MOTOS MANO DE OBRA | C3: CANTIDAD | E3: MANO DE OBRA | F3: VALOR CON DESCUENTO | G3: MANO DE OBRA | H3: VALOR CON DESCUENTO
A5: NOMBRE DEL ACTIVO
A6: CILINDRAJE | E6: 0- 150 CC | G6: 151 - 250 CC
A8: DESCRIPCIÒN | E8: COSTO MANO DE OBRA | G8: COSTO MANO DE OBRA
E9: VALOR UNITARIO INCLUIDO IVA | G9: VALOR UNITARIO INCLUIDO IVA
B11: SINCRONIZACIÓN
A12: 1 | B12: Sincronización (entiéndase por : calibración de válvulas, limpieza cuerpo de aceleración ya sea un motor inyectado o carburado, lavado de inyectores por ultrasonido, cambio de filtros, cambio o mantenimiento de bujías, calibración de sensores y revisión eléctrica. | C12: 1 | E12: 93920 | F12: =+IF(E12="N/A","N/A",(E12-(E12*$E$1))) -> 89224 | G12: 128949 | H12: =+IF(G12="N/A","N/A",(G12-(G12*$E$1))) -> 122501.55
A13: 2 | B13: CALIBRACIÓN VÁLVULAS | C13: 1 | E13: 57967 | F13: =+IF(E13="N/A","N/A",(E13-(E13*$E$1))) -> 55068.65 | G13: 62642 | H13: =+IF(G13="N/A","N/A",(G13-(G13*$E$1))) -> 59509.9
A14: 3 | B14: LIMPIEZA TANQUE COMBUSTIBLE ( INCLUYE DESMONTAR Y MONTAR) | C14: 1 | E14: 55512 | F14: =+IF(E14="N/A","N/A",(E14-(E14*$E$1))) -> 52736.4 | G14: 58871 | H14: =+IF(G14="N/A","N/A",(G14-(G14*$E$1))) -> 55927.45
A15: 4 | B15: CAMBIO GUAYA ACELERADOR | C15: 1 | E15: 31885 | F15: =+IF(E15="N/A","N/A",(E15-(E15*$E$1))) -> 30290.75 | G15: 37629 | H15: =+IF(G15="N/A","N/A",(G15-(G15*$E$1))) -> 35747.55
A16: 5 | B16: CAMBIO GUAYA CHOKE | C16: 1 | E16: 31195 | F16: =+IF(E16="N/A","N/A",(E16-(E16*$E$1))) -> 29635.25 | G16: N/A | H16: =+IF(G16="N/A","N/A",(G16-(G16*$E$1))) -> N/A
A17: 6 | B17: LUBRICAR GUAYAS | C17: 1 | E17: 14101 | F17: =+IF(E17="N/A","N/A",(E17-(E17*$E$1))) -> 13395.95 | G17: 15716 | H17: =+IF(G17="N/A","N/A",(G17-(G17*$E$1))) -> 14930.2
A18: 7 | B18: COMPROBACIÓN NIVELES | C18: 1 | E18: 15945 | F18: =+IF(E18="N/A","N/A",(E18-(E18*$E$1))) -> 15147.75 | G18: 19162 | H18: =+IF(G18="N/A","N/A",(G18-(G18*$E$1))) -> 18203.9
A19: 8 | B19: CAMBIO CAPUCHÓN BUJÍA | C19: 1 | E19: 11903 | F19: =+IF(E19="N/A","N/A",(E19-(E19*$E$1))) -> 11307.85 | G19: 13436 | H19: =+IF(G19="N/A","N/A",(G19-(G19*$E$1))) -> 12764.2
