Workbook
Name Listado: Cierre!#REF!

Sheet Información
A1: INFORMACIÓN GENERAL
A2: Proceso Licitatorio | B2: LP-SADR-009-2019
A3: Objeto | B3: OBRAS DE INTERVENCIÓN DE LAS PLANTAS DE BENEFICIO ANIMAL DE LOS MUNICIPIOS DE AGUADAS, ANSERMA, CHINCHINÁ, LA MERCED, MANZANARES, MARQUETALIA, NORCASIA, PENSILVANIA, SALAMINA Y SAMANÁ, INCLUIDO SUMINISTRO DE EQUIPOS Y GESTIÓN DOCUMENTAL AMBIENTAL, DE CONFORMIDAD CON LA REGLAMENTACIÓN INVIMA Y LA RESOLUCIÓN 0631 DE 2015 DEL MINISTERIO DEL MEDIO AMBIENTE
A4: DESCRIPCIÓN | B4: M1 | C4: M2 | D4: M3 | E4: M4 | F4: M5 | G4: M6 | H4: M7 | I4: M8 | J4: M9 | K4: M10
A5: Presupuesto oficial M1 | B5: 1634206089 | C5: 1195254189 | D5: 1167316053 | E5: 1089587949 | F5: 1033935656 | G5: 1010232623 | H5: 956007803 | I5: 923894543 | J5: 767754529 | K5: 688131593
A6: Plazo (meses) | B6: 6 | C6: 6 | D6: 6 | E6: 6 | F6: 6 | G6: 6 | H6: 6 | I6: 6 | J6: 6 | K6: 6
A7: Apertura del proceso | B7: 43532
A8: Cierre del Proceso | B8: 43543
A10: REQUISITOS FINANCIEROS HABILITANTES
A11: Capital de trabajo CT = AC - PC ≥ 100% PO | B11: =B5*1 -> 1634206089 | C11: =C5*1 -> 1195254189 | D11: =D5*1 -> 1167316053 | E11: =E5*1 -> 1089587949 | F11: =F5*1 -> 1033935656 | G11: =G5*1 -> 1010232623 | H11: =H5*1 -> 956007803 | I11: =I5*1 -> 923894543 | ... K11: =K5*1 -> 688131593
A12: Liquidez Activo corriente/Pasivo Corriente ≥ 1.4 | B12: 1.4 | C12: 1.4 | D12: 1.4 | E12: 1.4 | F12: 1.4 | G12: 1.4 | H12: 1.4 | I12: 1.4 | J12: 1.4 | K12: 1.4
A13: Nivel de endeudamiento Pasivo Total/Activo Total ≤ 0.68 | B13: 0.68 | C13: 0.68 | D13: 0.68 | E13: 0.68 | F13: 0.68 | G13: 0.68 | H13: 0.68 | I13: 0.68 | J13: 0.68 | K13: 0.68
A14: Razón covertura de intereses Utilidad operacional/gastos de intereses ≥ 1.0 | B14: 1 | C14: 1 | D14: 1 | E14: 1 | F14: 1 | G14: 1 | H14: 1 | I14: 1 | J14: 1 | K14: 1
A15: Rentabilidad del patrimonio (ROE) Utilidad operacional/Patrimonio ≥ 3% | B15: 0.03 | C15: 0.03 | D15: 0.03 | E15: 0.03 | F15: 0.03 | G15: 0.03 | H15: 0.03 | I15: 0.03 | J15: 0.03 | K15: 0.03
A16: Rentabilidad del activo (ROA) Utilidad operacional/Activo total ≥ 1% | B16: 0.01 | C16: 0.01 | D16: 0.01 | E16: 0.01 | F16: 0.01 | G16: 0.01 | H16: 0.01 | I16: 0.01 | J16: 0.01 | K16: 0.01
A18: REQUISITOS TÉCNICOS HABILITANTES
A19: Presupuesto Oficial SMMLV | B19: =B5/828116 -> 1973.4024 | C19: =C5/828116 -> 1443.3415 | D19: =D5/828116 -> 1409.6045 | E19: =E5/828116 -> 1315.7431 | F19: =F5/828116 -> 1248.5396 | G19: =G5/828116 -> 1219.9168 | H19: =H5/828116 -> 1154.4371 | I19: =I5/828116 -> 1115.6584 | ... K19: =K5/828116 -> 830.96039
A20: Presupuesto Oficial Mensual SMMLV | B20: =ROUND(B5/(2*B6),0)/828116 -> 164.4502 | C20: =ROUND(C5/(2*C6),0)/828116 -> 120.27846 | D20: =ROUND(D5/(2*D6),0)/828116 -> 117.46704 | E20: =ROUND(E5/(2*E6),0)/828116 -> 109.64526 | F20: =ROUND(F5/(2*F6),0)/828116 -> 104.04497 | G20: =ROUND(G5/(2*G6),0)/828116 -> 101.65973 | H20: =ROUND(H5/(2*H6),0)/828116 -> 96.203089 | I20: =ROUND(I5/(2*I6),0)/828116 -> 92.971531 | ... K20: =ROUND(K5/(2*K6),0)/828116 -> 69.246699

Sheet Cierre
B1: PROPONENTE | C1: REPRESENTANTE LEGAL | D1: CONFORMACION CONSORCIO | E1: % | F1: REPRESENTANTE | G1: Compañía Aseguradora | H1: No. De Póliza | I1: Valor Asegurado | J1: Vigencia inicial | K1: Vigencia final | L1: M1 | M1: M2 | N1: M3 | O1: M4 | P1: M5 | Q1: M6 | R1: M7 | S1: M8 | T1: M9 | U1: M10
A2: 1 | B2: OMICRON DEL LLANO S.A.S. | C2: LUIS FERNANDO ROMERO SANDOVAL | D2: N/A | E2: 1 | G2: NACIONAL DE SEGUROS S.A. | H2: 400016054 | I2: 1.0466321e+09 | J2: 43552 | K2: 43676 | L2: X | M2: X | N2: X | O2: X | P2: X | Q2: X | R2: X | S2: X | T2: X | U2: X
A3: 2 | B3: CONSORCIO PRITA | C3: CESAR AUGUSTO TABARES RAMÍREZ | D3: CESAR AUGUSTO TABARES RAMÍREZ | E3: 0.7 | G3: SEGUROS DEL ESTADO S.A. | H3: 42-44-101115430 | I3: 145588613 | J3: 43552 | K3: 43705 | T3: X | U3: X
D4: JORGE FERNANDO PRIETO MUÑOZ | E4: 0.3
A5: 3 | B5: GRUPO S Y C S.A.S. | C5: OSCAR DAVID VILLEGAS SERNA | D5: N/A | E5: 1 | G5: SEGUROS MUNDIAL | H5: 100095905 | I5: 1.0466321e+09 | J5: 43552 | K5: 43705 | L5: X | M5: X | N5: X | O5: X | P5: X | Q5: X | R5: X | S5: X | T5: X | U5: X
A6: 4 | B6: CONSORCIO PBA CALDAS | C6: NELSÓN MORENO ÁLVAREZ | D6: FUNSIÓN INGENIERÍA S.A.S. | E6: 0.5 | G6: SEGUROS DEL ESTADO S.A. | H6: 42-44-101115475 | I6: 1.1952542e+08 | J6: 43551 | K6: 43643 | M6: X
D7: NELSÓN MORENO ÁLVAREZ | E7: 0.5
A8: 4 | B8: CONSORCIO PBA CALDAS | C8: NELSÓN MORENO ÁLVAREZ | D8: FUNSIÓN INGENIERÍA S.A.S. | E8: 0.5 | G8: SEGUROS DEL ESTADO S.A. | H8: 42-44-101115478 | I8: 1.1673161e+08 | J8: 43551 | K8: 43643 | N8: X
D9: NELSÓN MORENO ÁLVAREZ | E9: 0.5
A10: 4 | B10: CONSORCIO PBA CALDAS | C10: NELSÓN MORENO ÁLVAREZ | D10: FUNSIÓN INGENIERÍA S.A.S. | E10: 0.5 | G10: SEGUROS DEL ESTADO S.A. | H10: 42-44-101115480 | I10: 1.0895879e+08 | J10: 43551 | K10: 43643 | O10: X
D11: NELSÓN MORENO ÁLVAREZ | E11: 0.5
A12: 4 | B12: CONSORCIO PBA CALDAS | C12: NELSÓN MORENO ÁLVAREZ | D12: FUNSIÓN INGENIERÍA S.A.S. | E12: 0.5 | G12: SEGUROS DEL ESTADO S.A. | H12: 42-44-101115481 | I12: 103393565 | J12: 43551 | K12: 43643 | P12: X
D13: NELSÓN MORENO ÁLVAREZ | E13: 0.5
A14: 4 | B14: CONSORCIO PBA CALDAS | C14: NELSÓN MORENO ÁLVAREZ | D14: FUNSIÓN INGENIERÍA S.A.S. | E14: 0.5 | G14: SEGUROS DEL ESTADO S.A. | H14: 42-44-101115482 | I14: 1.0102326e+08 | J14: 43551 | K14: 43643 | Q14: X
D15: NELSÓN MORENO ÁLVAREZ | E15: 0.5
A16: 4 | B16: CONSORCIO PBA CALDAS | C16: NELSÓN MORENO ÁLVAREZ | D16: FUNSIÓN INGENIERÍA S.A.S. | E16: 0.5 | G16: SEGUROS DEL ESTADO S.A. | H16: 42-44-101115483 | I16: 95600780 | J16: 43551 | K16: 43643 | R16: X
D17: NELSÓN MORENO ÁLVAREZ | E17: 0.5
A18: 4 | B18: CONSORCIO PBA CALDAS | C18: NELSÓN MORENO ÁLVAREZ | D18: FUNSIÓN INGENIERÍA S.A.S. | E18: 0.5 | G18: SEGUROS DEL ESTADO S.A. | H18: 42-44-101115484 | I18: 92389454 | J18: 43551 | K18: 43643 | S18: X
D19: NELSÓN MORENO ÁLVAREZ | E19: 0.5
A20: 4 | B20: CONSORCIO PBA CALDAS | C20: NELSÓN MORENO ÁLVAREZ | D20: FUNSIÓN INGENIERÍA S.A.S. | E20: 0.5 | G20: SEGUROS DEL ESTADO S.A. | H20: 42-44-101115475 | I20: 76775453 | J20: 43551 | K20: 43643 | T20: X
D21: NELSÓN MORENO ÁLVAREZ | E21: 0.5
A22: 4 | B22: CONSORCIO PBA CALDAS | C22: NELSÓN MORENO ÁLVAREZ | D22: FUNSIÓN INGENIERÍA S.A.S. | E22: 0.5 | G22: SEGUROS DEL ESTADO S.A. | H22: 42-44-101115488 | I22: 68813159 | J22: 43551 | K22: 43643 | U22: X
D23: NELSÓN MORENO ÁLVAREZ | E23: 0.5

Sheet Capacidad Juridica
A1: No. | B1: PROPONENTE | C1: CARTA PRESENTACIÓN | I1: CONFORMACIÓN CONSORCIAL | N1: CERTIFICADO DE EXISTENCIA Y REPRESENTACIÓN LEGAL | V1: CERTIFICADO DE INSCRIPCIÓN EN EL REGISTRO UNICO DE PROPONENTES (RUP) | AB1: GARANTIA DE SERIEDAD DE LA OFERTA | AJ1: OTROS DOCUMENTOS | AW1: HABIL / NO HABIL / SUBSANAR | AX1: OBSERVACIONES
C2: PRESENTA | D2: REPRESENTANTE LEGAL | E2: INGENIERO QUE AVALA LA PROPUESTA | F2: MATRICULA PROFESIONAL (No. De la matricula) | G2: CERTIFICADO | H2: VIGENCIA CERTIFICADO | I2: PRESENTA | J2: TIPO (C/UT/I) | K2: DURACION | L2: NOMBRE | M2: % PARTICIPACIÓN | N2: PRESENTA (SI/NO) | O2: FECHA DE EXPEDICIÓN | P2: DOMICILIO | Q2: OBJETO SOCIAL | R2: DURACIÓN DE LA SOCIEDAD | S2: REPRESENTANTE LEGAL | T2: LIMITACIONES AL REPRESENTANTE LEGAL | U2: AUTORIZACIÓN DEL ORGANO SOCIAL | V2: PRESENTA (SI/NO) | W2: CÓDIGO UNSPSC 72101500 72121000 72121500 | X2: FECHA DE EXPEDICIÓN | Y2: SANCIONES CONSIGNADAS EN EL RUP | Z2: RENOVADO | AA2: FIRMEZA RUP | AB2: FORMATO A FAVOR DE ENTIDADES ESTATALES | AC2: TOMADOR | AD2: COMPAÑÍA | AE2: PÓLIZA | AF2: VALOR | AG2: VIGENCIA INICIAL | AH2: VIGENCIA FINAL | AI2: BENEFICIARIO GOBERNACIÓN | AJ2: CERTIFICADO DE ANTECEDENTES FISCALES DE LA CONTRALORIA GENERAL DE LA REPUBLICA | AK2: CERTIFICADO DE ANTECEDENTES DISCIPLINARIOS DE LA PROCURADURIA GENERAL DE LA NACION | AL2: CERTIFICADO DE ANTECEDENTES JUDICIALES | AM2: MEDIDAS CORRECTIVAS | AN2: CERTIFICACIÓN DE PAGOS DE SEGURIDAD SOCIAL Y APORTES PARAFISCALES | AO2: PACTO DE TRASPARENCIA | AP2: CEDULA PROPONENTE | AQ2: LIBRETA MILITAR | AR2: TARJETA PROFESIONAL | AS2: COPNIA | AT2: COPIA TARJETA PROFESIONAL CONTADOR O REVISOR FISCAL | AU2: ANTECEDENTES DISCIPLINARIOS JCC | AV2: CARTA DE ACEPTACIÓN DEL PRESUPUESTO OFICIAL (FORMULARIO No. 1 PRESUPUESTO OFICIAL)
A3: 1 | B3: =IFERROR(VLOOKUP($A3,Cierre!$A:$K,2,FALSE),"") -> OMICRON DEL LLANO S.A.S. | C3: PRESENTA | D3: =IFERROR(VLOOKUP($A3,Cierre!$A:$K,3,FALSE),"") -> LUIS FERNANDO ROMERO SANDOVAL | E3: NA | F3: 2520257425CND | G3: PRESENTA | H3: 43504 | I3: N/A | J3: I | K3: N/A | L3: N/A | M3: 1 | N3: SI | O3: 43544 | P3: Villavicencio | Q3: CUMPLE | R3: CUMPLE | S3: =IFERROR(VLOOKUP($A3,Cierre!$A:$K,3,FALSE),"") -> LUIS FERNANDO ROMERO SANDOVAL | T3: N/A | U3: NA | V3: PRESENTA | W3: CUMPLE | X3: 43528 | Y3: NO PRESENTA | Z3: CUMPLE | AA3: CUMPLE | AB3: CUMPLE | AC3: OMICRON DEL LLANO S.A.S | AD3: =VLOOKUP($A3,Cierre!$A:$K,7,FALSE) -> NACIONAL DE SEGUROS S.A. | AE3: =VLOOKUP($A3,Cierre!$A:$K,8,FALSE) -> 400016054 | AF3: =VLOOKUP($A3,Cierre!$A:$K,9,FALSE) -> 1.0466321e+09 | AG3: =VLOOKUP($A3,Cierre!$A:$K,10,FALSE) -> 43552 | AH3: =VLOOKUP($A3,Cierre!$A:$K,11,FALSE) -> 43676 | AI3: CUMPLE | AJ3: CUMPLE | AK3: CUMPLE | AL3: CONSULTADOS ENTIDAD | AM3: CONSULTADOS ENTIDAD | AN3: CUMPLE | AO3: CUMPLE | AP3: CUMPLE | AQ3: N/A | AR3: CUMPLE | AS3: CUMPLE | AT3: CUMPLE | AU3: CUMPLE | AV3: NO PRESENTÓ | AW3: HÁBIL | AX3: De conformidad con el artículo 2.2.1.1.1.5.1 del Decreto 1082 de 2015 y el pliego de condiciones definitivo, deberá aportar RUP en el cual se evidencie el registro de actualización de dicho documento antes del 5 de abril de 2019
A4: 2 | B4: =IFERROR(VLOOKUP($A4,Cierre!$A:$K,2,FALSE),"") -> CONSORCIO PRITA | C4: PRESENTA | D4: =IFERROR(VLOOKUP($A4,Cierre!$A:$K,3,FALSE),"") -> CESAR AUGUSTO TABARES RAMÍREZ | E4: NA | F4: 2520249184CND | G4: PRESENTA | H4: 43549 | I4: PRESENTA | J4: C | K4: CUMPLE | L4: CESAR AUGUSTO TABARES RAMÍREZ | M4: 0.7 | N4: N/A | O4: N/A | P4: N/A | Q4: N/A | R4: N/A | S4: N/A | T4: N/A | U4: N/A | V4: PRESENTA | W4: CUMPLE | X4: 43537 | Y4: NO PRESENTA | Z4: CUMPLE | AA4: CUMPLE | AB4: CUMPLE | AC4: CONSORCIO PRITA | AD4: =VLOOKUP($A4,Cierre!$A:$K,7,FALSE) -> SEGUROS DEL ESTADO S.A. | AE4: =VLOOKUP($A4,Cierre!$A:$K,8,FALSE) -> 42-44-101115430 | AF4: =VLOOKUP($A4,Cierre!$A:$K,9,FALSE) -> 145588613 | AG4: =VLOOKUP($A4,Cierre!$A:$K,10,FALSE) -> 43552 | AH4: =VLOOKUP($A4,Cierre!$A:$K,11,FALSE) -> 43705 | AI4: CUMPLE | AJ4: CUMPLE | AK4: CUMPLE | AL4: CONSULTADOS ENTIDAD | AM4: CONSULTADOS ENTIDAD | AN4: CUMPLE | AO4: NO CUMPLE | AP4: CUMPLE | AQ4: N/A | AR4: CUMPLE | AS4: CUMPLE | AT4: NO CUMPLE | AU4: NO CUMPLE | AV4: PRESENTO | AW4: SUBSANAR | AX4: Ajustar el compromiso anticorrupción en cuanto a la fecha. - Faltan la tarjeta profesional del contador Y el certificado de la junta central de contadores de otoniel pinilla. - De conformidad con el artículo del Decreto 1082 de 2015 y el pliego de condiciones definitivo, deberá aportar RUP en el cual se evidencie el registro de actualización de dicho documento antes del 5 de abril de 2019.
D5: =VLOOKUP($A5,Cierre!#REF!,6,FALSE) -> #REF! | L5: JORGE FERNANDO PRIETO MUÑOZ | M5: 0.3 | N5: N/A | O5: N/A | P5: N/A | Q5: N/A | R5: N/A | S5: N/A | T5: N/A | U5: N/A | V5: PRESENTA | W5: CUMPLE | X5: 43537 | Y5: NO PRESENTA | Z5: CUMPLE | AA5: CUMPLE | AD5: =VLOOKUP($A5,Cierre!#REF!,7,FALSE) -> #REF! | AE5: =VLOOKUP($A5,Cierre!#REF!,7,FALSE) -> #REF! | AG5: =VLOOKUP($A5,Cierre!#REF!,7,FALSE) -> #REF! | AH5: =VLOOKUP($A5,Cierre!#REF!,7,FALSE) -> #REF! | AJ5: CUMPLE | AK5: CUMPLE | AL5: CONSULTADOS ENTIDAD | AM5: CONSULTADOS ENTIDAD | AN5: CUMPLE | AP5: CUMPLE | AQ5: N/A | AR5: CUMPLE | AS5: CUMPLE | AT5: CUMPLE | AU5: CUMPLE
A6: 3 | B6: =IFERROR(VLOOKUP($A6,Cierre!$A:$K,2,FALSE),"") -> GRUPO S Y C S.A.S. | C6: PRESENTA | D6: =IFERROR(VLOOKUP($A6,Cierre!$A:$K,3,FALSE),"") -> OSCAR DAVID VILLEGAS SERNA | E6: NA | F6: 05202184285ANT | G6: PRESENTA | H6: 43374 | I6: N/A | J6: I | K6: N/A | L6: N/A | M6: 1 | N6: SI | O6: 43551 | P6: Medellin | Q6: CUMPLE | R6: CUMPLE | S6: =IFERROR(VLOOKUP($A6,Cierre!$A:$K,3,FALSE),"") -> OSCAR DAVID VILLEGAS SERNA | T6: N/A | U6: N/A | V6: PRESENTA | W6: CUMPLE | X6: 43551 | Y6: NO PRESENTA | Z6: CUMPLE | AA6: CUMPLE | AB6: CUMPLE | AC6: =IFERROR(VLOOKUP($A6,Cierre!$A:$K,2,FALSE),"") -> GRUPO S Y C S.A.S. | AD6: =VLOOKUP($A6,Cierre!$A:$K,7,FALSE) -> SEGUROS MUNDIAL | AE6: =VLOOKUP($A6,Cierre!$A:$K,8,FALSE) -> 100095905 | AF6: =VLOOKUP($A6,Cierre!$A:$K,9,FALSE) -> 1.0466321e+09 | AG6: =VLOOKUP($A6,Cierre!$A:$K,10,FALSE) -> 43552 | AH6: =VLOOKUP($A6,Cierre!$A:$K,11,FALSE) -> 43705 | AI6: CUMPLE | AJ6: CONSULTADOS ENTIDAD | AK6: CONSULTADOS ENTIDAD | AL6: CONSULTADOS ENTIDAD | AM6: CONSULTADOS ENTIDAD | AN6: CUMPLE | AO6: CUMPLE | AP6: CUMPLE | AQ6: NO CUMPLE | AR6: CUMPLE | AS6: CUMPLE | AT6: CUMPLE | AU6: CUMPLE | AV6: PRESNETO | AW6: SUBSANAR | AX6: Aportar la libreta militar del representante legal
A7: 4 | B7: =IFERROR(VLOOKUP($A7,Cierre!$A:$K,2,FALSE),"") -> CONSORCIO PBA CALDAS | C7: PRESENTA | D7: =IFERROR(VLOOKUP($A7,Cierre!$A:$K,3,FALSE),"") -> NELSÓN MORENO ÁLVAREZ | E7: NA | F7: 1720220227CLD | G7: PRESENTA | H7: 43507 | I7: PRESENTA | J7: C | K7: NO CUMPLE | L7: FUNSIÓN INGENIERÍA S.A.S. | M7: 0.5 | N7: SI | O7: 43523 | P7: Manizales | Q7: CUMPLE | R7: CUMPLE | S7: JUAN SEBASTIAN GÓMEZ CASTAÑO | T7: N/A | U7: N/A | V7: PRESENTA | W7: CUMPLE | X7: 43535 | Y7: NO PRESENTA | Z7: CUMPLE | AA7: CUMPLE | AB7: CUMPLE | AC7: =IFERROR(VLOOKUP($A7,Cierre!$A:$K,2,FALSE),"") -> CONSORCIO PBA CALDAS | AD7: =VLOOKUP($A7,Cierre!$A:$K,7,FALSE) -> SEGUROS DEL ESTADO S.A. | AE7: =VLOOKUP($A7,Cierre!$A:$K,8,FALSE) -> 42-44-101115475 | AF7: =SUM(Cierre!I6:I23) -> 8.8321149e+08 | AG7: =VLOOKUP($A7,Cierre!$A:$K,10,FALSE) -> 43551 | AH7: =VLOOKUP($A7,Cierre!$A:$K,11,FALSE) -> 43643 | AI7: CUMPLE | AJ7: CUMPLE | AK7: CUMPLE | AL7: CONSULTADOS ENTIDAD | AM7: CONSULTADOS ENTIDAD | AN7: CUMPLE | AO7: CUMPLE | AP7: CUMPLE | AQ7: NO CUMPLE | AR7: CUMPLE | AS7: CUMPLE | AT7: CUMPLE | AU7: CUMPLE | AV7: NO PRESENTÓ | AW7: SUBSANAR | AX7: La duración del consorcio es inferior a la solicitada en los pliegos de condiciones, - Aportar la libreta militar de Juan Sebastian Gómez. - La vigencia de la garnatía de seriedad de la oferta es iferior a la solicitada en el pliego de condiciones. - De conformidad con el artículo 2.2.1.1.1.5.1 del Decreto 1082 de 2015 y el pliego de condiciones definitivo, deberán aportar RUP en el cual se evidencie el registro de actualización de dicho documento antes del 5 de abril de 2019.
D8: =VLOOKUP($A8,Cierre!#REF!,6,FALSE) -> #REF! | L8: NELSÓN MORENO ÁLVAREZ | M8: 0.5 | N8: N/A | O8: N/A | P8: N/A | Q8: N/A | R8: N/A | S8: N/A | T8: N/A | U8: N/A | V8: PRESENTA | W8: CUMPLE | X8: 43532 | Y8: NO PRESENTA | Z8: CUMPLE | AA8: CUMPLE | AD8: =VLOOKUP($A8,Cierre!#REF!,7,FALSE) -> #REF! | AE8: =VLOOKUP($A8,Cierre!#REF!,7,FALSE) -> #REF! | AG8: =VLOOKUP($A8,Cierre!#REF!,7,FALSE) -> #REF! | AH8: =VLOOKUP($A8,Cierre!#REF!,7,FALSE) -> #REF! | AJ8: CUMPLE | AK8: CUMPLE | AL8: CONSULTADOS ENTIDAD | AM8: CONSULTADOS ENTIDAD | AN8: CUMPLE | AP8: CUMPLE | AQ8: N/A | AR8: CUMPLE | AS8: CUMPLE | AT8: CUMPLE | AU8: CUMPLE

Sheet Capacidad Financiera
A1: No. | B1: Proponente | C1: Conformación consorcial | D1: % participación | E1: Información Financiera | K1: CAPACIDAD FINANCIERA | Y1: CAPACIDAD ORGANIZACIONAL | AA1: Observaciones | AB1: CAPACIDAD FINANCIERA | AC1: CAPACIDAD ORGANIZACIONAL
E2: Activo Corriente | F2: Activo Total | G2: Pasivo Corriente | H2: Pasivo Total | I2: Utilidad operacional | J2: Gastos de intereses | K2: CAPITAL DE TRABAJO M1 | L2: CAPITAL DE TRABAJO M2 | M2: CAPITAL DE TRABAJO M3 | N2: CAPITAL DE TRABAJO M4 | O2: CAPITAL DE TRABAJO M5 | P2: CAPITAL DE TRABAJO M6 | Q2: CAPITAL DE TRABAJO M7 | R2: CAPITAL DE TRABAJO M8 | S2: CAPITAL DE TRABAJO M9 | T2: CAPITAL DE TRABAJO M10 | U2: LIQUIDEZ | V2: NIVEL DE ENDEUDAMIENTO | W2: RAZON DE COBERTURA DE INTERESES | X2: PATRIMONIO | Y2: RENTABILIDAD SOBRE PATRIMONIO | Z2: RENTABILIDAD SOBRE ACTIVOS
A3: 1 | B3: =IFERROR(VLOOKUP($A3,Cierre!$A:$K,2,FALSE),"") -> OMICRON DEL LLANO S.A.S. | C3: N/A | D3: 1 | E3: 37020497000 | F3: 40363897000 | G3: 1250400000 | H3: 2321005000 | I3: 19479539000 | J3: 10249000 | K3: =$E3-$G3 -> 35770097000 | L3: =$E3-$G3 -> 35770097000 | M3: =$E3-$G3 -> 35770097000 | N3: =$E3-$G3 -> 35770097000 | O3: =$E3-$G3 -> 35770097000 | P3: =$E3-$G3 -> 35770097000 | Q3: =$E3-$G3 -> 35770097000 | R3: =$E3-$G3 -> 35770097000 | ... T3: =$E3-$G3 -> 35770097000 | U3: =IFERROR((E3*D3)/(G3*D3),0) -> 29.606923 | V3: =IFERROR((H3*D3)/(F3*D3),0) -> 0.057502005 | W3: =IFERROR((I3*D3)/(J3*D3),0) -> 1900.6283 | X3: =F3-H3 -> 38042892000 | Y3: =IFERROR((I3*D3)/(X3*D3),0) -> 0.51204149 | Z3: =IFERROR((I3*D3)/(F3*D3),0) -> 0.48259808
A4: 2 | B4: =IFERROR(VLOOKUP($A4,Cierre!$A:$K,2,FALSE),"") -> CONSORCIO PRITA | C4: CESAR AUGUSTO TABARES RAMÍREZ | D4: 0.7 | E4: 490000000 | F4: 980000000 | G4: 1168000 | H4: 70813000 | I4: 34185000 | J4: 13637000 | K4: N/A | L4: N/A | M4: N/A | N4: N/A | O4: N/A | P4: N/A | Q4: N/A | R4: N/A | S4: =($E4-$G4)+($E5-$G5) -> 1308038253 | T4: =($E4-$G4)+($E5-$G5) -> 1308038253 | U4: =IFERROR(((E4*D4)+(E5*D5))/((G4*D4)+(G5*D5)),0) -> 245.41861 | V4: =IFERROR(((H4*D4)+(H5*D5))/((F4*D4)+(F5*D5)),0) -> 0.10484455 | W4: =IFERROR(((I4*D4)+(I5*D5))/((J4*D4)+(J5*D5)),0) -> 12.234274 | X4: =F4-H4 -> 909187000 | Y4: =IFERROR(((I4*D4)+(I5*D5))/((X4*D4)+(X5*D5)),0) -> 0.14366058 | Z4: =IFERROR(((I4*D4)+(I5*D5))/((F4*D4)+(F5*D5)),0) -> 0.12859855
B5: =IFERROR(VLOOKUP($A4,Cierre!$A:$K,2,FALSE),"") -> CONSORCIO PRITA | C5: JORGE FERNANDO PRIETO MUÑOZ | D5: 0.3 | E5: 824499189 | F5: 1146534836 | G5: 5292936 | H5: 194722147 | I5: 361739739 | J5: 4267865 | X5: =F5-H5 -> 951812689
A6: 3 | B6: =IFERROR(VLOOKUP($A6,Cierre!$A:$K,2,FALSE),"") -> GRUPO S Y C S.A.S. | C6: N/A | D6: 1 | E6: 11948098182 | F6: 24200500314 | G6: 280709338 | H6: 6051707658 | I6: 3091839494 | J6: 303843094 | K6: =$E6-$G6 -> 11667388844 | L6: =$E6-$G6 -> 11667388844 | M6: =$E6-$G6 -> 11667388844 | N6: =$E6-$G6 -> 11667388844 | O6: =$E6-$G6 -> 11667388844 | P6: =$E6-$G6 -> 11667388844 | Q6: =$E6-$G6 -> 11667388844 | R6: =$E6-$G6 -> 11667388844 | ... T6: =$E6-$G6 -> 11667388844 | U6: =IFERROR((E6*D6)/(G6*D6),0) -> 42.56395 | V6: =IFERROR((H6*D6)/(F6*D6),0) -> 0.25006539 | W6: =IFERROR((I6*D6)/(J6*D6),0) -> 10.175777 | X6: =F6-H6 -> 18148792656 | Y6: =IFERROR((I6*D6)/(X6*D6),0) -> 0.17036062 | Z6: =IFERROR((I6*D6)/(F6*D6),0) -> 0.12775932
A7: 4 | B7: =IFERROR(VLOOKUP($A7,Cierre!$A:$K,2,FALSE),"") -> CONSORCIO PBA CALDAS | C7: FUNSIÓN INGENIERÍA S.A.S. | D7: 0.5 | E7: 207699718 | F7: 308604718 | G7: 179410464 | H7: 179410464 | I7: 99713254 | J7: 0 | K7: N/A | L7: =($E7-$G7)+($E8-$G8) -> 1194937710 | M7: =($E7-$G7)+($E8-$G8) -> 1194937710 | N7: =($E7-$G7)+($E8-$G8) -> 1194937710 | O7: =($E7-$G7)+($E8-$G8) -> 1194937710 | P7: =($E7-$G7)+($E8-$G8) -> 1194937710 | Q7: =($E7-$G7)+($E8-$G8) -> 1194937710 | R7: =($E7-$G7)+($E8-$G8) -> 1194937710 | S7: =($E7-$G7)+($E8-$G8) -> 1194937710 | T7: =($E7-$G7)+($E8-$G8) -> 1194937710 | U7: =IFERROR(((E7*D7)+(E8*D8))/((G7*D7)+(G8*D8)),0) -> 7.0555287 | V7: =IFERROR(((H7*D7)+(H8*D8))/((F7*D7)+(F8*D8)),0) -> 0.2030894 | W7: =IFERROR(((I7*D7)+(I8*D8))/((J7*D7)+(J8*D8)),0) -> 2130.6188 | X7: =F7-H7 -> 129194254 | Y7: =IFERROR(((I7*D7)+(I8*D8))/((X7*D7)+(X8*D8)),0) -> 0.20400794 | Z7: =IFERROR(((I7*D7)+(I8*D8))/((F7*D7)+(F8*D8)),0) -> 0.16257609
B8: =IFERROR(VLOOKUP($A7,Cierre!$A:$K,2,FALSE),"") -> CONSORCIO PBA CALDAS | C8: NELSÓN MORENO ÁLVAREZ | D8: 0.5 | E8: 1184568031 | F8: 1719450336 | G8: 17919575 | H8: 232466021 | I8: 230000000 | J8: 154750 | X8: =F8-H8 -> 1486984315

Sheet Experiencia
A1: No. | B1: PROPONENTE | C1: NOMBRE | D1: CONTRATANTE | E1: CONTRATO No. | F1: I, C, UT | G1: % (1) | H1: INICIACIÓN (DD/MM/AA) | I1: TERMINACIÓN (DD/MM/AA) | J1: SUSPENSIÓN (MESES) | K1: PLAZO DE EJECUCIÓN (MESES) (2) | L1: VALOR TOTAL DEL CONTRATO INCLUIDAS SUS ADICIONES, AJUSTES Y EL IVA (3) | M1: VALOR TOTAL DEL CONTRATO A CONSIDERAR COMO EXPERIENCIA (4) = (3)*(1) | N1: VALOR FACTURADO ACTUALIZADO SMMLV (VFA) | O1: PROMEDIO DE FACTURACIÓN MENSUAL (PFMi) | P1: VALOR TOTAL EJECUTADO (VTEi) | R1: Suspensión 1 | T1: Suspensión 2 | V1: Suspensión 3 | X1: Suspensión 4 | Z1: Suspensión 5 | AB1: Suspensión 6
A2: 1 | B2: =IFERROR(VLOOKUP(A2,Cierre!A:K,2,FALSE),"") -> OMICRON DEL LLANO S.A.S. | C2: OMICRON DEL LLANO S.A.S. | D2: ALBERTO CRUZ ROMERO | E2: 004-2009 | F2: I | G2: 1 | H2: 39895 | I2: 40017 | J2: =AD2+AE2+AF2+AG2+AH2+AI2 -> 0 | K2: =IF(H2="",0,ROUND(((((I2-H2)+1)/360)*12)-J2,1)) -> 4.1 | M2: =ROUND(L2*G2,0) -> 0 | N2: =IF(H2="","",ROUND(M2/VLOOKUP(YEAR(H2),SMMLV!$A$2:$B$40,2,FALSE),1)) -> 0 | O2: =IFERROR(ROUND(N2/K2,2),"") -> 0 | P2: =N2 -> 0 | AD2: =IF(R2="",0,ROUND((((S2-R2)+1)/30),3)) -> 0 | AE2: =IF(T2="",0,ROUND((((U2-T2)+1)/30),3)) -> 0 | AF2: =IF(V2="",0,ROUND((((W2-V2)+1)/30),3)) -> 0 | AG2: =IF(X2="",0,ROUND((((Y2-X2)+1)/30),3)) -> 0 | AH2: =IF(Z2="",0,ROUND((((AA2-Z2)+1)/30),3)) -> 0 | AI2: =IF(AB2="",0,ROUND((((AC2-AB2)+1)/30),3)) -> 0
A3: 2 | B3: =IFERROR(VLOOKUP(A3,Cierre!A:K,2,FALSE),"") -> CONSORCIO PRITA | C3: JORGE FERNANDO PRIETO MUÑOZ | D3: GOBERNACIÓN DE ANTIOQUIA | E3: 4600004656 | F3: C | G3: 0.5 | H3: 42291 | I3: 42368 | J3: =AD3+AE3+AF3+AG3+AH3+AI3 -> 0 | K3: =IF(H3="",0,ROUND(((((I3-H3)+1)/360)*12)-J3,1)) -> 2.6 | L3: 392507799 | M3: =ROUND(L3*G3,0) -> 196253900 | N3: =IF(H3="","",ROUND(M3/VLOOKUP(YEAR(H3),SMMLV!$A$2:$B$40,2,FALSE),1)) -> 304.6 | O3: =IFERROR(ROUND(N3/K3,2),"") -> 117.15 | P3: =N3 -> 304.6 | AD3: =IF(R3="",0,ROUND((((S3-R3)+1)/30),3)) -> 0 | AE3: =IF(T3="",0,ROUND((((U3-T3)+1)/30),3)) -> 0 | AF3: =IF(V3="",0,ROUND((((W3-V3)+1)/30),3)) -> 0 | AG3: =IF(X3="",0,ROUND((((Y3-X3)+1)/30),3)) -> 0 | AH3: =IF(Z3="",0,ROUND((((AA3-Z3)+1)/30),3)) -> 0 | AI3: =IF(AB3="",0,ROUND((((AC3-AB3)+1)/30),3)) -> 0
A4: 2 | B4: =IFERROR(VLOOKUP(A4,Cierre!A:K,2,FALSE),"") -> CONSORCIO PRITA | C4: JORGE FERNANDO PRIETO MUÑOZ | D4: GOBERNACIÓN DE ANTIOQUIA | E4: 4600004660 | F4: C | G4: 0.5 | H4: 42291 | I4: 42368 | J4: =AD4+AE4+AF4+AG4+AH4+AI4 -> 0 | K4: =IF(H4="",0,ROUND(((((I4-H4)+1)/360)*12)-J4,1)) -> 2.6 | L4: 208714000 | M4: =ROUND(L4*G4,0) -> 104357000 | N4: =IF(H4="","",ROUND(M4/VLOOKUP(YEAR(H4),SMMLV!$A$2:$B$40,2,FALSE),1)) -> 162 | O4: =IFERROR(ROUND(N4/K4,2),"") -> 62.31 | P4: =N4 -> 162 | AD4: =IF(R4="",0,ROUND((((S4-R4)+1)/30),3)) -> 0 | AE4: =IF(T4="",0,ROUND((((U4-T4)+1)/30),3)) -> 0 | AF4: =IF(V4="",0,ROUND((((W4-V4)+1)/30),3)) -> 0 | AG4: =IF(X4="",0,ROUND((((Y4-X4)+1)/30),3)) -> 0 | AH4: =IF(Z4="",0,ROUND((((AA4-Z4)+1)/30),3)) -> 0 | AI4: =IF(AB4="",0,ROUND((((AC4-AB4)+1)/30),3)) -> 0
A5: 3 | B5: =IFERROR(VLOOKUP(A5,Cierre!A:K,2,FALSE),"") -> GRUPO S Y C S.A.S. | C5: GRUPO S Y C S.A.S. | D5: ALCALDÍA DE EBÉJICO | E5: 001-2016 | F5: I | G5: 1 | H5: 42800 | I5: 43015 | J5: =AD5+AE5+AF5+AG5+AH5+AI5 -> 0 | K5: =IF(H5="",0,ROUND(((((I5-H5)+1)/360)*12)-J5,1)) -> 7.2 | L5: 1924589513 | M5: =ROUND(L5*G5,0) -> 1924589513 | N5: =IF(H5="","",ROUND(M5/VLOOKUP(YEAR(H5),SMMLV!$A$2:$B$40,2,FALSE),1)) -> 2608.8 | O5: =IFERROR(ROUND(N5/K5,2),"") -> 362.33 | P5: =N5 -> 2608.8 | AD5: =IF(R5="",0,ROUND((((S5-R5)+1)/30),3)) -> 0 | AE5: =IF(T5="",0,ROUND((((U5-T5)+1)/30),3)) -> 0 | AF5: =IF(V5="",0,ROUND((((W5-V5)+1)/30),3)) -> 0 | AG5: =IF(X5="",0,ROUND((((Y5-X5)+1)/30),3)) -> 0 | AH5: =IF(Z5="",0,ROUND((((AA5-Z5)+1)/30),3)) -> 0 | AI5: =IF(AB5="",0,ROUND((((AC5-AB5)+1)/30),3)) -> 0
A6: 4 | B6: =IFERROR(VLOOKUP(A6,Cierre!A:K,2,FALSE),"") -> CONSORCIO PBA CALDAS | C6: FUNSIÓN INGENIERÍA S.A.S. | D6: ALCALDÍA DE PÁCORA | E6: LP-001-2017 | F6: I | G6: 1 | H6: 42963 | I6: 43097 | J6: =AD6+AE6+AF6+AG6+AH6+AI6 -> 0 | K6: =IF(H6="",0,ROUND(((((I6-H6)+1)/360)*12)-J6,1)) -> 4.5 | L6: 680298360 | M6: =ROUND(L6*G6,0) -> 680298360 | N6: =IF(H6="","",ROUND(M6/VLOOKUP(YEAR(H6),SMMLV!$A$2:$B$40,2,FALSE),1)) -> 922.2 | O6: =IFERROR(ROUND(N6/K6,2),"") -> 204.93 | P6: =N6 -> 922.2 | AD6: =IF(R6="",0,ROUND((((S6-R6)+1)/30),3)) -> 0 | AE6: =IF(T6="",0,ROUND((((U6-T6)+1)/30),3)) -> 0 | AF6: =IF(V6="",0,ROUND((((W6-V6)+1)/30),3)) -> 0 | AG6: =IF(X6="",0,ROUND((((Y6-X6)+1)/30),3)) -> 0 | AH6: =IF(Z6="",0,ROUND((((AA6-Z6)+1)/30),3)) -> 0 | AI6: =IF(AB6="",0,ROUND((((AC6-AB6)+1)/30),3)) -> 0
A7: 4 | B7: =IFERROR(VLOOKUP(A7,Cierre!A:K,2,FALSE),"") -> CONSORCIO PBA CALDAS | C7: FUNSIÓN INGENIERÍA S.A.S. | D7: MULTIALEMENTOS | E7: 02-2018 | F7: I | G7: 1 | H7: 43215 | I7: 43271 | J7: =AD7+AE7+AF7+AG7+AH7+AI7 -> 0 | K7: =IF(H7="",0,ROUND(((((I7-H7)+1)/360)*12)-J7,1)) -> 1.9 | L7: 432260034 | M7: =ROUND(L7*G7,0) -> 432260034 | N7: =IF(H7="","",ROUND(M7/VLOOKUP(YEAR(H7),SMMLV!$A$2:$B$40,2,FALSE),1)) -> 553.3 | O7: =IFERROR(ROUND(N7/K7,2),"") -> 291.21 | P7: =N7 -> 553.3 | AD7: =IF(R7="",0,ROUND((((S7-R7)+1)/30),3)) -> 0 | AE7: =IF(T7="",0,ROUND((((U7-T7)+1)/30),3)) -> 0 | AF7: =IF(V7="",0,ROUND((((W7-V7)+1)/30),3)) -> 0 | AG7: =IF(X7="",0,ROUND((((Y7-X7)+1)/30),3)) -> 0 | AH7: =IF(Z7="",0,ROUND((((AA7-Z7)+1)/30),3)) -> 0 | AI7: =IF(AB7="",0,ROUND((((AC7-AB7)+1)/30),3)) -> 0
B8: =IFERROR(VLOOKUP(A8,Cierre!A:K,2,FALSE),"") | J8: =AD8+AE8+AF8+AG8+AH8+AI8 -> 0 | K8: =IF(H8="",0,ROUND(((((I8-H8)+1)/360)*12)-J8,1)) -> 0 | M8: =ROUND(L8*G8,0) -> 0 | N8: =IF(H8="","",ROUND(M8/VLOOKUP(YEAR(H8),SMMLV!$A$2:$B$40,2,FALSE),1)) | O8: =IFERROR(ROUND(N8/K8,2),"") | P8: =N8 | AD8: =IF(R8="",0,ROUND((((S8-R8)+1)/30),3)) -> 0 | AE8: =IF(T8="",0,ROUND((((U8-T8)+1)/30),3)) -> 0 | AF8: =IF(V8="",0,ROUND((((W8-V8)+1)/30),3)) -> 0 | AG8: =IF(X8="",0,ROUND((((Y8-X8)+1)/30),3)) -> 0 | AH8: =IF(Z8="",0,ROUND((((AA8-Z8)+1)/30),3)) -> 0 | AI8: =IF(AB8="",0,ROUND((((AC8-AB8)+1)/30),3)) -> 0
B9: =IFERROR(VLOOKUP(A9,Cierre!A:K,2,FALSE),"") | J9: =AD9+AE9+AF9+AG9+AH9+AI9 -> 0 | K9: =IF(H9="",0,ROUND(((((I9-H9)+1)/360)*12)-J9,1)) -> 0 | M9: =ROUND(L9*G9,0) -> 0 | N9: =IF(H9="","",ROUND(M9/VLOOKUP(YEAR(H9),SMMLV!$A$2:$B$40,2,FALSE),1)) | O9: =IFERROR(ROUND(N9/K9,2),"") | P9: =N9 | AD9: =IF(R9="",0,ROUND((((S9-R9)+1)/30),3)) -> 0 | AE9: =IF(T9="",0,ROUND((((U9-T9)+1)/30),3)) -> 0 | AF9: =IF(V9="",0,ROUND((((W9-V9)+1)/30),3)) -> 0 | AG9: =IF(X9="",0,ROUND((((Y9-X9)+1)/30),3)) -> 0 | AH9: =IF(Z9="",0,ROUND((((AA9-Z9)+1)/30),3)) -> 0 | AI9: =IF(AB9="",0,ROUND((((AC9-AB9)+1)/30),3)) -> 0
B10: =IFERROR(VLOOKUP(A10,Cierre!A:K,2,FALSE),"") | J10: =AD10+AE10+AF10+AG10+AH10+AI10 -> 0 | K10: =IF(H10="",0,ROUND(((((I10-H10)+1)/360)*12)-J10,1)) -> 0 | M10: =ROUND(L10*G10,0) -> 0 | N10: =IF(H10="","",ROUND(M10/VLOOKUP(YEAR(H10),SMMLV!$A$2:$B$40,2,FALSE),1)) | O10: =IFERROR(ROUND(N10/K10,2),"") | P10: =N10 | AD10: =IF(R10="",0,ROUND((((S10-R10)+1)/30),3)) -> 0 | AE10: =IF(T10="",0,ROUND((((U10-T10)+1)/30),3)) -> 0 | AF10: =IF(V10="",0,ROUND((((W10-V10)+1)/30),3)) -> 0 | AG10: =IF(X10="",0,ROUND((((Y10-X10)+1)/30),3)) -> 0 | AH10: =IF(Z10="",0,ROUND((((AA10-Z10)+1)/30),3)) -> 0 | AI10: =IF(AB10="",0,ROUND((((AC10-AB10)+1)/30),3)) -> 0
B11: =IFERROR(VLOOKUP(A11,Cierre!A:K,2,FALSE),"") | J11: =AD11+AE11+AF11+AG11+AH11+AI11 -> 0 | K11: =IF(H11="",0,ROUND(((((I11-H11)+1)/360)*12)-J11,1)) -> 0 | M11: =ROUND(L11*G11,0) -> 0 | N11: =IF(H11="","",ROUND(M11/VLOOKUP(YEAR(H11),SMMLV!$A$2:$B$40,2,FALSE),1)) | O11: =IFERROR(ROUND(N11/K11,2),"") | P11: =N11 | AD11: =IF(R11="",0,ROUND((((S11-R11)+1)/30),3)) -> 0 | AE11: =IF(T11="",0,ROUND((((U11-T11)+1)/30),3)) -> 0 | AF11: =IF(V11="",0,ROUND((((W11-V11)+1)/30),3)) -> 0 | AG11: =IF(X11="",0,ROUND((((Y11-X11)+1)/30),3)) -> 0 | AH11: =IF(Z11="",0,ROUND((((AA11-Z11)+1)/30),3)) -> 0 | AI11: =IF(AB11="",0,ROUND((((AC11-AB11)+1)/30),3)) -> 0
B12: =IFERROR(VLOOKUP(A12,Cierre!A:K,2,FALSE),"") | J12: =AD12+AE12+AF12+AG12+AH12+AI12 -> 0 | K12: =IF(H12="",0,ROUND(((((I12-H12)+1)/360)*12)-J12,1)) -> 0 | M12: =ROUND(L12*G12,0) -> 0 | N12: =IF(H12="","",ROUND(M12/VLOOKUP(YEAR(H12),SMMLV!$A$2:$B$40,2,FALSE),1)) | O12: =IFERROR(ROUND(N12/K12,2),"") | P12: =N12 | AD12: =IF(R12="",0,ROUND((((S12-R12)+1)/30),3)) -> 0 | AE12: =IF(T12="",0,ROUND((((U12-T12)+1)/30),3)) -> 0 | AF12: =IF(V12="",0,ROUND((((W12-V12)+1)/30),3)) -> 0 | AG12: =IF(X12="",0,ROUND((((Y12-X12)+1)/30),3)) -> 0 | AH12: =IF(Z12="",0,ROUND((((AA12-Z12)+1)/30),3)) -> 0 | AI12: =IF(AB12="",0,ROUND((((AC12-AB12)+1)/30),3)) -> 0
B13: =IFERROR(VLOOKUP(A13,Cierre!A:K,2,FALSE),"") | J13: =AD13+AE13+AF13+AG13+AH13+AI13 -> 0 | K13: =IF(H13="",0,ROUND(((((I13-H13)+1)/360)*12)-J13,1)) -> 0 | M13: =ROUND(L13*G13,0) -> 0 | N13: =IF(H13="","",ROUND(M13/VLOOKUP(YEAR(H13),SMMLV!$A$2:$B$40,2,FALSE),1)) | O13: =IFERROR(ROUND(N13/K13,2),"") | P13: =N13 | AD13: =IF(R13="",0,ROUND((((S13-R13)+1)/30),3)) -> 0 | AE13: =IF(T13="",0,ROUND((((U13-T13)+1)/30),3)) -> 0 | AF13: =IF(V13="",0,ROUND((((W13-V13)+1)/30),3)) -> 0 | AG13: =IF(X13="",0,ROUND((((Y13-X13)+1)/30),3)) -> 0 | AH13: =IF(Z13="",0,ROUND((((AA13-Z13)+1)/30),3)) -> 0 | AI13: =IF(AB13="",0,ROUND((((AC13-AB13)+1)/30),3)) -> 0
B14: =IFERROR(VLOOKUP(A14,Cierre!A:K,2,FALSE),"") | J14: =AD14+AE14+AF14+AG14+AH14+AI14 -> 0 | K14: =IF(H14="",0,ROUND(((((I14-H14)+1)/360)*12)-J14,1)) -> 0 | M14: =ROUND(L14*G14,0) -> 0 | N14: =IF(H14="","",ROUND(M14/VLOOKUP(YEAR(H14),SMMLV!$A$2:$B$40,2,FALSE),1)) | O14: =IFERROR(ROUND(N14/K14,2),"") | P14: =N14 | AD14: =IF(R14="",0,ROUND((((S14-R14)+1)/30),3)) -> 0 | AE14: =IF(T14="",0,ROUND((((U14-T14)+1)/30),3)) -> 0 | AF14: =IF(V14="",0,ROUND((((W14-V14)+1)/30),3)) -> 0 | AG14: =IF(X14="",0,ROUND((((Y14-X14)+1)/30),3)) -> 0 | AH14: =IF(Z14="",0,ROUND((((AA14-Z14)+1)/30),3)) -> 0 | AI14: =IF(AB14="",0,ROUND((((AC14-AB14)+1)/30),3)) -> 0
B15: =IFERROR(VLOOKUP(A15,Cierre!A:K,2,FALSE),"") | J15: =AD15+AE15+AF15+AG15+AH15+AI15 -> 0 | K15: =IF(H15="",0,ROUND(((((I15-H15)+1)/360)*12)-J15,1)) -> 0 | M15: =ROUND(L15*G15,0) -> 0 | N15: =IF(H15="","",ROUND(M15/VLOOKUP(YEAR(H15),SMMLV!$A$2:$B$40,2,FALSE),1)) | O15: =IFERROR(ROUND(N15/K15,2),"") | P15: =N15 | AD15: =IF(R15="",0,ROUND((((S15-R15)+1)/30),3)) -> 0 | AE15: =IF(T15="",0,ROUND((((U15-T15)+1)/30),3)) -> 0 | AF15: =IF(V15="",0,ROUND((((W15-V15)+1)/30),3)) -> 0 | AG15: =IF(X15="",0,ROUND((((Y15-X15)+1)/30),3)) -> 0 | AH15: =IF(Z15="",0,ROUND((((AA15-Z15)+1)/30),3)) -> 0 | AI15: =IF(AB15="",0,ROUND((((AC15-AB15)+1)/30),3)) -> 0
B16: =IFERROR(VLOOKUP(A16,Cierre!A:K,2,FALSE),"") | J16: =AD16+AE16+AF16+AG16+AH16+AI16 -> 0 | K16: =IF(H16="",0,ROUND(((((I16-H16)+1)/360)*12)-J16,1)) -> 0 | M16: =ROUND(L16*G16,0) -> 0 | N16: =IF(H16="","",ROUND(M16/VLOOKUP(YEAR(H16),SMMLV!$A$2:$B$40,2,FALSE),1)) | O16: =IFERROR(ROUND(N16/K16,2),"") | P16: =N16 | AD16: =IF(R16="",0,ROUND((((S16-R16)+1)/30),3)) -> 0 | AE16: =IF(T16="",0,ROUND((((U16-T16)+1)/30),3)) -> 0 | AF16: =IF(V16="",0,ROUND((((W16-V16)+1)/30),3)) -> 0 | AG16: =IF(X16="",0,ROUND((((Y16-X16)+1)/30),3)) -> 0 | AH16: =IF(Z16="",0,ROUND((((AA16-Z16)+1)/30),3)) -> 0 | AI16: =IF(AB16="",0,ROUND((((AC16-AB16)+1)/30),3)) -> 0
B17: =IFERROR(VLOOKUP(A17,Cierre!A:K,2,FALSE),"") | J17: =AD17+AE17+AF17+AG17+AH17+AI17 -> 0 | K17: =IF(H17="",0,ROUND(((((I17-H17)+1)/360)*12)-J17,1)) -> 0 | M17: =ROUND(L17*G17,0) -> 0 | N17: =IF(H17="","",ROUND(M17/VLOOKUP(YEAR(H17),SMMLV!$A$2:$B$40,2,FALSE),1)) | O17: =IFERROR(ROUND(N17/K17,2),"") | P17: =N17 | AD17: =IF(R17="",0,ROUND((((S17-R17)+1)/30),3)) -> 0 | AE17: =IF(T17="",0,ROUND((((U17-T17)+1)/30),3)) -> 0 | AF17: =IF(V17="",0,ROUND((((W17-V17)+1)/30),3)) -> 0 | AG17: =IF(X17="",0,ROUND((((Y17-X17)+1)/30),3)) -> 0 | AH17: =IF(Z17="",0,ROUND((((AA17-Z17)+1)/30),3)) -> 0 | AI17: =IF(AB17="",0,ROUND((((AC17-AB17)+1)/30),3)) -> 0
B18: =IFERROR(VLOOKUP(A18,Cierre!A:K,2,FALSE),"") | J18: =AD18+AE18+AF18+AG18+AH18+AI18 -> 0 | K18: =IF(H18="",0,ROUND(((((I18-H18)+1)/360)*12)-J18,1)) -> 0 | M18: =ROUND(L18*G18,0) -> 0 | N18: =IF(H18="","",ROUND(M18/VLOOKUP(YEAR(H18),SMMLV!$A$2:$B$40,2,FALSE),1)) | O18: =IFERROR(ROUND(N18/K18,2),"") | P18: =N18 | AD18: =IF(R18="",0,ROUND((((S18-R18)+1)/30),3)) -> 0 | AE18: =IF(T18="",0,ROUND((((U18-T18)+1)/30),3)) -> 0 | AF18: =IF(V18="",0,ROUND((((W18-V18)+1)/30),3)) -> 0 | AG18: =IF(X18="",0,ROUND((((Y18-X18)+1)/30),3)) -> 0 | AH18: =IF(Z18="",0,ROUND((((AA18-Z18)+1)/30),3)) -> 0 | AI18: =IF(AB18="",0,ROUND((((AC18-AB18)+1)/30),3)) -> 0
B19: =IFERROR(VLOOKUP(A19,Cierre!A:K,2,FALSE),"") | J19: =AD19+AE19+AF19+AG19+AH19+AI19 -> 0 | K19: =IF(H19="",0,ROUND(((((I19-H19)+1)/360)*12)-J19,1)) -> 0 | M19: =ROUND(L19*G19,0) -> 0 | N19: =IF(H19="","",ROUND(M19/VLOOKUP(YEAR(H19),SMMLV!$A$2:$B$40,2,FALSE),1)) | O19: =IFERROR(ROUND(N19/K19,2),"") | P19: =N19 | AD19: =IF(R19="",0,ROUND((((S19-R19)+1)/30),3)) -> 0 | AE19: =IF(T19="",0,ROUND((((U19-T19)+1)/30),3)) -> 0 | AF19: =IF(V19="",0,ROUND((((W19-V19)+1)/30),3)) -> 0 | AG19: =IF(X19="",0,ROUND((((Y19-X19)+1)/30),3)) -> 0 | AH19: =IF(Z19="",0,ROUND((((AA19-Z19)+1)/30),3)) -> 0 | AI19: =IF(AB19="",0,ROUND((((AC19-AB19)+1)/30),3)) -> 0
... B298: =IFERROR(VLOOKUP(A298,Cierre!A:K,2,FALSE),"") | J298: =AD298+AE298+AF298+AG298+AH298+AI298 -> 0 | K298: =IF(H298="",0,ROUND(((((I298-H298)+1)/360)*12)-J298,1)) -> 0 | M298: =ROUND(L298*G298,0) -> 0 | N298: =IF(H298="","",ROUND(M298/VLOOKUP(YEAR(H298),SMMLV!$A$2:$B$40,2,FALSE),1)) | O298: =IFERROR(ROUND(N298/K298,2),"") | P298: =N298 | AD298: =IF(R298="",0,ROUND((((S298-R298)+1)/30),3)) -> 0 | AE298: =IF(T298="",0,ROUND((((U298-T298)+1)/30),3)) -> 0 | AF298: =IF(V298="",0,ROUND((((W298-V298)+1)/30),3)) -> 0 | AG298: =IF(X298="",0,ROUND((((Y298-X298)+1)/30),3)) -> 0 | AH298: =IF(Z298="",0,ROUND((((AA298-Z298)+1)/30),3)) -> 0 | AI298: =IF(AB298="",0,ROUND((((AC298-AB298)+1)/30),3)) -> 0

Sheet Resumen Calificación
B1: No. | D1: 1 | E1: 2 | F1: 3 | G1: 4
B2: Proponente | D2: =VLOOKUP(D$1,Cierre!$A:$K,2,FALSE) -> OMICRON DEL LLANO S.A.S. | E2: =VLOOKUP(E$1,Cierre!$A:$K,2,FALSE) -> CONSORCIO PRITA | F2: =VLOOKUP(F$1,Cierre!$A:$K,2,FALSE) -> GRUPO S Y C S.A.S. | G2: =VLOOKUP(G$1,Cierre!$A:$K,2,FALSE) -> CONSORCIO PBA CALDAS
A3: CALIFICACIÓN GENERAL | B3: CALIFICACIÓN JURIDICA | D3: HABIL | E3: NO HÁBIL | F3: NO HABIL | G3: NO HABIL
B4: FACTOR DE CALIDAD | D4: 90 | E4: 0 | F4: 90 | G4: 90
B5: PROMOCIÓN A LA INDUSTRIA NACIONAL | D5: 100 | E5: 100 | F5: 100 | G5: 100
B6: ACREDITACIÓN PERSONAL EN CONDICIÓN DE DISCAPACIDAD 10 PUNTOS | D6: 10 | E6: 10 | F6: 0 | G6: 10
B7: ACREDITACIÓN MIPYMES | D7: N/A | E7: CUMPLE | F7: CUMPLE | G7: CUMPLE
B8: OBSERVACIONES | D8: De conformidad con el artículo 2.2.1.1.1.5.1 del Decreto 1082 de 2015 y el pliego de condiciones definitivo, deberá aportar RUP en el cual se evidencie el registro de actualización de dicho documento antes del 5 de abril de 2019. No se tiene en cuenta la experiencia soportada bajo el contrato 004 de 2009, toda vez que en la certificación expedida por la persona contratante, señor Alberto Cruz y su Revisor Fiscal Sra. Heidy Alejandra Lancheros Canty, se lee que el objeto del contrato obedecia a uncontrato de interventoría y no de obra. | E8: Ajustar el compromiso anticorrupción en cuanto a la fecha. - Faltan la tarjeta profesional del contador Y el certificado de la junta central de contadores de otoniel pinilla. - De conformidad con el artículo del Decreto 1082 de 2015 y el pliego de condiciones definitivo, deberá aportar RUP en el cual se evidencie el registro de actualización de dicho documento antes del 5 de abril de 2019. El porponente adjunta el anexo para certificar el factor de calidad sin suscribir | F8: Aportar la libreta militar del representante legal | G8: La duración del consorcio es inferior a la solicitada en los pliegos de condiciones, - Aportar la libreta militar de Juan Sebastian Gómez. - La vigencia de la garnatía de seriedad de la oferta es iferior a la solicitada en el pliego de condiciones. - De conformidad con el artículo 2.2.1.1.1.5.1 del Decreto 1082 de 2015 y el pliego de condiciones definitivo, deberán aportar RUP en el cual se evidencie el registro de actualización de dicho documento antes del 5 de abril de 2019.
A9: MÓDULO 1 | B9: COMPONENTE TÉCNICO | C9: PROMEDIO DE FACTURACIÓN MENSUAL | D9: =IF(SUMIF(Experiencia!$A:$A,D$1,Experiencia!$O:$O)<Información!$B$20,"NO HÁBIL","HÁBIL") -> NO HÁBIL | E9: N/A | F9: =IF(SUMIF(Experiencia!$A:$A,F$1,Experiencia!$O:$O)<Información!$B$20,"NO HÁBIL","HÁBIL") -> HÁBIL | G9: N/A
C10: VALOR TOTAL EJECUTADO | D10: =IF(SUMIF(Experiencia!$A:$A,D$1,Experiencia!$P:$P)<(Información!$B$19),"NO HÁBIL","HÁBIL") -> NO HÁBIL | E10: N/A | F10: =IF(SUMIF(Experiencia!$A:$A,F$1,Experiencia!$P:$P)<(Información!$B$19),"NO HÁBIL","HÁBIL") -> HÁBIL | G10: N/A
B11: COMPONENTE FINANCIERO | C11: CALIFICACIÓN FINANCIERA | D11: HÁBIL | E11: N/A | F11: HÁBIL | G11: N/A
C12: CALIFICACIÓN ORGANIZACIONAL | D12: HÁBIL | E12: N/A | F12: HÁBIL | G12: N/A
B13: CAPACIDAD RESIDUAL DE CONTRATACIÓN | D13: CUMPLE | E13: N/A | F13: CUMPLE | G13: N/A
A14: MÓDULO 2 | B14: COMPONENTE TÉCNICO | C14: PROMEDIO DE FACTURACIÓN MENSUAL | D14: =IF(SUMIF(Experiencia!$A:$A,D$1,Experiencia!$O:$O)<Información!$C$20,"NO HÁBIL","HÁBIL") -> NO HÁBIL | E14: N/A | F14: =IF(SUMIF(Experiencia!$A:$A,F$1,Experiencia!$O:$O)<Información!$C$20,"NO HÁBIL","HÁBIL") -> HÁBIL | G14: =IF(SUMIF(Experiencia!$A:$A,G$1,Experiencia!$O:$O)<Información!$C$20,"NO HÁBIL","HÁBIL") -> HÁBIL
C15: VALOR TOTAL EJECUTADO | D15: =IF(SUMIF(Experiencia!$A:$A,D$1,Experiencia!$P:$P)<(Información!$C$19),"NO HÁBIL","HÁBIL") -> NO HÁBIL | E15: N/A | F15: =IF(SUMIF(Experiencia!$A:$A,F$1,Experiencia!$P:$P)<(Información!$C$19),"NO HÁBIL","HÁBIL") -> HÁBIL | G15: =IF(SUMIF(Experiencia!$A:$A,G$1,Experiencia!$P:$P)<(Información!$C$19),"NO HÁBIL","HÁBIL") -> HÁBIL
B16: COMPONENTE FINANCIERO | C16: CALIFICACIÓN FINANCIERA | D16: HÁBIL | E16: N/A | F16: HÁBIL | G16: NO HÁBIL
C17: CALIFICACIÓN ORGANIZACIONAL | D17: HÁBIL | E17: N/A | F17: HÁBIL | G17: HÁBIL
B18: CAPACIDAD RESIDUAL DE CONTRATACIÓN | E18: N/A | F18: CUMPLE | G18: CUMPLE
A19: MÓDULO 3 | B19: COMPONENTE TÉCNICO | C19: PROMEDIO DE FACTURACIÓN MENSUAL | D19: =IF(SUMIF(Experiencia!$A:$A,D$1,Experiencia!$O:$O)<Información!$D$20,"NO HÁBIL","HÁBIL") -> NO HÁBIL | E19: N/A | F19: =IF(SUMIF(Experiencia!$A:$A,F$1,Experiencia!$O:$O)<Información!$D$20,"NO HÁBIL","HÁBIL") -> HÁBIL | G19: =IF(SUMIF(Experiencia!$A:$A,G$1,Experiencia!$O:$O)<Información!$D$20,"NO HÁBIL","HÁBIL") -> HÁBIL
C20: VALOR TOTAL EJECUTADO | D20: =IF(SUMIF(Experiencia!$A:$A,D$1,Experiencia!$P:$P)<(Información!$D$19),"NO HÁBIL","HÁBIL") -> NO HÁBIL | E20: N/A | F20: =IF(SUMIF(Experiencia!$A:$A,F$1,Experiencia!$P:$P)<(Información!$D$19),"NO HÁBIL","HÁBIL") -> HÁBIL | G20: =IF(SUMIF(Experiencia!$A:$A,G$1,Experiencia!$P:$P)<(Información!$D$19),"NO HÁBIL","HÁBIL") -> HÁBIL
B21: COMPONENTE FINANCIERO | C21: CALIFICACIÓN FINANCIERA | D21: HÁBIL | E21: N/A | F21: HÁBIL | G21: HÁBIL
C22: CALIFICACIÓN ORGANIZACIONAL | D22: HÁBIL | E22: N/A | F22: HÁBIL | G22: HÁBIL
B23: CAPACIDAD RESIDUAL DE CONTRATACIÓN | E23: N/A | F23: CUMPLE | G23: CUMPLE
A24: MÓDULO 4 | B24: COMPONENTE TÉCNICO | C24: PROMEDIO DE FACTURACIÓN MENSUAL | D24: =IF(SUMIF(Experiencia!$A:$A,D$1,Experiencia!$O:$O)<Información!$E$20,"NO HÁBIL","HÁBIL") -> NO HÁBIL | E24: N/A | F24: =IF(SUMIF(Experiencia!$A:$A,F$1,Experiencia!$O:$O)<Información!$E$20,"NO HÁBIL","HÁBIL") -> HÁBIL | G24: =IF(SUMIF(Experiencia!$A:$A,G$1,Experiencia!$O:$O)<Información!$E$20,"NO HÁBIL","HÁBIL") -> HÁBIL
C25: VALOR TOTAL EJECUTADO | D25: =IF(SUMIF(Experiencia!$A:$A,D$1,Experiencia!$P:$P)<(Información!$E$19),"NO HÁBIL","HÁBIL") -> NO HÁBIL | E25: N/A | F25: =IF(SUMIF(Experiencia!$A:$A,F$1,Experiencia!$P:$P)<(Información!$E$19),"NO HÁBIL","HÁBIL") -> HÁBIL | G25: =IF(SUMIF(Experiencia!$A:$A,G$1,Experiencia!$P:$P)<(Información!$E$19),"NO HÁBIL","HÁBIL") -> HÁBIL
B26: COMPONENTE FINANCIERO | C26: CALIFICACIÓN FINANCIERA | D26: HÁBIL | E26: N/A | F26: HÁBIL | G26: HÁBIL
C27: CALIFICACIÓN ORGANIZACIONAL | D27: HÁBIL | E27: N/A | F27: HÁBIL | G27: HÁBIL
B28: CAPACIDAD RESIDUAL DE CONTRATACIÓN | E28: N/A | F28: CUMPLE | G28: CUMPLE
A29: MÓDULO 5 | B29: COMPONENTE TÉCNICO | C29: PROMEDIO DE FACTURACIÓN MENSUAL | D29: =IF(SUMIF(Experiencia!$A:$A,D$1,Experiencia!$O:$O)<Información!$F$20,"NO HÁBIL","HÁBIL") -> NO HÁBIL | E29: N/A | F29: =IF(SUMIF(Experiencia!$A:$A,F$1,Experiencia!$O:$O)<Información!$F$20,"NO HÁBIL","HÁBIL") -> HÁBIL | G29: =IF(SUMIF(Experiencia!$A:$A,G$1,Experiencia!$O:$O)<Información!$F$20,"NO HÁBIL","HÁBIL") -> HÁBIL
C30: VALOR TOTAL EJECUTADO | D30: =IF(SUMIF(Experiencia!$A:$A,D$1,Experiencia!$P:$P)<(Información!$F$19),"NO HÁBIL","HÁBIL") -> NO HÁBIL | E30: N/A | F30: =IF(SUMIF(Experiencia!$A:$A,F$1,Experiencia!$P:$P)<(Información!$F$19),"NO HÁBIL","HÁBIL") -> HÁBIL | G30: =IF(SUMIF(Experiencia!$A:$A,G$1,Experiencia!$P:$P)<(Información!$F$19),"NO HÁBIL","HÁBIL") -> HÁBIL
B31: COMPONENTE FINANCIERO | C31: CALIFICACIÓN FINANCIERA | D31: HÁBIL | E31: N/A | F31: HÁBIL | G31: HÁBIL
C32: CALIFICACIÓN ORGANIZACIONAL | D32: HÁBIL | E32: N/A | F32: HÁBIL | G32: HÁBIL
B33: CAPACIDAD RESIDUAL DE CONTRATACIÓN | E33: N/A | F33: CUMPLE | G33: CUMPLE
A34: MÓDULO 6 | B34: COMPONENTE TÉCNICO | C34: PROMEDIO DE FACTURACIÓN MENSUAL | D34: =IF(SUMIF(Experiencia!$A:$A,D$1,Experiencia!$O:$O)<Información!$G$20,"NO HÁBIL","HÁBIL") -> NO HÁBIL | E34: N/A | F34: =IF(SUMIF(Experiencia!$A:$A,F$1,Experiencia!$O:$O)<Información!$G$20,"NO HÁBIL","HÁBIL") -> HÁBIL | G34: =IF(SUMIF(Experiencia!$A:$A,G$1,Experiencia!$O:$O)<Información!$G$20,"NO HÁBIL","HÁBIL") -> HÁBIL
C35: VALOR TOTAL EJECUTADO | D35: =IF(SUMIF(Experiencia!$A:$A,D$1,Experiencia!$P:$P)<(Información!$G$19),"NO HÁBIL","HÁBIL") -> NO HÁBIL | E35: N/A | F35: =IF(SUMIF(Experiencia!$A:$A,F$1,Experiencia!$P:$P)<(Información!$G$19),"NO HÁBIL","HÁBIL") -> HÁBIL | G35: =IF(SUMIF(Experiencia!$A:$A,G$1,Experiencia!$P:$P)<(Información!$G$19),"NO HÁBIL","HÁBIL") -> HÁBIL
B36: COMPONENTE FINANCIERO | C36: CALIFICACIÓN FINANCIERA | D36: HÁBIL | E36: N/A | F36: HÁBIL | G36: HÁBIL
C37: CALIFICACIÓN ORGANIZACIONAL | D37: HÁBIL | E37: N/A | F37: HÁBIL | G37: HÁBIL
B38: CAPACIDAD RESIDUAL DE CONTRATACIÓN | E38: N/A | F38: CUMPLE | G38: CUMPLE
A39: MÓDULO 7 | B39: COMPONENTE TÉCNICO | C39: PROMEDIO DE FACTURACIÓN MENSUAL | D39: =IF(SUMIF(Experiencia!$A:$A,D$1,Experiencia!$O:$O)<Información!$H$20,"NO HÁBIL","HÁBIL") -> NO HÁBIL | E39: N/A | F39: =IF(SUMIF(Experiencia!$A:$A,F$1,Experiencia!$O:$O)<Información!$H$20,"NO HÁBIL","HÁBIL") -> HÁBIL | G39: =IF(SUMIF(Experiencia!$A:$A,G$1,Experiencia!$O:$O)<Información!$H$20,"NO HÁBIL","HÁBIL") -> HÁBIL
C40: VALOR TOTAL EJECUTADO | D40: =IF(SUMIF(Experiencia!$A:$A,D$1,Experiencia!$P:$P)<(Información!$H$19),"NO HÁBIL","HÁBIL") -> NO HÁBIL | E40: N/A | F40: =IF(SUMIF(Experiencia!$A:$A,F$1,Experiencia!$P:$P)<(Información!$H$19),"NO HÁBIL","HÁBIL") -> HÁBIL | G40: =IF(SUMIF(Experiencia!$A:$A,G$1,Experiencia!$P:$P)<(Información!$H$19),"NO HÁBIL","HÁBIL") -> HÁBIL
...

Sheet SMMLV
A1: PERÍODO | B1: MONTO MENSUAL
A2: 1980 | B2: 4500
A3: 1981 | B3: 5700
A4: 1982 | B4: 7410
A5: 1983 | B5: 9261
A6: 1984 | B6: 11298
A7: 1985 | B7: 13558
A8: 1986 | B8: 16811
A9: 1987 | B9: 20510
A10: 1988 | B10: 25637
A11: 1989 | B11: 32560
A12: 1990 | B12: 41025
A13: 1991 | B13: 51716
... A40: 2018 | B40: 781242
A43: SI
A44: NO
A46: PRESENTA
A47: NO PRESENTA
A48: N/A
A50: C
A51: UT
A52: I
A54: CUMPLE
A55: NO CUMPLE
A56: N/A
A57: CONSULTADOS ENTIDAD
... A61: NO HÁBIL
