Workbook
Name contratación: 'IDENTIFICACION Y ANALISIS'!$B$39:$B$43
Name ejecución: 'IDENTIFICACION Y ANALISIS'!$B$45:$B$68
Name OPCIONES: 'ASIGNACION Y TRATAMIENTO'!$B$42:$B$44
Name planeación: 'IDENTIFICACION Y ANALISIS'!$B$19:$B$29
Name selección: 'IDENTIFICACION Y ANALISIS'!$B$31:$B$37

Sheet CONTEXTO
C1: MATRIZ DE RIESGOS EN CONTRATACIÓN | F1: Código: GCO-GCI-F164 Versión: 01 Vigencia: 16 diciembre de 2021 Caso HOLA: 206942
B5: ESTABLECER EL CONTEXTO
B6: El punto inicial es identificar el contexto en el cual interactúa la Entidad Estatal para conocer el ambiente social, económico y político, e identificar (i) sus propios Riesgos; (ii) los Riesgos comunes a sus Procesos de Contratación; y (iii) los Riesgos del Proceso de Contratación en particular. (Aplica igual para contratos interadministrativos) En este paso la Entidad Estatal debe identificar los aspectos que se mencionan a continuación y los posibles efectos adversos que estos pueden generar.
B7: Objeto del Proceso de Contratación: Adquirir a título de compra los elementos requeridos para el desarrollo de las acciones enmarcada en el proyecto de inversión 1903 “Acuerdos para el espacio público en el marco del contrato social para Puente Aranda”, conforme a los estudios previos, el anexo técnico, y propuesta económica presentada.
B8: Partícipes del Proceso de Contratación: Agentes externos (Organismos de control, veedurías ciudadanas), agentes internos (supervisores, funcionarios y demás usuarios).
B9: Ciudadanía que se beneficia del Proceso de Contratación: vendedores informales de la localidad de Puente Aranda registrados en las herramientas Misionales RIVI - HEMI
B10: Capacidad de la Entidad Estatal entendida como la disponibilidad de recursos y conocimientos para el Proceso de Contratación: La disponibilidad de la Entidad de sus recursos y el conocimiento de su equipo humano se refleja en los diferentes funcionarios que participarán en las diversas etapas del proceso de selección: participan las áreas que requieren los procesos de contratación (Etapa de Estudios previos), el área de Contratos de la Secretaría General (Etapa contractual), los evaluadores designados, idóneos y con experiencia en el tema.
B11: Suficiencia del presupuesto oficial del Proceso de Contratación: De acuerdo al Plan de contratación para la vigencia (2022), se estimaron los recursos necesarios para el desarrollo del proceso de la contratación, el cual tendrá el soporte presupuestal suficiente para su desarrollo.
B12: Condiciones geográficas y de acceso del lugar en el cual se debe cumplir el objeto del Proceso de Contratación: El suministro, obra o servicio se prestará principalmente en las Sedes de la Entidad, o en el lugar indicado en los estudios previos del proceso.
B13: Entorno socio ambiental: Si aplican
B14: Condiciones políticas: Si aplican
B15: Factores ambientales: El contratista debe manejar normas ambientales para el destino final de algunos repuestos que se retiran cuando se hace mantenimiento correctivo al sistema.
B16: Sector del objeto del Proceso de Contratación y su mercado: Todos los clientes (entidades privadas, Estatales y Gubernamentales), alrededor en todo el Territorio Nacional Colombiano y el exterior, quienes solicitan equipos y servicios de seguridad y control de acceso, con niveles elevados de flujo peatonal.
... B18: Experiencia propia y de otras Entidades Estatales en Procesos de Contratación del mismo tipo: La Entidad contrata la adquisición de elementos para vendedores informales de Puente Aranda, de acuedo a lo establecido en el Plan de Desarrollo necesario para su funcionamiento, por lo cual es un proceso que ha sido adelantado anteriormente; así las cosas se cuenta con la experiencia adquirida en el adelantamiento de este tipo de procesos que ha sido la necesaria para prevenir circunstancias inesperadas y lograr el cumplimiento de los fines de la contratación".

Sheet IDENTIFICACION Y ANALISIS
C2: MATRIZ DE RIESGOS DE CONTRATACIÓN | F2: Código: GCO-GCI-F164 Versión: 01 Vigencia: 16 diciembre de 2021 Caso HOLA: 206942
B6: DEFINICIONES
B7: RIESGO: evento que puede generar efectos adversos y de distinta magnitud en el logro de los objetivos del Proceso de Contratación o en la ejecución de un contrato
B8: RIESGOS PREVISIBLES: Son los posibles hechos o circunstancias que por la naturaleza del contrato y de la actividad a ejecutar es factible su ocurrencia.
B9: ETAPA DE PLANEACIÓN: Está comprendida entre la elaboración del Plan Anual de Adquisiciones y la fecha en la cual decide continuar o no con el Proceso de Contratación
B10: ETAPA DE SELECCIÓN: Está comprendida entre el acto de Apertura del Proceso de Contratación y la Adjudicación o la declaración de desierto del Proceso de Contratación
B11: ETAPA DE CONTRATACIÓN: Una vez adjudicado el contrato objeto del Proceso de Contratación, inicia la etapa de contratación en la cual se debe cumplir con el cronograma previsto para la celebración del contrato, el registro presupuestal, la publicación en el SECOP y el cumplimiento de los requisitos para el perfeccionamiento, ejecución y pago.
B12: ETAPA DE EJECUCIÓN: Inicia una vez cumplidos los requisitos previstos para iniciar la ejecución del contrato respectivo y termina con el vencimiento del plazo del contrato o la fecha de liquidación si hay lugar a ella.
B13: RIESGO GENERAL: Es un riesgo de todos los procesos de contratación adelantados por la Entidad Estatal, por lo cual está presente en toda su actividad contractual.
B14: RIEGO ESPECIFICO: Es un riesgo propio del proceso de contratación objeto de análisis.
B15: INSTRUCCIONES PARA LA IDENTIFICACIÓN, ANALISIS, EVALUACIÓN , ASIGNACIÓN Y TRATAMIENTO DE RIESGOS EN LA CONTRATACIÓN
B16: 1) Identifique los riesgos previsibles que le apliquen al objeto contractual que se adelante; En caso de identificar otro riesgo inclúyalo en la proforma e informe al Área de Contratos de la Secretaría General para que sea actualizada en el SIG.
C17: ETAPAS | D17: CLASE | E17: FUENTE | F17: TIPO
C18: PLANEACIÓN
B19: Inadecuada escogencia de la modalidad de contratación | F19: Operacionales
B20: Requisitos habilitantes inapropiados para el proceso de selección | F20: Operacionales
B21: Inadecuado análisis económico estimativo del valor del contrato | F21: Economicos
B22: Inadecuada descripción del bien o servicio requerido | F22: Operacionales
B23: Inadecuada elaboración de estudios y diseños | F23: Operacionales
B24: Requisitos habilitantes que impidan la selección objetiva | F24: Operacionales
B25: Falta de profundidad en el estudio de sector no identificandose claramente aspectos de oferta y demanda | F25: Economicos
B26: Ausencia de fundamentación de la justificación y conveniencia de la contratación | F26: Operacionales
B27: Inadecuada identificación de las condiciones contractuales | F27: Operacionales
B28: No aprobación o demoras en la expedición vigencias futuras | F28: Operacionales
B29: Apertura de procesos sin disponibilidad presupuestal | F29: Operacionales
C30: SELECCIÓN
B31: Inadecuada evaluación de las ofertas y/o verificación de requisitos habilitantes | F31: Operacionales
B32: Inadecuado manejo administrativo del proceso contractual | F32: Operacionales
B33: Falta de claridad en la elaboración de los actos administrativos | F33: Operacionales
B34: Contestación inoportuna a todas las observaciones formuladas a los documentos de la contratación | F34: Operacionales
B35: No publicación de la documentación del proceso de selección en el SECOP | F35: Operacionales
B36: Confabulacion de los proponentes (Colusión) | F36: Operacionales
B37: Selección de ofertas con precios artificialmente bajos. | F37: Operacionales
C38: CONTRATACIÓN
B39: Riesgo de que no se firme el contrato. | F39: Operacionales
B40: Falta de constitución o constitución tardía de la garantía única. Aceptación de garantías que no se ajustan a lo contemplado en el contrato | F40: Operacionales
B41: Falta de solicitud o solicitud tardía del registro presupuestal | F41: Operacionales
B42: No publicación de la documentación del proceso de selección en el SECOP | F42: Operacionales
B43: Presentación de reclamos de terceros sobre la selección del oferente que retrasen el perfeccionamiento del contrato. | F43: Operacionales
C44: EJECUCIÓN
...

Sheet EVALUACION
D1: MATRIZ DE RIESGOS DE CONTRATACIÓN | K1: Código: GCO-GCI-F164 Versión: 01 Vigencia: 16 diciembre de 2021 Caso HOLA: 206942
B5: Objeto Contractual: Adquirir a título de compra los elementos requeridos para el desarrollo de las acciones enmarcada en el proyecto de inversión 1903 “Acuerdos para el espacio público en el marco del contrato social para Puente Aranda”, conforme a los estudios previos, el anexo técnico, y propuesta económica presentada.
B6: INSTRUCCIONES PARA LA IDENTIFICACIÓN, ANALISIS, EVALUACIÓN , ASIGNACIÓN Y TRATAMIENTO DE RIESGOS EN LA CONTRATACIÓN
B7: 1) Seleccione el tipo de calificación (Cualitativa ó Monetaria)
B8: 2) Seleccione la(s) etapas y los riesgos que aplican al objeto contractual
B9: 3) Asigne la probabilidad de ocurrencia del riesgo, de conformidad con la tabla de probabilidad
B10: 4) Asigne el impacto que generaría la materialización del riesgo, de conformidad con la tabla de impacto
B11: 5) Al realizar las anteriores actividades se obtendrá la calificación total y la valoración del riesgo (prioridad) , traslde al formato evaluación con controles, los que tengan un nivel de criticidad diferente a bajo.
B12: 6) Continúe en la hoja de evaluación de controles
B14: CALIFICACIÓN | H14: Cualitativa
B15: ETAPA | C15: Descripción (Que puede pasar y, cómo puede ocurrir) | H15: Consecuencias de la ocurrencia del evento | I15: Probabilidad de Ocurrencia | J15: Impacto | K15: Calificación Total | L15: Prioridad
B16: Planeación | C16: Inclusión de condiciones jurídicas, técnicas y/o financieras que NO puedan ser cumplidas por ningún oferente. | D16: Inclusión de condiciones jurídicas, técnicas y/o financieras que NO puedan ser cumplidas por ningún oferente. | E16: Inclusión de condiciones jurídicas, técnicas y/o financieras que NO puedan ser cumplidas por ningún oferente. | F16: Inclusión de condiciones jurídicas, técnicas y/o financieras que NO puedan ser cumplidas por ningún oferente. | G16: Inclusión de condiciones jurídicas, técnicas y/o financieras que NO puedan ser cumplidas por ningún oferente. | H16: Declaratoria de desierto del proceso de contratación | I16: 2 | J16: 5 | K16: =+I16+J16 -> 7 | L16: =IF(K16<=4,"BAJO",IF(K16=5,"MEDIO",IF(K16=6,"ALTO",IF(K16=7,"ALTO","EXTREMO")))) -> ALTO
B17: Contratación | C17: No perfeccionar el contrato por falta de expedición del CRP (Certificado de Registro Presupuestal) | D17: No perfeccionar el contrato por falta de expedición del CRP (Certificado de Registro Presupuestal) | E17: No perfeccionar el contrato por falta de expedición del CRP (Certificado de Registro Presupuestal) | F17: No perfeccionar el contrato por falta de expedición del CRP (Certificado de Registro Presupuestal) | G17: No perfeccionar el contrato por falta de expedición del CRP (Certificado de Registro Presupuestal) | H17: Incumplimiento por parte de la entidad de Ia normativa vigente y retraso en el perfeccionamiento del contrato. | I17: 1 | J17: 3 | K17: =+I17+J17 -> 4 | L17: =IF(K17<=4,"BAJO",IF(K17=5,"MEDIO",IF(K17=6,"ALTO",IF(K17=7,"ALTO","EXTREMO")))) -> BAJO
B18: Selección | C18: El pliego de condiciones NO contempla todos los requisitos que deben cumplir los oferentes. | D18: El pliego de condiciones NO contempla todos los requisitos que deben cumplir los oferentes. | E18: El pliego de condiciones NO contempla todos los requisitos que deben cumplir los oferentes. | F18: El pliego de condiciones NO contempla todos los requisitos que deben cumplir los oferentes. | G18: El pliego de condiciones NO contempla todos los requisitos que deben cumplir los oferentes. | H18: Los proponentes no cumplen con el objeto contractual en los términos de ley. | I18: 1 | J18: 3 | K18: =+I18+J18 -> 4 | L18: =IF(K18<=4,"BAJO",IF(K18=5,"MEDIO",IF(K18=6,"ALTO",IF(K18=7,"ALTO","EXTREMO")))) -> BAJO
B19: Contratación | C19: Demora en la entrega de la garantía de cumplimiento del contrato por parte del adjudicatario. | D19: Demora en la entrega de la garantía de cumplimiento del contrato por parte del adjudicatario. | E19: Demora en la entrega de la garantía de cumplimiento del contrato por parte del adjudicatario. | F19: Demora en la entrega de la garantía de cumplimiento del contrato por parte del adjudicatario. | G19: Demora en la entrega de la garantía de cumplimiento del contrato por parte del adjudicatario. | H19: Se deberá hacer efectiva la póliza de seriedad de la oferta. | I19: 1 | J19: 5 | K19: =+I19+J19 -> 6 | L19: =IF(K19<=4,"BAJO",IF(K19=5,"MEDIO",IF(K19=6,"ALTO",IF(K19=7,"ALTO","EXTREMO")))) -> ALTO
B20: Ejecución | C20: Incumplimiento en los tiempos de entrega y en la calidad de los bienes y servicios contratados. | D20: Incumplimiento en los tiempos de entrega y en la calidad de los bienes y servicios contratados. | E20: Incumplimiento en los tiempos de entrega y en la calidad de los bienes y servicios contratados. | F20: Incumplimiento en los tiempos de entrega y en la calidad de los bienes y servicios contratados. | G20: Incumplimiento en los tiempos de entrega y en la calidad de los bienes y servicios contratados. | H20: Mala ejecución del objeto contratado. | I20: 3 | J20: 5 | K20: =+I20+J20 -> 8 | L20: =IF(K20<=4,"BAJO",IF(K20=5,"MEDIO",IF(K20=6,"ALTO",IF(K20=7,"ALTO","EXTREMO")))) -> EXTREMO
B21: Ejecución | C21: Afectación en el equilibrio económico del contrato durante la ejecución. | D21: Afectación en el equilibrio económico del contrato durante la ejecución. | E21: Afectación en el equilibrio económico del contrato durante la ejecución. | F21: Afectación en el equilibrio económico del contrato durante la ejecución. | G21: Afectación en el equilibrio económico del contrato durante la ejecución. | H21: Mala ejecución del objeto contratado. No es posible satisfacer la necesidad de la entidad. | I21: 3 | J21: 4 | K21: =+I21+J21 -> 7 | L21: =IF(K21<=4,"BAJO",IF(K21=5,"MEDIO",IF(K21=6,"ALTO",IF(K21=7,"ALTO","EXTREMO")))) -> ALTO
B22: Ejecución | C22: Dificultades en la ejecución del objeto debido a que la convocatoria no es efectiva. | D22: Dificultades en la ejecución del objeto debido a que la convocatoria no es efectiva. | E22: Dificultades en la ejecución del objeto debido a que la convocatoria no es efectiva. | F22: Dificultades en la ejecución del objeto debido a que la convocatoria no es efectiva. | G22: Dificultades en la ejecución del objeto debido a que la convocatoria no es efectiva. | H22: Retraso en el cronograma de actividades. | I22: 3 | J22: 4 | K22: =+I22+J22 -> 7 | L22: =IF(K22<=4,"BAJO",IF(K22=5,"MEDIO",IF(K22=6,"ALTO",IF(K22=7,"ALTO","EXTREMO")))) -> ALTO
B23: Ejecución | C23: Las restricciones de transporte y además aspectos que impidan la entrega de los bienes la perdida, destrucción, deterioro o robo de los elementos que se utilizan para el desarrollo del objeto del presente proceso hasta y durante la suscripción del acta del recibido a satisfacción de los bienes. | D23: Las restricciones de transporte y además aspectos que impidan la entrega de los bienes la perdida, destrucción, deterioro o robo de los elementos que se utilizan para el desarrollo del objeto del presente proceso hasta y durante la suscripción del acta del recibido a satisfacción de los bienes. | E23: Las restricciones de transporte y además aspectos que impidan la entrega de los bienes la perdida, destrucción, deterioro o robo de los elementos que se utilizan para el desarrollo del objeto del presente proceso hasta y durante la suscripción del acta del recibido a satisfacción de los bienes. | F23: Las restricciones de transporte y además aspectos que impidan la entrega de los bienes la perdida, destrucción, deterioro o robo de los elementos que se utilizan para el desarrollo del objeto del presente proceso hasta y durante la suscripción del acta del recibido a satisfacción de los bienes. | G23: Las restricciones de transporte y además aspectos que impidan la entrega de los bienes la perdida, destrucción, deterioro o robo de los elementos que se utilizan para el desarrollo del objeto del presente proceso hasta y durante la suscripción del acta del recibido a satisfacción de los bienes. | H23: Perdidas económicas al contratista | I23: 3 | J23: 2 | K23: =+I23+J23 -> 5 | L23: =IF(K23<=4,"BAJO",IF(K23=5,"MEDIO",IF(K23=6,"ALTO",IF(K23=7,"ALTO","EXTREMO")))) -> MEDIO
B24: Ejecución | C24: Recibir bienes que no cumples con las especificaciones técnicas establecidas por la entidad | D24: Recibir bienes que no cumples con las especificaciones técnicas establecidas por la entidad | E24: Recibir bienes que no cumples con las especificaciones técnicas establecidas por la entidad | F24: Recibir bienes que no cumples con las especificaciones técnicas establecidas por la entidad | G24: Recibir bienes que no cumples con las especificaciones técnicas establecidas por la entidad | H24: Detrimentro patrimonial sanciones disciplinarias fiscales y/o penales incumplimiento de las metas propuestas por la entidad | I24: 3 | J24: 2 | K24: =+I24+J24 -> 5 | L24: =IF(K24<=4,"BAJO",IF(K24=5,"MEDIO",IF(K24=6,"ALTO",IF(K24=7,"ALTO","EXTREMO")))) -> MEDIO
B25: Ejecución | C25: No tener en cuenta desde el inicio del contrato tanto la politíca ambiental de la Alcaldía Local -PIGA-como la guia verde de contratación y normatividad ambiental vigente en relación al objeto del contrato. | D25: No tener en cuenta desde el inicio del contrato tanto la politíca ambiental de la Alcaldía Local -PIGA-como la guia verde de contratación y normatividad ambiental vigente en relación al objeto del contrato. | E25: No tener en cuenta desde el inicio del contrato tanto la politíca ambiental de la Alcaldía Local -PIGA-como la guia verde de contratación y normatividad ambiental vigente en relación al objeto del contrato. | F25: No tener en cuenta desde el inicio del contrato tanto la politíca ambiental de la Alcaldía Local -PIGA-como la guia verde de contratación y normatividad ambiental vigente en relación al objeto del contrato. | G25: No tener en cuenta desde el inicio del contrato tanto la politíca ambiental de la Alcaldía Local -PIGA-como la guia verde de contratación y normatividad ambiental vigente en relación al objeto del contrato. | H25: El contratista asumira el sobre costo | I25: 3 | J25: 3 | K25: =+I25+J25 -> 6 | L25: =IF(K25<=4,"BAJO",IF(K25=5,"MEDIO",IF(K25=6,"ALTO",IF(K25=7,"ALTO","EXTREMO")))) -> ALTO
B28: Probabilidad | C28: Catagoria | E28: Valoración | G28: Impacto | H28: Categoria | I28: Valoración
C29: Raro (puede ocurrir excepcionalmente) | E29: 1 | H29: Insignificante | I29: 1
C30: Improbable (puede ocurrir ocasionalmente) | E30: 2 | H30: Menor | I30: 2
C31: Posible (puede ocurrir en cualquier momento futuro) | E31: 3 | H31: Moderado | I31: 3
C32: Probable (probablemente va a ocurrir) | E32: 4 | H32: Mayor | I32: 4
C33: Casi cierto (ocurre en la mayoria de circunstancias) | E33: 5 | H33: Catastrófico | I33: 5
C35: Valoración del Riesgo
C36: Calificación Cualitativa | F36: Obstruye la ejecución del contrato de manera intrascendente. | G36: Dificulta la ejecución del contrato de manera baja, aplicando medidas mínimas se pueden lograr el objeto contractual | H36: Afecta la ejecución del contrato sin alterar el beneficio para las partes | I36: Obstruye la ejecución del contrato sustancialmente pero aun así permite la consecución del objeto contractual | K36: Perturba la ejecución del contrato de manera grave imposibilitando la consecución del objeto contractual.
C37: Calificación Monetaria | F37: Los sobrecostos no representan más del uno por ciento (1%) del valor del contrato. | G37: Los sobrecostos no representan más del cinco por ciento (5%) del valor del contrato. | H37: Genera un impacto sobre el valor del contrato entre el cinco (5%) y el quince por ciento (15%). | I37: Incrementa el valor del contrato entre el quince (15%) y el treinta por ciento (30%). | K37: Impacto sobre el valor del contrato en más del treinta por ciento (30%).
C38: Categoría | E38: Valoración | F38: Insignificante | G38: Menor | H38: Moderado | I38: Mayor | K38: Catastrófico
F39: 1 | G39: 2 | H39: 3 | I39: 4 | K39: 5
C40: Raro (puede ocurrir excepcionalmente) | E40: 1 | F40: 2 | G40: 3 | H40: 4 | I40: 5 | K40: 6
C41: Improbable (puede ocurrir ocasionalmente) | E41: 2 | F41: 3 | G41: 4 | H41: 5 | I41: 6 | K41: 7
C42: Posible (puede ocurrir en cualquier momento futuro) | E42: 3 | F42: 4 | G42: 5 | H42: 6 | I42: 7 | K42: 8
C43: Probable (probablemente va a ocurrir) | E43: 4 | F43: 5 | G43: 6 | H43: 7 | I43: 8 | K43: 9
C44: Casi cierto (ocurre en la mayoria de circunstancias) | E44: 5 | F44: 6 | G44: 7 | H44: 8 | I44: 9 | K44: 10
G46: Categoria del Riesgo
G47: Valoración del Riesgo | H47: Categoría
G48: 8, 9 y 10 | H48: Riesgo extremo
...

Sheet EVALUACION CON CONTROLES
D2: MATRIZ DE RIESGOS DE CONTRATACIÓN | P2: Código: GCO-GCI-F164 Versión: 01 Vigencia: 16 diciembre de 2021 Caso HOLA: 206942
A6: =+EVALUACION!B5 -> Objeto Contractual: Adquirir a título de compra los elementos requeridos para el desarrollo de las acciones enmarcada en el proyecto de inversión 1903 “Acuerdos para el espacio público en el marco del contrato social para Puente Aranda”, conforme a los estudios previos, el anexo técnico, y propuesta económica presentada.
A7: INSTRUCCIONES PARA LA IDENTIFICACIÓN, ANALISIS, EVALUACIÓN , ASIGNACIÓN Y TRATAMIENTO DE RIESGOS EN LA CONTRATACIÓN
A8: 1) Describa el tratamiento/controles a ser implementados
A9: 2) Teniendo en cuenta el tratamiento descrito, asigne la probabilidad de ocurrencia del riesgo, de conformidad con la tabla de probabilidad
A10: 3) Teniendo en cuenta el tratamiento descrito, asigne el impacto que generaría la materialización del riesgo, de conformidad con la tabla de impacto
A11: 4) Al realizar las anteriores actividades se obtendrá la calificación total y la valoración del riesgo (prioridad)
A12: 5) Diligencie la información de las démas columnas
A13: 7) Continúe en la hoja de asignación y tratamiento
A15: ETAPA | B15: Descripción (Que puede pasar y, cómo puede ocurrir) | F15: Tratamiento/Controles a ser implementados | H15: Probabilidad de Ocurrencia | I15: Impacto | J15: Calificación Total | K15: Prioridad | L15: ¿Afecta el equilibrio económico del contrato? | M15: Persona responsable por implementar el tratamiento | N15: Fecha estimada en que se inicia el tratamiento | O15: Fecha estimada en que se completa el tratamiento | P15: ¿Cómo se realiza el monitoreo? | Q15: Periodicidad ¿Cuándo?
A16: =+EVALUACION!B16 -> Planeación | B16: =+EVALUACION!C16 -> Inclusión de condiciones jurídicas, técnicas y/o financieras que NO puedan ser cumplidas por ningún oferente. | F16: Revisión de las condiciones técnicas exigidas vs. las necesidades de la Entidad, con el fin de adoptar las decisiones pertinentes. Análisis y consideración de las observaciones presentadas por los posibles interesados en la etapa de proyecto de pliego y pliego de condiciones definitivo. | G16: Revisión de las condiciones técnicas exigidas vs. las necesidades de la Entidad, con el fin de adoptar las decisiones pertinentes. Análisis y consideración de las observaciones presentadas por los posibles interesados en la etapa de proyecto de pliego y pliego de condiciones definitivo. | H16: =+EVALUACION!I16 -> 2 | I16: =+EVALUACION!J16 -> 5 | J16: =+H16+I16 -> 7 | K16: =IF(J16<=4,"BAJO",IF(J16=5,"MEDIO",IF(J16=6,"ALTO",IF(J16=7,"ALTO","EXTREMO")))) -> ALTO | L16: No, toda vez que el proceso se declaró desierto. | M16: Los funcionarios responsables de la planeación del proceso. | N16: El mismo día de la declaratoria de desierta del proceso de contratación. | O16: El día de cierre del proceso de contratación. | P16: Mediante el análisis de los motivos que dieron lugar a la declaratoria de desierta. Igualmente, a través de la revisión y respuesta a las observaciones presentadas por los interesados durante el proceso de contratación. | Q16: Durante la etapa de planeación y la etapa pre contractual del proceso de contratación.
A17: =+EVALUACION!B17 -> Contratación | B17: =+EVALUACION!C17 -> No perfeccionar el contrato por falta de expedición del CRP (Certificado de Registro Presupuestal) | F17: Realizar control y revisión permanente en cada una de las etapas de perfeccionamiento del contrato. | G17: Realizar control y revisión permanente en cada una de las etapas de perfeccionamiento del contrato. | H17: =+EVALUACION!I17 -> 1 | I17: =+EVALUACION!J17 -> 3 | J17: =+H17+I17 -> 4 | K17: =IF(J17<=4,"BAJO",IF(J17=5,"MEDIO",IF(J17=6,"ALTO",IF(J17=7,"ALTO","EXTREMO")))) -> BAJO | L17: Si, debido a que no permite el perfeccionamiento del contrato. | M17: Los funcionarios responsables del presupuesto. | N17: Fechas de perfeccionamiento del contrato. | O17: Fechas de perfeccionamiento del contrato. | P17: Revisión periódica. | Q17: Durante la etapa de perfeccionamiento del contrato.
A18: =+EVALUACION!B18 -> Selección | B18: =+EVALUACION!C18 -> El pliego de condiciones NO contempla todos los requisitos que deben cumplir los oferentes. | F18: Análisis y revisión por parte de la Entidad Contratante, antes de la publicación de los estudios previos y del proyecto de pliego de condiciones, de la totalidad de los requisitos exigidos por ley para la contratación de las empresas prestadoras del servicio. | G18: Análisis y revisión por parte de la Entidad Contratante, antes de la publicación de los estudios previos y del proyecto de pliego de condiciones, de la totalidad de los requisitos exigidos por ley para la contratación de las empresas prestadoras del servicio. | H18: =+EVALUACION!I18 -> 1 | I18: =+EVALUACION!J18 -> 3 | J18: =+H18+I18 -> 4 | K18: =IF(J18<=4,"BAJO",IF(J18=5,"MEDIO",IF(J18=6,"ALTO",IF(J18=7,"ALTO","EXTREMO")))) -> BAJO | L18: Si, afecta el cumplimiento de las metas relacionadas con la puesta en marcha de los programa recreo deportivos de la Alcaldía Local. | M18: Los funcionarios responsables de elaborar los documentos del proceso de contratación | N18: Desde la etapa de planeación del proceso de contratación y hasta el último plazo para la expedición de adendas. | O18: El día de cierre del proceso de contratación. | P18: Durante la etapa de planeación del proceso de contratación y hasta antes del cierre, los funcionarios responsables del tema en la Entidad deben revisar los requisitos legales de operación de las empresas, con el fin de incluirlos dentro del proceso de selección. | Q18: Antes de elaborar los Estudios Previos del nuevo proceso de contratación y antes del cierre del proceso, los funcionarios responsables de la Entidad deben verificar todos los requisitos legales de operación de las empresas.
A19: =+EVALUACION!B19 -> Contratación | B19: =+EVALUACION!C19 -> Demora en la entrega de la garantía de cumplimiento del contrato por parte del adjudicatario. | F19: Establecer claramente en los documentos del proceso de contratación, las sanciones y consecuencias a las que se vería expuesto el adjudicatario por el no otorgamiento de la garantía de cumplimiento del contrato. | G19: Establecer claramente en los documentos del proceso de contratación, las sanciones y consecuencias a las que se vería expuesto el adjudicatario por el no otorgamiento de la garantía de cumplimiento del contrato. | H19: =+EVALUACION!I19 -> 1 | I19: =+EVALUACION!J19 -> 5 | J19: =+H19+I19 -> 6 | K19: =IF(J19<=4,"BAJO",IF(J19=5,"MEDIO",IF(J19=6,"ALTO",IF(J19=7,"ALTO","EXTREMO")))) -> ALTO | L19: Si, teniendo en cuenta que si el adjudicatario no puede cumplir con este requisito de legalización, la Entidad debe adelantar un nuevo proceso de selección y habría un retraso en la contratación | M19: El ordenador del gasto a través del abogado del FDL. | N19: Desde la etapa de planeación del proceso de contratación. | O19: El día en que el adjudicatario otorga la garantía de cumplimiento. | P19: Verificar que el adjudicatario entregue la garantía de cumplimiento dentro de los plazos establecidos. | Q19: Durante la elaboración de los Estudios Previos del nuevo proceso de contratación y hasta que el adjudicatario otorgue la garantía de cumplimiento.
A20: =+EVALUACION!B20 -> Ejecución | B20: =+EVALUACION!C20 -> Incumplimiento en los tiempos de entrega y en la calidad de los bienes y servicios contratados. | F20: Exigir al contratista la suscripción de una póliza para la calidad del servicio y la entrega de los mismos. | G20: Exigir al contratista la suscripción de una póliza para la calidad del servicio y la entrega de los mismos. | H20: =+EVALUACION!I20 -> 3 | I20: =+EVALUACION!J20 -> 5 | J20: =+H20+I20 -> 8 | K20: =IF(J20<=4,"BAJO",IF(J20=5,"MEDIO",IF(J20=6,"ALTO",IF(J20=7,"ALTO","EXTREMO")))) -> EXTREMO | L20: Si, afecta el desarrollo de las actividades programadas en los componentes y en la implementación de los esquemas de seguridad. | M20: Supervisión del contrato | N20: Desde la formalización del contrato | O20: Hasta la entrega de los bienes y servicios | P20: Durante la ejecución del contrato se realiza la supervisión en el suministro y entrega de los bienes y servicios. | Q20: En el marco de los comités técnicos organizados para el desarrollo del objeto contractual.
A21: =+EVALUACION!B21 -> Ejecución | B21: =+EVALUACION!C21 -> Afectación en el equilibrio económico del contrato durante la ejecución. | F21: Evitar el riesgo mediante la elaboración de los estudios del sector, acorde con la metodología establecida en la guía G-EES-02 de Colombia Compra Eficiente y dando cumplimiento a la normatividad vigente. | G21: Evitar el riesgo mediante la elaboración de los estudios del sector, acorde con la metodología establecida en la guía G-EES-02 de Colombia Compra Eficiente y dando cumplimiento a la normatividad vigente. | H21: =+EVALUACION!I21 -> 3 | I21: =+EVALUACION!J21 -> 4 | J21: =+H21+I21 -> 7 | K21: =IF(J21<=4,"BAJO",IF(J21=5,"MEDIO",IF(J21=6,"ALTO",IF(J21=7,"ALTO","EXTREMO")))) -> ALTO | L21: Si, afecta el desarrollo de las actividades programadas en los componentes y en la implementación de los esquemas de seguridad. | M21: Supervisión del contrato. | N21: Desde la formalización del contrato. | O21: Hasta la entrega de los bienes y servicios. | P21: Durante la ejecución del contrato se realiza la supervisión en el suministro y entrega de los bienes y servicios. | Q21: En las reuniones entre el supervisor y el contratista.
A22: =+EVALUACION!B22 -> Ejecución | B22: =+EVALUACION!C22 -> Dificultades en la ejecución del objeto debido a que la convocatoria no es efectiva. | F22: La supervisión determina las acciones a seguir ante las dificultades en la convocatoria. | G22: La supervisión determina las acciones a seguir ante las dificultades en la convocatoria. | H22: =+EVALUACION!I22 -> 3 | I22: =+EVALUACION!J22 -> 4 | J22: =+H22+I22 -> 7 | K22: =IF(J22<=4,"BAJO",IF(J22=5,"MEDIO",IF(J22=6,"ALTO",IF(J22=7,"ALTO","EXTREMO")))) -> ALTO | L22: Si, puede ocasionar el aplazamiento del contrato. | M22: Supervisión del contrato. | N22: Durante la ejecución del contrato. | O22: Hasta la finalización del evento. | P22: Durante la ejecución del contrato se realiza la supervisión y el análisis de la situación | Q22: En las reuniones entre el supervisor y el contratista
A23: =+EVALUACION!B23 -> Ejecución | B23: =+EVALUACION!C23 -> Las restricciones de transporte y además aspectos que impidan la entrega de los bienes la perdida, destrucción, deterioro o robo de los elementos que se utilizan para el desarrollo del objeto del presente proceso hasta y durante la suscripción del acta del recibido a satisfacción de los bienes. | F23: El contratista asumirá el riesgo y deberá tomar las medidas pertinentespara evitar la ocurrencia del riesgo. | G23: El contratista asumirá el riesgo y deberá tomar las medidas pertinentespara evitar la ocurrencia del riesgo. | H23: =+EVALUACION!I23 -> 3 | I23: =+EVALUACION!J23 -> 2 | J23: =+H23+I23 -> 5 | K23: =IF(J23<=4,"BAJO",IF(J23=5,"MEDIO",IF(J23=6,"ALTO",IF(J23=7,"ALTO","EXTREMO")))) -> MEDIO | L23: Si, afecta la entrega a satisfacción del bien o servicio contratado y posterior liquidación | M23: Supervisión y/o Apoyo a la supervisión | N23: Desde el inicio del contrato de manera preventiva | O23: Hasta la liquidación del contrato | P23: A traves de comites técnicos, revisión de informesy seguimiento a las actividades | Q23: Cada actividad mensualmente.
A24: =+EVALUACION!B24 -> Ejecución | B24: =+EVALUACION!C24 -> Recibir bienes que no cumples con las especificaciones técnicas establecidas por la entidad | F24: Revisión exhaustiva por parte del supervisor de los bienes entregados por parte del contratista los cuales deben estar acorde a las exigencias de la entidad. | G24: Revisión exhaustiva por parte del supervisor de los bienes entregados por parte del contratista los cuales deben estar acorde a las exigencias de la entidad. | H24: =+EVALUACION!I24 -> 3 | I24: =+EVALUACION!J24 -> 2 | J24: =+H24+I24 -> 5 | K24: =IF(J24<=4,"BAJO",IF(J24=5,"MEDIO",IF(J24=6,"ALTO",IF(J24=7,"ALTO","EXTREMO")))) -> MEDIO | L24: Si, afecta la entrega a satisfacción del bien o servicio contratado y posterior liquidación | M24: Supervisión y/o Apoyo a la supervisión | N24: Desde el inicio del contrato de manera preventiva | O24: Hasta la liquidación del contrato | P24: A traves de comites técnicos, revisión de informesy seguimiento a las actividades | Q24: Cada actividad mensualmente.
A25: =+EVALUACION!B25 -> Ejecución | B25: =+EVALUACION!C25 -> No tener en cuenta desde el inicio del contrato tanto la politíca ambiental de la Alcaldía Local -PIGA-como la guia verde de contratación y normatividad ambiental vigente en relación al objeto del contrato. | F25: El contratista debera reunirse con el referente de PIGA o ambiental para cumplir con las obligaciones y requisitos del tema. | G25: El contratista debera reunirse con el referente de PIGA o ambiental para cumplir con las obligaciones y requisitos del tema. | H25: =+EVALUACION!I25 -> 3 | I25: =+EVALUACION!J25 -> 3 | J25: =+H25+I25 -> 6 | K25: =IF(J25<=4,"BAJO",IF(J25=5,"MEDIO",IF(J25=6,"ALTO",IF(J25=7,"ALTO","EXTREMO")))) -> ALTO | L25: No, depresentarse el riesgo, el contratista deberá tomar las medidas necesarias sin que afecte el contrato | M25: Supervisión y/o Apoyo a la supervisión | N25: Desde el inicio del contrato | O25: Hasta la liquidación del contrato | P25: A traves de comites técnicos, revisión de informesy seguimiento a las actividades | Q25: Cada actividad mensualmente.
B27: Categoria del Riesgo | G27: Impacto del Riesgo
A28: Probabilidad | B28: Catagoria | E28: Valoración | G28: Categoria | I28: Valoración | M28: Categoria del Riesgo
B29: Raro (puede ocurrir excepcionalmente) | E29: 1 | G29: Insignificante | I29: 1 | M29: Valoración del Riesgo | O29: Categoría
B30: Improbable (puede ocurrir ocasionalmente) | E30: 2 | G30: Menor | I30: 2 | M30: 8, 9 y 10 | O30: Riesgo extremo
B31: Posible (puede ocurrir en cualquier momento futuro) | E31: 3 | G31: Moderado | I31: 3 | M31: 6 y 7 | O31: Riesgo alto
B32: Probable (probablemente va a ocurrir) | E32: 4 | G32: Mayor | I32: 4 | M32: 5 | O32: Riesgo medio
B33: Casi cierto (ocurre en la mayoria de circunstancias) | E33: 5 | G33: Catastrófico | I33: 5 | M33: 2, 3 y 4 | O33: Riesgo bajo
B35: Valoración del Riesgo
B36: Calificación Cualitativa | F36: Obstruye la ejecución del contrato de manera intrascendente. | H36: Dificulta la ejecución del contrato de manera baja, aplicando medidas mínimas se pueden lograr el objeto contractual | K36: Afecta la ejecución del contrato sin alterar el beneficio para las partes | M36: Obstruye la ejecución del contrato sustancialmente pero aun así permite la consecución del objeto contractual | O36: Perturba la ejecución del contrato de manera grave imposibilitando la consecución del objeto contractual.
B37: Calificación Monetaria | F37: Los sobrecostos no representan más del uno por ciento (1%) del valor del contrato. | H37: Los sobrecostos no representan más del cinco por ciento (5%) del valor del contrato. | K37: Genera un impacto sobre el valor del contrato entre el cinco (5%) y el quince por ciento (15%). | M37: Incrementa el valor del contrato entre el quince (15%) y el treinta por ciento (30%). | O37: Impacto sobre el valor del contrato en más del treinta por ciento (30%).
B38: Catagoria | E38: Valoración | F38: Insignificante | H38: Menor | K38: Moderado | M38: Mayor | O38: Catastrófico
F39: 1 | H39: 2 | K39: 3 | M39: 4 | O39: 5
B40: Raro (puede ocurrir excepcionalmente) | E40: 1 | F40: 2 | H40: 3 | K40: 4 | M40: 5 | O40: 6
B41: Improbable (puede ocurrir ocasionalmente) | E41: 2 | F41: 3 | H41: 4 | K41: 5 | M41: 6 | O41: 7
B42: Posible (puede ocurrir en cualquier momento futuro) | E42: 3 | F42: 4 | H42: 5 | K42: 6 | M42: 7 | O42: 8
B43: Probable (probablemente va a ocurrir) | E43: 4 | F43: 5 | H43: 6 | K43: 7 | M43: 8 | O43: 9
B44: Casi cierto (ocurre en la mayoria de circunstancias) | E44: 5 | F44: 6 | H44: 7 | K44: 8 | M44: 9 | O44: 10

Sheet ASIGNACION Y TRATAMIENTO
D2: MATRIZ DE RIESGOS DE CONTRATACIÓN | W2: Código: GCO-GCI-F164 Versión: 01 Vigencia: 16 diciembre de 2021 Caso HOLA: 206942
B6: =+EVALUACION!B5 -> Objeto Contractual: Adquirir a título de compra los elementos requeridos para el desarrollo de las acciones enmarcada en el proyecto de inversión 1903 “Acuerdos para el espacio público en el marco del contrato social para Puente Aranda”, conforme a los estudios previos, el anexo técnico, y propuesta económica presentada.
B7: IDENTIFICACIÓN, ANALISIS, EVALUACIÓN , ASIGNACIÓN Y TRATAMIENTO DE RIESGOS EN LA CONTRATACIÓN
B8: Esta matriz es un documento anexo del Estudio Previo
B10: No | C10: Descripción (Que puede pasar y, cómo puede ocurrir) | D10: Etapa | E10: Clase | F10: Fuente | G10: Consecuencias de la ocurrencia del evento | H10: Probabilidad | I10: Impacto | J10: Calificación total | K10: Prioridad | L10: ¿A quien se le asigna? | M10: % | N10: Tratamiento/Controles a ser implementados | O10: Probabilidad | P10: Impacto | Q10: Calificación total | R10: Prioridad | S10: ¿Afecta el equilibrio económico del contrato? | T10: Persona responsable por implementar el tratamiento | U10: Fecha estimada en que se inicia el tratamiento | V10: Fecha estimada en que se completa el tratamiento | W10: ¿Cómo se realiza el monitoreo | X10: Periodicidad ¿Cuándo?
B11: 1 | C11: Inclusión de condiciones jurídicas, técnicas y/o financieras que NO puedan ser cumplidas por ningún oferente. | D11: =+'EVALUACION CON CONTROLES'!A16 -> Planeación | E11: General | F11: Interno | G11: =+EVALUACION!H16 -> Declaratoria de desierto del proceso de contratación | H11: =+EVALUACION!I16 -> 2 | I11: =+EVALUACION!J16 -> 5 | J11: =+EVALUACION!K16 -> 7 | K11: =+EVALUACION!L16 -> ALTO | L11: A la entidad contratante | N11: =+'EVALUACION CON CONTROLES'!F16 -> Revisión de las condiciones técnicas exigidas vs. las necesidades de la Entidad, con el fin de adoptar las decisiones pertinentes. Análisis y consideración de las observaciones presentadas por los posibles interesados en la etapa de proyecto de pliego y pliego de condiciones definitivo. | O11: =+'EVALUACION CON CONTROLES'!H16 -> 2 | P11: =+'EVALUACION CON CONTROLES'!I16 -> 5 | Q11: =+'EVALUACION CON CONTROLES'!J16 -> 7 | R11: =+'EVALUACION CON CONTROLES'!K16 -> ALTO | S11: =+'EVALUACION CON CONTROLES'!L16 -> No, toda vez que el proceso se declaró desierto. | T11: =+'EVALUACION CON CONTROLES'!M16 -> Los funcionarios responsables de la planeación del proceso. | U11: =+'EVALUACION CON CONTROLES'!N16 -> El mismo día de la declaratoria de desierta del proceso de contratación. | V11: =+'EVALUACION CON CONTROLES'!O16 -> El día de cierre del proceso de contratación. | ... X11: =+'EVALUACION CON CONTROLES'!Q16 -> Durante la etapa de planeación y la etapa pre contractual del proceso de contratación.
B12: 2 | C12: No perfeccionar el contrato por falta de expedición del CRP (Certificado de Registro Presupuestal) | D12: =+'EVALUACION CON CONTROLES'!A17 -> Contratación | E12: General | F12: Interno | G12: =+EVALUACION!H17 -> Incumplimiento por parte de la entidad de Ia normativa vigente y retraso en el perfeccionamiento del contrato. | H12: =+EVALUACION!I17 -> 1 | I12: =+EVALUACION!J17 -> 3 | J12: =+EVALUACION!K17 -> 4 | K12: =+EVALUACION!L17 -> BAJO | L12: A la entidad contratante | N12: =+'EVALUACION CON CONTROLES'!F17 -> Realizar control y revisión permanente en cada una de las etapas de perfeccionamiento del contrato. | O12: =+'EVALUACION CON CONTROLES'!H17 -> 1 | P12: =+'EVALUACION CON CONTROLES'!I17 -> 3 | Q12: =+'EVALUACION CON CONTROLES'!J17 -> 4 | R12: =+'EVALUACION CON CONTROLES'!K17 -> BAJO | S12: =+'EVALUACION CON CONTROLES'!L17 -> Si, debido a que no permite el perfeccionamiento del contrato. | T12: =+'EVALUACION CON CONTROLES'!M17 -> Los funcionarios responsables del presupuesto. | U12: =+'EVALUACION CON CONTROLES'!N17 -> Fechas de perfeccionamiento del contrato. | V12: =+'EVALUACION CON CONTROLES'!O17 -> Fechas de perfeccionamiento del contrato. | ... X12: =+'EVALUACION CON CONTROLES'!Q17 -> Durante la etapa de perfeccionamiento del contrato.
B13: 3 | C13: El pliego de condiciones NO contempla todos los requisitos que deben cumplir los oferentes. | D13: =+'EVALUACION CON CONTROLES'!A18 -> Selección | E13: Específico | F13: Interno | G13: =+EVALUACION!H18 -> Los proponentes no cumplen con el objeto contractual en los términos de ley. | H13: =+EVALUACION!I18 -> 1 | I13: =+EVALUACION!J18 -> 3 | J13: =+EVALUACION!K18 -> 4 | K13: =+EVALUACION!L18 -> BAJO | L13: A la Entidad Contratante | N13: =+'EVALUACION CON CONTROLES'!F18 -> Análisis y revisión por parte de la Entidad Contratante, antes de la publicación de los estudios previos y del proyecto de pliego de condiciones, de la totalidad de los requisitos exigidos por ley para la contratación de las empresas prestadoras del servicio. | O13: =+'EVALUACION CON CONTROLES'!H18 -> 1 | P13: =+'EVALUACION CON CONTROLES'!I18 -> 3 | Q13: =+'EVALUACION CON CONTROLES'!J18 -> 4 | R13: =+'EVALUACION CON CONTROLES'!K18 -> BAJO | S13: =+'EVALUACION CON CONTROLES'!L18 -> Si, afecta el cumplimiento de las metas relacionadas con la puesta en marcha de los programa recreo deportivos de la Alcaldía Local. | T13: =+'EVALUACION CON CONTROLES'!M18 -> Los funcionarios responsables de elaborar los documentos del proceso de contratación | U13: =+'EVALUACION CON CONTROLES'!N18 -> Desde la etapa de planeación del proceso de contratación y hasta el último plazo para la expedición de adendas. | V13: =+'EVALUACION CON CONTROLES'!O18 -> El día de cierre del proceso de contratación. | ... X13: =+'EVALUACION CON CONTROLES'!Q18 -> Antes de elaborar los Estudios Previos del nuevo proceso de contratación y antes del cierre del proceso, los funcionarios responsables de la Entidad deben verificar todos los requisitos legales de operación de las empresas.
B14: 4 | C14: Demora en la entrega de la garantía de cumplimiento del contrato por parte del adjudicatario. | D14: =+'EVALUACION CON CONTROLES'!A19 -> Contratación | E14: General | F14: Externo | G14: =+EVALUACION!H19 -> Se deberá hacer efectiva la póliza de seriedad de la oferta. | H14: =+EVALUACION!I19 -> 1 | I14: =+EVALUACION!J19 -> 5 | J14: =+EVALUACION!K19 -> 6 | K14: =+EVALUACION!L19 -> ALTO | L14: Al proponente adjudicatario | N14: =+'EVALUACION CON CONTROLES'!F19 -> Establecer claramente en los documentos del proceso de contratación, las sanciones y consecuencias a las que se vería expuesto el adjudicatario por el no otorgamiento de la garantía de cumplimiento del contrato. | O14: =+'EVALUACION CON CONTROLES'!H19 -> 1 | P14: =+'EVALUACION CON CONTROLES'!I19 -> 5 | Q14: =+'EVALUACION CON CONTROLES'!J19 -> 6 | R14: =+'EVALUACION CON CONTROLES'!K19 -> ALTO | S14: =+'EVALUACION CON CONTROLES'!L19 -> Si, teniendo en cuenta que si el adjudicatario no puede cumplir con este requisito de legalización, la Entidad debe adelantar un nuevo proceso de selección y habría un retraso en la contratación | T14: =+'EVALUACION CON CONTROLES'!M19 -> El ordenador del gasto a través del abogado del FDL. | U14: =+'EVALUACION CON CONTROLES'!N19 -> Desde la etapa de planeación del proceso de contratación. | V14: =+'EVALUACION CON CONTROLES'!O19 -> El día en que el adjudicatario otorga la garantía de cumplimiento. | ... X14: =+'EVALUACION CON CONTROLES'!Q19 -> Durante la elaboración de los Estudios Previos del nuevo proceso de contratación y hasta que el adjudicatario otorgue la garantía de cumplimiento.
B15: 5 | C15: Incumplimiento en los tiempos de entrega y en la calidad de los bienes y servicios contratados. | D15: =+'EVALUACION CON CONTROLES'!A20 -> Ejecución | E15: General | F15: Externo | G15: =+EVALUACION!H20 -> Mala ejecución del objeto contratado. | H15: =+EVALUACION!I20 -> 3 | I15: =+EVALUACION!J20 -> 5 | J15: =+EVALUACION!K20 -> 8 | K15: =+EVALUACION!L20 -> EXTREMO | L15: El contratista | N15: =+'EVALUACION CON CONTROLES'!F20 -> Exigir al contratista la suscripción de una póliza para la calidad del servicio y la entrega de los mismos. | O15: =+'EVALUACION CON CONTROLES'!H20 -> 3 | P15: =+'EVALUACION CON CONTROLES'!I20 -> 5 | Q15: =+'EVALUACION CON CONTROLES'!J20 -> 8 | R15: =+'EVALUACION CON CONTROLES'!K20 -> EXTREMO | S15: =+'EVALUACION CON CONTROLES'!L20 -> Si, afecta el desarrollo de las actividades programadas en los componentes y en la implementación de los esquemas de seguridad. | T15: =+'EVALUACION CON CONTROLES'!M20 -> Supervisión del contrato | U15: =+'EVALUACION CON CONTROLES'!N20 -> Desde la formalización del contrato | V15: =+'EVALUACION CON CONTROLES'!O20 -> Hasta la entrega de los bienes y servicios | ... X15: =+'EVALUACION CON CONTROLES'!Q20 -> En el marco de los comités técnicos organizados para el desarrollo del objeto contractual.
B16: 6 | C16: Afectación en el equilibrio económico del contrato durante la ejecución. | D16: =+'EVALUACION CON CONTROLES'!A21 -> Ejecución | E16: General | F16: Interno | G16: =+EVALUACION!H21 -> Mala ejecución del objeto contratado. No es posible satisfacer la necesidad de la entidad. | H16: =+EVALUACION!I21 -> 3 | I16: =+EVALUACION!J21 -> 4 | J16: =+EVALUACION!K21 -> 7 | K16: =+EVALUACION!L21 -> ALTO | L16: A la entidad contratante | N16: =+'EVALUACION CON CONTROLES'!F21 -> Evitar el riesgo mediante la elaboración de los estudios del sector, acorde con la metodología establecida en la guía G-EES-02 de Colombia Compra Eficiente y dando cumplimiento a la normatividad vigente. | O16: =+'EVALUACION CON CONTROLES'!H21 -> 3 | P16: =+'EVALUACION CON CONTROLES'!I21 -> 4 | Q16: =+'EVALUACION CON CONTROLES'!J21 -> 7 | R16: =+'EVALUACION CON CONTROLES'!K21 -> ALTO | S16: =+'EVALUACION CON CONTROLES'!L21 -> Si, afecta el desarrollo de las actividades programadas en los componentes y en la implementación de los esquemas de seguridad. | T16: =+'EVALUACION CON CONTROLES'!M21 -> Supervisión del contrato. | U16: =+'EVALUACION CON CONTROLES'!N21 -> Desde la formalización del contrato. | V16: =+'EVALUACION CON CONTROLES'!O21 -> Hasta la entrega de los bienes y servicios. | ... X16: =+'EVALUACION CON CONTROLES'!Q21 -> En las reuniones entre el supervisor y el contratista.
B17: 7 | C17: Dificultades en la ejecución del objeto debido a que la convocatoria no es efectiva. | D17: =+'EVALUACION CON CONTROLES'!A22 -> Ejecución | E17: General | F17: Externo | G17: =+EVALUACION!H22 -> Retraso en el cronograma de actividades. | H17: =+EVALUACION!I22 -> 3 | I17: =+EVALUACION!J22 -> 4 | J17: =+EVALUACION!K22 -> 7 | K17: =+EVALUACION!L22 -> ALTO | L17: A la entidad contratante y el contratista | N17: =+'EVALUACION CON CONTROLES'!F22 -> La supervisión determina las acciones a seguir ante las dificultades en la convocatoria. | O17: =+'EVALUACION CON CONTROLES'!H22 -> 3 | P17: =+'EVALUACION CON CONTROLES'!I22 -> 4 | Q17: =+'EVALUACION CON CONTROLES'!J22 -> 7 | R17: =+'EVALUACION CON CONTROLES'!K22 -> ALTO | S17: =+'EVALUACION CON CONTROLES'!L22 -> Si, puede ocasionar el aplazamiento del contrato. | T17: =+'EVALUACION CON CONTROLES'!M22 -> Supervisión del contrato. | U17: =+'EVALUACION CON CONTROLES'!N22 -> Durante la ejecución del contrato. | V17: =+'EVALUACION CON CONTROLES'!O22 -> Hasta la finalización del evento. | ... X17: =+'EVALUACION CON CONTROLES'!Q22 -> En las reuniones entre el supervisor y el contratista
B18: 8 | C18: Las restricciones de transporte y además aspectos que impidan la entrega de los bienes la perdida, destrucción, deterioro o robo de los elementos que se utilizan para el desarrollo del objeto del presente proceso hasta y durante la suscripción del acta del recibido a satisfacción de los bienes. | D18: =+'EVALUACION CON CONTROLES'!A23 -> Ejecución | E18: General | F18: Externo | G18: =+EVALUACION!H23 -> Perdidas económicas al contratista | H18: =+EVALUACION!I23 -> 3 | I18: =+EVALUACION!J23 -> 2 | J18: =+EVALUACION!K23 -> 5 | K18: =+EVALUACION!L23 -> MEDIO | L18: Contratista | N18: =+'EVALUACION CON CONTROLES'!F23 -> El contratista asumirá el riesgo y deberá tomar las medidas pertinentespara evitar la ocurrencia del riesgo. | O18: =+'EVALUACION CON CONTROLES'!H23 -> 3 | P18: =+'EVALUACION CON CONTROLES'!I23 -> 2 | Q18: =+'EVALUACION CON CONTROLES'!J23 -> 5 | R18: =+'EVALUACION CON CONTROLES'!K23 -> MEDIO | S18: =+'EVALUACION CON CONTROLES'!L23 -> Si, afecta la entrega a satisfacción del bien o servicio contratado y posterior liquidación | T18: =+'EVALUACION CON CONTROLES'!M23 -> Supervisión y/o Apoyo a la supervisión | U18: =+'EVALUACION CON CONTROLES'!N23 -> Desde el inicio del contrato de manera preventiva | V18: =+'EVALUACION CON CONTROLES'!O23 -> Hasta la liquidación del contrato | ... X18: =+'EVALUACION CON CONTROLES'!Q23 -> Cada actividad mensualmente.
B19: 9 | C19: Recibir bienes que no cumples con las especificaciones técnicas establecidas por la entidad | D19: =+'EVALUACION CON CONTROLES'!A24 -> Ejecución | E19: General | F19: Externo | G19: =+EVALUACION!H24 -> Detrimentro patrimonial sanciones disciplinarias fiscales y/o penales incumplimiento de las metas propuestas por la entidad | H19: =+EVALUACION!I24 -> 3 | I19: =+EVALUACION!J24 -> 2 | J19: =+EVALUACION!K24 -> 5 | K19: =+EVALUACION!L24 -> MEDIO | L19: Contratista | N19: =+'EVALUACION CON CONTROLES'!F24 -> Revisión exhaustiva por parte del supervisor de los bienes entregados por parte del contratista los cuales deben estar acorde a las exigencias de la entidad. | O19: =+'EVALUACION CON CONTROLES'!H24 -> 3 | P19: =+'EVALUACION CON CONTROLES'!I24 -> 2 | Q19: =+'EVALUACION CON CONTROLES'!J24 -> 5 | R19: =+'EVALUACION CON CONTROLES'!K24 -> MEDIO | S19: =+'EVALUACION CON CONTROLES'!L24 -> Si, afecta la entrega a satisfacción del bien o servicio contratado y posterior liquidación | T19: =+'EVALUACION CON CONTROLES'!M24 -> Supervisión y/o Apoyo a la supervisión | U19: =+'EVALUACION CON CONTROLES'!N24 -> Desde el inicio del contrato de manera preventiva | V19: =+'EVALUACION CON CONTROLES'!O24 -> Hasta la liquidación del contrato | ... X19: =+'EVALUACION CON CONTROLES'!Q24 -> Cada actividad mensualmente.
B20: 10 | C20: No tener en cuenta desde el inicio del contrato tanto la politíca ambiental de la Alcaldía Local -PIGA-como la guia verde de contratación y normatividad ambiental vigente en relación al objeto del contrato. | D20: =+'EVALUACION CON CONTROLES'!A25 -> Ejecución | E20: General | F20: Externo | G20: =+EVALUACION!H25 -> El contratista asumira el sobre costo | H20: =+EVALUACION!I25 -> 3 | I20: =+EVALUACION!J25 -> 3 | J20: =+EVALUACION!K25 -> 6 | K20: =+EVALUACION!L25 -> ALTO | L20: Contratista | N20: =+'EVALUACION CON CONTROLES'!F25 -> El contratista debera reunirse con el referente de PIGA o ambiental para cumplir con las obligaciones y requisitos del tema. | O20: =+'EVALUACION CON CONTROLES'!H25 -> 3 | P20: =+'EVALUACION CON CONTROLES'!I25 -> 3 | Q20: =+'EVALUACION CON CONTROLES'!J25 -> 6 | R20: =+'EVALUACION CON CONTROLES'!K25 -> ALTO | S20: =+'EVALUACION CON CONTROLES'!L25 -> No, depresentarse el riesgo, el contratista deberá tomar las medidas necesarias sin que afecte el contrato | T20: =+'EVALUACION CON CONTROLES'!M25 -> Supervisión y/o Apoyo a la supervisión | U20: =+'EVALUACION CON CONTROLES'!N25 -> Desde el inicio del contrato | V20: =+'EVALUACION CON CONTROLES'!O25 -> Hasta la liquidación del contrato | ... X20: =+'EVALUACION CON CONTROLES'!Q25 -> Cada actividad mensualmente.
F22: Categoria | J22: Impacto del Riesgo
E23: Probabilidad | F23: Catagoria | G23: Valoración | J23: Categoria | L23: Valoración
F24: Raro (puede ocurrir excepcionalmente) | G24: 1 | J24: Insignificante | L24: 1
F25: Improbable (puede ocurrir ocasionalmente) | G25: 2 | J25: Menor | L25: 2
F26: Posible (puede ocurrir en cualquier momento futuro) | G26: 3 | J26: Moderado | L26: 3
F27: Probable (probablemente va a ocurrir) | G27: 4 | J27: Mayor | L27: 4
F28: Casi cierto (ocurre en la mayoria de circunstancias) | G28: 5 | J28: Catastrófico | L28: 5
D30: Valoración del Riesgo
D31: Catagoria | E31: Valoración | F31: Insignificante | H31: Menor | J31: Moderado | K31: Mayor | L31: Catastrófico | P31: Categoria del Riesgo
F32: 1 | H32: 2 | J32: 3 | K32: 4 | L32: 5 | P32: Valoración del Riesgo | S32: Categoría
D33: Raro (puede ocurrir excepcionalmente) | E33: 1 | F33: 2 | H33: 3 | J33: 4 | K33: 5 | L33: 6 | P33: 8, 9 y 10 | S33: Riesgo extremo
D34: Improbable (puede ocurrir ocasionalmente) | E34: 2 | F34: 3 | H34: 4 | J34: 5 | K34: 6 | L34: 7 | P34: 6 y 7 | S34: Riesgo alto
D35: Posible (puede ocurrir en cualquier momento futuro) | E35: 3 | F35: 4 | H35: 5 | J35: 6 | K35: 7 | L35: 8 | P35: 5 | S35: Riesgo medio
D36: Probable (probablemente va a ocurrir) | E36: 4 | F36: 5 | H36: 6 | J36: 7 | K36: 8 | L36: 9 | P36: 2, 3 y 4 | S36: Riesgo bajo
D37: Casi cierto (ocurre en la mayoria de circunstancias) | E37: 5 | F37: 6 | H37: 7 | J37: 8 | K37: 9 | L37: 10
B42: CONTRATISTA
B43: SDG
B44: CONTRATISTA Y SDG
