Workbook

Sheet BD
A1: CLASE | B1: FUENTE | C1: ETAPA | D1: TIPO | E1: PROBABILIDAD | F1: IMPACTO | G1: CALIFICACION MONETARIA | H1: CATEGORIA DEL RIESGO | I1: ASIGNACION | K1: FUNCIONARIOS
A2: General | B2: Interna | C2: Planeacion | D2: Economico | E2: 1 | F2: 1 | G2: 0.01 | H2: Riesgo extremo | I2: Contratante | K2: Abel Mier Granda
A3: Especifico | B3: Externa | C3: Selección | D3: Social o Politico | E3: 2 | F3: 2 | G3: 0.05 | H3: Riesgo alto | I3: Contratista | K3: Ana Maria Vallejo Castaño
C4: Contratacion | D4: Operacionales | E4: 3 | F4: 3 | G4: 5% AL 15% | H4: Riesgo medio | K4: Carolina Urbina Rincon
C5: Ejecucion | D5: Financieros | E5: 4 | F5: 4 | G5: 15% AL 30% | H5: Riesgo bajo | K5: Catalina Rios Palacio
D6: Regulatorios | E6: 5 | F6: 5 | G6: > 30% | K6: Catalina Sánchez Arango
D7: Naturaleza | K7: Claudia Alexandra Mora Gil
D8: Ambientales | K8: Diana Marcela Orrego
D9: Tecnologicos | K9: Dora Luz Gaviria
K10: Gladis Stella Hernández Pino
K11: Gloria Alexandra Londoño
K12: Irma Lucia Cardona Giraldo
K13: Javier Duque Araque
K14: Jessica Arango Castrillon
K15: Juan Fernando Alzate Echeverri
K16: Juan Ignacio Restrepo Avendaño
K17: Karina Montes Jimenez
K18: Liliana Maria Correa
K19: Lina María Restrepo Garcés
K20: Luz Dary Castañeda Correa
K21: Manuela Vallejo
... K30: #

Sheet IMPLEM.SEG INDUSTRIAL
A1: N° | B1: CLASE | C1: FUENTE | D1: ETAPA | E1: TIPO | F1: DESCRIPCION | G1: CONCECUENCIA | H1: PROBABILDIAD | I1: IMPACTO | J1: VALORACION | K1: VALOR CONTRATO | L1: PORCENTAJE INPACTO DE LISTA | M1: PORCENTAJE INPACTO ASIGNADO | N1: VALORACION CUANTITATIVA | O1: CATEGORIA | P1: A QUIEN SE LE ASIGNA | Q1: CONTROLES | R1: IMPACTO DESPUES DEL TRATAMIENTO | V1: AFECTA LA EJECUCION DEL CONTRATO | W1: RESPONSABLE | X1: FECHA DE TRATAMIENTO | Z1: MONITOREO
R2: PROBABILIDAD | S2: IMPACTO | T2: VALORACION | U2: CATEGORIA | X2: INICIO | Y2: TERMINA | Z2: ACTIVIDADES | AA2: PERIODICIDAD
A3: 1 | B3: General | C3: Externa | D3: Planeacion | E3: Regulatorios | F3: Incumplimiento en los plazos pactados para la entrega del servicio | G3: Probabilidades mayor del riesgo en caso de presentarse una emergencia, afectando la salud y la seguridad del personal administrativo, docente y estudiantil | H3: 1 | I3: 4 | J3: 5 | K3: 3000000 | L3: =IFERROR(VLOOKUP(I3,BD!$F$2:$G$6,2,FALSE),"INGRESAR EL IMPACTO") -> 15% AL 30% | M3: 0.05 | N3: =K3*M3 -> 150000 | O3: =IF(AND(J3>=2,J3<=4),"Riesgo Bajo",IF(J3=5,"Riesgo Medio",IF(OR(J3=6,J3=7),"Riesgo Alto",IF(AND(J3>=8,J3<=10),"Riesto Extremo"," ")))) -> Riesgo Medio | P3: Contratista | Q3: Hacer uso de las herramientas juridicas para que el contratista cumpla con los plazos establecidos | R3: 1 | S3: 2 | T3: =SUM(R3+S3) -> 3 | U3: =IF(AND(T3>=2,T3<=4),"Riesgo Bajo",IF(T3=5,"Riesgo Medio",IF(OR(T3=6,T3=7),"Riesgo Alto",IF(AND(T3>=8,T3<=10),"Riesto Extremo","")))) -> Riesgo Bajo | V3: SI | W3: Catalina Rios Palacio
A4: 2 | B4: General | C4: Externa | D4: Planeacion | E4: Operacionales | F4: No presentacion de ofertas para el proceso contractual | G4: Afectación del servicio | H4: 1 | I4: 3 | J4: =SUM(H4:I4) -> 4 | K4: 3000000 | L4: =IFERROR(VLOOKUP(I4,BD!$F$2:$G$6,2,FALSE),"INGRESAR EL IMPACTO") -> 5% AL 15% | M4: 0.05 | N4: =K4*M4 -> 150000 | O4: =IF(AND(J4>=2,J4<=4),"Riesgo Bajo",IF(J4=5,"Riesgo Medio",IF(OR(J4=6,J4=7),"Riesgo Alto",IF(AND(J4>=8,J4<=10),"Riesto Extremo"," ")))) -> Riesgo Bajo | P4: Contratista | Q4: Realizar una debida planeacion de los recusos, estudios de mercado y garantizar la pluralidad de oferentes en los procesos contractuales. | R4: 1 | S4: 2 | T4: =SUM(R4+S4) -> 3 | U4: =IF(AND(T4>=2,T4<=4),"Riesgo Bajo",IF(T4=5,"Riesgo Medio",IF(OR(T4=6,T4=7),"Riesgo Alto",IF(AND(T4>=8,T4<=10),"Riesto Extremo","")))) -> Riesgo Bajo | V4: SI | W4: Catalina Rios Palacio
A5: 3 | B5: Especifico | C5: Externa | D5: Ejecucion | E5: Operacionales | F5: No cumplimiento de las especificaciones tecnicas | G5: Sanciones legales, perdida de recursos, riesgo de accidentes de trabajo y enfermedades profesionales. | H5: 1 | I5: 3 | J5: =SUM(H5:I5) -> 4 | K5: 3000000 | L5: =IFERROR(VLOOKUP(I5,BD!$F$2:$G$6,2,FALSE),"INGRESAR EL IMPACTO") -> 5% AL 15% | M5: 0.1 | N5: =K5*M5 -> 300000 | O5: =IF(AND(J5>=2,J5<=4),"Riesgo Bajo",IF(J5=5,"Riesgo Medio",IF(OR(J5=6,J5=7),"Riesgo Alto",IF(AND(J5>=8,J5<=10),"Riesto Extremo"," ")))) -> Riesgo Bajo | P5: Contratista | Q5: Para garantizar que el servicio cumpla con las especificaciones tecnicas, se debe contar con una persona que ayude a la identifcacion correcta de los mismos.2, El supervisor no dar el recibido a entera satisfaccion ni autoriar el pago hasta que se de cumplimiento a las especificaciones tecnicas establecidas en el contrato. | R5: 1 | S5: 3 | T5: =SUM(R5+S5) -> 4 | U5: =IF(AND(T5>=2,T5<=4),"Riesgo Bajo",IF(T5=5,"Riesgo Medio",IF(OR(T5=6,T5=7),"Riesgo Alto",IF(AND(T5>=8,T5<=10),"Riesto Extremo","")))) -> Riesgo Bajo | V5: NO | W5: Catalina Rios Palacio
A6: 4 | B6: Especifico | C6: Interna | D6: Ejecucion | E6: Operacionales | F6: Baja calidad de los insumos sumnistrados | G6: Sanciones legales y economicas para la institucion, deterioro de la imagen institucional,perdida de recursos | H6: 1 | I6: 3 | J6: 5 | K6: 3000000 | L6: =IFERROR(VLOOKUP(I6,BD!$F$2:$G$6,2,FALSE),"INGRESAR EL IMPACTO") -> 5% AL 15% | M6: 0.1 | N6: =K6*M6 -> 300000 | O6: =IF(AND(J6>=2,J6<=4),"Riesgo Bajo",IF(J6=5,"Riesgo Medio",IF(OR(J6=6,J6=7),"Riesgo Alto",IF(AND(J6>=8,J6<=10),"Riesto Extremo"," ")))) -> Riesgo Medio | P6: Contratista | Q6: Para garantizar la calidad del servicio solicitado por el CEFIT, se deberá verificar desde la evaluación del proceso que cuente con todos los equipos necesarios e idoneidad del personal, asi mismo se solicitará Capacitación en Clases de Fuego y Manejo de extintores al personal del CEFIT | R6: 2 | S6: 2 | T6: =SUM(R6+S6) -> 4 | U6: =IF(AND(T6>=2,T6<=4),"Riesgo Bajo",IF(T6=5,"Riesgo Medio",IF(OR(T6=6,T6=7),"Riesgo Alto",IF(AND(T6>=8,T6<=10),"Riesto Extremo","")))) -> Riesgo Bajo | V6: NO | W6: Catalina Rios Palacio
A7: 5 | B7: General | C7: Externa | D7: Planeacion | E7: Regulatorios | F7: Cambio de normatividad en los procesos contractuales | G7: Demora de la adecuacion de los procesos administrativos para dar cumplimiento a la nueva normatividad de los procesos contractuales | H7: 2 | I7: 3 | J7: =SUM(H7:I7) -> 5 | K7: 3000000 | L7: =IFERROR(VLOOKUP(I7,BD!$F$2:$G$6,2,FALSE),"INGRESAR EL IMPACTO") -> 5% AL 15% | M7: 0.05 | N7: =K7*M7 -> 150000 | O7: =IF(AND(J7>=2,J7<=4),"Riesgo Bajo",IF(J7=5,"Riesgo Medio",IF(OR(J7=6,J7=7),"Riesgo Alto",IF(AND(J7>=8,J7<=10),"Riesto Extremo"," ")))) -> Riesgo Medio | P7: Contratante | Q7: Realizar una debida planeacion de los recurso, de tal forma que se garantice incluyendo el proceso de acreditacion a la nueva normatividad | R7: 2 | S7: 2 | T7: =SUM(R7+S7) -> 4 | U7: =IF(AND(T7>=2,T7<=4),"Riesgo Bajo",IF(T7=5,"Riesgo Medio",IF(OR(T7=6,T7=7),"Riesgo Alto",IF(AND(T7>=8,T7<=10),"Riesto Extremo","")))) -> Riesgo Bajo | V7: SI | W7: Catalina Rios Palacio
L8: =IFERROR(VLOOKUP(I8,BD!$F$2:$G$6,2,FALSE),"INGRESAR EL IMPACTO") -> INGRESAR EL IMPACTO | N8: =K8*M8 -> 0 | O8: =IF(AND(J8>=2,J8<=4),"Riesgo Bajo",IF(J8=5,"Riesgo Medio",IF(OR(J8=6,J8=7),"Riesgo Alto",IF(AND(J8>=8,J8<=10),"Riesto Extremo"," ")))) | T8: =SUM(R8+S8) -> 0 | U8: =IF(AND(T8>=2,T8<=4),"Riesgo Bajo",IF(T8=5,"Riesgo Medio",IF(OR(T8=6,T8=7),"Riesgo Alto",IF(AND(T8>=8,T8<=10),"Riesto Extremo",""))))
J9: =SUM(H9:I9) -> 0 | L9: =IFERROR(VLOOKUP(I9,BD!$F$2:$G$6,2,FALSE),"INGRESAR EL IMPACTO") -> INGRESAR EL IMPACTO | N9: =K9*M9 -> 0 | O9: =IF(AND(J9>=2,J9<=4),"Riesgo Bajo",IF(J9=5,"Riesgo Medio",IF(OR(J9=6,J9=7),"Riesgo Alto",IF(AND(J9>=8,J9<=10),"Riesto Extremo"," ")))) | T9: =SUM(R9+S9) -> 0 | U9: =IF(AND(T9>=2,T9<=4),"Riesgo Bajo",IF(T9=5,"Riesgo Medio",IF(OR(T9=6,T9=7),"Riesgo Alto",IF(AND(T9>=8,T9<=10),"Riesto Extremo",""))))

Sheet MATRIZ
A1: N° | B1: CLASE | C1: FUENTE | D1: ETAPA | E1: TIPO | F1: DESCRIPCION | G1: CONCECUENCIA | H1: PROBABILDIAD | I1: IMPACTO | J1: VALORACION | K1: VALOR CONTRATO | L1: PORCENTAJE INPACTO DE LISTA | M1: PORCENTAJE INPACTO ASIGNADO | N1: VALORACION CUANTITATIVA | O1: CATEGORIA | P1: A QUIEN SE LE ASIGNA | Q1: CONTROLES | R1: IMPACTO DESPUES DEL TRATAMIENTO | V1: AFECTA LA EJECUCION DEL CONTRATO | W1: RESPONSABLE | X1: FECHA DE TRATAMIENTO | Z1: MONITOREO
R2: PROBABILIDAD | S2: IMPACTO | T2: VALORACION | U2: CATEGORIA | X2: INICIO | Y2: TERMINA | Z2: ACTIVIDADES | AA2: PERIODICIDAD
J3: =SUM(H3:I3) -> 0 | L3: =IFERROR(VLOOKUP(I3,BD!$F$2:$G$6,2,FALSE),"INGRESAR EL IMPACTO") -> INGRESAR EL IMPACTO | N3: =K3*M3 -> 0 | O3: =IF(AND(J3>=2,J3<=4),"Riesgo Bajo",IF(J3=5,"Riesgo Medio",IF(OR(J3=6,J3=7),"Riesgo Alto",IF(AND(J3>=8,J3<=10),"Riesto Extremo"," ")))) | T3: =SUM(R3+S3) -> 0 | U3: =IF(AND(T3>=2,T3<=4),"Riesgo Bajo",IF(T3=5,"Riesgo Medio",IF(OR(T3=6,T3=7),"Riesgo Alto",IF(AND(T3>=8,T3<=10),"Riesto Extremo",""))))
J4: =SUM(H4:I4) -> 0 | L4: =IFERROR(VLOOKUP(I4,BD!$F$2:$G$6,2,FALSE),"INGRESAR EL IMPACTO") -> INGRESAR EL IMPACTO | N4: =K4*M4 -> 0 | O4: =IF(AND(J4>=2,J4<=4),"Riesgo Bajo",IF(J4=5,"Riesgo Medio",IF(OR(J4=6,J4=7),"Riesgo Alto",IF(AND(J4>=8,J4<=10),"Riesto Extremo"," ")))) | T4: =SUM(R4+S4) -> 0 | U4: =IF(AND(T4>=2,T4<=4),"Riesgo Bajo",IF(T4=5,"Riesgo Medio",IF(OR(T4=6,T4=7),"Riesgo Alto",IF(AND(T4>=8,T4<=10),"Riesto Extremo",""))))
J5: =SUM(H5:I5) -> 0 | L5: =IFERROR(VLOOKUP(I5,BD!$F$2:$G$6,2,FALSE),"INGRESAR EL IMPACTO") -> INGRESAR EL IMPACTO | N5: =K5*M5 -> 0 | O5: =IF(AND(J5>=2,J5<=4),"Riesgo Bajo",IF(J5=5,"Riesgo Medio",IF(OR(J5=6,J5=7),"Riesgo Alto",IF(AND(J5>=8,J5<=10),"Riesto Extremo"," ")))) | T5: =SUM(R5+S5) -> 0 | U5: =IF(AND(T5>=2,T5<=4),"Riesgo Bajo",IF(T5=5,"Riesgo Medio",IF(OR(T5=6,T5=7),"Riesgo Alto",IF(AND(T5>=8,T5<=10),"Riesto Extremo",""))))
J6: =SUM(H6:I6) -> 0 | L6: =IFERROR(VLOOKUP(I6,BD!$F$2:$G$6,2,FALSE),"INGRESAR EL IMPACTO") -> INGRESAR EL IMPACTO | N6: =K6*M6 -> 0 | O6: =IF(AND(J6>=2,J6<=4),"Riesgo Bajo",IF(J6=5,"Riesgo Medio",IF(OR(J6=6,J6=7),"Riesgo Alto",IF(AND(J6>=8,J6<=10),"Riesto Extremo"," ")))) | T6: =SUM(R6+S6) -> 0 | U6: =IF(AND(T6>=2,T6<=4),"Riesgo Bajo",IF(T6=5,"Riesgo Medio",IF(OR(T6=6,T6=7),"Riesgo Alto",IF(AND(T6>=8,T6<=10),"Riesto Extremo",""))))
J7: =SUM(H7:I7) -> 0 | L7: =IFERROR(VLOOKUP(I7,BD!$F$2:$G$6,2,FALSE),"INGRESAR EL IMPACTO") -> INGRESAR EL IMPACTO | N7: =K7*M7 -> 0 | O7: =IF(AND(J7>=2,J7<=4),"Riesgo Bajo",IF(J7=5,"Riesgo Medio",IF(OR(J7=6,J7=7),"Riesgo Alto",IF(AND(J7>=8,J7<=10),"Riesto Extremo"," ")))) | T7: =SUM(R7+S7) -> 0 | U7: =IF(AND(T7>=2,T7<=4),"Riesgo Bajo",IF(T7=5,"Riesgo Medio",IF(OR(T7=6,T7=7),"Riesgo Alto",IF(AND(T7>=8,T7<=10),"Riesto Extremo",""))))
J8: =SUM(H8:I8) -> 0 | L8: =IFERROR(VLOOKUP(I8,BD!$F$2:$G$6,2,FALSE),"INGRESAR EL IMPACTO") -> INGRESAR EL IMPACTO | N8: =K8*M8 -> 0 | O8: =IF(AND(J8>=2,J8<=4),"Riesgo Bajo",IF(J8=5,"Riesgo Medio",IF(OR(J8=6,J8=7),"Riesgo Alto",IF(AND(J8>=8,J8<=10),"Riesto Extremo"," ")))) | T8: =SUM(R8+S8) -> 0 | U8: =IF(AND(T8>=2,T8<=4),"Riesgo Bajo",IF(T8=5,"Riesgo Medio",IF(OR(T8=6,T8=7),"Riesgo Alto",IF(AND(T8>=8,T8<=10),"Riesto Extremo",""))))
J9: =SUM(H9:I9) -> 0 | L9: =IFERROR(VLOOKUP(I9,BD!$F$2:$G$6,2,FALSE),"INGRESAR EL IMPACTO") -> INGRESAR EL IMPACTO | N9: =K9*M9 -> 0 | O9: =IF(AND(J9>=2,J9<=4),"Riesgo Bajo",IF(J9=5,"Riesgo Medio",IF(OR(J9=6,J9=7),"Riesgo Alto",IF(AND(J9>=8,J9<=10),"Riesto Extremo"," ")))) | T9: =SUM(R9+S9) -> 0 | U9: =IF(AND(T9>=2,T9<=4),"Riesgo Bajo",IF(T9=5,"Riesgo Medio",IF(OR(T9=6,T9=7),"Riesgo Alto",IF(AND(T9>=8,T9<=10),"Riesto Extremo",""))))
J10: =SUM(H10:I10) -> 0 | L10: =IFERROR(VLOOKUP(I10,BD!$F$2:$G$6,2,FALSE),"INGRESAR EL IMPACTO") -> INGRESAR EL IMPACTO | N10: =K10*M10 -> 0 | O10: =IF(AND(J10>=2,J10<=4),"Riesgo Bajo",IF(J10=5,"Riesgo Medio",IF(OR(J10=6,J10=7),"Riesgo Alto",IF(AND(J10>=8,J10<=10),"Riesto Extremo"," ")))) | T10: =SUM(R10+S10) -> 0 | U10: =IF(AND(T10>=2,T10<=4),"Riesgo Bajo",IF(T10=5,"Riesgo Medio",IF(OR(T10=6,T10=7),"Riesgo Alto",IF(AND(T10>=8,T10<=10),"Riesto Extremo",""))))
J11: =SUM(H11:I11) -> 0 | L11: =IFERROR(VLOOKUP(I11,BD!$F$2:$G$6,2,FALSE),"INGRESAR EL IMPACTO") -> INGRESAR EL IMPACTO | N11: =K11*M11 -> 0 | O11: =IF(AND(J11>=2,J11<=4),"Riesgo Bajo",IF(J11=5,"Riesgo Medio",IF(OR(J11=6,J11=7),"Riesgo Alto",IF(AND(J11>=8,J11<=10),"Riesto Extremo"," ")))) | T11: =SUM(R11+S11) -> 0 | U11: =IF(AND(T11>=2,T11<=4),"Riesgo Bajo",IF(T11=5,"Riesgo Medio",IF(OR(T11=6,T11=7),"Riesgo Alto",IF(AND(T11>=8,T11<=10),"Riesto Extremo",""))))
J12: =SUM(H12:I12) -> 0 | L12: =IFERROR(VLOOKUP(I12,BD!$F$2:$G$6,2,FALSE),"INGRESAR EL IMPACTO") -> INGRESAR EL IMPACTO | N12: =K12*M12 -> 0 | O12: =IF(AND(J12>=2,J12<=4),"Riesgo Bajo",IF(J12=5,"Riesgo Medio",IF(OR(J12=6,J12=7),"Riesgo Alto",IF(AND(J12>=8,J12<=10),"Riesto Extremo"," ")))) | T12: =SUM(R12+S12) -> 0 | U12: =IF(AND(T12>=2,T12<=4),"Riesgo Bajo",IF(T12=5,"Riesgo Medio",IF(OR(T12=6,T12=7),"Riesgo Alto",IF(AND(T12>=8,T12<=10),"Riesto Extremo",""))))
J13: =SUM(H13:I13) -> 0 | L13: =IFERROR(VLOOKUP(I13,BD!$F$2:$G$6,2,FALSE),"INGRESAR EL IMPACTO") -> INGRESAR EL IMPACTO | N13: =K13*M13 -> 0 | O13: =IF(AND(J13>=2,J13<=4),"Riesgo Bajo",IF(J13=5,"Riesgo Medio",IF(OR(J13=6,J13=7),"Riesgo Alto",IF(AND(J13>=8,J13<=10),"Riesto Extremo"," ")))) | T13: =SUM(R13+S13) -> 0 | U13: =IF(AND(T13>=2,T13<=4),"Riesgo Bajo",IF(T13=5,"Riesgo Medio",IF(OR(T13=6,T13=7),"Riesgo Alto",IF(AND(T13>=8,T13<=10),"Riesto Extremo",""))))
J14: =SUM(H14:I14) -> 0 | L14: =IFERROR(VLOOKUP(I14,BD!$F$2:$G$6,2,FALSE),"INGRESAR EL IMPACTO") -> INGRESAR EL IMPACTO | N14: =K14*M14 -> 0 | O14: =IF(AND(J14>=2,J14<=4),"Riesgo Bajo",IF(J14=5,"Riesgo Medio",IF(OR(J14=6,J14=7),"Riesgo Alto",IF(AND(J14>=8,J14<=10),"Riesto Extremo"," ")))) | T14: =SUM(R14+S14) -> 0 | U14: =IF(AND(T14>=2,T14<=4),"Riesgo Bajo",IF(T14=5,"Riesgo Medio",IF(OR(T14=6,T14=7),"Riesgo Alto",IF(AND(T14>=8,T14<=10),"Riesto Extremo",""))))
... J30: =SUM(H30:I30) -> 0 | L30: =IFERROR(VLOOKUP(I30,BD!$F$2:$G$6,2,FALSE),"INGRESAR EL IMPACTO") -> INGRESAR EL IMPACTO | N30: =K30*M30 -> 0 | O30: =IF(AND(J30>=2,J30<=4),"Riesgo Bajo",IF(J30=5,"Riesgo Medio",IF(OR(J30=6,J30=7),"Riesgo Alto",IF(AND(J30>=8,J30<=10),"Riesto Extremo"," ")))) | T30: =SUM(R30+S30) -> 0 | U30: =IF(AND(T30>=2,T30<=4),"Riesgo Bajo",IF(T30=5,"Riesgo Medio",IF(OR(T30=6,T30=7),"Riesgo Alto",IF(AND(T30>=8,T30<=10),"Riesto Extremo",""))))

Sheet MATRIZ G.
A1: N° | B1: CLASE | C1: FUENTE | D1: ETAPA | E1: TIPO | F1: DESCRIPCION | G1: CONCECUENCIA | H1: PROBABILDIAD | I1: IMPACTO | J1: VALORACION | K1: VALOR CONTRATO | L1: PORCENTAJE INPACTO DE LISTA | M1: PORCENTAJE INPACTO ASIGNADO | N1: VALORACION CUANTITATIVA | O1: CATEGORIA | P1: A QUIEN SE LE ASIGNA | Q1: CONTROLES | R1: IMPACTO DESPUES DEL TRATAMIENTO | V1: AFECTA LA EJECUCION DEL CONTRATO | W1: RESPONSABLE | X1: FECHA DE TRATAMIENTO | Z1: MONITOREO
R2: PROBABILIDAD | S2: IMPACTO | T2: VALORACION | U2: CATEGORIA | X2: INICIO | Y2: TERMINA | Z2: ACTIVIDADES | AA2: PERIODICIDAD
A3: 1 | J3: =SUM(H3+I3) -> 0 | L3: =IFERROR(VLOOKUP(I3,BD!$F$2:$G$6,2,FALSE),"INGRESAR EL IMPACTO") -> INGRESAR EL IMPACTO | N3: =K3*M3 -> 0 | O3: =IF(AND(J3>=2,J3<=4),"Riesgo Bajo",IF(J3=5,"Riesgo Medio",IF(OR(J3=6,J3=7),"Riesgo Alto",IF(AND(J3>=8,J3<=10),"Riesto Extremo"," ")))) | T3: =SUM(R3+S3) -> 0 | U3: =IF(AND(T3>=2,T3<=4),"Riesgo Bajo",IF(T3=5,"Riesgo Medio",IF(OR(T3=6,T3=7),"Riesgo Alto",IF(AND(T3>=8,T3<=10),"Riesto Extremo",""))))
A4: 2 | J4: =SUM(H4+I4) -> 0 | L4: =IFERROR(VLOOKUP(I4,BD!$F$2:$G$6,2,FALSE),"INGRESAR EL IMPACTO") -> INGRESAR EL IMPACTO | N4: =K4*M4 -> 0 | O4: =IF(AND(J4>=2,J4<=4),"Riesgo Bajo",IF(J4=5,"Riesgo Medio",IF(OR(J4=6,J4=7),"Riesgo Alto",IF(AND(J4>=8,J4<=10),"Riesto Extremo"," ")))) | T4: =SUM(R4+S4) -> 0 | U4: =IF(AND(T4>=2,T4<=4),"Riesgo Bajo",IF(T4=5,"Riesgo Medio",IF(OR(T4=6,T4=7),"Riesgo Alto",IF(AND(T4>=8,T4<=10),"Riesto Extremo",""))))
A5: 3 | J5: =SUM(H5+I5) -> 0 | L5: =IFERROR(VLOOKUP(I5,BD!$F$2:$G$6,2,FALSE),"INGRESAR EL IMPACTO") -> INGRESAR EL IMPACTO | N5: =K5*M5 -> 0 | O5: =IF(AND(J5>=2,J5<=4),"Riesgo Bajo",IF(J5=5,"Riesgo Medio",IF(OR(J5=6,J5=7),"Riesgo Alto",IF(AND(J5>=8,J5<=10),"Riesto Extremo"," ")))) | T5: =SUM(R5+S5) -> 0 | U5: =IF(AND(T5>=2,T5<=4),"Riesgo Bajo",IF(T5=5,"Riesgo Medio",IF(OR(T5=6,T5=7),"Riesgo Alto",IF(AND(T5>=8,T5<=10),"Riesto Extremo",""))))
A6: 4 | J6: =SUM(H6+I6) -> 0 | L6: =IFERROR(VLOOKUP(I6,BD!$F$2:$G$6,2,FALSE),"INGRESAR EL IMPACTO") -> INGRESAR EL IMPACTO | N6: =K6*M6 -> 0 | O6: =IF(AND(J6>=2,J6<=4),"Riesgo Bajo",IF(J6=5,"Riesgo Medio",IF(OR(J6=6,J6=7),"Riesgo Alto",IF(AND(J6>=8,J6<=10),"Riesto Extremo"," ")))) | T6: =SUM(R6+S6) -> 0 | U6: =IF(AND(T6>=2,T6<=4),"Riesgo Bajo",IF(T6=5,"Riesgo Medio",IF(OR(T6=6,T6=7),"Riesgo Alto",IF(AND(T6>=8,T6<=10),"Riesto Extremo",""))))
A7: 5 | J7: =SUM(H7+I7) -> 0 | L7: =IFERROR(VLOOKUP(I7,BD!$F$2:$G$6,2,FALSE),"INGRESAR EL IMPACTO") -> INGRESAR EL IMPACTO | N7: =K7*M7 -> 0 | O7: =IF(AND(J7>=2,J7<=4),"Riesgo Bajo",IF(J7=5,"Riesgo Medio",IF(OR(J7=6,J7=7),"Riesgo Alto",IF(AND(J7>=8,J7<=10),"Riesto Extremo"," ")))) | T7: =SUM(R7+S7) -> 0 | U7: =IF(AND(T7>=2,T7<=4),"Riesgo Bajo",IF(T7=5,"Riesgo Medio",IF(OR(T7=6,T7=7),"Riesgo Alto",IF(AND(T7>=8,T7<=10),"Riesto Extremo",""))))
A8: 6 | J8: =SUM(H8+I8) -> 0 | L8: =IFERROR(VLOOKUP(I8,BD!$F$2:$G$6,2,FALSE),"INGRESAR EL IMPACTO") -> INGRESAR EL IMPACTO | N8: =K8*M8 -> 0 | O8: =IF(AND(J8>=2,J8<=4),"Riesgo Bajo",IF(J8=5,"Riesgo Medio",IF(OR(J8=6,J8=7),"Riesgo Alto",IF(AND(J8>=8,J8<=10),"Riesto Extremo"," ")))) | T8: =SUM(R8+S8) -> 0 | U8: =IF(AND(T8>=2,T8<=4),"Riesgo Bajo",IF(T8=5,"Riesgo Medio",IF(OR(T8=6,T8=7),"Riesgo Alto",IF(AND(T8>=8,T8<=10),"Riesto Extremo",""))))
A9: 7 | J9: =SUM(H9+I9) -> 0 | L9: =IFERROR(VLOOKUP(I9,BD!$F$2:$G$6,2,FALSE),"INGRESAR EL IMPACTO") -> INGRESAR EL IMPACTO | N9: =K9*M9 -> 0 | O9: =IF(AND(J9>=2,J9<=4),"Riesgo Bajo",IF(J9=5,"Riesgo Medio",IF(OR(J9=6,J9=7),"Riesgo Alto",IF(AND(J9>=8,J9<=10),"Riesto Extremo"," ")))) | T9: =SUM(R9+S9) -> 0 | U9: =IF(AND(T9>=2,T9<=4),"Riesgo Bajo",IF(T9=5,"Riesgo Medio",IF(OR(T9=6,T9=7),"Riesgo Alto",IF(AND(T9>=8,T9<=10),"Riesto Extremo",""))))
A10: 8 | J10: =SUM(H10+I10) -> 0 | L10: =IFERROR(VLOOKUP(I10,BD!$F$2:$G$6,2,FALSE),"INGRESAR EL IMPACTO") -> INGRESAR EL IMPACTO | N10: =K10*M10 -> 0 | O10: =IF(AND(J10>=2,J10<=4),"Riesgo Bajo",IF(J10=5,"Riesgo Medio",IF(OR(J10=6,J10=7),"Riesgo Alto",IF(AND(J10>=8,J10<=10),"Riesto Extremo"," ")))) | T10: =SUM(R10+S10) -> 0 | U10: =IF(AND(T10>=2,T10<=4),"Riesgo Bajo",IF(T10=5,"Riesgo Medio",IF(OR(T10=6,T10=7),"Riesgo Alto",IF(AND(T10>=8,T10<=10),"Riesto Extremo",""))))
A11: 9 | J11: =SUM(H11+I11) -> 0 | L11: =IFERROR(VLOOKUP(I11,BD!$F$2:$G$6,2,FALSE),"INGRESAR EL IMPACTO") -> INGRESAR EL IMPACTO | N11: =K11*M11 -> 0 | O11: =IF(AND(J11>=2,J11<=4),"Riesgo Bajo",IF(J11=5,"Riesgo Medio",IF(OR(J11=6,J11=7),"Riesgo Alto",IF(AND(J11>=8,J11<=10),"Riesto Extremo"," ")))) | T11: =SUM(R11+S11) -> 0 | U11: =IF(AND(T11>=2,T11<=4),"Riesgo Bajo",IF(T11=5,"Riesgo Medio",IF(OR(T11=6,T11=7),"Riesgo Alto",IF(AND(T11>=8,T11<=10),"Riesto Extremo",""))))
A12: 10 | J12: =SUM(H12+I12) -> 0 | L12: =IFERROR(VLOOKUP(I12,BD!$F$2:$G$6,2,FALSE),"INGRESAR EL IMPACTO") -> INGRESAR EL IMPACTO | N12: =K12*M12 -> 0 | O12: =IF(AND(J12>=2,J12<=4),"Riesgo Bajo",IF(J12=5,"Riesgo Medio",IF(OR(J12=6,J12=7),"Riesgo Alto",IF(AND(J12>=8,J12<=10),"Riesto Extremo"," ")))) | T12: =SUM(R12+S12) -> 0 | U12: =IF(AND(T12>=2,T12<=4),"Riesgo Bajo",IF(T12=5,"Riesgo Medio",IF(OR(T12=6,T12=7),"Riesgo Alto",IF(AND(T12>=8,T12<=10),"Riesto Extremo",""))))
A13: 11 | J13: =SUM(H13+I13) -> 0 | L13: =IFERROR(VLOOKUP(I13,BD!$F$2:$G$6,2,FALSE),"INGRESAR EL IMPACTO") -> INGRESAR EL IMPACTO | N13: =K13*M13 -> 0 | O13: =IF(AND(J13>=2,J13<=4),"Riesgo Bajo",IF(J13=5,"Riesgo Medio",IF(OR(J13=6,J13=7),"Riesgo Alto",IF(AND(J13>=8,J13<=10),"Riesto Extremo"," ")))) | T13: =SUM(R13+S13) -> 0 | U13: =IF(AND(T13>=2,T13<=4),"Riesgo Bajo",IF(T13=5,"Riesgo Medio",IF(OR(T13=6,T13=7),"Riesgo Alto",IF(AND(T13>=8,T13<=10),"Riesto Extremo",""))))
A14: 12 | J14: =SUM(H14+I14) -> 0 | L14: =IFERROR(VLOOKUP(I14,BD!$F$2:$G$6,2,FALSE),"INGRESAR EL IMPACTO") -> INGRESAR EL IMPACTO | N14: =K14*M14 -> 0 | O14: =IF(AND(J14>=2,J14<=4),"Riesgo Bajo",IF(J14=5,"Riesgo Medio",IF(OR(J14=6,J14=7),"Riesgo Alto",IF(AND(J14>=8,J14<=10),"Riesto Extremo"," ")))) | T14: =SUM(R14+S14) -> 0 | U14: =IF(AND(T14>=2,T14<=4),"Riesgo Bajo",IF(T14=5,"Riesgo Medio",IF(OR(T14=6,T14=7),"Riesgo Alto",IF(AND(T14>=8,T14<=10),"Riesto Extremo",""))))
... A16: 14 | J16: =SUM(H16+I16) -> 0 | L16: =IFERROR(VLOOKUP(I16,BD!$F$2:$G$6,2,FALSE),"INGRESAR EL IMPACTO") -> INGRESAR EL IMPACTO | N16: =K16*M16 -> 0 | O16: =IF(AND(J16>=2,J16<=4),"Riesgo Bajo",IF(J16=5,"Riesgo Medio",IF(OR(J16=6,J16=7),"Riesgo Alto",IF(AND(J16>=8,J16<=10),"Riesto Extremo"," ")))) | T16: =SUM(R16+S16) -> 0 | U16: =IF(AND(T16>=2,T16<=4),"Riesgo Bajo",IF(T16=5,"Riesgo Medio",IF(OR(T16=6,T16=7),"Riesgo Alto",IF(AND(T16>=8,T16<=10),"Riesto Extremo",""))))
