Workbook
Name VB_lnkFDDocument_0: CALIFICACION!$BE$1

Sheet CALIFICACION
A1: DIRECCION EJECUTIVA SECCIONAL DE ADMINISTRACION JUDICIAL - TUNJA
A3: LICITACION PÚBLICA No. DESAJTU - LP - 001 DE 2022 - SERVICIO DE VIGILANCIA Y SEGURIDAD PRIVADA
A4: REQUISITO / NOMBRE OFERENTE | D4: 1 | E4: 2 | G4: 3 | H4: 4 | I4: 5 | K4: 6 | M4: 7 | O4: 8 | Q4: 9 | S4: 10 | V4: 11 | X4: 12 | Y4: 13 | AA4: 14 | AC4: 15 | AE4: 16 | AG4: 17 | AI4: 18 | AK4: 19 | AM4: 20 | AO4: 21 | AP4: 22 | AR4: 23 | AU4: 24 | AW4: 25 | AX4: 26 | AZ4: 27 | BB4: 28 | BC4: 29
D5: SEGURIDAD JANO LTDA | E5: UT RAMA JUDICIAL 2023 | G5: SEGURIDAD DIGITAL LTDA | H5: COOVIAM | I5: UT L& D | K5: UT VIGISER 2022 | M5: UT OLICTEC | O5: UT RAMA SC 2022 | Q5: UNIÓN TEMPORAL SUPVA | S5: UNION TEMPORAL SEGURIDAD HUNZA | V5: UNION TEMPORAL TUNJA 2022 | X5: ÁGUILA DE ORO DE COLOMBIA LTDA. | Y5: UNION TEMPORALRONDA - SECANCOL | AA5: UNION TEMPORAL C&T SEGURIDAD 741 | AC5: UNION TEMPORAL MEGAMETRO | AE5: UNIÓN TEMPORAL C&C 2022 | AG5: UNIÓN TEMPORALTUNJA SC | AI5: UNION TEMPORAL SERVILAOS 2022 | AK5: UNION TEMPORAL FS TUNJA | AM5: TP-PROTECCIÓN UNIÓN TEMPORAL | AO5: SEGURIDAD NAPOLES | AP5: UNIÓN TEMPORAL CODEL 2022 | AR5: UT SEPETEDAC RM TUNJA | AU5: UT PA 2022 | AW5: SEGURIDAD TREBOL LTDA | AX5: UNION TEMPORAL UT AM SEGURIDAD | AZ5: UNION TEMPORAL 2022 OB | BB5: SEGURIDAD NUEVA ERA | BC5: UNION TEMPORAL A1V 2022
E6: ZONA DE SEGURIDAD LTDA | F6: SEGURIDAD MONTEVIDEO LTDA | I6: SEGURIDAD LASER LTDA | J6: VIGILANCAI Y SEGURIDAD DINA POWER LTDA | K6: VIGIAS DE COLOMBIA SRL LTDA | L6: COMPAÑÍA DE VIGILANCIA PRIVADA LTDA SERSECOL | M6: SEGURIDAD PRIVADA Y VIGILANCIAOLIMPOSEGURIDAD | N6: SERVICIO DE VIGILANCAI TECNICO LTDA | O6: SEGURIDAD LAS AMERICAS | P6: EMPRESA DE VIGILANCIA CARIMAR | Q6: SEGURIDAD SUPERIOR LTDA | R6: VASCO SEGURITY GROUP | S6: AMCOVIT LTDA | T6: ADPORT LTDA | U6: SEGURIDAD FENIX DE COLOMBIA LTDA | V6: COMPAÑÍA ANDINA DE SEGURIDAD PRIVADA BIC LTDA | W6: SEGURIDAD SAN CARLOS LTDA | Y6: SEGURIDAD CANINA DE COLOMBIA LTDA - SECANCOL LTDA | Z6: RONDA DE COLOMBIA PROTECCION Y SEGURIDAD LTDA- RONDACOL LTDA | AA6: TOP GUARD LTDA | AB6: CUSTODIAR LTDA | AC6: MEGASEGURIDAD LTDA | AD6: METROPOLITAN SECURITY CORPORATION LTDA | AE6: COMPAÑÍA DE SERVICIOS DE VIGILANCIA PRIVADA PORTILLA Y PORTILLA LTDA. COSERVIPP LTDA | AF6: CENTINELAS LTDA | AG6: COMPAÑÍA DE VIGILANCIA COVISUR DE COLOMBIA LTDA | AH6: SEGURITEL LTDA | AI6: EMPRESA DE SEGURIDAD Y VIGILANCIA PRIVADA SERVICONFOR LTDA | AJ6: LAOS SEGURIDAD LTDA | AK6: FIDELITY SECURITY COMPANY LTDA | AL6: SEGURIDAD Y VIGILANCIA SERVICONCEL LTDA. | AM6: SEGURIDAD EL PROGRESO LTDA | AN6: TELEVIGILANCIA LTDA "PROTECCION Y SEGURIDAD" | AP6: DELTHAC 1 SEGURIDAD LTDA | AQ6: COSEQUIN LTDA | AR6: SEGURIDAD EL PENTAGONO COLOMBIANO LTDA SEPECOL | AS6: TECNOLOGIAS INTEGRALES DE SEGUIRIDAD | AT6: SEGURIDAD DECAPOLIS LTDA | AU6: SEGURIDAD ATLAS LTDA | AV6: SEGURIDAD PENTA LTDA | AX6: AVIZOR SEGURIDAD LTDA | AY6: MAGAL VIGILANCIA Y SEGURIDAD PRIVADA LTDA | AZ6: SEGURIDAD ONCOR LTDA | BA6: COMPAÑIA DE SEGURIDAD Y VIGILANCIA PRIVADA SIMON BOLIVAR LTDA EN REORGANIZACIÓN | BB6: SEGURIDAD NUEVA ERA | BC6: ATALAYA 1 SECURITY GROUP LTDA EN REORGANIZACIÓN | BD6: COMPAÑIA DE VIGILANCIA PRIVADA VIGILISTA LTDA
A7: 2.2.5.1 DOCUMENTOS QUE ACREDITEN LA CAPACIDAD JURIDICA
A8: 1 | B8: CARTA DE PRESENTACION DE LA PROPUESTA (ANEXO 1) | C8: APORTADO (SI O NO) | D8: SI APORTA | E8: SI APORTA | G8: SI APORTA | H8: SI APORTA | I8: SI APORTA | K8: SI APORTA | M8: SI APORTA | O8: SI APORTA | Q8: APORTA | S8: APORTA | V8: SI APORTA | X8: SI APORTA | Y8: SI APORTA | AA8: APORTA | AC8: APORTA | AE8: SI APORTA | AG8: SI APORTA | AI8: SI APORTA | AK8: SI APORTA | AM8: SI APORTA | AO8: SI APORTA | AP8: SI APORTA | AR8: SI APORTA | AU8: SI APORTA | AW8: SI APORTA | AX8: APORTA | AZ8: SI APORTA | BB8: APORTA | BC8: SI APORTA
C9: FIRMADO POR: | D9: R.LEGAL. LUIS FERNANDO SERRANO TASCON | E9: Representante Legal: | G9: R. LEGAL. DENICE GARZON MALPICA | H9: REPRESENTANTE LEGAL: JULIANA MARCELA LUNA CHAVES | I9: Representante Legal: | K9: Representante Legal: LEONARDO GOMEZ GRANADOS | M9: Representante Legal: YANIRA ESPERANZA OÑATE RODRIGUEZ | O9: Representante Legal: LEONARDO FERNANDEZ DELGADO | Q9: Representante Legal: GERMAN DUQUE MORALES | S9: Representante Legal: SANDRA SOLEDAD PANTOJA ROSALES | V9: Representante Legal: MIGUEL ANGEL DIAZ GARCIA | X9: Representante Legal:HERIBERTO LOAIZA MARIN | Y9: Representante Legal:NUBIA STELLA QUINTERO RUBIO | AA9: Representante Legal: JOSE LUIS MEJIA SARMIENTO | AC9: Representante Legal: CARLOS A. VELANDIA D. | AE9: Representante Legal: FABIO HERNANDO PORTILLA SANCHEZ | AG9: Representante Legal: CARLOS ALFONSO ESPINOSA CASTILLO | AI9: Representante Legal: MARTA LILIANA SAMBONI SEMANATE | AK9: Representante Legal: GUILLERMO MAYORGA VALENZUELA | AM9: Representante Legal: MARIA MONICA GONZALEZ RUIZ | AO9: Representante Legal: SONIA PATRICIA ANGARITA ABAUNZA | AP9: Representante Legal: ANGELICA BULLA CASTILLO | AR9: Representante Legal: OSCAR SANTIAGO SLVA ARIZA | AU9: Representante Legal: LUIS FERNANDO GARCIA TARQUINO | AW9: Representante Legal: | AX9: Representante Legal: SULMA SORAIDA RICO MORALES | AZ9: Representante Legal: GERMAN HERNANDO PERILLA MEDRANO | BB9: Representante Legal: NUBIA CONSUELO CASTRO SUESCA | BC9: Representante Legal: BERSELI MATEUS RUIZ
C10: OBSERVACIONES: | D10: Ninguna | E10: Ninguna | G10: Ninguna | H10: NINGUNA | I10: Ninguna | K10: Ninguna | M10: Ninguna | O10: Ninguna | Q10: Ninguna | S10: Ninguna | V10: Ninguna | X10: Ninguna | Y10: Ninguna | AA10: Ninguna | AC10: Ninguna | AE10: Ninguna | AG10: Ninguna | AI10: Ninguna | AK10: Ninguna | AM10: Ninguna | AO10: Ninguna | AP10: Ninguna | AR10: Ninguna | AU10: Ninguna | AW10: Ninguna | AX10: Ninguna | AZ10: Ninguna | BB10: Ninguna | BC10: Ninguna
A11: 3 | B11: MANIFESTACION EXPRESA DE NO ENCONTARSE INCURSO EN INHABILIDADES E INCOMPATIBILIDADES | C11: APORTADO (SI O NO) | D11: SI | E11: SI | F11: SI | G11: SI | H11: SI APORTA | I11: SI | J11: SI | K11: SI | L11: SI | M11: SI | N11: SI | O11: SI | P11: SI | Q11: SI | R11: SI | S11: SI | T11: SI | V11: SI | W11: SI | X11: SI | Y11: SI | Z11: SI | AA11: SI | AB11: SI | AC11: SI | AD11: SI | AE11: SI | AF11: SI | AG11: SI | AH11: SI | AI11: SI | AJ11: SI | AK11: SI | AL11: SI | AM11: SI | AN11: SI | AO11: SI | AP11: SI | AQ11: SI | AR11: SI | AS11: SI | AU11: SI | AV11: SI | AW11: SI | AX11: SI | AY11: SI | AZ11: SI | BA11: SI | BB11: SI | BC11: SI | BD11: SI
C12: NOMBRE DE QUIEN FIRMA | D12: R.LEGAL. LUIS FERNANDO SERRANO TASCON | E12: Representante Legal: | F12: Representante Legal: | G12: R. LEGAL. DENICE GARZON MALPICA | H12: Representante Legal: | I12: Representante Legal: | J12: Representante Legal: | K12: Representante Legal: | L12: Representante Legal: | M12: Representante Legal: | N12: Representante Legal: | O12: Representante Legal: | P12: Representante Legal: | Q12: Representante Legal: GERMAN DUQUE MORALES | R12: Representante Legal: ALBERT AUGUSTO GONZALEZ VASCO | S12: Representante Legal: FRANKLIN MORENO CARVAJAL | T12: Representante Legal: OSCAR ANDRES ROMERO CELIS | U12: Representante Legal: SANDRA SOLEDAD PANTOJA ROSALES | V12: Representante Legal: MIGUEL ANGEL DIAZ GARCIA | W12: Representante Legal: JAVIER AUGUSTO BARON | X12: Representante Legal:HERIBERTO LOAIZA MARIN | Y12: Representante Legal: EDNA MARGARITA GOMEZ BOTERO | Z12: Representante Legal: NUBIA STELLA QUINTERO RUBIO | AA12: Representante Legal: SEBASTIAN ALEJANDRO MORENO TRUJILLO | AB12: Representante Legal: HERNEY GALLEGO GALLEGO | AC12: Representante Legal: CARLOS A. VELANDIA D. | AD12: Representante Legal: JULIAN ANDRES RODRIGUEZ C. | AE12: Representante Legal: FABIO HERNANDO PORTILLA SANCHEZ | AF12: Representante Legal: DANIEL ANDRÉS HORMAZA PORTILLA | AG12: Representante Legal: CAROL ANDREA GRANADA GOMEZ | AH12: Representante Legal: CARLOS ALFONSO ESPINOSA CASTILLO | AI12: Representante Legal: MARTA LILIANA SAMBONI SEMANATE | AJ12: Representante Legal: ALVARO ORDOÑEZ ORTIZ | AK12: Representante Legal: JAIME LUIS MAHECHA PARADA | AL12: Representante Legal:GUILLERMO MAYORGA VALENZUELA | AM12: Representante Legal: HECTOR BAEZ MEDINA | AN12: Representante Legal: MARIA MONICA GONZALES RUIZ | AO12: Representante Legal: SONIA PATRICIA ANGARITA ABAUNZA | AP12: Representante Legal: PEDRO ELIAS SANCHEZ ANGARITA | AQ12: Representante Legal: ANGELICA BULLA CASTILLO | AR12: Representante Legal: | AS12: Representante Legal: | AT12: Representante Legal: | AU12: Representante Legal: | AV12: Representante Legal: | AW12: YEIMI ALEXANDRA ZANGUÑA BARON | AX12: Representante Legal: SULMA SORAIDA RICO MORALES | AY12: Representante Legal: ERIKA JOHANNA RODRIGUEZ UMBACIA | AZ12: Representante Legal: GERMAN HERNANDO PERILLA MEDRANO | BA12: Representante Legal: WILLIAM RESTREPO ESPINOSA | BB12: Representante Legal: NUBIA CONSUELO CASTRO SUESCA | BC12: Representante Legal: BERSELI MATEUS RUIZ | BD12: Representante Legal: ALFREDO REYES SANCHEZ
C13: OBSERVACIONES: | D13: NO TIENE INCURSO EN INHABILIDADES E INCOMPATIBILIDADES | E13: NO TIENE INCURSO EN INHABILIDADES E INCOMPATIBILIDADES | F13: NO TIENE INCURSO EN INHABILIDADES E INCOMPATIBILIDADES | G13: NO TIENE INCURSO EN INHABILIDADES E INCOMPATIBILIDADES | H13: NO TIENE INCURSO EN INHABILIDADES E INCOMPATIBILIDADES | I13: NO TIENE INCURSO EN INHABILIDADES E INCOMPATIBILIDADES | J13: NO TIENE INCURSO EN INHABILIDADES E INCOMPATIBILIDADES | K13: NO TIENE INCURSO EN INHABILIDADES E INCOMPATIBILIDADES | L13: NO TIENE INCURSO EN INHABILIDADES E INCOMPATIBILIDADES | M13: NO TIENE INCURSO EN INHABILIDADES E INCOMPATIBILIDADES | N13: NO TIENE INCURSO EN INHABILIDADES E INCOMPATIBILIDADES | O13: NO TIENE INCURSO EN INHABILIDADES E INCOMPATIBILIDADES | P13: NO TIENE INCURSO EN INHABILIDADES E INCOMPATIBILIDADES | Q13: NO TIENE INCURSO EN INHABILIDADES E INCOMPATIBILIDADES | R13: NO TIENE INCURSO EN INHABILIDADES E INCOMPATIBILIDADES | S13: NO TIENE INCURSO EN INHABILIDADES E INCOMPATIBILIDADES | T13: NO TIENE INCURSO EN INHABILIDADES E INCOMPATIBILIDADES | U13: NO TIENE INCURSO EN INHABILIDADES E INCOMPATIBILIDADES | V13: NO TIENE INCURSO EN INHABILIDADES E INCOMPATIBILIDADES | W13: NO TIENE INCURSO EN INHABILIDADES E INCOMPATIBILIDADES | X13: NO TIENE INCURSO EN INHABILIDADES E INCOMPATIBILIDADES | Y13: NO TIENE INCURSO EN INHABILIDADES E INCOMPATIBILIDADES | Z13: NO TIENE INCURSO EN INHABILIDADES E INCOMPATIBILIDADES | AA13: NO TIENE INCURSO EN INHABILIDADES E INCOMPATIBILIDADES | AB13: NO TIENE INCURSO EN INHABILIDADES E INCOMPATIBILIDADES | AC13: NO TIENE INCURSO EN INHABILIDADES E INCOMPATIBILIDADES | AD13: NO TIENE INCURSO EN INHABILIDADES E INCOMPATIBILIDADES | AE13: NO TIENE INCURSO EN INHABILIDADES E INCOMPATIBILIDADES | AF13: NO TIENE INCURSO EN INHABILIDADES E INCOMPATIBILIDADES | AG13: NO TIENE INCURSO EN INHABILIDADES E INCOMPATIBILIDADES | AH13: NO TIENE INCURSO EN INHABILIDADES E INCOMPATIBILIDADES | AI13: NO TIENE INCURSO EN INHABILIDADES E INCOMPATIBILIDADES | AJ13: NO TIENE INCURSO EN INHABILIDADES E INCOMPATIBILIDADES | AK13: NO TIENE INCURSO EN INHABILIDADES E INCOMPATIBILIDADES | AL13: NO TIENE INCURSO EN INHABILIDADES E INCOMPATIBILIDADES | AM13: NO TIENE INCURSO EN INHABILIDADES E INCOMPATIBILIDADES | AN13: NO TIENE INCURSO EN INHABILIDADES E INCOMPATIBILIDADES | AO13: NO TIENE INCURSO EN INHABILIDADES E INCOMPATIBILIDADES | AP13: NO TIENE INCURSO EN INHABILIDADES E INCOMPATIBILIDADES | AQ13: NO TIENE INCURSO EN INHABILIDADES E INCOMPATIBILIDADES | AR13: NO TIENE INCURSO EN INHABILIDADES E INCOMPATIBILIDADES | AS13: NO TIENE INCURSO EN INHABILIDADES E INCOMPATIBILIDADES | AT13: NO TIENE INCURSO EN INHABILIDADES E INCOMPATIBILIDADES | AU13: NO TIENE INCURSO EN INHABILIDADES E INCOMPATIBILIDADES | AV13: NO TIENE INCURSO EN INHABILIDADES E INCOMPATIBILIDADES | AW13: DECLARA NO ESTAR INCURSO EN INHABULIDADES E INCOMPATIBILIDADES | AX13: NO TIENE INCURSO EN INHABILIDADES E INCOMPATIBILIDADES | AY13: NO TIENE INCURSO EN INHABILIDADES E INCOMPATIBILIDADES | AZ13: NO TIENE INCURSO EN INHABILIDADES E INCOMPATIBILIDADES | BA13: NO TIENE INCURSO EN INHABILIDADES E INCOMPATIBILIDADES | BB13: NO INCURSO EN INHABILIDADES E INCOMPATIBILIDADES | BC13: NO TIENE INCURSO EN INHABILIDADES E INCOMPATIBILIDADES | BD13: NO TIENE INCURSO EN INHABILIDADES E INCOMPATIBILIDADES
A14: 4 | B14: DOCUMENTO DE CONFORMACIÓN DE CONSORCIO Y/O UNION TEMPORAL (ANEXO 2) | C14: APORTADO (SI O NO) | D14: NO APLICA | E14: SI APORTA | G14: NO APLICA | H14: NO APLICA | I14: SI APORTA | K14: SI APORTA | M14: SI APORTA | O14: SI APORTA | Q14: SI APORTA | S14: SI APORTA | V14: SI APORTA | X14: NO APLICA | Y14: SI APORTA | AA14: SI APORTA | AC14: SI APORTA | AE14: SI APORTA | AG14: SI APORTA | AI14: SI APORTA | AK14: SI APORTA | AM14: SI APORTA | AO14: NO APLICA | AP14: SI APORTA | AR14: SI APORTA | AU14: SI APORTA | AW14: NO APLICA | AX14: SI APORTA | AZ14: SI APORTA | BB14: N.A | BC14: SI APORTA
C15: PORCENTAJE DE PARTICIPACIÓN: | E15: 0.7 | F15: 0.3 | H15: NO APLICA | I15: 0.5 | J15: 0.5 | K15: 0.9 | L15: 0.1 | M15: 0.1 | N15: 0.9 | O15: 0.5 | P15: 0.5 | Q15: 0.9 | R15: 0.1 | S15: 0.01 | T15: 0.98 | U15: 0.01 | V15: 0.9 | W15: 0.1 | Y15: 0.5 | Z15: 0.5 | AA15: 0.99 | AB15: 0.01 | AC15: 0.6 | AD15: 0.4 | AE15: 0.02 | AF15: 0.98 | AG15: 0.01 | AH15: 0.99 | AI15: 0.7 | AJ15: 0.3 | AK15: 0.5 | AL15: 0.5 | AM15: 0.99 | AN15: 0.01 | AP15: 0.99 | AQ15: 0.01 | AR15: 0.35 | AS15: 0.4 | AT15: 0.25 | AU15: 0.9 | AV15: 0.1 | AX15: 0.4 | AY15: 0.6 | AZ15: 0.5 | BA15: 0.5 | BB15: N.A | BC15: 0.1 | BD15: 0.9
C16: DURACIÓN DE LA FIGURA ASOCIATIVA: | E16: TERMINIO DE EJECUCION DEL CONTRATO Y UN AÑO MAS | H16: NO APLICA | I16: TERMINIO DE EJECUCION DEL CONTRATO Y UN AÑO MAS | K16: TERMINIO DE EJECUCION DEL CONTRATO Y UN AÑO MAS | M16: TERMINIO DE EJECUCION DEL CONTRATO Y UN AÑO MAS | O16: TERMINIO DE EJECUCION DEL CONTRATO Y UN AÑO MAS | Q16: TERMINO DE EJECUCION DEL CONTRATO Y UN AÑO MAS | S16: TERMINO DE EJECUCION DEL CONTRATO Y UN AÑO MAS | V16: TERMINO DE EJECUCION DEL CONTRATO Y CINCO AÑOS MAS | Y16: TERMINO DE EJECUCION DEL CONTRATO Y UN AÑO MAS | AA16: TERMINO DE EJECUCION DEL CONTRATO Y UN AÑO MAS | AC16: TERMINO DE EJECUCION DEL CONTRATO Y UN AÑO MAS | AE16: La duración de esta Unión Temporal será igual al del término de ejecución y liquidación del contrato y un año más. | AG16: será igual al del término de ejecución y liquidación del contrato y un año más. | AI16: será igual al del término de ejecución y liquidación del contrato y un año más. | AK16: será igual al del término de ejecución y liquidación del contrato y un año más. | AM16: será igual al del término de ejecución y liquidación del contrato y un año más | AP16: será igual al del término de ejecución y liquidación del contrato y un año más | AR16: TERMINIO DE EJECUCION DEL CONTRATO Y UN AÑO MAS | AU16: TERMINIO DE EJECUCION DEL CONTRATO Y UN AÑO MAS | AX16: SIETE MESES Y VEINTICINCO DIAS Y UN AÑO MAS | AZ16: será igual al del término de ejecución y liquidación del contrato y un año más | BB16: N.A | BC16: será igual al del término de ejecución y liquidación del contrato y un año más
C17: NOMBRE REPRESENTANTE LEGAL: | E17: FABIO AMADO AYALA | H17: NO APLICA | I17: FABIO AMADO AYALA | K17: FABIO AMADO AYALA | M17: FABIO AMADO AYALA | O17: LEONARDO FERNANDEZ DELGADO | Q17: GERMAN DUQUE MORALES | S17: SANDRA SOLEDAD PANTOJA ROSALES | V17: MIGUEL ANGEL DÍAZ GARCIA | Y17: NUBIA STELLA QUINTERO RUBIO | AA17: JOSE LUIS MEJIA SARMIENTO | AC17: CARLOS A. VELANDIA D. | AE17: Representante Legal: FABIO HERNANDO PORTILLA SANCHEZ | AG17: Representante Legal: CARLOS ALFONSO ESPINOSA CASTILLO | AI17: Representante Legal: MARTA LILIANA SAMBONI SEMANATE | AK17: Representante Legal: MARTA LILIANA SAMBONI SEMANATE | AM17: Representante Legal: MARIA MONICA GONZALEZ RUIZ | AP17: Representante Legal: ANGELICA BULLA CASTILLO | AR17: OSCAR SANTIAGO SILVA ARIZA | AU17: LUIS FERNANNO GARCIA TARQUINO | AX17: SULMA SORAIDA RICO MORALES | AZ17: Representante Legal: ANGELICA BULLA CASTILLO | BB17: N.A | BC17: Representante Legal:
C18: LABORES A REALIZAR EN UNION TEMPORAL: | E18: PRESTAR EL SERVICIO DE VIGILANCIA Y SEGURIDAD PRIVADA CONMEDIO HUMANO ARMADO, SIN ARMA Y APOYO CON MEDIOS TECNOLOGICOS EN DESPACHOS JUDICIALES DE OS DISTRITOS JUDICIALES DE TUNJA, SANTA ROSA DE VITERBO Y YOPAL. | F18: PRESTAR EL SERVICIO DE VIGILANCIA Y SEGURIDAD PRIVADA CONMEDIO HUMANO ARMADO, SIN ARMA Y APOYO CON MEDIOS TECNOLOGICOS EN DESPACHOS JUDICIALES DE OS DISTRITOS JUDICIALES DE TUNJA, SANTA ROSA DE VITERBO Y YOPAL. | H18: NO APLICA | I18: PRESTAR EL SERVICIO DE VIGILANCIA Y SEGURIDAD PRIVADA CONMEDIO HUMANO ARMADO, SIN ARMA Y APOYO CON MEDIOS TECNOLOGICOS EN DESPACHOS JUDICIALES DE OS DISTRITOS JUDICIALES DE TUNJA, SANTA ROSA DE VITERBO Y YOPAL. | J18: PRESTAR EL SERVICIO DE VIGILANCIA Y SEGURIDAD PRIVADA CONMEDIO HUMANO ARMADO, SIN ARMA Y APOYO CON MEDIOS TECNOLOGICOS EN DESPACHOS JUDICIALES DE OS DISTRITOS JUDICIALES DE TUNJA, SANTA ROSA DE VITERBO Y YOPAL. | K18: PRESTAR EL SERVICIO DE VIGILANCIA Y SEGURIDAD PRIVADA CONMEDIO HUMANO ARMADO, SIN ARMA Y APOYO CON MEDIOS TECNOLOGICOS EN DESPACHOS JUDICIALES DE OS DISTRITOS JUDICIALES DE TUNJA, SANTA ROSA DE VITERBO Y YOPAL. | L18: PRESTAR EL SERVICIO DE VIGILANCIA Y SEGURIDAD PRIVADA CONMEDIO HUMANO ARMADO, SIN ARMA Y APOYO CON MEDIOS TECNOLOGICOS EN DESPACHOS JUDICIALES DE OS DISTRITOS JUDICIALES DE TUNJA, SANTA ROSA DE VITERBO Y YOPAL. | M18: PRESTAR EL SERVICIO DE VIGILANCIA Y SEGURIDAD PRIVADA CONMEDIO HUMANO ARMADO, SIN ARMA Y APOYO CON MEDIOS TECNOLOGICOS EN DESPACHOS JUDICIALES DE OS DISTRITOS JUDICIALES DE TUNJA, SANTA ROSA DE VITERBO Y YOPAL. | N18: PRESTAR EL SERVICIO DE VIGILANCIA Y SEGURIDAD PRIVADA CONMEDIO HUMANO ARMADO, SIN ARMA Y APOYO CON MEDIOS TECNOLOGICOS EN DESPACHOS JUDICIALES DE OS DISTRITOS JUDICIALES DE TUNJA, SANTA ROSA DE VITERBO Y YOPAL. | O18: PRESTAR EL SERVICIO DE VIGILANCIA Y SEGURIDAD PRIVADA CONMEDIO HUMANO ARMADO, SIN ARMA Y APOYO CON MEDIOS TECNOLOGICOS EN DESPACHOS JUDICIALES DE OS DISTRITOS JUDICIALES DE TUNJA, SANTA ROSA DE VITERBO Y YOPAL. | P18: PRESTAR EL SERVICIO DE VIGILANCIA Y SEGURIDAD PRIVADA CONMEDIO HUMANO ARMADO, SIN ARMA Y APOYO CON MEDIOS TECNOLOGICOS EN DESPACHOS JUDICIALES DE OS DISTRITOS JUDICIALES DE TUNJA, SANTA ROSA DE VITERBO Y YOPAL. | Q18: Contratar en nombre de la NACION – CONSEJO SUPERIOR DE LA JUDICATURA – DIRECCION EJECUTIVA SECCIONAL DE ADMINISTRACION JUDICIAL DE TUNJA, la prestación del servicio de vigilancia y seguridad privada con medio humano armado, sin arma y apoyo con medios tecnológicos, en algunas sedes donde funcionan Corporaciones y Despachos Judiciales de los Distritos de Tunja, Santa Rosa de Viterbo y Yopal. | R18: Contratar en nombre de la NACION – CONSEJO SUPERIOR DE LA JUDICATURA – DIRECCION EJECUTIVA SECCIONAL DE ADMINISTRACION JUDICIAL DE TUNJA, la prestación del servicio de vigilancia y seguridad privada con medio humano armado, sin arma y apoyo con medios tecnológicos, en algunas sedes donde funcionan Corporaciones y Despachos Judiciales de los Distritos de Tunja, Santa Rosa de Viterbo y Yopal. | S18: Contratar en nombre de la NACION – CONSEJO SUPERIOR DE LA JUDICATURA – DIRECCION EJECUTIVA SECCIONAL DE ADMINISTRACION JUDICIAL DE TUNJA, la prestación del servicio de vigilancia y seguridad privada con medio humano armado, sin arma y apoyo con medios tecnológicos, en algunas sedes donde funcionan Corporaciones y Despachos Judiciales de los Distritos de Tunja, Santa Rosa de Viterbo y Yopal. | T18: Contratar en nombre de la NACION – CONSEJO SUPERIOR DE LA JUDICATURA – DIRECCION EJECUTIVA SECCIONAL DE ADMINISTRACION JUDICIAL DE TUNJA, la prestación del servicio de vigilancia y seguridad privada con medio humano armado, sin arma y apoyo con medios tecnológicos, en algunas sedes donde funcionan Corporaciones y Despachos Judiciales de los Distritos de Tunja, Santa Rosa de Viterbo y Yopal. | U18: Contratar en nombre de la NACION – CONSEJO SUPERIOR DE LA JUDICATURA – DIRECCION EJECUTIVA SECCIONAL DE ADMINISTRACION JUDICIAL DE TUNJA, la prestación del servicio de vigilancia y seguridad privada con medio humano armado, sin arma y apoyo con medios tecnológicos, en algunas sedes donde funcionan Corporaciones y Despachos Judiciales de los Distritos de Tunja, Santa Rosa de Viterbo y Yopal. | V18: PRESTAR EL SERVICIO DE VIGILANCIA Y SEGURIDAD PRIVADA CONMEDIO HUMANO ARMADO, SIN ARMA Y APOYO CON MEDIOS TECNOLOGICOS EN DESPACHOS JUDICIALES DE OS DISTRITOS JUDICIALES DE TUNJA, SANTA ROSA DE VITERBO Y YOPAL. | W18: PRESTAR EL SERVICIO DE VIGILANCIA Y SEGURIDAD PRIVADA CONMEDIO HUMANO ARMADO, SIN ARMA Y APOYO CON MEDIOS TECNOLOGICOS EN DESPACHOS JUDICIALES DE OS DISTRITOS JUDICIALES DE TUNJA, SANTA ROSA DE VITERBO Y YOPAL. | Y18: PRESTAR EL SERVICIO DE VIGILANCIA Y SEGURIDAD PRIVADA CONMEDIO HUMANO ARMADO, SIN ARMA Y APOYO CON MEDIOS TECNOLOGICOS EN DESPACHOS JUDICIALES DE OS DISTRITOS JUDICIALES DE TUNJA, SANTA ROSA DE VITERBO Y YOPAL. | Z18: PRESTAR EL SERVICIO DE VIGILANCIA Y SEGURIDAD PRIVADA CONMEDIO HUMANO ARMADO, SIN ARMA Y APOYO CON MEDIOS TECNOLOGICOS EN DESPACHOS JUDICIALES DE OS DISTRITOS JUDICIALES DE TUNJA, SANTA ROSA DE VITERBO Y YOPAL. | AA18: Contratar en nombre de la NACION – CONSEJO SUPERIOR DE LA JUDICATURA – DIRECCION EJECUTIVA SECCIONAL DE ADMINISTRACION JUDICIAL DE TUNJA, la prestación del servicio de vigilancia y seguridad privada con medio humano armado, sin arma y apoyo con medios tecnológicos, en algunas sedes donde funcionan Corporaciones y Despachos Judiciales de los Distritos de Tunja, Santa Rosa de Viterbo y Yopal. | AB18: Contratar en nombre de la NACION – CONSEJO SUPERIOR DE LA JUDICATURA – DIRECCION EJECUTIVA SECCIONAL DE ADMINISTRACION JUDICIAL DE TUNJA, la prestación del servicio de vigilancia y seguridad privada con medio humano armado, sin arma y apoyo con medios tecnológicos, en algunas sedes donde funcionan Corporaciones y Despachos Judiciales de los Distritos de Tunja, Santa Rosa de Viterbo y Yopal. | AC18: Contratar en nombre de la NACION – CONSEJO SUPERIOR DE LA JUDICATURA – DIRECCION EJECUTIVA SECCIONAL DE ADMINISTRACION JUDICIAL DE TUNJA, la prestación del servicio de vigilancia y seguridad privada con medio humano armado, sin arma y apoyo con medios tecnológicos, en algunas sedes donde funcionan Corporaciones y Despachos Judiciales de los Distritos de Tunja, Santa Rosa de Viterbo y Yopal. | AD18: Contratar en nombre de la NACION – CONSEJO SUPERIOR DE LA JUDICATURA – DIRECCION EJECUTIVA SECCIONAL DE ADMINISTRACION JUDICIAL DE TUNJA, la prestación del servicio de vigilancia y seguridad privada con medio humano armado, sin arma y apoyo con medios tecnológicos, en algunas sedes donde funcionan Corporaciones y Despachos Judiciales de los Distritos de Tunja, Santa Rosa de Viterbo y Yopal. | AE18: Elaboración de la propuesta y en la ejecución del contrato: “prestación del servicio de vigilancia y seguridad privada con medio humano armado, sin arma y apoyo con medios tecnológicos, en algunas sedes donde funcionan Corporaciones y Despachos Judiciales de los Distritos de Tunja, Santa Rosa de Viterbo y Yopal.”. | AF18: Elaboración de la propuesta y en la ejecución del contrato: “prestación del servicio de vigilancia y seguridad privada con medio humano armado, sin arma y apoyo con medios tecnológicos, en algunas sedes donde funcionan Corporaciones y Despachos Judiciales de los Distritos de Tunja, Santa Rosa de Viterbo y Yopal.”. | AG18: CONSECUCIÓN DE LOS DOCUMENTOS PARA LA ELABORACIÓN DE LA PROPUESTA. EN LA EJECUCION DEL CONTRATO: PRESTACIÓN DEL SERVICIO DE VIGILANCIA EN LA MODALIDAD FIJA, MOVIL CON Y SIN ARMA. PRESTACIÓN DEL SERVICIO DE MEDIOS TECNOLOGICOS. REALIZARA EL PROCESO DE SELECCIÓN Y VINCULACIÓN DEL PERSONAL DE ACUERDO AL PERFIL REQUERIDO POR LA ENTIDAD. PRESTACIÓN DEL SERVICIO DE SUPERVISION. TENDRÁ A SU CARGO EL MANEJO ADMINISTRATIVO Y CONTABLE. | AH18: CONSECUCIÓN DE LOS DOCUMENTOS PARA LA ELABORACIÓN DE LA PROPUESTA. EN LA EJECUCION DEL CONTRATO: PRESTACIÓN DEL SERVICIO DE VIGILANCIA EN LA MODALIDAD FIJA, MOVIL CON Y SIN ARMA. PRESTACIÓN DEL SERVICIO DE MEDIOS TECNOLOGICOS. REALIZARA EL PROCESO DE SELECCIÓN Y VINCULACIÓN DEL PERSONAL DE ACUERDO AL PERFIL REQUERIDO POR LA ENTIDAD. PRESTACIÓN DEL SERVICIO DE SUPERVISION. TENDRÁ A SU CARGO EL MANEJO ADMINISTRATIVO Y CONTABLE. | AI18: La prestación del servicio de vigilancia y seguridad privada con medio humano armado, sin arma y apoyo con medios tecnológicos, en algunas sedes donde funcionan Corporaciones y Despachos Judiciales de los Distritos de Tunja, Santa Rosa de Viterbo y Yopal. | AJ18: La prestación del servicio de vigilancia y seguridad privada con medio humano armado, sin arma y apoyo con medios tecnológicos, en algunas sedes donde funcionan Corporaciones y Despachos Judiciales de los Distritos de Tunja, Santa Rosa de Viterbo y Yopal. | AK18: Contratar en nombre de la NACION – CONSEJO SUPERIOR DE LA JUDICATURA – DIRECCION EJECUTIVA SECCIONAL DE ADMINISTRACION JUDICIAL DE TUNJA, la prestación del servicio de vigilancia y seguridad privada con medio humano armado, sin arma y apoyo con medios tecnológicos, en algunas sedes donde funcionan Corporaciones y Despachos Judiciales de los Distritos de Tunja, Santa Rosa de Viterbo y Yopal | AL18: Contratar en nombre de la NACION – CONSEJO SUPERIOR DE LA JUDICATURA – DIRECCION EJECUTIVA SECCIONAL DE ADMINISTRACION JUDICIAL DE TUNJA, la prestación del servicio de vigilancia y seguridad privada con medio humano armado, sin arma y apoyo con medios tecnológicos, en algunas sedes donde funcionan Corporaciones y Despachos Judiciales de los Distritos de Tunja, Santa Rosa de Viterbo y Yopal | AM18: “CONTRATAR EN NOMBRE DE LA NACION – CONSEJO SUPERIOR DE LA JUDICATURA – DIRECCIÓN EJECUTIVA SECCIONAL DE ADMINISTRACION JUDICIAL DE TUNJA, LA PRESTACIÓN DEL SERVICIO DE VIGILANCIA Y SEGURIDAD PRIVADA CON MEDIO HUMANO ARMADO, SIN ARMA Y APOYO CON MEDIOS TECNOLÓGICOS, EN ALGUNAS SEDES DONDE FUNCIONAN CORPORACIONES Y DESPACHOS JUDICIALES DE LOS DISTRITOS DE TUNJA, SANTA ROSA DE VITERBO Y YOPAL”. | AN18: “CONTRATAR EN NOMBRE DE LA NACION – CONSEJO SUPERIOR DE LA JUDICATURA – DIRECCIÓN EJECUTIVA SECCIONAL DE ADMINISTRACION JUDICIAL DE TUNJA, LA PRESTACIÓN DEL SERVICIO DE VIGILANCIA Y SEGURIDAD PRIVADA CON MEDIO HUMANO ARMADO, SIN ARMA Y APOYO CON MEDIOS TECNOLÓGICOS, EN ALGUNAS SEDES DONDE FUNCIONAN CORPORACIONES Y DESPACHOS JUDICIALES DE LOS DISTRITOS DE TUNJA, SANTA ROSA DE VITERBO Y YOPAL”. | AP18: Contratar en nombre de la NACION – CONSEJO SUPERIOR DE LA JUDICATURA – DIRECCION EJECUTIVA SECCIONAL DE ADMINISTRACION JUDICIAL DE TUNJA, la prestación del servicio de vigilancia y seguridad privada con medio humano armado, sin arma y apoyo con medios tecnológicos, en algunas sedes donde funcionan Corporaciones y Despachos Judiciales de los Distritos de Tunja, Santa Rosa de Viterbo y Yopal.” | AQ18: Contratar en nombre de la NACION – CONSEJO SUPERIOR DE LA JUDICATURA – DIRECCION EJECUTIVA SECCIONAL DE ADMINISTRACION JUDICIAL DE TUNJA, la prestación del servicio de vigilancia y seguridad privada con medio humano armado, sin arma y apoyo con medios tecnológicos, en algunas sedes donde funcionan Corporaciones y Despachos Judiciales de los Distritos de Tunja, Santa Rosa de Viterbo y Yopal.” | AR18: PRESTAR EL SERVICIO DE VIGILANCIA Y SEGURIDAD PRIVADA CONMEDIO HUMANO ARMADO, SIN ARMA Y APOYO CON MEDIOS TECNOLOGICOS EN DESPACHOS JUDICIALES DE OS DISTRITOS JUDICIALES DE TUNJA, SANTA ROSA DE VITERBO Y YOPAL. | AS18: PRESTAR EL SERVICIO DE VIGILANCIA Y SEGURIDAD PRIVADA CONMEDIO HUMANO ARMADO, SIN ARMA Y APOYO CON MEDIOS TECNOLOGICOS EN DESPACHOS JUDICIALES DE OS DISTRITOS JUDICIALES DE TUNJA, SANTA ROSA DE VITERBO Y YOPAL. | AT18: PRESTAR EL SERVICIO DE VIGILANCIA Y SEGURIDAD PRIVADA CONMEDIO HUMANO ARMADO, SIN ARMA Y APOYO CON MEDIOS TECNOLOGICOS EN DESPACHOS JUDICIALES DE OS DISTRITOS JUDICIALES DE TUNJA, SANTA ROSA DE VITERBO Y YOPAL. | AU18: PRESTAR EL SERVICIO DE VIGILANCIA Y SEGURIDAD PRIVADA CONMEDIO HUMANO ARMADO, SIN ARMA Y APOYO CON MEDIOS TECNOLOGICOS EN DESPACHOS JUDICIALES DE OS DISTRITOS JUDICIALES DE TUNJA, SANTA ROSA DE VITERBO Y YOPAL. | AV18: PRESTAR EL SERVICIO DE VIGILANCIA Y SEGURIDAD PRIVADA CONMEDIO HUMANO ARMADO, SIN ARMA Y APOYO CON MEDIOS TECNOLOGICOS EN DESPACHOS JUDICIALES DE OS DISTRITOS JUDICIALES DE TUNJA, SANTA ROSA DE VITERBO Y YOPAL. | AX18: Contratar en nombre de la NACION – CONSEJO SUPERIOR DE LA JUDICATURA – DIRECCION EJECUTIVA SECCIONAL DE ADMINISTRACION JUDICIAL DE TUNJA, la prestación del servicio de vigilancia y seguridad privada con medio humano armado, sin arma y apoyo con medios tecnológicos, en algunas sedes donde funcionan Corporaciones y Despachos Judiciales de los Distritos de Tunja, Santa Rosa de Viterbo y Yopal. | AY18: Contratar en nombre de la NACION – CONSEJO SUPERIOR DE LA JUDICATURA – DIRECCION EJECUTIVA SECCIONAL DE ADMINISTRACION JUDICIAL DE TUNJA, la prestación del servicio de vigilancia y seguridad privada con medio humano armado, sin arma y apoyo con medios tecnológicos, en algunas sedes donde funcionan Corporaciones y Despachos Judiciales de los Distritos de Tunja, Santa Rosa de Viterbo y Yopal. | AZ18: Prestación del servicio de vigilancia y seguridad privada con medio humano armado, sin arma y apoyo con medios tecnológicos, en algunas sedes donde funcionan Corporaciones y Despachos Judiciales de los Distritos de Tunja, Santa Rosa de Viterbo y Yopal. | BA18: Prestación del servicio de vigilancia y seguridad privada con medio humano armado, sin arma y apoyo con medios tecnológicos, en algunas sedes donde funcionan Corporaciones y Despachos Judiciales de los Distritos de Tunja, Santa Rosa de Viterbo y Yopal. | BB18: N.A | BC18: Contratar en nombre de la NACION – CONSEJO SUPERIOR DE LA JUDICATURA – DIRECCION EJECUTIVA SECCIONAL DE ADMINISTRACION JUDICIAL DE TUNJA, la prestación del servicio de vigilancia y seguridad privada con medio humano armado, sin arma y apoyo con medios tecnológicos, en algunas sedes donde funcionan Corporaciones y Despachos Judiciales de los Distritos de Tunja, Santa Rosa de Viterbo y Yopal.” | BD18: Contratar en nombre de la NACION – CONSEJO SUPERIOR DE LA JUDICATURA – DIRECCION EJECUTIVA SECCIONAL DE ADMINISTRACION JUDICIAL DE TUNJA, la prestación del servicio de vigilancia y seguridad privada con medio humano armado, sin arma y apoyo con medios tecnológicos, en algunas sedes donde funcionan Corporaciones y Despachos Judiciales de los Distritos de Tunja, Santa Rosa de Viterbo y Yopal.”
C19: OBSERVACIONES | D19: Ninguna | E19: Ninguna | G19: NIguna | H19: NO APLICA | I19: Ninguna | K19: Ninguna | M19: Ninguna | O19: Ninguna | Q19: Ninguna | S19: Ninguna | V19: Ninguna | X19: Ninguna | Y19: Ninguna | AA19: Ninguna | AC19: Ninguna | AE19: Ninguna | AG19: Ninguna | AI19: Ninguna | AK19: Ninguna | AM19: Ninguna | AO19: Ninguna | AP19: Ninguna | AR19: Ninguna | AU19: Ninguna | AW19: Ninguna | AX19: Ninguna | AZ19: Ninguna | BB19: Ninguna | BC19: Ninguna
A20: 5 | B20: FOTOCOPIA DOCUMENTO DE IDENTIDAD (figuras asociativas documento c/u de los integrantes) | C20: APORTADO (SI O NO) | D20: SI | E20: SI | F20: SI | G20: SI | H20: SI APORTA | I20: SI | J20: SI | K20: SI | L20: SI | M20: SI | N20: SI | O20: SI | P20: SI | Q20: SI | R20: SI | S20: SI | T20: SI | U20: SI | V20: SI | W20: SI | X20: SI | Y20: SI | Z20: SI | AA20: SI | AB20: SI | AC20: SI | AD20: SI | AE20: SI | AF20: SI | AG20: SI | AH20: SI | AI20: SI | AJ20: SI | AK20: SI | AL20: SI | AM20: SI | AN20: SI | AO20: SI | AP20: SI | AQ20: SI | AR20: SI | AS20: SI | AT20: SI | AU20: SI | AV20: SI | AW20: SI | AX20: SI | AY20: SI | AZ20: SI | BA20: SI | BB20: SI | BC20: SI | BD20: SI
C21: No. Cedula de ciudadania | D21: 14650154 | E21: 80022640 | F21: 79708271 | G21: 46313325 | H21: 52789684 | I21: 73167096 | J21: 83183118 | K21: 39776446 | L21: 19467223 | M21: 52475991 | N21: 79386128 | O21: 19272850 | P21: 79553407 | Q21: 79312432 | R21: 75068387 | S21: 79590116 | T21: 79984943 | U21: 41101391 | V21: 79502667 | W21: 79703069 | X21: 19272775 DE PACORA | Y21: 30302713 | Z21: 60294378 | AA21: 80875292 | AB21: 6218158 | AC21: 79577206 | AD21: 1018497079 | AE21: C.C. 9.528.882 de Sogamoso | AF21: C.C. 1.032.472.747 de Bogotá | AG21: C.C. 52.828.346 DE BOGOTÁ | AH21: C.C. 1.012.351.021 DE BOGOTÁ | AI21: C.C. 1.082.772.851 BTA | AJ21: C.C. 19.244.864 | AK21: C.C. 79,433,863 | AL21: C.C. No.: 79.051.295 DE ENGATIVÁ | AM21: C.C. 79.396.115 Bogotá D.C | AN21: C.C. 36.165.333 de Neiva. | AO21: 63.368.762 de Bucaramanga | AP21: C.C 13.823.484 de Bucaramanga | AQ21: C.C: 41.929.812 de Armenia | AR21: 79385626 | AS21: 1057579935 | AT21: 52055586 | AU21: 79062686 | AV21: 1032356698 | AW21: 1,053,607,431 | AX21: 40380767 | AY21: 1121879414 | AZ21: C.C. No. 79.285.464 de Bogotá D.C | BA21: C.C. No. 13.465.086 de Cúcuta | BB21: 52368373 | BC21: 19.110.478 de Bogotá | BD21: 4.280.650 de Togui
C22: NOMBRE: | D22: LUIS FERNANDO SERRANO TASCON | E22: JHON JAIRO NEIRA BEJARANO | F22: FABIO AMADO AYALA | G22: DENICE GARZON MALPICA | H22: JULIANA MARCELA LUNA CHAVES | I22: LUIS FRANCISCO OSPINA GONZALEZ | J22: GERMAN DARIO ARGUMEDO PEREZ | K22: GLORIA ELENA MURIEL BOTERO | L22: LEONARDO GOMEZ GRANADOS | M22: YANIRA ESPERANZA OÑATE RODRIGUEZ | N22: JUAN MANUEL SILVA RUIZ | O22: LEONARDO FERNANDEZ DELGADO | P22: JHON EDWARD RAMOS AMEZQUITA | Q22: GERMAN DUQUE MORALES | R22: ALBERT AUGUSTO GONZALEZ VASCO | S22: FRANKLIN MORENO CARVAJAL | T22: OSCAR ANDRES ROMERO CELIS | U22: SANDRA SOLEDAD PANTOJA ROSALES | V22: MIGUEL ANGEL DÍAZ GARCIA | W22: JAVIER AUGUSTO BARON | X22: Representante Legal:HERIBERTO LOAIZA MARIN | Y22: EDNA MARGARITA GOMEZ BOTERO | Z22: NUBIA STELLA QUINTERO RUBIO | AA22: SEBASTIAN ALEJANDRO MORENO TRUJILLO | AB22: HERNEY GALLEGO GALLEGO | AC22: CARLOS ARTURO VELANDIA DIAZ | AD22: JULIAN ANDRES RODRIGUEZ CORAL | AE22: Representante Legal: FABIO HERNANDO PORTILLA SANCHEZ | AF22: Representante Legal: DANIEL ANDRÉS HORMAZA PORTILLA | AG22: Representante Legal: CAROL ANDREA GRANADA GOMEZ | AH22: Representante Legal: CARLOS ALFONSO ESPINOSA CASTILLO | AI22: Representante Legal: MARTA LILIANA SAMBONI SEMANATE | AJ22: Representante Legal: ALVARO ORDOÑEZ ORTIZ | AK22: Representante Legal: MARTA LILIANA SAMBONI SEMANATE | AL22: Representante Legal: ALVARO ORDOÑEZ ORTIZ | AM22: Representante Legal: HECTOR BAEZ MEDINA | AN22: Representante Legal: MARIA MONICA GONZALES RUIZ | AO22: Representante Legal: SONIA PATRICIA ANGARITA ABAUNZA | AP22: Representante Legal: PEDRO ELIAS SANCHEZ ANGARITA | AQ22: Representante Legal: ANGELICA BULLA CASTILLO | AR22: OSCAR SANTIAGO SLVA ARIZA | AS22: YENNY KARINA BONILLA CRUZ | AT22: LILIANA PATRICIA ALVAREZ MONTES | AU22: LUIS FERNANNO GARCIA TARQUINO | AV22: JENNY CAROLINA NIÑI URIBE | AW22: YEIMI ALEXANDRA ZANGUÑA BARON | AX22: SULMA SORAIDA RICO MORALES | AY22: ERIKA JOHANNA RODRIGUEZ UMBACIA | AZ22: Representante Legal: GERMAN HERNANDO PERILLA MEDRANO | BA22: Representante Legal: WILLIAM RESTREPO ESPINOSA | BB22: NUBIA CONSUELO CASTRO SUESCA | BC22: Representante Legal: BERSELI MATEUS RUIZ | BD22: Representante Legal: ALFREDO REYES SANCHEZ
C23: OBSERVACIONES: | D23: Ninguna | E23: Ninguna | F23: Ninguna | G23: Ninguna | H23: NINGUNA | I23: Ninguna | J23: Ninguna | K23: Ninguna | L23: Ninguna | M23: Ninguna | N23: Ninguna | O23: Ninguna | P23: Ninguna | Q23: Ninguna | R23: Ninguna | S23: Ninguna | T23: Ninguna | U23: Ninguna | V23: Ninguna | W23: Ninguna | X23: Ninguna | Y23: Ninguna | Z23: Ninguna | AA23: Ninguna | AB23: Ninguna | AC23: Ninguna | AD23: Ninguna | AE23: Ninguna | AF23: Ninguna | AG23: Ninguna | AH23: Ninguna | AI23: Ninguna | AJ23: Ninguna | AK23: Ninguna | AL23: Ninguna | AM23: Ninguna | AN23: Ninguna | AO23: Ninguna | AP23: Ninguna | AQ23: Ninguna | AR23: Ninguna | AS23: Ninguna | AT23: Ninguna | AU23: Ninguna | AV23: Ninguna | AW23: Ninguna | AX23: Ninguna | AY23: Ninguna | AZ23: Ninguna | BA23: Ninguna | BB23: Ninguna | BC23: Ninguna | BD23: Ninguna
A24: 6 | B24: CERTIFICADO DE EXISTENCIA Y REPRESENTACIÓN LEGAL DEL PROPONENTE y DE C/U MIEMBROS CONSORCIO O UT (constituida por lo menos cinco años antes de la fecha de apertura del presnte proceso) | C24: APORTADO (SI O NO) | D24: SI | E24: SI | F24: SI | G24: SI | H24: SI APORTA | I24: SI | J24: SI | K24: SI | L24: SI | M24: SI | N24: SI | O24: SI | P24: SI | Q24: SI | R24: SI | S24: SI | T24: SI | U24: SI | V24: SI | W24: SI | X24: SI | Y24: SI | Z24: SI | AA24: SI | AB24: SI | AC24: SI | AD24: SI | AE24: SI | AF24: SI | AG24: SI | AH24: SI | AI24: SI | AJ24: SI | AK24: SI | AL24: SI | AM24: SI | AN24: SI | AO24: SI | AP24: SI | AQ24: SI | AR24: SI | AS24: SI | AT24: SI | AU24: SI | AV24: SI | AW24: SI | AX24: SI | AY24: SI | AZ24: SI | BA24: SI | BB24: SI | BC24: SI | BD24: SI
C25: OBJETIVO ESPECIFICO: | D25: LA PRESTACION REMUNERADA DE SERVICIOS DE VIGILANCIA Y SEGURIDAD PRIVADA EN MODALIDAD FIJA, MOVIL Y ESCOLTA A PERSONAS VEHICULOS Y MERCANCIAS CON LA UTILIZACION DE ARMAS DE FUEGO SIN ARMA Y MEDIOS TECNOLOGICOS. | E25: PRESTAR SERVICIOS DE VIGILANCIA PRIVADA, PROTECCION DE BIENES MUEBLES, INMUEBLES, MODALIDAD FIJA Y MOVIL, ARMADO, SIN ARMAS, CANINO | F25: PRESTAR SERVICIOS DE VIGILANCIA PRIVADA, PROTECCION DE BIENES MUEBLES, INMUEBLES, MODALIDAD FIJA Y MOVIL, ARMADO, SIN ARMAS, CANINO | G25: LA PRESTACION REMUNERADA DE SERVICIOS DE VIGILANCIA Y SEGURIDAD PRIVADA EN MODALIDAD FIJA, MOVIL Y ESCOLTA A PERSONAS VEHICULOS Y MERCANCIAS CON LA UTILIZACION DE ARMAS DE FUEGO SIN ARMA Y MEDIOS TECNOLOGICOS. | H25: PRESTAR SERVICIOS DE VIGILANCIA PRIVADA, PROTECCION DE BIENES MUEBLES, INMUEBLES, MODALIDAD FIJA Y MOVIL, ARMADO, SIN ARMAS, CANINO | I25: PRESTAR SERVICIOS DE VIGILANCIA PRIVADA, PROTECCION DE BIENES MUEBLES, INMUEBLES, MODALIDAD FIJA Y MOVIL, ARMADO, SIN ARMAS, CANINO | J25: PRESTAR SERVICIOS DE VIGILANCIA PRIVADA, PROTECCION DE BIENES MUEBLES, INMUEBLES, MODALIDAD FIJA Y MOVIL, ARMADO, SIN ARMAS, CANINO | K25: PRESTAR SERVICIOS DE VIGILANCIA PRIVADA, PROTECCION DE BIENES MUEBLES, INMUEBLES, MODALIDAD FIJA Y MOVIL, ARMADO, SIN ARMAS, CANINO | L25: PRESTAR SERVICIOS DE VIGILANCIA PRIVADA, PROTECCION DE BIENES MUEBLES, INMUEBLES, MODALIDAD FIJA Y MOVIL, ARMADO, SIN ARMAS, CANINO | M25: PRESTAR SERVICIOS DE VIGILANCIA PRIVADA, PROTECCION DE BIENES MUEBLES, INMUEBLES, MODALIDAD FIJA Y MOVIL, ARMADO, SIN ARMAS, CANINO | N25: PRESTAR SERVICIOS DE VIGILANCIA PRIVADA, PROTECCION DE BIENES MUEBLES, INMUEBLES, MODALIDAD FIJA Y MOVIL, ARMADO, SIN ARMAS, CANINO | O25: PRESTAR SERVICIOS DE VIGILANCIA PRIVADA, PROTECCION DE BIENES MUEBLES, INMUEBLES, MODALIDAD FIJA Y MOVIL, ARMADO, SIN ARMAS, CANINO | P25: PRESTAR SERVICIOS DE VIGILANCIA PRIVADA, PROTECCION DE BIENES MUEBLES, INMUEBLES, MODALIDAD FIJA Y MOVIL, ARMADO, SIN ARMAS, CANINO | Q25: prestación remunerada de servicios de vigilancia y seguridad privada, a favor de personas naturales o jurídicas, de derecho público o privado, en la modalidad de vigilancia fija, móvil y/o escolta a personas, vehículos (…) | R25: prestación remunerada de servicios di vigilancia y seguridad privada, a favor de personas naturales o jurídicas, de derecho público o privado, en la modalidad de vigilancia fija, móvil y/o escolta a personas, vehículos (…) | S25: PRESTACION DEL SERVICIO DE VIGILANCIA Y SEGURIDAD PRIVADA | T25: prestación de los servicios de vigilancia y seguridad privada a personas naturales, jurídicas de derecho público y privado, a bienes muebles e inmuebles, escoltas, etc. | U25: prestacion remunerada del servicio de vigilancia y seguridad privada en la modalidad e vigilancia fija, movil y/o escolta. | V25: PRESTACION REMUNERADA DE SERVICIOS DE VIGILANCIA Y SEGURIDAD PRIVADA INTEGRAL , LA PROTECCIÓN DE BIENES, VIGILANCIA Y ESCOLTA A BIENES MUEBLES E INMUEBLES, PERSONAS, VEHICULOS Y MERCANCIA, EL SERVICIO DE VIGILANCIA CON MEDIO CANINO Y MEDIOS TECONOLOGICOS. | W25: PRESTACION REMUNERADA DE SERVICIOS DE VIGILANCIA Y SEGURIDAD PRIVADA CON ARMAS, PROTECCIÓN DE BIENES MUEBLES E INMUEBLES, PERSONAS NATURALES O JURIDICAS Y ACTIVIDADES AFINES. | X25: la prestación remunerada de servicios de vigilancia privada, en la modalidad de vigilancia fija, móvil y/o escoltas, mediante la utilización de cualquiera de los medios como armas de fuego o sin armas | Y25: PRESTACION REMUNERADA DE SERVICIOS DE VIGILANCIA Y SEGURIDAD PRIVADA CON O SIN ARMAS, MEDIO CANINO Y TECONOLOGICO, CON EL FIN DE DAR PROTECCION A PERSONAS NATURALES O JURIDICAS DE DERECHO PUBLICO O PRIVADO A BIENES MUEBLES E INMUEBLES, EN LA MODALIDAD DE FIJA, ESCOLTA A PERSONAS VEHICULOS O MERCANCIAS. | Z25: PRESTACION REMUNERADA DE SERVICIOS DE VIGILANCIA Y SEGURIDAD PRIVADA QUE COMPRENDE LA PROTECCION A MUEBLES E INMUEBLES, A PERSONAS NATURALES O JURIDICAS, EN LA MODALIDAD DE VIGILANCIA FIJA, MOVIL Y/O ESCOLTAS, MEDIANTE LA UTILIZACION DE RECURSOS HUMANOS, ARMAS DE FUEGO, MEDIOS CANINOS, ETC. | AA25: prestación remunerada de servicios de vigilancia y seguridad privada en las modalidades de vigilancia fija, movil con o sin arma. | AB25: prestacion remunerada del servicio de vigilancia y seguridad privada en la modalidad e vigilancia fija, movil y/o escolta. | AC25: Prestación remunerada de servicios de vigilancia y seguridad privada en las modalidades de vigilancia fija, movil y escolta a personas vehiculos y mercancias. | AD25: Prestación remunerada del servicio de vigilancia y seguridad privada en la modalidad de vigilancia fija, movil y/o escolta. | AE25: Prestación de servicios de vigilancia privada, seguridad y protección, tanto a personas naturales como jurídicas en todas las modalidades, ya sea en el sector industrial, comercial o residencial | AF25: El objeto exclusivo de esta sociedad será el de prestar, mediante remuneración, el servicio de vigilancia privada y celaduría a personas jurídicas y naturales que lo soliciten | AG25: la presentación de servicios de vigilancia y seguridad privada de conformidad con el decreto 356 de 1 de febrero de 1994, por el cual se expide el estatuto de vigilancia y seguridad privada | AH25: La prestación de servicios de vigilancia y seguridad privada de conformidad con el Decreto 356 de 11 de febrero de 1994, por el cual se expide el estatuto de vigilancia y seguridad privada, que comprende las actividades que en forma remunerada desarrolla esta entidad tendientes a prevenir o detener perturbaciones a la seguridad y tranquilidad individual en lo relacionado con la vida y los bienes | AI25: la prestación remunerada de servicios de vigilancia y seguridad privada en todas las modalidades autorizadas por las normas que regulan este tipo de servicio, incluyendo los conexos como los de asesoría, consultoría, investigación en seguridad y capacitación e investigación a nivel nacional e internacional | AJ25: la prestación de servicio de vigilancia y seguridad privada a nivel nacional, en la modalidad de fija, móvil, escolta personas, vehículos y mercancías, con y sin armas de fuego, y medios tecnológicos a través de monitoreo de alarmas, detectores manuales de metales, vapores explosivos, armas no letales, con los recursos humanos | AK25: PRESTACIÓN REMUNERADA DE SERVICIOS DE VIGILANCIA Y SEGURIDAD PRIVADA | AL25: PRESTACIÓN REMUNERADA DE SERVICIOS DE VIGILANCIA Y SEGURIDAD PRIVADA IMPLEMENTADA CON SERVICIOS DE EQUIPOS TECNOLÓGICOS, PRESTACIÓN DE SERVICIOS DE TELECOMUNICACIONES Y OTROS CONEXOS A LAS ACTIVIDADES DE LA VIGILANCIA PRIVADA EN LAS MODALIDADES AUTORIZADAS POR LA. SUPERINTENDENCIA DE VIGILANCIA Y SEGURIDAD PRIVADA | AM25: La prestación remunerada de servicios de vigilancia para operar en las modalidades de vigilancia fija, vigilancia móvil, escolta de personal, vehículos y mercancía con utilización de armas de fuego, sin armas, y medio tecnológico, de conformidad con lo establecido en el acto administrativo incorporado en la resolución emitida por la Superintendencia de Vigilancia y Seguridad Privada | AN25: La sociedad tiene como objeto principal: A. Prestar servicios remunerados de vigilancia fija, móvil, escolta a personas, escolta a vehículos, con o sin la utilización de armas de fuego y medios tecnológicos | AO25: la prestación remunerada de servicios de vigilancia privada, en la modalidad de vigilancia fija, móvil y/o escoltas, mediante la utilización de cualquiera de los medios como armas de fuego o sin armas | AP25: La prestacion del servicio de vigilancia y seguridad privada en forma remunerada con arma y sin arma, en la modalidad fija móvil y/o escolta, así como también cualquier medio humano, animal, material o tecnológico distinto a las armas de fuego | AQ25: La prestación remunerada de los servicios de vigilancia y seguridad privada, fija con arma y sin arma, móvil con arma y sin arma, escolta a personas naturales o jurídicas con arma y sin arma, escolta a vehículos y mercancías con arma y sin arma, vigilancia canina en sus diferentes modalidades. | AR25: PRESTAR SERVICIOS DE VIGILANCIA PRIVADA, PROTECCION DE BIENES MUEBLES, INMUEBLES, MODALIDAD FIJA Y MOVIL, ARMADO, SIN ARMAS, CANINO | AS25: PRESTAR SERVICIOS DE VIGILANCIA PRIVADA, PROTECCION DE BIENES MUEBLES, INMUEBLES, MODALIDAD FIJA Y MOVIL, ARMADO, SIN ARMAS, CANINO | AT25: PRESTAR SERVICIOS DE VIGILANCIA PRIVADA, PROTECCION DE BIENES MUEBLES, INMUEBLES, MODALIDAD FIJA Y MOVIL, ARMADO, SIN ARMAS, CANINO | AU25: PRESTAR SERVICIOS DE VIGILANCIA PRIVADA, PROTECCION DE BIENES MUEBLES, INMUEBLES, MODALIDAD FIJA Y MOVIL, ARMADO, SIN ARMAS, CANINO | AV25: PRESTAR SERVICIOS DE VIGILANCIA PRIVADA, PROTECCION DE BIENES MUEBLES, INMUEBLES, MODALIDAD FIJA Y MOVIL, ARMADO, SIN ARMAS, CANINO | AW25: Prestación remunerada de servicios de vigilancia y seguridad privada en las modalidades de vigilancia fija, movil y escolta a personas. | AX25: Prestación remunerada de servicios de vigilancia y seguridad privada en las modalidades de vigilancia fija, movil y escolta a personas. | AY25: Prestación de servicios remunerados de seguridad y protección tales ocmo vigilancia de bienes inmuebles, de personas naturales y juridicas, escolta y otras actividades afines. | AZ25: la empresa de vigilancia y seguridad privada, denominada SEGURIDAD ONCOR de conformidad con el Decreto 356 del 11 de enero de 1994 en la modalidad de vigilancia y seguridad privada exclusivamente. Sera la prestación remunerada de servicios de vigilancia y seguridad privada, | BA25: la prestación remunerada de servicios de vigilancia y seguridad privada en las modalidades de vigilancia fija móvil y esscolta a personas, vehículos y mercancías con y sin armas de fuego, recursos humanos, medio canino, medios tecnológicos | BB25: Prestación remunerada de servicios de vigilancia y seguridad privada para operar en las modalidades de vigilancia fija, movil y escolta a personas. | BC25: la prestación remunerada de servicio de vigilancia y seguridad privada, empleando para ello cualquier medio humano, animal; armas de fuego, tecnológico tales como centrales de monitoreo y alarmas, circuitos cerrados, equipos de visión o escucha remotos, equipo de detección, como rayos x o scanner, controles de acceso perimétricos y similares | BD25: Prestación remunerada de servicios de vigilancia y seguridad privada de protección de bienes muebles e inmuebles de personas naturales o jurídicas de derecho publico o privado y demás entidades o personas que requieran el servicio, para operar con los medios y en las modalidades previamente autorizadas por la superintendencia de vigilancia y seguridad privada dentro del territorio nacional
C26: FECHA DE CONSTITUCIÓN: (apertura del proceso 21/10/2022) | D26: 36073 | E26: 40030 | F26: 41690 | G26: 34668 | H26: 41716 | I26: 32646 | J26: 40743 | K26: 27880 | L26: 34277 | M26: 37166 | N26: 29032 | O26: 30768 | P26: 39729 | Q26: 28642 | R26: 41591 | S26: 23470 | T26: 37062 | U26: 34243 | V26: 26228 | W26: 39748 | X26: 30 de mayo de 1.994 | Y26: 33961 | Z26: 31374 | AA26: 32654 | AB26: 33099 | AC26: 29006 | AD26: 42443 | AE26: 12 de mayo de 1992 | AF26: 11 de mayo de 1.992 | AG26: 25 de septiembre de 1984 | AH26: 26 de mayo de 1993 | AI26: 22 de febrero de 1.984 | AJ26: 05 de diciembre de 1994 | AK26: 40877 | AL26: 8 DE SEPTIEMBRE DE 1998 | AM26: 13 de noviembre de 2001 | AN26: 05 de agosto de 1994 | AO26: 5 DE DICIEMBRE DE 1.984 | AP26: 24 de febrero de 1995 | AQ26: 28 de abril de 1977 | AR26: 30768 | AS26: 36452 | AT26: 38805 | AU26: 27312 | AV26: 34978 | AW26: 33995 | AX26: 35298 | AY26: 36602 | AZ26: 23 de julio de 1.993 | BA26: 6 de junio de 2000 | BB26: 36622 | BC26: 28 de febrero de 1.972 | BD26: 10 de junio de 1988
C27: FECHA DE EXPEDICIÓN DEL CERTIFICADO: | D27: 2/11/222 | E27: 44865 | F27: 44858 | G27: 44848 | H27: 44846 | I27: 44839 | J27: 44845 | K27: 44858 | L27: 44840 | M27: 44841 | N27: 44862 | O27: 44841 | P27: 44846 | Q27: 44865 | R27: 44846 | S27: 44858 | T27: 44837 | U27: 44844 | V27: 44847 | W27: 44839 | X27: 31 de octubre de 2022 | Y27: 44844 | Z27: 44846 | AA27: 44867 | AB27: 44865 | AC27: 44838 | AD27: 44868 | AE27: 2 de noviembre de 2022 | AF27: 10 de octubre de 2022 | AG27: 13 de octubre de 2022 | AH27: 13 de octubre de 2022 | AI27: 10 de octubre de 2022 | AJ27: 44866 | AK27: 44861 | AL27: 12 DE OCTUBRE DE 2022 | AM27: 24 de octubre de 2022 | AN27: 44853 | AO27: 10 DE OCTUBRE DE 2022 | AP27: 2 de noviembre de 2022 | AQ27: 13 de octubre de 2022 | AR27: 44865 | AS27: 44865 | AT27: 44844 | AU27: 44866 | AV27: 44856 | AW27: 44845 | AX27: 44862 | AY27: 44866 | AZ27: 1 de noviembre de 2022 | BA27: 13 de octubre de 2022 | BB27: 44867 | BC27: 10 de octubre de 2022 | BD27: 44847
C28: DURACIÓN DE LA SOCIEDAD: (No sera inferior a la del plazo del contrato y un año mas) | D28: NO APLICA | E28: 47335 | F28: 45342 | G28: NO APLICA | H28: INDEFINIDA | I28: 50908 | J28: 51776 | K28: 54908 | L28: 51169 | M28: 47757 | N28: 54590 | O28: 63640 | P28: 48852 | Q28: 78289 | R28: 79670 | S28: 73143 | T28: 54877 | U28: 59810 | V28: 51796 | W28: 54789 | X28: 30 de mayo de 2034 | Y28: 67889 | Z28: 48572 | AA28: 62052 | AB28: 69624 | AC28: 50921 | AD28: 16875 | AE28: 12 de mayo de 2032 | AF28: 10 de abril de 2060. | AG28: 25 de septiembre de 2034 | AH28: 14 de septiembre de 2037 | AI28: 22 de febrero de 2034. | AJ28: 31 de diciembre de 2030 | AK28: 62274 | AL28: 8 DE SEPTIEMBRE DE 2040 | AM28: 14 de febrero de 2060 | AN28: 31 de diciembre de 2050. | AO28: 12 DE MARZO DE 2050 | AP28: 25 de octubre de 2130 | AQ28: 28 de abril de 2057 | AR28: 49485 | AS28: 55153 | AT28: 58529 | AU28: 55153 | AV28: 73415 | AW28: 51160 | AX28: 48081 | AY28: 55153 | AZ28: 16 de julio de 2033 | BA28: 24 de mayo de 2049 | BB28: 73146 | BC28: 31 de diciembre de 2050 | BD28: 10 de junio de 2060.
C29: FACULTADES DEL REPRESENTANTE LEGAL PARA CONTRATAR: (con limite o sin limite de cuantia) | D29: SIN LIMITE DE CUANTIA | E29: SIN LIMITE DE CUANTIA | F29: SIN LIMITE DE CUANTIA | G29: SIN LIMITE DE CUANTIA | H29: SIN LIMITE DE CUANTIA | I29: SIN LIMITE DE CUANTIA | J29: SIN LIMITE DE CUANTIA | K29: SIN LIMITE DE CUANTIA | L29: HASTA 3000 SMMLV | M29: ILIMITADA | N29: SIN LIMITE DE CUANTIA | O29: SIN LIMITACIONES | P29: SIN LIMITE DE CUANTIA | Q29: SIN LIMITE DE CUANTIA | R29: SIN LIMITE DE CUANTIA | S29: SIN LIMITE DE CUANTIA | T29: SIN LIMITE DE CUANTIA | U29: SIN LIMITE DE CUANTIA | V29: SIN LIMITE DE CUANTIA | W29: SIN LIMITE DE CUANTIA | X29: Sin limite de cuantia | Y29: SIN LIMITE DE CUANTIA | Z29: SIN LIMITE DE CUANTIA | AA29: SIN LIMITE DE CUANTIA | AB29: SIN LIMITE DE CUANTIA | AC29: SIN LIMITE DE CUANTIA | AD29: SIN LIMITE | AE29: Sin limite de cuantia | AF29: Sin limite de cuantia | AG29: Sin limite de cuantia | AH29: Sin limite de cuantia | AI29: Sin limite de cuantia | AJ29: Sin limite de cuantia | AK29: Sin limite de cuantia | AL29: Sin limite de cuantia | AM29: Limitacion | AN29: cuando las propuestas o contratos a celebrar en su cuantía excedan de cien mil (100.000) Salarios mínimos mensuales | AO29: Sin limite de cuantia | AP29: Sin limite de cuantia | AQ29: Sin limite de cuantia | AR29: SIN LIMITACIONES | AS29: SIN LIMITE DE CUANTIA | AT29: SIN LIMITE DE CUANTIA | AU29: SIN LIMITACIONES | AV29: SIN LIMITE DE CUANTIA | AW29: SIN LIMITE DE CUANTIA | AX29: AUTORIZACION MAS DE 2000 MILLONES | AY29: REQUIERE SI CUESTA MAS DE 100 MILLONES | AZ29: hasta por 30.000 salarios mínimos mensuales legales vigentes | BA29: Sin limite de cuantia | BB29: SIN LIMITE DE CUANTIA | BC29: Sin limite de cuantia | BD29: Sin limite de cuantia
C30: OBSERVACIONES: | D30: Ninguna | E30: Ninguna | F30: Ninguna | G30: Ninguna | H30: NINGUNA | I30: Ninguna | J30: Ninguna | K30: Ninguna | L30: Ninguna | M30: Ninguna | N30: NINGUNA | O30: Ninguna | P30: NINGUNA | Q30: Ninguna | R30: Ninguna | S30: Ninguna | T30: Ninguna | U30: Ninguna | V30: Ninguna | W30: Ninguna | X30: Ninguna | Y30: Ninguna | Z30: Ninguna | AA30: Ninguna | AB30: Ninguna | AC30: Ninguna | AD30: Ninguna | AE30: Ninguna | AF30: Ninguna | AG30: Ninguna | AH30: Ninguna | AI30: Ninguna | AJ30: Ninguna | AK30: Ninguna | AL30: Ninguna | AM30: Ninguna | AN30: Ninguna | AO30: Ninguna | AP30: Ninguna | AQ30: Ninguna | AR30: Ninguna | AS30: NINGUNA | AU30: Ninguna | AV30: NINGUNA | AW30: Ninguna | AX30: Ninguna | AY30: Ninguna | AZ30: Ninguna | BA30: Ninguna | BC30: Ninguna | BD30: Ninguna
A31: 7 | B31: ACTA DE AUTORIZACION DEL ÓRGANO SOCIETARIO AL REPRESENTANTE LEGAL, EN CASO DE LIMITACION A LA CONTRATACION | C31: APORTADO (SI O NO) | D31: NO APLICA | G31: NO APLICA | L31: NO APLICA | Q31: NA | R31: NA | S31: NA | T31: NA | U31: NA | V31: N.A | W31: N.A | X31: N/A | Y31: N.A | Z31: N.A | AA31: NA | AB31: NA | AC31: NA | AD31: NA | AE31: N/A | AF31: N/A | AG31: N/A | AH31: N/A | AI31: N/A | AJ31: N/A | AK31: N/A | AL31: N/A | AM31: APORTA | AN31: NO APLICA | AO31: N/A | AP31: N/A | AQ31: N/A | AW31: N/A | AX31: NA | AY31: SI | AZ31: N/A | BA31: N/A | BB31: N.A. | BC31: N/A | BD31: N/A
C32: TIENE LIMITACION (SI O NO) | D32: NO APLICA | G32: NO APLICA | L32: NO APLICA | Q32: NA | R32: NA | S32: NA | T32: NA | U32: NA | V32: N.A | W32: N.A | Y32: N.A | Z32: N.A | AA32: NA | AB32: NA | AC32: NA | AD32: NA | AM32: ACTA No 026 de 2022 | AW32: N/A | AX32: NA | AY32: SI MAS DE 100 MILLONES | BB32: N.A
C33: OBSERVACIONES: | D33: NO APLICA | G33: NO APLICA | L33: NO APLICA | Q33: NA | R33: NA | S33: NA | T33: NA | U33: NA | V33: N.A | W33: N.A | Y33: N.A | Z33: N.A | AA33: NA | AB33: NA | AC33: NA | AD33: NA | AE33: Ningua | AF33: Ningua | AG33: Ningua | AH33: Ningua | AI33: Ningua | AJ33: Ningua | AK33: Ningua | AL33: Ningua | AM33: Ninguna | AN33: Ninguna | AW33: N/A | AX33: NA | AY33: Ninguna | BB33: N.A
A34: 8 | B34: REGISTRO UNICO DE PROPONENTES RUP | C34: APORTADO (SI O NO) | D34: SI | E34: SI | F34: SI | G34: SI | H34: SI | I34: SI | J34: SI | K34: SI | L34: SI | M34: SI | N34: SI | O34: SI | P34: SI | Q34: SI | R34: SI | S34: SI | T34: SI | U34: SI | V34: SI | W34: SI | X34: SI | Y34: SI | Z34: SI | AA34: SI | AB34: SI | AC34: SI | AD34: SI | AE34: SI | AF34: SI | AG34: SI | AH34: SI | AI34: SI | AJ34: SI | AK34: SI | AL34: SI | AM34: SI | AN34: SI | AO34: SI | AP34: SI | AQ34: SI | AR34: SI | AS34: SI | AT34: SI | AU34: SI | AV34: SI | AW34: SI | AX34: SI | AY34: SI | AZ34: SI | BA34: SI | BB34: SI | BC34: SI | BD34: SI
C35: FECHA DE EXPEDICIÓN: (no mayor a treinta dias calendario anteriores a la fecha de cierre) | D35: 2/11/222 | E35: 44858 | F35: 44858 | G35: 44848 | H35: 44859 | I35: 44851 | J35: 44852 | K35: 44858 | L35: 44840 | M35: 44841 | N35: 44862 | O35: 44845 | P35: 44846 | Q35: 44846 | R35: 44854 | S35: 44841 | T35: 44847 | U35: 44844 | V35: 44848 | W35: 44848 | X35: 31 DE OCTUBRE DE 2022 | Y35: 44844 | Z35: 44846 | AA35: 44853 | AB35: 44865 | AC35: 44859 | AD35: 44868 | AE35: 2 DE NOVIEMBRE DE 2022 | AF35: 10 DE OCTUBRE DE 2022 | AG35: 13 DE OCTUBRE DE 2022 | AH35: 13 DE OCTUBRE DE 2022 | AI35: 10 DE OCTUBRE DE 2022 | AJ35: 44866 | AK35: 13 DE OCTUBRE DE 2022 | AL35: 14 DE OCTUBRE DE 2022 | AM35: 10 DE OCTUBRE DE 2022 | AN35: 44854 | AO35: 6 DE OCTUBRE DE 2022 | AP35: 12 DE OCTUBRE DE 2022 | AQ35: 13 DE OCTUBRE DE 2022 | AR35: 1410/2022 | AS35: 44852 | AT35: 44852 | AU35: 44841 | AV35: 44856 | AW35: 44845 | AX35: 44862 | AY35: 44866 | AZ35: 28 DE OCTUBRE DE 2022 | BA35: 13 DE OCTUBRE DE 2022 | BB35: 44867 | BC35: 6 DE OCTUBRE DE 2022 | BD35: 44847
C36: ACTIVIDAD DE INSCRIPCIÓN: 921215, 921217 | D36: 921215, 921217 | E36: 9221215 | F36: 9221215 | G36: 921215, 921217 | H36: 9221215 | I36: 9221215 | J36: 9221215 | K36: 9221215 | L36: 9221215 | M36: 9221215 | N36: 9221215 | O36: 9221215 | P36: 9221215 | Q36: 921215, 921217 | R36: 9221215, 921217 | S36: 921215, 921217 | T36: 9221215, 921217 | U36: 9221215, 921217 | V36: 9221215 | W36: 9221215 | X36: 921215 - 921217 | Y36: 9221215 | Z36: 9221215 | AA36: 921215, 921217 | AB36: 9221215, 921217 | AC36: 921215, 921217 | AD36: 9221215, 921217 | AE36: 921215 - 921217 | AF36: 921215 - 921217 | AG36: 921215 - 921217 | AH36: 921215 - 921217 | AI36: 921215 - 921217 | AJ36: 921215 - 921217 | AK36: 921215 - 921217 | AL36: 921215 - 921217 | AM36: 921215 - 921217 | AN36: 921215 - 921217 | AO36: 921215 - 921217 | AP36: 921215 - 921217 | AQ36: 921215 - 921217 | AR36: 9221215 | AS36: 9221215 | AT36: 9221215 | AU36: 9221215 | AV36: 9221215 | AW36: 921015,921215,921217 | AX36: 921215, 921217 | AY36: 9221215, 921217 | AZ36: 921215 - 921217 | BA36: 921215 - 921217 | BB36: 921215, 921217 | BC36: 921215 - 921217 | BD36: 921215 - 921217
C37: OBSERVACIONES: | D37: Ninguna | E37: Ninguna | F37: Ninguna | G37: Ninguna | H37: NINGUNA | I37: Ninguna | J37: Ninguna | K37: Ninguna | L37: Ninguna | M37: Ninguna | N37: Ninguna | O37: Ninguna | P37: Ninguna | Q37: Ninguna | R37: Ninguna | S37: Ninguna | T37: Ninguna | U37: Ninguna | V37: Ninguna | W37: Ninguna | X37: Ninguna | Y37: Ninguna | Z37: Ninguna | AA37: Ninguna | AB37: Ninguna | AC37: Ninguna | AD37: Ninguna | AE37: Ninguna | AF37: Ninguna | AG37: Ninguna | AH37: Ninguna | AI37: Ninguna | AJ37: Ninguna | AK37: Ninguna | AL37: Ninguna | AM37: Ninguna | AN37: Ninguna | AO37: Ninguna | AP37: Ninguna | AQ37: Ninguna | AR37: Ninguna | AS37: Ninguna | AT37: Ninguna | AU37: Ninguna | AV37: Ninguna | AW37: Ninguna | AX37: Ninguna | AY37: Ninguna | AZ37: Ninguna | BA37: Ninguna | BB37: Ninguna | BC37: Ninguna | BD37: Ninguna
A38: 9 | B38: GARANTIA DE SERIEDAD DE LA OFERTA: (17.085.468,03) | C38: APORTADO (SI O NO) | D38: SI | E38: SI | G38: SI | H38: SI | I38: SI | K38: SI | M38: SI | O38: SI | Q38: SI | S38: SI | V38: SI | X38: SI | Y38: SI | AA38: SI | AC38: SI | AE38: SI | AG38: SI | AI38: SI | AK38: SI | AM38: SI | AO38: SI | AP38: SI | AR38: SI | AU38: SI | AW38: SI | AX38: SI | AZ38: SI | BB38: SI | BC38: SI
C39: No. DE POLIZA: | D39: CV-100026770 | E39: 15-44-101270203 | G39: CSC-100026287 | H39: 14-44-101166181 | I39: 15-44-101270379 | K39: 11-44-101193169 | M39: NB100230992 | O39: BCH 100022429 | Q39: 100026274 | S39: AB000274 | V39: 14-44-101166178 | X39: 21-44-101397625 | Y39: 14-44-101166013 | AA39: 62104 | AC39: 21-44-101397570 | AE39: BCH-100022479 | AG39: 14-44-101166030 | AI39: 62168 | AK39: 14-44-101166107 | AM39: CSC-100026197 | AO39: 14-44-101166056 | AP39: 15-44-101270207 | AR39: CSC 100026300 | AU39: 14-44101166306 | AW39: 600-47-994000066236 | AX39: 30-44-101049579 | AZ39: 14-44-101166132 | BB39: SEGUROS DEL ESTADO | BC39: 11-44-101193250
C40: ASEGURADORA: | D40: SEGUROS MUNDIAL | E40: SEGUROS DEL ESTADO | G40: SEGUROS MUNDIAL | H40: SEGUROS DEL ESTADO | I40: SEGUROS DEL ESTADO | K40: SEGUROS DEL ESTADO | M40: SEGUROS MUNDIAL | O40: SEGUROS MUNDIAL | Q40: SEGUROS MUNDIAL | S40: EQUIDAD SEGUROS | V40: SEGUROS DEL ESTADO | X40: SEGUROS DEL ESTADO | Y40: SEGUROS DEL ESTADO | AA40: BERKLEY COLOMBIA SEGUROS | AC40: SEGUROS DEL ESTADO | AE40: SEGUROS MUNDIAL | AG40: SEGUROS DEL ESTADO | AI40: BERKLEY INTERNATIONAL SEGUROS COLOMBIA | AK40: SEGUROS DEL ESTADO | AM40: SEGUROS MUNDIAL | AO40: SEGUROS DEL ESTADO | AP40: SEGUROS DEL ESTADO | AR40: SEGUROS MUNDIAL | AU40: SEGUROS DEL ESTADO | AW40: ASEGURADORA SOLIDARIA DE COLOMBIA | AX40: SEGUROS DEL ESTADO | AZ40: SEGUROS DEL ESTADO | BB40: 15-44-101270452 | BC40: SEGUROS DEL ESTADO
