Workbook

Sheet INF. BÁSICA
A3: PROCESO No. | B3: S.A.M.C 021-2022
A4: OBJETO: | B4: “CONTRATAR LAS OBRAS CORRESPONDIENTES AL MEJORAMIENTO Y MANTENIMIENTO DE LOS ESCENARIOS DEPORTIVOS DEL MUNICIPIO DE CHINCHINA - CALDAS”
A5: PRESUPUESTO OFICIAL | B5: 256000000 | D5: 256 SMLMV
A6: FECHA DE CIERRE | B6: Viernes 18 de Noviembre de 2022
A8: INFORME BÁSICO
A10: PROPONENTES | C10: No. DE FOLIOS | D10: VALOR DE LA OFERTA
A11: PROPONENTE 1: | B11: JORGE HERNAN LOPEZ CARVAJAL | C11: N/A | D11: 244914889
A12: PROPONENTE 2: | B12: NICOLAS CARDONA SANCHEZ | C12: N/A | D12: 242639783
A13: PROPONENTE 3: | B13: ORLANDO CASTAÑEDA FIERRO | C13: N/A | D13: 241792891

Sheet VER. JURIDICA
B3: ='INF. BÁSICA'!A3 -> PROCESO No. | E3: ='INF. BÁSICA'!B3 -> S.A.M.C 021-2022
B4: ='INF. BÁSICA'!A4 -> OBJETO: | E4: ='INF. BÁSICA'!B4 -> “CONTRATAR LAS OBRAS CORRESPONDIENTES AL MEJORAMIENTO Y MANTENIMIENTO DE LOS ESCENARIOS DEPORTIVOS DEL MUNICIPIO DE CHINCHINA - CALDAS”
B5: ='INF. BÁSICA'!A5 -> PRESUPUESTO OFICIAL | E5: ='INF. BÁSICA'!B5 -> 256000000
B6: ='INF. BÁSICA'!A6 -> FECHA DE CIERRE | E6: ='INF. BÁSICA'!B6 -> Viernes 18 de Noviembre de 2022
B7: VERIFICACIÓN JURÍDICA
B8: DOCUMENTOS | C8: PROPONENTE 1: | E8: PROPONENTE 2: | G8: PROPONENTE 3:
C9: JORGE HERNAN LOPEZ CARVAJAL | E9: NICOLAS CARDONA SANCHEZ | G9: ORLANDO CASTAÑEDA FIERRO
C11: CUMPLE | E11: CUMPLE | G11: CUMPLE
C12: SI | D12: NO | E12: SI | F12: NO | G12: SI | H12: NO
B13: MIPYME TERRITORIAL– DEPARTAMENTAL (CALDAS) | C13: X | E13: X | G13: X
B14: CARTA DE PRESENTACIÓN DE LA OFERTA (CON AVAL DE INGENIERO CIVIL Y/O ARQUITECTO CUANDO EL PROPONENTE –PERSONA NATURAL O EL REPRESENTANTE LEGAL O EL APODERADO DEL PROPONENTE INDIVIDUAL PERSONA JURÍDICA O EL REPRESENTANTE LEGAL O APODERADO DE LA ESTRUCTURA PLURAL, NO POSEEA TÍTULO COMO INGINIERO CIVIL Y/O ARQUITECTO). | C14: X | E14: X | G14: X
B15: TITULO COMO INGENIERO CIVIL Y/O ARQUITECTO, COPIA DE LA TARJETA PROFESIONAL Y CERTIFICADO DE VIGENCIA DE LA MATRÍCULA PROFESIONAL EXPEDIDA POR LA AUTORIDAD COMPETENTE, VIGENTE A LA FECHA DE CIERRE DE ESTE PROCEDIMIENTO DE SELECCIÓN. | C15: X | E15: X | H15: X
B16: FOTOCOPIA DE LA CÉDULA DE CIUDADANÍA (DE LA PERSONA NATURAL Y/O DEL REPRESENTANTE LEGAL DE LA PERSONA JURIDICA - DEL PROFESIONAL QUE AVALA LA PROPUESTA - DEL REPRESENTANTE LEGAL PRINCIPAL Y SUPLENTE DE LA ESTRUCTURA PLURAL (SEGUN APLIQUE) | C16: X | E16: X | G16: X
B17: CERTIFICADO DE EXISTENCIA Y REPRESENTACION LEGAL CON FECHA DE EXPEDICIÓN NO MAYOR A TREINTA (30) DÍAS CALENDARIO ANTERIOR A LA FECHA DE CIERRE DEL PROCESO DE CONTRATACIÓN, CON EL CUAL SE ACREDITE: a. Que el objeto de la sociedad permita ejecutar las actividades descritas en el objeto del presente proceso de contratación. b. Que la duración no sea inferior a la del plazo del contrato y un año más. c. Facultades y restricciones del representante legal de la sociedad para contraer obligaciones en nombre de la misma. d. El nombramiento del revisor fiscal en caso de que exista. | C17: N/A | E17: N/A | G17: N/A
B18: REGISTRO UNICO DE PROPONENTES – RUP CON FECHA DE EXPEDICIÓN NO MAYOR A TREINTA (30) DÍAS CALENDARIO ANTERIORES A LA FECHA DE CIERRE DEL PROCESO DE CONTRATACIÓN. | C18: X | E18: X | H18: X
B19: DOCUMENTO DE CONFORMACION DE PROPONENTE PLURAL, CON EL CUAL SE ACREDITE: a. La existencia del Proponente Plural y su clasificación en Unión Temporal o en Consorcio. b. El nombramiento de un representante y un suplente, este último en caso de considerarlo conveniente. c. La vigencia del Proponente Plural, la cual puede ser inferior a la del plazo del Contrato y un año adicional. d. El porcentaje de participación de cada uno de sus integrantes, la cual no podrá ser diferente al 100 %. | C19: N/A | E19: N/A | G19: N/A
B20: CERTIFICACION DE PAGOS DE SEGURIDAD SOCIAL Y APORTES PARAFISCALES. | C20: X | E20: X | G20: X
B21: GARANTIA DE SERIEDAD DE LA OFERTA | C21: X | E21: X | G21: X
B22: CERTIFICADO DE ANTECEDENTES DISCIPLINARIOS DE LA PROCURADURÍA GENERAL DE LA NACIÓN (DEL OFERENTE PERSONA NATURAL Y/O PERSONA JURIDICA Y REPRESENTANTE LEGAL Y DEL PROFESIONAL QUE AVALA LA OFERTA CUANDO APLIQUE) | C22: X | E22: X | G22: X
B23: CERTIFICADO DE ANTECEDENTES FISCALES DE LA CONTRALORÍA GENERAL DE LA REPÚBLICA (DEL OFERENTE PERSONA NATURAL Y/O PERSONA JURIDICA Y REPRESENTANTE LEGAL Y DEL PROFESIONAL QUE AVALA LA OFERTA CUANDO APLIQUE) | C23: X | E23: X | G23: X
B24: CERTIFICADO DE ANTECEDENTES JUDICIALES DE LA POLICIA NACIONAL (DEL OFERENTE PERSONA NATURAL Y/O DEL REPRESENTANTE LEGAL DE LA PERSONA JURIDICA Y DEL PROFESIONAL QUE AVALA LA OFERTA CUANDO APLIQUE) | C24: X | E24: X | G24: X
B25: CERTIFICADO DE MEDIDAS CORRECTIVAS (DEL OFERENTE PERSONA NATURAL Y/O DEL REPRESENTANTE LEGAL DE LA PERSONA JURIDICA Y DEL PROFESIONAL QUE AVALA LA OFERTA CUANDO APLIQUE) | C25: X | E25: X | G25: X
B26: REGISTRO UNICO TRIBUTARIO - RUT | C26: X | E26: X | G26: X
B27: VERIFICACION PRELIMINAR | C27: HABILITADO | E27: HABILITADO | G27: OFERTA RECHAZADA
B28: OBSERVACIONES: Proponente Nro. 3: ORLANDO CASTAÑEDA FIERRO i) El oferente dentro del termino de traslado del informe preliminar no acredito título como ingeniero civil y/o arquitecto, así como tampoco adjunto copia de la tarjeta profesional, ni el certificado de vigencia de la matrícula profesional expedida por la autoridad competente, vigente a la fecha de cierre de este procedimiento de selección. ii) El proponente no subsano dentro del termino de traslado del informe preliminar la fecha de expedición del RUP exigida en el pliego de condiciones.

Sheet EXPERIENCIA
A1: ='[1]INF. BÁSICA'!A1
A2: PROCESO No. | C2: S.A.M.C 021-2022
A3: OBJETO GENERAL: | C3: "CONTRATAR LAS OBRAS CORRESPONDIENTES AL MEJORAMIENTO Y MANTENIMIENTO DE LOS ESCENARIOS DEPORTIVOS DEL MUNICIPIO DE CHINCHINA-CALDAS"
A4: PRESUPUESTO OFICIAL | C4: 256000000
A5: FECHA DE CIERRE
A7: EXPERIENCIA
B9: PARÁMETROS SOLICITADOS | D9: CALIFICACIÓN | E9: ='[1]INF. BÁSICA'!A8 -> 1 PROPONENTE: | F9: ='[1]INF. BÁSICA'!A9 -> 2 PROPONENTE: | G9: ='[1]INF. BÁSICA'!A10 -> 3 PROPONENTE:
E10: ='[1]INF. BÁSICA'!B8 -> JORGE HERNAN LOPEZ CARVAJAL | F10: ='[1]INF. BÁSICA'!B9 -> NICOLAS CARDONA | G10: ='[1]INF. BÁSICA'!B10 -> ORLANDO CASTAÑEDA FIERRO
A11: 1.2. CONDICIONES HABILITANTES DE EXPERIENCIA | B11: Los proponentes acreditaran su experiencia a través de: i) la información consignada en el RUP para aquellos que estén obligados a tenerlo, ii) la presentación del Formato 3 – Experiencia para todos los proponentes y iii) alguno de los documentos válidos para la acreditación de la experiencia, señalados en el pliego de condiciones cuando se requiera la verificación de información del proponente adicional a la contenida en el RUP. La evaluación de los proponentes se efectuará de acuerdo con la experiencia contenida en el Registro Único de Proponentes (RUP) vigente y en firme antes del cierre del proceso. Los proponentes podrán acreditar experiencia proveniente de contratos celebrados con particulares o entidades estatales. | D11: CUMPLE /NO CUMPLE | E11: CUMPLE | F11: CUMPLE | G11: CUMPLE
A12: 1.2.1. CARACTERÍSTICAS DE LOS CONTRATOS PRESENTADOS PARA ACREDITAR LA EXPERIENCIA EXIGIDA | B12: EXPERIENCIA GENERAL | C12: CONSTRUCCIÓN Y/O MEJORAMIENTO Y/O MANTENIMIENTO DE ESCENARIOS DEPORTIVOS. Nota: Cuyo valor supere o iguale el valor del presupuesto oficial | D12: CUMPLE /NO CUMPLE | E12: CUMPLE | F12: CUMPLE | G12: CUMPLE
B13: EXPERIENCIA ESPECÍFICA | C13: Por lo menos uno (1) de los contratos válidos aportados como experiencia debe contener actividades de: RECUBRIMIENTO Y/O APLICACIÓN DE PINTURA EN RESINA ACRÍLICA PARA CANCHAS DEPORTIVAS | D13: CUMPLE /NO CUMPLE | E13: CUMPLE | F13: CUMPLE | G13: NO CUMPLE
B14: B. Estar relacionados en el Formato 3 – Experiencia con el número consecutivo del contrato en el RUP. Los Proponentes Plurales deben indicar qué integrante aporta cada uno de los contratos señalados en el Formato 3 – Experiencia. Este documento debe presentarlo el Proponente Plural y no sus integrantes. Tratándose de Proponentes que acrediten la calidad de Mipyme o emprendimientos y empresas de mujeres con domicilio en el territorio nacional, se tendrán en cuenta como máximo los seis (6) contratos aportados de mayor valor. En caso de que el Proponente pruebe la calidad de Mipyme y de emprendimiento y empresa de mujer con domicilio en el territorio nacional de manera conjunta, se valdrán como máximo los siete (7) contratos aportados de mayor valor. El Formato 3 – Experiencia deberá aportarse diligenciado en formato Excel. | D14: CUMPLE /NO CUMPLE | E14: CUMPLE | F14: CUMPLE | G14: NO CUMPLE
B15: C. El Proponente podrá acreditar la experiencia solicitada con mínimo uno (1) y máximo cinco (5) contratos, los cuales serán evaluados de conformidad con lo dispuesto en el pliego de condiciones. El Proponente persona natural o jurídica que acredite la calidad de Mipyme o de emprendimiento y empresa de mujer con domicilio en el territorio nacional de conformidad con lo previsto en el artículo 2.2.1.13.2.2 del Decreto 1074 de 2015 y los artículos 2.2.1.2.4.2.4. y 2.2.1.2.4.2.14 del Decreto 1082 de 2015, o las normas que los modifiquen, sustituyan o complementen, podrá probar la experiencia solicitada con un (1) contrato adicional a los cinco (5) inicialmente previstos, para un máximo de seis (6) contratos. En caso de que el Proponente persona natural o jurídica acredite la calidad de Mipyme y de emprendimiento y empresa de mujer con domicilio en el territorio nacional de manera conjunta, podrá demostrar la experiencia solicitada con dos (2) contratos adicionales a los cinco (5) inicialmente previstos, para un máximo de siete (7). Para el caso de Proponentes Plurales bastará con que uno de sus integrantes tenga una participación igual o superior al diez por ciento (10 %) en el Consorcio o en la Unión Temporal y acredite la calidad de Mipyme o emprendimiento y empresa de mujer de conformidad con lo previsto en el artículo 2.2.1.13.2.2 del Decreto 1074 de 2015 y los artículos 2.2.1.2.4.2.4. y 2.2.1.2.4.2.14 del Decreto 1082 de 2015, o las normas que los modifiquen, sustituyan o complementen, para probar la experiencia solicitada con un (1) contrato adicional a los cinco (5) inicialmente contemplados, para un máximo de seis (6) contratos. En caso de que el mismo integrante u otro que haga parte del Proponente Plural tenga una participación igual o superior al diez por ciento (10 %) en el Consorcio o en la Unión Temporal y acredite la calidad de Mipyme y de emprendimiento y empresa de mujer con domicilio en el territorio nacional de manera conjunta o separada, podrá demostrar la experiencia solicitada con dos (2) contratos adicionales a los cinco (5) inicialmente previstos, para un máximo de siete (7) contratos. En todo caso no será posible aportar más de dos (2) contratos adicionales aun cuando otros integrantes del Proponente Plural también cumplan las condiciones previamente definidas. Para acreditar la condición de Mipyme, el Proponente entregará copia del certificado del Registro Único de Proponentes, el cual deberá encontrarse vigente y en firme al momento de su presentación. Por su parte, la condición de emprendimientos y/o empresas de mujeres se probará mediante el diligenciamiento del Formato 12 – Acreditación de emprendimientos y empresas de mujeres, el cual deberá aportarse con la documentación requerida en el artículo 2.2.1.2.4.2.14 del Decreto 1082 de 2015, o la norma que lo modifique, complemente o sustituya. En el caso de que la convocatoria sea limitada a Mipyme, únicamente se aplicará este criterio diferencial respecto de los emprendimientos y empresas de mujeres. | D15: CUMPLE /NO CUMPLE | E15: CUMPLE | F15: CUMPLE | G15: CUMPLE
B16: D. Deben haber terminado antes de la fecha de cierre del presente proceso de contratación. | D16: CUMPLE /NO CUMPLE | E16: CUMPLE | F16: CUMPLE | G16: CUMPLE
B17: E. Para los contratos que sean aportados por personas jurídicas que no cuentan con más de tres (3) años de constituidas, que pretendan acreditar la experiencia de sus socios, accionistas o constituyentes, de conformidad con la posibilidad establecida en el numeral 2.5 del artículo 2.2.1.1.1.5.2. del Decreto 1082 de 2015, además del RUP deben adjuntar un documento suscrito por el representante legal y el revisor fiscal o contador público (según corresponda) donde se indique la conformación de la persona jurídica. La Entidad tendrá en cuenta la experiencia de los accionistas, socios o constituyentes de las sociedades con menos de tres (3) años de constituidas. Pasado este tiempo, la sociedad conservará esta experiencia, tal y como haya quedado registrada en el RUP. De acuerdo con el inciso anterior, en los casos en que se presente un Proponente Plural conformado por una persona jurídica, en conjunto con sus socios, accionistas o constituyentes y se alleguen contratos en los que estos le hayan transferido experiencia a aquella, solo podrán ser acreditados como experiencia en el Proceso de Contratación por uno de los integrantes, de manera tal que al Proponente Plural solo podrá avalársele una misma experiencia una sola vez | D17: CUMPLE /NO CUMPLE | E17: NO APLICA | F17: NO APLICA | G17: NO APLICA
B18: F. La experiencia a la que se refiere este numeral podrá ser validada mediante los documentos establecidos en el pliego de condiciones. | D18: CUMPLE /NO CUMPLE | E18: CUMPLE | F18: CUMPLE | G18: CUMPLE
A19: 1.2.2. CONSIDERACIONES PARA LA VALIDEZ DE LA EXPERIENCIA REQUERIDA. | B19: A. En el Clasificador de Bienes y Servicios, el segmento correspondiente para la clasificación de la experiencia es el segmento 72. | D19: CUMPLE /NO CUMPLE | E19: CUMPLE | F19: CUMPLE | G19: CUMPLE
B20: B. La entidad contratante únicamente exigirá para la verificación de la experiencia los contratos celebrados por el interesado, identificados con el Clasificador de Bienes y Servicios hasta el tercer nivel. | D20: CUMPLE /NO CUMPLE | E20: CUMPLE | F20: CUMPLE | G20: CUMPLE
B21: C. Si el Proponente relaciona o anexa más de cinco (5) contratos en el Formato 3 - Experiencia, para efectos de evaluar la experiencia se tendrá en cuenta como máximo los cinco (5) contratos aportados de mayor valor. Tratándose de Proponentes que acrediten la calidad de Mipyme o emprendimiento y empresa de mujer con domicilio en el territorio nacional, se tendrá en cuenta como máximo los seis (6) contratos aportados de mayor valor. En caso de que el Proponente pruebe la calidad de Mipyme y de emprendimiento y empresa de mujer con domicilio en el territorio nacional de manera conjunta, se valdrán como máximo los siete (7) contratos allegados de mayor valor. | D21: CUMPLE /NO CUMPLE | E21: NO APLICA | F21: NO APLICA | G21: NO APLICA
B22: D. Tratándose de Proponentes Plurales se tendrá en cuenta lo siguiente: i) uno de los integrantes debe aportar como mínimo el cincuenta por ciento (50 %) de la experiencia solicitada; ii) los demás integrantes deben acreditar al menos el cinco por ciento (5 %) de la experiencia solicitada; y iii) sin perjuicio de lo anterior, solo uno (1) de los integrantes, si así lo considera pertinente, podrá no acreditar experiencia. En este último caso, el porcentaje de participación del integrante que no aporta experiencia en la estructura plural no podrá superar el diez por ciento (10 %). Estos porcentajes que acreditarán los integrantes del Proponente Plural se podrán cumplir con contratos válidos que acrediten cualquier requisito de experiencia solicitada en el pliego de condiciones, y se calcularán sobre el “valor mínimo a certificar (como % del Presupuesto Oficial de obra expresado en SMMLV)” de conformidad con lo dispuesto en el pliego de condiciones. Independientemente de él o los integrantes del Proponente Plural que aporten contratos para acreditar la experiencia, estos se tendrán en cuenta para calcular el “número de contratos con los cuales el Proponente cumple la experiencia acreditada" de que trata el numeral citado. En armonía con lo anterior, para cumplir el requisito previsto en este literal no se solicitará la acreditación de longitudes, magnitudes, volúmenes o porcentajes requeridos en la experiencia específica, sino que bastará con acreditar los SMMLV. | D22: CUMPLE /NO CUMPLE | E22: NO APLICA | F22: NO APLICA | G22: NO APLICA
B23: E. Cuando el contrato que se pretende acreditar como experiencia haya sido ejecutado en consorcio o unión temporal, el porcentaje de participación del integrante será el registrado en el RUP de este o en alguno de los documentos válidos para la acreditación de experiencia en caso de que el integrante no esté obligado a tener RUP. | D23: CUMPLE /NO CUMPLE | E23: NO APLICA | F23: NO APLICA | G23: NO APLICA
B24: F. Cuando el contrato que se pretende acreditar como experiencia haya sido ejecutado en consorcio o unión temporal, el valor a considerar será el registrado en el RUP o documento válido en caso de que el integrante no esté obligado a RUP, para la acreditación de experiencia multiplicada por el porcentaje de participación que tuvo el integrante o los integrantes. | D24: CUMPLE /NO CUMPLE | E24: NO APLICA | F24: NO APLICA | G24: NO APLICA
B25: G. . Cuando el contrato que se aporte para la experiencia haya sido ejecutado por un Consorcio o unión temporal, y dos (2) o más de sus integrantes conformen un proponente plural para participar en el presente proceso, dicho contrato se entenderá aportado como un (1) solo contrato y se tendrá en cuenta para el aporte de la experiencia la sumatoria de los porcentajes de los integrantes del consorcio o unión temporal que ejecutaron el contrato y que están participando en el presente proceso. | D25: CUMPLE /NO CUMPLE | E25: NO APLICA | F25: NO APLICA | G25: NO APLICA
B26: H. Las auto certificaciones no servirán para acreditar la experiencia requerida, ya que con estas no puede constatarse la ejecución de contratos que deben certificar los terceros que recibieron la obra, bien o servicio. Para la aplicación de esta regla, se entiende por auto certificaciones aquellas expedidas por el mismo Proponente, sus representantes, los integrantes del Proponente Plural o del mismo grupo empresarial para demostrar su propia experiencia. | D26: CUMPLE /NO CUMPLE | E26: NO APLICA | F26: NO APLICA | G26: NO APLICA
B27: I. Las certificaciones de experiencia expedidas por el interventor de obra no servirán para probar la experiencia requerida. | D27: CUMPLE /NO CUMPLE | E27: NO APLICA | F27: NO APLICA | G27: NO APLICA
A28: 1.2.3. CLASIFICACIÓN DE LA EXPERIENCIA EN EL “CLASIFICADOR DE BIENES, OBRAS Y SERVICIOS DE LAS NACIONES UNIDAS” | B28: Los contratos aportados para efectos de acreditación de la experiencia requerida deben estar clasificados en alguno de los siguientes códigos: 72 10 29 Servicios de Mantenimiento y reparaciones de instalaciones 81 10 15 00 - Ingeniería civil y arquitectura | D28: CUMPLE /NO CUMPLE | E28: CUMPLE | F28: CUMPLE | G28: CUMPLE
A29: 1.2.4. ACREDITACIÓN DE LA EXPERIENCIA REQUERIDA | B29: Los proponentes acreditarán para cada uno de los contratos aportados la siguiente información mediante alguno de los documentos señalados en la sección 3.5.6. del Pliego de Condiciones:
B30: A. Contratante | D30: CUMPLE /NO CUMPLE | E30: CUMPLE | F30: CUMPLE | G30: CUMPLE
B31: B. Objeto del contrato | D31: CUMPLE /NO CUMPLE | E31: CUMPLE | F31: CUMPLE | G31: CUMPLE
B32: C. Principales actividades ejecutadas | D32: CUMPLE /NO CUMPLE | E32: CUMPLE | F32: CUMPLE | G32: CUMPLE
B33: D. Las longitudes, volúmenes, dimensiones, tipologías y demás condiciones de experiencia establecidas en la Matriz 1 – Experiencia, si aplica. | D33: CUMPLE /NO CUMPLE | E33: NO APLICA | F33: NO APLICA | G33: NO APLICA
B34: E. La fecha de iniciación de la ejecución del contrato: Esta fecha es diferente a la de suscripción del contrato, a menos que de los documentos del numeral 3.5.6 de forma expresa así se determine. Si en los documentos válidos aportados para la acreditación de experiencia solo se evidencia fecha (mes, año) de suscripción y/o inicio del contrato: se tendrá en cuenta el último día del mes que se encuentre señalado en la certificación. | D34: CUMPLE /NO CUMPLE | E34: CUMPLE | F34: CUMPLE | G34: CUMPLE
B35: F. La fecha de terminación de la ejecución del contrato: Esta fecha de terminación no es la fecha de entrega y/o recibo final, liquidación, o acta final, salvo que de los documentos del numeral 3.5.6 de forma expresa así se determine. Si en los documentos válidos aportados para la acreditación de experiencia solo se evidencia fecha (mes, año) de terminación del contrato: se tendrá en cuenta el primer día del mes que se encuentre señalado en la certificación. | D35: CUMPLE /NO CUMPLE | E35: CUMPLE | F35: CUMPLE | G35: CUMPLE
B36: G. Nombre y cargo de la persona que expide la certificación. | D36: CUMPLE /NO CUMPLE | E36: CUMPLE | F36: CUMPLE | G36: CUMPLE
B37: H. El porcentaje de participación del integrante del contratista plural. | D37: CUMPLE /NO CUMPLE | E37: NO APLICA | F37: NO APLICA | G37: NO APLICA
B38: I. El porcentaje de participación en el valor ejecutado en el caso de contratistas plurales. | E38: NO APLICA | F38: NO APLICA | G38: NO APLICA
A39: 1.2.5. DOCUMENTOS VÁLIDOS PARA LA ACREDITACIÓN DE LA EXPERIENCIA REQUERIDA. | B39: En aquellos casos que por las características del objeto a contratar se requiera verificar información adicional a la contenida en el RUP, el Proponente podrá aportar uno o algunos de los documentos que se establecen a continuación, para que la Entidad realice la verificación en forma directa. Los mismos deberán estar debidamente diligenciados y suscritos por el contratante, el contratista o el Interventor, según corresponda. En caso de existir discrepancias entre dos (2) o más documentos aportados por el Proponente para la acreditación de experiencia, se tendrá en cuenta el orden de prevalencia establecido a continuación: A. Acta de liquidación B. Acta de entrega, terminación, final o de recibo definitivo. C. Certificación de experiencia. Expedida con posterioridad a la fecha de terminación del contrato en la que conste el recibo a satisfacción de la obra contratada debidamente suscrita por quien esté en capacidad u obligación de hacerlo. D. Acta de inicio o la orden de inicio. La misma sólo será válida para efectos de acreditar la fecha de inicio. E. Para los contratos que hayan sido objeto de cesión, el contrato deberá encontrarse debidamente inscrito y clasificado en el RUP o en uno o alguno de los documentos considerados como válidos para la acreditación de experiencia de la empresa cesionaria, según aplique. La experiencia se admitirá para el cesionario y no se reconocerá experiencia alguna al cedente. Para efectos de acreditación de experiencia entre particulares, el proponente deberá aportar adicionalmente alguno de los documentos que se describen a continuación: A. Certificación de facturación expedida con posterioridad a la fecha de terminación del contrato emitida por el revisor fiscal o contador público del proponente que acredita la experiencia, según corresponda, con la copia de la tarjeta profesional y certificado de antecedente disciplinarios vigente, expedido por la Junta Central de Contadores, o los documentos equivalentes que hagan sus veces en el país donde se expide el documento del profesional. | D39: CUMPLE /NO CUMPLE | E39: CUMPLE | F39: CUMPLE | G39: CUMPLE
A40: 1.2.6. RELACIÓN DE LOS CONTRATOS FRENTE AL PRESUPUESTO OFICIAL. | B40: La verificación del número de contratos para acreditar la experiencia se realiza de la siguiente manera: Si el número de contratos aportados supera los cinco (5) inicialmente previstos en este numeral, debido a la posibilidad de allegar contratos adicionales por tratarse de una Mipyme y/o emprendimiento y empresa de mujer, estos contratos adicionales, ya sean seis (6) o siete (7) -dependiendo si acredita una o ambas condiciones-, se tendrán en cuenta para demostrar el valor del ciento cincuenta por ciento (150 %) del valor del Presupuesto Oficial. La verificación se hará con base en la sumatoria de los valores totales ejecutados (incluido IVA) en SMMLV de los contratos que cumplan con los requisitos establecidos en este Pliego de Condiciones. El Proponente cumple el requisito de experiencia si la sumatoria de los valores totales ejecutados (incluido IVA) de los contratos expresados en SMMLV es mayor o igual al valor mínimo a certificar establecido en la tabla anterior. En caso de que el número de contratos con los cuales el Proponente acredita la experiencia no satisface el porcentaje mínimo a certificar establecido en la tabla anterior, se calificará la propuesta como no hábil y el Proponente podrá subsanarla en los términos contemplados en el pliego de condiciones. | D40: Experiencia en SMMLV | E40: 888.04 | F40: 210,64 SMMLV | G40: NO CUMPLE
D41: Valor mínimo a certificar (como % del Presupuesto Oficial de obra expresado en SMMLV) | E41: 192 SMMLV | F41: 192 SMMLV | G41: 192 SMMLV
D42: CUMPLE /NO CUMPLE | E42: CUMPLE | F42: CUMPLE | G42: NO CUMPLE
...

Sheet VER. FINANCIERA
A1: =+'[2]INF. BÁSICA'!A1:D1
A2: =+'[2]INF. BÁSICA'!A3 -> PROCESO No. | E2: ='[2]INF. BÁSICA'!B3 -> SAMC-021-2022
A3: ='[3]INF. BÁSICO'!A4 -> OBJETO: | E3: ='[2]INF. BÁSICA'!B4 -> "CONTRATAR LAS OBRAS CORRESPONDIENTES AL MEJORAMIENTO Y MANTENIMIENTO DE LOS ESCENARIOS DEPORTIVOS DEL MUNICIPIO DE CHINCHINA-CALDAS"
A4: ='[3]INF. BÁSICO'!A5 -> PRESUPUESTO OFICIAL | E4: ='[2]INF. BÁSICA'!B5 -> 256000000 | G4: ='[2]INF. BÁSICA'!D5 -> 256
A5: ='[3]INF. BÁSICO'!A6 -> FECHA DE CIERRE | E5: ='[2]INF. BÁSICA'!B6 -> Viernes, 18 de Noviembre de 2022
A6: CAPACIDAD FINANCIERA
A8: PROPONENTE | D8: PARTICIPACIÓN % | E8: AÑO DE EVALUACIÓN (MEJOR ESTADO DE RESULTADOS) | F8: ACTIVO CORRIENTE | G8: PASIVO CORRIENTE | H8: ACTIVO TOTAL | I8: PASIVO TOTAL | J8: UTILIDAD OPERACIONAL | K8: GASTOS DE INTERESES
A9: PROPONENTE 3 | B9: MIPYME | C9: ='[2]INF. BÁSICA'!B11 -> ORLANDO CASTAÑEDA FIERRO | D9: 1 | E9: 2019 | F9: 420267473 | G9: 18687621 | H9: 1176127728 | I9: 164138802 | J9: 161518000 | K9: 4586200
A10: PROPONENTE 2 | B10: MIPYME | C10: ='[2]INF. BÁSICA'!B12 -> NICOLAS ALEJANDRO CARDONA SÁNCHEZ | D10: 1 | E10: 2021 | F10: 523698000 | G10: 75748019 | H10: 1908677600 | I10: 561678019 | J10: 276457632 | K10: 36000000
A11: PROPONENTE 1 | B11: MIPYME | C11: ='[2]INF. BÁSICA'!B13 -> JORGE HERNÁN LÓPEZ CARVAJAL | D11: 1 | E11: 2019 | F11: 606350000 | G11: 13345740 | H11: 743250000 | I11: 117545740 | J11: 148597569 | K11: 0
A13: VERIFICACIÓN DEL ÍNDICE DE LIQUIDEZ
A14: PROPONENTE | B14: TAMAÑO | C14: CONSORCIO | D14: PARTICIPACIÓN | E14: INDICE DE LIQUIDEZ FINAL | F14: RANGO DE EVALUACION | H14: EVALUACIÓN
A15: PROPONENTE 3 | B15: MIPYME | C15: =C9 -> ORLANDO CASTAÑEDA FIERRO | D15: =C15 -> ORLANDO CASTAÑEDA FIERRO | E15: =F9/G9 -> 22.489084 | F15: ≥1.11 | H15: OFERTA RECHAZADA
A16: PROPONENTE 2 | B16: MIPYME | C16: =C10 -> NICOLAS ALEJANDRO CARDONA SÁNCHEZ | D16: =C16 -> NICOLAS ALEJANDRO CARDONA SÁNCHEZ | E16: =F10/G10 -> 6.9136858 | H16: =IF(E16>=1.11,"CUMPLE","NO CUMPLE") -> CUMPLE
A17: PROPONENTE 1 | B17: MIPYME | C17: =C11 -> JORGE HERNÁN LÓPEZ CARVAJAL | D17: =C17 -> JORGE HERNÁN LÓPEZ CARVAJAL | E17: =F11/G11 -> 45.433974 | H17: =IF(E17>=1.11,"CUMPLE","NO CUMPLE") -> CUMPLE
A19: VERIFICACIÓN DEL NIVEL DE ENDEUDAMIENTO
A20: PROPONENTE | B20: TAMAÑO | C20: CONSORCIO | D20: PARTICIAPCIÓN | E20: NIVEL DE ENDEUDAMIENTO CALCULADO FINAL | F20: RANGO DE EVALUACION | H20: EVALUACIÓN
A21: PROPONENTE 3 | B21: MIPYME | C21: =C9 -> ORLANDO CASTAÑEDA FIERRO | D21: =C21 -> ORLANDO CASTAÑEDA FIERRO | E21: =I9/H9 -> 0.13955865 | F21: ≤75% | H21: OFERTA RECHAZADA
A22: PROPONENTE 2 | B22: MIPYME | C22: =C10 -> NICOLAS ALEJANDRO CARDONA SÁNCHEZ | D22: =C22 -> NICOLAS ALEJANDRO CARDONA SÁNCHEZ | E22: =I10/H10 -> 0.29427601 | H22: =IF(E22<=75%,"CUMPLE","NO CUMPLE") -> CUMPLE
A23: PROPONENTE 1 | B23: MIPYME | C23: =C11 -> JORGE HERNÁN LÓPEZ CARVAJAL | D23: =C23 -> JORGE HERNÁN LÓPEZ CARVAJAL | E23: =I11/H11 -> 0.15815101 | H23: =IF(E23<=75%,"CUMPLE","NO CUMPLE") -> CUMPLE
A25: VERIFICACIÓN DE LA RAZÓN DE COBERTURA DE INTERESES
A26: PROPONENTE | B26: TAMAÑO | C26: CONSORCIO | D26: PARTICIPACIÓN | E26: NIVEL DE COBERTURA DE INTERESES FINAL | F26: RANGO DE EVALUACION | H26: EVALUACIÓN
A27: PROPONENTE 3 | B27: MIPYME | C27: =C9 -> ORLANDO CASTAÑEDA FIERRO | D27: =C27 -> ORLANDO CASTAÑEDA FIERRO | E27: =+J9/K9 -> 35.218263 | F27: ≥0 | H27: OFERTA RECHAZADA
A28: PROPONENTE 2 | B28: MIPYME | C28: =C10 -> NICOLAS ALEJANDRO CARDONA SÁNCHEZ | D28: =C28 -> NICOLAS ALEJANDRO CARDONA SÁNCHEZ | E28: =+J10/K10 -> 7.6793787 | H28: =IF(E28>=0,"CUMPLE","NO CUMPLE") -> CUMPLE
A29: PROPONENTE 1 | B29: MIPYME | C29: =C11 -> JORGE HERNÁN LÓPEZ CARVAJAL | D29: =C29 -> JORGE HERNÁN LÓPEZ CARVAJAL | E29: INDETERMINADO | H29: =IF(E29>=0,"CUMPLE","NO CUMPLE") -> CUMPLE
A31: VERIFICACIÓN DE CAPITAL TRABAJO ≥ a CTd (el 10% del presupuesto oficial $25.600.000)
A32: PROPONENTE | B32: TAMAÑO | C32: CONSORCIO | D32: PARTICIPACIÓN | E32: VERIFICACION POR INTEGRANTE | F32: RANGO DE EVALUACION | H32: EVALUACIÓN
A33: PROPONENTE 3 | B33: MIPYME | C33: =C9 -> ORLANDO CASTAÑEDA FIERRO | D33: =C33 -> ORLANDO CASTAÑEDA FIERRO | E33: =F9-G9 -> 401579852 | F33: =E4*10% -> 25600000 | H33: OFERTA RECHAZADA
A34: PROPONENTE 2 | B34: MIPYME | C34: =C10 -> NICOLAS ALEJANDRO CARDONA SÁNCHEZ | D34: =C34 -> NICOLAS ALEJANDRO CARDONA SÁNCHEZ | E34: =F10-G10 -> 447949981 | H34: =IF(E34>=$F$33,"CUMPLE","NO CUMPLE") -> CUMPLE
A35: PROPONENTE 1 | B35: MIPYME | C35: =C11 -> JORGE HERNÁN LÓPEZ CARVAJAL | D35: =C35 -> JORGE HERNÁN LÓPEZ CARVAJAL | E35: =F11-G11 -> 593004260 | H35: =IF(E35>=$F$33,"CUMPLE","NO CUMPLE") -> CUMPLE
A37: Observaciones:

Sheet CAP.ORGANIZACIÓN
A1: =+'[2]INF. BÁSICA'!A1:D1
A2: =+'[2]INF. BÁSICA'!A3 -> PROCESO No. | D2: ='[2]INF. BÁSICA'!B3 -> SAMC-021-2022
A3: ='[3]INF. BÁSICO'!A4 -> OBJETO: | D3: ='[2]INF. BÁSICA'!B4 -> "CONTRATAR LAS OBRAS CORRESPONDIENTES AL MEJORAMIENTO Y MANTENIMIENTO DE LOS ESCENARIOS DEPORTIVOS DEL MUNICIPIO DE CHINCHINA-CALDAS"
A4: ='[3]INF. BÁSICO'!A5 -> PRESUPUESTO OFICIAL | D4: ='[2]INF. BÁSICA'!B5 -> 256000000 | F4: ='[2]INF. BÁSICA'!D5 -> 256
A5: ='[3]INF. BÁSICO'!A6 -> FECHA DE CIERRE | D5: ='[2]INF. BÁSICA'!B6 -> Viernes, 18 de Noviembre de 2022
A6: VERIFICACION DE CAPACIDAD ORGANIZACIONAL
A7: PROPONENTE | C7: PARTICIPACIÓN % | D7: AÑO DE EVALUACIÓN (MEJOR ESTADO DE RESULTADOS) | E7: UTILIDAD OPERACIONAL | F7: PATRIMONIO | G7: ACTIVO TOTAL
A8: PROPONENTE 3 | B8: ='[2]INF. BÁSICA'!B11 -> ORLANDO CASTAÑEDA FIERRO | C8: =+'[2]VER. FINANCIERA'!D9 -> 1 | D8: ='[2]VER. FINANCIERA'!E9 -> 2019 | E8: ='[2]VER. FINANCIERA'!J9 -> 161518000 | F8: ='[2]VER. FINANCIERA'!H9-'[2]VER. FINANCIERA'!I9 -> 1011988926 | G8: ='[2]VER. FINANCIERA'!H9 -> 1176127728
A9: PROPONENTE 2 | B9: ='[2]INF. BÁSICA'!B12 -> NICOLAS ALEJANDRO CARDONA SÁNCHEZ | C9: ='[2]VER. FINANCIERA'!D10 -> 1 | D9: ='[2]VER. FINANCIERA'!E10 -> 2021 | E9: ='[2]VER. FINANCIERA'!J10 -> 276457632 | F9: ='[2]VER. FINANCIERA'!H10-'[2]VER. FINANCIERA'!I10 -> 1346999581 | G9: ='[2]VER. FINANCIERA'!H10 -> 1908677600
A10: PROPONENTE 1 | B10: ='[2]INF. BÁSICA'!B13 -> JORGE HERNÁN LÓPEZ CARVAJAL | C10: ='[2]VER. FINANCIERA'!D11 -> 1 | D10: ='[2]VER. FINANCIERA'!E11 -> 2019 | E10: ='[2]VER. FINANCIERA'!J11 -> 148597569 | F10: ='[2]VER. FINANCIERA'!H11-'[2]VER. FINANCIERA'!I11 -> 625704260 | G10: ='[2]VER. FINANCIERA'!H11 -> 743250000
A12: VERIFICACIÓN DE RENTABILIDAD DEL PATRIMONIO
A13: PROPONENTE | B13: CONSORCIO | C13: PARTICIAPCIÓN | D13: RENTABILIDAD DE PATRIMONIO | E13: RANGO DE EVALUACION | F13: CALIFICACIÓN
A14: PROPONENTE 3 | B14: =B8 -> ORLANDO CASTAÑEDA FIERRO | C14: =B14 -> ORLANDO CASTAÑEDA FIERRO | D14: =E8/F8 -> 0.15960451 | E14: ≥ 0 | F14: OFERTA RECHAZADA
A15: PROPONENTE 2 | B15: =B9 -> NICOLAS ALEJANDRO CARDONA SÁNCHEZ | C15: =B15 -> NICOLAS ALEJANDRO CARDONA SÁNCHEZ | D15: =E9/F9 -> 0.20523958 | F15: =IF(D15>=0,"CUMPLE","NO CUMPLE") -> CUMPLE
A16: PROPONENTE 1 | B16: =B10 -> JORGE HERNÁN LÓPEZ CARVAJAL | C16: =B16 -> JORGE HERNÁN LÓPEZ CARVAJAL | D16: =E10/F10 -> 0.2374885 | F16: =IF(D16>=0,"CUMPLE","NO CUMPLE") -> CUMPLE
A18: VERIFICACIÓN DE RENTABILIDAD DEL ACTIVO
A19: PROPONENTE | B19: CONSORCIO | C19: PARTICIAPCIÓN | D19: RENTABILIDAD DE ACTIVO | E19: RANGO DE EVALUACION | F19: CALIFICACIÓN
A20: PROPONENTE 3 | B20: =B8 -> ORLANDO CASTAÑEDA FIERRO | C20: =B20 -> ORLANDO CASTAÑEDA FIERRO | D20: =E8/G8 -> 0.13733032 | E20: ≥ 0 | F20: OFERTA RECHAZADA
A21: PROPONENTE 2 | B21: =B9 -> NICOLAS ALEJANDRO CARDONA SÁNCHEZ | C21: =B21 -> NICOLAS ALEJANDRO CARDONA SÁNCHEZ | D21: =E9/G9 -> 0.1448425 | F21: =IF(D21>=0,"CUMPLE","NO CUMPLE") -> CUMPLE
A22: PROPONENTE 1 | B22: =B10 -> JORGE HERNÁN LÓPEZ CARVAJAL | C22: =B22 -> JORGE HERNÁN LÓPEZ CARVAJAL | D22: =E10/G10 -> 0.19992946 | F22: =IF(D22>=0,"CUMPLE","NO CUMPLE") -> CUMPLE
A24: OBSERVACIONES:

Sheet RESUMEN DE EVALUACION
A1: =+'INF. BÁSICA'!A1:D1
A3: =+'INF. BÁSICA'!A3:D3 -> PROCESO No. | B3: =+'INF. BÁSICA'!B3 -> S.A.M.C 021-2022
A4: =+'INF. BÁSICA'!A4:D4 -> OBJETO: | B4: =+'INF. BÁSICA'!B4 -> “CONTRATAR LAS OBRAS CORRESPONDIENTES AL MEJORAMIENTO Y MANTENIMIENTO DE LOS ESCENARIOS DEPORTIVOS DEL MUNICIPIO DE CHINCHINA - CALDAS”
A5: =+'INF. BÁSICA'!A5:D5 -> PRESUPUESTO OFICIAL | B5: =+'INF. BÁSICA'!B5 -> 256000000
A6: =+'INF. BÁSICA'!A6:D6 -> FECHA DE CIERRE | B6: =+'INF. BÁSICA'!B6 -> Viernes 18 de Noviembre de 2022
A8: RESUMEN DE EVALUACION
A10: =+'INF. BÁSICA'!A10:D10 -> PROPONENTES | C10: VERIFICACION JURIDICA | E10: VERIFICACION DE EXPERIENCIA HABILITANTE | G10: VERIFICACION FINANCIERA | I10: VERIFICACION ORGANIZACIONAL | K10: VERIFICACION CAPACIDAD RESIDUAL | M10: CALIFICACIÓN TOTAL
C11: CUMPLE | D11: NO CUMPLE | E11: CUMPLE | F11: NO CUMPLE | G11: CUMPLE | H11: NO CUMPLE | I11: CUMPLE | J11: NO CUMPLE | K11: CUMPLE | L11: NO CUMPLE
A12: =+'INF. BÁSICA'!A11:D11 -> PROPONENTE 1: | B12: ='INF. BÁSICA'!B11 -> JORGE HERNAN LOPEZ CARVAJAL | C12: X | E12: X | G12: X | I12: X | K12: X | M12: HABILITADO
A13: =+'INF. BÁSICA'!A12:D12 -> PROPONENTE 2: | B13: NICOLAS CARDONA SANCHEZ | C13: X | E13: X | G13: X | I13: X | K13: X | M13: HABILITADO
A14: =+'INF. BÁSICA'!A13:D13 -> PROPONENTE 3: | B14: ORLANDO CASTAÑEDA FIERRO | D14: X | F14: X | G14: X | I14: X | L14: X | M14: OFERTA RECHAZADA

Sheet ASIGNACION PUNTAJE OFERTA
A1: PROCESO No. | B1: =+'INF. BÁSICA'!B3 -> S.A.M.C 021-2022
A2: OBJETO GENERAL: | B2: =+'INF. BÁSICA'!B4:D4 -> “CONTRATAR LAS OBRAS CORRESPONDIENTES AL MEJORAMIENTO Y MANTENIMIENTO DE LOS ESCENARIOS DEPORTIVOS DEL MUNICIPIO DE CHINCHINA - CALDAS”
A3: PRESUPUESTO OFICIAL | B3: =+'[4]INF. BÁSICA'!B5 -> 63901995
A4: FECHA APERTURA SOBRE ECONOMICO | B4: =+'INF. BÁSICA'!B6:D6 -> Viernes 18 de Noviembre de 2022
A5: TRM 22-NOV-2022 | B5: 4598.42
A6: MÉTODO PARA LA PONDERACION DE LA PROPUESTA ECONÓMICA | B6: MEDIA GEOMÉTRICA
A8: PROPONENTE: | B8: OFERTAS | C8: VALORES | D8: PUNTAJE
A9: 1 | B9: JORGE HERNAN LOPEZ CARVAJAL | C9: 244914889 | D9: =(1-ABS($C$11-C9)/$C$11)*59.75 -> 59.470531
A10: 2 | B10: NICOLAS CARDONA | C10: 242639783 | D10: =(1-ABS($C$11-C10)/$C$11)*59.75 -> 59.471832
B11: MEDIA GEOMÉTRICA | C11: =GEOMEAN(C9:C10) -> 2.4377468e+08
B15: ANA MARÍA GÓMEZ URIBE
B16: SECRETARIA ADMINISTRATIVA Y FINANCIERA
B17: MIEMBRO DEL COMITÉ EVALUADOR
B19: Proyectó: Eduard Felipe Mejía Pineda, Contratista

Sheet OFERTA ECONOMICA 
A2: PROCESO No. | B2: SAMC - 021- 2022
A3: OBJETO GENERAL: | B3: ='[1]INF. BÁSICA'!B3:D3 -> "CONTRATAR LAS OBRAS CORRESPONDIENTES AL MEJORAMIENTO Y MANTENIMIENTO DE LOS ESCENARIOS DEPORTIVOS DEL MUNICIPIO DE CHINCHINA-CALDAS"
A4: PRESUPUESTO OFICIAL | B4: ='[1]INF. BÁSICA'!B4 -> 256000000 | C4: SMMLV | E4: =B4/1000000 -> 256
A5: FECHA DE CIERRE
A6: INFORME BÁSICO
A8: PROPONENTES | C8: OFERTA ECONOMICA | D8: CORRECCION ARITMETICA | E8: CUMPLE / NO CUMPLE
A9: 1 PROPONENTE: | B9: ='[1]INF. BÁSICA'!B8 -> JORGE HERNAN LOPEZ CARVAJAL | C9: ='[1]INF. BÁSICA'!C8:D8 -> 244914889 | D9: =C9 -> 244914889 | E9: CUMPLE
A10: 2 PROPONENTE: | B10: ='[1]INF. BÁSICA'!B9 -> NICOLAS CARDONA | C10: ='[1]INF. BÁSICA'!C9:D9 -> 242639783 | D10: =C10 -> 242639783 | E10: CUMPLE

Sheet ASIGNACION DE PUNTAJE
A2: PROCESO No. | B2: ='[1]INF. BÁSICA'!B2:D2 -> S.A.M.C 021-2022
A3: OBJETO GENERAL: | B3: ='[1]INF. BÁSICA'!B3:D3 -> "CONTRATAR LAS OBRAS CORRESPONDIENTES AL MEJORAMIENTO Y MANTENIMIENTO DE LOS ESCENARIOS DEPORTIVOS DEL MUNICIPIO DE CHINCHINA-CALDAS"
A4: PRESUPUESTO OFICIAL | B4: ='[1]INF. BÁSICA'!B4 -> 256000000 | D4: SMMLV | F4: =B4/1000000 -> 256
A5: FECHA DE CIERRE
A6: INFORME BÁSICO
A8: PROPONENTES | C8: OFERTA ECONÓMICA | D8: FACTOR DE CALIDAD | E8: APOYO A LA INDUSTRIA NACIONAL | F8: EMPRENDIMIENTOS Y EMPRESAS DE MUJERES | G8: TOTAL
C9: 59.75 PUNTOS | D9: 20 PUNTOS | E9: 20 PUNTOS | F9: 0,25 PUNTOS | G9: 100 PUNTOS
A10: 1 PROPONENTE: | B10: ='[1]INF. BÁSICA'!B8 -> JORGE HERNAN LOPEZ CARVAJAL | C10: 59.470531 | D10: 20 | E10: 20 | F10: 0 | G10: =SUM(C10:F10) -> 99.470531
A11: 2 PROPONENTE: | B11: ='[1]INF. BÁSICA'!B9 -> NICOLAS CARDONA | C11: 59.471832 | D11: 0 | E11: 20 | F11: 0 | G11: =SUM(C11:F11) -> 79.471832
