Workbook
Name \0: #REF!
Name \00: #REF!
Name \a: #REF!
Name \a: #REF!
Name \AA: [1]LIQUIDACION!#REF!
Name \b: [2]STRSUMM0!#REF!
Name \bb: [2]STRSUMM0!#REF!
Name \E: #REF!
Name \EE: #REF!
Name \G: #REF!
Name \k: '[3]7422CW00'!#REF!
Name \l: [4]STRSUMM0!#REF!
Name \M: #REF!
Name \ñ: '[5]7422CW00'!#REF!
Name \P: #REF!
Name \R: #REF!
Name \s: #REF!
Name \s: #REF!
Name \V: #REF!
Name \X: 'INDICAR CÓDIGO DEL ITEM DE PAGO'!ERR
Name \X: [6]!ERR
Name \Z: 'INDICAR CÓDIGO DEL ITEM DE PAGO'!ERR
Name \Z: [6]!ERR
Name _________AFC1: [7]INV!$A$25:$D$28
Name _________AFC3: [7]INV!$F$25:$I$28
Name _________AFC5: [7]INV!$K$25:$N$28
Name _________BGC1: [7]INV!$A$5:$D$8
Name _________BGC3: [7]INV!$F$5:$I$8
Name _________BGC5: [7]INV!$K$5:$N$8
Name _________CAC1: [7]INV!$A$19:$D$22
Name _________CAC3: [7]INV!$F$19:$I$22
Name _________CAC5: [7]INV!$K$19:$N$22
Name _________PJ50: #REF!
Name _________PJ50: #REF!
Name _________SBC1: [7]INV!$A$12:$D$15
Name _________SBC3: [7]INV!$F$12:$I$15
Name _________SBC5: [7]INV!$K$12:$N$15
Name ________AFC1: [7]INV!$A$25:$D$28
Name ________AFC3: [7]INV!$F$25:$I$28
Name ________AFC5: [7]INV!$K$25:$N$28
Name ________BGC1: [7]INV!$A$5:$D$8
Name ________BGC3: [7]INV!$F$5:$I$8
Name ________BGC5: [7]INV!$K$5:$N$8
Name ________CAC1: [7]INV!$A$19:$D$22
Name ________CAC3: [7]INV!$F$19:$I$22
Name ________CAC5: [7]INV!$K$19:$N$22
Name ________MA2: #REF!
Name ________MA2: #REF!
Name ________PJ50: #REF!
Name ________PJ50: #REF!
Name ________SBC1: [7]INV!$A$12:$D$15
Name ________SBC3: [7]INV!$F$12:$I$15
Name ________SBC5: [7]INV!$K$12:$N$15
Name _______AFC1: [7]INV!$A$25:$D$28
Name _______AFC3: [7]INV!$F$25:$I$28
Name _______AFC5: [7]INV!$K$25:$N$28
Name _______BGC1: [7]INV!$A$5:$D$8
Name _______BGC3: [7]INV!$F$5:$I$8
Name _______BGC5: [7]INV!$K$5:$N$8
Name _______CAC1: [7]INV!$A$19:$D$22

Sheet P. OFICIAL (Entidad)
C3: Formulario 1 - Propuesta económica - Documento tipo de selección abreviada de menor cuantía - versión 2
C4: Código | D4: CCE-EICP-FM-25 | E4: Versión | F4: 2
C6: FORMULARIO 1
C7: PRESUPUESTO OFICIAL
C8: [La entidad puede utilizar este formulario de detalle del presupuesto oficial para determinar las condiciones bajo las cuales los proponentes analizarán y presentarán su propuesta económica de forma detallada, sin perjuicio que la entidad pueda modificarlo o establecer la presentación de la oferta económica con un formulario distinto al indicado.]
C10: Adicionalmente, cuando el proceso de contratación es estructurado por precios unitarios, la Entidad debe aplicar las notas 1, 2 y 3 del presente formulario y las casillas de "Descripción", "Porcentaje" de la Administración, Imprevisto, Utilidad y total A.I.U. resaltadas en colo amarillo. Tratándose de otras modalidades de precio, la Entidad puede o no configurar los mismos aspectos.
C12: Nº | D12: ITEM DE PAGO | E12: ESPECIFICACIONES | G12: DESCRIPCION | H12: UND. | I12: CANTIDAD | J12: VALOR UNITARIO | K12: VALOR TOTAL
E13: GENERAL | F13: PARTICULAR
C14: PLACA HUELLAS
C15: CORREGIMIENTO DE PUERTO VILLAMIZAR
D16: 1 | G16: ACTIVIDADES PRELIMINARES
D17: 1.01 | F17: EP.1 | G17: Localizacion y replanteo | H17: M2 | I17: 1 | J17: 3255 | K17: =+ROUND(I17*J17,0) -> 3255
D18: 2 | G18: MOVIMIENTO DE TIERRAS
D19: 2.01 | E19: INV-210 | G19: Excavacion mecanica sin clasificar | H19: M3 | I19: 1 | J19: 15790 | K19: =+ROUND(I19*J19,0) -> 15790
D20: 2.02 | F20: EP.2 | G20: Conformacion y compactacion de la Subrasante | H20: M2 | I20: 1 | J20: 4157 | K20: =+ROUND(I20*J20,0) -> 4157
D21: 2.03 | E21: INV-310 | G21: Relleno y compactacion de material de prestamo para terraplenes (no incluye transporte) | H21: M3 | I21: 1 | J21: 93574 | K21: =+ROUND(I21*J21,0) -> 93574
D22: 3 | G22: CONSTRUCCION DE PLACA HUELLA
D23: 3.01 | E23: INV-600 | G23: Excavacion manual | H23: M3 | I23: 1 | J23: 58722 | K23: =+ROUND(I23*J23,0) -> 58722
D24: 3.02 | E24: INV-320 | G24: Suministro e Instalacion de Sub Base Granular e=15 cm (no incluye transporte) | H24: M3 | I24: 1 | J24: 107579 | K24: =+ROUND(I24*J24,0) -> 107579
D25: 3.03 | E25: INV-630 | G25: Concreto clase D (210 Kg/cm2 0 21 Mpa) placa huella y sobreanchos (no incluye transporte de agregados) | H25: M3 | I25: 1 | J25: 575978 | K25: =+ROUND(I25*J25,0) -> 575978
D26: 3.04 | E26: INV-630 | G26: Concreto de 210 kg/cm2 (3000 psi) para vigas riostras, cunetas, bordillo (no incluye transporte de agregados) | H26: M3 | I26: 1 | J26: 579081 | K26: =+ROUND(I26*J26,0) -> 579081
D27: 3.05 | F27: EP.3 | G27: Concreto clase G (40% Piedra rajon, 60% concreto de 3000 psi) (no incluye transporte de agregados) | H27: M3 | I27: 1 | J27: 506828 | K27: =+ROUND(I27*J27,0) -> 506828
D28: 3.06 | E28: INV 640 | G28: Acero de refuerzo 4.200 kg/cm2(60.000 psi) para placas, riostras, cunetas y bordillos | H28: KG | I28: 1 | J28: 8835 | K28: =+ROUND(I28*J28,0) -> 8835
D29: 4 | G29: RETIRO DE MATERIAL
D30: 4.01 | E30: INV-310 INV-320 | F30: EP.4 | G30: TRANSPORTE DE MATERIAL GRANULAR ( hasta 40 km) | H30: M3-KM | I30: 1 | J30: 1690 | K30: =+ROUND(I30*J30,0) -> 1690
D31: 4.02 | E31: INV-900 | G31: TRANSPORTE DE MATERIAL DE EXCAVACION A OTRO PUNTO DE LA VIA | H31: M3-KM | I31: 1 | J31: 1690 | K31: =+ROUND(I31*J31,0) -> 1690
D32: 5 | G32: COMPONENTES
D33: 5.01 | E33: ANEXO COMPONENTE | F33: - | G33: COMPONENTE AMBIENTAL | H33: GLB | I33: 1 | J33: 4998316 | K33: =+ROUND(I33*J33,0) -> 4998316
D34: 5.02 | E34: ANEXO COMPONENTE | F34: - | G34: COMPONENTE SST | H34: GLB | I34: 1 | J34: 11397600 | K34: =+ROUND(I34*J34,0) -> 11397600
D35: 5.03 | E35: ANEXO COMPONENTE | F35: - | G35: PMT | H35: GLB | I35: 1 | J35: 2594364 | K35: =+ROUND(I35*J35,0) -> 2594364
C36: SUBTOTAL DE OBRAS DE PUERTO VILLAMIZAR | K36: =SUM(K17:K35) -> 20947459
C37: ORREGIMIENTO DE BANCO DE ARENA Y PALMARITO
D38: 6 | G38: ACTIVIDADES PRELIMINARES
D39: 6.01 | F39: EP.1 | G39: Localizacion y replanteo | H39: M2 | I39: 1 | J39: 3255 | K39: =+ROUND(I39*J39,0) -> 3255
D40: 7 | G40: MOVIMIENTO DE TIERRAS
D41: 7.01 | E41: INV-210 | G41: Excavacion mecanica sin clasificar | H41: M3 | I41: 1 | J41: 15790 | K41: =+ROUND(I41*J41,0) -> 15790
D42: 7.02 | F42: EP.2 | G42: Conformacion y compactacion de la Subrasante | H42: M2 | I42: 1 | J42: 4157 | K42: =+ROUND(I42*J42,0) -> 4157
D43: 7.03 | E43: INV-310 | G43: Extendido y compactacion de material de prestamo para terraplenes (no incluye transporte) | H43: M3 | I43: 1 | J43: 93574 | K43: =+ROUND(I43*J43,0) -> 93574
D44: 8 | G44: CONSTRUCCION DE PLACA HUELLA
D45: 8.01 | E45: INV-600 | G45: Excavacion manual | H45: M3 | I45: 1 | J45: 58722 | K45: =+ROUND(I45*J45,0) -> 58722
...

Sheet PROPUESTA ECONOMICA(Proponente)
C3: Formulario 1 - Propuesta económica - Documento tipo de selección abreviada de menor cuantía - versión 2
C4: Código | D4: CCE-EICP-FM-25 | E4: Versión | F4: 2
C6: FORMULARIO 1
C7: PROPUESTA ECONOMICA
C8: [La entidad puede utilizar este formulario de presentación de propuesta económica de forma detallada, sin perjuicio que la entidad pueda modificarlo o establecer la presentación de la oferta económica con un formulario distinto al indicado.] [Los proponentes emplearán el formulario establecido por la entidad para determinar su propuesta económica conforme al Formulario 1 - Presupuesto Oficial publicado por la Entidad]
C10: Cuando el proceso de contratación es estructurado por precios unitarios, la Entidad debe aplicar las notas 1, 2 y 3 del presente formato y las casillas de "Descripción", "Porcentaje" de la Administración, Imprevisto, Utilidad y total A.I.U. resaltadas en color amarillo.
C12: Nº | D12: ITEM DE PAGO | E12: ESPECIFICACIONES | G12: DESCRIPCION | H12: UND. | I12: CANTIDAD | J12: VALOR UNITARIO | K12: VALOR TOTAL
E13: GENERAL | F13: PARTICULAR
C14: PLACA HUELLAS
C15: CORREGIMIENTO DE PUERTO VILLAMIZAR
D16: 1 | G16: ACTIVIDADES PRELIMINARES
D17: 1.01 | F17: EP.1 | G17: =+'P. OFICIAL (Entidad)'!G17 -> Localizacion y replanteo | H17: =+'P. OFICIAL (Entidad)'!H17 -> M2 | I17: =+'P. OFICIAL (Entidad)'!I17 -> 1 | J17: =+'P. OFICIAL (Entidad)'!J17 -> 3255 | K17: =+ROUND(I17*J17,0) -> 3255
D18: 2 | G18: MOVIMIENTO DE TIERRAS
D19: 2.01 | E19: INV-210 | G19: =+'P. OFICIAL (Entidad)'!G19 -> Excavacion mecanica sin clasificar | H19: =+'P. OFICIAL (Entidad)'!H19 -> M3 | I19: =+'P. OFICIAL (Entidad)'!I19 -> 1 | J19: =+'P. OFICIAL (Entidad)'!J19 -> 15790 | K19: =+ROUND(I19*J19,0) -> 15790
D20: 2.02 | F20: EP.2 | G20: =+'P. OFICIAL (Entidad)'!G20 -> Conformacion y compactacion de la Subrasante | H20: =+'P. OFICIAL (Entidad)'!H20 -> M2 | I20: =+'P. OFICIAL (Entidad)'!I20 -> 1 | J20: =+'P. OFICIAL (Entidad)'!J20 -> 4157 | K20: =+ROUND(I20*J20,0) -> 4157
D21: 2.03 | E21: INV-310 | G21: =+'P. OFICIAL (Entidad)'!G21 -> Relleno y compactacion de material de prestamo para terraplenes (no incluye transporte) | H21: =+'P. OFICIAL (Entidad)'!H21 -> M3 | I21: =+'P. OFICIAL (Entidad)'!I21 -> 1 | J21: =+'P. OFICIAL (Entidad)'!J21 -> 93574 | K21: =+ROUND(I21*J21,0) -> 93574
D22: 3 | G22: CONSTRUCCION DE PLACA HUELLA
D23: 3.01 | E23: INV-600 | G23: =+'P. OFICIAL (Entidad)'!G23 -> Excavacion manual | H23: =+'P. OFICIAL (Entidad)'!H23 -> M3 | I23: =+'P. OFICIAL (Entidad)'!I23 -> 1 | J23: =+'P. OFICIAL (Entidad)'!J23 -> 58722 | K23: =+ROUND(I23*J23,0) -> 58722
D24: 3.02 | E24: INV-320 | G24: =+'P. OFICIAL (Entidad)'!G24 -> Suministro e Instalacion de Sub Base Granular e=15 cm (no incluye transporte) | H24: =+'P. OFICIAL (Entidad)'!H24 -> M3 | I24: =+'P. OFICIAL (Entidad)'!I24 -> 1 | J24: =+'P. OFICIAL (Entidad)'!J24 -> 107579 | K24: =+ROUND(I24*J24,0) -> 107579
D25: 3.03 | E25: INV-630 | G25: =+'P. OFICIAL (Entidad)'!G25 -> Concreto clase D (210 Kg/cm2 0 21 Mpa) placa huella y sobreanchos (no incluye transporte de agregados) | H25: =+'P. OFICIAL (Entidad)'!H25 -> M3 | I25: =+'P. OFICIAL (Entidad)'!I25 -> 1 | J25: =+'P. OFICIAL (Entidad)'!J25 -> 575978 | K25: =+ROUND(I25*J25,0) -> 575978
D26: 3.04 | E26: INV-630 | G26: =+'P. OFICIAL (Entidad)'!G26 -> Concreto de 210 kg/cm2 (3000 psi) para vigas riostras, cunetas, bordillo (no incluye transporte de agregados) | H26: =+'P. OFICIAL (Entidad)'!H26 -> M3 | I26: =+'P. OFICIAL (Entidad)'!I26 -> 1 | J26: =+'P. OFICIAL (Entidad)'!J26 -> 579081 | K26: =+ROUND(I26*J26,0) -> 579081
D27: 3.05 | F27: EP.3 | G27: =+'P. OFICIAL (Entidad)'!G27 -> Concreto clase G (40% Piedra rajon, 60% concreto de 3000 psi) (no incluye transporte de agregados) | H27: =+'P. OFICIAL (Entidad)'!H27 -> M3 | I27: =+'P. OFICIAL (Entidad)'!I27 -> 1 | J27: =+'P. OFICIAL (Entidad)'!J27 -> 506828 | K27: =+ROUND(I27*J27,0) -> 506828
D28: 3.06 | E28: INV 640 | G28: =+'P. OFICIAL (Entidad)'!G28 -> Acero de refuerzo 4.200 kg/cm2(60.000 psi) para placas, riostras, cunetas y bordillos | H28: =+'P. OFICIAL (Entidad)'!H28 -> KG | I28: =+'P. OFICIAL (Entidad)'!I28 -> 1 | J28: =+'P. OFICIAL (Entidad)'!J28 -> 8835 | K28: =+ROUND(I28*J28,0) -> 8835
D29: 4 | G29: RETIRO DE MATERIAL
D30: 4.01 | E30: INV-310 INV-320 | F30: EP.4 | G30: =+'P. OFICIAL (Entidad)'!G30 -> TRANSPORTE DE MATERIAL GRANULAR ( hasta 40 km) | H30: =+'P. OFICIAL (Entidad)'!H30 -> M3-KM | I30: =+'P. OFICIAL (Entidad)'!I30 -> 1 | J30: =+'P. OFICIAL (Entidad)'!J30 -> 1690 | K30: =+ROUND(I30*J30,0) -> 1690
D31: 4.02 | E31: INV-900 | G31: =+'P. OFICIAL (Entidad)'!G31 -> TRANSPORTE DE MATERIAL DE EXCAVACION A OTRO PUNTO DE LA VIA | H31: =+'P. OFICIAL (Entidad)'!H31 -> M3-KM | I31: =+'P. OFICIAL (Entidad)'!I31 -> 1 | J31: =+'P. OFICIAL (Entidad)'!J31 -> 1690 | K31: =+ROUND(I31*J31,0) -> 1690
D32: 5 | G32: COMPONENTES
D33: 5.01 | E33: ANEXO COMPONENTE | F33: - | G33: =+'P. OFICIAL (Entidad)'!G33 -> COMPONENTE AMBIENTAL | H33: =+'P. OFICIAL (Entidad)'!H33 -> GLB | I33: =+'P. OFICIAL (Entidad)'!I33 -> 1 | J33: =+'P. OFICIAL (Entidad)'!J33 -> 4998316 | K33: =+ROUND(I33*J33,0) -> 4998316
D34: 5.02 | E34: ANEXO COMPONENTE | F34: - | G34: =+'P. OFICIAL (Entidad)'!G34 -> COMPONENTE SST | H34: =+'P. OFICIAL (Entidad)'!H34 -> GLB | I34: =+'P. OFICIAL (Entidad)'!I34 -> 1 | J34: =+'P. OFICIAL (Entidad)'!J34 -> 11397600 | K34: =+ROUND(I34*J34,0) -> 11397600
D35: 5.03 | E35: ANEXO COMPONENTE | F35: - | G35: =+'P. OFICIAL (Entidad)'!G35 -> PMT | H35: =+'P. OFICIAL (Entidad)'!H35 -> GLB | I35: =+'P. OFICIAL (Entidad)'!I35 -> 1 | J35: =+'P. OFICIAL (Entidad)'!J35 -> 2594364 | K35: =+ROUND(I35*J35,0) -> 2594364
C36: SUBTOTAL DE OBRAS DE PUERTO VILLAMIZAR | K36: =SUM(K17:K35) -> 20947459
C37: ORREGIMIENTO DE BANCO DE ARENA Y PALMARITO
D38: 6 | G38: ACTIVIDADES PRELIMINARES
D39: 6.01 | F39: EP.1 | G39: =+'P. OFICIAL (Entidad)'!G39 -> Localizacion y replanteo | H39: =+'P. OFICIAL (Entidad)'!H39 -> M2 | I39: =+'P. OFICIAL (Entidad)'!I39 -> 1 | J39: =+'P. OFICIAL (Entidad)'!J39 -> 3255 | K39: =+ROUND(I39*J39,0) -> 3255
D40: 7 | G40: MOVIMIENTO DE TIERRAS
D41: 7.01 | E41: INV-210 | G41: =+'P. OFICIAL (Entidad)'!G41 -> Excavacion mecanica sin clasificar | H41: =+'P. OFICIAL (Entidad)'!H41 -> M3 | I41: =+'P. OFICIAL (Entidad)'!I41 -> 1 | J41: =+'P. OFICIAL (Entidad)'!J41 -> 15790 | K41: =+ROUND(I41*J41,0) -> 15790
D42: 7.02 | F42: EP.2 | G42: =+'P. OFICIAL (Entidad)'!G42 -> Conformacion y compactacion de la Subrasante | H42: =+'P. OFICIAL (Entidad)'!H42 -> M2 | I42: =+'P. OFICIAL (Entidad)'!I42 -> 1 | J42: =+'P. OFICIAL (Entidad)'!J42 -> 4157 | K42: =+ROUND(I42*J42,0) -> 4157
D43: 7.03 | E43: INV-310 | G43: =+'P. OFICIAL (Entidad)'!G43 -> Extendido y compactacion de material de prestamo para terraplenes (no incluye transporte) | H43: =+'P. OFICIAL (Entidad)'!H43 -> M3 | I43: =+'P. OFICIAL (Entidad)'!I43 -> 1 | J43: =+'P. OFICIAL (Entidad)'!J43 -> 93574 | K43: =+ROUND(I43*J43,0) -> 93574
D44: 8 | G44: CONSTRUCCION DE PLACA HUELLA
D45: 8.01 | E45: INV-600 | G45: =+'P. OFICIAL (Entidad)'!G45 -> Excavacion manual | H45: =+'P. OFICIAL (Entidad)'!H45 -> M3 | I45: =+'P. OFICIAL (Entidad)'!I45 -> 1 | J45: =+'P. OFICIAL (Entidad)'!J45 -> 58722 | K45: =+ROUND(I45*J45,0) -> 58722
...

Sheet INDICAR CÓDIGO DEL ITEM DE PAGO
C3: Formulario 1 - Propuesta económica - Documento tipo de selección abreviada de menor cuantía - versión 2
C4: Código | D4: CCE-EICP-FM-25 | E4: Versión | F4: 2
C6: [La entidad podrá utilizar este formato para la presentación de los análisis de precios unitarios el contratista en la oportunidad prevista en el numeral 8.1. del Documento Base]
D9: [NOMBRE DE LA ENTIDAD]
L10: VERSIÓN
D11: [NÚMERO DEL PROCESO]
L12: PÁGINA | M12: 1 | N12: DE | O12: 1
D14: ANALISIS DE PRECIOS UNITARIOS
L16: FECHA | M16: DD | N16: MM | O16: AA
C18: ITEMS DE LA PROPUESTA ECONÓMICA | I18: ITEMS NO PREVISTOS
C22: DATOS ESPECÍFICOS
C24: ITEM | D24: DESCRIPCIÓN | M24: UNIDAD | O24: CANTIDAD
C26: I. EQUIPO
C29: DESCRIPCIÓN | H29: MARCA | J29: TIPO | L29: TARIFA/HORA | M29: RENDIMIENTO | O29: Vr. UNITARIO
C33: SUBTOTAL $
C34: II. MATERIALES
C37: DESCRIPCIÓN | K37: UNIDAD | L37: CANTIDAD | M37: PRECIO UNIT. | O37: Vr. UNITARIO
C40: SUBTOTAL $ | O40: 0
C41: III. TRANSPORTES
C44: MATERIAL | J44: VOL. o PESO | K44: DISTANCIA | L44: M3 o Ton/Km | M44: TARIFA | O44: Vr. UNITARIO
C47: SUBTOTAL $
C48: IV. MANO DE OBRA
C51: TRABAJADOR | J51: JORNAL | K51: PRESTACIONES | L51: JORNAL TOTAL | M51: RENDIMIENTO | O51: Vr. UNITARIO
C56: SUBTOTAL $
C58: TOTAL COSTO DIRECTO $
C59: V. COSTOS INDIRECTOS
C62: Descripción | L62: Porcentaje | M62: Valor Total
C63: ADMINISTRACION
C64: IMPREVISTOS
C65: UTILIDAD
C66: SUBTOTAL $
C68: Precio Unitario Total Aproximado al peso $
H72: Firma
H73: Nombre:
H74: Representante Legal del Contratista o su Apoderado
H75: Matricula No. :
C77: OBSERVACIONES INTERVENTORÍA
C81: APROBACIÓN POR INTERVENTORÍA
C82: Nota 1: Cuando se trate de Análisis de precios unitarios correspondientes a ítems de la propuesta económica aprobada, el Interventor aprueba el desglose de los componentes manteniendo el mismo precio unitario de cada ítem, cumpliendo con las especificaciones de construcción vigentes para el proyecto.
C84: Nota 2: Cuando se trate de Análisis de precios unitarios de ítems no previstos, el Interventor aprueba el desglose y precio unitario de cada ítem no previsto, exigiendo la aplicación de los costos correspondientes a insumos y tarifas de la propuesta económica inicial cuando estén contemplados, cumpliendo con las especificaciones de construcción vigente para el proyecto.
...
