Workbook
Name Analis: #REF!
Name Andres123: #REF!
Name CompanyAddress: #REF!
Name CompanyAddress: #REF!
Name CompanyAddress: #REF!
Name CompanyCity: #REF!
Name CompanyCity: #REF!
Name CompanyCity: #REF!
Name CompanyContactsHeader: #REF!
Name CompanyCountry: #REF!
Name CompanyCountry: #REF!
Name CompanyCountry: #REF!
Name CompanyName: #REF!
Name CompanyName: #REF!
Name CompanyName: #REF!
Name CompanyState: #REF!
Name CompanyState: #REF!
Name CompanyState: #REF!
Name CompanyZip: #REF!
Name CompanyZip: #REF!
Name CompanyZip: #REF!
Name curva: "Chart 11"
Name DataDisplayed: "Ejemplo"
Name Slicer_Contact_Type: #N/A
Name tablonx: '[1]BASE DE DATOS'!#REF!
Name tablonx: '[2]Lista de Precios'!#REF!
Name tablonx: '[2]Lista de Precios'!#REF!
Name tablonx: BD!#REF!
Name xt: #REF!

Sheet Presupuesto_OFICIAL
D1: Proyecto:
D2: OPTIMIZACIÓN DE LAS REDES DE ACUEDUCTO Y ALCANTARILLADO UBICADOS EN LA CALLE 6 ENTRE CARRERAS 9 Y 11 - MUNICIPIO DE SANTUARIO RISARALDA
D3: CONSORCIO 2A PM SANTUARIO CONSULTOR
D4: PRESUPUESTO DE OBRA
A6: ITEM Nº | B6: ESPEC | C6: DESCRIPCIÓN | D6: UNIDAD | E6: CANTIDAD | F6: VALOR UNITARIO | G6: VALOR TOTAL
A7: 1 | C7: ACTIVIDADES PRELIMINARES | G7: =SUM(G8:G17) -> 75585059
A8: =+A7+0.1 -> 1.1 | B8: 2-01-01 | C8: =+VLOOKUP(B8,APUS!$B$5:$G$905,3,0) -> Localización y replanteo para pavimentación de vías (3 líneas, 3 instancias) | D8: M | E8: 145.24 | F8: =+VLOOKUP(B8,APUS!$B$5:$G$905,6,0) -> 3943 | G8: =+ROUND(F8*E8,0) -> 572681
A9: =+A8+0.1 -> 1.2 | B9: 2-01-08 | C9: =+VLOOKUP(B9,APUS!$B$5:$G$905,3,0) -> Corte de pavimento rigido con cortadora autopropulsada | D9: M | E9: 12 | F9: =+VLOOKUP(B9,APUS!$B$5:$G$905,6,0) -> 4680 | G9: =+ROUND(F9*E9,0) -> 56160
A10: =+A9+0.1 -> 1.3 | B10: 1-01-19 | C10: =+VLOOKUP(B10,APUS!$B$5:$G$905,3,0) -> Cerramiento provisional con señalizador y tela de cerramiento | D10: M | E10: 363.1 | F10: =+VLOOKUP(B10,APUS!$B$5:$G$905,6,0) -> 8522 | G10: =+ROUND(F10*E10,0) -> 3094338
A11: =+A10+0.1 -> 1.4 | B11: ITE013 | C11: =+VLOOKUP(B11,APUS!$B$5:$G$905,3,0) -> Alquiler de Almacen/Campamento | D11: Mes | E11: 4 | F11: =+VLOOKUP(B11,APUS!$B$5:$G$905,6,0) -> 520020 | G11: =+ROUND(F11*E11,0) -> 2080080
A12: =+A11+0.1 -> 1.5 | C12: =+APUS!D476 -> Acceso Provisional a Viviendas en Madera | D12: m | E12: 45 | F12: =+APUS!G476 -> 21487 | G12: =+ROUND(F12*E12,0) -> 966915
A13: =+A12+0.1 -> 1.6 | C13: =+APUS!D485 -> Puentes Peatonales (2 x 1,5) con Baranda | D13: m | E13: 9 | F13: =+APUS!G485 -> 172982 | G13: =+ROUND(F13*E13,0) -> 1556838
A14: =+A13+0.1 -> 1.7 | C14: Cubierta provisional poletileno Cal 4 y gauadua | D14: m2 | E14: 952.75 | F14: =+APUS!G494 -> 64569 | G14: =+ROUND(F14*E14,0) -> 61518115
A15: =+A14+0.1 -> 1.8 | C15: =+APUS!D505 -> Manejo de Redes de Vitales (Energia) | D15: m | E15: 29.05 | F15: =+APUS!G505 -> 80394 | G15: =+ROUND(F15*E15,0) -> 2335446
A16: =+A15+0.1 -> 1.9 | C16: Manejo redes vitales ( gas) | D16: m | E16: 29.05 | F16: =+APUS!G521 -> 64564 | G16: =+ROUND(F16*E16,0) -> 1875584
A17: 1.1 | C17: Manejo redes vitales (acueducto) | D17: m | E17: 29.05 | F17: =+APUS!G514 -> 52630 | G17: =+ROUND(F17*E17,0) -> 1528902
A18: 2 | C18: DEMOLICIONES | G18: =SUM(G19:G26) -> 81100038
A19: =+A18+0.1 -> 2.1 | B19: 1-02-06 | C19: =+VLOOKUP(B19,APUS!$B$5:$G$905,3,0) -> Demolición en Concreto Simple | D19: M3 | E19: 196.27 | F19: =+VLOOKUP(B19,APUS!$B$5:$G$905,6,0) -> 173698 | G19: =+ROUND(F19*E19,0) -> 34091706
A20: =+A19+0.1 -> 2.2 | B20: 2-01-10 | C20: =+VLOOKUP(B20,APUS!$B$5:$G$905,3,0) -> Demolición cono cámara | D20: Un | E20: 4 | F20: =+VLOOKUP(B20,APUS!$B$5:$G$905,6,0) -> 107484 | G20: =+ROUND(F20*E20,0) -> 429936
A21: =+A20+0.1 -> 2.3 | B21: 2-01-11 | C21: =+VLOOKUP(B21,APUS!$B$5:$G$905,3,0) -> Demolición cuerpo cámara | D21: M | E21: 8 | F21: =+VLOOKUP(B21,APUS!$B$5:$G$905,6,0) -> 179140 | G21: =+ROUND(F21*E21,0) -> 1433120
A22: =+A21+0.1 -> 2.4 | C22: Demolición caja domiciliaria | D22: Un | E22: 8 | F22: =+APUS!G28 -> 75239 | G22: =+ROUND(F22*E22,0) -> 601912
A23: =+A22+0.1 -> 2.5 | B23: 2-01-13 | C23: =+VLOOKUP(B23,APUS!$B$5:$G$905,3,0) -> Demolición sumidero | D23: Un | E23: 6 | F23: =+VLOOKUP(B23,APUS!$B$5:$G$905,6,0) -> 95082 | G23: =+ROUND(F23*E23,0) -> 570492
A24: =+A23+0.1 -> 2.6 | B24: 1-02-07 | C24: =+VLOOKUP(B24,APUS!$B$5:$G$905,3,0) -> Demolición de anden en concreto | D24: M3 | E24: 34.86 | F24: =+VLOOKUP(B24,APUS!$B$5:$G$905,6,0) -> 147642 | G24: =+ROUND(F24*E24,0) -> 5146800
A25: =+A24+0.1 -> 2.7 | B25: 2-01-19 | C25: =+VLOOKUP(B25,APUS!$B$5:$G$905,3,0) -> Desmonte de tubería de alcantarillado hasta 12" | D25: M | E25: 145.24 | F25: =+VLOOKUP(B25,APUS!$B$5:$G$905,6,0) -> 6719 | G25: =+ROUND(F25*E25,0) -> 975868
A26: =+A25+0.1 -> 2.8 | B26: 1-01-11 | C26: =+VLOOKUP(B26,APUS!$B$5:$G$905,3,0) -> Cargue y retiro de material sobrante distancia mayor a 10 km (65,6 km a botadero La Bonita - Pereira Risaralda) | D26: M3 | E26: 263.77 | F26: =+VLOOKUP(B26,APUS!$B$5:$G$905,6,0) -> 143497 | G26: =+ROUND(F26*E26,0) -> 37850204
A27: 3 | C27: EXCAVACIONES Y LLENOS | G27: =SUM(G28:G38) -> 120923573
A28: =+A27+0.01 -> 3.01 | B28: 1-03-01 | C28: Excavación en material común seco de 0 - 2 m manual | D28: M3 | E28: 127.42 | F28: =+VLOOKUP(B28,APUS!$B$5:$G$905,6,0) -> 28773 | G28: =+ROUND(F28*E28,0) -> 3666256
A29: =+A28+0.01 -> 3.02 | B29: 1-03-07 | C29: =+VLOOKUP(B29,APUS!$B$5:$G$905,3,0) -> Excavación en conglomerado seco de 0 - 2 m manual | D29: M3 | E29: 95.57 | F29: =+VLOOKUP(B29,APUS!$B$5:$G$905,6,0) -> 51380 | G29: =+ROUND(F29*E29,0) -> 4910387
A30: =+A29+0.01 -> 3.03 | C30: Excavación en material común seco de 2-4 m manual | D30: M3 | E30: 63.71 | F30: =+APUS!G273 -> 52236 | G30: =+ROUND(F30*E30,0) -> 3327956
A31: =+A30+0.01 -> 3.04 | C31: Excavación en congomerado seco de 2-4 m manual | D31: M3 | E31: 31.86 | F31: =+APUS!G279 -> 93297 | G31: =+ROUND(F31*E31,0) -> 2972442
A32: =+A31+0.01 -> 3.05 | C32: Manejo de aguas en Brechas Excavadas | D32: m | E32: 145.24 | F32: =+APUS!G286 -> 69792 | G32: =+ROUND(F32*E32,0) -> 10136590
A33: =+A32+0.01 -> 3.06 | B33: 1-03-24 | C33: =+VLOOKUP(B33,APUS!$B$5:$G$905,3,0) -> Lleno compactado con material granular | D33: M3 | E33: 318.55 | F33: =+APUS!G293 -> 138903 | G33: =+ROUND(F33*E33,0) -> 44247551
A34: =+A33+0.01 -> 3.07 | B34: 1-03-29 | C34: =+VLOOKUP(B34,APUS!$B$5:$G$905,3,0) -> Lleno con arena para tubería (Brecha de 0,60m de ancho e=0,1 m) | D34: M | E34: 145.24 | F34: =+VLOOKUP(B34,APUS!$B$5:$G$905,6,0) -> 10349 | G34: =+ROUND(F34*E34,0) -> 1503089
A35: =+A34+0.01 -> 3.08 | B35: 2-02-01 | C35: Excavación sin clasificar de la explanación (mecánica) | D35: M3 | E35: 190.55 | F35: =+VLOOKUP(B35,APUS!$B$5:$G$905,6,0) -> 11477 | G35: =+ROUND(F35*E35,0) -> 2186942
A36: =+A35+0.01 -> 3.09 | B36: 2-03-02 | C36: =+VLOOKUP(B36,APUS!$B$5:$G$905,3,0) -> Sub-base granular | D36: M3 | E36: 29.05 | F36: =+APUS!G55 -> 131701 | G36: =+ROUND(F36*E36,0) -> 3825914
A37: =+A36+0.01 -> 3.1 | C37: Base granular tipo INVIAS | D37: M3 | E37: 285.82 | F37: =+APUS!G63 -> 142338 | G37: =+ROUND(F37*E37,0) -> 40683047
A38: =+A37+0.01 -> 3.11 | C38: =+APUS!D72 -> Entibado Preventivo para Excavaciones en Zanja h>1.50 | D38: ml | E38: 58.1 | F38: =+APUS!G72 -> 59611 | G38: =+ROUND(F38*E38,0) -> 3463399
A39: 3 | C39: SUSTITUCIONES | G39: =SUM(G40:G41) -> 6908105
A40: =+A39+0.1 -> 3.1 | C40: Relleno sucio de rio compactado sustitucion flatantes (vacios) | D40: M3 | E40: 2 | F40: =+APUS!G81 -> 85191 | G40: =+ROUND(F40*E40,0) -> 170382
A41: 3.2 | C41: Relleno afirmado compactado sustitucion flatantes (vacios) y andenes | D41: m3 | E41: 78.52 | F41: =+APUS!G90 -> 85809 | G41: =+ROUND(F41*E41,0) -> 6737723
...

Sheet APUS
D1: =+Presupuesto_OFICIAL!D2 -> OPTIMIZACIÓN DE LAS REDES DE ACUEDUCTO Y ALCANTARILLADO UBICADOS EN LA CALLE 6 ENTRE CARRERAS 9 Y 11 - MUNICIPIO DE SANTUARIO RISARALDA
B3: ITEM | C3: CÓDIGO | D3: DESCRIPCIÓN | E3: UND | F3: CANT. | G3: VALOR UNITARIO | H3: RENDIMIENTO, USOS, DESPEDICIOS | I3: VALOR PARCIAL
B5: 2-01-01 | D5: Localización y replanteo para pavimentación de vías (3 líneas, 3 instancias) | E5: M | G5: =ROUND(SUM(I6:I11),0) -> 3943
B6: MATERIALES | C6: MAT,334 | D6: =+VLOOKUP(C6,BD!$A$29:$E$877,2,0) -> Puntilla de 3" | E6: Lb | F6: 0.02 | G6: =VLOOKUP(C6,BD!$A$29:$E$877,5,0) -> 3424 | H6: 0 | I6: =ROUND((F6*G6),0) -> 68
C7: MAT,176 | D7: =+VLOOKUP(C7,BD!$A$29:$E$877,2,0) -> Guadua basa longitud promedio = 5 m | E7: Un | F7: 0.02 | G7: =VLOOKUP(C7,BD!$A$29:$E$877,5,0) -> 6420 | H7: =1/3 -> 0.33333333 | I7: =ROUND((F7*G7*H7),0) -> 43
C8: MAT,116 | D8: =+VLOOKUP(C8,BD!$A$29:$E$877,2,0) -> Cuartón de sajo 2" x 4" x 2,9 m | E8: M | F8: 0.1 | G8: =VLOOKUP(C8,BD!$A$29:$E$877,5,0) -> 4494 | H8: =1/3 -> 0.33333333 | I8: =ROUND((F8*G8*H8),0) -> 150
C9: MAT,222 | D9: =+VLOOKUP(C9,BD!$A$29:$E$877,2,0) -> Listón sajo de 5 x 3 cm x 2,5 m (varilla) | E9: M | F9: 0.1 | G9: =VLOOKUP(C9,BD!$A$29:$E$877,5,0) -> 2675 | H9: =1/3 -> 0.33333333 | I9: =ROUND((F9*G9*H9),0) -> 89
B10: M . O | C10: MOB010 | D10: Comisión topografía (topógrafo + Cadenero 1 + 2 Cadeneros 2) | E10: Día | F10: 1 | G10: =+VLOOKUP(D10,MO!$B$33:$F$79,5,0) -> 397158 | H10: =1/140 -> 0.0071428571 | I10: =ROUND((F10*G10*H10),0) -> 2837
B11: EQUIPO | C11: EQU011 | D11: =+VLOOKUP(C11,BD!$A$29:$E$877,2,0) -> Equipo completo de topografía | E11: Día | F11: 1 | G11: =VLOOKUP(C11,BD!$A$29:$E$877,5,0) -> 105876.5 | H11: =1/140 -> 0.0071428571 | I11: =ROUND((F11*G11*H11),0) -> 756
B12: ITE013 | D12: Alquiler de Almacen/Campamento | E12: Mes | G12: =ROUND(SUM(I13:I14),0) -> 520020
B13: MATERIALES | C13: MAT,999 | D13: Alquiler Almacen/Campamento | E13: Mes | F13: 1 | G13: =VLOOKUP(C13,BD!$A$29:$E$877,5,0) -> 400180 | H13: 1 | I13: =ROUND((F13*G13),0) -> 400180
C14: MAT,1000 | D14: Servicios Públicos | E14: Mes | F14: 1 | G14: =VLOOKUP(C14,BD!$A$29:$E$877,5,0) -> 119840 | H14: 1 | I14: =ROUND((F14*G14*H14),0) -> 119840
B15: 2-01-08 | D15: Corte de pavimento rigido con cortadora autopropulsada | E15: M | G15: =ROUND(SUM(I16:I19),0) -> 4680
B16: MATERIALES | C16: MAT,027 | D16: =+VLOOKUP(C16,BD!$A$29:$E$877,2,0) -> Agua | E16: Lt | F16: 1 | G16: =VLOOKUP(C16,BD!$A$29:$E$877,5,0) -> 12.84 | H16: =1 -> 1 | I16: =ROUND((F16*G16*H16),0) -> 13
C17: MAT,153 | D17: =+VLOOKUP(C17,BD!$A$29:$E$877,2,0) -> Gasolina | E17: Gl | F17: 1 | G17: =VLOOKUP(C17,BD!$A$29:$E$877,5,0) -> 10191.75 | H17: =1/70 -> 0.014285714 | I17: =ROUND((F17*G17*H17),0) -> 146
B18: M . O | C18: MOB004 | D18: Ayudante práctico (jornal + prestaciones) | E18: Día | F18: 1 | G18: =+VLOOKUP(D18,MO!$B$33:$F$79,5,0) -> 82680 | H18: =1/45 -> 0.022222222 | I18: =ROUND((F18*G18*H18),0) -> 1837
B19: EQUIPO | C19: EQU031 | D19: =+VLOOKUP(C19,BD!$A$29:$E$877,2,0) -> Cortadora de concreto con disco | E19: Día | F19: 1 | G19: =VLOOKUP(C19,BD!$A$29:$E$877,5,0) -> 120798.72 | H19: =1/45 -> 0.022222222 | I19: =ROUND((F19*G19*H19),0) -> 2684
B20: 2-01-10 | D20: Demolición cono cámara | E20: Un | G20: =ROUND(SUM(I20:I23),0) -> 107484
B21: M . O | C21: MOB003 | D21: Ayudante práctico (jornal + prestaciones) | E21: Día | F21: 1 | G21: =+VLOOKUP(D21,MO!$B$33:$F$79,5,0) -> 82680 | H21: =1 -> 1 | I21: =ROUND((F21*G21*H21),0) -> 82680
C22: MOB011 | D22: Acarreo horizontal | E22: %MO | F22: 0.1 | G22: =+I21 -> 82680 | H22: 0 | I22: =ROUND((F22*G22),0) -> 8268
B23: EQUIPO | C23: EQU002 | D23: Herramienta menor (% mano obra) | E23: %MO | F23: 0.2 | G23: =I21 -> 82680 | H23: 0 | I23: =ROUND((F23*G23),0) -> 16536
B24: 2-01-11 | D24: Demolición cuerpo cámara | E24: M | G24: =ROUND(SUM(I24:I27),0) -> 179140
B25: M . O | C25: MOB003 | D25: Ayudante práctico (jornal + prestaciones) | E25: Día | F25: 1 | G25: =+VLOOKUP(D25,MO!$B$33:$F$79,5,0) -> 82680 | H25: =1/0.6 -> 1.6666667 | I25: =ROUND((F25*G25*H25),0) -> 137800
C26: MOB011 | D26: Acarreo horizontal | E26: %MO | F26: 0.1 | G26: =I25 -> 137800 | H26: 0 | I26: =ROUND((F26*G26),0) -> 13780
B27: EQUIPO | C27: EQU002 | D27: Herramienta menor (% mano obra) | E27: %MO | F27: 0.2 | G27: =I25 -> 137800 | H27: 0 | I27: =ROUND((F27*G27),0) -> 27560
B28: 2-01-11 | D28: Demolición Caja Domiciliaria | E28: und | G28: =ROUND(SUM(I28:I31),0) -> 75239
B29: M . O | C29: MOB003 | D29: Ayudante práctico (jornal + prestaciones) | E29: Día | F29: 1 | G29: =+VLOOKUP(D29,MO!$B$33:$F$79,5,0) -> 82680 | H29: 0.7 | I29: =ROUND((F29*G29*H29),0) -> 57876
C30: MOB011 | D30: Acarreo horizontal | E30: %MO | F30: 0.1 | G30: =I29 -> 57876 | H30: 0 | I30: =ROUND((F30*G30),0) -> 5788
B31: EQUIPO | C31: EQU002 | D31: Herramienta menor (% mano obra) | E31: %MO | F31: 0.2 | G31: =I29 -> 57876 | H31: 0 | I31: =ROUND((F31*G31),0) -> 11575
B33: 2-01-13 | D33: Demolición sumidero | E33: Un | G33: =ROUND(SUM(I34:I35),0) -> 95082
B34: M . O | C34: MOB003 | D34: Ayudante práctico (jornal + prestaciones) | E34: Día | F34: 1 | G34: =+VLOOKUP(D34,MO!$B$33:$F$79,5,0) -> 82680 | H34: =1/1 -> 1 | I34: =ROUND((F34*G34*H34),0) -> 82680
B35: EQUIPO | C35: EQU002 | D35: Herramienta menor (% mano obra) | E35: %MO | F35: 0.15 | G35: =I34 -> 82680 | H35: 0 | I35: =ROUND((F35*G35),0) -> 12402
B36: 1-02-07 | D36: Demolición de anden en concreto | E36: M3 | G36: =ROUND(SUM(I36:I39),0) -> 147642
B37: M . O | C37: MOB018 | D37: Cuadrilla H 4 Ay (jornal + prestaciones) | E37: Día | F37: 1 | G37: =+VLOOKUP(D37,MO!$B$33:$F$79,5,0) -> 236228 | H37: =1/2 -> 0.5 | I37: =ROUND((F37*G37*H37),0) -> 118114
C38: MOB011 | D38: Acarreo horizontal | E38: %MO | F38: 0.1 | G38: =I37 -> 118114 | H38: 0 | I38: =ROUND((F38*G38),0) -> 11811
B39: EQUIPO | C39: EQU002 | D39: Herramienta menor (% mano obra) | E39: %MO | F39: 0.15 | G39: =I37 -> 118114 | H39: 0 | I39: =ROUND((F39*G39),0) -> 17717
B40: 1-02-06 | D40: Demolición en Concreto Simple | E40: M3 | G40: =ROUND(SUM(I40:I43),0) -> 173698
B41: MANO DE OBRA | C41: MOB018 | D41: Cuadrilla H 4 Ay (jornal + prestaciones) | E41: Día | F41: 1 | G41: 236228 | H41: =1/1.7 -> 0.58823529 | I41: =ROUND((F41*G41*H41),0) -> 138958
C42: MOB011 | D42: Acarreo horizontal | E42: %MO | F42: 0.1 | G42: 138958 | H42: 0 | I42: =ROUND((F42*G42),0) -> 13896
B43: EQUIPO | C43: EQU002 | D43: Herramienta menor (% mano obra) | E43: %MO | F43: 0.15 | G43: 138958 | H43: 0 | I43: =ROUND((F43*G43),0) -> 20844
...

Sheet AU
C1: =+Presupuesto_OFICIAL!D2 -> OPTIMIZACIÓN DE LAS REDES DE ACUEDUCTO Y ALCANTARILLADO UBICADOS EN LA CALLE 6 ENTRE CARRERAS 9 Y 11 - MUNICIPIO DE SANTUARIO RISARALDA
B3: ANALISIS DE AU | C3: AU (calculado): | D3: =E54 -> 0.41986992
C4: DIRECTO: | D4: =+Presupuesto_OFICIAL!G85 -> 660839384
C5: PRESUP TOTAL: | D5: =+Presupuesto_OFICIAL!G87 -> 938305961
C6: PLAZO (meses): | D6: 4
B8: PERSONAL (Factor Prestacional) | C8: SUELDO MES | D8: DEDICACION MES | E8: No. MESES | F8: VR. PARCIAL
B9: Director de Obra | C9: 4500000 | D9: 0.3 | E9: =D$6 -> 4 | F9: =ROUND(C9*D9*E9,0) -> 5400000
B10: Residente de Obra | C10: 4000000 | D10: 1 | E10: =D$6 -> 4 | F10: =ROUND(C10*D10*E10,0) -> 16000000
B11: Maestro de obra | C11: 3500000 | D11: 1 | E11: =D$6 -> 4 | F11: =ROUND(C11*D11*E11,0) -> 14000000
C13: FACTOR PRESTACIONAL (Salario > 2 SMMLV) | E13: =+MO!D30 -> 0.6084 | F13: =+E13*(SUM(F9:F11)) -> 21537360
B15: Total Personal (Factor Prestacional) | F15: =SUM(F9:F13) -> 56937360
B17: PERSONAL | C17: SUELDO MES | D17: DEDICACION MES | E17: No. MESES | F17: VR. PARCIAL
B18: Asesor Seguridad industrial salud ocupacional | C18: 3500000 | D18: 1 | E18: =D$6 -> 4 | F18: =ROUND(C18*D18*E18,0) -> 14000000
B19: Asesor en Trabajo Social | C19: 3500000 | D19: 0.5 | E19: =D$6 -> 4 | F19: =ROUND(C19*D19*E19,0) -> 7000000
B20: Asesor ambiental | C20: 3500000 | D20: 0.3 | E20: =D$6 -> 4 | F20: =ROUND(C20*D20*E20,0) -> 4200000
B22: Total Personal | F22: =SUM(F18:F20) -> 25200000
B24: POLIZAS | C24: Porcentaje | D24: Base de Liquidacion | E24: % costo poliza | F24: COSTO POLIZA
B25: Póliza cumplimiento del contrato | C25: 0.2 | D25: =ROUND(C25*$D$5,0) -> 187661192 | E25: 0.00748 | F25: =+ROUND(E25*D25,0) -> 1403706
B26: Póliza salarios, prestaciones sociales, e indemnizaciones laborales | C26: 0.1 | D26: =ROUND(C26*$D$5,0) -> 93830596 | E26: 0.00748 | F26: =+ROUND(E26*D26,0) -> 701853
B27: Póliza de buen manejo de anticipo | C27: 1 | D27: =ROUND(C27*$D$5,0) -> 938305961 | E27: 0.00748 | F27: =+ROUND(E27*D27,0) -> 7018529
B28: Poliza de responsabilidad civil extra contractual | C28: 0.35 | D28: =ROUND(C28*$D$5,0) -> 328407086 | E28: 0.0037 | F28: =+ROUND(E28*D28,0) -> 1215106
B29: Póliza de estabilidad de la obra | C29: 0.3 | D29: =ROUND(C29*$D$5,0) -> 281491788 | E29: 0.00748 | F29: =+ROUND(E29*D29,0) -> 2105559
B30: Poliza de la calidad de los elementos | C30: 0.2 | D30: =ROUND(C30*$D$5,0) -> 187661192 | E30: 0.00748 | F30: =+ROUND(E30*D30,0) -> 1403706
B32: Subtotal Polizas | F32: =SUM(F25:F30) -> 13848459
B34: IMPUESTOS | C34: VALOR | D34: CANTIDAD | F34: V/r PARCIAL
B35: Contribucion Especial (solo obra) | C35: =$D$5 -> 938305961 | D35: 0.05 | F35: =ROUND(C35*D35,0) -> 46915298
B36: Industria y comercio | C36: =$D$5 -> 938305961 | D36: 0.0008 | F36: =ROUND(C36*D36,0) -> 750645
B37: Estampilla Pro Hospital | C37: =$D$5 -> 938305961 | D37: 0.02 | F37: =ROUND(C37*D37,0) -> 18766119
B38: Estampilla Prodesarrollo | C38: =$D$5 -> 938305961 | D38: 0.02 | F38: =ROUND(C38*D38,0) -> 18766119
B39: Bienestar del anciano | C39: =$D$5 -> 938305961 | D39: 0.03 | F39: =ROUND(C39*D39,0) -> 28149179
B40: Estampilla Pro Deporte | C40: =+C39 -> 938305961 | D40: 0.025 | F40: =ROUND(C40*D40,0) -> 23457649
B41: Prouniversidad | C41: =$D$5 -> 938305961 | D41: 0.01 | F41: =ROUND(C41*D41,0) -> 9383060
B43: Subtotal Impuestos | F43: =SUM(F35:F41) -> 146188069
B45: OTROS GASTOS | C45: UNIDAD | D45: CANTIDAD | E45: VR. UNITARIO | F45: VR. PARCIAL
B46: Valla de identificación de obra, colocada en cerchas metálica, incluye mantenimiento durante la construcción | C46: m2 | D46: 6 | E46: 100120 | F46: =ROUND(D46*E46,0) -> 600720
B47: Fotocopias, Ploteos y Reproducciones | C47: Glb | D47: 1 | E47: 250000 | F47: =ROUND(D47*E47,0) -> 250000
B48: Oficina | C48: mes | D48: =+D6 -> 4 | E48: 350000 | F48: =+D48*E48 -> 1400000
B50: Subtotal Otros Gastos | F50: =SUM(F46:F48) -> 2250720
B52: VALOR TOTAL ADMINISTRACION | E52: =+F52/D4 -> 0.36986992 | F52: =SUM(F15+F22+F32+F43+F50) -> 244424608 | H52: 244427996 | I52: 660839384 | J52: =+ROUND(H52/I52,0) -> 0
B53: VALOR UTILIDAD | E53: 0.05 | F53: =ROUND(D4*E53,0) -> 33041969
...

Sheet Interventoria
C1: INTERVENTORIA TÉCNICA, ADMINISTRATIVA Y FINANCIERA A LA OPTIMIZACIÓN DE LAS REDES DE ACUEDUCTO Y ALCANTARILLADO UBICADOS EN LA CALLE 6 ENTRE CARRERAS 9 Y 11 - MUNICIPIO DE SANTUARIO RISARALDA
B3: PRESUPUESTO INTERVENTORÍA | C3: =+F27 -> 126526750
B4: PLAZO (MESES) | C4: 4.5
B6: PERSONAL DE PLANILLA (CON VINCULACION) | C6: SUELDO (MES) | D6: DEDICACION (MES) | E6: N° MESES | F6: Vr PARCIAL
B7: Director de Interventoria | C7: 3500000 | D7: 0.3 | E7: =+$C$4 -> 4.5 | F7: =+E7*D7*C7 -> 4725000
B8: Residente de Interventoria | C8: 3500000 | D8: 1 | E8: =+$C$4 -> 4.5 | F8: =+E8*D8*C8 -> 15750000
B9: Inspector de Obra | C9: 3500000 | D9: 1 | E9: 4 | F9: =+E9*D9*C9 -> 14000000
B10: Sub Total - Personal Profesional | F10: =SUM(F7:F9) -> 34475000
B11: Factor Multiplicador | F11: 2.5
B13: Total Personal de Planilla | F13: =+F10*F11 -> 86187500
B15: PERSONAL DE APOYO (PRESTACION DE SERVICIOS) | C15: SUELDO (MES) | D15: DEDICACION (MES) | E15: N° MESES | F15: Vr PARCIAL
B16: Asesor Seguridad industrial salud ocupacional | C16: 3000000 | D16: 0.3 | E16: 4 | F16: =+C16*D16*E16 -> 3600000
B17: Asesor en trabajo social | C17: 3000000 | D17: 0.3 | E17: =+$C$4 -> 4.5 | F17: =+C17*D17*E17 -> 4050000
B18: Asesor ambiental | C18: 3000000 | D18: 0.3 | E18: 4 | F18: =+C18*D18*E18 -> 3600000
B19: Sub Total - Personal Profesional | F19: =SUM(F16:F18) -> 11250000
B20: Factor Multiplicador | F20: 1.79
B22: Total Personal de Planilla | F22: =+F19*F20 -> 20137500
B25: COSTOS DIRECTOS | F25: =+F13+F22 -> 106325000
B26: IVA (19%) | F26: =+F25*0.19 -> 20201750
B27: PRESUPUESTO TOTAL DE INTERVENTORIA | E27: =+F27/Presupuesto_OFICIAL!G87 -> 0.13484594 | F27: =+F25+F26 -> 126526750 | H27: Ciento Veintiséis Millones Quinientos veintiséis mil setecientos cincuenta Pesos MCTE
B34: Proyectó:
B35: ARLEX DAVID CASTRILLON LONDOÑO | E35: ANA MARIA ARCILA RAMIREZ
B36: Ingeniero Civil | E36: Directora Area Técnica
B37: Aguas y Aseo de Risaralda S.A. E.S.P. | E37: Aguas y Aseo de Risaralda S.A. E.S.P.

Sheet F.M. INTERV
B2: FACTOR MULTIPLICADOR PARA PERSONAL PROFESIONAL, ADMINISTRATIVO Y TÉCNICA
B4: No. | C4: CONCEPTO | D4: FORMULA | E4: PORCENTAJE
B6: A | C6: VALOR BASE | D6: SALARIO | E6: 1
B8: B | C8: PRESTACIONES SOCIALES | E8: =ROUND(SUM(E9:E22),4) -> 0.7084
B9: a | C9: Cesantías | D9: A/12 | E9: 0.0833
B10: b | C10: Intereses sobre Cesantías | D10: a*12% | E10: 0.01
B11: c | C11: Vacaciones | D11: (15/360*100) | E11: 0.0472
B12: d | C12: Prima Anual | D12: A/12 | E12: 0.0833
B13: e | C13: Dotación | D13: %A | E13: 0.06
B14: f | C14: Aporte Pensión | D14: %A | E14: 0.12
B15: g | C15: Aporte Salud | D15: %A | E15: 0.085
B16: h | C16: Aporte Riesgos Profesionales | D16: %A | E16: 0.0696
B17: i | C17: Aportes FIC | D17: %A | E17: 0
B18: j | C18: Comfamiliar | D18: %A | E18: 0.04
B19: k | C19: ICBF | D19: %A | E19: 0.02
B20: l | C20: SENA | D20: %A | E20: 0.03
... B22: n | C22: Examenes medicos de ingreso y egreso | D22: %A | E22: 0.01
B24: C | C24: SUMA PARCIAL | D24: A + B | E24: =+E6+E8 -> 1.7084
B26: D | C26: COSTOS INDIRECTOS | E26: =ROUND(SUM(E27:E34),4) -> 0.1528
C27: Perfeccionamiento del Contrato | D27: %A | E27: 0.032
C28: Estampilla Prohospital | D28: %A | E28: 0.02
C29: Estampilla Prodesarrollo | D29: %A | E29: 0.02
C30: Estampilla Proadulto mayor | D30: %A | E30: 0.03
C31: Estampilla Prodeporte | D31: %A | E31: 0.025
C32: Estampilla Prouniversidad | D32: %A | E32: 0.01
C33: Industria y Comercio | D33: %A | E33: 0.008
C34: Polizas | D34: %A | E34: 0.0078
B36: E | C36: COSTOS DIRECTOS | E36: =SUM(E37:E44) -> 0.41
C37: Arriendo Oficina y Servicios Públicos | D37: %A | E37: 0.1
C38: Papeleria Oficina Consultor | D38: %A | E38: 0.02
C39: Personal Administrativo No Facturable | D39: %A | E39: 0.025
C40: Asesoria Legal, Tributaria y Médica | D40: %A | E40: 0.035
C41: Gastos de Representación | D41: %A | E41: 0.01
C42: Gastos e Intereses Bancarios por Financiación | D42: %A | E42: 0.05
C43: Equipos y Mantenimiento de Oficina | D43: %A | E43: 0.02
C44: Gastos de Transporte y Vehículo | D44: %A | E44: 0.15
B47: F | C47: SUBTOTAL | D47: C + D + E | E47: =+E24+E26+E36 -> 2.2712
B49: G | C49: HONORARIOS (UTILIDAD DEL CONSULTOR) | D49: E * 10% | E49: =ROUND(10%*E47,4) -> 0.2271
B51: H | C51: TOTAL FACTOR MULTIPLICADOR | D51: E + F | E51: =+ROUND(E47+E49,2) -> 2.5

Sheet MO
B2: Análisis Mano de Obra Gobernación de Risaralda
B5: ANÁLISIS MANO DE OBRA
B6: Salario Mínimo Mensual Legal Vigente año 2021 | C6: 908526
B7: Subsidio de Transporte (salario <= 2 SMMLV) | C7: 106454
B9: FACTOR PRESTACIONAL
B10: DESCRIPCIÓN | C10: SALARIO <= 2 SMMLV | D10: SALARIO > 2 SMMLV | E10: SALARIO <= 2 SMMLV
C11: PERSONAL TÉCNICO, OPERATIVO Riesgo Clase V | D11: PERSONAL TÉCNICO, OPERATIVO Riesgo Clase V | E11: PERSONAL TÉCNICO, OPERATIVO Riesgo Clase II
B12: PRESTACIONES SOCIALES
B13: Cesantías | C13: 0.0833 | D13: 0.0833 | E13: 0.0833
B14: Intereses cesantías | C14: 0.01 | D14: 0.01 | E14: 0.01
B15: Vacaciones | C15: 0.0472 | D15: 0.0472 | E15: 0.0472
B16: Prima | C16: 0.0833 | D16: 0.0833 | E16: 0.0833
B17: Dotación | C17: 0.08 | D17: 0.06 | E17: 0.06
B18: SEGURIDAD SOCIAL
B19: Aportes régimen general de pensiones (I.V.M) | C19: 0.12 | D19: 0.12 | E19: 0.12
B20: Aporte riesgos profesionales A.R.P. | C20: 0.0696 | D20: 0.0696 | E20: 0.01
B21: Aportes régimen contributivo de salud
B22: Certificado trabajo seguro en alturas | C22: 0.01 | D22: 0.01 | E22: 0.01
B23: OTROS APORTES
B24: Aportes FIC | C24: 0.025 | D24: 0.025 | E24: 0.025
B25: I.C.B.F.
B26: Comfamiliar | C26: 0.04 | D26: 0.04 | E26: 0.04
B27: Subsidio de transporte | C27: =C7/C6 -> 0.11717221
B28: Dias festivos (18 al año) | C28: 0.05 | D28: 0.05 | E28: 0.05
B29: Examenes medicos de ingreso y egreso | C29: 0.01 | D29: 0.01 | E29: 0.01
C30: =SUM(C12:C29) -> 0.74557221 | D30: =SUM(D12:D29) -> 0.6084 | E30: =SUM(E12:E29) -> 0.5488
B32: NOMBRE | C32: SALARIO MENSUAL | D32: PRESTACIONES Y APORTES | E32: SALARIO + PRESTACIONES | F32: SALARIO DIA
B33: Ayudante (jornal + prestaciones) | C33: =C6+C7 -> 1014980 | D33: =ROUND((C33*$C$30),0) -> 756741 | E33: =C33+D33 -> 1771721 | F33: =ROUND((E33/30),0) -> 59057
B34: Ayudante práctico (jornal + prestaciones) | C34: =C33*1.4 -> 1420972 | D34: =ROUND((C34*$C$30),0) -> 1059437 | E34: =C34+D34 -> 2480409 | F34: =ROUND((E34/30),0) -> 82680
B35: Oficial (jornal + prestaciones) | C35: =C33*1.8 -> 1826964 | D35: =ROUND((C35*$C$30),0) -> 1362134 | E35: =C35+D35 -> 3189098 | F35: =ROUND((E35/30),0) -> 106303
B36: Cadenero 1 | C36: =C33*1.5 -> 1522470 | D36: =ROUND((C36*$C$30),0) -> 1135111 | E36: =C36+D36 -> 2657581 | F36: =ROUND((E36/30),0) -> 88586
B37: Cadenero 2 | C37: =C33 -> 1014980 | D37: =ROUND((C37*$C$30),0) -> 756741 | E37: =C37+D37 -> 1771721 | F37: =ROUND((E37/30),0) -> 59057
B38: Liniero cat 1 | C38: =C33*2.8 -> 2841944 | D38: =ROUND((C38*D30),0) -> 1729039 | E38: =C38+D38 -> 4570983 | F38: =ROUND((E38/30),0) -> 152366
B39: Liniero cat 2 | C39: =C33*1.8 -> 1826964 | D39: =ROUND((C39*$C$30),0) -> 1362134 | E39: =C39+D39 -> 3189098 | F39: =ROUND((E39/30),0) -> 106303
B40: Maestro de obra | C40: =C33*2.5 -> 2537450 | D40: =ROUND((C40*$C$30),0) -> 1891852 | E40: =C40+D40 -> 4429302 | F40: =ROUND((E40/30),0) -> 147643
B41: Minero | C41: =C33*2.5 -> 2537450 | D41: =ROUND((C41*$C$30),0) -> 1891852 | E41: =C41+D41 -> 4429302 | F41: =ROUND((E41/30),0) -> 147643
B42: Oficial eléctrico | C42: =C33*2 -> 2029960 | D42: =ROUND((C42*$C$30),0) -> 1513482 | E42: =C42+D42 -> 3543442 | F42: =ROUND((E42/30),0) -> 118115
B43: Oficial pintor | C43: =C33*1.6 -> 1623968 | D43: =ROUND((C43*$C$30),0) -> 1210785 | E43: =C43+D43 -> 2834753 | F43: =ROUND((E43/30),0) -> 94492
B44: Operador de maquinaria | C44: =C33*1.8 -> 1826964 | D44: =ROUND((C44*$C$30),0) -> 1362134 | E44: =C44+D44 -> 3189098 | F44: =ROUND((E44/30),0) -> 106303
B45: Soldador | C45: =C33*1.8 -> 1826964 | D45: =ROUND((C45*$C$30),0) -> 1362134 | E45: =C45+D45 -> 3189098 | F45: =ROUND((E45/30),0) -> 106303
...

Sheet BD
A2: Base de Datos Gobernación de Risaralda
A4: MANO DE OBRA
A5: CÓDIGO | B5: DESCRIPCIÓN | C5: UNIDAD | D5: CANTIDAD | E5: VALOR UNITARIO 2020
A6: MOB002 | B6: Oficial (jornal + prestaciones) | C6: Día | D6: 1 | E6: =MO!F35 -> 106303
A7: MOB003 | B7: Ayudante (jornal + prestaciones) | C7: Día | D7: 1 | E7: =MO!F33 -> 59057
A8: MOB004 | B8: Ayudante práctico (jornal + prestaciones) | C8: Día | D8: 1 | E8: =MO!F34 -> 82680
A9: MOB005 | B9: Cuadrilla A 1 Of + 4 Ay (jornal + prestaciones) | C9: Día | D9: 1 | E9: =MO!F51 -> 342531
A10: MOB006 | B10: Cuadrilla B 1 Min + 2 Ay (jornal + prestaciones) | C10: Día | D10: 1 | E10: =MO!F52 -> 313003
A11: MOB007 | B11: Oficial eléctrico (jornal + prestaciones) | C11: Día | D11: 1 | E11: =MO!F42 -> 118115
A12: MOB008 | B12: Cuadrilla S (1Sold.+1Ay práctico) (jornal + prestaciones) | C12: Día | D12: 1 | E12: =MO!F60 -> 188983
A13: MOB010 | B13: Comisión topografía (topógrafo + Cadenero 1 + 2 Cadeneros 2) | C13: Día | D13: 1 | E13: =MO!F53 -> 397158
A14: MOB011 | B14: Acarreo Horizontal | C14: % MO | D14: % | E14: 0
A15: MOB012 | B15: Profesional en salud ocupacional | C15: Mes | D15: 1 | E15: =+MO!E47 -> 4570983
A16: MOB013 | B16: Cuadrilla C 1 Of + 7 Ay (jornal + prestaciones) | C16: Día | D16: 1 | E16: =MO!F54 -> 519702
A17: MOB014 | B17: Cuadrilla D 2 Of + 4 Ay (jornal + prestaciones) | C17: Día | D17: 1 | E17: =MO!F55 -> 448834
A18: MOB015 | B18: Cuadrilla E 1 Of + 1 Ay (jornal + prestaciones) | C18: Día | D18: 1 | E18: =MO!F49 -> 165360
A19: MOB016 | B19: Cuadrilla F 6 Of + 4 Ay (jornal + prestaciones) | C19: Día | D19: 1 | E19: =MO!F56 -> 874046
A20: MOB017 | B20: Cuadrilla G 1 Of + 2 Ay (jornal + prestaciones) | C20: Día | D20: 1 | E20: =MO!F50 -> 224417
A21: MOB018 | B21: Cuadrilla H 4 Ay (jornal + prestaciones) | C21: Día | D21: 1 | E21: =MO!F57 -> 236228
A22: MOB019 | B22: Ayudante eléctrico (jornal + prestaciones) | C22: Día | D22: 1 | E22: =+MO!F48 -> 87066
A23: MOB020 | B23: Cuadrilla J (1 Of eléctrico+1Ay eléctrico) (jornal + prestaciones) | C23: Día | D23: 1 | E23: =MO!F58 -> 205181
A24: MOB021 | B24: Cuadrilla K (1Of eléctrico+2Ay eléctricos) (jornal + prestaciones) | C24: Día | D24: 1 | E24: =MO!F59 -> 292247
A25: MOB022 | B25: Cuadrilla L 2 Of + 8 Ay (jornal + prestaciones) | C25: Día | D25: 1 | E25: =MO!F61 -> 685062
A26: MATERIALES
A28: CÓDIGO | B28: DESCRIPCIÓN | C28: UNIDAD | D28: CANTIDAD | E28: VALOR UNITARIO 2020 | F28: VALOR UNITARIO 2019
E29: 0.07
A30: MAT,068 | B30: Cemento gris saco por 50 kilos, incluye cargue, descargue y transporte | C30: Sc | D30: 1 | E30: =+F30*(1+$E$29) -> 24610 | F30: 23000
A31: MAT,001 | B31: Accesorios CPVC 1/2" promedio | C31: %Tub | D31: - | E31: =+F31*(1+$E$29) -> 1605 | F31: 1500
A32: MAT,002 | B32: Accesorios para fijación de canal tipo metálico | C32: Un | D32: 1 | E32: =+F32*(1+$E$29) -> 7490 | F32: 7000
A33: MAT,003 | B33: Accesorios PVC agua lluvia (% tubería) | C33: %Tub | D33: - | E33: =+F33*(1+$E$29) -> 0 | F33: 0
A34: MAT,004 | B34: Accesorios PVC presión | C34: %Tub | D34: - | E34: =+F34*(1+$E$29) -> 1284 | F34: 1200
A35: MAT,540 | B35: Accesorios PVC sanitaria (% tubería) | C35: %Tub | D35: - | E35: =+F35*(1+$E$29) -> 0 | F35: 0
A36: MAT,005 | B36: Accesorios PVC sanitaria 2" promedio | C36: Un | D36: 1 | E36: =+F36*(1+$E$29) -> 5885 | F36: 5500
A37: MAT,006 | B37: Accesorios PVC sanitaria 3" promedio | C37: Un | D37: 1 | E37: =+F37*(1+$E$29) -> 11235 | F37: 10500
A38: MAT,007 | B38: Accesorios PVC sanitaria 4" promedio | C38: Un | D38: 1 | E38: =+F38*(1+$E$29) -> 16050 | F38: 15000
A39: MAT,008 | B39: Accesorios y empaques canal PVC promedio de: U y soporte | C39: Un | D39: 1 | E39: =+F39*(1+$E$29) -> 37450 | F39: 35000
A40: MAT,009 | B40: Acelerante de fraguado y resistencia para concretos y morteros. | C40: Kg | D40: 1 | E40: =+F40*(1+$E$29) -> 14487.8 | F40: 13540
A41: MAT,010 | B41: Acero de Fy = 37.000 psi d=1/4 puesto en obra | C41: Kg | D41: 1 | E41: =+F41*(1+$E$29) -> 3210 | F41: 3000
A42: MAT,011 | B42: Acero de Fy = 60.000 psi d>1/4 puesto en obra | C42: Kg | D42: 1 | E42: =+F42*(1+$E$29) -> 5182.5147 | F42: 4843.4717
A43: MAT,534 | B43: Acople flexible | C43: Un | D43: 1 | E43: =+F43*(1+$E$29) -> 23058.5 | F43: 21550
...

Sheet Cantidades
A2: CARRERA 10 ENTRE CALLES 8 Y 9
A4: ALCANTARILLADO
A5: INICIO | B5: FINAL | C5: NÚMERO DE CÁMARAS | D5: LONGITUD (m) | E5: DIAMETRO (") | F5: MATERIAL | G5: RASANTE INICIAL (msnm) | H5: RASANTE FINAL (msnm) | I5: EXCAVACIÓN (m3) | J5: BATEA INICIAL (msnm) | K5: BATEA FINAL (msnm) | L5: ANCHO DE VIA (m) | M5: NÚMERO DE DOMICILIARIAS | N5: NÚMERO DE SUMIDEROS | O5: OBSERVACIONES
A6: CM-146 | B6: CM-147 | C6: 2 | D6: 45.15 | E6: 16 | F6: PVC | G6: 1589.82 | H6: 1589.83 | I6: =D6*1*AVERAGE((G6-J6),(H6-K6)) -> 65.4675 | J6: 1588.42 | K6: 1588.33 | L6: 6.1 | M6: =ROUND(30/145*D6,0) -> 9 | N6: 2
A7: CM-147 | B7: CM-148 | C7: 1 | D7: 46.6 | E7: 16 | F7: PVC | G7: =+H6 -> 1589.83 | H7: 1589.58 | I7: =D7*1*AVERAGE((G7-J7),(H7-K7)) -> 135.14 | J7: 1587.27 | K7: 1586.34 | L7: 6.5 | M7: =ROUND(30/145*D7,0) -> 10 | N7: 2
A8: CM-121 | B8: CM-148 | C8: 1 | D8: 53.49 | E8: 16 | F8: PVC | G8: =+H7 -> 1589.58 | H8: 1590.42 | I8: =D8*1*AVERAGE((G8-J8),(H8-K8)) -> 117.94545 | J8: 1589.29 | K8: 1586.3 | L8: 7 | M8: =ROUND(30/145*D8,0) -> 11 | N8: 2
A10: ACUEDUCTO | P10: Acero
A11: INICIO | B11: FINAL | C11: LONGITUD (m) | D11: DIAMETRO (") | E11: MATERIAL | F11: NÚMERO DE ACOMETIDAS | G11: VALVULAS (un) | H11: CONEXIÓN TUBERÍA EXISTENTE (un) | I11: PROFUNDIDA DE EXCAVACIÓN (m) | J11: ANDENES (m2) | K11: SARDINEL (m) | L11: PAVIMENTOS (m2) | M11: CORTE (m) | P11: Cuerpos de camara #4 | Q11: Remate exsquinas | R11: Sumideros
A12: N1 | B12: N2 | C12: =+D6+D7+D8 -> 145.24 | D12: 3 | E12: PVC | F12: =+M6+M7+M8 -> 30 | G12: 2 | H12: 2 | I12: 1 | J12: =2*C12*1.2 -> 348.576 | K12: =+C12*2 -> 290.48 | L12: =+(D6*L6)+(D7*L7)+(D8*L8) -> 952.745 | M12: =6*2 -> 12 | P12: =20*1.2*SUM(C6:C8) -> 96 | Q12: =2*7*26 -> 364 | R12: =3.5*3.5*26*SUM(N6:N8) -> 1911 | S12: =+P12+Q12+R12 -> 2371
