Workbook

Sheet Hoja adicional
A1: EXPERIENCIA EN TERRITORIO
A2: INVITACIÓN PÚBLICA IP-001-2020-ICBFSEN
A3: BANCO NACIONAL DE OFERENTES
A4: DEPARTAMENTO DE LA CERTIFICACIÓN
C5: 1 | E5: 2 | G5: 3 | I5: 4 | K5: 5 | M5: 6 | O5: 7 | Q5: 8
A6: N° | B6: Nombre Proponente | C6: Departamento | D6: Municipio | E6: Departamento | F6: Municipio | G6: Departamento | H6: Municipio | I6: Departamento | J6: Municipio | K6: Departamento | L6: Municipio | M6: Departamento | N6: Municipio | O6: Departamento | P6: Municipio | Q6: Departamento | R6: Municipio
A7: 15 | B7: FUNDACIÓN SOCIAL Y CULTURAL AGROAMBIENTE | C7: Bolívar | D7: Cartagena | E7: Bolívar | F7: Magangué | G7: Bolívar | H7: Turbaco Cartagena | I7: Atlántico | J7: Barranquilla | K7: NA | L7: NA | M7: NA | N7: NA | O7: NA | P7: NA | Q7: NA | R7: NA
A8: 20 | B8: FUNDACIÓN OXIGENO | C8: Chocó | D8: El Canton del San Pablo, Certeguí, Tadó, Unión Panamericana | E8: Chocó | F8: Quibdó | G8: Chocó | H8: Riosucio | I8: Chocó | J8: Acandí | K8: Chocó | L8: Tadó | M8: NA | O8: NA | Q8: NA
A9: 25 | B9: CORPORACIÓN PARA EL DESARROLLO SOCIAL, FAMILIAR, COMUNITARIO E INSTITUCIONAL | C9: Chocó | D9: NA | E9: Chocó | F9: Alto Baudó | G9: Chocó | H9: Bojayá El Carmén del Daríen | I9: Chocó | J9: NA | K9: Chocó | L9: NA | M9: Chocó | N9: NA | O9: Chocó | P9: NA | Q9: Chocó | R9: NA
A10: 26 | B10: FUNDACIÓN PARA LA EDUCACIÓN Y DESARROLLO SOCIAL | C10: La Guajira | D10: Fonseca | E10: La Guajira | F10: No contiene | G10: La Guajira | H10: Riohacha | I10: Chocó | J10: Riohacha | K10: La Guajira | L10: Maicao | M10: La Guajira | N10: Riohacha | O10: La Guajira | P10: Riohacha | Q10: Cesar | R10: Aguachica
A11: 29 | B11: CORPORACIÓN PARA EL FOMENTO SOCIAL DE COLOMBIA | C11: Meta | D11: Puerto Gaitán | E11: Meta | F11: Villavicencio | G11: Meta | H11: Puerto Gaitán | I11: Meta | J11: Puerto Gaitán | K11: Meta | L11: Puerto Gaitán | M11: Meta | N11: Puerto Gaitán | O11: NA | Q11: NA
A12: 40 | B12: ASOCIACIÓN AGRO IMPULSO DEL CHOCO | C12: Chocó | D12: NA | E12: Chocó | F12: NA | G12: Chocó | H12: NA | I12: Chocó | J12: NA | K12: Chocó | L12: NA | M12: Chocó | N12: NA | O12: NA | Q12: NA
A13: 45 | B13: FUNDACIÓN COLOMBIANA CON SEGURIDAD ALIMENTARIA Y NUTRICIONAL | C13: Chocó | D13: Medio Baudó | E13: Chocó | F13: Alto Baudó | G13: Chocó | H13: Acandí | I13: Chocó | J13: NA | K13: Chocó | L13: NA | M13: Chocó | N13: Quibdó | O13: NA | Q13: NA
A14: 46 | B14: ASOCIACIÓN DE JOVENES PROPONENTES DE CAMBIO PARA EL CHOCO | C14: Chocó | D14: Acandí | E14: Chocó | F14: Alto Baudó | G14: Chocó | H14: Alto Baudó | I14: NA | J14: NA | K14: NA | L14: NA | M14: NA | O14: NA | Q14: NA
A15: 48 | B15: FUNDACIÓN AMIGOS DE LA COMUNIDAD DE COLOMBIA | C15: Nariño | D15: La Union | E15: Nariño | F15: La Union | G15: Nariño | H15: La Union | I15: Nariño | J15: La Union | K15: Nariño | L15: La Union | M15: Nariño | N15: La Union | O15: Nariño | P15: La Union | Q15: NA
A16: 49 | B16: FUNDACIÓN CONSTRUYENDO UN NUEVO FUTURO | C16: NA | G16: NA | I16: Chocó | K16: Chocó | M16: Chocó | O16: Chocó | Q16: NA
A17: 53 | B17: CORPORACIÓN MUNDO AZUL | C17: Chocó | D17: Subregión alto atrato: Lloro, Atrato | E17: Chocó | F17: Riosucio | G17: Chocó | H17: Quibdó | I17: Chocó | J17: Atrato-Yuto | K17: Chocó | L17: Bajo Baudo | M17: Chocó | N17: Litoral de San Juan | O17: Chocó | P17: Medio San Juan | Q17: NA
A18: 58 | B18: FUNDACIÓN HOGAR JUVENIL | C18: Bogotá D.C. | E18: Bolívar | G18: Bolívar | I18: Bolívar | K18: Bolívar | M18: Bolívar | O18: NA | Q18: NA
A19: 61 | B19: FUNDACIÓN CASA DEL NIÑO IPS | C19: Bolívar | D19: No contiene | E19: Bolívar | F19: No contiene | G19: Bolívar | H19: No contiene | I19: Bolívar | J19: No contiene | K19: Bolívar | L19: No contiene | M19: Bolívar | N19: No contiene | O19: Bolívar | P19: San Juan Nepomuceno | Q19: Bolívar | R19: San Juan Nepomuceno
A20: 62 | B20: FUNDACIÓN MARAMA | C20: Valle del Cauca | D20: No contiene | E20: Valle del Cauca | F20: No contiene | G20: Valle del Cauca | H20: No contiene | I20: Valle del Cauca | J20: No contiene | K20: Valle del Cauca | L20: No contiene | M20: Valle del Cauca | N20: No contiene | O20: Valle del Cauca | P20: No contiene | Q20: Valle del Cauca | R20: No contiene
A21: 64 | B21: FUNDACION AL SERVICIO REGIONAL-FUNDASER | C21: Córdoba | D21: No contiene | E21: Córdoba | F21: No contiene | G21: Córdoba | H21: No contiene | I21: Córdoba | J21: Chinú | K21: Sucre | L21: No contiene | M21: Sucre | N21: No contiene | O21: Sucre | P21: No contiene | Q21: NA
A22: 66 | B22: CORPOPIEDRALIPE | C22: Magdalena | D22: Plato, Sabanas de San Ángel, Ariguaní, Nueva Granada, Tenerife, Chivolo, El Piñón, Pivijay | E22: Magdalena | F22: El Banco | G22: Sucre | I22: Magdalena | J22: Aracataca | K22: Magdalena | M22: Sucre | O22: Sucre | Q22: Sucre | R22: Campo Alegre, Orejero, Bajo Grande, San Jose, La Palma, Las Trincheras, Las Clavellinas, Bajo Pureza, Santa Helena, Las Caracuchas, El Porvenir, El Palmar, Nuevo Mamon, Hato Nuevo, Arboleda, Córdoba, Santa Rosa, La Ventura, Naranjal, Nariño, San Luis
A23: 67 | B23: ASOCIACION INSTITUTO MIXTO JUAN JACOBO ROUSSEAU | C23: Córdoba | D23: Sahagún | E23: Córdoba | F23: Lorica | G23: Sucre | H23: Unión | I23: Córdoba | K23: Córdoba | M23: Córdoba | O23: NA | Q23: NA
A24: 68 | B24: FUNDACION PARA EL FORMENTO, DESARROLLO Y POTENCIALIZACION DE PROYECTOS INNOVADORES DEL PACIFICO COLOMBIANO - FUNDACION CHONTO CIMARRON | C24: Chocó | D24: Certegui | E24: NA | F24: NA | G24: NA | H24: NA | I24: NA | J24: NA | K24: NA | L24: NA | M24: NA | N24: NA | O24: NA | P24: NA | Q24: NA
A25: 74 | B25: FUNMANUS | C25: La Guajira | D25: Rioacha | E25: La Guajira | G25: La Guajira | I25: La Guajira | K25: Cesar | M25: Cesar | N25: Aguachica | O25: La Guajira | Q25: NA
A26: 76 | B26: FUNAPROM | C26: Nariño | D26: La Union | E26: NA | G26: NA | H26: NA | I26: NA | J26: NA | K26: NA | L26: NA | M26: NA | N26: NA | O26: NA | P26: NA | Q26: NA
A27: 82 | B27: FUSENPRO | C27: Putumayo | D27: Mocoa | E27: Nariño | F27: Pasto | G27: Putumayo | H27: Mocoa | I27: Nariño | J27: Pasto | K27: Putumayo | L27: Mocoa | M27: Putumayo | N27: Mocoa | O27: NA | Q27: NA
A28: 87 | B28: CORPORACION DIGNIFICAR | C28: Antioquía | D28: ARBOLETES | E28: CHOCÓ | F28: QUIBDÓ | G28: Antioquía | H28: No contiene | I28: Antioquía | J28: CAICEDO | K28: Antioquía | L28: BELLO | M28: Antioquía | N28: NECOCLÍ, ARBOLETES, TURBO, SAN JUAN DE URABÁ Y SAN PEDRO DE URBA | O28: NA | P28: NA | Q28: Antioquía | R28: ARBOLETES
A29: 97 | B29: FUNDACION UNIDAD SOCIAL BARRIO ADENTRO | C29: Magdalena | D29: Cienaga y Fundación | E29: Magdalena | F29: Zona Bananera | G29: Magdalena | H29: Fundación | I29: Magdalena | J29: Zona Bananera | K29: Magdalena | L29: Zona Bananera | M29: Córdoba | N29: Córdoba | O29: Córdoba | P29: Córdoba | Q29: Córdoba | R29: No contiene
A30: 106 | B30: FAVANSO | C30: Chocó | D30: No contiene | E30: Chocó | F30: No contiene | G30: Chocó | H30: Novita | I30: Chocó | J30: Bagadó, Tadó, Unión Panamericana. | K30: Chocó | L30: Nuquí | M30: Chocó | N30: Nuquí | O30: Chocó | P30: Nuquí | Q30: NA
A31: 108 | B31: CORPORACION ABRAZAR | C31: Chocó | D31: Medio Baudó | E31: Antioquia | F31: Angostura, Abriaqui, Anzá, Armenia. Santa Bárbara y San Pedro de Urabá | G31: Antioquía | H31: Amagá, Armenia, Dabeida, Mutatá, Necoclí, Salgar. | I31: Antioquía | J31: No contiene | K31: Antioquía | L31: Angostura, Briceño, Cáceres, Campamento, Donmatías, Murindó, Mutatá, Necoclí, Toledo, Turbo. | M31: Antioquía | N31: Amagá, Angostura, Armenia, Briceño, Cáceres, Campamento, San Juan de Urabá, Toledo. | O31: NA | Q31: NA
A32: 109 | B32: ASOCIACION PROFESIONALES DE COLOMBIA | C32: Bogotá D.C. | E32: Bogotá D.C. | G32: Bogotá D.C. | I32: Bogotá D.C. | K32: Cundinamarca | L32: Facatativá, Fusagasugá, San Juan de Rioseco, Ubaté, Villeta | M32: Bogotá D.C. | O32: Bogotá D.C. | Q32: Cundinamarca | R32: Facatativá, Fusagasugá, Villeta
A33: 112 | B33: FUNDAPADUA | C33: Valle del Cauca | E33: Valle del Cauca | G33: Valle del Cauca | I33: Valle del Cauca | K33: Valle del Cauca | M33: NA | O33: NA | Q33: NA
A34: 116 | B34: ASOAVANZAR | C34: Chocó | D34: Corregimientos de Paimadó y Villa Conto | E34: Chocó | F34: Cértegui | G34: Chocó | H34: Unguia | I34: Chocó | J34: Juradó | K34: Chocó | L34: Alto Baudo | M34: Chocó | N34: Alto Baudo | O34: NA | Q34: NA
A35: 119 | B35: FUNDACIÓN IMIX | C35: Tolima | E35: Tolima | G35: Tolima | I35: Tolima | K35: Tolima | M35: NA | O35: NA | Q35: NA
A36: 124 | B36: FUNDACIÓN SOCIAL DON BOSCO | C36: Cesar | D36: NA | E36: Cesar | F36: NA | G36: Cesar | H36: NA | I36: Cesar | J36: NA | K36: Cesar | L36: NA | M36: Cesar | N36: NA | O36: Cesar | P36: NA | Q36: Cesar | R36: NA
A37: 125 | B37: FUNDACIÓN PARA EL DESARROLLO DE LA CUENCA DEL PACIFICO | C37: Valle del Cauca | D37: Cali | E37: Nariño | F37: Mosquera, Tumaco. | G37: NA | I37: NA | K37: NA | M37: NA | O37: NA | Q37: NA
A38: 126 | B38: FUNDACIÓN COLOMBO ALEMANA VOLVER A SONREIR | C38: Santander | D38: NA | E38: Santander | F38: NA | G38: Santander | H38: NA | I38: Santander | J38: NA | K38: Santander | L38: NA | M38: Santander | N38: NA | O38: Santander | P38: NA | Q38: NA
A39: 127 | B39: BAYLOR COLLEGE OF MEDICINE CHILDRENS FOUNDATION COLOMBIA | C39: La Guajira | D39: Manaure | E39: La Guajira | F39: Manaure | G39: La Guajira | H39: Manaure | I39: La Guajira | J39: Manaure | K39: La Guajira | L39: Riohacha | M39: La Guajira | N39: Manaure | O39: NA | Q39: NA
A40: 130 | B40: ASOCIACIÓN JUVENIL VISIÓN FUTURA | C40: Bolívar | E40: Bolívar | G40: Bolívar | I40: Bolívar | K40: Bolívar | M40: Bolívar | O40: Bolívar | Q40: SUCRE
A41: 131 | B41: FUNDACIÓN PARA EL DESARROLLO DE LA POBLACIÓN CON NECESIDADES EDUCATIVAS ESPECIALES DEL DEPARTAMENTO DE SUCRE - TALENTOS | C41: Sucre | D41: Sincelejo | E41: Sucre | G41: Sucre | I41: Sucre | K41: Sucre | M41: Sucre | N41: Sincelejo | O41: Sucre | Q41: Sucre | R41: Sincelejo
A42: 132 | B42: FUNDACIÓN APORTA TU GRANITO IPS | C42: La Guajira | E42: La Guajira | G42: La Guajira | I42: La Guajira | K42: La Guajira | M42: La Guajira | O42: La Guajira | Q42: La Guajira
A43: 138 | B43: CORPORACIÓN EDUCATIVA COLEGIO GRAN COLOMBIA - COLGRACOL | C43: Bolívar | D43: No contiene | E43: Bolívar | F43: No contiene | G43: Córdoba | H43: No contiene | I43: Bolívar | J43: No contiene | K43: Bolívar | L43: No contiene | M43: Bolívar | N43: No contiene | O43: Bolívar | P43: No contiene | Q43: Bolívar | R43: No contiene
A44: 139 | B44: FUNDACION AMOR Y VIDA POR EL CHOCO - FAV | C44: Chocó | D44: No contiene | E44: Chocó | F44: No contiene | G44: Chocó | H44: No contiene | I44: Chocó | J44: No contiene | K44: Chocó | L44: No contiene | M44: Chocó | N44: No contiene | O44: Chocó | P44: No contiene | Q44: NA
A45: 143 | B45: ASOCIACION UNIDOS POR LA INFANCIA - ASUINFANCIA | C45: Córdoba | D45: Ayapel | E45: Chocó | F45: Bojayá, Medio Atrato, Quibdó, Lloró | G45: Antioquía | H45: Medellín | I45: Antioquía | J45: San Francisco, Sopetrán, Uramita | K45: Antioquía | L45: Dabeiba, Frontino, Liborina, Uramita, San Francisco, Vegachi. | M45: Antioquía | N45: No contiene | O45: Antioquía | P45: No contiene | Q45: Antioquía | R45: No contiene
A46: 146 | B46: CORPORACION PARA LA INVESTIGACION Y DESARROLLO DE LA DEMOCRACIA – CIDEMOS | C46: Boyacá | D46: no contiene | E46: Boyacá | F46: Puerto Boyacá | G46: Arauca | H46: Arauquita, Sarabena, Tame, Puerto Rondón, Cravo Norte, Fortul, Arauca. | I46: Boyacá | J46: Guateque, Güican, Pesca, Arcabuco, Duitama, Soatá, Sogamoso, Tota, Paipa, Aquitania, Santana, El cocuy, Boavita, Ganchativá, Moniquirá. | K46: Arauca | L46: Arauca | M46: Arauca | N46: Arauquita, Sarabena, Tame, Puerto Rondón, Cravo Norte, Fortul, Arauca. | O46: Arauca | P46: Arauca | Q46: Arauca | R46: No contiene
A47: 147 | B47: Asociación Megasalud - ASOMEGASALUD | C47: Chocó | D47: No contiene | E47: Chocó | F47: Quibdó, Riosucio | G47: Chocó | H47: No contiene | I47: Chocó | J47: No especifica | K47: Chocó | L47: No contiene | M47: Chocó | N47: Carmen de Atrato, Atrato, Quibdó | O47: Chocó | P47: Alto Baudó, Bagadó, Carmen de Atrato, Atrato medio, Quibdó | Q47: NA
A48: 151 | B48: Asociación Campo Verde de Colombia - ASOCAVERDE | C48: Chocó | D48: No contiene | E48: Chocó | F48: Alto Baudó | G48: NA | H48: No se valido | I48: Chocó | J48: Río Quito | K48: Chocó | L48: Alto Baudó | M48: NA | O48: NA | Q48: NA
A49: 152 | B49: CENTRO DE ATENCION PARA EL DESARROLLO COMUNITARIO - CEADESCOM | C49: La Guajira | D49: No contiene | E49: La Guajira | F49: No contiene | G49: La Guajira | H49: No contiene | I49: La Guajira | J49: No contiene | K49: La Guajira | L49: No contiene | M49: La Guajira | N49: No contiene | O49: La Guajira | P49: No contiene | Q49: NA
A50: 153 | B50: ASOCIACIÓN DE MADRES TRABAJADORAS - ASOMADORAS | C50: La Guajira | D50: No contiene | E50: La Guajira | F50: No contiene | G50: La Guajira | H50: No contiene | I50: La Guajira | J50: No contiene | K50: La Guajira | L50: No contiene | M50: La Guajira | N50: No contiene | O50: La Guajira | P50: No contiene | Q50: NA
A51: 156 | B51: ASOCIACIÓN DE PROFESIONALES EN PROGRAMAS DE PROMOCIÓN Y PREVENCIÓN PARA LA SALUD, LAEDUCACIÓN, LA FAMILIA Y LA COMUNIDAD “APSEFACOM” | C51: Cesar | D51: Chimichagua Aguachica | E51: Cesar | F51: Chimichagua | G51: Cesar | H51: Chimichagua Curumaní | I51: Cesar | J51: Valledupar La Paz Becerril Agustín Codazzi | K51: Cesar | M51: Cesar | O51: NA | Q51: NA
A52: 157 | B52: CORPORACIÓN SOCIAL Y EDUCATIVA FORMADORES SIGLO XXI | C52: Norte de Santander | E52: Norte de Santander | G52: Norte de Santander | I52: Norte de Santander | J52: Cúcuta | K52: Norte de Santander | M52: Norte de Santander | O52: Norte de Santander | Q52: NA
A53: 165 | B53: IGLESIA CENTRO CRISTIANO | C53: Norte de Santander | E53: Norte de Santander | G53: Norte de Santander | I53: Norte de Santander | K53: Norte de Santander | M53: NA | N53: NA | O53: Norte de Santander | Q53: Vichada | R53: PUERTO CARREÑO
A54: 169 | B54: FUNDACION SOLIDARIDAD POR COLOMBIA | C54: Córdoba | E54: Córdoba | G54: Córdoba | I54: Antioquía | K54: NA | M54: NA | O54: NA | Q54: NA
A55: 174 | B55: FUNDACIÓN AMIGOS POR LA INFANCIA | C55: La Guajira | E55: La Guajira | G55: La Guajira | H55: La Guajira | I55: La Guajira | J55: La Guajira | K55: La Guajira | L55: La Guajira | M55: La Guajira | N55: La Guajira | O55: La Guajira | P55: La Guajira | Q55: La Guajira
A56: 180 | B56: ASOCIACIÓN MUJER Y GENERO | C56: Nariño | D56: Nariño | E56: Nariño | F56: Nariño | G56: Nariño | H56: Nariño | I56: Nariño | J56: Nariño | K56: Nariño | L56: Nariño | M56: Nariño | N56: Nariño | O56: Nariño | P56: Nariño | Q56: NA
A57: 181 | B57: CORPORACIÓN GRUPO LUNA | C57: Meta | D57: Villavicencio | E57: Meta | G57: Meta | H57: Villavicencio | I57: Cundinamarca | J57: Guadua, La Peña, La Vega, Nimaima, Nocaima, Puerto Salgar, Quebradanegra, San Francisco, Sasaima, Útica, Vergara, Villeta | K57: Córdoba | L57: Tierraalta, Ayapel, Montelibano, Puerto Libertador | M57: Guanía | N57: Barrancominas | O57: NA | Q57: NA
A58: 182 | B58: FUNDACIÓN CAMINOS DEL FUTURO - FUNDECAF | C58: Nariño | D58: Tumaco | E58: Nariño | F58: Tumaco | G58: NARIÑO | H58: Tumaco | I58: NA | K58: NA | M58: NA | O58: NA | Q58: NA
A59: 183 | B59: FUNDACIÓN FLORECER DE LA SABANA - FUNFLOSAB | C59: Sucre | E59: Sucre | G59: Sucre | H59: Sincelejo | I59: Sucre | J59: Sincelejo | K59: Sucre | L59: Sincelejo | M59: Sucre | N59: Sincelejo | O59: Sucre | Q59: NA
A60: 188 | B60: COOPERATIVA MULTIACTIVA COOASOBIEN | C60: RISARALDA | D60: Santa Rosa de Cabal | E60: Caldas | F60: Manizales | G60: Caldas | H60: Chinchiná, Manizales, Belancázar, VillaMaria | I60: Risaralda | J60: Dos quebradas | K60: Caldas | L60: Manizales, Neira, Villamaria | M60: Caldas | N60: Manizales | O60: NA | Q60: NA
A61: 192 | B61: ASOCIACION PERENNE | C61: Nariño | E61: Nariño | G61: Nariño | I61: Nariño | K61: Nariño | M61: NA | O61: NA | Q61: NA
A62: 196 | B62: FUNDACIÓN POR UNA COLOMBIA DIGNA FUNCODIG | C62: Bolívar | E62: Bolivar | G62: Magdalena | I62: Magdalena | K62: Bolívar | M62: NA | O62: NA | Q62: NA
A63: 197 | B63: ASOCIACIÓN MUNDO HERMANOS ONG | C63: Risaralda | E63: Caldas | F63: Caldas | G63: Caldas | H63: Caldas | I63: Caldas | J63: Caldas | K63: Caldas | L63: Caldas | M63: Caldas | N63: Caldas | O63: Caldas | P63: Caldas | Q63: Caldas
A64: 203 | B64: FUNDACION PARA EL FOMENTO DESARROLLO Y BIENESTAR DE LA COMUNIDAD FUNDESTAR | C64: NA | E64: Santander | G64: Santander | I64: Santander | K64: Santander | M64: Santander | O64: Santander | Q64: NA | R64: SANTANDER (Bucaramanga) GUAJIRA (Riohacha)
A65: 204 | B65: CAMARA JUNIOR DE COLOMBIA CAPITULO WAYMA | C65: La Guajira | E65: La Guajira | G65: La Guajira | I65: La Guajira | K65: NA | M65: NA | O65: NA | Q65: NA
A66: 210 | B66: FUNDACION DE PROFESIONALES AL SERVICIO INTEGRAL DE LA COMUNIDAD PROSERVCO | C66: Nariño | D66: No contiene | E66: Nariño | F66: Pasto | G66: Nariño | H66: Pasto | I66: Nariño | J66: No contiene | K66: Nariño | L66: Pasto | M66: NA | O66: NA | Q66: NA
A67: 212 | B67: HOGAR JUVENIL CAMPESINO DE SUCRE | C67: Cauca | D67: No contiene | E67: Cauca | F67: No contiene | G67: Cauca | H67: Sucre | I67: Cauca | J67: No contiene | K67: Cauca | L67: No contiene | M67: Cauca | N67: No contiene | O67: Cauca | P67: No contiene | Q67: NA
A68: 213 | B68: CORPORACION PROALIMENTAR SALUD Y VIDA | C68: Cesar | E68: Cesar | G68: Cesar | I68: Cesar | K68: Cesar | M68: Cesar | O68: NA | Q68: NA | R68: CESAR (Aguachica, San Martín, Tamalameque, Valledupar)
A69: 214 | B69: ASOCIACION DE PADRES DE FAMILIA HOGAR INFANTIL VILLA LOLA | C69: Nariño | D69: Tumaco | E69: Nariño | F69: Francisco Pizarro | G69: Nariño | H69: Francisco Pizarro | I69: Nariño | J69: Tumaco | K69: NA | M69: NA | O69: NA | Q69: NA
A70: 215 | B70: ASOCIACIÓN DE VOLUNTADES PARA EL SERVICIO SOCIAL AVOSS | C70: Huila | D70: Salado Blanco, Pitalito. | E70: Huila | F70: Tarqui | G70: Huila | H70: La Plata, Tesalia. | I70: Huila | J70: Salado Blanco | K70: Huila | L70: Garzón, Oporapa, Paicol, Neiva, Palestina, Pitalito, Acevedo, Gigante, La Plata, Palermo, Tello Huila | M70: Huila | N70: Palermo, Villavieja, Algeciras, Campoalegre, Gigante, Neiva. | O70: NA | Q70: NA
A71: 216 | B71: FUNDACION ONG LA RED | C71: Valle del Cauca | D71: No contiene | E71: Valle del Cauca | F71: No contiene | G71: Valle del Cauca | H71: No contiene | I71: Valle del Cauca | J71: No contiene | K71: Valle del Cauca | L71: No contiene | M71: Valle del Cauca | N71: No contiene | O71: Valle del Cauca | P71: No contiene | Q71: Valle del Cauca | R71: No contiene
A72: 219 | B72: CORPORACIÓN PANGARO | C72: Chocó | E72: Chocó | G72: Chocó | H72: El Cantón Del San Pablo | I72: Chocó | K72: Chocó | M72: Chocó | O72: Chocó | P72: El Cantón Del San Pablo | Q72: NA
A73: 222 | B73: FUNDACION HIJOS DE BOLÍVAR | C73: Bolívar | E73: Bolívar | G73: Bolívar | I73: Bolívar | K73: Bolívar | M73: Bolívar | O73: Bolívar | P73: Turbana | Q73: NA
A74: 224 | B74: FUNDACION PARA EL DESARROLLO SOCIAL Y COMUNITARIO LA LUZ | C74: Sucre | E74: Amazonas | G74: Sucre | H74: Sucre | I74: Sucre | J74: Sucre | K74: Sucre | L74: Sucre | M74: Sucre | N74: Sucre | O74: Sucre | P74: Sucre | Q74: Sucre
A75: 228 | B75: FUNDACION INTEGRAL PARA EL DESARROLLO JSG | C75: Caquetá | D75: San Vicente del Caguan | E75: Caquetá | F75: San Vicente del Caguan | G75: Caquetá | H75: San Vicente del Caguan | I75: Caquetá | J75: San Vicente del Caguan | K75: Caquetá | L75: Florencia | M75: Caquetá | N75: San Vicente del Caguan | O75: NA | Q75: NA
A76: 230 | B76: FUNDACION PROMESA PAIS | C76: Sucre | D76: Sampués | E76: Sucre | F76: Sampués | G76: Sucre | H76: Sampués | I76: Sucre | J76: Sampués | K76: Sucre | L76: Sampués | M76: NA | O76: NA | Q76: NA
A77: 243 | B77: 243. ASOCIACION DE PADRES DE FAMILIA DE HOGARES COMUNITARIOS DE BIENESTAR PALMARITO DEPARTAMENTO DEL VICHADA | C77: Vichada | D77: No contiene | E77: Vichada | F77: No contiene | G77: Vichada | H77: No contiene | I77: Vichada | J77: No contiene | K77: Vichada | L77: No contiene | M77: Vichada | N77: No contiene | O77: Vichada | P77: No contiene | Q77: Vichada | R77: No contiene
A78: 244 | B78: 244. ASOCIACION TEJIENDO FUTURO WEINUUIN WAKUAIPA | C78: La Guajira | D78: NA | E78: La Guajira | F78: NA | G78: La Guajira | H78: NA | I78: La Guajira | J78: NA | K78: La Guajira | L78: NA | M78: La Guajira | N78: NA | O78: La Guajira | P78: NA | Q78: NA
A79: 246 | B79: IPSI WALE-KERU | C79: La Guajira | D79: NA | E79: La Guajira | F79: NA | G79: La Guajira | H79: NA | I79: La Guajira | J79: NA | K79: La Guajira | L79: NA | M79: La Guajira | N79: NA | O79: NA | Q79: NA
A80: 247 | B80: 247. COOPERATIVA UNIDA MULTIACTIVA DE NARIÑO-COOPUMNAR | C80: Nariño | D80: NA | E80: Nariño | F80: NA | G80: Nariño | H80: NA | I80: Nariño | J80: NA | K80: Nariño | L80: NA | M80: Nariño | N80: NA | O80: Nariño | P80: NA | Q80: Nariño | R80: NA
A81: 248 | B81: 248. FUNDACION POR UNA COMUNIDAD DIGNA-FUNPOCODIG | C81: Atlántico | D81: NA | E81: Atlántico | F81: NA | G81: Atlántico | H81: NA | I81: Atlántico | J81: NA | K81: Atlántico | L81: NA | M81: Atlántico | N81: NA | O81: Atlántico | P81: NA | Q81: NA
A82: 252 | B82: 252. FUNDACION DE DESARROLLO SOCIAL INTERGLOBAL-FUNDESOGLOBAL | C82: Córdoba | D82: NA | E82: Córdoba | F82: San Andrés de Sotavento, Tuchín, Momil y Purísima | G82: Córdoba | H82: San Andrés de Sotavento | I82: Sucre | J82: NA | K82: Sucre | L82: NA | M82: Córdoba | N82: NA | O82: NA | Q82: NA
A83: 253 | B83: 253. FUNDACION SOMOS FUTURO SOCIAL | C83: La Guajira | D83: Manaure | E83: La Guajira | F83: Manaure | G83: La Guajira | H83: Manaure | I83: La Guajira | J83: Manaure | K83: La Guajira | L83: Manaure | M83: La Guajira | N83: Manaure | O83: NA | Q83: NA
A84: 261 | B84: CORPORACION CONSTRUYAMOS FUTURO METETE EN EL CUENTO | C84: Tolima | D84: Ibagué | E84: Amazonas | F84: Amazonas | G84: Amazonas | H84: Amazonas | I84: Amazonas | J84: Amazonas | K84: Amazonas | L84: Amazonas | M84: Amazonas | N84: Amazonas | O84: Amazonas | P84: Amazonas | Q84: Amazonas | R84: Leticia, Puerto Nariño, Tarapaca, Pto Arica, La Pedrera
A85: 264 | B85: FUNDACION PROSANJUAN | C85: Sucre | D85: Sincelejo, Corozal, San Marcos, Sucre, Tolú | E85: La Guajira | F85: Barrancas | G85: La Guajira | H85: Riohacha | I85: La Guajira | J85: Riohacha | K85: La Guajira | L85: Manaure | M85: La Guajira | N85: Manaure | O85: La Guajira | P85: Uribia | Q85: La Guajira | R85: No Aplica
A86: 274 | B86: FUNDACION FUNDACOBA | C86: Valle del Cauca | D86: Candelaria, Cartago, Palmira, Pradera, Roldanillo (Toro), Ladera (Dagua), Tuluá, Sevilla. | E86: Valle del Cauca | F86: Buenaventura | G86: Valle del Cauca | H86: Cali, Buenaventura, Bugalagrande, Caicedonia, Calima, Candelaria, Dagua, Florida, Pradera, Restrepo, Tuluá, Yumbo | I86: Valle del Cauca | J86: Buenaventura | K86: Valle del Cauca | L86: Cali | M86: Valle del Cauca | N86: Buenaventura | O86: Valle del Cauca | P86: Buenaventura | Q86: NA
A87: 276 | B87: FUNDACION SOCIAL DE LA COSTA CARIBE | C87: Antioquía | D87: Necoclí | E87: Sucre | F87: San Marcos | G87: Sucre | H87: San Marcos | I87: Sucre | J87: San Marcos | K87: La Guajira | L87: Fonseca | M87: La Guajira | N87: Fonseca | O87: NA | Q87: NA
A88: 283 | B88: FUNDACION ICTUS REMANDO JUNTOS | C88: Nariño | D88: Buesaco | E88: Nariño | F88: Buesaco | G88: Nariño | H88: Pasto | I88: Nariño | J88: Pasto | K88: Nariño | L88: Pasto | M88: Nariño | N88: Pasto | O88: Nariño | P88: Pasto | Q88: NA
A89: 285 | B89: CORPORACION SOCIO ECONOMICA MANOS AL DESARROLLO | C89: Meta | D89: Meta | E89: Meta | F89: Meta | G89: Meta | H89: Meta | I89: Meta | K89: Guaviare | M89: Meta | N89: Meta | O89: Meta | P89: Meta | Q89: Meta
A90: 287 | B90: NU3 | C90: Bolívar | E90: Bolívar | G90: Bolívar | I90: Bolívar | K90: Bolívar | M90: Bolívar | O90: Bolívar | Q90: Bolívar
A91: 291 | B91: 291. FUNDACION FRATERNIDAD | C91: NA | D91: NA | E91: NA | G91: NA | I91: Putumayo | J91: Putumayo | K91: Putumayo | L91: Putumayo | M91: Putumayo | N91: Putumayo | O91: Putumayo | P91: Putumayo | Q91: Putumayo
A92: 292 | B92: 292. FUNDACION DESARROLLO SOCIAL FUNDESOCIAL | C92: NA | E92: NA | G92: NA | I92: Sucre | J92: Sucre | K92: Sucre | L92: Sucre | M92: Sucre | N92: Sucre | O92: Sucre | Q92: Córdoba
A93: 299 | B93: 299. FUNDACION UNIDAD Y DESARROLLO SOCIAL | C93: Nariño | D93: Pasto (Barrios: de las comunas 4,5 y 8) | E93: Nariño | F93: Pasto (Barrios: San Martin, Santa Clara, Potrerillo, Santa Fe) | G93: Nariño | H93: Cumbal (Corregimientos: Chiles, Mayasquer, San Martin de Miraflores) | I93: Nariño | J93: El Tablón de Gómez (Corregimientos: Las Mesas, la Cueva, Fátima, Pompeya) | K93: Nariño | L93: El Tablón de Gómez (Corregimientos: Las Mesas, la Cueva, Fátima, Pompeya) | M93: NA | O93: NA | Q93: NA
A94: 300 | B94: 300. CORPORACION FORJAR PARA EL FUTURO - CORFUTURO | C94: Meta | D94: San Carlos de Guaroa | E94: Meta | F94: - | G94: Meta | H94: San Juanito, Mapiripán | I94: Guaviare | J94: San José del Guaviare, El Retorno, | K94: Meta | L94: Mapiripán | M94: Meta | N94: Puerto Concordia, Vista Hermosa, Mesetas, Puerto Lleras, Puerto Rico | O94: Meta | P94: Uribe | Q94: NA
A95: 306 | B95: 306. FUNDACION CHOCO SOCIAL | C95: NA | E95: NA | G95: NA | I95: Chocó | J95: Chocó | K95: Chocó | L95: Chocó | M95: Chocó | N95: Chocó | O95: Chocó | Q95: NA
A96: 307 | B96: 307. ASOCIACION DE SERVICIOS SOCIAL PARA UN MEJOR VIVIR ASESOMEVI | C96: La Guajira | D96: No Aplica | E96: La Guajira | F96: No Aplica | G96: La Guajira | H96: No Aplica | I96: La Guajira | J96: No Aplica | K96: La Guajira | L96: No Aplica | M96: La Guajira | N96: Riohacha | O96: La Guajira | P96: No Aplica | Q96: La Guajira | R96: No Aplica
A97: 308 | B97: 308. FUNDACION POLITECNICO LATINOAMERICANO DEL NORTE | C97: Cauca | D97: Bolívar, Morales, Inza, Belalcázar | E97: Cauca | F97: Bolívar, Morales, Balboa, Torotó | G97: NA | H97: NA | I97: NA | J97: NA | K97: NA | L97: NA | M97: NA | N97: NA | O97: NA | P97: NA | Q97: NA
A98: 316 | B98: 316. CORPORACION ESPIRITU SANTO "CORPOCES" | C98: Norte de Santander | D98: No Aplica | E98: Vaupes | F98: No Aplica | G98: Norte de Santander | H98: No Aplica | I98: Norte de Santander | J98: No Aplica | K98: Norte de Santander | L98: No Aplica | M98: Norte de Santander | N98: No Aplica | O98: Norte de Santander | P98: No Aplica | Q98: Norte de Santander | R98: No Aplica
A99: 318 | B99: 318. CORPORACION PARA LA GESTION DEL DESARROLLO HUMANO FILANTROPOS | C99: Tolima | D99: Coello | E99: Tolima | F99: No Aplica | G99: Tolima | H99: No Aplica | I99: Tolima | J99: No Aplica | K99: Tolima | L99: No Aplica | M99: Tolima | N99: No Aplica | O99: Tolima | P99: No Aplica | Q99: NA
A100: 324 | B100: 324. FUNDACION PARA EL DESARROLLO EMPRESARIAL Y TECNOLOGICO- FUDESET | C100: Sucre | D100: Coloso | E100: Sucre | F100: Coloso | G100: Sucre | I100: NA | K100: NA | M100: NA | O100: NA | Q100: NA
...

Sheet EXPERIENCIA EN TERRITORIO
A1: EXPERIENCIA EN TERRITORIO
A2: INVITACIÓN PÚBLICA IP-001-2020-ICBFSEN
A3: BANCO NACIONAL DE OFERENTES
A4: OFERENTES (No. Nombre Empresa) | B4: No. Certificación | C4: DEPARTAMENTO sin tildes | D4: No. CERTIFICACIÓN Número de Certificado o Constancia de radicado | E4: FECHA DE INICIO | F4: FECHA TERMINACIÓN | G4: TOTAL - D/M/A | H4: Columna1 | I4: DEPARTAMENTO Diligenciar | J4: Columna3 | K4: TOTAL EXPERIENCIA (30 dias) MESES (30 dias) | L4: OBSERVACIONES | M4: AVAL (X) | AX4: OFERENTE | AY4: N° | AZ4: DEPARTAMENTO | BA4: No. CERTIFICACIÓN | BB4: FECHA DE INICIO | BC4: FECHA TERMINACIÓN | BD4: TOTAL - D/M/A | BF4: DEPARTAMENTO | BH4: TOTAL EXPERIENCIA MESES | BI4: OBSERVACIONES | BJ4: AVAL (X)
B5: 1 | G5: =DATEDIF(E5,F5,"y") & " años " & DATEDIF(E5,F5,"ym") & " meses " & DATEDIF(E5,F5,"md") & " días" -> 0 años 0 meses 0 días | H5: =(E5-F5)*-1 -> 0 | J5: =SUMIF(C$5:C$12,I5,H$5:H$12) -> 0 | K5: =+J5/30 -> 0 | AX5: 15. FUNDACIÓN SOCIAL Y CULTURAL AGROAMBIENTE | AY5: 1 | AZ5: Bolivar | BA5: FM-061 DE 2014 | BB5: 41913 | BC5: 42368 | BD5: 1 años 2 meses 29 días | BE5: 454 | BF5: Bolivar | BG5: 1479 | BH5: 49.3 | BJ5: x
A6: =A5 -> 0 | B6: 2 | G6: =DATEDIF(E6,F6,"y") & " años " & DATEDIF(E6,F6,"ym") & " meses " & DATEDIF(E6,F6,"md") & " días" -> 0 años 0 meses 0 días | H6: =(E6-F6)*-1 -> 0 | J6: =SUMIF(C$5:C$12,I6,H$5:H$12) -> 0 | K6: =+J6/30 -> 0 | AX6: 15. FUNDACIÓN SOCIAL Y CULTURAL AGROAMBIENTE | AY6: 2 | AZ6: Bolivar | BA6: FS-025 DE 2016 | BB6: 42507 | BC6: 43098 | BD6: 1 años 7 meses 12 días | BE6: 590 | BF6: Atlantico | BG6: 486 | BH6: 16.2 | BI6: Se ajusta fecha de inicio : estaba 7 mayo 2016 | BJ6: x
A7: =A6 -> 0 | B7: 3 | G7: =DATEDIF(E7,F7,"y") & " años " & DATEDIF(E7,F7,"ym") & " meses " & DATEDIF(E7,F7,"md") & " días" -> 0 años 0 meses 0 días | H7: =(E7-F7)*-1 -> 0 | J7: =SUMIF(C$5:C$12,I7,H$5:H$12) -> 0 | K7: =+J7/30 -> 0 | AX7: 15. FUNDACIÓN SOCIAL Y CULTURAL AGROAMBIENTE | AY7: 3 | AZ7: Bolivar | BA7: CMDP-016 DE 2018 | BB7: 43116 | BC7: 43552 | BD7: 1 años 2 meses 12 días | BE7: 435 | BI7: Revisada sin cambio- carpeta preliminar | BJ7: x
A8: =A7 -> 0 | B8: 4 | G8: =DATEDIF(E8,F8,"y") & " años " & DATEDIF(E8,F8,"ym") & " meses " & DATEDIF(E8,F8,"md") & " días" -> 0 años 0 meses 0 días | H8: =(E8-F8)*-1 -> 0 | J8: =SUMIF(C$5:C$12,I8,H$5:H$12) -> 0 | K8: =+J8/30 -> 0 | AX8: 15. FUNDACIÓN SOCIAL Y CULTURAL AGROAMBIENTE | AY8: 4 | AZ8: Atlantico | BA8: FIC-052 DE 2019 | BB8: 43525 | BC8: 44012 | BD8: 1 años 3 meses 29 días | BE8: 486 | BI8: Revisada sin cambio- carpeta preliminar | BJ8: x
A9: =A8 -> 0 | B9: 5 | G9: =DATEDIF(E9,F9,"y") & " años " & DATEDIF(E9,F9,"ym") & " meses " & DATEDIF(E9,F9,"md") & " días" -> 0 años 0 meses 0 días | H9: =(E9-F9)*-1 -> 0 | J9: =SUMIF(C$5:C$12,I9,H$5:H$12) -> 0 | K9: =+J9/30 -> 0 | AX9: 15. FUNDACIÓN SOCIAL Y CULTURAL AGROAMBIENTE | AY9: 5 | BD9: 0 años 0 meses 0 días | BE9: -1 | BJ9: X
A10: =A9 -> 0 | B10: 6 | G10: =DATEDIF(E10,F10,"y") & " años " & DATEDIF(E10,F10,"ym") & " meses " & DATEDIF(E10,F10,"md") & " días" -> 0 años 0 meses 0 días | H10: =(E10-F10)*-1 -> 0 | J10: =SUMIF(C$5:C$12,I10,H$5:H$12) -> 0 | K10: =+J10/30 -> 0 | AX10: 15. FUNDACIÓN SOCIAL Y CULTURAL AGROAMBIENTE | AY10: 6 | BD10: 0 años 0 meses 0 días | BE10: -1 | BJ10: X
A11: =A10 -> 0 | B11: 7 | G11: =DATEDIF(E11,F11,"y") & " años " & DATEDIF(E11,F11,"ym") & " meses " & DATEDIF(E11,F11,"md") & " días" -> 0 años 0 meses 0 días | H11: =(E11-F11)*-1 -> 0 | J11: =SUMIF(C$5:C$12,I11,H$5:H$12) -> 0 | K11: =+J11/30 -> 0 | AX11: 15. FUNDACIÓN SOCIAL Y CULTURAL AGROAMBIENTE | AY11: 7 | BD11: 0 años 0 meses 0 días | BE11: -1 | BJ11: X
A12: =A11 -> 0 | B12: 8 | G12: =DATEDIF(E12,F12,"y") & " años " & DATEDIF(E12,F12,"ym") & " meses " & DATEDIF(E12,F12,"md") & " días" -> 0 años 0 meses 0 días | H12: =(E12-F12)*-1 -> 0 | J12: =SUMIF(C$5:C$12,I12,H$5:H$12) -> 0 | K12: =+J12/30 -> 0 | AX12: 15. FUNDACIÓN SOCIAL Y CULTURAL AGROAMBIENTE | AY12: 8 | BD12: 0 años 0 meses 0 días | BE12: -1 | BJ12: X
B13: 1 | G13: =DATEDIF(E13,F13,"y") & " años " & DATEDIF(E13,F13,"ym") & " meses " & DATEDIF(E13,F13,"md") & " días" -> 0 años 0 meses 0 días | H13: =(E13-F13)*-1 -> 0 | J13: =SUMIF($C$13:$C$20,I13,$H$13:$H$20) -> 0 | K13: =+J13/30 -> 0 | AX13: 20. FUNDACIÓN OXIGENO | AY13: 1 | AZ13: Choco | BA13: 109 | BB13: 43486 | BC13: 43829 | BD13: 0 años 11 meses 9 días | BE13: 342 | BF13: Choco | BG13: 1746 | BH13: 58.2 | BJ13: x
A14: =A13 -> 0 | B14: 2 | G14: =DATEDIF(E14,F14,"y") & " años " & DATEDIF(E14,F14,"ym") & " meses " & DATEDIF(E14,F14,"md") & " días" -> 0 años 0 meses 0 días | H14: =(E14-F14)*-1 -> 0 | J14: =SUMIF($C$13:$C$20,I14,$H$13:$H$20) -> 0 | K14: =+J14/30 -> 0 | AX14: 20. FUNDACIÓN OXIGENO | AY14: 2 | AZ14: Choco | BA14: 344 | BB14: 43070 | BC14: 43404 | BD14: 0 años 10 meses 30 días | BE14: 333 | BJ14: x
A15: =A14 -> 0 | B15: 3 | G15: =DATEDIF(E15,F15,"y") & " años " & DATEDIF(E15,F15,"ym") & " meses " & DATEDIF(E15,F15,"md") & " días" -> 0 años 0 meses 0 días | H15: =(E15-F15)*-1 -> 0 | J15: =SUMIF($C$13:$C$20,I15,$H$13:$H$20) -> 0 | K15: =+J15/30 -> 0 | AX15: 20. FUNDACIÓN OXIGENO | AY15: 3 | AZ15: Choco | BA15: 528 | BB15: 42720 | BC15: 43084 | BD15: 0 años 11 meses 29 días | BE15: 363 | BJ15: x
A16: =A15 -> 0 | B16: 4 | G16: =DATEDIF(E16,F16,"y") & " años " & DATEDIF(E16,F16,"ym") & " meses " & DATEDIF(E16,F16,"md") & " días" -> 0 años 0 meses 0 días | H16: =(E16-F16)*-1 -> 0 | J16: =SUMIF($C$13:$C$20,I16,$H$13:$H$20) -> 0 | K16: =+J16/30 -> 0 | AX16: 20. FUNDACIÓN OXIGENO | AY16: 4 | AZ16: Choco | BA16: 24 | BB16: 42025 | BC16: 42734 | BD16: 1 años 11 meses 9 días | BE16: 708 | BJ16: x
A17: =A16 -> 0 | B17: 5 | G17: =DATEDIF(E17,F17,"y") & " años " & DATEDIF(E17,F17,"ym") & " meses " & DATEDIF(E17,F17,"md") & " días" -> 0 años 0 meses 0 días | H17: =(E17-F17)*-1 -> 0 | J17: =SUMIF($C$13:$C$20,I17,$H$13:$H$20) -> 0 | K17: =+J17/30 -> 0 | AX17: 20. FUNDACIÓN OXIGENO | AY17: 5 | BD17: 0 años 0 meses 0 días | BE17: -1 | BJ17: X
A18: =A17 -> 0 | B18: 6 | G18: =DATEDIF(E18,F18,"y") & " años " & DATEDIF(E18,F18,"ym") & " meses " & DATEDIF(E18,F18,"md") & " días" -> 0 años 0 meses 0 días | H18: =(E18-F18)*-1 -> 0 | J18: =SUMIF($C$13:$C$20,I18,$H$13:$H$20) -> 0 | K18: =+J18/30 -> 0 | AX18: 20. FUNDACIÓN OXIGENO | AY18: 6 | BD18: 0 años 0 meses 0 días | BE18: -1 | BJ18: X
A19: =A18 -> 0 | B19: 7 | G19: =DATEDIF(E19,F19,"y") & " años " & DATEDIF(E19,F19,"ym") & " meses " & DATEDIF(E19,F19,"md") & " días" -> 0 años 0 meses 0 días | H19: =(E19-F19)*-1 -> 0 | J19: =SUMIF($C$13:$C$20,I19,$H$13:$H$20) -> 0 | K19: =+J19/30 -> 0 | AX19: 20. FUNDACIÓN OXIGENO | AY19: 7 | BD19: 0 años 0 meses 0 días | BE19: -1 | BJ19: X
A20: =A19 -> 0 | B20: 8 | G20: =DATEDIF(E20,F20,"y") & " años " & DATEDIF(E20,F20,"ym") & " meses " & DATEDIF(E20,F20,"md") & " días" -> 0 años 0 meses 0 días | H20: =(E20-F20)*-1 -> 0 | J20: =SUMIF($C$13:$C$20,I20,$H$13:$H$20) -> 0 | K20: =+J20/30 -> 0 | AX20: 20. FUNDACIÓN OXIGENO | AY20: 8 | BD20: 0 años 0 meses 0 días | BE20: -1 | BJ20: X
B21: 1 | G21: =DATEDIF(E21,F21,"y") & " años " & DATEDIF(E21,F21,"ym") & " meses " & DATEDIF(E21,F21,"md") & " días" -> 0 años 0 meses 0 días | H21: =(E21-F21)*-1 -> 0 | J21: =SUMIF($C$21:$C$28,I21,$H$21:$H$28) -> 0 | K21: =+J21/30 -> 0 | AX21: 25. CORPORACIÓN PARA EL DESARROLLO SOCIAL, FAMILIAR, COMUNITARIO E INSTITUCIONAL | AY21: 1 | AZ21: Choco | BA21: 93 | BB21: 43484 | BC21: 43829 | BD21: 0 años 11 meses 11 días | BE21: 344 | BF21: Choco | BG21: 1996 | BH21: 66.533333 | BJ21: x
A22: =A21 -> 0 | B22: 2 | G22: =DATEDIF(E22,F22,"y") & " años " & DATEDIF(E22,F22,"ym") & " meses " & DATEDIF(E22,F22,"md") & " días" -> 0 años 0 meses 0 días | H22: =(E22-F22)*-1 -> 0 | J22: =SUMIF($C$21:$C$28,I22,$H$21:$H$28) -> 0 | K22: =+J22/30 -> 0 | AX22: 25. CORPORACIÓN PARA EL DESARROLLO SOCIAL, FAMILIAR, COMUNITARIO E INSTITUCIONAL | AY22: 2 | AZ22: Choco | BA22: 5 | BB22: 43192 | BC22: 43465 | BD22: 0 años 8 meses 29 días | BE22: 272 | BI22: no se encontro documento con el cual verificar datos.
A23: =A22 -> 0 | B23: 3 | G23: =DATEDIF(E23,F23,"y") & " años " & DATEDIF(E23,F23,"ym") & " meses " & DATEDIF(E23,F23,"md") & " días" -> 0 años 0 meses 0 días | H23: =(E23-F23)*-1 -> 0 | J23: =SUMIF($C$21:$C$28,I23,$H$21:$H$28) -> 0 | K23: =+J23/30 -> 0 | AX23: 25. CORPORACIÓN PARA EL DESARROLLO SOCIAL, FAMILIAR, COMUNITARIO E INSTITUCIONAL | AY23: 3 | AZ23: Choco | BA23: 149 | BB23: 42737 | BC23: 43100 | BD23: 0 años 11 meses 29 días | BE23: 362 | BI23: no se encontro documento con el cual verificar datos.
A24: =A23 -> 0 | B24: 4 | G24: =DATEDIF(E24,F24,"y") & " años " & DATEDIF(E24,F24,"ym") & " meses " & DATEDIF(E24,F24,"md") & " días" -> 0 años 0 meses 0 días | H24: =(E24-#REF!)*-1 -> #REF! | J24: =SUMIF($C$21:$C$28,I24,$H$21:$H$28) -> 0 | K24: =+J24/30 -> 0 | AX24: 25. CORPORACIÓN PARA EL DESARROLLO SOCIAL, FAMILIAR, COMUNITARIO E INSTITUCIONAL | AY24: 4 | AZ24: Choco | BA24: 73 | BB24: 42399 | BC24: 42521 | BD24: 0 años 4 meses 1 días | BE24: 121 | BI24: se verifica sobre el acta de liquidacion de contrato | BJ24: x
A25: =A24 -> 0 | B25: 5 | G25: =DATEDIF(E25,F25,"y") & " años " & DATEDIF(E25,F25,"ym") & " meses " & DATEDIF(E25,F25,"md") & " días" -> 0 años 0 meses 0 días | H25: =(F24-F25)*-1 -> 0 | J25: =SUMIF($C$21:$C$28,I25,$H$21:$H$28) -> 0 | K25: =+J25/30 -> 0 | AX25: 25. CORPORACIÓN PARA EL DESARROLLO SOCIAL, FAMILIAR, COMUNITARIO E INSTITUCIONAL | AY25: 5 | AZ25: Choco | BA25: 201 | BB25: 42518 | BC25: 42719 | BD25: 0 años 6 meses 17 días | BE25: 200 | BJ25: x
A26: =A25 -> 0 | B26: 6 | G26: =DATEDIF(E26,F26,"y") & " años " & DATEDIF(E26,F26,"ym") & " meses " & DATEDIF(E26,F26,"md") & " días" -> 0 años 0 meses 0 días | H26: =(E26-F26)*-1 -> 0 | J26: =SUMIF($C$21:$C$28,I26,$H$21:$H$28) -> 0 | K26: =+J26/30 -> 0 | AX26: 25. CORPORACIÓN PARA EL DESARROLLO SOCIAL, FAMILIAR, COMUNITARIO E INSTITUCIONAL | AY26: 6 | AZ26: Choco | BA26: 180 | BB26: 41908 | BC26: 41998 | BD26: 0 años 2 meses 29 días | BE26: 89 | BI26: no se encontro documento con el cual verificar datos.
A27: =A26 -> 0 | B27: 7 | G27: =DATEDIF(E27,F27,"y") & " años " & DATEDIF(E27,F27,"ym") & " meses " & DATEDIF(E27,F27,"md") & " días" -> 0 años 0 meses 0 días | H27: =(E27-F27)*-1 -> 0 | J27: =SUMIF($C$21:$C$28,I27,$H$21:$H$28) -> 0 | K27: =+J27/30 -> 0 | AX27: 25. CORPORACIÓN PARA EL DESARROLLO SOCIAL, FAMILIAR, COMUNITARIO E INSTITUCIONAL | AY27: 7 | AZ27: Choco | BA27: 163 | BB27: 41401 | BC27: 41425 | BD27: 0 años 0 meses 24 días | BE27: 23 | BI27: se ajusta fecha de terminacion 31/12/2013 por 31/05/2013 que es la correcta | BJ27: x
A28: =A27 -> 0 | B28: 8 | G28: =DATEDIF(E28,F28,"y") & " años " & DATEDIF(E28,F28,"ym") & " meses " & DATEDIF(E28,F28,"md") & " días" -> 0 años 0 meses 0 días | H28: =(E28-F28)*-1 -> 0 | J28: =SUMIF($C$21:$C$28,I28,$H$21:$H$28) -> 0 | K28: =+J28/30 -> 0 | AX28: 25. CORPORACIÓN PARA EL DESARROLLO SOCIAL, FAMILIAR, COMUNITARIO E INSTITUCIONAL | AY28: 8 | AZ28: Choco | BA28: 423 | BB28: 41265 | BC28: 41851 | BD28: 1 años 7 meses 9 días | BE28: 585 | BI28: se cambia fecha final 31/12/2014 por 31/07/2014, según datos verifcados en la certificacion. | BJ28: x
B29: 1 | G29: =DATEDIF(E29,F29,"y") & " años " & DATEDIF(E29,F29,"ym") & " meses " & DATEDIF(E29,F29,"md") & " días" -> 0 años 0 meses 0 días | H29: =(E29-F29)*-1 -> 0 | J29: =SUMIF($C$29:$C$36,I29,$H$29:$H$36) -> 0 | K29: =+J29/30 -> 0 | AX29: 26. FUNDACIÓN PARA LA EDUCACIÓN Y DESARROLLO SOCIAL | AY29: 1 | AZ29: La Guajira | BA29: 251 | BB29: 43734 | BC29: 43830 | BD29: 0 años 3 meses 5 días | BE29: 95 | BF29: La Guajira | BG29: 958 | BH29: 31.933333 | BJ29: x
A30: =A29 -> 0 | B30: 2 | G30: =DATEDIF(E30,F30,"y") & " años " & DATEDIF(E30,F30,"ym") & " meses " & DATEDIF(E30,F30,"md") & " días" -> 0 años 0 meses 0 días | H30: =(E30-F30)*-1 -> 0 | J30: =SUMIF($C$29:$C$36,I30,$H$29:$H$36) -> 0 | K30: =+J30/30 -> 0 | AX30: 26. FUNDACIÓN PARA LA EDUCACIÓN Y DESARROLLO SOCIAL | AY30: 2 | AZ30: La Guajira | BA30: 53 | BB30: 43846 | BC30: 43967 | BD30: 0 años 4 meses 0 días | BE30: 120 | BF30: Choco | BG30: 0 | BH30: 0 | BJ30: x
A31: =A30 -> 0 | B31: 3 | G31: =DATEDIF(E31,F31,"y") & " años " & DATEDIF(E31,F31,"ym") & " meses " & DATEDIF(E31,F31,"md") & " días" -> 0 años 0 meses 0 días | H31: =(E31-F31)*-1 -> 0 | J31: =SUMIF($C$29:$C$36,I31,$H$29:$H$36) -> 0 | K31: =+J31/30 -> 0 | AX31: 26. FUNDACIÓN PARA LA EDUCACIÓN Y DESARROLLO SOCIAL | AY31: 3 | AZ31: La Guajira | BA31: 287 | BB31: 42522 | BC31: 42674 | BD31: 0 años 4 meses 30 días | BE31: 151 | BF31: Cesar | BG31: 302 | BH31: 10.066667 | BJ31: x
A32: =A31 -> 0 | B32: 4 | G32: =DATEDIF(E32,F32,"y") & " años " & DATEDIF(E32,F32,"ym") & " meses " & DATEDIF(E32,F32,"md") & " días" -> 0 años 0 meses 0 días | H32: =(E32-F32)*-1 -> 0 | J32: =SUMIF($C$29:$C$36,I32,$H$29:$H$36) -> 0 | K32: =+J32/30 -> 0 | AX32: 26. FUNDACIÓN PARA LA EDUCACIÓN Y DESARROLLO SOCIAL | AY32: 4 | AZ32: Chocó | BA32: 555 | BB32: 42718 | BC32: 43084 | BD32: 1 años 0 meses 1 días | BE32: 365 | BI32: Aparece como departamento Chocó, pero al revisar la certificación (Pág. 13) este documento se expide desde la regional La Guajira | BJ32: x
A33: =A32 -> 0 | B33: 5 | G33: =DATEDIF(E33,F33,"y") & " años " & DATEDIF(E33,F33,"ym") & " meses " & DATEDIF(E33,F33,"md") & " días" -> 0 años 0 meses 0 días | H33: =(E33-F33)*-1 -> 0 | J33: =SUMIF($C$29:$C$36,I33,$H$29:$H$36) -> 0 | K33: =+J33/30 -> 0 | AX33: 26. FUNDACIÓN PARA LA EDUCACIÓN Y DESARROLLO SOCIAL | AY33: 5 | AZ33: La Guajira | BA33: 324 | BB33: 43071 | BC33: 43312 | BD33: 0 años 7 meses 29 días | BE33: 240 | BJ33: x
A34: =A33 -> 0 | B34: 6 | G34: =DATEDIF(E34,F34,"y") & " años " & DATEDIF(E34,F34,"ym") & " meses " & DATEDIF(E34,F34,"md") & " días" -> 0 años 0 meses 0 días | H34: =(E34-F34)*-1 -> 0 | J34: =SUMIF($C$29:$C$36,I34,$H$29:$H$36) -> 0 | K34: =+J34/30 -> 0 | AX34: 26. FUNDACIÓN PARA LA EDUCACIÓN Y DESARROLLO SOCIAL | AY34: 6 | AZ34: La Guajira | BA34: 138 | BB34: 42412 | BC34: 42521 | BD34: 0 años 3 meses 19 días | BE34: 108 | BJ34: x
A35: =A34 -> 0 | B35: 7 | G35: =DATEDIF(E35,F35,"y") & " años " & DATEDIF(E35,F35,"ym") & " meses " & DATEDIF(E35,F35,"md") & " días" -> 0 años 0 meses 0 días | H35: =(E35-F35)*-1 -> 0 | J35: =SUMIF($C$29:$C$36,I35,$H$29:$H$36) -> 0 | K35: =+J35/30 -> 0 | AX35: 26. FUNDACIÓN PARA LA EDUCACIÓN Y DESARROLLO SOCIAL | AY35: 7 | AZ35: La Guajira | BA35: 13 | BB35: 42081 | BC35: 42326 | BD35: 0 años 8 meses 0 días | BE35: 244 | BJ35: x
A36: =A35 -> 0 | B36: 8 | G36: =DATEDIF(E36,F36,"y") & " años " & DATEDIF(E36,F36,"ym") & " meses " & DATEDIF(E36,F36,"md") & " días" -> 0 años 0 meses 0 días | H36: =(E36-F36)*-1 -> 0 | J36: =SUMIF($C$29:$C$36,I36,$H$29:$H$36) -> 0 | K36: =+J36/30 -> 0 | AX36: 26. FUNDACIÓN PARA LA EDUCACIÓN Y DESARROLLO SOCIAL | AY36: 8 | AZ36: Cesar | BA36: 2 | BB36: 41685 | BC36: 41988 | BD36: 0 años 10 meses 0 días | BE36: 302 | BI36: La fecha consignada en esta matríz se encuentra errada, según el documento de soporte la finalización del contrato fue el 15 de diciembre de 2014 no del año 2016. Se modifica y subraya en amarillo. En el Formato N°3 FORMATO DE RELACIÓN CERTIFICACIONES DE EXPERIENCIA DEL OFERENTE aparece como contratante la Alcaldía de Aguachica pero aparece en la casilla de ejecución el departamento de La Guajira y no del Cesar. | BJ36: x
B37: 1 | G37: =DATEDIF(E37,F37,"y") & " años " & DATEDIF(E37,F37,"ym") & " meses " & DATEDIF(E37,F37,"md") & " días" -> 0 años 0 meses 0 días | H37: =(E37-F37)*-1 -> 0 | J37: =SUMIF($C$37:$C$44,I37,$H$37:$H$44) -> 0 | K37: =+J37/30 -> 0 | AX37: 29. CORPORACIÓN PARA EL FOMENTO SOCIAL DE COLOMBIA | AY37: 1 | AZ37: Meta | BA37: 220 | BB37: 41579 | BC37: 41988 | BD37: 1 años 1 meses 14 días | BE37: 408 | BF37: Meta | BG37: 1555 | BH37: 51.833333 | BI37: Ajuste en fecha de terminación | BJ37: X
A38: =A37 -> 0 | B38: 2 | G38: =DATEDIF(E38,F38,"y") & " años " & DATEDIF(E38,F38,"ym") & " meses " & DATEDIF(E38,F38,"md") & " días" -> 0 años 0 meses 0 días | H38: =(E38-F38)*-1 -> 0 | J38: =SUMIF($C$37:$C$44,I38,$H$37:$H$44) -> 0 | K38: =+J38/30 -> 0 | AX38: 29. CORPORACIÓN PARA EL FOMENTO SOCIAL DE COLOMBIA | AY38: 2 | AZ38: Meta | BA38: 246 | BB38: 41990 | BC38: 42369 | BD38: 1 años 0 meses 14 días | BE38: 378 | BI38: Ajuste en fecha de iniciación | BJ38: X
A39: =A38 -> 0 | B39: 3 | G39: =DATEDIF(E39,F39,"y") & " años " & DATEDIF(E39,F39,"ym") & " meses " & DATEDIF(E39,F39,"md") & " días" -> 0 años 0 meses 0 días | H39: =(E39-F39)*-1 -> 0 | J39: =SUMIF($C$37:$C$44,I39,$H$37:$H$44) -> 0 | K39: =+J39/30 -> 0 | AX39: 29. CORPORACIÓN PARA EL FOMENTO SOCIAL DE COLOMBIA | AY39: 3 | AZ39: Meta | BA39: 204 | BB39: 42584 | BC39: 42720 | BD39: 0 años 4 meses 14 días | BE39: 135 | BJ39: X
A40: =A39 -> 0 | B40: 4 | G40: =DATEDIF(E40,F40,"y") & " años " & DATEDIF(E40,F40,"ym") & " meses " & DATEDIF(E40,F40,"md") & " días" -> 0 años 0 meses 0 días | H40: =(E40-F40)*-1 -> 0 | J40: =SUMIF($C$37:$C$44,I40,$H$37:$H$44) -> 0 | K40: =+J40/30 -> 0 | AX40: 29. CORPORACIÓN PARA EL FOMENTO SOCIAL DE COLOMBIA | AY40: 4 | AZ40: Meta | BA40: 238 | BB40: 42930 | BC40: 43172 | BD40: 0 años 7 meses 27 días | BE40: 241 | BI40: Ajuste en fecha de terminación de acuerdo con el acta de liquidación | BJ40: X
A41: =A40 -> 0 | B41: 5 | G41: =DATEDIF(E41,F41,"y") & " años " & DATEDIF(E41,F41,"ym") & " meses " & DATEDIF(E41,F41,"md") & " días" -> 0 años 0 meses 0 días | H41: =(E41-F41)*-1 -> 0 | J41: =SUMIF($C$37:$C$44,I41,$H$37:$H$44) -> 0 | K41: =+J41/30 -> 0 | AX41: 29. CORPORACIÓN PARA EL FOMENTO SOCIAL DE COLOMBIA | AY41: 5 | AZ41: Meta | BA41: 252 | BB41: 43252 | BC41: 43465 | BD41: 0 años 6 meses 30 días | BE41: 212 | BJ41: X
A42: =A41 -> 0 | B42: 6 | G42: =DATEDIF(E42,F42,"y") & " años " & DATEDIF(E42,F42,"ym") & " meses " & DATEDIF(E42,F42,"md") & " días" -> 0 años 0 meses 0 días | H42: =(E42-F42)*-1 -> 0 | J42: =SUMIF($C$37:$C$44,I42,$H$37:$H$44) -> 0 | K42: =+J42/30 -> 0 | AX42: 29. CORPORACIÓN PARA EL FOMENTO SOCIAL DE COLOMBIA | AY42: 6 | AZ42: Meta | BA42: 342 | BB42: 43620 | BC42: 43802 | BD42: 0 años 5 meses 29 días | BE42: 181 | BJ42: X
A43: =A42 -> 0 | B43: 7 | G43: =DATEDIF(E43,F43,"y") & " años " & DATEDIF(E43,F43,"ym") & " meses " & DATEDIF(E43,F43,"md") & " días" -> 0 años 0 meses 0 días | H43: =(E43-F43)*-1 -> 0 | J43: =SUMIF($C$37:$C$44,I43,$H$37:$H$44) -> 0 | K43: =+J43/30 -> 0 | AX43: 29. CORPORACIÓN PARA EL FOMENTO SOCIAL DE COLOMBIA | AY43: 7 | BD43: 0 años 0 meses 0 días | BE43: -1 | BJ43: X
A44: =A43 -> 0 | B44: 8 | G44: =DATEDIF(E44,F44,"y") & " años " & DATEDIF(E44,F44,"ym") & " meses " & DATEDIF(E44,F44,"md") & " días" -> 0 años 0 meses 0 días | H44: =(E44-F44)*-1 -> 0 | J44: =SUMIF($C$37:$C$44,I44,$H$37:$H$44) -> 0 | K44: =+J44/30 -> 0 | AX44: 29. CORPORACIÓN PARA EL FOMENTO SOCIAL DE COLOMBIA | AY44: 8 | BD44: 0 años 0 meses 0 días | BE44: -1 | BJ44: X
B45: 1 | G45: =DATEDIF(E45,F45,"y") & " años " & DATEDIF(E45,F45,"ym") & " meses " & DATEDIF(E45,F45,"md") & " días" -> 0 años 0 meses 0 días | H45: =(E45-F45)*-1 -> 0 | J45: =SUMIF($C$45:$C$52,I45,$H$45:$H$52) -> 0 | K45: =+J45/30 -> 0 | AX45: 40. ASOCIACIÓN AGRO IMPULSO DEL CHOCO | AY45: 1 | AZ45: Choco | BA45: 006-2014 | BB45: 41680 | BC45: 41983 | BD45: 0 años 10 meses 0 días | BE45: 302 | BF45: Choco | BG45: 1844 | BH45: 61.466667 | BI45: Se ajusta número de certificación y fecha de inicio de la certificación, pasa de día 01 a día 10 del mes de febrerp | BJ45: x
A46: =A45 -> 0 | B46: 2 | G46: =DATEDIF(E46,F46,"y") & " años " & DATEDIF(E46,F46,"ym") & " meses " & DATEDIF(E46,F46,"md") & " días" -> 0 años 0 meses 0 días | H46: =(E46-F46)*-1 -> 0 | J46: =SUMIF($C$45:$C$52,I46,$H$45:$H$52) -> 0 | K46: =+J46/30 -> 0 | AX46: 40. ASOCIACIÓN AGRO IMPULSO DEL CHOCO | AY46: 2 | AZ46: Choco | BA46: 003-2015 | BB46: 42040 | BC46: 42343 | BD46: 0 años 10 meses 0 días | BE46: 302 | BJ46: x
A47: =A46 -> 0 | B47: 3 | G47: =DATEDIF(E47,F47,"y") & " años " & DATEDIF(E47,F47,"ym") & " meses " & DATEDIF(E47,F47,"md") & " días" -> 0 años 0 meses 0 días | H47: =(E47-F47)*-1 -> 0 | J47: =SUMIF($C$45:$C$52,I47,$H$45:$H$52) -> 0 | K47: =+J47/30 -> 0 | AX47: 40. ASOCIACIÓN AGRO IMPULSO DEL CHOCO | AY47: 3 | AZ47: Choco | BA47: 003-2016 | BB47: 42401 | BC47: 42705 | BD47: 0 años 10 meses 0 días | BE47: 303 | BJ47: x
A48: =A47 -> 0 | B48: 4 | G48: =DATEDIF(E48,F48,"y") & " años " & DATEDIF(E48,F48,"ym") & " meses " & DATEDIF(E48,F48,"md") & " días" -> 0 años 0 meses 0 días | H48: =(E48-F48)*-1 -> 0 | J48: =SUMIF($C$45:$C$52,I48,$H$45:$H$52) -> 0 | K48: =+J48/30 -> 0 | AX48: 40. ASOCIACIÓN AGRO IMPULSO DEL CHOCO | AY48: 4 | AZ48: Choco | BA48: 002-2017 | BB48: 42774 | BC48: 43077 | BD48: 0 años 10 meses 0 días | BE48: 302 | BJ48: x
A49: =A48 -> 0 | B49: 5 | G49: =DATEDIF(E49,F49,"y") & " años " & DATEDIF(E49,F49,"ym") & " meses " & DATEDIF(E49,F49,"md") & " días" -> 0 años 0 meses 0 días | H49: =(E49-F49)*-1 -> 0 | J49: =SUMIF($C$45:$C$52,I49,$H$45:$H$52) -> 0 | K49: =+J49/30 -> 0 | AX49: 40. ASOCIACIÓN AGRO IMPULSO DEL CHOCO | AY49: 5 | AZ49: Choco | BA49: 004-2018 | BB49: 43153 | BC49: 43456 | BD49: 0 años 10 meses 0 días | BE49: 302 | BJ49: x
A50: =A49 -> 0 | B50: 6 | G50: =DATEDIF(E50,F50,"y") & " años " & DATEDIF(E50,F50,"ym") & " meses " & DATEDIF(E50,F50,"md") & " días" -> 0 años 0 meses 0 días | H50: =(E50-F50)*-1 -> 0 | J50: =SUMIF($C$45:$C$52,I50,$H$45:$H$52) -> 0 | K50: =+J50/30 -> 0 | AX50: 40. ASOCIACIÓN AGRO IMPULSO DEL CHOCO | AY50: 6 | AZ50: Choco | BA50: 005-2019 | BB50: 43476 | BC50: 43810 | BD50: 0 años 11 meses 0 días | BE50: 333 | BJ50: x
A51: =A50 -> 0 | B51: 7 | G51: =DATEDIF(E51,F51,"y") & " años " & DATEDIF(E51,F51,"ym") & " meses " & DATEDIF(E51,F51,"md") & " días" -> 0 años 0 meses 0 días | H51: =(E51-F51)*-1 -> 0 | J51: =SUMIF($C$45:$C$52,I51,$H$45:$H$52) -> 0 | K51: =+J51/30 -> 0 | AX51: 40. ASOCIACIÓN AGRO IMPULSO DEL CHOCO | AY51: 7 | BD51: 0 años 0 meses 0 días | BE51: -1 | BJ51: X
A52: =A51 -> 0 | B52: 8 | G52: =DATEDIF(E52,F52,"y") & " años " & DATEDIF(E52,F52,"ym") & " meses " & DATEDIF(E52,F52,"md") & " días" -> 0 años 0 meses 0 días | H52: =(E52-F52)*-1 -> 0 | J52: =SUMIF($C$45:$C$52,I52,$H$45:$H$52) -> 0 | K52: =+J52/30 -> 0 | AX52: 40. ASOCIACIÓN AGRO IMPULSO DEL CHOCO | AY52: 8 | BD52: 0 años 0 meses 0 días | BE52: -1 | BJ52: X
B53: 1 | G53: =DATEDIF(E53,F53,"y") & " años " & DATEDIF(E53,F53,"ym") & " meses " & DATEDIF(E53,F53,"md") & " días" -> 0 años 0 meses 0 días | H53: =(E53-F53)*-1 -> 0 | J53: =SUMIF($C$53:$C$60,I53,$H$53:$H$60) -> 0 | K53: =+J53/30 -> 0 | AX53: 45. FUNDACIÓN COLOMBIANA CON SEGURIDAD ALIMENTARIA Y NUTRICIONAL | AY53: 1 | AZ53: Choco | BA53: ALCALDIA DEL MEDIO BAUDO (ALCALDIA) 056 - 2016 (12/03/2016) | BB53: 42441 | BC53: 42551 | BD53: 0 años 3 meses 18 días | BE53: 109 | BF53: Choco | BG53: 1638 | BH53: 54.6 | BJ53: x
A54: =A53 -> 0 | B54: 2 | G54: =DATEDIF(E54,F54,"y") & " años " & DATEDIF(E54,F54,"ym") & " meses " & DATEDIF(E54,F54,"md") & " días" -> 0 años 0 meses 0 días | H54: =(E54-F54)*-1 -> 0 | J54: =SUMIF($C$53:$C$60,I54,$H$53:$H$60) -> 0 | K54: =+J54/30 -> 0 | AX54: 45. FUNDACIÓN COLOMBIANA CON SEGURIDAD ALIMENTARIA Y NUTRICIONAL | AY54: 2 | AZ54: Choco | BA54: ALCALDIA DEL ALTO BAUDO (ALCALDIA) 073 - 2016 (29/02/2016) | BB54: 42429 | BC54: 42798 | BD54: 1 años 0 meses 3 días | BE54: 368 | BJ54: x
A55: =A54 -> 0 | B55: 3 | G55: =DATEDIF(E55,F55,"y") & " años " & DATEDIF(E55,F55,"ym") & " meses " & DATEDIF(E55,F55,"md") & " días" -> 0 años 0 meses 0 días | H55: =(E55-F55)*-1 -> 0 | J55: =SUMIF($C$53:$C$60,I55,$H$53:$H$60) -> 0 | K55: =+J55/30 -> 0 | AX55: 45. FUNDACIÓN COLOMBIANA CON SEGURIDAD ALIMENTARIA Y NUTRICIONAL | AY55: 3 | AZ55: Choco | BA55: CONSEJO COMUNITARIO DE COMUNIDADES NEGRAS (COCOMASECO) 127 – 2017 (08/02/2017) | BB55: 42774 | BC55: 43091 | BD55: 0 años 10 meses 14 días | BE55: 316 | BJ55: x
A56: =A55 -> 0 | B56: 4 | G56: =DATEDIF(E56,F56,"y") & " años " & DATEDIF(E56,F56,"ym") & " meses " & DATEDIF(E56,F56,"md") & " días" -> 0 años 0 meses 0 días | H56: =(E56-F56)*-1 -> 0 | J56: =SUMIF($C$53:$C$60,I56,$H$53:$H$60) -> 0 | K56: =+J56/30 -> 0 | AX56: 45. FUNDACIÓN COLOMBIANA CON SEGURIDAD ALIMENTARIA Y NUTRICIONAL | AY56: 4 | AZ56: Choco | BA56: CONSEJO REGIONAL INDÍGENA DEL CHOCÓ (CRICH) 015 - 2018 (12/01/2018) | BB56: 43112 | BC56: 43457 | BD56: 0 años 11 meses 11 días | BE56: 344 | BJ56: x
A57: =A56 -> 0 | B57: 5 | G57: =DATEDIF(E57,F57,"y") & " años " & DATEDIF(E57,F57,"ym") & " meses " & DATEDIF(E57,F57,"md") & " días" -> 0 años 0 meses 0 días | H57: =(E57-F57)*-1 -> 0 | J57: =SUMIF($C$53:$C$60,I57,$H$53:$H$60) -> 0 | K57: =+J57/30 -> 0 | AX57: 45. FUNDACIÓN COLOMBIANA CON SEGURIDAD ALIMENTARIA Y NUTRICIONAL | AY57: 5 | AZ57: Choco | BA57: ASOCIACIÓN DE MINEROS DE BEBARAMA (ASOMIBE) 0256 - 2018 | BB57: 43437 | BC57: 43727 | BD57: 0 años 9 meses 16 días | BE57: 289 | BJ57: x
A58: =A57 -> 0 | B58: 6 | G58: =DATEDIF(E58,F58,"y") & " años " & DATEDIF(E58,F58,"ym") & " meses " & DATEDIF(E58,F58,"md") & " días" -> 0 años 0 meses 0 días | H58: =(E58-F58)*-1 -> 0 | J58: =SUMIF($C$53:$C$60,I58,$H$53:$H$60) -> 0 | K58: =+J58/30 -> 0 | AX58: 45. FUNDACIÓN COLOMBIANA CON SEGURIDAD ALIMENTARIA Y NUTRICIONAL | AY58: 6 | AZ58: Choco | BA58: CONSEJO COMUNITARIO MAYOR DE CASIMIRO 024 - 2019 (02/09/2019) | BB58: 43710 | BC58: 43923 | BD58: 0 años 7 meses 0 días | BE58: 212 | BI58: Se ajusta el nombre de la certificación y la fecha de finalización | BJ58: x
A59: =A58 -> 0 | B59: 7 | G59: =DATEDIF(E59,F59,"y") & " años " & DATEDIF(E59,F59,"ym") & " meses " & DATEDIF(E59,F59,"md") & " días" -> 0 años 0 meses 0 días | H59: =(E59-F59)*-1 -> 0 | J59: =SUMIF($C$53:$C$60,I59,$H$53:$H$60) -> 0 | K59: =+J59/30 -> 0 | AX59: 45. FUNDACIÓN COLOMBIANA CON SEGURIDAD ALIMENTARIA Y NUTRICIONAL | AY59: 7 | BD59: 0 años 0 meses 0 días | BE59: -1
A60: =A59 -> 0 | B60: 8 | G60: =DATEDIF(E60,F60,"y") & " años " & DATEDIF(E60,F60,"ym") & " meses " & DATEDIF(E60,F60,"md") & " días" -> 0 años 0 meses 0 días | H60: =(E60-F60)*-1 -> 0 | J60: =SUMIF($C$53:$C$60,I60,$H$53:$H$60) -> 0 | K60: =+J60/30 -> 0 | AX60: 45. FUNDACIÓN COLOMBIANA CON SEGURIDAD ALIMENTARIA Y NUTRICIONAL | AY60: 8 | BD60: 0 años 0 meses 0 días | BE60: -1
B61: 1 | G61: =DATEDIF(E61,F61,"y") & " años " & DATEDIF(E61,F61,"ym") & " meses " & DATEDIF(E61,F61,"md") & " días" -> 0 años 0 meses 0 días | H61: =(E61-F61)*-1 -> 0 | J61: =SUMIF($C$61:$C$68,I61,$H$61:$H$68) -> 0 | K61: =+J61/30 -> 0 | AX61: 46. ASOCIACIÓN DE JOVENES PROPONENTES DE CAMBIO PARA EL CHOCO | AY61: 1 | AZ61: Choco | BA61: CONTRATO136 DE 09 DE MARZO DE 2015 | BB61: 42072 | BC61: 42704 | BD61: 1 años 8 meses 21 días | BE61: 631 | BF61: Choco | BG61: 1709 | BH61: 56.966667 | BI61: Se ajusta la forma, se adiciona un espacio | BJ61: x
A62: =A61 -> 0 | B62: 2 | G62: =DATEDIF(E62,F62,"y") & " años " & DATEDIF(E62,F62,"ym") & " meses " & DATEDIF(E62,F62,"md") & " días" -> 0 años 0 meses 0 días | H62: =(E62-F62)*-1 -> 0 | J62: =SUMIF($C$61:$C$68,I62,$H$61:$H$68) -> 0 | K62: =+J62/30 -> 0 | AX62: 46. ASOCIACIÓN DE JOVENES PROPONENTES DE CAMBIO PARA EL CHOCO | AY62: 2 | AZ62: Choco | BA62: CONVENIO 01 DE 05 DE NERO DE 2017 | BB62: 42740 | BC62: 43465 | BD62: 1 años 11 meses 26 días | BE62: 724 | BI62: se ajusta la fecha de finalización para que corresponda con la certificación | BJ62: x
A63: =A62 -> 0 | B63: 3 | G63: =DATEDIF(E63,F63,"y") & " años " & DATEDIF(E63,F63,"ym") & " meses " & DATEDIF(E63,F63,"md") & " días" -> 0 años 0 meses 0 días | H63: =(E63-F63)*-1 -> 0 | J63: =SUMIF($C$61:$C$68,I63,$H$61:$H$68) -> 0 | K63: =+J63/30 -> 0 | AX63: 46. ASOCIACIÓN DE JOVENES PROPONENTES DE CAMBIO PARA EL CHOCO | AY63: 3 | AZ63: Choco | BA63: CONVENIO 04DE 10 DE NERO DE 2017 | BB63: 43475 | BC63: 43830 | BD63: 0 años 11 meses 21 días | BE63: 354 | BI63: No se encuentra soportes de la certificación de esta experiencia | BJ63: x
A64: =A63 -> 0 | B64: 4 | G64: =DATEDIF(E64,F64,"y") & " años " & DATEDIF(E64,F64,"ym") & " meses " & DATEDIF(E64,F64,"md") & " días" -> 0 años 0 meses 0 días | H64: =(E64-F64)*-1 -> 0 | J64: =SUMIF($C$61:$C$68,I64,$H$61:$H$68) -> 0 | K64: =+J64/30 -> 0 | AX64: 46. ASOCIACIÓN DE JOVENES PROPONENTES DE CAMBIO PARA EL CHOCO | AY64: 4 | BD64: 0 años 0 meses 0 días | BE64: -1
A65: =A64 -> 0 | B65: 5 | G65: =DATEDIF(E65,F65,"y") & " años " & DATEDIF(E65,F65,"ym") & " meses " & DATEDIF(E65,F65,"md") & " días" -> 0 años 0 meses 0 días | H65: =(E65-F65)*-1 -> 0 | J65: =SUMIF($C$61:$C$68,I65,$H$61:$H$68) -> 0 | K65: =+J65/30 -> 0 | AX65: 46. ASOCIACIÓN DE JOVENES PROPONENTES DE CAMBIO PARA EL CHOCO | AY65: 5 | BD65: 0 años 0 meses 0 días | BE65: -1
A66: =A65 -> 0 | B66: 6 | G66: =DATEDIF(E66,F66,"y") & " años " & DATEDIF(E66,F66,"ym") & " meses " & DATEDIF(E66,F66,"md") & " días" -> 0 años 0 meses 0 días | H66: =(E66-F66)*-1 -> 0 | J66: =SUMIF($C$61:$C$68,I66,$H$61:$H$68) -> 0 | K66: =+J66/30 -> 0 | AX66: 46. ASOCIACIÓN DE JOVENES PROPONENTES DE CAMBIO PARA EL CHOCO | AY66: 6 | BD66: 0 años 0 meses 0 días | BE66: -1
A67: =A66 -> 0 | B67: 7 | G67: =DATEDIF(E67,F67,"y") & " años " & DATEDIF(E67,F67,"ym") & " meses " & DATEDIF(E67,F67,"md") & " días" -> 0 años 0 meses 0 días | H67: =(E67-F67)*-1 -> 0 | J67: =SUMIF($C$61:$C$68,I67,$H$61:$H$68) -> 0 | K67: =+J67/30 -> 0 | AX67: 46. ASOCIACIÓN DE JOVENES PROPONENTES DE CAMBIO PARA EL CHOCO | AY67: 7 | BD67: 0 años 0 meses 0 días | BE67: -1
A68: =A67 -> 0 | B68: 8 | G68: =DATEDIF(E68,F68,"y") & " años " & DATEDIF(E68,F68,"ym") & " meses " & DATEDIF(E68,F68,"md") & " días" -> 0 años 0 meses 0 días | H68: =(E68-F68)*-1 -> 0 | J68: =SUMIF($C$61:$C$68,I68,$H$61:$H$68) -> 0 | K68: =+J68/30 -> 0 | AX68: 46. ASOCIACIÓN DE JOVENES PROPONENTES DE CAMBIO PARA EL CHOCO | AY68: 8 | BD68: 0 años 0 meses 0 días | BE68: -1
B69: 1 | G69: =DATEDIF(E69,F69,"y") & " años " & DATEDIF(E69,F69,"ym") & " meses " & DATEDIF(E69,F69,"md") & " días" -> 0 años 0 meses 0 días | H69: =(E69-F69)*-1 -> 0 | J69: =SUMIF($C$69:$C$76,I69,$H$69:$H$76) -> 0 | K69: =+J69/30 -> 0 | AX69: 48. FUNDACIÓN AMIGOS DE LA COMUNIDAD DE COLOMBIA | AY69: 1 | AZ69: CESAR | BA69: 20-464-2014 29/12/2014 | BB69: 42004 | BC69: 42369 | BD69: 1 años 0 meses 0 días | BE69: 364 | BF69: CESAR | BG69: 1693 | BH69: 56.433333 | BJ69: x
A70: =A69 -> 0 | B70: 2 | G70: =DATEDIF(E70,F70,"y") & " años " & DATEDIF(E70,F70,"ym") & " meses " & DATEDIF(E70,F70,"md") & " días" -> 0 años 0 meses 0 días | H70: =(E70-F70)*-1 -> 0 | J70: =SUMIF($C$69:$C$76,I70,$H$69:$H$76) -> 0 | K70: =+J70/30 -> 0 | AX70: 48. FUNDACIÓN AMIGOS DE LA COMUNIDAD DE COLOMBIA | AY70: 2 | AZ70: CESAR | BA70: 20-257-2016 30/01/2016 | BB70: 42401 | BC70: 42673 | BD70: 0 años 8 meses 29 días | BE70: 271 | BJ70: x
A71: =A70 -> 0 | B71: 3 | G71: =DATEDIF(E71,F71,"y") & " años " & DATEDIF(E71,F71,"ym") & " meses " & DATEDIF(E71,F71,"md") & " días" -> 0 años 0 meses 0 días | H71: =(E71-F71)*-1 -> 0 | J71: =SUMIF($C$69:$C$76,I71,$H$69:$H$76) -> 0 | K71: =+J71/30 -> 0 | AX71: 48. FUNDACIÓN AMIGOS DE LA COMUNIDAD DE COLOMBIA | AY71: 3 | AZ71: CESAR | BA71: 20-567-2016 18/10/2016 | BB71: 42675 | BC71: 42719 | BD71: 0 años 1 meses 14 días | BE71: 43 | BJ71: x
A72: =A71 -> 0 | B72: 4 | G72: =DATEDIF(E72,F72,"y") & " años " & DATEDIF(E72,F72,"ym") & " meses " & DATEDIF(E72,F72,"md") & " días" -> 0 años 0 meses 0 días | H72: =(E72-F72)*-1 -> 0 | J72: =SUMIF($C$69:$C$76,I72,$H$69:$H$76) -> 0 | K72: =+J72/30 -> 0 | AX72: 48. FUNDACIÓN AMIGOS DE LA COMUNIDAD DE COLOMBIA | AY72: 4 | AZ72: CESAR | BA72: 20-644-2016 05/12/2016 | BB72: 42719 | BC72: 43084 | BD72: 1 años 0 meses 0 días | BE72: 364 | BJ72: x
A73: =A72 -> 0 | B73: 5 | G73: =DATEDIF(E73,F73,"y") & " años " & DATEDIF(E73,F73,"ym") & " meses " & DATEDIF(E73,F73,"md") & " días" -> 0 años 0 meses 0 días | H73: =(E73-F73)*-1 -> 0 | J73: =SUMIF($C$69:$C$76,I73,$H$69:$H$76) -> 0 | K73: =+J73/30 -> 0 | AX73: 48. FUNDACIÓN AMIGOS DE LA COMUNIDAD DE COLOMBIA | AY73: 5 | AZ73: CESAR | BA73: 20-415-2017 12/12/2017 | BB73: 43081 | BC73: 43441 | BD73: 0 años 11 meses 25 días | BE73: 359 | BJ73: x
A74: =A73 -> 0 | B74: 6 | G74: =DATEDIF(E74,F74,"y") & " años " & DATEDIF(E74,F74,"ym") & " meses " & DATEDIF(E74,F74,"md") & " días" -> 0 años 0 meses 0 días | H74: =(E74-F74)*-1 -> 0 | J74: =SUMIF($C$69:$C$76,I74,$H$69:$H$76) -> 0 | K74: =+J74/30 -> 0 | AX74: 48. FUNDACIÓN AMIGOS DE LA COMUNIDAD DE COLOMBIA | AY74: 6 | AZ74: CESAR | BA74: 20-197-2019 30/01/2019 | BB74: 43495 | BC74: 43615 | BD74: 0 años 4 meses 0 días | BE74: 119 | BJ74: x
A75: =A74 -> 0 | B75: 7 | G75: =DATEDIF(E75,F75,"y") & " años " & DATEDIF(E75,F75,"ym") & " meses " & DATEDIF(E75,F75,"md") & " días" -> 0 años 0 meses 0 días | H75: =(E75-F75)*-1 -> 0 | J75: =SUMIF($C$69:$C$76,I75,$H$69:$H$76) -> 0 | K75: =+J75/30 -> 0 | AX75: 48. FUNDACIÓN AMIGOS DE LA COMUNIDAD DE COLOMBIA | AY75: 7 | AZ75: CESAR | BA75: 20-248-2019 28/06/201 | BB75: 43644 | BC75: 43818 | BD75: 0 años 5 meses 21 días | BE75: 173 | BJ75: x
A76: =A75 -> 0 | B76: 8 | G76: =DATEDIF(E76,F76,"y") & " años " & DATEDIF(E76,F76,"ym") & " meses " & DATEDIF(E76,F76,"md") & " días" -> 0 años 0 meses 0 días | H76: =(E76-F76)*-1 -> 0 | J76: =SUMIF($C$69:$C$76,I76,$H$69:$H$76) -> 0 | K76: =+J76/30 -> 0 | AX76: 48. FUNDACIÓN AMIGOS DE LA COMUNIDAD DE COLOMBIA | AY76: 8 | BD76: 0 años 0 meses 0 días | BE76: -1
B77: 1 | G77: =DATEDIF(E77,F77,"y") & " años " & DATEDIF(E77,F77,"ym") & " meses " & DATEDIF(E77,F77,"md") & " días" -> 0 años 0 meses 0 días | H77: =(E77-F77)*-1 -> 0 | J77: =SUMIF(C77:$C$84,I77,$H$77:$H$84) -> 0 | K77: =+J77/30 -> 0 | AX77: 49. FUNDACIÓN CONSTRUYENDO UN NUEVO FUTURO | AY77: 1 | BD77: 0 años 0 meses 0 días | BE77: -1 | BF77: Choco | BG77: 1104 | BH77: 36.8 | BJ77: X
A78: =A77 -> 0 | B78: 2 | G78: =DATEDIF(E78,F78,"y") & " años " & DATEDIF(E78,F78,"ym") & " meses " & DATEDIF(E78,F78,"md") & " días" -> 0 años 0 meses 0 días | H78: =(E78-F78)*-1 -> 0 | J78: =SUMIF(C78:$C$84,I78,$H$77:$H$84) -> 0 | K78: =+J78/30 -> 0 | AX78: 49. FUNDACIÓN CONSTRUYENDO UN NUEVO FUTURO | AY78: 2 | BD78: 0 años 0 meses 0 días | BE78: -1 | BJ78: X
A79: =A78 -> 0 | B79: 3 | G79: =DATEDIF(E79,F79,"y") & " años " & DATEDIF(E79,F79,"ym") & " meses " & DATEDIF(E79,F79,"md") & " días" -> 0 años 0 meses 0 días | H79: =(E79-F79)*-1 -> 0 | J79: =SUMIF(C79:$C$84,I79,$H$77:$H$84) -> 0 | K79: =+J79/30 -> 0 | AX79: 49. FUNDACIÓN CONSTRUYENDO UN NUEVO FUTURO | AY79: 3 | BD79: 0 años 0 meses 0 días | BE79: -1 | BJ79: X
A80: =A79 -> 0 | B80: 4 | G80: =DATEDIF(E80,F80,"y") & " años " & DATEDIF(E80,F80,"ym") & " meses " & DATEDIF(E80,F80,"md") & " días" -> 0 años 0 meses 0 días | H80: =(E80-F80)*-1 -> 0 | J80: =SUMIF(C80:$C$84,I80,$H$77:$H$84) -> 0 | K80: =+J80/30 -> 0 | AX80: 49. FUNDACIÓN CONSTRUYENDO UN NUEVO FUTURO | AY80: 4 | AZ80: Choco | BA80: CONVENIO No. 03 DE 2015 | BB80: 42040 | BC80: 42343 | BD80: 0 años 10 meses 0 días | BE80: 302 | BI80: Se ajustan las fechas de inicio y terminación de la certificación de acuerdo con la inforamción validada en los soportes | BJ80: x
A81: =A80 -> 0 | B81: 5 | G81: =DATEDIF(E81,F81,"y") & " años " & DATEDIF(E81,F81,"ym") & " meses " & DATEDIF(E81,F81,"md") & " días" -> 0 años 0 meses 0 días | H81: =(E81-F81)*-1 -> 0 | J81: =SUMIF(C81:$C$84,I81,$H$77:$H$84) -> 0 | K81: =+J81/30 -> 0 | AX81: 49. FUNDACIÓN CONSTRUYENDO UN NUEVO FUTURO | AY81: 5 | AZ81: Choco | BA81: CONTRATO No. 04 DE 2018 | BB81: 43153 | BC81: 43456 | BD81: 0 años 10 meses 0 días | BE81: 302 | BI81: Se ajustan: número de certificación las fechas de inicio y terminación de la certificación de acuerdo con la información validada en los soportes | BJ81: x
A82: =A81 -> 0 | B82: 6 | G82: =DATEDIF(E82,F82,"y") & " años " & DATEDIF(E82,F82,"ym") & " meses " & DATEDIF(E82,F82,"md") & " días" -> 0 años 0 meses 0 días | H82: =(E82-F82)*-1 -> 0 | J82: =SUMIF(C82:$C$84,I82,$H$77:$H$84) -> 0 | K82: =+J82/30 -> 0 | AX82: 49. FUNDACIÓN CONSTRUYENDO UN NUEVO FUTURO | AY82: 6 | AZ82: Choco | BA82: CONTRATO No. 10 DE 2019 | BB82: 43497 | BC82: 43799 | BD82: 0 años 9 meses 29 días | BE82: 301 | BI82: revisar | BJ82: X
A83: =A82 -> 0 | B83: 7 | G83: =DATEDIF(E83,F83,"y") & " años " & DATEDIF(E83,F83,"ym") & " meses " & DATEDIF(E83,F83,"md") & " días" -> 0 años 0 meses 0 días | H83: =(E83-F83)*-1 -> 0 | J83: =SUMIF(C83:$C$84,I83,$H$77:$H$84) -> 0 | K83: =+J83/30 -> 0 | AX83: 49. FUNDACIÓN CONSTRUYENDO UN NUEVO FUTURO | AY83: 7 | AZ83: Choco | BA83: CONTRATO No. 10 DE 2020 | BB83: 43843 | BC83: 44043 | BD83: 0 años 6 meses 18 días | BE83: 199 | BI83: revisar | BJ83: X
A84: =A83 -> 0 | B84: 8 | G84: =DATEDIF(E84,F84,"y") & " años " & DATEDIF(E84,F84,"ym") & " meses " & DATEDIF(E84,F84,"md") & " días" -> 0 años 0 meses 0 días | H84: =(E84-F84)*-1 -> 0 | J84: =SUMIF(C84:$C$84,I84,$H$77:$H$84) -> 0 | K84: =+J84/30 -> 0 | AX84: 49. FUNDACIÓN CONSTRUYENDO UN NUEVO FUTURO | AY84: 8 | BD84: 0 años 0 meses 0 días | BE84: -1 | BJ84: X
B85: 1 | G85: =DATEDIF(E85,F85,"y") & " años " & DATEDIF(E85,F85,"ym") & " meses " & DATEDIF(E85,F85,"md") & " días" -> 0 años 0 meses 0 días | H85: =(E85-F85)*-1 -> 0 | J85: =SUMIF($C$85:$C$92,I85,$H$85:$H$92) -> 0 | K85: =+J85/30 -> 0 | AX85: 53. CORPORACIÓN MUNDO AZUL | AY85: 1 | AZ85: Choco | BA85: Corporación Atrato Integral | BB85: 43862 | BC85: 44042 | BD85: 0 años 5 meses 29 días | BE85: 179 | BF85: Choco | BG85: 1751 | BH85: 58.366667 | BI85: Se ajusta la fecha de terminación de la certificación de junio a julio. | BJ85: x
A86: =A85 -> 0 | B86: 2 | G86: =DATEDIF(E86,F86,"y") & " años " & DATEDIF(E86,F86,"ym") & " meses " & DATEDIF(E86,F86,"md") & " días" -> 0 años 0 meses 0 días | H86: =(E86-F86)*-1 -> 0 | J86: =SUMIF($C$85:$C$92,I86,$H$85:$H$92) -> 0 | K86: =+J86/30 -> 0 | AX86: 53. CORPORACIÓN MUNDO AZUL | AY86: 2 | AZ86: Choco | BA86: Fomen Salud IPS móvil | BB86: 43543 | BC86: 43819 | BD86: 0 años 9 meses 1 días | BE86: 275 | BJ86: x
A87: =A86 -> 0 | B87: 3 | G87: =DATEDIF(E87,F87,"y") & " años " & DATEDIF(E87,F87,"ym") & " meses " & DATEDIF(E87,F87,"md") & " días" -> 0 años 0 meses 0 días | H87: =(E87-F87)*-1 -> 0 | J87: =SUMIF($C$85:$C$92,I87,$H$85:$H$92) -> 0 | K87: =+J87/30 -> 0 | AX87: 53. CORPORACIÓN MUNDO AZUL | AY87: 3 | AZ87: Choco | BA87: Representaciones NESAR | BB87: 43122 | BC87: 43460 | BD87: 0 años 11 meses 4 días | BE87: 337 | BJ87: x
A88: =A87 -> 0 | B88: 4 | G88: =DATEDIF(E88,F88,"y") & " años " & DATEDIF(E88,F88,"ym") & " meses " & DATEDIF(E88,F88,"md") & " días" -> 0 años 0 meses 0 días | H88: =(E88-F88)*-1 -> 0 | J88: =SUMIF($C$85:$C$92,I88,$H$85:$H$92) -> 0 | K88: =+J88/30 -> 0 | AX88: 53. CORPORACIÓN MUNDO AZUL | AY88: 4 | AZ88: Choco | BA88: Consejo Comunitario YutoJIGUDA | BB88: 42773 | BC88: 43062 | BD88: 0 años 9 meses 16 días | BE88: 288 | BJ88: x
A89: =A88 -> 0 | B89: 5 | G89: =DATEDIF(E89,F89,"y") & " años " & DATEDIF(E89,F89,"ym") & " meses " & DATEDIF(E89,F89,"md") & " días" -> 0 años 0 meses 0 días | H89: =(E89-F89)*-1 -> 0 | J89: =SUMIF($C$85:$C$92,I89,$H$85:$H$92) -> 0 | K89: =+J89/30 -> 0 | AX89: 53. CORPORACIÓN MUNDO AZUL | AY89: 5 | AZ89: Choco | BA89: Fomen Salud IPS Móvil | BB89: 42381 | BC89: 42691 | BD89: 0 años 10 meses 5 días | BE89: 309 | BJ89: x
A90: =A89 -> 0 | B90: 6 | G90: =DATEDIF(E90,F90,"y") & " años " & DATEDIF(E90,F90,"ym") & " meses " & DATEDIF(E90,F90,"md") & " días" -> 0 años 0 meses 0 días | H90: =(E90-F90)*-1 -> 0 | J90: =SUMIF($C$85:$C$92,I90,$H$85:$H$92) -> 0 | K90: =+J90/30 -> 0 | AX90: 53. CORPORACIÓN MUNDO AZUL | AY90: 6 | AZ90: Choco | BA90: Fundación Construyendo un Nuevo Futuro | BB90: 42065 | BC90: 42249 | BD90: 0 años 6 meses 0 días | BE90: 183 | BJ90: x
A91: =A90 -> 0 | B91: 7 | G91: =DATEDIF(E91,F91,"y") & " años " & DATEDIF(E91,F91,"ym") & " meses " & DATEDIF(E91,F91,"md") & " días" -> 0 años 0 meses 0 días | H91: =(E91-F91)*-1 -> 0 | J91: =SUMIF($C$85:$C$92,I91,$H$85:$H$92) -> 0 | K91: =+J91/30 -> 0 | AX91: 53. CORPORACIÓN MUNDO AZUL | AY91: 7 | AZ91: Choco | BA91: Fundación Construyendo un Nuevo Futuro | BB91: 41689 | BC91: 41870 | BD91: 0 años 6 meses 0 días | BE91: 180 | BJ91: x
A92: =A91 -> 0 | B92: 8 | G92: =DATEDIF(E92,F92,"y") & " años " & DATEDIF(E92,F92,"ym") & " meses " & DATEDIF(E92,F92,"md") & " días" -> 0 años 0 meses 0 días | H92: =(E92-F92)*-1 -> 0 | J92: =SUMIF($C$85:$C$92,I92,$H$85:$H$92) -> 0 | K92: =+J92/30 -> 0 | AX92: 53. CORPORACIÓN MUNDO AZUL | AY92: 8 | BD92: 0 años 0 meses 0 días | BE92: -1 | BJ92: X
B93: 1 | G93: =DATEDIF(E93,F93,"y") & " años " & DATEDIF(E93,F93,"ym") & " meses " & DATEDIF(E93,F93,"md") & " días" -> 0 años 0 meses 0 días | H93: =(E93-F93)*-1 -> 0 | J93: =SUMIF($C$93:$C$100,I93,$H$93:$H$100) -> 0 | K93: =+J93/30 -> 0 | AX93: 58. FUNDACIÓN HOGAR JUVENIL | AY93: 1 | AZ93: Bolivar | BA93: Fundación AMI | BB93: 41821 | BC93: 42735 | BD93: 2 años 5 meses 30 días | BE93: 913 | BF93: Bolivar | BG93: 1837 | BH93: 61.233333 | BJ93: x
A94: =A93 -> 0 | B94: 2 | G94: =DATEDIF(E94,F94,"y") & " años " & DATEDIF(E94,F94,"ym") & " meses " & DATEDIF(E94,F94,"md") & " días" -> 0 años 0 meses 0 días | H94: =(E94-F94)*-1 -> 0 | J94: =SUMIF($C$93:$C$100,I94,$H$93:$H$100) -> 0 | K94: =+J94/30 -> 0 | AX94: 58. FUNDACIÓN HOGAR JUVENIL | AY94: 2 | AZ94: Bolivar | BA94: 0908-2016. | BB94: 42720 | BC94: 43084 | BD94: 0 años 11 meses 29 días | BE94: 363 | BG94: 1837 | BJ94: x
A95: =A94 -> 0 | B95: 3 | G95: =DATEDIF(E95,F95,"y") & " años " & DATEDIF(E95,F95,"ym") & " meses " & DATEDIF(E95,F95,"md") & " días" -> 0 años 0 meses 0 días | H95: =(E95-F95)*-1 -> 0 | J95: =SUMIF($C$93:$C$100,I95,$H$93:$H$100) -> 0 | K95: =+J95/30 -> 0 | AX95: 58. FUNDACIÓN HOGAR JUVENIL | AY95: 3 | AZ95: Bolivar | BA95: 0403-2017 | BB95: 43085 | BC95: 43312 | BD95: 0 años 7 meses 15 días | BE95: 226 | BJ95: x
A96: =A95 -> 0 | B96: 4 | G96: =DATEDIF(E96,F96,"y") & " años " & DATEDIF(E96,F96,"ym") & " meses " & DATEDIF(E96,F96,"md") & " días" -> 0 años 0 meses 0 días | H96: =(E96-F96)*-1 -> 0 | J96: =SUMIF($C$93:$C$100,I96,$H$93:$H$100) -> 0 | K96: =+J96/30 -> 0 | AX96: 58. FUNDACIÓN HOGAR JUVENIL | AY96: 4 | AZ96: Bolivar | BA96: 0329-2018 | BB96: 43329 | BC96: 43404 | BD96: 0 años 2 meses 14 días | BE96: 74 | BJ96: x
A97: =A96 -> 0 | B97: 5 | G97: =DATEDIF(E97,F97,"y") & " años " & DATEDIF(E97,F97,"ym") & " meses " & DATEDIF(E97,F97,"md") & " días" -> 0 años 0 meses 0 días | H97: =(E97-F97)*-1 -> 0 | J97: =SUMIF($C$93:$C$100,I97,$H$93:$H$100) -> 0 | K97: =+J97/30 -> 0 | AX97: 58. FUNDACIÓN HOGAR JUVENIL | AY97: 5 | AZ97: Bolivar | BA97: 0280-2019 | BB97: 43657 | BC97: 43818 | BD97: 0 años 5 meses 8 días | BE97: 160 | BI97: Se ajusta día de fecha de terminación de la certificación de 18 a 19 de diciembre | BJ97: x
A98: =A97 -> 0 | B98: 6 | G98: =DATEDIF(E98,F98,"y") & " años " & DATEDIF(E98,F98,"ym") & " meses " & DATEDIF(E98,F98,"md") & " días" -> 0 años 0 meses 0 días | H98: =(E98-F98)*-1 -> 0 | J98: =SUMIF($C$93:$C$100,I98,$H$93:$H$100) -> 0 | K98: =+J98/30 -> 0 | AX98: 58. FUNDACIÓN HOGAR JUVENIL | AY98: 6 | AZ98: Bolivar | BA98: 0373-2019 | BB98: 43819 | BC98: 43921 | BD98: 0 años 3 meses 11 días | BE98: 101 | BJ98: x
A99: =A98 -> 0 | B99: 7 | G99: =DATEDIF(E99,F99,"y") & " años " & DATEDIF(E99,F99,"ym") & " meses " & DATEDIF(E99,F99,"md") & " días" -> 0 años 0 meses 0 días | H99: =(E99-F99)*-1 -> 0 | J99: =SUMIF($C$93:$C$100,I99,$H$93:$H$100) -> 0 | K99: =+J99/30 -> 0 | AX99: 58. FUNDACIÓN HOGAR JUVENIL | AY99: 7 | BD99: 0 años 0 meses 0 días | BE99: -1 | BJ99: X
A100: =A99 -> 0 | B100: 8 | G100: =DATEDIF(E100,F100,"y") & " años " & DATEDIF(E100,F100,"ym") & " meses " & DATEDIF(E100,F100,"md") & " días" -> 0 años 0 meses 0 días | H100: =(E100-F100)*-1 -> 0 | J100: =SUMIF($C$93:$C$100,I100,$H$93:$H$100) -> 0 | K100: =+J100/30 -> 0 | AX100: 58. FUNDACIÓN HOGAR JUVENIL | AY100: 8 | BD100: 0 años 0 meses 0 días | BE100: -1 | BJ100: X
...

Sheet RESUMEN
A1: EXPERIENCIA EN TERRITORIO
A2: INVITACIÓN PÚBLICA IP-001-2020-ICBFSEN
A3: BANCO NACIONAL DE OFERENTES
A4: 15. FUNDACIÓN SOCIAL Y CULTURAL AGROAMBIENTE | C4: DEPARTAMENTO | E4: TOTAL EXPERIENCIA MESES | F4: HIPERVINCULO
A5: 15. FUNDACIÓN SOCIAL Y CULTURAL AGROAMBIENTE | B5: 454 | C5: Bolivar | D5: 1489 | E5: ='EXPERIENCIA EN TERRITORIO'!K5 -> 0
A6: 15. FUNDACIÓN SOCIAL Y CULTURAL AGROAMBIENTE | B6: 600 | C6: Atlantico | D6: 486 | E6: ='EXPERIENCIA EN TERRITORIO'!K6 -> 0
A7: 15. FUNDACIÓN SOCIAL Y CULTURAL AGROAMBIENTE | B7: 435 | F7: https://icbfgob.sharepoint.com/:f:/r/sites/FS_DNU/Documentos%20compartidos/2020/BON_2020/EVALUADORES%202021?csf=1&web=1&e=9hRYS8
A8: 15. FUNDACIÓN SOCIAL Y CULTURAL AGROAMBIENTE | B8: 486 | F8: https://icbfgob.sharepoint.com/:f:/r/sites/FS_DNU/Documentos%20compartidos/2020/BON_2020/EVALUADORES%202021?csf=1&web=1&e=9hRYS8
A9: 15. FUNDACIÓN SOCIAL Y CULTURAL AGROAMBIENTE | B9: -1 | F9: https://icbfgob.sharepoint.com/:f:/r/sites/FS_DNU/Documentos%20compartidos/2020/BON_2020/EVALUADORES%202021?csf=1&web=1&e=9hRYS8
A10: 15. FUNDACIÓN SOCIAL Y CULTURAL AGROAMBIENTE | B10: -1 | F10: https://icbfgob.sharepoint.com/:f:/r/sites/FS_DNU/Documentos%20compartidos/2020/BON_2020/EVALUADORES%202021?csf=1&web=1&e=9hRYS8
A11: 15. FUNDACIÓN SOCIAL Y CULTURAL AGROAMBIENTE | B11: -1 | F11: https://icbfgob.sharepoint.com/:f:/r/sites/FS_DNU/Documentos%20compartidos/2020/BON_2020/EVALUADORES%202021?csf=1&web=1&e=9hRYS8
A12: 15. FUNDACIÓN SOCIAL Y CULTURAL AGROAMBIENTE | B12: -1 | F12: https://icbfgob.sharepoint.com/:f:/r/sites/FS_DNU/Documentos%20compartidos/2020/BON_2020/EVALUADORES%202021?csf=1&web=1&e=9hRYS8
B13: 4 | F13: https://icbfgob.sharepoint.com/:f:/r/sites/FS_DNU/Documentos%20compartidos/2020/BON_2020/EVALUADORES%202021?csf=1&web=1&e=9hRYS8
A14: 20. FUNDACIÓN OXIGENO | F14: https://icbfgob.sharepoint.com/:f:/r/sites/FS_DNU/Documentos%20compartidos/2020/BON_2020/EVALUADORES%202021?csf=1&web=1&e=9hRYS8
A15: 20. FUNDACIÓN OXIGENO | B15: 342 | C15: Choco | D15: 1745 | E15: ='EXPERIENCIA EN TERRITORIO'!K13 -> 0
A16: 20. FUNDACIÓN OXIGENO | B16: 333 | F16: https://icbfgob.sharepoint.com/:f:/r/sites/FS_DNU/Documentos%20compartidos/2020/BON_2020/EVALUADORES%202021?csf=1&web=1&e=9hRYS8
A17: 20. FUNDACIÓN OXIGENO | B17: 363 | F17: https://icbfgob.sharepoint.com/:f:/r/sites/FS_DNU/Documentos%20compartidos/2020/BON_2020/EVALUADORES%202021?csf=1&web=1&e=9hRYS8
A18: 20. FUNDACIÓN OXIGENO | B18: 708 | F18: https://icbfgob.sharepoint.com/:f:/r/sites/FS_DNU/Documentos%20compartidos/2020/BON_2020/EVALUADORES%202021?csf=1&web=1&e=9hRYS8
A19: 20. FUNDACIÓN OXIGENO | B19: -1 | F19: https://icbfgob.sharepoint.com/:f:/r/sites/FS_DNU/Documentos%20compartidos/2020/BON_2020/EVALUADORES%202021?csf=1&web=1&e=9hRYS8
A20: 20. FUNDACIÓN OXIGENO | B20: -1 | F20: https://icbfgob.sharepoint.com/:f:/r/sites/FS_DNU/Documentos%20compartidos/2020/BON_2020/EVALUADORES%202021?csf=1&web=1&e=9hRYS8
A21: 20. FUNDACIÓN OXIGENO | B21: -1 | F21: https://icbfgob.sharepoint.com/:f:/r/sites/FS_DNU/Documentos%20compartidos/2020/BON_2020/EVALUADORES%202021?csf=1&web=1&e=9hRYS8
A22: 20. FUNDACIÓN OXIGENO | B22: -1 | F22: https://icbfgob.sharepoint.com/:f:/r/sites/FS_DNU/Documentos%20compartidos/2020/BON_2020/EVALUADORES%202021?csf=1&web=1&e=9hRYS8
B23: 3 | F23: https://icbfgob.sharepoint.com/:f:/r/sites/FS_DNU/Documentos%20compartidos/2020/BON_2020/EVALUADORES%202021?csf=1&web=1&e=9hRYS8
A24: 25. CORPORACIÓN PARA EL DESARROLLO SOCIAL, FAMILIAR, COMUNITARIO E INSTITUCIONAL | F24: https://icbfgob.sharepoint.com/:f:/r/sites/FS_DNU/Documentos%20compartidos/2020/BON_2020/EVALUADORES%202021?csf=1&web=1&e=9hRYS8
A25: 25. CORPORACIÓN PARA EL DESARROLLO SOCIAL, FAMILIAR, COMUNITARIO E INSTITUCIONAL | B25: 344 | C25: Choco | D25: 2363 | E25: ='EXPERIENCIA EN TERRITORIO'!K21 -> 0
A26: 25. CORPORACIÓN PARA EL DESARROLLO SOCIAL, FAMILIAR, COMUNITARIO E INSTITUCIONAL | B26: 272 | F26: https://icbfgob.sharepoint.com/:f:/r/sites/FS_DNU/Documentos%20compartidos/2020/BON_2020/EVALUADORES%202021?csf=1&web=1&e=9hRYS8
A27: 25. CORPORACIÓN PARA EL DESARROLLO SOCIAL, FAMILIAR, COMUNITARIO E INSTITUCIONAL | B27: 362 | F27: https://icbfgob.sharepoint.com/:f:/r/sites/FS_DNU/Documentos%20compartidos/2020/BON_2020/EVALUADORES%202021?csf=1&web=1&e=9hRYS8
A28: 25. CORPORACIÓN PARA EL DESARROLLO SOCIAL, FAMILIAR, COMUNITARIO E INSTITUCIONAL | B28: 121 | F28: https://icbfgob.sharepoint.com/:f:/r/sites/FS_DNU/Documentos%20compartidos/2020/BON_2020/EVALUADORES%202021?csf=1&web=1&e=9hRYS8
A29: 25. CORPORACIÓN PARA EL DESARROLLO SOCIAL, FAMILIAR, COMUNITARIO E INSTITUCIONAL | B29: 200 | F29: https://icbfgob.sharepoint.com/:f:/r/sites/FS_DNU/Documentos%20compartidos/2020/BON_2020/EVALUADORES%202021?csf=1&web=1&e=9hRYS8
A30: 25. CORPORACIÓN PARA EL DESARROLLO SOCIAL, FAMILIAR, COMUNITARIO E INSTITUCIONAL | B30: 89 | F30: https://icbfgob.sharepoint.com/:f:/r/sites/FS_DNU/Documentos%20compartidos/2020/BON_2020/EVALUADORES%202021?csf=1&web=1&e=9hRYS8
A31: 25. CORPORACIÓN PARA EL DESARROLLO SOCIAL, FAMILIAR, COMUNITARIO E INSTITUCIONAL | B31: 237 | F31: https://icbfgob.sharepoint.com/:f:/r/sites/FS_DNU/Documentos%20compartidos/2020/BON_2020/EVALUADORES%202021?csf=1&web=1&e=9hRYS8
A32: 25. CORPORACIÓN PARA EL DESARROLLO SOCIAL, FAMILIAR, COMUNITARIO E INSTITUCIONAL | B32: 738 | F32: https://icbfgob.sharepoint.com/:f:/r/sites/FS_DNU/Documentos%20compartidos/2020/BON_2020/EVALUADORES%202021?csf=1&web=1&e=9hRYS8
B33: 0 | F33: https://icbfgob.sharepoint.com/:f:/r/sites/FS_DNU/Documentos%20compartidos/2020/BON_2020/EVALUADORES%202021?csf=1&web=1&e=9hRYS8
A34: 26. FUNDACIÓN PARA LA EDUCACIÓN Y DESARROLLO SOCIAL | F34: https://icbfgob.sharepoint.com/:f:/r/sites/FS_DNU/Documentos%20compartidos/2020/BON_2020/EVALUADORES%202021?csf=1&web=1&e=9hRYS8
A35: 26. FUNDACIÓN PARA LA EDUCACIÓN Y DESARROLLO SOCIAL | B35: 95 | C35: La Guajira | D35: 958 | E35: ='EXPERIENCIA EN TERRITORIO'!K29 -> 0
A36: 26. FUNDACIÓN PARA LA EDUCACIÓN Y DESARROLLO SOCIAL | B36: 120 | C36: Choco | D36: 365 | E36: ='EXPERIENCIA EN TERRITORIO'!K30 -> 0
A37: 26. FUNDACIÓN PARA LA EDUCACIÓN Y DESARROLLO SOCIAL | B37: 151 | C37: Cesar | D37: 1033 | E37: ='EXPERIENCIA EN TERRITORIO'!K31 -> 0
A38: 26. FUNDACIÓN PARA LA EDUCACIÓN Y DESARROLLO SOCIAL | B38: 365 | F38: https://icbfgob.sharepoint.com/:f:/r/sites/FS_DNU/Documentos%20compartidos/2020/BON_2020/EVALUADORES%202021?csf=1&web=1&e=9hRYS8
A39: 26. FUNDACIÓN PARA LA EDUCACIÓN Y DESARROLLO SOCIAL | B39: 240 | F39: https://icbfgob.sharepoint.com/:f:/r/sites/FS_DNU/Documentos%20compartidos/2020/BON_2020/EVALUADORES%202021?csf=1&web=1&e=9hRYS8
A40: 26. FUNDACIÓN PARA LA EDUCACIÓN Y DESARROLLO SOCIAL | B40: 108 | F40: https://icbfgob.sharepoint.com/:f:/r/sites/FS_DNU/Documentos%20compartidos/2020/BON_2020/EVALUADORES%202021?csf=1&web=1&e=9hRYS8
A41: 26. FUNDACIÓN PARA LA EDUCACIÓN Y DESARROLLO SOCIAL | B41: 244 | F41: https://icbfgob.sharepoint.com/:f:/r/sites/FS_DNU/Documentos%20compartidos/2020/BON_2020/EVALUADORES%202021?csf=1&web=1&e=9hRYS8
A42: 26. FUNDACIÓN PARA LA EDUCACIÓN Y DESARROLLO SOCIAL | B42: 1033 | F42: https://icbfgob.sharepoint.com/:f:/r/sites/FS_DNU/Documentos%20compartidos/2020/BON_2020/EVALUADORES%202021?csf=1&web=1&e=9hRYS8
B43: -1033 | F43: https://icbfgob.sharepoint.com/:f:/r/sites/FS_DNU/Documentos%20compartidos/2020/BON_2020/EVALUADORES%202021?csf=1&web=1&e=9hRYS8
A44: 29. CORPORACIÓN PARA EL FOMENTO SOCIAL DE COLOMBIA | F44: https://icbfgob.sharepoint.com/:f:/r/sites/FS_DNU/Documentos%20compartidos/2020/BON_2020/EVALUADORES%202021?csf=1&web=1&e=9hRYS8
A45: 29. CORPORACIÓN PARA EL FOMENTO SOCIAL DE COLOMBIA | B45: 423 | C45: Meta | D45: 1602 | E45: ='EXPERIENCIA EN TERRITORIO'!K37 -> 0
A46: 29. CORPORACIÓN PARA EL FOMENTO SOCIAL DE COLOMBIA | B46: 379 | F46: https://icbfgob.sharepoint.com/:f:/r/sites/FS_DNU/Documentos%20compartidos/2020/BON_2020/EVALUADORES%202021?csf=1&web=1&e=9hRYS8
A47: 29. CORPORACIÓN PARA EL FOMENTO SOCIAL DE COLOMBIA | B47: 135 | F47: https://icbfgob.sharepoint.com/:f:/r/sites/FS_DNU/Documentos%20compartidos/2020/BON_2020/EVALUADORES%202021?csf=1&web=1&e=9hRYS8
A48: 29. CORPORACIÓN PARA EL FOMENTO SOCIAL DE COLOMBIA | B48: 272 | F48: https://icbfgob.sharepoint.com/:f:/r/sites/FS_DNU/Documentos%20compartidos/2020/BON_2020/EVALUADORES%202021?csf=1&web=1&e=9hRYS8
A49: 29. CORPORACIÓN PARA EL FOMENTO SOCIAL DE COLOMBIA | B49: 212 | F49: https://icbfgob.sharepoint.com/:f:/r/sites/FS_DNU/Documentos%20compartidos/2020/BON_2020/EVALUADORES%202021?csf=1&web=1&e=9hRYS8
A50: 29. CORPORACIÓN PARA EL FOMENTO SOCIAL DE COLOMBIA | B50: 181 | F50: https://icbfgob.sharepoint.com/:f:/r/sites/FS_DNU/Documentos%20compartidos/2020/BON_2020/EVALUADORES%202021?csf=1&web=1&e=9hRYS8
A51: 29. CORPORACIÓN PARA EL FOMENTO SOCIAL DE COLOMBIA | B51: -1 | F51: https://icbfgob.sharepoint.com/:f:/r/sites/FS_DNU/Documentos%20compartidos/2020/BON_2020/EVALUADORES%202021?csf=1&web=1&e=9hRYS8
A52: 29. CORPORACIÓN PARA EL FOMENTO SOCIAL DE COLOMBIA | B52: -1 | F52: https://icbfgob.sharepoint.com/:f:/r/sites/FS_DNU/Documentos%20compartidos/2020/BON_2020/EVALUADORES%202021?csf=1&web=1&e=9hRYS8
B53: 2 | F53: https://icbfgob.sharepoint.com/:f:/r/sites/FS_DNU/Documentos%20compartidos/2020/BON_2020/EVALUADORES%202021?csf=1&web=1&e=9hRYS8
A54: 40. ASOCIACIÓN AGRO IMPULSO DEL CHOCO | F54: https://icbfgob.sharepoint.com/:f:/r/sites/FS_DNU/Documentos%20compartidos/2020/BON_2020/EVALUADORES%202021?csf=1&web=1&e=9hRYS8
A55: 40. ASOCIACIÓN AGRO IMPULSO DEL CHOCO | B55: 311 | C55: Choco | D55: 1853 | E55: ='EXPERIENCIA EN TERRITORIO'!K45 -> 0
A56: 40. ASOCIACIÓN AGRO IMPULSO DEL CHOCO | B56: 302 | F56: https://icbfgob.sharepoint.com/:f:/r/sites/FS_DNU/Documentos%20compartidos/2020/BON_2020/EVALUADORES%202021?csf=1&web=1&e=9hRYS8
A57: 40. ASOCIACIÓN AGRO IMPULSO DEL CHOCO | B57: 303 | F57: https://icbfgob.sharepoint.com/:f:/r/sites/FS_DNU/Documentos%20compartidos/2020/BON_2020/EVALUADORES%202021?csf=1&web=1&e=9hRYS8
A58: 40. ASOCIACIÓN AGRO IMPULSO DEL CHOCO | B58: 302 | F58: https://icbfgob.sharepoint.com/:f:/r/sites/FS_DNU/Documentos%20compartidos/2020/BON_2020/EVALUADORES%202021?csf=1&web=1&e=9hRYS8
A59: 40. ASOCIACIÓN AGRO IMPULSO DEL CHOCO | B59: 302 | F59: https://icbfgob.sharepoint.com/:f:/r/sites/FS_DNU/Documentos%20compartidos/2020/BON_2020/EVALUADORES%202021?csf=1&web=1&e=9hRYS8
A60: 40. ASOCIACIÓN AGRO IMPULSO DEL CHOCO | B60: 333 | F60: https://icbfgob.sharepoint.com/:f:/r/sites/FS_DNU/Documentos%20compartidos/2020/BON_2020/EVALUADORES%202021?csf=1&web=1&e=9hRYS8
A61: 40. ASOCIACIÓN AGRO IMPULSO DEL CHOCO | B61: -1 | F61: https://icbfgob.sharepoint.com/:f:/r/sites/FS_DNU/Documentos%20compartidos/2020/BON_2020/EVALUADORES%202021?csf=1&web=1&e=9hRYS8
A62: 40. ASOCIACIÓN AGRO IMPULSO DEL CHOCO | B62: -1 | F62: https://icbfgob.sharepoint.com/:f:/r/sites/FS_DNU/Documentos%20compartidos/2020/BON_2020/EVALUADORES%202021?csf=1&web=1&e=9hRYS8
B63: 2 | F63: https://icbfgob.sharepoint.com/:f:/r/sites/FS_DNU/Documentos%20compartidos/2020/BON_2020/EVALUADORES%202021?csf=1&web=1&e=9hRYS8
A64: 45. FUNDACIÓN COLOMBIANA CON SEGURIDAD ALIMENTARIA Y NUTRICIONAL | F64: https://icbfgob.sharepoint.com/:f:/r/sites/FS_DNU/Documentos%20compartidos/2020/BON_2020/EVALUADORES%202021?csf=1&web=1&e=9hRYS8
A65: 45. FUNDACIÓN COLOMBIANA CON SEGURIDAD ALIMENTARIA Y NUTRICIONAL | B65: 109 | C65: Choco | D65: 1638 | E65: ='EXPERIENCIA EN TERRITORIO'!K53 -> 0
A66: 45. FUNDACIÓN COLOMBIANA CON SEGURIDAD ALIMENTARIA Y NUTRICIONAL | B66: 368 | F66: https://icbfgob.sharepoint.com/:f:/r/sites/FS_DNU/Documentos%20compartidos/2020/BON_2020/EVALUADORES%202021?csf=1&web=1&e=9hRYS8
A67: 45. FUNDACIÓN COLOMBIANA CON SEGURIDAD ALIMENTARIA Y NUTRICIONAL | B67: 316 | F67: https://icbfgob.sharepoint.com/:f:/r/sites/FS_DNU/Documentos%20compartidos/2020/BON_2020/EVALUADORES%202021?csf=1&web=1&e=9hRYS8
A68: 45. FUNDACIÓN COLOMBIANA CON SEGURIDAD ALIMENTARIA Y NUTRICIONAL | B68: 344 | F68: https://icbfgob.sharepoint.com/:f:/r/sites/FS_DNU/Documentos%20compartidos/2020/BON_2020/EVALUADORES%202021?csf=1&web=1&e=9hRYS8
A69: 45. FUNDACIÓN COLOMBIANA CON SEGURIDAD ALIMENTARIA Y NUTRICIONAL | B69: 289 | F69: https://icbfgob.sharepoint.com/:f:/r/sites/FS_DNU/Documentos%20compartidos/2020/BON_2020/EVALUADORES%202021?csf=1&web=1&e=9hRYS8
A70: 45. FUNDACIÓN COLOMBIANA CON SEGURIDAD ALIMENTARIA Y NUTRICIONAL | B70: 212 | F70: https://icbfgob.sharepoint.com/:f:/r/sites/FS_DNU/Documentos%20compartidos/2020/BON_2020/EVALUADORES%202021?csf=1&web=1&e=9hRYS8
A71: 45. FUNDACIÓN COLOMBIANA CON SEGURIDAD ALIMENTARIA Y NUTRICIONAL | B71: -1 | F71: https://icbfgob.sharepoint.com/:f:/r/sites/FS_DNU/Documentos%20compartidos/2020/BON_2020/EVALUADORES%202021?csf=1&web=1&e=9hRYS8
A72: 45. FUNDACIÓN COLOMBIANA CON SEGURIDAD ALIMENTARIA Y NUTRICIONAL | B72: -1 | F72: https://icbfgob.sharepoint.com/:f:/r/sites/FS_DNU/Documentos%20compartidos/2020/BON_2020/EVALUADORES%202021?csf=1&web=1&e=9hRYS8
B73: 2 | F73: https://icbfgob.sharepoint.com/:f:/r/sites/FS_DNU/Documentos%20compartidos/2020/BON_2020/EVALUADORES%202021?csf=1&web=1&e=9hRYS8
A74: 46. ASOCIACIÓN DE JOVENES PROPONENTES DE CAMBIO PARA EL CHOCO | F74: https://icbfgob.sharepoint.com/:f:/r/sites/FS_DNU/Documentos%20compartidos/2020/BON_2020/EVALUADORES%202021?csf=1&web=1&e=9hRYS8
A75: 46. ASOCIACIÓN DE JOVENES PROPONENTES DE CAMBIO PARA EL CHOCO | B75: 631 | C75: Choco | D75: 1709 | E75: ='EXPERIENCIA EN TERRITORIO'!K61 -> 0
A76: 46. ASOCIACIÓN DE JOVENES PROPONENTES DE CAMBIO PARA EL CHOCO | B76: 724 | F76: https://icbfgob.sharepoint.com/:f:/r/sites/FS_DNU/Documentos%20compartidos/2020/BON_2020/EVALUADORES%202021?csf=1&web=1&e=9hRYS8
A77: 46. ASOCIACIÓN DE JOVENES PROPONENTES DE CAMBIO PARA EL CHOCO | B77: 354 | F77: https://icbfgob.sharepoint.com/:f:/r/sites/FS_DNU/Documentos%20compartidos/2020/BON_2020/EVALUADORES%202021?csf=1&web=1&e=9hRYS8
A78: 46. ASOCIACIÓN DE JOVENES PROPONENTES DE CAMBIO PARA EL CHOCO | B78: -1 | F78: https://icbfgob.sharepoint.com/:f:/r/sites/FS_DNU/Documentos%20compartidos/2020/BON_2020/EVALUADORES%202021?csf=1&web=1&e=9hRYS8
A79: 46. ASOCIACIÓN DE JOVENES PROPONENTES DE CAMBIO PARA EL CHOCO | B79: -1 | F79: https://icbfgob.sharepoint.com/:f:/r/sites/FS_DNU/Documentos%20compartidos/2020/BON_2020/EVALUADORES%202021?csf=1&web=1&e=9hRYS8
A80: 46. ASOCIACIÓN DE JOVENES PROPONENTES DE CAMBIO PARA EL CHOCO | B80: -1 | F80: https://icbfgob.sharepoint.com/:f:/r/sites/FS_DNU/Documentos%20compartidos/2020/BON_2020/EVALUADORES%202021?csf=1&web=1&e=9hRYS8
A81: 46. ASOCIACIÓN DE JOVENES PROPONENTES DE CAMBIO PARA EL CHOCO | B81: -1 | F81: https://icbfgob.sharepoint.com/:f:/r/sites/FS_DNU/Documentos%20compartidos/2020/BON_2020/EVALUADORES%202021?csf=1&web=1&e=9hRYS8
A82: 46. ASOCIACIÓN DE JOVENES PROPONENTES DE CAMBIO PARA EL CHOCO | B82: -1 | F82: https://icbfgob.sharepoint.com/:f:/r/sites/FS_DNU/Documentos%20compartidos/2020/BON_2020/EVALUADORES%202021?csf=1&web=1&e=9hRYS8
B83: 5 | F83: https://icbfgob.sharepoint.com/:f:/r/sites/FS_DNU/Documentos%20compartidos/2020/BON_2020/EVALUADORES%202021?csf=1&web=1&e=9hRYS8
A84: 48. FUNDACIÓN AMIGOS DE LA COMUNIDAD DE COLOMBIA | F84: https://icbfgob.sharepoint.com/:f:/r/sites/FS_DNU/Documentos%20compartidos/2020/BON_2020/EVALUADORES%202021?csf=1&web=1&e=9hRYS8
A85: 48. FUNDACIÓN AMIGOS DE LA COMUNIDAD DE COLOMBIA | B85: 364 | C85: CESAR | D85: 1693 | E85: ='EXPERIENCIA EN TERRITORIO'!K69 -> 0
A86: 48. FUNDACIÓN AMIGOS DE LA COMUNIDAD DE COLOMBIA | B86: 271 | F86: https://icbfgob.sharepoint.com/:f:/r/sites/FS_DNU/Documentos%20compartidos/2020/BON_2020/EVALUADORES%202021?csf=1&web=1&e=9hRYS8
A87: 48. FUNDACIÓN AMIGOS DE LA COMUNIDAD DE COLOMBIA | B87: 43 | F87: https://icbfgob.sharepoint.com/:f:/r/sites/FS_DNU/Documentos%20compartidos/2020/BON_2020/EVALUADORES%202021?csf=1&web=1&e=9hRYS8
A88: 48. FUNDACIÓN AMIGOS DE LA COMUNIDAD DE COLOMBIA | B88: 364 | F88: https://icbfgob.sharepoint.com/:f:/r/sites/FS_DNU/Documentos%20compartidos/2020/BON_2020/EVALUADORES%202021?csf=1&web=1&e=9hRYS8
A89: 48. FUNDACIÓN AMIGOS DE LA COMUNIDAD DE COLOMBIA | B89: 359 | F89: https://icbfgob.sharepoint.com/:f:/r/sites/FS_DNU/Documentos%20compartidos/2020/BON_2020/EVALUADORES%202021?csf=1&web=1&e=9hRYS8
A90: 48. FUNDACIÓN AMIGOS DE LA COMUNIDAD DE COLOMBIA | B90: 119 | F90: https://icbfgob.sharepoint.com/:f:/r/sites/FS_DNU/Documentos%20compartidos/2020/BON_2020/EVALUADORES%202021?csf=1&web=1&e=9hRYS8
A91: 48. FUNDACIÓN AMIGOS DE LA COMUNIDAD DE COLOMBIA | B91: 173 | F91: https://icbfgob.sharepoint.com/:f:/r/sites/FS_DNU/Documentos%20compartidos/2020/BON_2020/EVALUADORES%202021?csf=1&web=1&e=9hRYS8
A92: 48. FUNDACIÓN AMIGOS DE LA COMUNIDAD DE COLOMBIA | B92: -1 | F92: https://icbfgob.sharepoint.com/:f:/r/sites/FS_DNU/Documentos%20compartidos/2020/BON_2020/EVALUADORES%202021?csf=1&web=1&e=9hRYS8
B93: 1 | F93: https://icbfgob.sharepoint.com/:f:/r/sites/FS_DNU/Documentos%20compartidos/2020/BON_2020/EVALUADORES%202021?csf=1&web=1&e=9hRYS8
A94: 49. FUNDACIÓN CONSTRUYENDO UN NUEVO FUTURO | F94: https://icbfgob.sharepoint.com/:f:/r/sites/FS_DNU/Documentos%20compartidos/2020/BON_2020/EVALUADORES%202021?csf=1&web=1&e=9hRYS8
A95: 49. FUNDACIÓN CONSTRUYENDO UN NUEVO FUTURO | B95: -1 | C95: Choco | D95: 1075 | E95: ='EXPERIENCIA EN TERRITORIO'!K77 -> 0
A96: 49. FUNDACIÓN CONSTRUYENDO UN NUEVO FUTURO | B96: -1 | F96: https://icbfgob.sharepoint.com/:f:/r/sites/FS_DNU/Documentos%20compartidos/2020/BON_2020/EVALUADORES%202021?csf=1&web=1&e=9hRYS8
A97: 49. FUNDACIÓN CONSTRUYENDO UN NUEVO FUTURO | B97: -1 | F97: https://icbfgob.sharepoint.com/:f:/r/sites/FS_DNU/Documentos%20compartidos/2020/BON_2020/EVALUADORES%202021?csf=1&web=1&e=9hRYS8
A98: 49. FUNDACIÓN CONSTRUYENDO UN NUEVO FUTURO | B98: 274 | F98: https://icbfgob.sharepoint.com/:f:/r/sites/FS_DNU/Documentos%20compartidos/2020/BON_2020/EVALUADORES%202021?csf=1&web=1&e=9hRYS8
A99: 49. FUNDACIÓN CONSTRUYENDO UN NUEVO FUTURO | B99: 301 | F99: https://icbfgob.sharepoint.com/:f:/r/sites/FS_DNU/Documentos%20compartidos/2020/BON_2020/EVALUADORES%202021?csf=1&web=1&e=9hRYS8
A100: 49. FUNDACIÓN CONSTRUYENDO UN NUEVO FUTURO | B100: 301 | F100: https://icbfgob.sharepoint.com/:f:/r/sites/FS_DNU/Documentos%20compartidos/2020/BON_2020/EVALUADORES%202021?csf=1&web=1&e=9hRYS8
...
