Workbook

Sheet Hoja adicional
A1: EXPERIENCIA EN TERRITORIO
A2: INVITACIÓN PÚBLICA IP-001-2020-ICBFSEN
A3: BANCO NACIONAL DE OFERENTES
A4: DEPARTAMENTO DE LA CERTIFICACIÓN
C5: 1 | E5: 2 | G5: 3 | I5: 4 | K5: 5 | M5: 6 | O5: 7 | Q5: 8
A6: N° | B6: Nombre Proponente | C6: Departamento | D6: Municipio | E6: Departamento | F6: Municipio | G6: Departamento | H6: Municipio | I6: Departamento | J6: Municipio | K6: Departamento | L6: Municipio | M6: Departamento | N6: Municipio | O6: Departamento | P6: Municipio | Q6: Departamento | R6: Municipio
A7: 15 | B7: FUNDACIÓN SOCIAL Y CULTURAL AGROAMBIENTE | C7: Bolívar | D7: Cartagena | E7: Bolívar | F7: Magangué | G7: Bolívar | H7: Turbaco Cartagena | I7: Atlántico | J7: Barranquilla | K7: NA | L7: NA | M7: NA | N7: NA | O7: NA | P7: NA | Q7: NA | R7: NA
A8: 20 | B8: FUNDACIÓN OXIGENO | C8: Chocó | D8: El Canton del San Pablo, Certeguí, Tadó, Unión Panamericana | E8: Chocó | F8: Quibdó | G8: Chocó | H8: Riosucio | I8: Chocó | J8: Acandí | K8: Chocó | L8: Tadó | M8: NA | O8: NA | Q8: NA
A9: 25 | B9: CORPORACIÓN PARA EL DESARROLLO SOCIAL, FAMILIAR, COMUNITARIO E INSTITUCIONAL | C9: Chocó | D9: NA | E9: Chocó | F9: Alto Baudó | G9: Chocó | H9: Bojayá El Carmén del Daríen | I9: Chocó | J9: NA | K9: Chocó | L9: NA | M9: Chocó | N9: NA | O9: Chocó | P9: NA | Q9: Chocó | R9: NA
A10: 26 | B10: FUNDACIÓN PARA LA EDUCACIÓN Y DESARROLLO SOCIAL | C10: La Guajira | D10: Fonseca | E10: La Guajira | F10: No contiene | G10: La Guajira | H10: Riohacha | I10: Chocó | J10: Riohacha | K10: La Guajira | L10: Maicao | M10: La Guajira | N10: Riohacha | O10: La Guajira | P10: Riohacha | Q10: Cesar | R10: Aguachica
A11: 29 | B11: CORPORACIÓN PARA EL FOMENTO SOCIAL DE COLOMBIA | C11: Meta | D11: Puerto Gaitán | E11: Meta | F11: Villavicencio | G11: Meta | H11: Puerto Gaitán | I11: Meta | J11: Puerto Gaitán | K11: Meta | L11: Puerto Gaitán | M11: Meta | N11: Puerto Gaitán | O11: NA | Q11: NA
A12: 40 | B12: ASOCIACIÓN AGRO IMPULSO DEL CHOCO | C12: Chocó | D12: NA | E12: Chocó | F12: NA | G12: Chocó | H12: NA | I12: Chocó | J12: NA | K12: Chocó | L12: NA | M12: Chocó | N12: NA | O12: NA | Q12: NA
A13: 45 | B13: FUNDACIÓN COLOMBIANA CON SEGURIDAD ALIMENTARIA Y NUTRICIONAL | C13: Chocó | D13: Medio Baudó | E13: Chocó | F13: Alto Baudó | G13: Chocó | H13: Acandí | I13: Chocó | J13: NA | K13: Chocó | L13: NA | M13: Chocó | N13: Quibdó | O13: NA | Q13: NA
A14: 46 | B14: ASOCIACIÓN DE JOVENES PROPONENTES DE CAMBIO PARA EL CHOCO | C14: Chocó | D14: Acandí | E14: Chocó | F14: Alto Baudó | G14: Chocó | H14: Alto Baudó | I14: NA | J14: NA | K14: NA | L14: NA | M14: NA | O14: NA | Q14: NA
A15: 48 | B15: FUNDACIÓN AMIGOS DE LA COMUNIDAD DE COLOMBIA | C15: Nariño | D15: La Union | E15: Nariño | F15: La Union | G15: Nariño | H15: La Union | I15: Nariño | J15: La Union | K15: Nariño | L15: La Union | M15: Nariño | N15: La Union | O15: Nariño | P15: La Union | Q15: NA
A16: 49 | B16: FUNDACIÓN CONSTRUYENDO UN NUEVO FUTURO | C16: NA | G16: NA | I16: Chocó | K16: Chocó | M16: Chocó | O16: Chocó | Q16: NA
A17: 53 | B17: CORPORACIÓN MUNDO AZUL | C17: Chocó | D17: Subregión alto atrato: Lloro, Atrato | E17: Chocó | F17: Riosucio | G17: Chocó | H17: Quibdó | I17: Chocó | J17: Atrato-Yuto | K17: Chocó | L17: Bajo Baudo | M17: Chocó | N17: Litoral de San Juan | O17: Chocó | P17: Medio San Juan | Q17: NA
A18: 58 | B18: FUNDACIÓN HOGAR JUVENIL | C18: Bogotá D.C. | E18: Bolívar | G18: Bolívar | I18: Bolívar | K18: Bolívar | M18: Bolívar | O18: NA | Q18: NA
A19: 61 | B19: FUNDACIÓN CASA DEL NIÑO IPS | C19: Bolívar | D19: No contiene | E19: Bolívar | F19: No contiene | G19: Bolívar | H19: No contiene | I19: Bolívar | J19: No contiene | K19: Bolívar | L19: No contiene | M19: Bolívar | N19: No contiene | O19: Bolívar | P19: San Juan Nepomuceno | Q19: Bolívar | R19: San Juan Nepomuceno
A20: 62 | B20: FUNDACIÓN MARAMA | C20: Valle del Cauca | D20: No contiene | E20: Valle del Cauca | F20: No contiene | G20: Valle del Cauca | H20: No contiene | I20: Valle del Cauca | J20: No contiene | K20: Valle del Cauca | L20: No contiene | M20: Valle del Cauca | N20: No contiene | O20: Valle del Cauca | P20: No contiene | Q20: Valle del Cauca | R20: No contiene
A21: 64 | B21: FUNDACION AL SERVICIO REGIONAL-FUNDASER | C21: Córdoba | D21: No contiene | E21: Córdoba | F21: No contiene | G21: Córdoba | H21: No contiene | I21: Córdoba | J21: Chinú | K21: Sucre | L21: No contiene | M21: Sucre | N21: No contiene | O21: Sucre | P21: No contiene | Q21: NA
A22: 66 | B22: CORPOPIEDRALIPE | C22: Magdalena | D22: Plato, Sabanas de San Ángel, Ariguaní, Nueva Granada, Tenerife, Chivolo, El Piñón, Pivijay | E22: Magdalena | F22: El Banco | G22: Sucre | I22: Magdalena | J22: Aracataca | K22: Magdalena | M22: Sucre | O22: Sucre | Q22: Sucre | R22: Campo Alegre, Orejero, Bajo Grande, San Jose, La Palma, Las Trincheras, Las Clavellinas, Bajo Pureza, Santa Helena, Las Caracuchas, El Porvenir, El Palmar, Nuevo Mamon, Hato Nuevo, Arboleda, Córdoba, Santa Rosa, La Ventura, Naranjal, Nariño, San Luis
A23: 67 | B23: ASOCIACION INSTITUTO MIXTO JUAN JACOBO ROUSSEAU | C23: Córdoba | D23: Sahagún | E23: Córdoba | F23: Lorica | G23: Sucre | H23: Unión | I23: Córdoba | K23: Córdoba | M23: Córdoba | O23: NA | Q23: NA
A24: 68 | B24: FUNDACION PARA EL FORMENTO, DESARROLLO Y POTENCIALIZACION DE PROYECTOS INNOVADORES DEL PACIFICO COLOMBIANO - FUNDACION CHONTO CIMARRON | C24: Chocó | D24: Certegui | E24: NA | F24: NA | G24: NA | H24: NA | I24: NA | J24: NA | K24: NA | L24: NA | M24: NA | N24: NA | O24: NA | P24: NA | Q24: NA
A25: 74 | B25: FUNMANUS | C25: La Guajira | D25: Rioacha | E25: La Guajira | G25: La Guajira | I25: La Guajira | K25: Cesar | M25: Cesar | N25: Aguachica | O25: La Guajira | Q25: NA
A26: 76 | B26: FUNAPROM | C26: Nariño | D26: La Union | E26: NA | G26: NA | H26: NA | I26: NA | J26: NA | K26: NA | L26: NA | M26: NA | N26: NA | O26: NA | P26: NA | Q26: NA
A27: 82 | B27: FUSENPRO | C27: Putumayo | D27: Mocoa | E27: Nariño | F27: Pasto | G27: Putumayo | H27: Mocoa | I27: Nariño | J27: Pasto | K27: Putumayo | L27: Mocoa | M27: Putumayo | N27: Mocoa | O27: NA | Q27: NA
A28: 87 | B28: CORPORACION DIGNIFICAR | C28: Antioquía | D28: ARBOLETES | E28: CHOCÓ | F28: QUIBDÓ | G28: Antioquía | H28: No contiene | I28: Antioquía | J28: CAICEDO | K28: Antioquía | L28: BELLO | M28: Antioquía | N28: NECOCLÍ, ARBOLETES, TURBO, SAN JUAN DE URABÁ Y SAN PEDRO DE URBA | O28: NA | P28: NA | Q28: Antioquía | R28: ARBOLETES
A29: 97 | B29: FUNDACION UNIDAD SOCIAL BARRIO ADENTRO | C29: Magdalena | D29: Cienaga y Fundación | E29: Magdalena | F29: Zona Bananera | G29: Magdalena | H29: Fundación | I29: Magdalena | J29: Zona Bananera | K29: Magdalena | L29: Zona Bananera | M29: Córdoba | N29: Córdoba | O29: Córdoba | P29: Córdoba | Q29: Córdoba | R29: No contiene
A30: 106 | B30: FAVANSO | C30: Chocó | D30: No contiene | E30: Chocó | F30: No contiene | G30: Chocó | H30: Novita | I30: Chocó | J30: Bagadó, Tadó, Unión Panamericana. | K30: Chocó | L30: Nuquí | M30: Chocó | N30: Nuquí | O30: Chocó | P30: Nuquí | Q30: NA
A31: 108 | B31: CORPORACION ABRAZAR | C31: Chocó | D31: Medio Baudó | E31: Antioquia | F31: Angostura, Abriaqui, Anzá, Armenia. Santa Bárbara y San Pedro de Urabá | G31: Antioquía | H31: Amagá, Armenia, Dabeida, Mutatá, Necoclí, Salgar. | I31: Antioquía | J31: No contiene | K31: Antioquía | L31: Angostura, Briceño, Cáceres, Campamento, Donmatías, Murindó, Mutatá, Necoclí, Toledo, Turbo. | M31: Antioquía | N31: Amagá, Angostura, Armenia, Briceño, Cáceres, Campamento, San Juan de Urabá, Toledo. | O31: NA | Q31: NA
A32: 109 | B32: ASOCIACION PROFESIONALES DE COLOMBIA | C32: Bogotá D.C. | E32: Bogotá D.C. | G32: Bogotá D.C. | I32: Bogotá D.C. | K32: Cundinamarca | L32: Facatativá, Fusagasugá, San Juan de Rioseco, Ubaté, Villeta | M32: Bogotá D.C. | O32: Bogotá D.C. | Q32: Cundinamarca | R32: Facatativá, Fusagasugá, Villeta
A33: 112 | B33: FUNDAPADUA | C33: Valle del Cauca | E33: Valle del Cauca | G33: Valle del Cauca | I33: Valle del Cauca | K33: Valle del Cauca | M33: NA | O33: NA | Q33: NA
A34: 116 | B34: ASOAVANZAR | C34: Chocó | D34: Corregimientos de Paimadó y Villa Conto | E34: Chocó | F34: Cértegui | G34: Chocó | H34: Unguia | I34: Chocó | J34: Juradó | K34: Chocó | L34: Alto Baudo | M34: Chocó | N34: Alto Baudo | O34: NA | Q34: NA
A35: 119 | B35: FUNDACIÓN IMIX | C35: Tolima | E35: Tolima | G35: Tolima | I35: Tolima | K35: Tolima | M35: NA | O35: NA | Q35: NA
A36: 124 | B36: FUNDACIÓN SOCIAL DON BOSCO | C36: Cesar | D36: NA | E36: Cesar | F36: NA | G36: Cesar | H36: NA | I36: Cesar | J36: NA | K36: Cesar | L36: NA | M36: Cesar | N36: NA | O36: Cesar | P36: NA | Q36: Cesar | R36: NA
A37: 125 | B37: FUNDACIÓN PARA EL DESARROLLO DE LA CUENCA DEL PACIFICO | C37: Valle del Cauca | D37: Cali | E37: Nariño | F37: Mosquera, Tumaco. | G37: NA | I37: NA | K37: NA | M37: NA | O37: NA | Q37: NA
A38: 126 | B38: FUNDACIÓN COLOMBO ALEMANA VOLVER A SONREIR | C38: Santander | D38: NA | E38: Santander | F38: NA | G38: Santander | H38: NA | I38: Santander | J38: NA | K38: Santander | L38: NA | M38: Santander | N38: NA | O38: Santander | P38: NA | Q38: NA
A39: 127 | B39: BAYLOR COLLEGE OF MEDICINE CHILDRENS FOUNDATION COLOMBIA | C39: La Guajira | D39: Manaure | E39: La Guajira | F39: Manaure | G39: La Guajira | H39: Manaure | I39: La Guajira | J39: Manaure | K39: La Guajira | L39: Riohacha | M39: La Guajira | N39: Manaure | O39: NA | Q39: NA
A40: 130 | B40: ASOCIACIÓN JUVENIL VISIÓN FUTURA | C40: Bolívar | E40: Bolívar | G40: Bolívar | I40: Bolívar | K40: Bolívar | M40: Bolívar | O40: Bolívar | Q40: SUCRE
...

Sheet EXPERIENCIA EN TERRITORIO
A1: EXPERIENCIA EN TERRITORIO
A2: INVITACIÓN PÚBLICA IP-001-2020-ICBFSEN
A3: BANCO NACIONAL DE OFERENTES
A4: OFERENTES (No. Nombre Empresa) | B4: No. Certificación | C4: DEPARTAMENTO sin tildes | D4: No. CERTIFICACIÓN Número de Certificado o Constancia de radicado | E4: FECHA DE INICIO | F4: FECHA TERMINACIÓN | G4: TOTAL - D/M/A | H4: Columna1 | I4: DEPARTAMENTO Diligenciar | J4: Columna3 | K4: TOTAL EXPERIENCIA (30 dias) MESES (30 dias) | L4: OBSERVACIONES | M4: AVAL (X) | AX4: OFERENTE | AY4: N° | AZ4: DEPARTAMENTO | BA4: No. CERTIFICACIÓN | BB4: FECHA DE INICIO | BC4: FECHA TERMINACIÓN | BD4: TOTAL - D/M/A | BF4: DEPARTAMENTO | BH4: TOTAL EXPERIENCIA MESES | BI4: OBSERVACIONES | BJ4: AVAL (X)
B5: 1 | G5: =DATEDIF(E5,F5,"y") & " años " & DATEDIF(E5,F5,"ym") & " meses " & DATEDIF(E5,F5,"md") & " días" -> 0 años 0 meses 0 días | H5: =(E5-F5)*-1 -> 0 | J5: =SUMIF(C$5:C$12,I5,H$5:H$12) -> 0 | K5: =+J5/30 -> 0 | AX5: 15. FUNDACIÓN SOCIAL Y CULTURAL AGROAMBIENTE | AY5: 1 | AZ5: Bolivar | BA5: FM-061 DE 2014 | BB5: 41913 | BC5: 42368 | BD5: 1 años 2 meses 29 días | BE5: 454 | BF5: Bolivar | BG5: 1479 | BH5: 49.3 | BJ5: x
A6: =A5 -> 0 | B6: 2 | G6: =DATEDIF(E6,F6,"y") & " años " & DATEDIF(E6,F6,"ym") & " meses " & DATEDIF(E6,F6,"md") & " días" -> 0 años 0 meses 0 días | H6: =(E6-F6)*-1 -> 0 | J6: =SUMIF(C$5:C$12,I6,H$5:H$12) -> 0 | K6: =+J6/30 -> 0 | AX6: 15. FUNDACIÓN SOCIAL Y CULTURAL AGROAMBIENTE | AY6: 2 | AZ6: Bolivar | BA6: FS-025 DE 2016 | BB6: 42507 | BC6: 43098 | BD6: 1 años 7 meses 12 días | BE6: 590 | BF6: Atlantico | BG6: 486 | BH6: 16.2 | BI6: Se ajusta fecha de inicio : estaba 7 mayo 2016 | BJ6: x
A7: =A6 -> 0 | B7: 3 | G7: =DATEDIF(E7,F7,"y") & " años " & DATEDIF(E7,F7,"ym") & " meses " & DATEDIF(E7,F7,"md") & " días" -> 0 años 0 meses 0 días | H7: =(E7-F7)*-1 -> 0 | J7: =SUMIF(C$5:C$12,I7,H$5:H$12) -> 0 | K7: =+J7/30 -> 0 | AX7: 15. FUNDACIÓN SOCIAL Y CULTURAL AGROAMBIENTE | AY7: 3 | AZ7: Bolivar | BA7: CMDP-016 DE 2018 | BB7: 43116 | BC7: 43552 | BD7: 1 años 2 meses 12 días | BE7: 435 | BI7: Revisada sin cambio- carpeta preliminar | BJ7: x
A8: =A7 -> 0 | B8: 4 | G8: =DATEDIF(E8,F8,"y") & " años " & DATEDIF(E8,F8,"ym") & " meses " & DATEDIF(E8,F8,"md") & " días" -> 0 años 0 meses 0 días | H8: =(E8-F8)*-1 -> 0 | J8: =SUMIF(C$5:C$12,I8,H$5:H$12) -> 0 | K8: =+J8/30 -> 0 | AX8: 15. FUNDACIÓN SOCIAL Y CULTURAL AGROAMBIENTE | AY8: 4 | AZ8: Atlantico | BA8: FIC-052 DE 2019 | BB8: 43525 | BC8: 44012 | BD8: 1 años 3 meses 29 días | BE8: 486 | BI8: Revisada sin cambio- carpeta preliminar | BJ8: x
A9: =A8 -> 0 | B9: 5 | G9: =DATEDIF(E9,F9,"y") & " años " & DATEDIF(E9,F9,"ym") & " meses " & DATEDIF(E9,F9,"md") & " días" -> 0 años 0 meses 0 días | H9: =(E9-F9)*-1 -> 0 | J9: =SUMIF(C$5:C$12,I9,H$5:H$12) -> 0 | K9: =+J9/30 -> 0 | AX9: 15. FUNDACIÓN SOCIAL Y CULTURAL AGROAMBIENTE | AY9: 5 | BD9: 0 años 0 meses 0 días | BE9: -1 | BJ9: X
A10: =A9 -> 0 | B10: 6 | G10: =DATEDIF(E10,F10,"y") & " años " & DATEDIF(E10,F10,"ym") & " meses " & DATEDIF(E10,F10,"md") & " días" -> 0 años 0 meses 0 días | H10: =(E10-F10)*-1 -> 0 | J10: =SUMIF(C$5:C$12,I10,H$5:H$12) -> 0 | K10: =+J10/30 -> 0 | AX10: 15. FUNDACIÓN SOCIAL Y CULTURAL AGROAMBIENTE | AY10: 6 | BD10: 0 años 0 meses 0 días | BE10: -1 | BJ10: X
A11: =A10 -> 0 | B11: 7 | G11: =DATEDIF(E11,F11,"y") & " años " & DATEDIF(E11,F11,"ym") & " meses " & DATEDIF(E11,F11,"md") & " días" -> 0 años 0 meses 0 días | H11: =(E11-F11)*-1 -> 0 | J11: =SUMIF(C$5:C$12,I11,H$5:H$12) -> 0 | K11: =+J11/30 -> 0 | AX11: 15. FUNDACIÓN SOCIAL Y CULTURAL AGROAMBIENTE | AY11: 7 | BD11: 0 años 0 meses 0 días | BE11: -1 | BJ11: X
A12: =A11 -> 0 | B12: 8 | G12: =DATEDIF(E12,F12,"y") & " años " & DATEDIF(E12,F12,"ym") & " meses " & DATEDIF(E12,F12,"md") & " días" -> 0 años 0 meses 0 días | H12: =(E12-F12)*-1 -> 0 | J12: =SUMIF(C$5:C$12,I12,H$5:H$12) -> 0 | K12: =+J12/30 -> 0 | AX12: 15. FUNDACIÓN SOCIAL Y CULTURAL AGROAMBIENTE | AY12: 8 | BD12: 0 años 0 meses 0 días | BE12: -1 | BJ12: X
B13: 1 | G13: =DATEDIF(E13,F13,"y") & " años " & DATEDIF(E13,F13,"ym") & " meses " & DATEDIF(E13,F13,"md") & " días" -> 0 años 0 meses 0 días | H13: =(E13-F13)*-1 -> 0 | J13: =SUMIF($C$13:$C$20,I13,$H$13:$H$20) -> 0 | K13: =+J13/30 -> 0 | AX13: 20. FUNDACIÓN OXIGENO | AY13: 1 | AZ13: Choco | BA13: 109 | BB13: 43486 | BC13: 43829 | BD13: 0 años 11 meses 9 días | BE13: 342 | BF13: Choco | BG13: 1746 | BH13: 58.2 | BJ13: x
A14: =A13 -> 0 | B14: 2 | G14: =DATEDIF(E14,F14,"y") & " años " & DATEDIF(E14,F14,"ym") & " meses " & DATEDIF(E14,F14,"md") & " días" -> 0 años 0 meses 0 días | H14: =(E14-F14)*-1 -> 0 | J14: =SUMIF($C$13:$C$20,I14,$H$13:$H$20) -> 0 | K14: =+J14/30 -> 0 | AX14: 20. FUNDACIÓN OXIGENO | AY14: 2 | AZ14: Choco | BA14: 344 | BB14: 43070 | BC14: 43404 | BD14: 0 años 10 meses 30 días | BE14: 333 | BJ14: x
A15: =A14 -> 0 | B15: 3 | G15: =DATEDIF(E15,F15,"y") & " años " & DATEDIF(E15,F15,"ym") & " meses " & DATEDIF(E15,F15,"md") & " días" -> 0 años 0 meses 0 días | H15: =(E15-F15)*-1 -> 0 | J15: =SUMIF($C$13:$C$20,I15,$H$13:$H$20) -> 0 | K15: =+J15/30 -> 0 | AX15: 20. FUNDACIÓN OXIGENO | AY15: 3 | AZ15: Choco | BA15: 528 | BB15: 42720 | BC15: 43084 | BD15: 0 años 11 meses 29 días | BE15: 363 | BJ15: x
A16: =A15 -> 0 | B16: 4 | G16: =DATEDIF(E16,F16,"y") & " años " & DATEDIF(E16,F16,"ym") & " meses " & DATEDIF(E16,F16,"md") & " días" -> 0 años 0 meses 0 días | H16: =(E16-F16)*-1 -> 0 | J16: =SUMIF($C$13:$C$20,I16,$H$13:$H$20) -> 0 | K16: =+J16/30 -> 0 | AX16: 20. FUNDACIÓN OXIGENO | AY16: 4 | AZ16: Choco | BA16: 24 | BB16: 42025 | BC16: 42734 | BD16: 1 años 11 meses 9 días | BE16: 708 | BJ16: x
A17: =A16 -> 0 | B17: 5 | G17: =DATEDIF(E17,F17,"y") & " años " & DATEDIF(E17,F17,"ym") & " meses " & DATEDIF(E17,F17,"md") & " días" -> 0 años 0 meses 0 días | H17: =(E17-F17)*-1 -> 0 | J17: =SUMIF($C$13:$C$20,I17,$H$13:$H$20) -> 0 | K17: =+J17/30 -> 0 | AX17: 20. FUNDACIÓN OXIGENO | AY17: 5 | BD17: 0 años 0 meses 0 días | BE17: -1 | BJ17: X
A18: =A17 -> 0 | B18: 6 | G18: =DATEDIF(E18,F18,"y") & " años " & DATEDIF(E18,F18,"ym") & " meses " & DATEDIF(E18,F18,"md") & " días" -> 0 años 0 meses 0 días | H18: =(E18-F18)*-1 -> 0 | J18: =SUMIF($C$13:$C$20,I18,$H$13:$H$20) -> 0 | K18: =+J18/30 -> 0 | AX18: 20. FUNDACIÓN OXIGENO | AY18: 6 | BD18: 0 años 0 meses 0 días | BE18: -1 | BJ18: X
A19: =A18 -> 0 | B19: 7 | G19: =DATEDIF(E19,F19,"y") & " años " & DATEDIF(E19,F19,"ym") & " meses " & DATEDIF(E19,F19,"md") & " días" -> 0 años 0 meses 0 días | H19: =(E19-F19)*-1 -> 0 | J19: =SUMIF($C$13:$C$20,I19,$H$13:$H$20) -> 0 | K19: =+J19/30 -> 0 | AX19: 20. FUNDACIÓN OXIGENO | AY19: 7 | BD19: 0 años 0 meses 0 días | BE19: -1 | BJ19: X
A20: =A19 -> 0 | B20: 8 | G20: =DATEDIF(E20,F20,"y") & " años " & DATEDIF(E20,F20,"ym") & " meses " & DATEDIF(E20,F20,"md") & " días" -> 0 años 0 meses 0 días | H20: =(E20-F20)*-1 -> 0 | J20: =SUMIF($C$13:$C$20,I20,$H$13:$H$20) -> 0 | K20: =+J20/30 -> 0 | AX20: 20. FUNDACIÓN OXIGENO | AY20: 8 | BD20: 0 años 0 meses 0 días | BE20: -1 | BJ20: X
B21: 1 | G21: =DATEDIF(E21,F21,"y") & " años " & DATEDIF(E21,F21,"ym") & " meses " & DATEDIF(E21,F21,"md") & " días" -> 0 años 0 meses 0 días | H21: =(E21-F21)*-1 -> 0 | J21: =SUMIF($C$21:$C$28,I21,$H$21:$H$28) -> 0 | K21: =+J21/30 -> 0 | AX21: 25. CORPORACIÓN PARA EL DESARROLLO SOCIAL, FAMILIAR, COMUNITARIO E INSTITUCIONAL | AY21: 1 | AZ21: Choco | BA21: 93 | BB21: 43484 | BC21: 43829 | BD21: 0 años 11 meses 11 días | BE21: 344 | BF21: Choco | BG21: 1996 | BH21: 66.533333 | BJ21: x
A22: =A21 -> 0 | B22: 2 | G22: =DATEDIF(E22,F22,"y") & " años " & DATEDIF(E22,F22,"ym") & " meses " & DATEDIF(E22,F22,"md") & " días" -> 0 años 0 meses 0 días | H22: =(E22-F22)*-1 -> 0 | J22: =SUMIF($C$21:$C$28,I22,$H$21:$H$28) -> 0 | K22: =+J22/30 -> 0 | AX22: 25. CORPORACIÓN PARA EL DESARROLLO SOCIAL, FAMILIAR, COMUNITARIO E INSTITUCIONAL | AY22: 2 | AZ22: Choco | BA22: 5 | BB22: 43192 | BC22: 43465 | BD22: 0 años 8 meses 29 días | BE22: 272 | BI22: no se encontro documento con el cual verificar datos.
A23: =A22 -> 0 | B23: 3 | G23: =DATEDIF(E23,F23,"y") & " años " & DATEDIF(E23,F23,"ym") & " meses " & DATEDIF(E23,F23,"md") & " días" -> 0 años 0 meses 0 días | H23: =(E23-F23)*-1 -> 0 | J23: =SUMIF($C$21:$C$28,I23,$H$21:$H$28) -> 0 | K23: =+J23/30 -> 0 | AX23: 25. CORPORACIÓN PARA EL DESARROLLO SOCIAL, FAMILIAR, COMUNITARIO E INSTITUCIONAL | AY23: 3 | AZ23: Choco | BA23: 149 | BB23: 42737 | BC23: 43100 | BD23: 0 años 11 meses 29 días | BE23: 362 | BI23: no se encontro documento con el cual verificar datos.
A24: =A23 -> 0 | B24: 4 | G24: =DATEDIF(E24,F24,"y") & " años " & DATEDIF(E24,F24,"ym") & " meses " & DATEDIF(E24,F24,"md") & " días" -> 0 años 0 meses 0 días | H24: =(E24-#REF!)*-1 -> #REF! | J24: =SUMIF($C$21:$C$28,I24,$H$21:$H$28) -> 0 | K24: =+J24/30 -> 0 | AX24: 25. CORPORACIÓN PARA EL DESARROLLO SOCIAL, FAMILIAR, COMUNITARIO E INSTITUCIONAL | AY24: 4 | AZ24: Choco | BA24: 73 | BB24: 42399 | BC24: 42521 | BD24: 0 años 4 meses 1 días | BE24: 121 | BI24: se verifica sobre el acta de liquidacion de contrato | BJ24: x
A25: =A24 -> 0 | B25: 5 | G25: =DATEDIF(E25,F25,"y") & " años " & DATEDIF(E25,F25,"ym") & " meses " & DATEDIF(E25,F25,"md") & " días" -> 0 años 0 meses 0 días | H25: =(F24-F25)*-1 -> 0 | J25: =SUMIF($C$21:$C$28,I25,$H$21:$H$28) -> 0 | K25: =+J25/30 -> 0 | AX25: 25. CORPORACIÓN PARA EL DESARROLLO SOCIAL, FAMILIAR, COMUNITARIO E INSTITUCIONAL | AY25: 5 | AZ25: Choco | BA25: 201 | BB25: 42518 | BC25: 42719 | BD25: 0 años 6 meses 17 días | BE25: 200 | BJ25: x
A26: =A25 -> 0 | B26: 6 | G26: =DATEDIF(E26,F26,"y") & " años " & DATEDIF(E26,F26,"ym") & " meses " & DATEDIF(E26,F26,"md") & " días" -> 0 años 0 meses 0 días | H26: =(E26-F26)*-1 -> 0 | J26: =SUMIF($C$21:$C$28,I26,$H$21:$H$28) -> 0 | K26: =+J26/30 -> 0 | AX26: 25. CORPORACIÓN PARA EL DESARROLLO SOCIAL, FAMILIAR, COMUNITARIO E INSTITUCIONAL | AY26: 6 | AZ26: Choco | BA26: 180 | BB26: 41908 | BC26: 41998 | BD26: 0 años 2 meses 29 días | BE26: 89 | BI26: no se encontro documento con el cual verificar datos.
A27: =A26 -> 0 | B27: 7 | G27: =DATEDIF(E27,F27,"y") & " años " & DATEDIF(E27,F27,"ym") & " meses " & DATEDIF(E27,F27,"md") & " días" -> 0 años 0 meses 0 días | H27: =(E27-F27)*-1 -> 0 | J27: =SUMIF($C$21:$C$28,I27,$H$21:$H$28) -> 0 | K27: =+J27/30 -> 0 | AX27: 25. CORPORACIÓN PARA EL DESARROLLO SOCIAL, FAMILIAR, COMUNITARIO E INSTITUCIONAL | AY27: 7 | AZ27: Choco | BA27: 163 | BB27: 41401 | BC27: 41425 | BD27: 0 años 0 meses 24 días | BE27: 23 | BI27: se ajusta fecha de terminacion 31/12/2013 por 31/05/2013 que es la correcta | BJ27: x
A28: =A27 -> 0 | B28: 8 | G28: =DATEDIF(E28,F28,"y") & " años " & DATEDIF(E28,F28,"ym") & " meses " & DATEDIF(E28,F28,"md") & " días" -> 0 años 0 meses 0 días | H28: =(E28-F28)*-1 -> 0 | J28: =SUMIF($C$21:$C$28,I28,$H$21:$H$28) -> 0 | K28: =+J28/30 -> 0 | AX28: 25. CORPORACIÓN PARA EL DESARROLLO SOCIAL, FAMILIAR, COMUNITARIO E INSTITUCIONAL | AY28: 8 | AZ28: Choco | BA28: 423 | BB28: 41265 | BC28: 41851 | BD28: 1 años 7 meses 9 días | BE28: 585 | BI28: se cambia fecha final 31/12/2014 por 31/07/2014, según datos verifcados en la certificacion. | BJ28: x
B29: 1 | G29: =DATEDIF(E29,F29,"y") & " años " & DATEDIF(E29,F29,"ym") & " meses " & DATEDIF(E29,F29,"md") & " días" -> 0 años 0 meses 0 días | H29: =(E29-F29)*-1 -> 0 | J29: =SUMIF($C$29:$C$36,I29,$H$29:$H$36) -> 0 | K29: =+J29/30 -> 0 | AX29: 26. FUNDACIÓN PARA LA EDUCACIÓN Y DESARROLLO SOCIAL | AY29: 1 | AZ29: La Guajira | BA29: 251 | BB29: 43734 | BC29: 43830 | BD29: 0 años 3 meses 5 días | BE29: 95 | BF29: La Guajira | BG29: 958 | BH29: 31.933333 | BJ29: x
A30: =A29 -> 0 | B30: 2 | G30: =DATEDIF(E30,F30,"y") & " años " & DATEDIF(E30,F30,"ym") & " meses " & DATEDIF(E30,F30,"md") & " días" -> 0 años 0 meses 0 días | H30: =(E30-F30)*-1 -> 0 | J30: =SUMIF($C$29:$C$36,I30,$H$29:$H$36) -> 0 | K30: =+J30/30 -> 0 | AX30: 26. FUNDACIÓN PARA LA EDUCACIÓN Y DESARROLLO SOCIAL | AY30: 2 | AZ30: La Guajira | BA30: 53 | BB30: 43846 | BC30: 43967 | BD30: 0 años 4 meses 0 días | BE30: 120 | BF30: Choco | BG30: 0 | BH30: 0 | BJ30: x
A31: =A30 -> 0 | B31: 3 | G31: =DATEDIF(E31,F31,"y") & " años " & DATEDIF(E31,F31,"ym") & " meses " & DATEDIF(E31,F31,"md") & " días" -> 0 años 0 meses 0 días | H31: =(E31-F31)*-1 -> 0 | J31: =SUMIF($C$29:$C$36,I31,$H$29:$H$36) -> 0 | K31: =+J31/30 -> 0 | AX31: 26. FUNDACIÓN PARA LA EDUCACIÓN Y DESARROLLO SOCIAL | AY31: 3 | AZ31: La Guajira | BA31: 287 | BB31: 42522 | BC31: 42674 | BD31: 0 años 4 meses 30 días | BE31: 151 | BF31: Cesar | BG31: 302 | BH31: 10.066667 | BJ31: x
A32: =A31 -> 0 | B32: 4 | G32: =DATEDIF(E32,F32,"y") & " años " & DATEDIF(E32,F32,"ym") & " meses " & DATEDIF(E32,F32,"md") & " días" -> 0 años 0 meses 0 días | H32: =(E32-F32)*-1 -> 0 | J32: =SUMIF($C$29:$C$36,I32,$H$29:$H$36) -> 0 | K32: =+J32/30 -> 0 | AX32: 26. FUNDACIÓN PARA LA EDUCACIÓN Y DESARROLLO SOCIAL | AY32: 4 | AZ32: Chocó | BA32: 555 | BB32: 42718 | BC32: 43084 | BD32: 1 años 0 meses 1 días | BE32: 365 | BI32: Aparece como departamento Chocó, pero al revisar la certificación (Pág. 13) este documento se expide desde la regional La Guajira | BJ32: x
A33: =A32 -> 0 | B33: 5 | G33: =DATEDIF(E33,F33,"y") & " años " & DATEDIF(E33,F33,"ym") & " meses " & DATEDIF(E33,F33,"md") & " días" -> 0 años 0 meses 0 días | H33: =(E33-F33)*-1 -> 0 | J33: =SUMIF($C$29:$C$36,I33,$H$29:$H$36) -> 0 | K33: =+J33/30 -> 0 | AX33: 26. FUNDACIÓN PARA LA EDUCACIÓN Y DESARROLLO SOCIAL | AY33: 5 | AZ33: La Guajira | BA33: 324 | BB33: 43071 | BC33: 43312 | BD33: 0 años 7 meses 29 días | BE33: 240 | BJ33: x
A34: =A33 -> 0 | B34: 6 | G34: =DATEDIF(E34,F34,"y") & " años " & DATEDIF(E34,F34,"ym") & " meses " & DATEDIF(E34,F34,"md") & " días" -> 0 años 0 meses 0 días | H34: =(E34-F34)*-1 -> 0 | J34: =SUMIF($C$29:$C$36,I34,$H$29:$H$36) -> 0 | K34: =+J34/30 -> 0 | AX34: 26. FUNDACIÓN PARA LA EDUCACIÓN Y DESARROLLO SOCIAL | AY34: 6 | AZ34: La Guajira | BA34: 138 | BB34: 42412 | BC34: 42521 | BD34: 0 años 3 meses 19 días | BE34: 108 | BJ34: x
A35: =A34 -> 0 | B35: 7 | G35: =DATEDIF(E35,F35,"y") & " años " & DATEDIF(E35,F35,"ym") & " meses " & DATEDIF(E35,F35,"md") & " días" -> 0 años 0 meses 0 días | H35: =(E35-F35)*-1 -> 0 | J35: =SUMIF($C$29:$C$36,I35,$H$29:$H$36) -> 0 | K35: =+J35/30 -> 0 | AX35: 26. FUNDACIÓN PARA LA EDUCACIÓN Y DESARROLLO SOCIAL | AY35: 7 | AZ35: La Guajira | BA35: 13 | BB35: 42081 | BC35: 42326 | BD35: 0 años 8 meses 0 días | BE35: 244 | BJ35: x
A36: =A35 -> 0 | B36: 8 | G36: =DATEDIF(E36,F36,"y") & " años " & DATEDIF(E36,F36,"ym") & " meses " & DATEDIF(E36,F36,"md") & " días" -> 0 años 0 meses 0 días | H36: =(E36-F36)*-1 -> 0 | J36: =SUMIF($C$29:$C$36,I36,$H$29:$H$36) -> 0 | K36: =+J36/30 -> 0 | AX36: 26. FUNDACIÓN PARA LA EDUCACIÓN Y DESARROLLO SOCIAL | AY36: 8 | AZ36: Cesar | BA36: 2 | BB36: 41685 | BC36: 41988 | BD36: 0 años 10 meses 0 días | BE36: 302 | BI36: La fecha consignada en esta matríz se encuentra errada, según el documento de soporte la finalización del contrato fue el 15 de diciembre de 2014 no del año 2016. Se modifica y subraya en amarillo. En el Formato N°3 FORMATO DE RELACIÓN CERTIFICACIONES DE EXPERIENCIA DEL OFERENTE aparece como contratante la Alcaldía de Aguachica pero aparece en la casilla de ejecución el departamento de La Guajira y no del Cesar. | BJ36: x
B37: 1 | G37: =DATEDIF(E37,F37,"y") & " años " & DATEDIF(E37,F37,"ym") & " meses " & DATEDIF(E37,F37,"md") & " días" -> 0 años 0 meses 0 días | H37: =(E37-F37)*-1 -> 0 | J37: =SUMIF($C$37:$C$44,I37,$H$37:$H$44) -> 0 | K37: =+J37/30 -> 0 | AX37: 29. CORPORACIÓN PARA EL FOMENTO SOCIAL DE COLOMBIA | AY37: 1 | AZ37: Meta | BA37: 220 | BB37: 41579 | BC37: 41988 | BD37: 1 años 1 meses 14 días | BE37: 408 | BF37: Meta | BG37: 1555 | BH37: 51.833333 | BI37: Ajuste en fecha de terminación | BJ37: X
A38: =A37 -> 0 | B38: 2 | G38: =DATEDIF(E38,F38,"y") & " años " & DATEDIF(E38,F38,"ym") & " meses " & DATEDIF(E38,F38,"md") & " días" -> 0 años 0 meses 0 días | H38: =(E38-F38)*-1 -> 0 | J38: =SUMIF($C$37:$C$44,I38,$H$37:$H$44) -> 0 | K38: =+J38/30 -> 0 | AX38: 29. CORPORACIÓN PARA EL FOMENTO SOCIAL DE COLOMBIA | AY38: 2 | AZ38: Meta | BA38: 246 | BB38: 41990 | BC38: 42369 | BD38: 1 años 0 meses 14 días | BE38: 378 | BI38: Ajuste en fecha de iniciación | BJ38: X
A39: =A38 -> 0 | B39: 3 | G39: =DATEDIF(E39,F39,"y") & " años " & DATEDIF(E39,F39,"ym") & " meses " & DATEDIF(E39,F39,"md") & " días" -> 0 años 0 meses 0 días | H39: =(E39-F39)*-1 -> 0 | J39: =SUMIF($C$37:$C$44,I39,$H$37:$H$44) -> 0 | K39: =+J39/30 -> 0 | AX39: 29. CORPORACIÓN PARA EL FOMENTO SOCIAL DE COLOMBIA | AY39: 3 | AZ39: Meta | BA39: 204 | BB39: 42584 | BC39: 42720 | BD39: 0 años 4 meses 14 días | BE39: 135 | BJ39: X
A40: =A39 -> 0 | B40: 4 | G40: =DATEDIF(E40,F40,"y") & " años " & DATEDIF(E40,F40,"ym") & " meses " & DATEDIF(E40,F40,"md") & " días" -> 0 años 0 meses 0 días | H40: =(E40-F40)*-1 -> 0 | J40: =SUMIF($C$37:$C$44,I40,$H$37:$H$44) -> 0 | K40: =+J40/30 -> 0 | AX40: 29. CORPORACIÓN PARA EL FOMENTO SOCIAL DE COLOMBIA | AY40: 4 | AZ40: Meta | BA40: 238 | BB40: 42930 | BC40: 43172 | BD40: 0 años 7 meses 27 días | BE40: 241 | BI40: Ajuste en fecha de terminación de acuerdo con el acta de liquidación | BJ40: X
...

Sheet RESUMEN
A1: EXPERIENCIA EN TERRITORIO
A2: INVITACIÓN PÚBLICA IP-001-2020-ICBFSEN
A3: BANCO NACIONAL DE OFERENTES
A4: 15. FUNDACIÓN SOCIAL Y CULTURAL AGROAMBIENTE | C4: DEPARTAMENTO | E4: TOTAL EXPERIENCIA MESES | F4: HIPERVINCULO
A5: 15. FUNDACIÓN SOCIAL Y CULTURAL AGROAMBIENTE | B5: 454 | C5: Bolivar | D5: 1489 | E5: ='EXPERIENCIA EN TERRITORIO'!K5 -> 0
A6: 15. FUNDACIÓN SOCIAL Y CULTURAL AGROAMBIENTE | B6: 600 | C6: Atlantico | D6: 486 | E6: ='EXPERIENCIA EN TERRITORIO'!K6 -> 0
A7: 15. FUNDACIÓN SOCIAL Y CULTURAL AGROAMBIENTE | B7: 435 | F7: https://icbfgob.sharepoint.com/:f:/r/sites/FS_DNU/Documentos%20compartidos/2020/BON_2020/EVALUADORES%202021?csf=1&web=1&e=9hRYS8
A8: 15. FUNDACIÓN SOCIAL Y CULTURAL AGROAMBIENTE | B8: 486 | F8: https://icbfgob.sharepoint.com/:f:/r/sites/FS_DNU/Documentos%20compartidos/2020/BON_2020/EVALUADORES%202021?csf=1&web=1&e=9hRYS8
A9: 15. FUNDACIÓN SOCIAL Y CULTURAL AGROAMBIENTE | B9: -1 | F9: https://icbfgob.sharepoint.com/:f:/r/sites/FS_DNU/Documentos%20compartidos/2020/BON_2020/EVALUADORES%202021?csf=1&web=1&e=9hRYS8
A10: 15. FUNDACIÓN SOCIAL Y CULTURAL AGROAMBIENTE | B10: -1 | F10: https://icbfgob.sharepoint.com/:f:/r/sites/FS_DNU/Documentos%20compartidos/2020/BON_2020/EVALUADORES%202021?csf=1&web=1&e=9hRYS8
A11: 15. FUNDACIÓN SOCIAL Y CULTURAL AGROAMBIENTE | B11: -1 | F11: https://icbfgob.sharepoint.com/:f:/r/sites/FS_DNU/Documentos%20compartidos/2020/BON_2020/EVALUADORES%202021?csf=1&web=1&e=9hRYS8
A12: 15. FUNDACIÓN SOCIAL Y CULTURAL AGROAMBIENTE | B12: -1 | F12: https://icbfgob.sharepoint.com/:f:/r/sites/FS_DNU/Documentos%20compartidos/2020/BON_2020/EVALUADORES%202021?csf=1&web=1&e=9hRYS8
B13: 4 | F13: https://icbfgob.sharepoint.com/:f:/r/sites/FS_DNU/Documentos%20compartidos/2020/BON_2020/EVALUADORES%202021?csf=1&web=1&e=9hRYS8
A14: 20. FUNDACIÓN OXIGENO | F14: https://icbfgob.sharepoint.com/:f:/r/sites/FS_DNU/Documentos%20compartidos/2020/BON_2020/EVALUADORES%202021?csf=1&web=1&e=9hRYS8
A15: 20. FUNDACIÓN OXIGENO | B15: 342 | C15: Choco | D15: 1745 | E15: ='EXPERIENCIA EN TERRITORIO'!K13 -> 0
A16: 20. FUNDACIÓN OXIGENO | B16: 333 | F16: https://icbfgob.sharepoint.com/:f:/r/sites/FS_DNU/Documentos%20compartidos/2020/BON_2020/EVALUADORES%202021?csf=1&web=1&e=9hRYS8
A17: 20. FUNDACIÓN OXIGENO | B17: 363 | F17: https://icbfgob.sharepoint.com/:f:/r/sites/FS_DNU/Documentos%20compartidos/2020/BON_2020/EVALUADORES%202021?csf=1&web=1&e=9hRYS8
A18: 20. FUNDACIÓN OXIGENO | B18: 708 | F18: https://icbfgob.sharepoint.com/:f:/r/sites/FS_DNU/Documentos%20compartidos/2020/BON_2020/EVALUADORES%202021?csf=1&web=1&e=9hRYS8
A19: 20. FUNDACIÓN OXIGENO | B19: -1 | F19: https://icbfgob.sharepoint.com/:f:/r/sites/FS_DNU/Documentos%20compartidos/2020/BON_2020/EVALUADORES%202021?csf=1&web=1&e=9hRYS8
A20: 20. FUNDACIÓN OXIGENO | B20: -1 | F20: https://icbfgob.sharepoint.com/:f:/r/sites/FS_DNU/Documentos%20compartidos/2020/BON_2020/EVALUADORES%202021?csf=1&web=1&e=9hRYS8
A21: 20. FUNDACIÓN OXIGENO | B21: -1 | F21: https://icbfgob.sharepoint.com/:f:/r/sites/FS_DNU/Documentos%20compartidos/2020/BON_2020/EVALUADORES%202021?csf=1&web=1&e=9hRYS8
A22: 20. FUNDACIÓN OXIGENO | B22: -1 | F22: https://icbfgob.sharepoint.com/:f:/r/sites/FS_DNU/Documentos%20compartidos/2020/BON_2020/EVALUADORES%202021?csf=1&web=1&e=9hRYS8
B23: 3 | F23: https://icbfgob.sharepoint.com/:f:/r/sites/FS_DNU/Documentos%20compartidos/2020/BON_2020/EVALUADORES%202021?csf=1&web=1&e=9hRYS8
A24: 25. CORPORACIÓN PARA EL DESARROLLO SOCIAL, FAMILIAR, COMUNITARIO E INSTITUCIONAL | F24: https://icbfgob.sharepoint.com/:f:/r/sites/FS_DNU/Documentos%20compartidos/2020/BON_2020/EVALUADORES%202021?csf=1&web=1&e=9hRYS8
A25: 25. CORPORACIÓN PARA EL DESARROLLO SOCIAL, FAMILIAR, COMUNITARIO E INSTITUCIONAL | B25: 344 | C25: Choco | D25: 2363 | E25: ='EXPERIENCIA EN TERRITORIO'!K21 -> 0
A26: 25. CORPORACIÓN PARA EL DESARROLLO SOCIAL, FAMILIAR, COMUNITARIO E INSTITUCIONAL | B26: 272 | F26: https://icbfgob.sharepoint.com/:f:/r/sites/FS_DNU/Documentos%20compartidos/2020/BON_2020/EVALUADORES%202021?csf=1&web=1&e=9hRYS8
A27: 25. CORPORACIÓN PARA EL DESARROLLO SOCIAL, FAMILIAR, COMUNITARIO E INSTITUCIONAL | B27: 362 | F27: https://icbfgob.sharepoint.com/:f:/r/sites/FS_DNU/Documentos%20compartidos/2020/BON_2020/EVALUADORES%202021?csf=1&web=1&e=9hRYS8
A28: 25. CORPORACIÓN PARA EL DESARROLLO SOCIAL, FAMILIAR, COMUNITARIO E INSTITUCIONAL | B28: 121 | F28: https://icbfgob.sharepoint.com/:f:/r/sites/FS_DNU/Documentos%20compartidos/2020/BON_2020/EVALUADORES%202021?csf=1&web=1&e=9hRYS8
A29: 25. CORPORACIÓN PARA EL DESARROLLO SOCIAL, FAMILIAR, COMUNITARIO E INSTITUCIONAL | B29: 200 | F29: https://icbfgob.sharepoint.com/:f:/r/sites/FS_DNU/Documentos%20compartidos/2020/BON_2020/EVALUADORES%202021?csf=1&web=1&e=9hRYS8
A30: 25. CORPORACIÓN PARA EL DESARROLLO SOCIAL, FAMILIAR, COMUNITARIO E INSTITUCIONAL | B30: 89 | F30: https://icbfgob.sharepoint.com/:f:/r/sites/FS_DNU/Documentos%20compartidos/2020/BON_2020/EVALUADORES%202021?csf=1&web=1&e=9hRYS8
A31: 25. CORPORACIÓN PARA EL DESARROLLO SOCIAL, FAMILIAR, COMUNITARIO E INSTITUCIONAL | B31: 237 | F31: https://icbfgob.sharepoint.com/:f:/r/sites/FS_DNU/Documentos%20compartidos/2020/BON_2020/EVALUADORES%202021?csf=1&web=1&e=9hRYS8
A32: 25. CORPORACIÓN PARA EL DESARROLLO SOCIAL, FAMILIAR, COMUNITARIO E INSTITUCIONAL | B32: 738 | F32: https://icbfgob.sharepoint.com/:f:/r/sites/FS_DNU/Documentos%20compartidos/2020/BON_2020/EVALUADORES%202021?csf=1&web=1&e=9hRYS8
B33: 0 | F33: https://icbfgob.sharepoint.com/:f:/r/sites/FS_DNU/Documentos%20compartidos/2020/BON_2020/EVALUADORES%202021?csf=1&web=1&e=9hRYS8
A34: 26. FUNDACIÓN PARA LA EDUCACIÓN Y DESARROLLO SOCIAL | F34: https://icbfgob.sharepoint.com/:f:/r/sites/FS_DNU/Documentos%20compartidos/2020/BON_2020/EVALUADORES%202021?csf=1&web=1&e=9hRYS8
A35: 26. FUNDACIÓN PARA LA EDUCACIÓN Y DESARROLLO SOCIAL | B35: 95 | C35: La Guajira | D35: 958 | E35: ='EXPERIENCIA EN TERRITORIO'!K29 -> 0
A36: 26. FUNDACIÓN PARA LA EDUCACIÓN Y DESARROLLO SOCIAL | B36: 120 | C36: Choco | D36: 365 | E36: ='EXPERIENCIA EN TERRITORIO'!K30 -> 0
A37: 26. FUNDACIÓN PARA LA EDUCACIÓN Y DESARROLLO SOCIAL | B37: 151 | C37: Cesar | D37: 1033 | E37: ='EXPERIENCIA EN TERRITORIO'!K31 -> 0
A38: 26. FUNDACIÓN PARA LA EDUCACIÓN Y DESARROLLO SOCIAL | B38: 365 | F38: https://icbfgob.sharepoint.com/:f:/r/sites/FS_DNU/Documentos%20compartidos/2020/BON_2020/EVALUADORES%202021?csf=1&web=1&e=9hRYS8
A39: 26. FUNDACIÓN PARA LA EDUCACIÓN Y DESARROLLO SOCIAL | B39: 240 | F39: https://icbfgob.sharepoint.com/:f:/r/sites/FS_DNU/Documentos%20compartidos/2020/BON_2020/EVALUADORES%202021?csf=1&web=1&e=9hRYS8
A40: 26. FUNDACIÓN PARA LA EDUCACIÓN Y DESARROLLO SOCIAL | B40: 108 | F40: https://icbfgob.sharepoint.com/:f:/r/sites/FS_DNU/Documentos%20compartidos/2020/BON_2020/EVALUADORES%202021?csf=1&web=1&e=9hRYS8
...
