Workbook

Sheet C.S.
F1: GESTIÓN CONTRACTUAL | AB1: Código: IDPAC-GC-FT-30 Versión: 01 Página 1 de 1 Fecha: 25/02/2019
F2: CERTIFICADO DE SUPERVISIÓN - SECOP II
A4: I. INFORMACIÓN DE SUPERVISIÓN O INTERVENTORÍA
C6: FECHA DE EXPEDICIÓN | J6: DATOS DEL SUPERVISOR O INTERVENTOR | AA6: TELÉFONO Y/O EXTENSIÓN
C7: DÍA | E7: MES | G7: AÑO | J7: NOMBRE | M7: JAVIER PALACIOS TORRES | AA7: 2417900 Ext 2605
C8: 1 | E8: 3 | G8: 2019 | J8: CARGO | M8: GERENTE DE ETNIAS
A11: II. INFORMACIÓN CONTRACTUAL
A12: NOMBRE O RAZÓN SOCIAL DEL CONTRATISTA | Y12: NIT O C.C. No.
G13: DIANA ROCIO COBOS ANGULO | Z13: 1012319007
A15: TIPO DE CONTRATACIÓN: | I15: PRESTACIÓN DE SERVICIOS PERSONA NATURAL
J17: DD | K17: MM | L17: AAAA | R17: DD | S17: MM | T17: AAAA | V17: PLAZO DE EJECUCION INICIAL | AB17: FECHA DE TERMINACIÓN
A18: CONTRATO | D18: No. | E18: 171 | G18: CON FECHA | J18: 28 | K18: 1 | L18: 2019 | N18: FECHA DE INICIO | R18: 1 | S18: 2 | T18: 2019 | V18: 4 | W18: meses y | Y18: 15 | Z18: dias | AB18: 15 | AC18: 6 | AE18: 2019
J20: DD | K20: MM | L20: AAAA | R20: DD | S20: MM | T20: AAAA | V20: PLAZO DE EJECUCION
A21: PRORROGA | D21: No. | E21: 1 | G21: CON FECHA | N21: FECHA DE INICIO | V21: 00 MESES Y 00 DIAS
A22: PRORROGA | D22: No. | E22: 2 | G22: CON FECHA | N22: FECHA DE INICIO | V22: 00 MESES Y 00 DIAS
A23: PRORROGA | D23: No. | E23: 3 | G23: CON FECHA | N23: FECHA DE INICIO | V23: 00 MESES Y 00 DIAS
J24: DD | K24: MM | L24: AAAA
A25: ADICION | D25: No. | E25: 1 | G25: CON FECHA | N25: VALOR DE ADICION No. 1 | V25: 0
A26: ADICION | D26: No. | E26: 2 | G26: CON FECHA | N26: VALOR DE ADICION No. 2 | V26: 0
A27: ADICION | D27: No. | E27: 3 | G27: CON FECHA | N27: VALOR DE ADICION No. 3 | V27: 0
A29: PARA PRESTACION DE SERVICIOS | O29: FORMA Y CONDICIÓN DE PAGO
O30: El valor del presente contrato se cancelara de la siguiente manera: pagos Fijos mensuales equivalentes a TRES MILLONES SEISCIENTOS MIL PESOS M/CTE $ (3.600.000) o proporcional por mes con corte al dia 30 de cada mes, previa presentacion de los formatos " Informe de ejecucion contractual" y " Certificado de supervision o interventoria" y el comprobante de pago de los aportes al sistema de seguridad Social en Salud, Pension y ARL, en el porcentaje establecido por el Gobierno Nacional.
B31: PERIODO CERTIFICADO O FACTURADO
E32: DD | F32: MM | G32: AA | K32: DD | L32: MM | M32: AA
B33: DESDE | E33: 1 | F33: 2 | G33: 2019 | I33: HASTA | K33: 28 | L33: 2 | M33: 2019
E34: dd | F34: mm | G34: aa | K34: dd | L34: mm | M34: aa
A36: OBJETO CONTRACTUAL
A37: Prestar los servicios de apoyo a la gestión, con autonomía técnica y administrativa para desarrollar procesos de participación y organización de las comunidades indígenas de la localidad de Bosa, Kennedy y Suba y/o de las que sean asignadas por el supervisor.
A39: CERTIFICO BAJO MI ENTERA RESPONSABILIDAD QUE EL CONTRATISTA CUMPLIÓ A CABALIDAD CON EL OBJETO DEL CONTRATO EN LOS TÉRMINOS Y TIEMPO PACTADOS CON EL INSTITUTO DISTRITAL DE LA PARTICIPACION Y ACCION COMUNAL
A41: POR LO TANTO AUTORIZO EL PAGO POR VALOR DE: | L41: 3600000
Z43: DD | AA43: MM | AC43: AAAA
A44: MARQUE CON X SI FACTURA | L44: NUMERO DE FACTURA | V44: DE FECHA :
A46: EL CONTRATISTA PRESENTA LAS CONSTANCIAS DE PAGO DE APORTES AL SISTEMA DE SEGURIDAD SOCIAL CORRESPONDIENTES AL MONTO Y TIEMPO QUE CERTIFICO
A48: SALUD | C48: No. de planilla: | F48: 0 | J48: VALOR: | L48: 0.125 | M48: =+M51*L48 -> 180000 | Q48: EPS | X48: PERIODO COTIZADO | AA48: Lista Desplegable
A49: PENSION | C49: No. de planilla: | F49: =+F48 -> 0 | J49: VALOR: | L49: 0.16 | M49: =+M51*L49 -> 230400 | Q49: FONDO | X49: PERIODO COTIZADO | AA49: =+AA48 -> Lista Desplegable
A50: ARL | C50: No. de planilla: | F50: =+F49 -> 0 | J50: VALOR: | L50: 0.00522 | M50: =+M51*L50 -> 7516.8 | Q50: ARL | X50: PERIODO COTIZADO | AA50: =+AA49 -> Lista Desplegable
F51: Para prestacion de servicios | I51: Base Salud | L51: 0.4 | M51: =+L41*40% -> 1440000
I52: Base Pension | L52: 0.4 | M52: =+M51 -> 1440000
I53: Base ARL | L53: 0.4 | M53: =+M51 -> 1440000
A55: III. MODIFICACIONES AL CONTRATO
...

Sheet I.E.C.
F1: GESTIÓN CONTRACTUAL | U1: Código: IDPAC-GC-FT-31 Versión:01 Pagina 1 de 1 Fecha: 25/02/2019
F2: INFORME DE EJECUCIÓN CONTRACTUAL - SECOP II
A4: DATOS GENERALES DEL CONTRATO
A5: PERIODO DEL INFORME | F5: Del | G5: DIA | H5: MES | I5: AÑO | K5: Hasta | M5: DIA | N5: MES | O5: AÑO | R5: FECHA DEL INFORME | W5: DIA | X5: MES | Y5: AÑO
G6: =+C.S.!$E$33 -> 1 | H6: =+C.S.!$F$33 -> 2 | I6: =+C.S.!$G$33 -> 2019 | M6: =+C.S.!$K$33 -> 28 | N6: =+C.S.!$L$33 -> 2 | O6: =+C.S.!$M$33 -> 2019 | W6: =+C.S.!$C$8 -> 1 | X6: =+C.S.!$E$8 -> 3 | Y6: =+C.S.!$G$8 -> 2019
A7: CONTRATO No. | E7: =+C.S.!$E$18 -> 171 | G7: FECHA DE CONTRATO | K7: =+C.S.!$J$18 -> 28 | L7: =+C.S.!$K$18 -> 1 | M7: =+C.S.!$L$18 -> 2019 | N7: TIPO CONTRATO | R7: =+C.S.!I15 -> PRESTACIÓN DE SERVICIOS PERSONA NATURAL
A8: NOMBRE O RAZÓN SOCIAL DEL CONTRATISTA / COEJECUTOR / ASOCIADO | N8: =+C.S.!G13 -> DIANA ROCIO COBOS ANGULO
A9: TIPO DE IDENTIFICACIÓN | G9: C.C. | I9: NUMERO | L9: =+C.S.!Z13 -> 1012319007 | Q9: FECHA DE INICIO | U9: FECHA DE TERMINACIÓN
Q10: =+C.S.!R18 -> 1 | R10: =+C.S.!S18 -> 2 | S10: =+C.S.!T18 -> 2019 | U10: =+C.S.!AB18 -> 15 | V10: =+C.S.!AC18 -> 6 | X10: =+C.S.!AE18 -> 2019
A11: OBJETO CONTRACTUAL
A12: =+C.S.!A37 -> Prestar los servicios de apoyo a la gestión, con autonomía técnica y administrativa para desarrollar procesos de participación y organización de las comunidades indígenas de la localidad de Bosa, Kennedy y Suba y/o de las que sean asignadas por el supervisor.
A13: PLAZO DE EJECUCIÓN INICIAL | H13: =+C.S.!V18 -> 4 | I13: Meses y | K13: =+C.S.!Y18 -> 15 | L13: Días | N13: FECHA DE INICIACIÓN | W13: =+C.S.!R18 -> 1 | X13: =+C.S.!S18 -> 2 | Y13: =+C.S.!T18 -> 2019
A14: PRORROGA | D14: No. | E14: DIA | F14: MES | G14: AÑO | I14: TIEMPO | L14: No. | M14: DIA | N14: MES | O14: AÑO | Q14: TIEMPO | S14: No. | T14: DIA | U14: MES | V14: AÑO | W14: TIEMPO
D15: 1 | E15: =+C.S.!J21 -> 0 | F15: =+C.S.!K21 -> 0 | G15: =+C.S.!L21 -> 0 | I15: =+C.S.!V21 -> 00 MESES Y 00 DIAS | L15: 2 | M15: =+C.S.!J22 -> 0 | N15: =+C.S.!K22 -> 0 | O15: =+C.S.!L22 -> 0 | Q15: =+C.S.!V22 -> 00 MESES Y 00 DIAS | S15: 3 | T15: =+C.S.!J23 -> 0 | U15: =+C.S.!K23 -> 0 | V15: =+C.S.!L23 -> 0 | W15: =+C.S.!V23 -> 00 MESES Y 00 DIAS
A16: ADICION | D16: No. | E16: DIA | F16: MES | G16: AÑO | I16: VALOR | L16: No. | M16: DIA | N16: MES | O16: AÑO | Q16: VALOR | S16: No. | T16: DIA | U16: MES | V16: AÑO | W16: VALOR
D17: 1 | E17: =+C.S.!J25 -> 0 | F17: =+C.S.!K25 -> 0 | G17: =+C.S.!L25 -> 0 | I17: =+C.S.!V25 -> 0 | L17: 2 | M17: =+C.S.!J26 -> 0 | N17: =+C.S.!K26 -> 0 | O17: =+C.S.!L26 -> 0 | Q17: =+C.S.!V26 -> 0 | S17: 3 | T17: =+C.S.!J27 -> 0 | U17: =+C.S.!K27 -> 0 | V17: =+C.S.!L27 -> 0 | W17: =+C.S.!V27 -> 0
A18: NOMBRE DEL INTERVENTOR Y/O SUPERVISOR | K18: =+C.S.!M7 -> JAVIER PALACIOS TORRES
A19: OFICINA O DEPENDENCIA A LA CUAL PERTENECE | K19: =+C.S.!M8 -> GERENTE DE ETNIAS
A20: DESCRIPCIÓN DE ACTIVIDADES DESARROLLADAS EN CUMPLIMIENTO DEL OBJETO CONTRATUAL
A21: No. | B21: OBLIGACIONES CONTRACTUALES | H21: ACTIVIDADES REALIZADAS Y/O PRODUCTOS ENTREGADOS | P21: SOPORTES (Describa las evidencias de las actividades realizadas y sitio de conservación de la información) | W21: PORCENTAJE (%) DE AVANCE FÍSICO DE LA OBLIGACIÓN
A22: 1 | B22: Elaborar un plan de acción donde se implementen y reporten avances mensuales en coherencia con las obligaciones contractuales y el plan de acción de la Gerencia de Etnias. | H22: 1. Construcción del plan de Acción el día jueves 7 de febrero de 2019, en las instalaciones del IDPAC, generando acciones concretas que vayan acorde con las metas establecidas por la subdirección y la Gerencia de etnias en cumplimiento a las obligaciones contractuales. 2. Reunión de Equipo de la Gerencia de etnias, el día martes 12 de febrero de 2019, en las instalaciones del IDPAC, a fin de avanzar en la socialización de procesos integrales que permitan dar cumplimiento a las metas establecidas por parte de la Gerencia dentro del plan de la subdirección. | P22: Avances Plan de Acción Acta y Listado de Asistencia 1 \\Dc-principal\INFORME_CONTRATISTAS_2019 | W22: 22.22%
A23: 2 | B23: Articular con Escuela de Participación procesos de formación basados en empoderamiento de las organizaciones sociales indígenas para la participación incidente en los escenarios distritales y locales. | H23: 1. Reunión de Gestores Indígenas y el profesional estratégico del componente Indígena, el día lunes 18 de febrero de 2019, en las instalaciones del IDPAC, a fin de socializar los procesos que se viabilizaran en la articulación con la Gerencia de escuela. A fin de plantear propuestas metodológicas incluyentes en los procesos diferenciales en autonomía de los grupos Indígenas. | P23: Acta 1 Registro Fotográfico 1 \\Dc-principal\INFORME_CONTRATISTAS_2019 | W23: 22.22%
A24: 3 | B24: Desarrollar la ruta estratégica de fortalecimiento con organizaciones sociales étnicas, implementando los tres (3) ejes: fortalecimiento, promoción y formación, con comunidades, organizaciones, cabildos, colectivos y/o parcialidades indígenas de acuerdo con las metas propuestas por la Gerencia de Etnias. | H24: 1. Espacio dado con autoridad del cabildo Tubu Hummuri massa, el día 21 de febrero de 2019. en la localidad de Kennedy, a fin de realizar el proceso de caracterización e iniciar la ruta de fortalecimiento. | P24: Documento de Caracterización 1 Registro Fotográfico 1 \\Dc-principal\INFORME_CONTRATISTAS_2019 | W24: 22.22%
A25: 4 | B25: Apoyar los eventos misionales de la Subdirección de Fortalecimiento de las Organizaciones Sociales (SFOS) e implementar alternativas que promuevan la participación de las organizaciones sociales étnicas en las campañas y proyectos estratégicos del IDPAC (Bogotá Líder, Uno más Uno, Bogotá Cambalachea, Vive la diversidad termina con la discriminación, Nada justifica la Violencia Contra la Mujer, Más fútbol más Vida y Dale Pedal). | H25: 1. Reunión con los Gestores de todas las dependencias y los profesionales de la Gerencia de proyectos, el día jueves 14 de febrero de 2019, en las instalaciones del IDPAC Sede B, espacio pertinente para la socialización de las líneas del proyecto uno + uno para direccionar a las organizaciones Sociales en los temas competentes. 2. Reunión con el líder del pueblo Cube en la localidad de Suba, el día viernes 15 de febrero de 2019, en aras de socializar los procesos misionales en cuanto a la participación incidente por medio de los planteamientos y proyectos estratégicos de la entidad. | P25: Listado de Asistencia 1 Registro Fotográfico 1 Acta 2 Registro Fotográfico 2 \\Dc-principal\INFORME_CONTRATISTAS_2019 | W25: 22.22%
A26: 5 | B26: Participar en reuniones, consejos, espacios e instancias de participación cuando sea convocado o delegado por el/la Gerente de Etnias. | H26: 1. Espacio dado entre IDPAC y Secretaria de Cultura, el día viernes 22 de febrero de 2019, en las instalaciones del IDPAC, a fin de conocer el programa de estímulos de la secretaria y los sectores adscritos, para los diferentes grupos poblacionales, con énfasis en los grupos étnicos. | P26: Listado de Asistencia 1 Registro Fotográfico 1 \\Dc-principal\INFORME_CONTRATISTAS_2019 | W26: 22.22%
A27: 6 | B27: Generar procesos de implementación, desarrollo y apoyo a las acciones afirmativas lideradas por IDPAC. y/o conmemorativas de los diferentes grupos étnicos de la ciudad (Día Nacional de la Afrocolombianidad, Encuentro Cultural Gitano, Semana Raizal, Encuentro de Pueblos Indígenas, entre otros). | H27: 1. Reunión de Gestores Indígenas y el profesional estratégico del componente Indígena, el día lunes 18 de febrero de 2019, en las instalaciones del IDPAC, a fin de socializar la propuesta a generar con el profesional a cargo de la videoteca, logrando posicionar temas relacionados con el componente Indígena . 2. Espacio dado entre autoridades tradicionales del pueblo Tubu y la Gestora Indígena de IDPAC, el día martes 19 de febrero de 2019, en la localidad de Kennedy, espacio dado para la socialización de procesos en cuanto a la participación de las campañas y proyectos estratégicos de la entidad, específicamente en el componente Indígena dentro de las mismas. | P27: Acta y Listado de Asistencia 1 Registro Fotográfico 1 Acta 2 Registro Fotográfico 2 \\Dc-principal\INFORME_CONTRATISTAS_2019 | W27: 22.22%
A28: 7 | B28: Apoyar el proceso distrital en materia de prevención de maternidad y paternidad temprana. | H28: 1. Reunión con el equipo técnico de paternidad y maternidad de IDPAC, el día viernes 15 de febrero de 2019 en las instalaciones de la sede A, en este primer acercamiento con el equipo se logra definir acciones que permitan dar cumplimiento al plan de acción Distrital. 2. Reunión con el equipo técnico de maternidad y paternidad de IDPAC en la sede A, el día viernes 22 de febrero de 2019, espacio pertinente para avanzar en la construcción de propuestas y metodologías para la implementación de talleres con temas relacionados a nuevas masculinidades y Nada Justifica la violencia contra la Mujer dirigido a las organizaciones Sociales identificadas por parte de cada representante del Grupo técnico | P28: Acta 1 Registro Fotográfico 1 Acta.2 Registro Fotográfico 2 \\Dc-principal\INFORME_CONTRATISTAS_2019 | W28: 22.22%
A29: 8 | B29: Apoyar, acompañar y documentar las actividades pertinentes y de competencia de IDPAC en el marco de la consulta previa al cabildo Muisca de Bosa. | H29: 1. Acompañamiento y participación en el espacio de consulta previa, con el cabildo Indígena Muisca de Bosa, Ministerio del Interior y los demás sectores Distritales competentes al espacio, el día lunes 4 de febrero de 2019 en las instalaciones del cabildo con el ánimo de seguir adelantando los avances obtenidos en mesas de trabajo con la constructora y concretarlos en el espacio Distrital en materia de Consulta 2. Espacio dado entre la comunidad General y las autoridades tradicionales del cabildo Muisca de Bosa, el día Domingo 10 de febrero de 2019, en el colegio San Bernardino, espacio dado para socializar los avances y alcances obtenidos en los diversos espacios con la Constructora cusezar en marco al proceso de Consulta Previa la Marlenne 3. Acompañamiento y participación del espacio dado entre el Cabildo Muisca de Bosa, entidades Distritales y Ministerio del Interior en el Qusmuy casa de pensamiento, el día miércoles 13 de febrero de 2019,con el fin de resaltar las practicas culturales propias del pueblo muisca en el territorio a fin de cumplir con la visita de verificación de población indígena dentro del sector. | P29: Acta y Listado de Asistencia 1 Registro Fotográfico 1 Acta y listado de Asistencia 2 Registro Fotográfico 2 Registro Fotográfico 3 \\Dc-principal\INFORME_CONTRATISTAS_2019 | W29: 22.22%
A30: 9 | B30: Contribuir a la ejecución del componente de articulación territorial de las localidades asignadas por el supervisor, haciendo entrega oportuna de los insumos requeridos por parte del Articulador(a). | H30: 1. Reunión de equipo territorial con los profesionales representantes de cada Gerencia, el día miércoles 20 de febrero de 2019, en las instalaciones de la Alcaldía local de Kennedy, a fin de realizar proceso de evaluación conjunta de las actividades desarrolladas a nivel local para contribuir a la construcción del plan de Acción del equipo. 2. Reunión de equipo territorial con los profesionales representantes de cada Gerencia, el día miércoles 20 de febrero de 2019, en las instalaciones de la Subdirección Local de Suba, a fin de realizar proceso de evaluación conjunta de las actividades desarrolladas a nivel local para contribuir a la construcción del plan de Acción del equipo. | P30: Acta y Listado de Asistencia 1 Registro Fotográfico 1 Acta y Listado de Asistencia 2 Registro Fotográfico 2 \\Dc-principal\INFORME_CONTRATISTAS_2019 | W30: 22.22%
A31: 10 | B31: Apoyar procesos de participación, con población migrante étnica en articulación con el líder de tema del IDPAC. | H31: 1. Articulación entre la profesional encargada del tema de migrantes y la Gestora Indígena de la Gerencia de Etnias, el día 25 de febrero de 2019 en las instalaciones de IDPAC, en aras de socializar el proceso que se adelanta desde la Gerencia de Etnias y la intensión de articular desde el componente con población migrante | P31: Acta 1 Registro Fotográfico 1 \\Dc-principal\INFORME_CONTRATISTAS_2019 | W31: 22.22%
A32: 11 | B32: Apoyar la sistematización de los procesos liderados o en responsabilidad de la Gerencia de Etnias de conformidad con el Plan de Acción de la Gerencia y el Plan Integral de Acciones Afirmativas. | H32: 1. Diligenciamiento de formato de matriz unificada de la Gerencia de Etnias para la sistematización de procesos desde el 01 al 28 de Febrero en las localidades de Bosa, Kennedy y Suba con el propósito de construir la memoria de participación de la población indígena. 2. Organización de evidencias del Plan de Acción de la Gerencia de Etnias del 1 al 28 de Febrero de 2019. | P32: Matriz de sistematización \\Dc-principal\INFORME_CONTRATISTAS_2019 | W32: 22.22%
A33: 12 | B33: Las demás que sean asignadas por el supervisor, de acuerdo con la naturaleza y el objeto del contrato. | H33: 1. Reunión convocada por la Subdirección, el día jueves 14 de febrero en la sede B de IDPAC, a fin de socializar las líneas del proyecto uno + uno para direccionar a las organizaciones Sociales en los temas competentes. 2. Proceso de articulación con el IDRD y el cabildo Muisca de Bosa, el día jueves 14 de febrero de 2019, en la localidad de Bosa, con el animo de socializar la propuesta de la fiesta tradicional del Pueblo Muisca para el apoyo institucional en el proceso. | P33: Listado de Asistencia 1 Registro Fotográfico 1 Acta 1 Registro Fotográfico 1 \\Dc-principal\INFORME_CONTRATISTAS_2019 | W33: 22.22%
A34: * Incluir todas las filas que se requieran
A35: Nota: El supervisor del contrato entiende que con la Aceptación del presente formato resulta improcedente aplicar el incumplimiento que trata el artículo 86 de la ley 1474 de 2011 y demás que le modifiquen, en relación a las actividades aquí detalladas.
A36: CERTIFICACIÓN DE CUMPLIMIENTO
A37: El Interventor o Supervisor deja constancia de la aprobación del presente informe mediante la plataforma del SECOP II que las actividades se cumplieron conforme a lo estipulado en el objeto, y que se adoptaron las observaciones y recomendaciones realizadas. Así mismo certifico que el contratista cumplió conforme a los requisitos de Ley con los aportes a seguridad social, a las entidades a las que esta obligado a aportar. Se anexan los Comprobantes de pago en ( __ ) Folios

Sheet .
C1: Lista Desplegable | G1: Lista Desplegable | H1: Lista Desplegable
C2: ENERO | D2: SALDO POR CANCELAR | G2: ARRENDAMIENTO | H2: ARRENDAMIENTO DE BIENES MUEBLES
C3: FEBRERO | D3: SALDO POR LIBERAR | G3: COMODATO | H3: CONTRATO DE OBRA
C4: MARZO | G4: COMPRAVENTA | H4: CONSULTORÍA (INTERVENTORÍA)
C5: ABRIL | G5: CONCESION | H5: CONVENIO INTERADMINISTRATIVO
C6: MAYO | G6: CONSULTORÍA | H6: CONTRATO DE SEGUROS
C7: JUNIO | E7: Lista Desplegable | G7: CONTRATO DE COLABORACIÓN Y APOYO CELEBRADO CON ENTIDAD PRIVADA SIN ANIMO DE LUCRO | H7: PRESTACIÓN DE SERVICIOS PERSONA JURIDICA
A8: Lista Desplegable | C8: JULIO | E8: AHORROS | G8: CONVENIO DE ASOCIACIÓN | H8: PRESTACIÓN DE SERVICIOS PERSONA NATURAL
A9: 2018 | C9: AGOSTO | E9: CORRIENTE | G9: CONVENIO INTERADMINISTRATIVO | H9: OTRO TIPO DE NATURALEZA DE CONTRATOS
A10: 2019 | C10: SEPTIEMBRE | G10: COOPERACIÓN Y ASISTENCIA
A11: 2020 | C11: OCTUBRE | G11: ESTUDIOS Y DISEÑOS
C12: NOVIEMBRE | G12: INTERINSTITUCIONAL
C13: DICIEMBRE | G13: LEASING
G14: MANDATO
G15: MANTENIMIENTO
C16: Lista Desplegable | G16: OBRA
C17: CEDENTE | G17: PRESTACIÓN DE SERVICIOS PERSONA JURIDICA
C18: CESIONARIO | G18: PRESTACIÓN DE SERVICIOS PERSONA NATURAL
G19: SUMINISTRO
