Workbook
Name contratación: 'IDENTIFICACION Y ANALISIS'!$B$39:$B$43
Name ejecución: 'IDENTIFICACION Y ANALISIS'!$B$45:$B$68
Name OPCIONES: 'ASIGNACION Y TRATAMIENTO'!$B$52:$B$54
Name planeación: 'IDENTIFICACION Y ANALISIS'!$B$19:$B$29
Name selección: 'IDENTIFICACION Y ANALISIS'!$B$31:$B$37

Sheet IDENTIFICACION Y ANALISIS
C2: MATRIZ DE RIESGOS DE CONTRATACIÓN | F2: Código: GCO-GCI-F164 Versión: 01 Vigencia: 16 diciembre de 2021 Caso HOLA: 206942
B6: DEFINICIONES
B7: RIESGO: evento que puede generar efectos adversos y de distinta magnitud en el logro de los objetivos del Proceso de Contratación o en la ejecución de un contrato
B8: RIESGOS PREVISIBLES: Son los posibles hechos o circunstancias que por la naturaleza del contrato y de la actividad a ejecutar es factible su ocurrencia.
B9: ETAPA DE PLANEACIÓN: Está comprendida entre la elaboración del Plan Anual de Adquisiciones y la fecha en la cual decide continuar o no con el Proceso de Contratación
B10: ETAPA DE SELECCIÓN: Está comprendida entre el acto de Apertura del Proceso de Contratación y la Adjudicación o la declaración de desierto del Proceso de Contratación
B11: ETAPA DE CONTRATACIÓN: Una vez adjudicado el contrato objeto del Proceso de Contratación, inicia la etapa de contratación en la cual se debe cumplir con el cronograma previsto para la celebración del contrato, el registro presupuestal, la publicación en el SECOP y el cumplimiento de los requisitos para el perfeccionamiento, ejecución y pago.
B12: ETAPA DE EJECUCIÓN: Inicia una vez cumplidos los requisitos previstos para iniciar la ejecución del contrato respectivo y termina con el vencimiento del plazo del contrato o la fecha de liquidación si hay lugar a ella.
B13: RIESGO GENERAL: Es un riesgo de todos los procesos de contratación adelantados por la Entidad Estatal, por lo cual está presente en toda su actividad contractual.
B14: RIEGO ESPECIFICO: Es un riesgo propio del proceso de contratación objeto de análisis.
B15: INSTRUCCIONES PARA LA IDENTIFICACIÓN, ANALISIS, EVALUACIÓN , ASIGNACIÓN Y TRATAMIENTO DE RIESGOS EN LA CONTRATACIÓN
B16: 1) Identifique los riesgos previsibles que le apliquen al objeto contractual que se adelante; En caso de identificar otro riesgo inclúyalo en la proforma e informe al Área de Contratos de la Secretaría General para que sea actualizada en el SIG.
C17: ETAPAS | D17: CLASE | E17: FUENTE | F17: TIPO
C18: PLANEACIÓN
B19: Inadecuada escogencia de la modalidad de contratación | D19: General | E19: Interno | F19: Operacionales
B20: Requisitos habilitantes inapropiados para el proceso de selección | D20: General | E20: Interno | F20: Operacionales
B21: Inadecuado análisis económico estimativo del valor del contrato | D21: General | E21: Interno | F21: Economicos
B22: Inadecuada descripción del bien o servicio requerido | D22: General | E22: Interno | F22: Operacionales
B23: Inadecuada elaboración de estudios y diseños | D23: General | E23: Interno | F23: Operacionales
B24: Requisitos habilitantes que impidan la selección objetiva | D24: General | E24: Interno | F24: Operacionales
B25: Falta de profundidad en el estudio de sector no identificandose claramente aspectos de oferta y demanda | D25: General | E25: Interno | F25: Economicos
B26: Ausencia de fundamentación de la justificación y conveniencia de la contratación | D26: General | E26: Interno | F26: Operacionales
B27: Inadecuada identificación de las condiciones contractuales | D27: General | E27: Interno | F27: Operacionales
B28: No aprobación o demoras en la expedición vigencias futuras | D28: Especifico | E28: Interno | F28: Operacionales
B29: Apertura de procesos sin disponibilidad presupuestal | D29: Especifico | E29: Interno | F29: Operacionales
C30: SELECCIÓN
B31: Inadecuada evaluación de las ofertas y/o verificación de requisitos habilitantes | D31: Especifico | E31: Interno | F31: Operacionales
B32: Inadecuado manejo administrativo del proceso contractual | D32: Especifico | E32: Interno | F32: Operacionales
B33: Falta de claridad en la elaboración de los actos administrativos | D33: Especifico | E33: Interno | F33: Operacionales
B34: Contestación inoportuna a todas las observaciones formuladas a los documentos de la contratación | D34: General | E34: Interno | F34: Operacionales
B35: No publicación de la documentación del proceso de selección en el SECOP | D35: General | E35: Interno | F35: Operacionales
B36: Confabulacion de los proponentes (Colusión) | D36: General | E36: Interno | F36: Operacionales
B37: Selección de ofertas con precios artificialmente bajos. | D37: Especifico | E37: Interno | F37: Operacionales
C38: CONTRATACIÓN
B39: Riesgo de que no se firme el contrato. | E39: Externo | F39: Operacionales
B40: Falta de constitución o constitución tardía de la garantía única. Aceptación de garantías que no se ajustan a lo contemplado en el contrato | E40: Externo | F40: Operacionales
B41: Falta de solicitud o solicitud tardía del registro presupuestal | E41: Externo | F41: Operacionales
B42: No publicación de la documentación del proceso de selección en el SECOP | E42: Interno | F42: Operacionales
B43: Presentación de reclamos de terceros sobre la selección del oferente que retrasen el perfeccionamiento del contrato. | E43: Externo | F43: Operacionales
C44: EJECUCIÓN
...

Sheet EVALUACION
D1: MATRIZ DE RIESGOS DE CONTRATACIÓN | K1: Código: GCO-GCI-F164 Versión: 01 Vigencia: 16 diciembre de 2021 Caso HOLA: 206942
B5: Objeto Contractual:
B6: INSTRUCCIONES PARA LA IDENTIFICACIÓN, ANALISIS, EVALUACIÓN , ASIGNACIÓN Y TRATAMIENTO DE RIESGOS EN LA CONTRATACIÓN
B7: 1) Seleccione el tipo de calificación (Cualitativa ó Monetaria)
B8: 2) Seleccione la(s) etapas y los riesgos que aplican al objeto contractual
B9: 3) Asigne la probabilidad de ocurrencia del riesgo, de conformidad con la tabla de probabilidad
B10: 4) Asigne el impacto que generaría la materialización del riesgo, de conformidad con la tabla de impacto
B11: 5) Al realizar las anteriores actividades se obtendrá la calificación total y la valoración del riesgo (prioridad) , traslde al formato evaluación con controles, los que tengan un nivel de criticidad diferente a bajo.
B12: 6) Continúe en la hoja de evaluación de controles
B14: CALIFICACIÓN | H14: Cualitativa
B15: ETAPA | C15: Descripción (Que puede pasar y, cómo puede ocurrir) | H15: Consecuencias de la ocurrencia del evento | I15: Probabilidad de Ocurrencia | J15: Impacto | K15: Calificación Total | L15: Prioridad
B16: PLANEACIÓN | C16: Inadecuada elaboración de estudios y diseños | H16: Declaratoria de desierto del proceso de contratación | I16: 1 | J16: 1 | K16: =+I16+J16 -> 2 | L16: =IF(K16<=4,"BAJO",IF(K16=5,"MEDIO",IF(K16=6,"ALTO",IF(K16=7,"ALTO","EXTREMO")))) -> BAJO
B17: SELECCIÓN | C17: Inadecuada evaluación de las ofertas y/o verificación de requisitos habilitantes | H17: Declaratoria de desierto del proceso de contratación | I17: 3 | J17: 1 | K17: =+I17+J17 -> 4 | L17: =IF(K17<=4,"BAJO",IF(K17=5,"MEDIO",IF(K17=6,"ALTO",IF(K17=7,"ALTO","EXTREMO")))) -> BAJO
B18: SELECCIÓN | C18: Selección de ofertas con precios artificialmente bajos. | H18: Ofrecimiento de bienes y/o servicios sin las condiciones minimas de calidad. | I18: 3 | J18: 1 | K18: =+I18+J18 -> 4 | L18: =IF(K18<=4,"BAJO",IF(K18=5,"MEDIO",IF(K18=6,"ALTO",IF(K18=7,"ALTO","EXTREMO")))) -> BAJO
B19: EJECUCIÓN | C19: Demora en el inicio previsto para la ejecución de la obra | H19: Atraso en el cronograma del proceso | I19: 3 | J19: 3 | K19: =+I19+J19 -> 6 | L19: =IF(K19<=4,"BAJO",IF(K19=5,"MEDIO",IF(K19=6,"ALTO",IF(K19=7,"ALTO","EXTREMO")))) -> ALTO
B20: EJECUCIÓN | C20: Variación en la disponibilidad o en el costo de los insumos necesarios para prestar los servicios. | H20: Incumplimiento por el ejecutor ante la necesidad de la entidad | I20: 3 | J20: 3 | K20: =+I20+J20 -> 6 | L20: =IF(K20<=4,"BAJO",IF(K20=5,"MEDIO",IF(K20=6,"ALTO",IF(K20=7,"ALTO","EXTREMO")))) -> ALTO
B21: EJECUCIÓN | C21: Cancelación de pedidos. | H21: Entrega de bienes en mal estado o que no cumplan con las especificaciones tecnicas indicas en el Anexo Tecnico | I21: 3 | J21: 3 | K21: =+I21+J21 -> 6 | L21: =IF(K21<=4,"BAJO",IF(K21=5,"MEDIO",IF(K21=6,"ALTO",IF(K21=7,"ALTO","EXTREMO")))) -> ALTO
B22: EJECUCIÓN | C22: Incumplimiento de la administración en los pagos. | H22: Pérdida de competencia para liquidar en sede administrativa. | I22: 2 | J22: 3 | K22: =+I22+J22 -> 5 | L22: =IF(K22<=4,"BAJO",IF(K22=5,"MEDIO",IF(K22=6,"ALTO",IF(K22=7,"ALTO","EXTREMO")))) -> MEDIO
B23: EJECUCIÓN | C23: Variación de los precios del mercado | H23: Cambio en el precio del dólar | I23: 4 | J23: 4 | K23: =+I23+J23 -> 8 | L23: =IF(K23<=4,"BAJO",IF(K23=5,"MEDIO",IF(K23=6,"ALTO",IF(K23=7,"ALTO","EXTREMO")))) -> EXTREMO
K24: =+I24+J24 -> 0 | L24: =IF(K24<=4,"BAJO",IF(K24=5,"MEDIO",IF(K24=6,"ALTO",IF(K24=7,"ALTO","EXTREMO")))) -> BAJO
K25: =+I25+J25 -> 0 | L25: =IF(K25<=4,"BAJO",IF(K25=5,"MEDIO",IF(K25=6,"ALTO",IF(K25=7,"ALTO","EXTREMO")))) -> BAJO
K26: =+I26+J26 -> 0 | L26: =IF(K26<=4,"BAJO",IF(K26=5,"MEDIO",IF(K26=6,"ALTO",IF(K26=7,"ALTO","EXTREMO")))) -> BAJO
K27: =+I27+J27 -> 0 | L27: =IF(K27<=4,"BAJO",IF(K27=5,"MEDIO",IF(K27=6,"ALTO",IF(K27=7,"ALTO","EXTREMO")))) -> BAJO
K28: =+I28+J28 -> 0 | L28: =IF(K28<=4,"BAJO",IF(K28=5,"MEDIO",IF(K28=6,"ALTO",IF(K28=7,"ALTO","EXTREMO")))) -> BAJO
K29: =+I29+J29 -> 0 | L29: =IF(K29<=4,"BAJO",IF(K29=5,"MEDIO",IF(K29=6,"ALTO",IF(K29=7,"ALTO","EXTREMO")))) -> BAJO
K30: =+I30+J30 -> 0 | L30: =IF(K30<=4,"BAJO",IF(K30=5,"MEDIO",IF(K30=6,"ALTO",IF(K30=7,"ALTO","EXTREMO")))) -> BAJO
K31: =+I31+J31 -> 0 | L31: =IF(K31<=4,"BAJO",IF(K31=5,"MEDIO",IF(K31=6,"ALTO",IF(K31=7,"ALTO","EXTREMO")))) -> BAJO
K32: =+I32+J32 -> 0 | L32: =IF(K32<=4,"BAJO",IF(K32=5,"MEDIO",IF(K32=6,"ALTO",IF(K32=7,"ALTO","EXTREMO")))) -> BAJO
K33: =+I33+J33 -> 0 | L33: =IF(K33<=4,"BAJO",IF(K33=5,"MEDIO",IF(K33=6,"ALTO",IF(K33=7,"ALTO","EXTREMO")))) -> BAJO
K34: =+I34+J34 -> 0 | L34: =IF(K34<=4,"BAJO",IF(K34=5,"MEDIO",IF(K34=6,"ALTO",IF(K34=7,"ALTO","EXTREMO")))) -> BAJO
K35: =+I35+J35 -> 0 | L35: =IF(K35<=4,"BAJO",IF(K35=5,"MEDIO",IF(K35=6,"ALTO",IF(K35=7,"ALTO","EXTREMO")))) -> BAJO
B38: Probabilidad | C38: Catagoria | E38: Valoración | G38: Impacto | H38: Categoria | I38: Valoración
C39: Raro (puede ocurrir excepcionalmente) | E39: 1 | H39: Insignificante | I39: 1
C40: Improbable (puede ocurrir ocasionalmente) | E40: 2 | H40: Menor | I40: 2
C41: Posible (puede ocurrir en cualquier momento futuro) | E41: 3 | H41: Moderado | I41: 3
C42: Probable (probablemente va a ocurrir) | E42: 4 | H42: Mayor | I42: 4
C43: Casi cierto (ocurre en la mayoria de circunstancias) | E43: 5 | H43: Catastrófico | I43: 5
C45: Valoración del Riesgo
C46: Calificación Cualitativa | F46: Obstruye la ejecución del contrato de manera intrascendente. | G46: Dificulta la ejecución del contrato de manera baja, aplicando medidas mínimas se pueden lograr el objeto contractual | H46: Afecta la ejecución del contrato sin alterar el beneficio para las partes | I46: Obstruye la ejecución del contrato sustancialmente pero aun así permite la consecución del objeto contractual | K46: Perturba la ejecución del contrato de manera grave imposibilitando la consecución del objeto contractual.
C47: Calificación Monetaria | F47: Los sobrecostos no representan más del uno por ciento (1%) del valor del contrato. | G47: Los sobrecostos no representan más del cinco por ciento (5%) del valor del contrato. | H47: Genera un impacto sobre el valor del contrato entre el cinco (5%) y el quince por ciento (15%). | I47: Incrementa el valor del contrato entre el quince (15%) y el treinta por ciento (30%). | K47: Impacto sobre el valor del contrato en más del treinta por ciento (30%).
...

Sheet EVALUACION CON CONTROLES
D2: MATRIZ DE RIESGOS DE CONTRATACIÓN | P2: Código: GCO-GCI-F164 Versión: 01 Vigencia: 16 diciembre de 2021 Caso HOLA: 206942
A6: =+EVALUACION!B5 -> Objeto Contractual:
A7: INSTRUCCIONES PARA LA IDENTIFICACIÓN, ANALISIS, EVALUACIÓN , ASIGNACIÓN Y TRATAMIENTO DE RIESGOS EN LA CONTRATACIÓN
A8: 1) Describa el tratamiento/controles a ser implementados
A9: 2) Teniendo en cuenta el tratamiento descrito, asigne la probabilidad de ocurrencia del riesgo, de conformidad con la tabla de probabilidad
A10: 3) Teniendo en cuenta el tratamiento descrito, asigne el impacto que generaría la materialización del riesgo, de conformidad con la tabla de impacto
A11: 4) Al realizar las anteriores actividades se obtendrá la calificación total y la valoración del riesgo (prioridad)
A12: 5) Diligencie la información de las démas columnas
A13: 7) Continúe en la hoja de asignación y tratamiento
A15: ETAPA | B15: Descripción (Que puede pasar y, cómo puede ocurrir) | F15: Tratamiento/Controles a ser implementados | H15: Probabilidad de Ocurrencia | I15: Impacto | J15: Calificación Total | K15: Prioridad | L15: ¿Afecta el equilibrio económico del contrato? | M15: Persona responsable por implementar el tratamiento | N15: Fecha estimada en que se inicia el tratamiento | O15: Fecha estimada en que se completa el tratamiento | P15: ¿Cómo se realiza el monitoreo? | Q15: Periodicidad ¿Cuándo?
A16: =+EVALUACION!B16 -> PLANEACIÓN | B16: =+EVALUACION!C16 -> Inadecuada elaboración de estudios y diseños | F16: Revisión de las condiciones técnicas exigidas vs. Las necesidades de la Entidad, con el fin de adoptar las decisiones pertinentes. Análisis y consideración de las obsevaciones presentadas por los posibles interesados en la etapa de proyecto de pliego y pliego de condiciones definitivo | H16: =+EVALUACION!I16 -> 1 | I16: =+EVALUACION!J16 -> 1 | J16: =+H16+I16 -> 2 | K16: =IF(J16<=4,"BAJO",IF(J16=5,"MEDIO",IF(J16=6,"ALTO",IF(J16=7,"ALTO","EXTREMO")))) -> BAJO | L16: No | M16: Entidad Contratante FDLAN | N16: El mismo día de la declaratoria de desierta del proceso de contratación | O16: El día que se establece un nuevo proceso de contratación | P16: Mediante el análisis de los motivos que dieron lugar a la declaratoria de desierta. Igualmente, a través de la revisión y respuesta a las observaciones presentadas por los interesados durante el proceso de contratación . | Q16: Durante la etapa de planeación y la etapa precotractual del proceso de contratación.
A17: =+EVALUACION!B17 -> SELECCIÓN | B17: =+EVALUACION!C17 -> Inadecuada evaluación de las ofertas y/o verificación de requisitos habilitantes | F17: Revisión de las condiciones jurídicas, técnicas, financieras y operacionales habilitantes y revisión posterior de la invitacion para verificar que las mismas sean claras, precisas y no induzcan a error. | H17: =+EVALUACION!I17 -> 3 | I17: =+EVALUACION!J17 -> 1 | J17: =+H17+I17 -> 4 | K17: =IF(J17<=4,"BAJO",IF(J17=5,"MEDIO",IF(J17=6,"ALTO",IF(J17=7,"ALTO","EXTREMO")))) -> BAJO | L17: No | M17: Entidad Contratante FDLAN | N17: El mismo día de la declaratoria de desierta del proceso de contratación | O17: El día que se establece un nuevo proceso de contratación | P17: Mediante el análisis de los motivos que dieron lugar a la declaratoria de desierta. Iguamente, a través de la revisión y respuesta a las observaciones presentadas por los interesados durante el proceso de selección | Q17: Durante la etapa precotractual del proceso de selección
A18: =+EVALUACION!B18 -> SELECCIÓN | B18: =+EVALUACION!C18 -> Selección de ofertas con precios artificialmente bajos. | F18: Revision Garantia de seriedad de la Oferta/Requerimiento al Proponente justificacion precios presentados en la propuesta una vez se identifique el mismo | H18: =+EVALUACION!I18 -> 3 | I18: =+EVALUACION!J18 -> 1 | J18: =+H18+I18 -> 4 | K18: =IF(J18<=4,"BAJO",IF(J18=5,"MEDIO",IF(J18=6,"ALTO",IF(J18=7,"ALTO","EXTREMO")))) -> BAJO | L18: Si | M18: Entidad Contratante FDLAN | N18: Evaluacion de propuestas | O18: Selección del oferente | P18: Garantía de seriedad de la oferta | Q18: Plazo del cronograma del proceso de selección
A19: =+EVALUACION!B19 -> EJECUCIÓN | B19: =+EVALUACION!C19 -> Demora en el inicio previsto para la ejecución de la obra | F19: Gestionar la solución de causas ajenas, para reiniciar el proceso | H19: =+EVALUACION!I19 -> 3 | I19: =+EVALUACION!J19 -> 3 | J19: =+H19+I19 -> 6 | K19: =IF(J19<=4,"BAJO",IF(J19=5,"MEDIO",IF(J19=6,"ALTO",IF(J19=7,"ALTO","EXTREMO")))) -> ALTO | L19: Si | M19: Los funcionarios responsables de la Supervision del Contrato y el ejecutor | N19: Durante la ejecución del contrato | O19: Durante toda la ejecucion del contrato | P19: Durante toda la ejecucion del contrato | Q19: De manera permanente durante toda la ejecucion del contrato
A20: =+EVALUACION!B20 -> EJECUCIÓN | B20: =+EVALUACION!C20 -> Variación en la disponibilidad o en el costo de los insumos necesarios para prestar los servicios. | F20: Hacer efectiva la Garantia de Cumplimiento y Calidad de los bienes y servicios | H20: =+EVALUACION!I20 -> 3 | I20: =+EVALUACION!J20 -> 3 | J20: =+H20+I20 -> 6 | K20: =IF(J20<=4,"BAJO",IF(J20=5,"MEDIO",IF(J20=6,"ALTO",IF(J20=7,"ALTO","EXTREMO")))) -> ALTO | L20: Si | M20: Los funcionarios responsables de la Supervision del Contrato y la Oficina Juridica del FDLAN | N20: Durante la ejecución del contrato | O20: Durante toda la ejecucion del contrato | P20: Durante toda la ejecucion del contrato | Q20: De manera permanente durante toda la ejecucion del contrato
A21: =+EVALUACION!B21 -> EJECUCIÓN | B21: =+EVALUACION!C21 -> Cancelación de pedidos. | F21: Hacer efectiva la Garantia de Cumplimiento y Calidad de los bienes y servicios | H21: =+EVALUACION!I21 -> 3 | I21: =+EVALUACION!J21 -> 3 | J21: =+H21+I21 -> 6 | K21: =IF(J21<=4,"BAJO",IF(J21=5,"MEDIO",IF(J21=6,"ALTO",IF(J21=7,"ALTO","EXTREMO")))) -> ALTO | L21: Si | M21: Los funcionarios responsables de la Supervision del Contrato y la Oficina Juridica del FDLAN | N21: Durante la ejecución del contrato | O21: Durante toda la ejecucion del contrato | P21: Durante toda la ejecucion del contrato | Q21: De manera permanente durante toda la ejecucion del contrato
A22: =+EVALUACION!B22 -> EJECUCIÓN | B22: =+EVALUACION!C22 -> Incumplimiento de la administración en los pagos. | F22: Tramitar liquidación en los tiempos estipulados | H22: =+EVALUACION!I22 -> 2 | I22: =+EVALUACION!J22 -> 3 | J22: =+H22+I22 -> 5 | K22: =IF(J22<=4,"BAJO",IF(J22=5,"MEDIO",IF(J22=6,"ALTO",IF(J22=7,"ALTO","EXTREMO")))) -> MEDIO | L22: Si | M22: Los funcionarios responsables de ka supervisión del contrato | N22: Durante la etapa de liquidación | O22: Una vez liquidado el contrato | P22: Durante toda la terminacion del contrato | Q22: De manera oportuna una vez terminado el plazo de ejecucion del contrato
A23: =+EVALUACION!B23 -> EJECUCIÓN | B23: =+EVALUACION!C23 -> Variación de los precios del mercado | F23: Revisión de los productos afectados por la variación en el precio del dólar | H23: =+EVALUACION!I23 -> 4 | I23: =+EVALUACION!J23 -> 4 | J23: =+H23+I23 -> 8 | K23: =IF(J23<=4,"BAJO",IF(J23=5,"MEDIO",IF(J23=6,"ALTO",IF(J23=7,"ALTO","EXTREMO")))) -> EXTREMO | L23: si | M23: El ejecutor del contrato y la supervisión del mismo | N23: Durante la ejecución del contrato | O23: Durante la ejecución del contrato | P23: Durante toda la ejecucion del contrato | Q23: De manera permanente durante toda la ejecucion del contrato
A24: =+EVALUACION!B24 -> 0 | B24: =+EVALUACION!C24 -> 0 | H24: =+EVALUACION!I24 -> 0 | I24: =+EVALUACION!J24 -> 0 | J24: =+H24+I24 -> 0 | K24: =IF(J24<=4,"BAJO",IF(J24=5,"MEDIO",IF(J24=6,"ALTO",IF(J24=7,"ALTO","EXTREMO")))) -> BAJO
A25: =+EVALUACION!B25 -> 0 | B25: =+EVALUACION!C25 -> 0 | H25: =+EVALUACION!I25 -> 0 | I25: =+EVALUACION!J25 -> 0 | J25: =+H25+I25 -> 0 | K25: =IF(J25<=4,"BAJO",IF(J25=5,"MEDIO",IF(J25=6,"ALTO",IF(J25=7,"ALTO","EXTREMO")))) -> BAJO
A26: =+EVALUACION!B26 -> 0 | B26: =+EVALUACION!C26 -> 0 | H26: =+EVALUACION!I26 -> 0 | I26: =+EVALUACION!J26 -> 0 | J26: =+H26+I26 -> 0 | K26: =IF(J26<=4,"BAJO",IF(J26=5,"MEDIO",IF(J26=6,"ALTO",IF(J26=7,"ALTO","EXTREMO")))) -> BAJO
A27: =+EVALUACION!B27 -> 0 | B27: =+EVALUACION!C27 -> 0 | H27: =+EVALUACION!I27 -> 0 | I27: =+EVALUACION!J27 -> 0 | J27: =+H27+I27 -> 0 | K27: =IF(J27<=4,"BAJO",IF(J27=5,"MEDIO",IF(J27=6,"ALTO",IF(J27=7,"ALTO","EXTREMO")))) -> BAJO
A28: =+EVALUACION!B28 -> 0 | B28: =+EVALUACION!C28 -> 0 | H28: =+EVALUACION!I28 -> 0 | I28: =+EVALUACION!J28 -> 0 | J28: =+H28+I28 -> 0 | K28: =IF(J28<=4,"BAJO",IF(J28=5,"MEDIO",IF(J28=6,"ALTO",IF(J28=7,"ALTO","EXTREMO")))) -> BAJO
A29: =+EVALUACION!B29 -> 0 | B29: =+EVALUACION!C29 -> 0 | H29: =+EVALUACION!I29 -> 0 | I29: =+EVALUACION!J29 -> 0 | J29: =+H29+I29 -> 0 | K29: =IF(J29<=4,"BAJO",IF(J29=5,"MEDIO",IF(J29=6,"ALTO",IF(J29=7,"ALTO","EXTREMO")))) -> BAJO
A30: =+EVALUACION!B30 -> 0 | B30: =+EVALUACION!C30 -> 0 | H30: =+EVALUACION!I30 -> 0 | I30: =+EVALUACION!J30 -> 0 | J30: =+H30+I30 -> 0 | K30: =IF(J30<=4,"BAJO",IF(J30=5,"MEDIO",IF(J30=6,"ALTO",IF(J30=7,"ALTO","EXTREMO")))) -> BAJO
A31: =+EVALUACION!B31 -> 0 | B31: =+EVALUACION!C31 -> 0 | H31: =+EVALUACION!I31 -> 0 | I31: =+EVALUACION!J31 -> 0 | J31: =+H31+I31 -> 0 | K31: =IF(J31<=4,"BAJO",IF(J31=5,"MEDIO",IF(J31=6,"ALTO",IF(J31=7,"ALTO","EXTREMO")))) -> BAJO
A32: =+EVALUACION!B32 -> 0 | B32: =+EVALUACION!C32 -> 0 | H32: =+EVALUACION!I32 -> 0 | I32: =+EVALUACION!J32 -> 0 | J32: =+H32+I32 -> 0 | K32: =IF(J32<=4,"BAJO",IF(J32=5,"MEDIO",IF(J32=6,"ALTO",IF(J32=7,"ALTO","EXTREMO")))) -> BAJO
A33: =+EVALUACION!B33 -> 0 | B33: =+EVALUACION!C33 -> 0 | H33: =+EVALUACION!I33 -> 0 | I33: =+EVALUACION!J33 -> 0 | J33: =+H33+I33 -> 0 | K33: =IF(J33<=4,"BAJO",IF(J33=5,"MEDIO",IF(J33=6,"ALTO",IF(J33=7,"ALTO","EXTREMO")))) -> BAJO
A34: =+EVALUACION!B34 -> 0 | B34: =+EVALUACION!C34 -> 0 | H34: =+EVALUACION!I34 -> 0 | I34: =+EVALUACION!J34 -> 0 | J34: =+H34+I34 -> 0 | K34: =IF(J34<=4,"BAJO",IF(J34=5,"MEDIO",IF(J34=6,"ALTO",IF(J34=7,"ALTO","EXTREMO")))) -> BAJO
A35: =+EVALUACION!B35 -> 0 | B35: =+EVALUACION!C35 -> 0 | H35: =+EVALUACION!I35 -> 0 | I35: =+EVALUACION!J35 -> 0 | J35: =+H35+I35 -> 0 | K35: =IF(J35<=4,"BAJO",IF(J35=5,"MEDIO",IF(J35=6,"ALTO",IF(J35=7,"ALTO","EXTREMO")))) -> BAJO
B37: Categoria del Riesgo | G37: Impacto del Riesgo
A38: Probabilidad | B38: Catagoria | E38: Valoración | G38: Categoria | I38: Valoración | M38: Categoria del Riesgo
B39: Raro (puede ocurrir excepcionalmente) | E39: 1 | G39: Insignificante | I39: 1 | M39: Valoración del Riesgo | O39: Categoría
B40: Improbable (puede ocurrir ocasionalmente) | E40: 2 | G40: Menor | I40: 2 | M40: 8, 9 y 10 | O40: Riesgo extremo
B41: Posible (puede ocurrir en cualquier momento futuro) | E41: 3 | G41: Moderado | I41: 3 | M41: 6 y 7 | O41: Riesgo alto
B42: Probable (probablemente va a ocurrir) | E42: 4 | G42: Mayor | I42: 4 | M42: 5 | O42: Riesgo medio
B43: Casi cierto (ocurre en la mayoria de circunstancias) | E43: 5 | G43: Catastrófico | I43: 5 | M43: 2, 3 y 4 | O43: Riesgo bajo
B45: Valoración del Riesgo
B46: Calificación Cualitativa | F46: Obstruye la ejecución del contrato de manera intrascendente. | H46: Dificulta la ejecución del contrato de manera baja, aplicando medidas mínimas se pueden lograr el objeto contractual | K46: Afecta la ejecución del contrato sin alterar el beneficio para las partes | M46: Obstruye la ejecución del contrato sustancialmente pero aun así permite la consecución del objeto contractual | O46: Perturba la ejecución del contrato de manera grave imposibilitando la consecución del objeto contractual.
B47: Calificación Monetaria | F47: Los sobrecostos no representan más del uno por ciento (1%) del valor del contrato. | H47: Los sobrecostos no representan más del cinco por ciento (5%) del valor del contrato. | K47: Genera un impacto sobre el valor del contrato entre el cinco (5%) y el quince por ciento (15%). | M47: Incrementa el valor del contrato entre el quince (15%) y el treinta por ciento (30%). | O47: Impacto sobre el valor del contrato en más del treinta por ciento (30%).
...

Sheet ASIGNACION Y TRATAMIENTO
D2: MATRIZ DE RIESGOS DE CONTRATACIÓN | W2: Código: GCO-GCI-F164 Versión: 01 Vigencia: 16 diciembre de 2021 Caso HOLA: 206942
B6: =+EVALUACION!B5 -> Objeto Contractual:
B7: IDENTIFICACIÓN, ANALISIS, EVALUACIÓN , ASIGNACIÓN Y TRATAMIENTO DE RIESGOS EN LA CONTRATACIÓN
B8: Esta matriz es un documento anexo del Estudio Previo
B10: No | C10: Descripción (Que puede pasar y, cómo puede ocurrir) | D10: Etapa | E10: Clase | F10: Fuente | G10: Consecuencias de la ocurrencia del evento | H10: Probabilidad | I10: Impacto | J10: Calificación total | K10: Prioridad | L10: ¿A quien se le asigna? | M10: % | N10: Tratamiento/Controles a ser implementados | O10: Probabilidad | P10: Impacto | Q10: Calificación total | R10: Prioridad | S10: ¿Afecta el equilibrio económico del contrato? | T10: Persona responsable por implementar el tratamiento | U10: Fecha estimada en que se inicia el tratamiento | V10: Fecha estimada en que se completa el tratamiento | W10: ¿Cómo se realiza el monitoreo | X10: Periodicidad ¿Cuándo?
B11: 1 | C11: Condiciones jurídicas, técnicas y/o financieras que NO puedan ser cumplidas por el Contratista. | D11: =+'EVALUACION CON CONTROLES'!A16 -> PLANEACIÓN | E11: General | F11: Interno | G11: =+EVALUACION!H16 -> Declaratoria de desierto del proceso de contratación | H11: =+EVALUACION!I16 -> 1 | I11: =+EVALUACION!J16 -> 1 | J11: =+EVALUACION!K16 -> 2 | K11: =+EVALUACION!L16 -> BAJO | L11: SDG | M11: 100 | N11: =+'EVALUACION CON CONTROLES'!F16 -> Revisión de las condiciones técnicas exigidas vs. Las necesidades de la Entidad, con el fin de adoptar las decisiones pertinentes. Análisis y consideración de las obsevaciones presentadas por los posibles interesados en la etapa de proyecto de pliego y pliego de condiciones definitivo | O11: =+'EVALUACION CON CONTROLES'!H16 -> 1 | P11: =+'EVALUACION CON CONTROLES'!I16 -> 1 | Q11: =+'EVALUACION CON CONTROLES'!J16 -> 2 | R11: =+'EVALUACION CON CONTROLES'!K16 -> BAJO | S11: =+'EVALUACION CON CONTROLES'!L16 -> No | T11: =+'EVALUACION CON CONTROLES'!M16 -> Entidad Contratante FDLAN | U11: =+'EVALUACION CON CONTROLES'!N16 -> El mismo día de la declaratoria de desierta del proceso de contratación | V11: =+'EVALUACION CON CONTROLES'!O16 -> El día que se establece un nuevo proceso de contratación | ... X11: =+'EVALUACION CON CONTROLES'!Q16 -> Durante la etapa de planeación y la etapa precotractual del proceso de contratación.
B12: 2 | C12: Incumplimiento de condiciones y/o requisitos habilitantes por parte de los proponentes que generen el rechazo de las ofertas presentadas | D12: =+'EVALUACION CON CONTROLES'!A17 -> SELECCIÓN | E12: Especifico | F12: Interno | G12: =+EVALUACION!H17 -> Declaratoria de desierto del proceso de contratación | H12: =+EVALUACION!I17 -> 3 | I12: =+EVALUACION!J17 -> 1 | J12: =+EVALUACION!K17 -> 4 | K12: =+EVALUACION!L17 -> BAJO | L12: SDG | M12: 100 | N12: =+'EVALUACION CON CONTROLES'!F17 -> Revisión de las condiciones jurídicas, técnicas, financieras y operacionales habilitantes y revisión posterior de la invitacion para verificar que las mismas sean claras, precisas y no induzcan a error. | O12: =+'EVALUACION CON CONTROLES'!H17 -> 3 | P12: =+'EVALUACION CON CONTROLES'!I17 -> 1 | Q12: =+'EVALUACION CON CONTROLES'!J17 -> 4 | R12: =+'EVALUACION CON CONTROLES'!K17 -> BAJO | S12: =+'EVALUACION CON CONTROLES'!L17 -> No | T12: =+'EVALUACION CON CONTROLES'!M17 -> Entidad Contratante FDLAN | U12: =+'EVALUACION CON CONTROLES'!N17 -> El mismo día de la declaratoria de desierta del proceso de contratación | V12: =+'EVALUACION CON CONTROLES'!O17 -> El día que se establece un nuevo proceso de contratación | ... X12: =+'EVALUACION CON CONTROLES'!Q17 -> Durante la etapa precotractual del proceso de selección
B13: 3 | C13: Propuesta económica de un oferente con precios artificialmente bajos | D13: =+'EVALUACION CON CONTROLES'!A18 -> SELECCIÓN | E13: General | F13: Interno | G13: =+EVALUACION!H18 -> Ofrecimiento de bienes y/o servicios sin las condiciones minimas de calidad. | H13: =+EVALUACION!I18 -> 3 | I13: =+EVALUACION!J18 -> 1 | J13: =+EVALUACION!K18 -> 4 | K13: =+EVALUACION!L18 -> BAJO | L13: CONTRATISTA Y SDG | M13: 50/50 | N13: =+'EVALUACION CON CONTROLES'!F18 -> Revision Garantia de seriedad de la Oferta/Requerimiento al Proponente justificacion precios presentados en la propuesta una vez se identifique el mismo | O13: =+'EVALUACION CON CONTROLES'!H18 -> 3 | P13: =+'EVALUACION CON CONTROLES'!I18 -> 1 | Q13: =+'EVALUACION CON CONTROLES'!J18 -> 4 | R13: =+'EVALUACION CON CONTROLES'!K18 -> BAJO | S13: =+'EVALUACION CON CONTROLES'!L18 -> Si | T13: =+'EVALUACION CON CONTROLES'!M18 -> Entidad Contratante FDLAN | U13: =+'EVALUACION CON CONTROLES'!N18 -> Evaluacion de propuestas | V13: =+'EVALUACION CON CONTROLES'!O18 -> Selección del oferente | ... X13: =+'EVALUACION CON CONTROLES'!Q18 -> Plazo del cronograma del proceso de selección
B14: 4 | C14: Suspensión del contrato por causas ajenas a las partes. | D14: =+'EVALUACION CON CONTROLES'!A19 -> EJECUCIÓN | E14: Especifico | F14: Interno | G14: =+EVALUACION!H19 -> Atraso en el cronograma del proceso | H14: =+EVALUACION!I19 -> 3 | I14: =+EVALUACION!J19 -> 3 | J14: =+EVALUACION!K19 -> 6 | K14: =+EVALUACION!L19 -> ALTO | L14: SDG | M14: 100 | N14: =+'EVALUACION CON CONTROLES'!F19 -> Gestionar la solución de causas ajenas, para reiniciar el proceso | O14: =+'EVALUACION CON CONTROLES'!H19 -> 3 | P14: =+'EVALUACION CON CONTROLES'!I19 -> 3 | Q14: =+'EVALUACION CON CONTROLES'!J19 -> 6 | R14: =+'EVALUACION CON CONTROLES'!K19 -> ALTO | S14: =+'EVALUACION CON CONTROLES'!L19 -> Si | T14: =+'EVALUACION CON CONTROLES'!M19 -> Los funcionarios responsables de la Supervision del Contrato y el ejecutor | U14: =+'EVALUACION CON CONTROLES'!N19 -> Durante la ejecución del contrato | V14: =+'EVALUACION CON CONTROLES'!O19 -> Durante toda la ejecucion del contrato | ... X14: =+'EVALUACION CON CONTROLES'!Q19 -> De manera permanente durante toda la ejecucion del contrato
B15: 5 | C15: Demora o entrega de elementos en malas condiciones | D15: =+'EVALUACION CON CONTROLES'!A20 -> EJECUCIÓN | E15: Especifico | F15: Interno | G15: =+EVALUACION!H20 -> Incumplimiento por el ejecutor ante la necesidad de la entidad | H15: =+EVALUACION!I20 -> 3 | I15: =+EVALUACION!J20 -> 3 | J15: =+EVALUACION!K20 -> 6 | K15: =+EVALUACION!L20 -> ALTO | L15: CONTRATISTA | M15: 100 | N15: =+'EVALUACION CON CONTROLES'!F20 -> Hacer efectiva la Garantia de Cumplimiento y Calidad de los bienes y servicios | O15: =+'EVALUACION CON CONTROLES'!H20 -> 3 | P15: =+'EVALUACION CON CONTROLES'!I20 -> 3 | Q15: =+'EVALUACION CON CONTROLES'!J20 -> 6 | R15: =+'EVALUACION CON CONTROLES'!K20 -> ALTO | S15: =+'EVALUACION CON CONTROLES'!L20 -> Si | T15: =+'EVALUACION CON CONTROLES'!M20 -> Los funcionarios responsables de la Supervision del Contrato y la Oficina Juridica del FDLAN | U15: =+'EVALUACION CON CONTROLES'!N20 -> Durante la ejecución del contrato | V15: =+'EVALUACION CON CONTROLES'!O20 -> Durante toda la ejecucion del contrato | ... X15: =+'EVALUACION CON CONTROLES'!Q20 -> De manera permanente durante toda la ejecucion del contrato
B16: 6 | C16: Demora o entrega de elementos en malas condiciones | D16: =+'EVALUACION CON CONTROLES'!A21 -> EJECUCIÓN | E16: Especifico | F16: Interno | G16: =+EVALUACION!H21 -> Entrega de bienes en mal estado o que no cumplan con las especificaciones tecnicas indicas en el Anexo Tecnico | H16: =+EVALUACION!I21 -> 3 | I16: =+EVALUACION!J21 -> 3 | J16: =+EVALUACION!K21 -> 6 | K16: =+EVALUACION!L21 -> ALTO | L16: CONTRATISTA | M16: 100 | N16: =+'EVALUACION CON CONTROLES'!F21 -> Hacer efectiva la Garantia de Cumplimiento y Calidad de los bienes y servicios | O16: =+'EVALUACION CON CONTROLES'!H21 -> 3 | P16: =+'EVALUACION CON CONTROLES'!I21 -> 3 | Q16: =+'EVALUACION CON CONTROLES'!J21 -> 6 | R16: =+'EVALUACION CON CONTROLES'!K21 -> ALTO | S16: =+'EVALUACION CON CONTROLES'!L21 -> Si | T16: =+'EVALUACION CON CONTROLES'!M21 -> Los funcionarios responsables de la Supervision del Contrato y la Oficina Juridica del FDLAN | U16: =+'EVALUACION CON CONTROLES'!N21 -> Durante la ejecución del contrato | V16: =+'EVALUACION CON CONTROLES'!O21 -> Durante toda la ejecucion del contrato | ... X16: =+'EVALUACION CON CONTROLES'!Q21 -> De manera permanente durante toda la ejecucion del contrato
B17: 7 | C17: Liquidación unilateral o solicitud de liquidación judicial. | D17: =+'EVALUACION CON CONTROLES'!A22 -> EJECUCIÓN | E17: General | F17: Interno | G17: =+EVALUACION!H22 -> Pérdida de competencia para liquidar en sede administrativa. | H17: =+EVALUACION!I22 -> 2 | I17: =+EVALUACION!J22 -> 3 | J17: =+EVALUACION!K22 -> 5 | K17: =+EVALUACION!L22 -> MEDIO | L17: CONTRATISTA Y SDG | M17: 50/50 | N17: =+'EVALUACION CON CONTROLES'!F22 -> Tramitar liquidación en los tiempos estipulados | O17: =+'EVALUACION CON CONTROLES'!H22 -> 2 | P17: =+'EVALUACION CON CONTROLES'!I22 -> 3 | Q17: =+'EVALUACION CON CONTROLES'!J22 -> 5 | R17: =+'EVALUACION CON CONTROLES'!K22 -> MEDIO | S17: =+'EVALUACION CON CONTROLES'!L22 -> Si | T17: =+'EVALUACION CON CONTROLES'!M22 -> Los funcionarios responsables de ka supervisión del contrato | U17: =+'EVALUACION CON CONTROLES'!N22 -> Durante la etapa de liquidación | V17: =+'EVALUACION CON CONTROLES'!O22 -> Una vez liquidado el contrato | ... X17: =+'EVALUACION CON CONTROLES'!Q22 -> De manera oportuna una vez terminado el plazo de ejecucion del contrato
B18: 8 | C18: Aumento en el precio de los ítems del estudio de mercado resultado al incremento del precio del dólar | D18: =+'EVALUACION CON CONTROLES'!A23 -> EJECUCIÓN | E18: General | F18: Externo | G18: =+EVALUACION!H23 -> Cambio en el precio del dólar | H18: =+EVALUACION!I23 -> 4 | I18: =+EVALUACION!J23 -> 4 | J18: =+EVALUACION!K23 -> 8 | K18: =+EVALUACION!L23 -> EXTREMO | L18: CONTRATISTA | M18: 100 | N18: =+'EVALUACION CON CONTROLES'!F23 -> Revisión de los productos afectados por la variación en el precio del dólar | O18: =+'EVALUACION CON CONTROLES'!H23 -> 4 | P18: =+'EVALUACION CON CONTROLES'!I23 -> 4 | Q18: =+'EVALUACION CON CONTROLES'!J23 -> 8 | R18: =+'EVALUACION CON CONTROLES'!K23 -> EXTREMO | S18: =+'EVALUACION CON CONTROLES'!L23 -> si | T18: =+'EVALUACION CON CONTROLES'!M23 -> El ejecutor del contrato y la supervisión del mismo | U18: =+'EVALUACION CON CONTROLES'!N23 -> Durante la ejecución del contrato | V18: =+'EVALUACION CON CONTROLES'!O23 -> Durante la ejecución del contrato | ... X18: =+'EVALUACION CON CONTROLES'!Q23 -> De manera permanente durante toda la ejecucion del contrato
B19: 9 | C19: =+'EVALUACION CON CONTROLES'!B24:E24 -> 0 | D19: =+'EVALUACION CON CONTROLES'!A24 -> 0 | E19: =VLOOKUP(C19,'IDENTIFICACION Y ANALISIS'!$B$19:$F$68,3,FALSE) -> #N/A | F19: =VLOOKUP(C19,'IDENTIFICACION Y ANALISIS'!$B$19:$F$68,4,FALSE) -> #N/A | G19: =+EVALUACION!H24 -> 0 | H19: =+EVALUACION!I24 -> 0 | I19: =+EVALUACION!J24 -> 0 | J19: =+EVALUACION!K24 -> 0 | K19: =+EVALUACION!L24 -> BAJO | N19: =+'EVALUACION CON CONTROLES'!F24 -> 0 | O19: =+'EVALUACION CON CONTROLES'!H24 -> 0 | P19: =+'EVALUACION CON CONTROLES'!I24 -> 0 | Q19: =+'EVALUACION CON CONTROLES'!J24 -> 0 | R19: =+'EVALUACION CON CONTROLES'!K24 -> BAJO | S19: =+'EVALUACION CON CONTROLES'!L24 -> 0 | T19: =+'EVALUACION CON CONTROLES'!M24 -> 0 | U19: =+'EVALUACION CON CONTROLES'!N24 -> 0 | V19: =+'EVALUACION CON CONTROLES'!O24 -> 0 | ... X19: =+'EVALUACION CON CONTROLES'!Q24 -> 0
B20: 10 | C20: =+'EVALUACION CON CONTROLES'!B25:E25 -> 0 | D20: =+'EVALUACION CON CONTROLES'!A25 -> 0 | E20: =VLOOKUP(C20,'IDENTIFICACION Y ANALISIS'!$B$19:$F$68,3,FALSE) -> #N/A | F20: =VLOOKUP(C20,'IDENTIFICACION Y ANALISIS'!$B$19:$F$68,4,FALSE) -> #N/A | G20: =+EVALUACION!H25 -> 0 | H20: =+EVALUACION!I25 -> 0 | I20: =+EVALUACION!J25 -> 0 | J20: =+EVALUACION!K25 -> 0 | K20: =+EVALUACION!L25 -> BAJO | N20: =+'EVALUACION CON CONTROLES'!F25 -> 0 | O20: =+'EVALUACION CON CONTROLES'!H25 -> 0 | P20: =+'EVALUACION CON CONTROLES'!I25 -> 0 | Q20: =+'EVALUACION CON CONTROLES'!J25 -> 0 | R20: =+'EVALUACION CON CONTROLES'!K25 -> BAJO | S20: =+'EVALUACION CON CONTROLES'!L25 -> 0 | T20: =+'EVALUACION CON CONTROLES'!M25 -> 0 | U20: =+'EVALUACION CON CONTROLES'!N25 -> 0 | V20: =+'EVALUACION CON CONTROLES'!O25 -> 0 | ... X20: =+'EVALUACION CON CONTROLES'!Q25 -> 0
B21: 11 | C21: =+'EVALUACION CON CONTROLES'!B26:E26 -> 0 | D21: =+'EVALUACION CON CONTROLES'!A26 -> 0 | E21: =VLOOKUP(C21,'IDENTIFICACION Y ANALISIS'!$B$19:$F$68,3,FALSE) -> #N/A | F21: =VLOOKUP(C21,'IDENTIFICACION Y ANALISIS'!$B$19:$F$68,4,FALSE) -> #N/A | G21: =+EVALUACION!H26 -> 0 | H21: =+EVALUACION!I26 -> 0 | I21: =+EVALUACION!J26 -> 0 | J21: =+EVALUACION!K26 -> 0 | K21: =+EVALUACION!L26 -> BAJO | N21: =+'EVALUACION CON CONTROLES'!F26 -> 0 | O21: =+'EVALUACION CON CONTROLES'!H26 -> 0 | P21: =+'EVALUACION CON CONTROLES'!I26 -> 0 | Q21: =+'EVALUACION CON CONTROLES'!J26 -> 0 | R21: =+'EVALUACION CON CONTROLES'!K26 -> BAJO | S21: =+'EVALUACION CON CONTROLES'!L26 -> 0 | T21: =+'EVALUACION CON CONTROLES'!M26 -> 0 | U21: =+'EVALUACION CON CONTROLES'!N26 -> 0 | V21: =+'EVALUACION CON CONTROLES'!O26 -> 0 | ... X21: =+'EVALUACION CON CONTROLES'!Q26 -> 0
B22: 12 | C22: =+'EVALUACION CON CONTROLES'!B27:E27 -> 0 | D22: =+'EVALUACION CON CONTROLES'!A27 -> 0 | E22: =VLOOKUP(C22,'IDENTIFICACION Y ANALISIS'!$B$19:$F$68,3,FALSE) -> #N/A | F22: =VLOOKUP(C22,'IDENTIFICACION Y ANALISIS'!$B$19:$F$68,4,FALSE) -> #N/A | G22: =+EVALUACION!H27 -> 0 | H22: =+EVALUACION!I27 -> 0 | I22: =+EVALUACION!J27 -> 0 | J22: =+EVALUACION!K27 -> 0 | K22: =+EVALUACION!L27 -> BAJO | N22: =+'EVALUACION CON CONTROLES'!F27 -> 0 | O22: =+'EVALUACION CON CONTROLES'!H27 -> 0 | P22: =+'EVALUACION CON CONTROLES'!I27 -> 0 | Q22: =+'EVALUACION CON CONTROLES'!J27 -> 0 | R22: =+'EVALUACION CON CONTROLES'!K27 -> BAJO | S22: =+'EVALUACION CON CONTROLES'!L27 -> 0 | T22: =+'EVALUACION CON CONTROLES'!M27 -> 0 | U22: =+'EVALUACION CON CONTROLES'!N27 -> 0 | V22: =+'EVALUACION CON CONTROLES'!O27 -> 0 | ... X22: =+'EVALUACION CON CONTROLES'!Q27 -> 0
B23: 13 | C23: =+'EVALUACION CON CONTROLES'!B28:E28 -> 0 | D23: =+'EVALUACION CON CONTROLES'!A28 -> 0 | E23: =VLOOKUP(C23,'IDENTIFICACION Y ANALISIS'!$B$19:$F$68,3,FALSE) -> #N/A | F23: =VLOOKUP(C23,'IDENTIFICACION Y ANALISIS'!$B$19:$F$68,4,FALSE) -> #N/A | G23: =+EVALUACION!H28 -> 0 | H23: =+EVALUACION!I28 -> 0 | I23: =+EVALUACION!J28 -> 0 | J23: =+EVALUACION!K28 -> 0 | K23: =+EVALUACION!L28 -> BAJO | N23: =+'EVALUACION CON CONTROLES'!F28 -> 0 | O23: =+'EVALUACION CON CONTROLES'!H28 -> 0 | P23: =+'EVALUACION CON CONTROLES'!I28 -> 0 | Q23: =+'EVALUACION CON CONTROLES'!J28 -> 0 | R23: =+'EVALUACION CON CONTROLES'!K28 -> BAJO | S23: =+'EVALUACION CON CONTROLES'!L28 -> 0 | T23: =+'EVALUACION CON CONTROLES'!M28 -> 0 | U23: =+'EVALUACION CON CONTROLES'!N28 -> 0 | V23: =+'EVALUACION CON CONTROLES'!O28 -> 0 | ... X23: =+'EVALUACION CON CONTROLES'!Q28 -> 0
B24: 14 | C24: =+'EVALUACION CON CONTROLES'!B29:E29 -> 0 | D24: =+'EVALUACION CON CONTROLES'!A29 -> 0 | E24: =VLOOKUP(C24,'IDENTIFICACION Y ANALISIS'!$B$19:$F$68,3,FALSE) -> #N/A | F24: =VLOOKUP(C24,'IDENTIFICACION Y ANALISIS'!$B$19:$F$68,4,FALSE) -> #N/A | G24: =+EVALUACION!H29 -> 0 | H24: =+EVALUACION!I29 -> 0 | I24: =+EVALUACION!J29 -> 0 | J24: =+EVALUACION!K29 -> 0 | K24: =+EVALUACION!L29 -> BAJO | N24: =+'EVALUACION CON CONTROLES'!F29 -> 0 | O24: =+'EVALUACION CON CONTROLES'!H29 -> 0 | P24: =+'EVALUACION CON CONTROLES'!I29 -> 0 | Q24: =+'EVALUACION CON CONTROLES'!J29 -> 0 | R24: =+'EVALUACION CON CONTROLES'!K29 -> BAJO | S24: =+'EVALUACION CON CONTROLES'!L29 -> 0 | T24: =+'EVALUACION CON CONTROLES'!M29 -> 0 | U24: =+'EVALUACION CON CONTROLES'!N29 -> 0 | V24: =+'EVALUACION CON CONTROLES'!O29 -> 0 | ... X24: =+'EVALUACION CON CONTROLES'!Q29 -> 0
B25: 15 | C25: =+'EVALUACION CON CONTROLES'!B30:E30 -> 0 | D25: =+'EVALUACION CON CONTROLES'!A30 -> 0 | E25: =VLOOKUP(C25,'IDENTIFICACION Y ANALISIS'!$B$19:$F$68,3,FALSE) -> #N/A | F25: =VLOOKUP(C25,'IDENTIFICACION Y ANALISIS'!$B$19:$F$68,4,FALSE) -> #N/A | G25: =+EVALUACION!H30 -> 0 | H25: =+EVALUACION!I30 -> 0 | I25: =+EVALUACION!J30 -> 0 | J25: =+EVALUACION!K30 -> 0 | K25: =+EVALUACION!L30 -> BAJO | N25: =+'EVALUACION CON CONTROLES'!F30 -> 0 | O25: =+'EVALUACION CON CONTROLES'!H30 -> 0 | P25: =+'EVALUACION CON CONTROLES'!I30 -> 0 | Q25: =+'EVALUACION CON CONTROLES'!J30 -> 0 | R25: =+'EVALUACION CON CONTROLES'!K30 -> BAJO | S25: =+'EVALUACION CON CONTROLES'!L30 -> 0 | T25: =+'EVALUACION CON CONTROLES'!M30 -> 0 | U25: =+'EVALUACION CON CONTROLES'!N30 -> 0 | V25: =+'EVALUACION CON CONTROLES'!O30 -> 0 | ... X25: =+'EVALUACION CON CONTROLES'!Q30 -> 0
B26: 16 | C26: =+'EVALUACION CON CONTROLES'!B31:E31 -> 0 | D26: =+'EVALUACION CON CONTROLES'!A31 -> 0 | E26: =VLOOKUP(C26,'IDENTIFICACION Y ANALISIS'!$B$19:$F$68,3,FALSE) -> #N/A | F26: =VLOOKUP(C26,'IDENTIFICACION Y ANALISIS'!$B$19:$F$68,4,FALSE) -> #N/A | G26: =+EVALUACION!H31 -> 0 | H26: =+EVALUACION!I31 -> 0 | I26: =+EVALUACION!J31 -> 0 | J26: =+EVALUACION!K31 -> 0 | K26: =+EVALUACION!L31 -> BAJO | N26: =+'EVALUACION CON CONTROLES'!F31 -> 0 | O26: =+'EVALUACION CON CONTROLES'!H31 -> 0 | P26: =+'EVALUACION CON CONTROLES'!I31 -> 0 | Q26: =+'EVALUACION CON CONTROLES'!J31 -> 0 | R26: =+'EVALUACION CON CONTROLES'!K31 -> BAJO | S26: =+'EVALUACION CON CONTROLES'!L31 -> 0 | T26: =+'EVALUACION CON CONTROLES'!M31 -> 0 | U26: =+'EVALUACION CON CONTROLES'!N31 -> 0 | V26: =+'EVALUACION CON CONTROLES'!O31 -> 0 | ... X26: =+'EVALUACION CON CONTROLES'!Q31 -> 0
B27: 17 | C27: =+'EVALUACION CON CONTROLES'!B32:E32 -> 0 | D27: =+'EVALUACION CON CONTROLES'!A32 -> 0 | E27: =VLOOKUP(C27,'IDENTIFICACION Y ANALISIS'!$B$19:$F$68,3,FALSE) -> #N/A | F27: =VLOOKUP(C27,'IDENTIFICACION Y ANALISIS'!$B$19:$F$68,4,FALSE) -> #N/A | G27: =+EVALUACION!H32 -> 0 | H27: =+EVALUACION!I32 -> 0 | I27: =+EVALUACION!J32 -> 0 | J27: =+EVALUACION!K32 -> 0 | K27: =+EVALUACION!L32 -> BAJO | N27: =+'EVALUACION CON CONTROLES'!F32 -> 0 | O27: =+'EVALUACION CON CONTROLES'!H32 -> 0 | P27: =+'EVALUACION CON CONTROLES'!I32 -> 0 | Q27: =+'EVALUACION CON CONTROLES'!J32 -> 0 | R27: =+'EVALUACION CON CONTROLES'!K32 -> BAJO | S27: =+'EVALUACION CON CONTROLES'!L32 -> 0 | T27: =+'EVALUACION CON CONTROLES'!M32 -> 0 | U27: =+'EVALUACION CON CONTROLES'!N32 -> 0 | V27: =+'EVALUACION CON CONTROLES'!O32 -> 0 | ... X27: =+'EVALUACION CON CONTROLES'!Q32 -> 0
B28: 18 | C28: =+'EVALUACION CON CONTROLES'!B33:E33 -> 0 | D28: =+'EVALUACION CON CONTROLES'!A33 -> 0 | E28: =VLOOKUP(C28,'IDENTIFICACION Y ANALISIS'!$B$19:$F$68,3,FALSE) -> #N/A | F28: =VLOOKUP(C28,'IDENTIFICACION Y ANALISIS'!$B$19:$F$68,4,FALSE) -> #N/A | G28: =+EVALUACION!H33 -> 0 | H28: =+EVALUACION!I33 -> 0 | I28: =+EVALUACION!J33 -> 0 | J28: =+EVALUACION!K33 -> 0 | K28: =+EVALUACION!L33 -> BAJO | N28: =+'EVALUACION CON CONTROLES'!F33 -> 0 | O28: =+'EVALUACION CON CONTROLES'!H33 -> 0 | P28: =+'EVALUACION CON CONTROLES'!I33 -> 0 | Q28: =+'EVALUACION CON CONTROLES'!J33 -> 0 | R28: =+'EVALUACION CON CONTROLES'!K33 -> BAJO | S28: =+'EVALUACION CON CONTROLES'!L33 -> 0 | T28: =+'EVALUACION CON CONTROLES'!M33 -> 0 | U28: =+'EVALUACION CON CONTROLES'!N33 -> 0 | V28: =+'EVALUACION CON CONTROLES'!O33 -> 0 | ... X28: =+'EVALUACION CON CONTROLES'!Q33 -> 0
B29: 19 | C29: =+'EVALUACION CON CONTROLES'!B34:E34 -> 0 | D29: =+'EVALUACION CON CONTROLES'!A34 -> 0 | E29: =VLOOKUP(C29,'IDENTIFICACION Y ANALISIS'!$B$19:$F$68,3,FALSE) -> #N/A | F29: =VLOOKUP(C29,'IDENTIFICACION Y ANALISIS'!$B$19:$F$68,4,FALSE) -> #N/A | G29: =+EVALUACION!H34 -> 0 | H29: =+EVALUACION!I34 -> 0 | I29: =+EVALUACION!J34 -> 0 | J29: =+EVALUACION!K34 -> 0 | K29: =+EVALUACION!L34 -> BAJO | N29: =+'EVALUACION CON CONTROLES'!F34 -> 0 | O29: =+'EVALUACION CON CONTROLES'!H34 -> 0 | P29: =+'EVALUACION CON CONTROLES'!I34 -> 0 | Q29: =+'EVALUACION CON CONTROLES'!J34 -> 0 | R29: =+'EVALUACION CON CONTROLES'!K34 -> BAJO | S29: =+'EVALUACION CON CONTROLES'!L34 -> 0 | T29: =+'EVALUACION CON CONTROLES'!M34 -> 0 | U29: =+'EVALUACION CON CONTROLES'!N34 -> 0 | V29: =+'EVALUACION CON CONTROLES'!O34 -> 0 | ... X29: =+'EVALUACION CON CONTROLES'!Q34 -> 0
B30: 20 | C30: =+'EVALUACION CON CONTROLES'!B35:E35 -> 0 | D30: =+'EVALUACION CON CONTROLES'!A35 -> 0 | E30: =VLOOKUP(C30,'IDENTIFICACION Y ANALISIS'!$B$19:$F$68,3,FALSE) -> #N/A | F30: =VLOOKUP(C30,'IDENTIFICACION Y ANALISIS'!$B$19:$F$68,4,FALSE) -> #N/A | G30: =+EVALUACION!H35 -> 0 | H30: =+EVALUACION!I35 -> 0 | I30: =+EVALUACION!J35 -> 0 | J30: =+EVALUACION!K35 -> 0 | K30: =+EVALUACION!L35 -> BAJO | N30: =+'EVALUACION CON CONTROLES'!F35 -> 0 | O30: =+'EVALUACION CON CONTROLES'!H35 -> 0 | P30: =+'EVALUACION CON CONTROLES'!I35 -> 0 | Q30: =+'EVALUACION CON CONTROLES'!J35 -> 0 | R30: =+'EVALUACION CON CONTROLES'!K35 -> BAJO | S30: =+'EVALUACION CON CONTROLES'!L35 -> 0 | T30: =+'EVALUACION CON CONTROLES'!M35 -> 0 | U30: =+'EVALUACION CON CONTROLES'!N35 -> 0 | V30: =+'EVALUACION CON CONTROLES'!O35 -> 0 | ... X30: =+'EVALUACION CON CONTROLES'!Q35 -> 0
F32: Categoria | J32: Impacto del Riesgo
E33: Probabilidad | F33: Catagoria | G33: Valoración | J33: Categoria | L33: Valoración
F34: Raro (puede ocurrir excepcionalmente) | G34: 1 | J34: Insignificante | L34: 1
F35: Improbable (puede ocurrir ocasionalmente) | G35: 2 | J35: Menor | L35: 2
F36: Posible (puede ocurrir en cualquier momento futuro) | G36: 3 | J36: Moderado | L36: 3
F37: Probable (probablemente va a ocurrir) | G37: 4 | J37: Mayor | L37: 4
F38: Casi cierto (ocurre en la mayoria de circunstancias) | G38: 5 | J38: Catastrófico | L38: 5
D40: Valoración del Riesgo
D41: Catagoria | E41: Valoración | F41: Insignificante | H41: Menor | J41: Moderado | K41: Mayor | L41: Catastrófico | P41: Categoria del Riesgo
F42: 1 | H42: 2 | J42: 3 | K42: 4 | L42: 5 | P42: Valoración del Riesgo | S42: Categoría
D43: Raro (puede ocurrir excepcionalmente) | E43: 1 | F43: 2 | H43: 3 | J43: 4 | K43: 5 | L43: 6 | P43: 8, 9 y 10 | S43: Riesgo extremo
D44: Improbable (puede ocurrir ocasionalmente) | E44: 2 | F44: 3 | H44: 4 | J44: 5 | K44: 6 | L44: 7 | P44: 6 y 7 | S44: Riesgo alto
D45: Posible (puede ocurrir en cualquier momento futuro) | E45: 3 | F45: 4 | H45: 5 | J45: 6 | K45: 7 | L45: 8 | P45: 5 | S45: Riesgo medio
D46: Probable (probablemente va a ocurrir) | E46: 4 | F46: 5 | H46: 6 | J46: 7 | K46: 8 | L46: 9 | P46: 2, 3 y 4 | S46: Riesgo bajo
D47: Casi cierto (ocurre en la mayoria de circunstancias) | E47: 5 | F47: 6 | H47: 7 | J47: 8 | K47: 9 | L47: 10
...
