Workbook
Name AMAZONAS: Hoja1!$B$43
Name ANTIOQUIA: Hoja1!$C$43:$C$77
Name ARAUCA: Hoja1!$D$43:$D$44
Name AREA: Hoja1!$H$2:$H$4
Name ATLANTICO: Hoja1!$E$43:$E$45
Name BOGOTA: Hoja1!$F$43:$F$44
Name BOLIVAR: Hoja1!$G$43:$G$48
Name BOYACA: Hoja1!$H$43:$H$56
Name CALDAS: Hoja1!$I$43:$I$53
Name CAQUETA: Hoja1!$J$43:$J$46
Name CASANARE: Hoja1!$K$43:$K$46
Name CATEGORIA: Hoja1!$F$2:$F$5
Name CAUCA: Hoja1!$L$43:$L$51
Name CESAR: Hoja1!$M$43:$M$46
Name CHOCO: Hoja1!$N$43:$N$47
Name CORDOBA: Hoja1!$O$43:$O$52
Name CUNDINAMARCA: Hoja1!$P$43:$P$61
Name GUAINIA: Hoja1!$Q$43
Name GUAJIRA: Hoja1!$R$43:$R$47
Name GUAVIARE: Hoja1!$S$43:$S$44
Name HUILA: Hoja1!$T$43:$T$46
Name MAGDALENA: Hoja1!$U$43:$U$49
Name MAGDALENA_MEDIO: Hoja1!$V$43:$V$48
Name META: Hoja1!$W$43:$W$48
Name NARIÑO: Hoja1!$X$43:$X$49
Name NORTE_DE_SANTANDER: Hoja1!$Y$43:$Y$46
Name OCAÑA: Hoja1!$Z$43
Name PACIFICO: Hoja1!$AA$43:$AA$45
Name PROGRAMAS: Hoja1!$G$2:$G$12
Name PUTUMAYO: Hoja1!$AB$43:$AB$46
Name QUINDIO: Hoja1!$AC$43:$AC$44
Name REGIONALES: Hoja1!$B$42:$AM$42
Name RISARALDA: Hoja1!$AD$43:$AD$50
Name SAN_ANDRES: Hoja1!$AE$43
Name SANTANDER: Hoja1!$AF$43:$AF$51
Name SUB_AREA: Hoja1!$I$2:$I$3
Name SUCRE: Hoja1!$AG$43:$AG$48
Name TOLIMA: Hoja1!$AH$43:$AH$53
Name TUMACO: Hoja1!$AI$43:$AI$45
Name URABA: Hoja1!$AJ$43:$AJ$45
Name VALLE_DEL_CAUCA: Hoja1!$AK$43:$AK$50
Name VAUPES: Hoja1!$AL$43:$AL$44
Name VICHADA: Hoja1!$AM$43:$AM$44

Sheet Hoja1
C1: BIMESTRE | D1: MES | E1: REGIONAL | F1: CATEGORIA | G1: PROGRAMAS | H1: AREA | I1: SUB_AREA
C2: ENERO - FEBRERO | D2: ENERO | E2: AMAZONAS | F2: MUNICIPAL | G2: ADMINISTRATIVO | H2: DERECHO PUBLICO Y PRIVADO | I2: DE VICTIMAS
C3: MARZO - ABRIL | D3: FEBRERO | E3: ANTIOQUIA | F3: CIRCUITO | G3: CASACION | H3: ESPECIAL | I3: DE PROCESADOS Y CONDENADOS
C4: MAYO - JUNIO | D4: MARZO | E4: ARAUCA | F4: TRIBUNAL | G4: GENERAL DE DERECHO PUBLICO Y PRIVADO | H4: PENAL
C5: JULIO - AGOSTO | D5: ABRIL | E5: ATLANTICO | F5: CORTE | G5: LABORAL
C6: SEPTIEMBRE - OCTUBRE | D6: MAYO | E6: BOGOTA | G6: MINORIAS ETNICAS
C7: NOVIEMBRE - DICIEMBRE | D7: JUNIO | E7: BOLIVAR | G7: PENAL GENERAL
D8: JULIO | E8: BOYACA | G8: PENAL MILITAR
D9: AGOSTO | E9: CALDAS | G9: PROMISCUO
D10: SEPTIEMBRE | E10: CAQUETA | G10: RESTITUCION DE TIERRAS
D11: OCTUBRE | E11: CASANARE | G11: VICTIMAS EN JUSTICIA Y PAZ
D12: NOVIEMBRE | E12: CAUCA | G12: VICTIMAS GENERAL
D13: DICIEMBRE | E13: CESAR
E14: CHOCO
E15: CORDOBA
E16: CUNDINAMARCA
E17: GUAINIA
E18: GUAJIRA
E19: GUAVIARE
E20: HUILA
E21: MAGDALENA
E22: MAGDALENA MEDIO
E23: META
E24: NARIÑO
E25: NORTE SANTANDER
... E39: VICHADA
A41: CIRCUITOS JUDICIALES
B42: AMAZONAS | C42: ANTIOQUIA | D42: ARAUCA | E42: ATLANTICO | F42: BOGOTA | G42: BOLIVAR | H42: BOYACA | I42: CALDAS | J42: CAQUETA | K42: CASANARE | L42: CAUCA | M42: CESAR | N42: CHOCO | O42: CORDOBA | P42: CUNDINAMARCA | Q42: GUAINIA | R42: GUAJIRA | S42: GUAVIARE | T42: HUILA | U42: MAGDALENA | V42: MAGDALENA_MEDIO | W42: META | X42: NARIÑO | Y42: NORTE_DE_SANTANDER | Z42: OCAÑA | AA42: PACIFICO | AB42: PUTUMAYO | AC42: QUINDIO | AD42: RISARALDA | AE42: SAN_ANDRES | AF42: SANTANDER | AG42: SUCRE | AH42: TOLIMA | AI42: TUMACO | AJ42: URABA | AK42: VALLE_DEL_CAUCA | AL42: VAUPES | AM42: VICHADA
B43: LETICIA | C43: ABEJORRAL | D43: ARAUCA | E43: BARRANQUILLA | F43: BOGOTA D.C | G43: CARTAGENA | H43: CHIQUINQUIRA | I43: AGUADAS | J43: BELEN DE LOS ANDAQUIES | K43: MONTERREY | L43: BOLIVAR | M43: AGUACHICA | N43: BAHIA SOLANO | O43: AYAPEL | P43: BOGOTA D.C | Q43: INIRIDA | R43: MAICAO | S43: SAN JOSE DEL GUAVIARE | T43: GARZON | U43: CIENAGA | V43: BARRANCABERMEJA | W43: ACACIAS | X43: IPIALES | Y43: CUCUTA | Z43: OCAÑA | AA43: BUENAVENTURA | AB43: MOCOA | AC43: ARMENIA | AD43: APIA | AE43: SAN ANDRES | AF43: BUCARAMANGA | AG43: COROZAL | AH43: CHAPARRAL | AI43: BARBACOAS | AJ43: ANTIOQUIA Y CIRCUITOS JUDICIALES ASIGNADOS A LA REGIONAL | AK43: BUGA | AL43: MITU | AM43: PUERTO CARREÑO
C44: AMAGA | D44: SARAVENA | E44: BARRANQUILLA (DISTRITO JUDICIAL) | G44: CARTAGENA Y EL DPTO. DE BOLIVAR | H44: DUITAMA | I44: ANSERMA | J44: FLORENCIA | K44: OROCUE | L44: CALOTO | M44: CHIRIGUANA | N44: ISTMINA | O44: CERETE | P44: BOGOTA D.C (JUZGADOS ESPECIALIZADOS) | R44: RIOHACHA | S44: VILLAVICENCIO | T44: LA PLATA | U44: EL BANCO | V44: BUCARAMANGA Y CIRCUITOS JUDICIALES ASIGNADOS A LA REGIONAL | W44: GRANADA | X44: LA CRUZ | Y44: CUCUTA Y EL DPTO. DE NORTE DE SANTANDER | AA44: GUAPI (CAUCA) | AB44: MOCOA Y EL DPTO. DE PUTUMAYO | AC44: CALARCA | AD44: BELEN DE UMBRIA | AF44: BUCARAMANGA Y EL DPTO. DE SANTANDER | AG44: SAN MARCOS | AH44: ESPINAL | AI44: PASTO Y CIRCUITOS JUDICIALES ASIGNADOS A LA REGIONAL | AJ44: APARTADO | AK44: CALI | AL44: VILLAVICENCIO | AM44: VILLAVICENCIO
C45: AMALFI | G45: EL CARMEN DE BOLIVAR | H45: EL COCUY | I45: CHINCHINA | J45: FLORENCIA Y EL DPTO. DE CAQUETA | K45: PAZ DE ARIPORO | L45: GUAPI | M45: VALLEDUPAR | N45: QUIBDO | O45: CHINU | P45: CAQUEZA | R45: RIOHACHA Y EL DPTO. DE LA GUAJIRA | T45: NEIVA | U45: FUNDACION | V45: CIMITARRA | W45: PUERTO LOPEZ | X45: LA UNION | Y45: LOS PATIOS | AA45: ITSMINA (CHOCO) | AB45: PUERTO ASIS | AD45: DOSQUEBRADAS | AF45: CHARALA | AG45: SINCE | AH45: FRESNO | AI45: TUMACO | AJ45: TURBO | AK45: CALI Y BUGA Y EL DPTO. DEL VALLE DEL CAUCA
C46: ANDES | G46: MAGANGUE | H46: GARAGOA | I46: LA DORADA | J46: PUERTO RICO | K46: YOPAL | L46: PATIA EL BORDO | M46: VALLEDUPAR Y EL DPTO. DE CESAR | N46: QUIBDO Y EL DPTO. DEL CHOCO | O46: LORICA | P46: CHOCONTA | R46: SAN JUAN DEL CESAR | T46: PITALITO | U46: PIVIJAY | V46: PUERTO BERRIO | W46: SAN MARTIN | X46: PASTO | Y46: PAMPLONA | AB46: SIBUNDOY | AD46: LA VIRGINIA | AF46: GIRON | AG46: SINCELEJO | AH46: GUAMO | AK46: CARTAGO
C47: ANTIOQUIA | G47: MOMPOX | H47: GUATEQUE | I47: MANIZALES | L47: POPAYAN | N47: RIOSUCIO | O47: MONTELIBANO | P47: CUNDINAMARCA | R47: VILLANUEVA | U47: PLATO | V47: SAN VICENTE DE CHUCURI | W47: VILLAVICENCIO | X47: PASTO Y EL DPTO. DE NARIÑO | AD47: PEREIRA | AF47: MALAGA | AG47: SINCELEJO Y EL DPTO. DE SUCRE | AH47: HONDA | AK47: PALMIRA
C48: BOLIVAR | G48: TURBACO | H48: MIRAFLORES | I48: MANIZALES Y EL DPTO. DE CALDAS | L48: POPAYAN Y EL DPTO. DEL CAUCA | O48: MONTERIA | P48: CUNDINAMARCA Y EL DPTO. DE CUNDINAMARCA | U48: SANTA MARTA | V48: SIMITI | W48: VILLAVICENCIO Y EL DPTO. DEL META | X48: SAMANIEGO | AD48: PEREIRA Y EL DPTO. DE RISARALDA | AF48: PUENTE NACIONAL | AG48: SUCRE | AH48: IBAGUE | AK48: ROLDANILLO
C49: CAUCASIA | H49: MONIQUIRA | I49: MANZANARES | L49: PUERTO TEJADA | O49: MONTERIA Y EL DPTO. DE CORDOBA | P49: FACATATIVA | U49: SANTA MARTA Y EL DPTO. DE MAGDALENA | X49: TUQUERRES | AD49: QUINCHIA | AF49: SAN GIL | AH49: IBAGUE Y EL DPTO. DEL TOLIMA | AK49: SEVILLA
C50: CISNEROS | H50: PAZ DE RIO | I50: PENSILVANIA | L50: SANTANDER DE QUILICHAO | O50: PLANETARICA | P50: FUNZA | AD50: SANTA ROSA DE CABAL | AF50: SOCORRO | AH50: LERIDA | AK50: TULUA
C51: CONCORDIA | H51: RAMIRIQUI | I51: PUERTO BOYACA | L51: SILVIA | O51: SAHAGUN | P51: FUSAGASUGA | AF51: VELEZ | AH51: LIBANO
C52: DABEIBA | H52: SANTA ROSA DE VITERBO | I52: RIOSUCIO | O52: TIERRALTA | P52: GACHETA | AH52: MELGAR
C53: EL BAGRE | H53: SOATA | I53: SALAMINA | P53: GIRARDOT | AH53: PURIFICACION
C54: FREDONIA | H54: SOCHA | P54: GUADUAS
...

Sheet 1
C1: Nombre del proceso/Subproceso: Atención y Trámite/Defensoría Pública | Q1: Código: SD-P07-F188
C2: Formulario: Informe Mensual Consolidado de Estadística RJV - Leyes 1098 de 2006, 1257 de 2008, 1719 de 2014, 985 de 2005, Decreto 1069 de 2014, Ley 1773 de 2016 y Ley 1761 de 2015 | Q2: Versión: 01
Q3: Vigente desde: 1de Sep- 2020
A6: REGIONAL: | C6: ANTIOQUIA | G6: NOMBRE REPRESENTANTE JUDICIAL: | K6: JULIETH GALLEGO MONTOYA | P6: PROGRAMA: | R6: VICTIMAS GENERAL
A7: AÑO: | C7: 2022 | G7: LUGAR DE EJECUCION: | K7: MARINILLA | P7: AREA: | R7: PENAL
A8: MES: | C8: DICIEMBRE | G8: CATEGORIA: | K8: CIRCUITO | P8: SUB AREA: | R8: DE VICTIMAS
A10: REPARTO | H10: Ley 1098 de 2006 (Víctimas Niños, Niñas y Adolescentes) | J10: Ley 1257 de 2008 (Violencia Contra la Mujer) | L10: Ley 1719 de 2014 (Violencia Sexual en el Conflicto Armado) | N10: Ley 985/2005 -Decreto 1069/2014 (Trata de Personas) | P10: Ley 1761 de 2015 (Feminicidio) | R10: Ley 1773 de 2016 (Ataques con Acidos) | T10: TOTAL
A11: No. de Poderes Vigentes del Mes Anterior | H11: 128 | J11: 22 | T11: =SUM(H11:S11) -> 150
A12: No. de Poderes Recibidos Durante el Mes | H12: 1 | J12: 0 | T12: =SUM(H12:S12) -> 1
A13: No. de Poderes Reasignados Durante el Mes | H13: 0 | J13: 0 | T13: =SUM(H13:S13) -> 0
A14: No. de Poderes Sustituidos Durante el Mes | H14: 0 | J14: 0 | T14: =SUM(H14:S14) -> 0
A15: No. de Poderes Terminados Durante el Mes | H15: 0 | J15: 0 | T15: =SUM(H15:S15) -> 0
A16: No. de Poderes Vigentes | H16: =(H11+H12+H13)-(H14+H15) -> 129 | J16: =(J11+J12+J13)-(J14+J15) -> 22 | L16: =(L11+L12+L13)-(L14+L15) -> 0 | N16: =(N11+N12+N13)-(N14+N15) -> 0 | P16: =(P11+P12+P13)-(P14+P15) -> 0 | R16: =(R11+R12+R13)-(R14+R15) -> 0 | T16: =SUM(H16:S16) -> 151
A17: No. de Poderes Vigentes Inactivos | H17: 20 | J17: 8 | T17: =SUM(H17:S17) -> 28
A18: No. de Poderes Vigentes Activos | H18: =H16-H17 -> 109 | I18: =(K13+K14)-K15 -> 0 | J18: =J16-J17 -> 14 | K18: =(M13+M14)-M15 -> 0 | L18: =L16-L17 -> 0 | M18: =(O13+O14)-O15 -> 0 | N18: =N16-N17 -> 0 | O18: =(Q13+Q14)-Q15 -> 0 | P18: =P16-P17 -> 0 | Q18: =(S13+S14)-S15 -> 0 | R18: =R16-R17 -> 0 | S18: =(U13+U14)-U15 -> 0 | T18: =SUM(H18:S18) -> 123
A19: No. de Asistencias Técnicas | H19: 0 | J19: 0 | T19: =SUM(H19:S19) -> 0
A20: COMUNICACIONES
A21: No. de Víctimas Contactadas Telefónicamente Durante el Mes | H21: 10 | J21: 5 | T21: =SUM(H21:S21) -> 15
A22: No. de Comunicaciones Escritas Durante el Mes | H22: 0 | J22: 0 | T22: =SUM(H22:S22) -> 0
A23: No. de Entrevistas Personales Durante el Mes | H23: 0 | J23: 0 | T23: =SUM(H23:S23) -> 0
A25: CONTROL EN LA GESTION DEFENSORIAL
A26: PROCEDIMIENTO ABREVIADO | H26: PROCEDIMIENTO ORDINARIO
A27: Modalidad | F27: P | G27: V | H27: Modalidad | T27: P | U27: V
A28: No. de Audiencias Programadas en el Mes | F28: 0 | G28: 3 | H28: No. de Audiencias Programadas en el Mes | U28: 33
A29: No. de Audiencias Realizadas en el Mes | F29: =SUM(D56,F56) -> 0 | G29: =SUM(E56,G56) -> 1 | H29: No. de Audiencias Realizadas en el Mes | T29: =SUM(N56,P56,R56,T56) -> 0 | U29: =SUM(O56,Q56,S56,U56) -> 17
A30: Descripción por Tipo de Audiencia Realizada | H30: Descripción por Tipo de Audiencia Realizada
A31: Etapa Procesal | B31: Tipo de Audiencia | D31: Asistidas por el RJV | F31: No Asistidas por el RJV | H31: Etapa Procesal | J31: Tipo de Audiencia | N31: Municipal | R31: Circuito
D32: P | E32: V | F32: P | G32: V | N32: Asistidas por el RJV | P32: No Asistidas por el RJV | R32: Asistidas por el RJV | T32: No Asistidas por el RJV
N33: P | O33: V | P33: P | Q33: V | R33: P | S33: V | T33: P | U33: V
A34: Fase de indagación | B34: Legalización de Captura | H34: Fase de indagación
B35: Medidas de Aseguramiento | H35: Audiencias Preliminares | J35: Solicitud Desarchivo Indagación Preliminar
B36: Medidas de Protección | J36: Medidas de Protección
B37: Principio de Oportunidad | J37: Legalización de Captura
B38: Otras Audiencias Preliminares | J38: Imputación
A39: Citación para Traslado del Escrito de Acusación | J39: Solicitud Medidas Cautelares
A40: Audiencia Concentrada | B40: Formalización del Traslado del Escrito de Acusación | J40: Medidas de Aseguramiento
B41: Se Enuncia la Práctica de Pruebas y se Controvierten las mismas | J41: Principio de Oportunidad
A42: Audiencias de Juicio | B42: Traslado Escrito Acusación | J42: Otras Audiencias Preliminares | Q42: 1
B43: Audiencia Concentrada | H43: Audiencias de Juicio | J43: Audiencia de Acusación | S43: 1
B44: Juicio Oral | E44: 1 | J44: Audiencia Preparatoria | S44: 7
...

Sheet 2
C1: Nombre del proceso/Subproceso: Atención y Trámite/Defensoría Pública | Q1: Código: SD-P07-F188
C2: Formulario: Informe Mensual Consolidado de Estadística RJV - Leyes 1098 de 2006, 1257 de 2008, 1719 de 2014, 985 de 2005, Decreto 1069 de 2014, Ley 1773 de 2016 y Ley 1761 de 2015 | Q2: Versión: 01
Q3: Vigente desde:
A6: REGIONAL: | G6: NOMBRE REPRESENTANTE JUDICIAL: | P6: PROGRAMA:
A7: AÑO: | G7: LUGAR DE EJECUCION: | P7: AREA:
A8: MES: | G8: CATEGORIA: | P8: SUB AREA:
A10: REPARTO | H10: Ley 1098 de 2006 (Víctimas Niños, Niñas y Adolescentes) | J10: Ley 1257 de 2008 (Violencia Contra la Mujer) | L10: Ley 1719 de 2014 (Violencia Sexual en el Conflicto Armado) | N10: Ley 985/2005 -Decreto 1069/2014 (Trata de Personas) | P10: Ley 1761 de 2015 (Feminicidio) | R10: Ley 1773 de 2016 (Ataques con Acidos) | T10: TOTAL
A11: No. de Poderes Vigentes del Mes Anterior | T11: =SUM(H11:S11) -> 0
A12: No. de Poderes Recibidos Durante el Mes | T12: =SUM(H12:S12) -> 0
A13: No. de Poderes Reasignados Durante el Mes | T13: =SUM(H13:S13) -> 0
A14: No. de Poderes Sustituidos Durante el Mes | T14: =SUM(H14:S14) -> 0
A15: No. de Poderes Terminados Durante el Mes | T15: =SUM(H15:S15) -> 0
A16: No. de Poderes Vigentes | H16: =(H11+H12+H13)-(H14+H15) -> 0 | J16: =(J11+J12+J13)-(J14+J15) -> 0 | L16: =(L11+L12+L13)-(L14+L15) -> 0 | N16: =(N11+N12+N13)-(N14+N15) -> 0 | P16: =(P11+P12+P13)-(P14+P15) -> 0 | R16: =(R11+R12+R13)-(R14+R15) -> 0 | T16: =SUM(H16:S16) -> 0
A17: No. de Poderes Vigentes Inactivos | T17: =SUM(H17:S17) -> 0
A18: No. de Poderes Vigentes Activos | H18: =H16-H17 -> 0 | I18: =(K13+K14)-K15 -> 0 | J18: =J16-J17 -> 0 | K18: =(M13+M14)-M15 -> 0 | L18: =L16-L17 -> 0 | M18: =(O13+O14)-O15 -> 0 | N18: =N16-N17 -> 0 | O18: =(Q13+Q14)-Q15 -> 0 | P18: =P16-P17 -> 0 | Q18: =(S13+S14)-S15 -> 0 | R18: =R16-R17 -> 0 | S18: =(U13+U14)-U15 -> 0 | T18: =SUM(H18:S18) -> 0
A19: No. de Asistencias Técnicas | T19: =SUM(H19:S19) -> 0
A20: COMUNICACIONES
A21: No. de Víctimas Contactadas Telefónicamente Durante el Mes | T21: =SUM(H21:S21) -> 0
A22: No. de Comunicaciones Escritas Durante el Mes | T22: =SUM(H22:S22) -> 0
A23: No. de Entrevistas Personales Durante el Mes | T23: =SUM(H23:S23) -> 0
A25: CONTROL EN LA GESTION DEFENSORIAL
A26: PROCEDIMIENTO ABREVIADO | H26: PROCEDIMIENTO ORDINARIO
A27: Modalidad | F27: P | G27: V | H27: Modalidad | T27: P | U27: V
A28: No. de Audiencias Programadas en el Mes | H28: No. de Audiencias Programadas en el Mes
A29: No. de Audiencias Realizadas en el Mes | F29: =SUM(D56,F56) -> 0 | G29: =SUM(E56,G56) -> 0 | H29: No. de Audiencias Realizadas en el Mes | T29: =SUM(N56,P56,R56,T56) -> 0 | U29: =SUM(O56,Q56,S56,U56) -> 0
A30: Descripción por Tipo de Audiencia Realizada | H30: Descripción por Tipo de Audiencia Realizada
A31: Etapa Procesal | B31: Tipo de Audiencia | D31: Asistidas por el RJV | F31: No Asistidas por el RJV | H31: Etapa Procesal | J31: Tipo de Audiencia | N31: Municipal | R31: Circuito
D32: P | E32: V | F32: P | G32: V | N32: Asistidas por el RJV | P32: No Asistidas por el RJV | R32: Asistidas por el RJV | T32: No Asistidas por el RJV
N33: P | O33: V | P33: P | Q33: V | R33: P | S33: V | T33: P | U33: V
A34: Fase de indagación | B34: Legalización de Captura | H34: Fase de indagación
B35: Medidas de Aseguramiento | H35: Audiencias Preliminares | J35: Solicitud Desarchivo Indagación Preliminar
B36: Medidas de Protección | J36: Medidas de Protección
B37: Principio de Oportunidad | J37: Legalización de Captura
B38: Otras Audiencias Preliminares | J38: Imputación
A39: Citación para Traslado del Escrito de Acusación | J39: Solicitud Medidas Cautelares
A40: Audiencia Concentrada | B40: Formalización del Traslado del Escrito de Acusación | J40: Medidas de Aseguramiento
B41: Se Enuncia la Práctica de Pruebas y se Controvierten las mismas | J41: Principio de Oportunidad
A42: Audiencias de Juicio | B42: Traslado Escrito Acusación | J42: Otras Audiencias Preliminares
B43: Audiencia Concentrada | H43: Audiencias de Juicio | J43: Audiencia de Acusación
B44: Juicio Oral | J44: Audiencia Preparatoria
...

Sheet 3
C1: Nombre del proceso/Subproceso: Atención y Trámite/Defensoría Pública | Q1: Código: SD-P07-F188
C2: Formulario: Informe Mensual Consolidado de Estadística RJV - Leyes 1098 de 2006, 1257 de 2008, 1719 de 2014, 985 de 2005, Decreto 1069 de 2014, Ley 1773 de 2016 y Ley 1761 de 2015 | Q2: Versión: 01
Q3: Vigente desde:
A6: REGIONAL: | G6: NOMBRE REPRESENTANTE JUDICIAL: | P6: PROGRAMA:
A7: AÑO: | G7: LUGAR DE EJECUCION: | P7: AREA:
A8: MES: | G8: CATEGORIA: | P8: SUB AREA:
A10: REPARTO | H10: Ley 1098 de 2006 (Víctimas Niños, Niñas y Adolescentes) | J10: Ley 1257 de 2008 (Violencia Contra la Mujer) | L10: Ley 1719 de 2014 (Violencia Sexual en el Conflicto Armado) | N10: Ley 985/2005 -Decreto 1069/2014 (Trata de Personas) | P10: Ley 1761 de 2015 (Feminicidio) | R10: Ley 1773 de 2016 (Ataques con Acidos) | T10: TOTAL
A11: No. de Poderes Vigentes del Mes Anterior | T11: =SUM(H11:S11) -> 0
A12: No. de Poderes Recibidos Durante el Mes | T12: =SUM(H12:S12) -> 0
A13: No. de Poderes Reasignados Durante el Mes | T13: =SUM(H13:S13) -> 0
A14: No. de Poderes Sustituidos Durante el Mes | T14: =SUM(H14:S14) -> 0
A15: No. de Poderes Terminados Durante el Mes | T15: =SUM(H15:S15) -> 0
A16: No. de Poderes Vigentes | H16: =(H11+H12+H13)-(H14+H15) -> 0 | J16: =(J11+J12+J13)-(J14+J15) -> 0 | L16: =(L11+L12+L13)-(L14+L15) -> 0 | N16: =(N11+N12+N13)-(N14+N15) -> 0 | P16: =(P11+P12+P13)-(P14+P15) -> 0 | R16: =(R11+R12+R13)-(R14+R15) -> 0 | T16: =SUM(H16:S16) -> 0
A17: No. de Poderes Vigentes Inactivos | T17: =SUM(H17:S17) -> 0
A18: No. de Poderes Vigentes Activos | H18: =H16-H17 -> 0 | I18: =(K13+K14)-K15 -> 0 | J18: =J16-J17 -> 0 | K18: =(M13+M14)-M15 -> 0 | L18: =L16-L17 -> 0 | M18: =(O13+O14)-O15 -> 0 | N18: =N16-N17 -> 0 | O18: =(Q13+Q14)-Q15 -> 0 | P18: =P16-P17 -> 0 | Q18: =(S13+S14)-S15 -> 0 | R18: =R16-R17 -> 0 | S18: =(U13+U14)-U15 -> 0 | T18: =SUM(H18:S18) -> 0
A19: No. de Asistencias Técnicas | T19: =SUM(H19:S19) -> 0
A20: COMUNICACIONES
A21: No. de Víctimas Contactadas Telefónicamente Durante el Mes | T21: =SUM(H21:S21) -> 0
A22: No. de Comunicaciones Escritas Durante el Mes | T22: =SUM(H22:S22) -> 0
A23: No. de Entrevistas Personales Durante el Mes | T23: =SUM(H23:S23) -> 0
A25: CONTROL EN LA GESTION DEFENSORIAL
A26: PROCEDIMIENTO ABREVIADO | H26: PROCEDIMIENTO ORDINARIO
A27: Modalidad | F27: P | G27: V | H27: Modalidad | T27: P | U27: V
A28: No. de Audiencias Programadas en el Mes | H28: No. de Audiencias Programadas en el Mes
A29: No. de Audiencias Realizadas en el Mes | F29: =SUM(D56,F56) -> 0 | G29: =SUM(E56,G56) -> 0 | H29: No. de Audiencias Realizadas en el Mes | T29: =SUM(N56,P56,R56,T56) -> 0 | U29: =SUM(O56,Q56,S56,U56) -> 0
A30: Descripción por Tipo de Audiencia Realizada | H30: Descripción por Tipo de Audiencia Realizada
A31: Etapa Procesal | B31: Tipo de Audiencia | D31: Asistidas por el RJV | F31: No Asistidas por el RJV | H31: Etapa Procesal | J31: Tipo de Audiencia | N31: Municipal | R31: Circuito
D32: P | E32: V | F32: P | G32: V | N32: Asistidas por el RJV | P32: No Asistidas por el RJV | R32: Asistidas por el RJV | T32: No Asistidas por el RJV
N33: P | O33: V | P33: P | Q33: V | R33: P | S33: V | T33: P | U33: V
A34: Fase de indagación | B34: Legalización de Captura | H34: Fase de indagación
B35: Medidas de Aseguramiento | H35: Audiencias Preliminares | J35: Solicitud Desarchivo Indagación Preliminar
B36: Medidas de Protección | J36: Medidas de Protección
B37: Principio de Oportunidad | J37: Legalización de Captura
B38: Otras Audiencias Preliminares | J38: Imputación
A39: Citación para Traslado del Escrito de Acusación | J39: Solicitud Medidas Cautelares
A40: Audiencia Concentrada | B40: Formalización del Traslado del Escrito de Acusación | J40: Medidas de Aseguramiento
B41: Se Enuncia la Práctica de Pruebas y se Controvierten las mismas | J41: Principio de Oportunidad
A42: Audiencias de Juicio | B42: Traslado Escrito Acusación | J42: Otras Audiencias Preliminares
B43: Audiencia Concentrada | H43: Audiencias de Juicio | J43: Audiencia de Acusación
B44: Juicio Oral | J44: Audiencia Preparatoria
...

Sheet 4
C1: Nombre del proceso/Subproceso: Atención y Trámite/Defensoría Pública | Q1: Código: SD-P07-F188
C2: Formulario: Informe Mensual Consolidado de Estadística RJV - Leyes 1098 de 2006, 1257 de 2008, 1719 de 2014, 985 de 2005, Decreto 1069 de 2014, Ley 1773 de 2016 y Ley 1761 de 2015 | Q2: Versión: 01
Q3: Vigente desde:
A6: REGIONAL: | G6: NOMBRE REPRESENTANTE JUDICIAL: | P6: PROGRAMA:
A7: AÑO: | G7: LUGAR DE EJECUCION: | P7: AREA:
A8: MES: | G8: CATEGORIA: | P8: SUB AREA:
A10: REPARTO | H10: Ley 1098 de 2006 (Víctimas Niños, Niñas y Adolescentes) | J10: Ley 1257 de 2008 (Violencia Contra la Mujer) | L10: Ley 1719 de 2014 (Violencia Sexual en el Conflicto Armado) | N10: Ley 985/2005 -Decreto 1069/2014 (Trata de Personas) | P10: Ley 1761 de 2015 (Feminicidio) | R10: Ley 1773 de 2016 (Ataques con Acidos) | T10: TOTAL
A11: No. de Poderes Vigentes del Mes Anterior | T11: =SUM(H11:S11) -> 0
A12: No. de Poderes Recibidos Durante el Mes | T12: =SUM(H12:S12) -> 0
A13: No. de Poderes Reasignados Durante el Mes | T13: =SUM(H13:S13) -> 0
A14: No. de Poderes Sustituidos Durante el Mes | T14: =SUM(H14:S14) -> 0
A15: No. de Poderes Terminados Durante el Mes | T15: =SUM(H15:S15) -> 0
A16: No. de Poderes Vigentes | H16: =(H11+H12+H13)-(H14+H15) -> 0 | J16: =(J11+J12+J13)-(J14+J15) -> 0 | L16: =(L11+L12+L13)-(L14+L15) -> 0 | N16: =(N11+N12+N13)-(N14+N15) -> 0 | P16: =(P11+P12+P13)-(P14+P15) -> 0 | R16: =(R11+R12+R13)-(R14+R15) -> 0 | T16: =SUM(H16:S16) -> 0
A17: No. de Poderes Vigentes Inactivos | T17: =SUM(H17:S17) -> 0
A18: No. de Poderes Vigentes Activos | H18: =H16-H17 -> 0 | I18: =(K13+K14)-K15 -> 0 | J18: =J16-J17 -> 0 | K18: =(M13+M14)-M15 -> 0 | L18: =L16-L17 -> 0 | M18: =(O13+O14)-O15 -> 0 | N18: =N16-N17 -> 0 | O18: =(Q13+Q14)-Q15 -> 0 | P18: =P16-P17 -> 0 | Q18: =(S13+S14)-S15 -> 0 | R18: =R16-R17 -> 0 | S18: =(U13+U14)-U15 -> 0 | T18: =SUM(H18:S18) -> 0
A19: No. de Asistencias Técnicas | T19: =SUM(H19:S19) -> 0
A20: COMUNICACIONES
A21: No. de Víctimas Contactadas Telefónicamente Durante el Mes | T21: =SUM(H21:S21) -> 0
A22: No. de Comunicaciones Escritas Durante el Mes | T22: =SUM(H22:S22) -> 0
A23: No. de Entrevistas Personales Durante el Mes | T23: =SUM(H23:S23) -> 0
A25: CONTROL EN LA GESTION DEFENSORIAL
A26: PROCEDIMIENTO ABREVIADO | H26: PROCEDIMIENTO ORDINARIO
A27: Modalidad | F27: P | G27: V | H27: Modalidad | T27: P | U27: V
A28: No. de Audiencias Programadas en el Mes | H28: No. de Audiencias Programadas en el Mes
A29: No. de Audiencias Realizadas en el Mes | F29: =SUM(D56,F56) -> 0 | G29: =SUM(E56,G56) -> 0 | H29: No. de Audiencias Realizadas en el Mes | T29: =SUM(N56,P56,R56,T56) -> 0 | U29: =SUM(O56,Q56,S56,U56) -> 0
A30: Descripción por Tipo de Audiencia Realizada | H30: Descripción por Tipo de Audiencia Realizada
A31: Etapa Procesal | B31: Tipo de Audiencia | D31: Asistidas por el RJV | F31: No Asistidas por el RJV | H31: Etapa Procesal | J31: Tipo de Audiencia | N31: Municipal | R31: Circuito
D32: P | E32: V | F32: P | G32: V | N32: Asistidas por el RJV | P32: No Asistidas por el RJV | R32: Asistidas por el RJV | T32: No Asistidas por el RJV
N33: P | O33: V | P33: P | Q33: V | R33: P | S33: V | T33: P | U33: V
A34: Fase de indagación | B34: Legalización de Captura | H34: Fase de indagación
B35: Medidas de Aseguramiento | H35: Audiencias Preliminares | J35: Solicitud Desarchivo Indagación Preliminar
B36: Medidas de Protección | J36: Medidas de Protección
B37: Principio de Oportunidad | J37: Legalización de Captura
B38: Otras Audiencias Preliminares | J38: Imputación
A39: Citación para Traslado del Escrito de Acusación | J39: Solicitud Medidas Cautelares
A40: Audiencia Concentrada | B40: Formalización del Traslado del Escrito de Acusación | J40: Medidas de Aseguramiento
B41: Se Enuncia la Práctica de Pruebas y se Controvierten las mismas | J41: Principio de Oportunidad
A42: Audiencias de Juicio | B42: Traslado Escrito Acusación | J42: Otras Audiencias Preliminares
B43: Audiencia Concentrada | H43: Audiencias de Juicio | J43: Audiencia de Acusación
B44: Juicio Oral | J44: Audiencia Preparatoria
...

Sheet 5
C1: Nombre del proceso/Subproceso: Atención y Trámite/Defensoría Pública | Q1: Código: SD-P07-F188
C2: Formulario: Informe Mensual Consolidado de Estadística RJV - Leyes 1098 de 2006, 1257 de 2008, 1719 de 2014, 985 de 2005, Decreto 1069 de 2014, Ley 1773 de 2016 y Ley 1761 de 2015 | Q2: Versión: 01
Q3: Vigente desde:
A6: REGIONAL: | G6: NOMBRE REPRESENTANTE JUDICIAL: | P6: PROGRAMA:
A7: AÑO: | G7: LUGAR DE EJECUCION: | P7: AREA:
A8: MES: | G8: CATEGORIA: | P8: SUB AREA:
A10: REPARTO | H10: Ley 1098 de 2006 (Víctimas Niños, Niñas y Adolescentes) | J10: Ley 1257 de 2008 (Violencia Contra la Mujer) | L10: Ley 1719 de 2014 (Violencia Sexual en el Conflicto Armado) | N10: Ley 985/2005 -Decreto 1069/2014 (Trata de Personas) | P10: Ley 1761 de 2015 (Feminicidio) | R10: Ley 1773 de 2016 (Ataques con Acidos) | T10: TOTAL
A11: No. de Poderes Vigentes del Mes Anterior | T11: =SUM(H11:S11) -> 0
A12: No. de Poderes Recibidos Durante el Mes | T12: =SUM(H12:S12) -> 0
A13: No. de Poderes Reasignados Durante el Mes | T13: =SUM(H13:S13) -> 0
A14: No. de Poderes Sustituidos Durante el Mes | T14: =SUM(H14:S14) -> 0
A15: No. de Poderes Terminados Durante el Mes | T15: =SUM(H15:S15) -> 0
A16: No. de Poderes Vigentes | H16: =(H11+H12+H13)-(H14+H15) -> 0 | J16: =(J11+J12+J13)-(J14+J15) -> 0 | L16: =(L11+L12+L13)-(L14+L15) -> 0 | N16: =(N11+N12+N13)-(N14+N15) -> 0 | P16: =(P11+P12+P13)-(P14+P15) -> 0 | R16: =(R11+R12+R13)-(R14+R15) -> 0 | T16: =SUM(H16:S16) -> 0
A17: No. de Poderes Vigentes Inactivos | T17: =SUM(H17:S17) -> 0
A18: No. de Poderes Vigentes Activos | H18: =H16-H17 -> 0 | I18: =(K13+K14)-K15 -> 0 | J18: =J16-J17 -> 0 | K18: =(M13+M14)-M15 -> 0 | L18: =L16-L17 -> 0 | M18: =(O13+O14)-O15 -> 0 | N18: =N16-N17 -> 0 | O18: =(Q13+Q14)-Q15 -> 0 | P18: =P16-P17 -> 0 | Q18: =(S13+S14)-S15 -> 0 | R18: =R16-R17 -> 0 | S18: =(U13+U14)-U15 -> 0 | T18: =SUM(H18:S18) -> 0
A19: No. de Asistencias Técnicas | T19: =SUM(H19:S19) -> 0
A20: COMUNICACIONES
A21: No. de Víctimas Contactadas Telefónicamente Durante el Mes | T21: =SUM(H21:S21) -> 0
A22: No. de Comunicaciones Escritas Durante el Mes | T22: =SUM(H22:S22) -> 0
A23: No. de Entrevistas Personales Durante el Mes | T23: =SUM(H23:S23) -> 0
A25: CONTROL EN LA GESTION DEFENSORIAL
A26: PROCEDIMIENTO ABREVIADO | H26: PROCEDIMIENTO ORDINARIO
A27: Modalidad | F27: P | G27: V | H27: Modalidad | T27: P | U27: V
A28: No. de Audiencias Programadas en el Mes | H28: No. de Audiencias Programadas en el Mes
A29: No. de Audiencias Realizadas en el Mes | F29: =SUM(D56,F56) -> 0 | G29: =SUM(E56,G56) -> 0 | H29: No. de Audiencias Realizadas en el Mes | T29: =SUM(N56,P56,R56,T56) -> 0 | U29: =SUM(O56,Q56,S56,U56) -> 0
A30: Descripción por Tipo de Audiencia Realizada | H30: Descripción por Tipo de Audiencia Realizada
A31: Etapa Procesal | B31: Tipo de Audiencia | D31: Asistidas por el RJV | F31: No Asistidas por el RJV | H31: Etapa Procesal | J31: Tipo de Audiencia | N31: Municipal | R31: Circuito
D32: P | E32: V | F32: P | G32: V | N32: Asistidas por el RJV | P32: No Asistidas por el RJV | R32: Asistidas por el RJV | T32: No Asistidas por el RJV
N33: P | O33: V | P33: P | Q33: V | R33: P | S33: V | T33: P | U33: V
A34: Fase de indagación | B34: Legalización de Captura | H34: Fase de indagación
B35: Medidas de Aseguramiento | H35: Audiencias Preliminares | J35: Solicitud Desarchivo Indagación Preliminar
B36: Medidas de Protección | J36: Medidas de Protección
B37: Principio de Oportunidad | J37: Legalización de Captura
B38: Otras Audiencias Preliminares | J38: Imputación
A39: Citación para Traslado del Escrito de Acusación | J39: Solicitud Medidas Cautelares
A40: Audiencia Concentrada | B40: Formalización del Traslado del Escrito de Acusación | J40: Medidas de Aseguramiento
B41: Se Enuncia la Práctica de Pruebas y se Controvierten las mismas | J41: Principio de Oportunidad
A42: Audiencias de Juicio | B42: Traslado Escrito Acusación | J42: Otras Audiencias Preliminares
B43: Audiencia Concentrada | H43: Audiencias de Juicio | J43: Audiencia de Acusación
B44: Juicio Oral | J44: Audiencia Preparatoria
...

Sheet 6
C1: Nombre del proceso/Subproceso: Atención y Trámite/Defensoría Pública | Q1: Código: SD-P07-F188
C2: Formulario: Informe Mensual Consolidado de Estadística RJV - Leyes 1098 de 2006, 1257 de 2008, 1719 de 2014, 985 de 2005, Decreto 1069 de 2014, Ley 1773 de 2016 y Ley 1761 de 2015 | Q2: Versión: 01
Q3: Vigente desde:
A6: REGIONAL: | G6: NOMBRE REPRESENTANTE JUDICIAL: | P6: PROGRAMA:
A7: AÑO: | G7: LUGAR DE EJECUCION: | P7: AREA:
A8: MES: | G8: CATEGORIA: | P8: SUB AREA:
A10: REPARTO | H10: Ley 1098 de 2006 (Víctimas Niños, Niñas y Adolescentes) | J10: Ley 1257 de 2008 (Violencia Contra la Mujer) | L10: Ley 1719 de 2014 (Violencia Sexual en el Conflicto Armado) | N10: Ley 985/2005 -Decreto 1069/2014 (Trata de Personas) | P10: Ley 1761 de 2015 (Feminicidio) | R10: Ley 1773 de 2016 (Ataques con Acidos) | T10: TOTAL
A11: No. de Poderes Vigentes del Mes Anterior | T11: =SUM(H11:S11) -> 0
A12: No. de Poderes Recibidos Durante el Mes | T12: =SUM(H12:S12) -> 0
A13: No. de Poderes Reasignados Durante el Mes | T13: =SUM(H13:S13) -> 0
A14: No. de Poderes Sustituidos Durante el Mes | T14: =SUM(H14:S14) -> 0
A15: No. de Poderes Terminados Durante el Mes | T15: =SUM(H15:S15) -> 0
A16: No. de Poderes Vigentes | H16: =(H11+H12+H13)-(H14+H15) -> 0 | J16: =(J11+J12+J13)-(J14+J15) -> 0 | L16: =(L11+L12+L13)-(L14+L15) -> 0 | N16: =(N11+N12+N13)-(N14+N15) -> 0 | P16: =(P11+P12+P13)-(P14+P15) -> 0 | R16: =(R11+R12+R13)-(R14+R15) -> 0 | T16: =SUM(H16:S16) -> 0
A17: No. de Poderes Vigentes Inactivos | T17: =SUM(H17:S17) -> 0
A18: No. de Poderes Vigentes Activos | H18: =H16-H17 -> 0 | I18: =(K13+K14)-K15 -> 0 | J18: =J16-J17 -> 0 | K18: =(M13+M14)-M15 -> 0 | L18: =L16-L17 -> 0 | M18: =(O13+O14)-O15 -> 0 | N18: =N16-N17 -> 0 | O18: =(Q13+Q14)-Q15 -> 0 | P18: =P16-P17 -> 0 | Q18: =(S13+S14)-S15 -> 0 | R18: =R16-R17 -> 0 | S18: =(U13+U14)-U15 -> 0 | T18: =SUM(H18:S18) -> 0
A19: No. de Asistencias Técnicas | T19: =SUM(H19:S19) -> 0
A20: COMUNICACIONES
A21: No. de Víctimas Contactadas Telefónicamente Durante el Mes | T21: =SUM(H21:S21) -> 0
A22: No. de Comunicaciones Escritas Durante el Mes | T22: =SUM(H22:S22) -> 0
A23: No. de Entrevistas Personales Durante el Mes | T23: =SUM(H23:S23) -> 0
A25: CONTROL EN LA GESTION DEFENSORIAL
A26: PROCEDIMIENTO ABREVIADO | H26: PROCEDIMIENTO ORDINARIO
A27: Modalidad | F27: P | G27: V | H27: Modalidad | T27: P | U27: V
A28: No. de Audiencias Programadas en el Mes | H28: No. de Audiencias Programadas en el Mes
A29: No. de Audiencias Realizadas en el Mes | F29: =SUM(D56,F56) -> 0 | G29: =SUM(E56,G56) -> 0 | H29: No. de Audiencias Realizadas en el Mes | T29: =SUM(N56,P56,R56,T56) -> 0 | U29: =SUM(O56,Q56,S56,U56) -> 0
A30: Descripción por Tipo de Audiencia Realizada | H30: Descripción por Tipo de Audiencia Realizada
A31: Etapa Procesal | B31: Tipo de Audiencia | D31: Asistidas por el RJV | F31: No Asistidas por el RJV | H31: Etapa Procesal | J31: Tipo de Audiencia | N31: Municipal | R31: Circuito
D32: P | E32: V | F32: P | G32: V | N32: Asistidas por el RJV | P32: No Asistidas por el RJV | R32: Asistidas por el RJV | T32: No Asistidas por el RJV
N33: P | O33: V | P33: P | Q33: V | R33: P | S33: V | T33: P | U33: V
A34: Fase de indagación | B34: Legalización de Captura | H34: Fase de indagación
B35: Medidas de Aseguramiento | H35: Audiencias Preliminares | J35: Solicitud Desarchivo Indagación Preliminar
B36: Medidas de Protección | J36: Medidas de Protección
B37: Principio de Oportunidad | J37: Legalización de Captura
B38: Otras Audiencias Preliminares | J38: Imputación
A39: Citación para Traslado del Escrito de Acusación | J39: Solicitud Medidas Cautelares
A40: Audiencia Concentrada | B40: Formalización del Traslado del Escrito de Acusación | J40: Medidas de Aseguramiento
B41: Se Enuncia la Práctica de Pruebas y se Controvierten las mismas | J41: Principio de Oportunidad
A42: Audiencias de Juicio | B42: Traslado Escrito Acusación | J42: Otras Audiencias Preliminares
B43: Audiencia Concentrada | H43: Audiencias de Juicio | J43: Audiencia de Acusación
B44: Juicio Oral | J44: Audiencia Preparatoria
...

Sheet 7
C1: Nombre del proceso/Subproceso: Atención y Trámite/Defensoría Pública | Q1: Código: SD-P07-F188
C2: Formulario: Informe Mensual Consolidado de Estadística RJV - Leyes 1098 de 2006, 1257 de 2008, 1719 de 2014, 985 de 2005, Decreto 1069 de 2014, Ley 1773 de 2016 y Ley 1761 de 2015 | Q2: Versión: 01
Q3: Vigente desde:
A6: REGIONAL: | G6: NOMBRE REPRESENTANTE JUDICIAL: | P6: PROGRAMA:
A7: AÑO: | G7: LUGAR DE EJECUCION: | P7: AREA:
A8: MES: | G8: CATEGORIA: | P8: SUB AREA:
A10: REPARTO | H10: Ley 1098 de 2006 (Víctimas Niños, Niñas y Adolescentes) | J10: Ley 1257 de 2008 (Violencia Contra la Mujer) | L10: Ley 1719 de 2014 (Violencia Sexual en el Conflicto Armado) | N10: Ley 985/2005 -Decreto 1069/2014 (Trata de Personas) | P10: Ley 1761 de 2015 (Feminicidio) | R10: Ley 1773 de 2016 (Ataques con Acidos) | T10: TOTAL
A11: No. de Poderes Vigentes del Mes Anterior | T11: =SUM(H11:S11) -> 0
A12: No. de Poderes Recibidos Durante el Mes | T12: =SUM(H12:S12) -> 0
A13: No. de Poderes Reasignados Durante el Mes | T13: =SUM(H13:S13) -> 0
A14: No. de Poderes Sustituidos Durante el Mes | T14: =SUM(H14:S14) -> 0
A15: No. de Poderes Terminados Durante el Mes | T15: =SUM(H15:S15) -> 0
A16: No. de Poderes Vigentes | H16: =(H11+H12+H13)-(H14+H15) -> 0 | J16: =(J11+J12+J13)-(J14+J15) -> 0 | L16: =(L11+L12+L13)-(L14+L15) -> 0 | N16: =(N11+N12+N13)-(N14+N15) -> 0 | P16: =(P11+P12+P13)-(P14+P15) -> 0 | R16: =(R11+R12+R13)-(R14+R15) -> 0 | T16: =SUM(H16:S16) -> 0
A17: No. de Poderes Vigentes Inactivos | T17: =SUM(H17:S17) -> 0
A18: No. de Poderes Vigentes Activos | H18: =H16-H17 -> 0 | I18: =(K13+K14)-K15 -> 0 | J18: =J16-J17 -> 0 | K18: =(M13+M14)-M15 -> 0 | L18: =L16-L17 -> 0 | M18: =(O13+O14)-O15 -> 0 | N18: =N16-N17 -> 0 | O18: =(Q13+Q14)-Q15 -> 0 | P18: =P16-P17 -> 0 | Q18: =(S13+S14)-S15 -> 0 | R18: =R16-R17 -> 0 | S18: =(U13+U14)-U15 -> 0 | T18: =SUM(H18:S18) -> 0
A19: No. de Asistencias Técnicas | T19: =SUM(H19:S19) -> 0
A20: COMUNICACIONES
A21: No. de Víctimas Contactadas Telefónicamente Durante el Mes | T21: =SUM(H21:S21) -> 0
A22: No. de Comunicaciones Escritas Durante el Mes | T22: =SUM(H22:S22) -> 0
A23: No. de Entrevistas Personales Durante el Mes | T23: =SUM(H23:S23) -> 0
A25: CONTROL EN LA GESTION DEFENSORIAL
A26: PROCEDIMIENTO ABREVIADO | H26: PROCEDIMIENTO ORDINARIO
A27: Modalidad | F27: P | G27: V | H27: Modalidad | T27: P | U27: V
A28: No. de Audiencias Programadas en el Mes | H28: No. de Audiencias Programadas en el Mes
A29: No. de Audiencias Realizadas en el Mes | F29: =SUM(D56,F56) -> 0 | G29: =SUM(E56,G56) -> 0 | H29: No. de Audiencias Realizadas en el Mes | T29: =SUM(N56,P56,R56,T56) -> 0 | U29: =SUM(O56,Q56,S56,U56) -> 0
A30: Descripción por Tipo de Audiencia Realizada | H30: Descripción por Tipo de Audiencia Realizada
A31: Etapa Procesal | B31: Tipo de Audiencia | D31: Asistidas por el RJV | F31: No Asistidas por el RJV | H31: Etapa Procesal | J31: Tipo de Audiencia | N31: Municipal | R31: Circuito
D32: P | E32: V | F32: P | G32: V | N32: Asistidas por el RJV | P32: No Asistidas por el RJV | R32: Asistidas por el RJV | T32: No Asistidas por el RJV
N33: P | O33: V | P33: P | Q33: V | R33: P | S33: V | T33: P | U33: V
A34: Fase de indagación | B34: Legalización de Captura | H34: Fase de indagación
B35: Medidas de Aseguramiento | H35: Audiencias Preliminares | J35: Solicitud Desarchivo Indagación Preliminar
B36: Medidas de Protección | J36: Medidas de Protección
B37: Principio de Oportunidad | J37: Legalización de Captura
B38: Otras Audiencias Preliminares | J38: Imputación
A39: Citación para Traslado del Escrito de Acusación | J39: Solicitud Medidas Cautelares
A40: Audiencia Concentrada | B40: Formalización del Traslado del Escrito de Acusación | J40: Medidas de Aseguramiento
B41: Se Enuncia la Práctica de Pruebas y se Controvierten las mismas | J41: Principio de Oportunidad
A42: Audiencias de Juicio | B42: Traslado Escrito Acusación | J42: Otras Audiencias Preliminares
B43: Audiencia Concentrada | H43: Audiencias de Juicio | J43: Audiencia de Acusación
B44: Juicio Oral | J44: Audiencia Preparatoria
...

Sheet 8
C1: Nombre del proceso/Subproceso: Atención y Trámite/Defensoría Pública | Q1: Código: SD-P07-F188
C2: Formulario: Informe Mensual Consolidado de Estadística RJV - Leyes 1098 de 2006, 1257 de 2008, 1719 de 2014, 985 de 2005, Decreto 1069 de 2014, Ley 1773 de 2016 y Ley 1761 de 2015 | Q2: Versión: 01
Q3: Vigente desde:
A6: REGIONAL: | G6: NOMBRE REPRESENTANTE JUDICIAL: | P6: PROGRAMA:
A7: AÑO: | G7: LUGAR DE EJECUCION: | P7: AREA:
A8: MES: | G8: CATEGORIA: | P8: SUB AREA:
A10: REPARTO | H10: Ley 1098 de 2006 (Víctimas Niños, Niñas y Adolescentes) | J10: Ley 1257 de 2008 (Violencia Contra la Mujer) | L10: Ley 1719 de 2014 (Violencia Sexual en el Conflicto Armado) | N10: Ley 985/2005 -Decreto 1069/2014 (Trata de Personas) | P10: Ley 1761 de 2015 (Feminicidio) | R10: Ley 1773 de 2016 (Ataques con Acidos) | T10: TOTAL
A11: No. de Poderes Vigentes del Mes Anterior | T11: =SUM(H11:S11) -> 0
A12: No. de Poderes Recibidos Durante el Mes | T12: =SUM(H12:S12) -> 0
A13: No. de Poderes Reasignados Durante el Mes | T13: =SUM(H13:S13) -> 0
A14: No. de Poderes Sustituidos Durante el Mes | T14: =SUM(H14:S14) -> 0
A15: No. de Poderes Terminados Durante el Mes | T15: =SUM(H15:S15) -> 0
A16: No. de Poderes Vigentes | H16: =(H11+H12+H13)-(H14+H15) -> 0 | J16: =(J11+J12+J13)-(J14+J15) -> 0 | L16: =(L11+L12+L13)-(L14+L15) -> 0 | N16: =(N11+N12+N13)-(N14+N15) -> 0 | P16: =(P11+P12+P13)-(P14+P15) -> 0 | R16: =(R11+R12+R13)-(R14+R15) -> 0 | T16: =SUM(H16:S16) -> 0
A17: No. de Poderes Vigentes Inactivos | T17: =SUM(H17:S17) -> 0
A18: No. de Poderes Vigentes Activos | H18: =H16-H17 -> 0 | I18: =(K13+K14)-K15 -> 0 | J18: =J16-J17 -> 0 | K18: =(M13+M14)-M15 -> 0 | L18: =L16-L17 -> 0 | M18: =(O13+O14)-O15 -> 0 | N18: =N16-N17 -> 0 | O18: =(Q13+Q14)-Q15 -> 0 | P18: =P16-P17 -> 0 | Q18: =(S13+S14)-S15 -> 0 | R18: =R16-R17 -> 0 | S18: =(U13+U14)-U15 -> 0 | T18: =SUM(H18:S18) -> 0
A19: No. de Asistencias Técnicas | T19: =SUM(H19:S19) -> 0
A20: COMUNICACIONES
A21: No. de Víctimas Contactadas Telefónicamente Durante el Mes | T21: =SUM(H21:S21) -> 0
A22: No. de Comunicaciones Escritas Durante el Mes | T22: =SUM(H22:S22) -> 0
A23: No. de Entrevistas Personales Durante el Mes | T23: =SUM(H23:S23) -> 0
A25: CONTROL EN LA GESTION DEFENSORIAL
A26: PROCEDIMIENTO ABREVIADO | H26: PROCEDIMIENTO ORDINARIO
A27: Modalidad | F27: P | G27: V | H27: Modalidad | T27: P | U27: V
A28: No. de Audiencias Programadas en el Mes | H28: No. de Audiencias Programadas en el Mes
A29: No. de Audiencias Realizadas en el Mes | F29: =SUM(D56,F56) -> 0 | G29: =SUM(E56,G56) -> 0 | H29: No. de Audiencias Realizadas en el Mes | T29: =SUM(N56,P56,R56,T56) -> 0 | U29: =SUM(O56,Q56,S56,U56) -> 0
A30: Descripción por Tipo de Audiencia Realizada | H30: Descripción por Tipo de Audiencia Realizada
A31: Etapa Procesal | B31: Tipo de Audiencia | D31: Asistidas por el RJV | F31: No Asistidas por el RJV | H31: Etapa Procesal | J31: Tipo de Audiencia | N31: Municipal | R31: Circuito
D32: P | E32: V | F32: P | G32: V | N32: Asistidas por el RJV | P32: No Asistidas por el RJV | R32: Asistidas por el RJV | T32: No Asistidas por el RJV
N33: P | O33: V | P33: P | Q33: V | R33: P | S33: V | T33: P | U33: V
A34: Fase de indagación | B34: Legalización de Captura | H34: Fase de indagación
B35: Medidas de Aseguramiento | H35: Audiencias Preliminares | J35: Solicitud Desarchivo Indagación Preliminar
B36: Medidas de Protección | J36: Medidas de Protección
B37: Principio de Oportunidad | J37: Legalización de Captura
B38: Otras Audiencias Preliminares | J38: Imputación
A39: Citación para Traslado del Escrito de Acusación | J39: Solicitud Medidas Cautelares
A40: Audiencia Concentrada | B40: Formalización del Traslado del Escrito de Acusación | J40: Medidas de Aseguramiento
B41: Se Enuncia la Práctica de Pruebas y se Controvierten las mismas | J41: Principio de Oportunidad
A42: Audiencias de Juicio | B42: Traslado Escrito Acusación | J42: Otras Audiencias Preliminares
B43: Audiencia Concentrada | H43: Audiencias de Juicio | J43: Audiencia de Acusación
B44: Juicio Oral | J44: Audiencia Preparatoria
...

Sheet 9
C1: Nombre del proceso/Subproceso: Atención y Trámite/Defensoría Pública | Q1: Código: SD-P07-F188
C2: Formulario: Informe Mensual Consolidado de Estadística RJV - Leyes 1098 de 2006, 1257 de 2008, 1719 de 2014, 985 de 2005, Decreto 1069 de 2014, Ley 1773 de 2016 y Ley 1761 de 2015 | Q2: Versión: 01
Q3: Vigente desde:
A6: REGIONAL: | G6: NOMBRE REPRESENTANTE JUDICIAL: | P6: PROGRAMA:
A7: AÑO: | G7: LUGAR DE EJECUCION: | P7: AREA:
A8: MES: | G8: CATEGORIA: | P8: SUB AREA:
A10: REPARTO | H10: Ley 1098 de 2006 (Víctimas Niños, Niñas y Adolescentes) | J10: Ley 1257 de 2008 (Violencia Contra la Mujer) | L10: Ley 1719 de 2014 (Violencia Sexual en el Conflicto Armado) | N10: Ley 985/2005 -Decreto 1069/2014 (Trata de Personas) | P10: Ley 1761 de 2015 (Feminicidio) | R10: Ley 1773 de 2016 (Ataques con Acidos) | T10: TOTAL
A11: No. de Poderes Vigentes del Mes Anterior | T11: =SUM(H11:S11) -> 0
A12: No. de Poderes Recibidos Durante el Mes | T12: =SUM(H12:S12) -> 0
A13: No. de Poderes Reasignados Durante el Mes | T13: =SUM(H13:S13) -> 0
A14: No. de Poderes Sustituidos Durante el Mes | T14: =SUM(H14:S14) -> 0
A15: No. de Poderes Terminados Durante el Mes | T15: =SUM(H15:S15) -> 0
A16: No. de Poderes Vigentes | H16: =(H11+H12+H13)-(H14+H15) -> 0 | J16: =(J11+J12+J13)-(J14+J15) -> 0 | L16: =(L11+L12+L13)-(L14+L15) -> 0 | N16: =(N11+N12+N13)-(N14+N15) -> 0 | P16: =(P11+P12+P13)-(P14+P15) -> 0 | R16: =(R11+R12+R13)-(R14+R15) -> 0 | T16: =SUM(H16:S16) -> 0
A17: No. de Poderes Vigentes Inactivos | T17: =SUM(H17:S17) -> 0
A18: No. de Poderes Vigentes Activos | H18: =H16-H17 -> 0 | I18: =(K13+K14)-K15 -> 0 | J18: =J16-J17 -> 0 | K18: =(M13+M14)-M15 -> 0 | L18: =L16-L17 -> 0 | M18: =(O13+O14)-O15 -> 0 | N18: =N16-N17 -> 0 | O18: =(Q13+Q14)-Q15 -> 0 | P18: =P16-P17 -> 0 | Q18: =(S13+S14)-S15 -> 0 | R18: =R16-R17 -> 0 | S18: =(U13+U14)-U15 -> 0 | T18: =SUM(H18:S18) -> 0
A19: No. de Asistencias Técnicas | T19: =SUM(H19:S19) -> 0
A20: COMUNICACIONES
A21: No. de Víctimas Contactadas Telefónicamente Durante el Mes | T21: =SUM(H21:S21) -> 0
A22: No. de Comunicaciones Escritas Durante el Mes | T22: =SUM(H22:S22) -> 0
A23: No. de Entrevistas Personales Durante el Mes | T23: =SUM(H23:S23) -> 0
A25: CONTROL EN LA GESTION DEFENSORIAL
A26: PROCEDIMIENTO ABREVIADO | H26: PROCEDIMIENTO ORDINARIO
A27: Modalidad | F27: P | G27: V | H27: Modalidad | T27: P | U27: V
A28: No. de Audiencias Programadas en el Mes | H28: No. de Audiencias Programadas en el Mes
A29: No. de Audiencias Realizadas en el Mes | F29: =SUM(D56,F56) -> 0 | G29: =SUM(E56,G56) -> 0 | H29: No. de Audiencias Realizadas en el Mes | T29: =SUM(N56,P56,R56,T56) -> 0 | U29: =SUM(O56,Q56,S56,U56) -> 0
A30: Descripción por Tipo de Audiencia Realizada | H30: Descripción por Tipo de Audiencia Realizada
A31: Etapa Procesal | B31: Tipo de Audiencia | D31: Asistidas por el RJV | F31: No Asistidas por el RJV | H31: Etapa Procesal | J31: Tipo de Audiencia | N31: Municipal | R31: Circuito
D32: P | E32: V | F32: P | G32: V | N32: Asistidas por el RJV | P32: No Asistidas por el RJV | R32: Asistidas por el RJV | T32: No Asistidas por el RJV
N33: P | O33: V | P33: P | Q33: V | R33: P | S33: V | T33: P | U33: V
A34: Fase de indagación | B34: Legalización de Captura | H34: Fase de indagación
B35: Medidas de Aseguramiento | H35: Audiencias Preliminares | J35: Solicitud Desarchivo Indagación Preliminar
B36: Medidas de Protección | J36: Medidas de Protección
B37: Principio de Oportunidad | J37: Legalización de Captura
B38: Otras Audiencias Preliminares | J38: Imputación
A39: Citación para Traslado del Escrito de Acusación | J39: Solicitud Medidas Cautelares
A40: Audiencia Concentrada | B40: Formalización del Traslado del Escrito de Acusación | J40: Medidas de Aseguramiento
B41: Se Enuncia la Práctica de Pruebas y se Controvierten las mismas | J41: Principio de Oportunidad
A42: Audiencias de Juicio | B42: Traslado Escrito Acusación | J42: Otras Audiencias Preliminares
B43: Audiencia Concentrada | H43: Audiencias de Juicio | J43: Audiencia de Acusación
B44: Juicio Oral | J44: Audiencia Preparatoria
...

Sheet 10
C1: Nombre del proceso/Subproceso: Atención y Trámite/Defensoría Pública | Q1: Código: SD-P07-F188
C2: Formulario: Informe Mensual Consolidado de Estadística RJV - Leyes 1098 de 2006, 1257 de 2008, 1719 de 2014, 985 de 2005, Decreto 1069 de 2014, Ley 1773 de 2016 y Ley 1761 de 2015 | Q2: Versión: 01
Q3: Vigente desde:
A6: REGIONAL: | G6: NOMBRE REPRESENTANTE JUDICIAL: | P6: PROGRAMA:
A7: AÑO: | G7: LUGAR DE EJECUCION: | P7: AREA:
A8: MES: | G8: CATEGORIA: | P8: SUB AREA:
A10: REPARTO | H10: Ley 1098 de 2006 (Víctimas Niños, Niñas y Adolescentes) | J10: Ley 1257 de 2008 (Violencia Contra la Mujer) | L10: Ley 1719 de 2014 (Violencia Sexual en el Conflicto Armado) | N10: Ley 985/2005 -Decreto 1069/2014 (Trata de Personas) | P10: Ley 1761 de 2015 (Feminicidio) | R10: Ley 1773 de 2016 (Ataques con Acidos) | T10: TOTAL
A11: No. de Poderes Vigentes del Mes Anterior | T11: =SUM(H11:S11) -> 0
A12: No. de Poderes Recibidos Durante el Mes | T12: =SUM(H12:S12) -> 0
A13: No. de Poderes Reasignados Durante el Mes | T13: =SUM(H13:S13) -> 0
A14: No. de Poderes Sustituidos Durante el Mes | T14: =SUM(H14:S14) -> 0
A15: No. de Poderes Terminados Durante el Mes | T15: =SUM(H15:S15) -> 0
A16: No. de Poderes Vigentes | H16: =(H11+H12+H13)-(H14+H15) -> 0 | J16: =(J11+J12+J13)-(J14+J15) -> 0 | L16: =(L11+L12+L13)-(L14+L15) -> 0 | N16: =(N11+N12+N13)-(N14+N15) -> 0 | P16: =(P11+P12+P13)-(P14+P15) -> 0 | R16: =(R11+R12+R13)-(R14+R15) -> 0 | T16: =SUM(H16:S16) -> 0
A17: No. de Poderes Vigentes Inactivos | T17: =SUM(H17:S17) -> 0
A18: No. de Poderes Vigentes Activos | H18: =H16-H17 -> 0 | I18: =(K13+K14)-K15 -> 0 | J18: =J16-J17 -> 0 | K18: =(M13+M14)-M15 -> 0 | L18: =L16-L17 -> 0 | M18: =(O13+O14)-O15 -> 0 | N18: =N16-N17 -> 0 | O18: =(Q13+Q14)-Q15 -> 0 | P18: =P16-P17 -> 0 | Q18: =(S13+S14)-S15 -> 0 | R18: =R16-R17 -> 0 | S18: =(U13+U14)-U15 -> 0 | T18: =SUM(H18:S18) -> 0
A19: No. de Asistencias Técnicas | T19: =SUM(H19:S19) -> 0
A20: COMUNICACIONES
A21: No. de Víctimas Contactadas Telefónicamente Durante el Mes | T21: =SUM(H21:S21) -> 0
A22: No. de Comunicaciones Escritas Durante el Mes | T22: =SUM(H22:S22) -> 0
A23: No. de Entrevistas Personales Durante el Mes | T23: =SUM(H23:S23) -> 0
A25: CONTROL EN LA GESTION DEFENSORIAL
A26: PROCEDIMIENTO ABREVIADO | H26: PROCEDIMIENTO ORDINARIO
A27: Modalidad | F27: P | G27: V | H27: Modalidad | T27: P | U27: V
A28: No. de Audiencias Programadas en el Mes | H28: No. de Audiencias Programadas en el Mes
A29: No. de Audiencias Realizadas en el Mes | F29: =SUM(D56,F56) -> 0 | G29: =SUM(E56,G56) -> 0 | H29: No. de Audiencias Realizadas en el Mes | T29: =SUM(N56,P56,R56,T56) -> 0 | U29: =SUM(O56,Q56,S56,U56) -> 0
A30: Descripción por Tipo de Audiencia Realizada | H30: Descripción por Tipo de Audiencia Realizada
A31: Etapa Procesal | B31: Tipo de Audiencia | D31: Asistidas por el RJV | F31: No Asistidas por el RJV | H31: Etapa Procesal | J31: Tipo de Audiencia | N31: Municipal | R31: Circuito
D32: P | E32: V | F32: P | G32: V | N32: Asistidas por el RJV | P32: No Asistidas por el RJV | R32: Asistidas por el RJV | T32: No Asistidas por el RJV
N33: P | O33: V | P33: P | Q33: V | R33: P | S33: V | T33: P | U33: V
A34: Fase de indagación | B34: Legalización de Captura | H34: Fase de indagación
B35: Medidas de Aseguramiento | H35: Audiencias Preliminares | J35: Solicitud Desarchivo Indagación Preliminar
B36: Medidas de Protección | J36: Medidas de Protección
B37: Principio de Oportunidad | J37: Legalización de Captura
B38: Otras Audiencias Preliminares | J38: Imputación
A39: Citación para Traslado del Escrito de Acusación | J39: Solicitud Medidas Cautelares
A40: Audiencia Concentrada | B40: Formalización del Traslado del Escrito de Acusación | J40: Medidas de Aseguramiento
B41: Se Enuncia la Práctica de Pruebas y se Controvierten las mismas | J41: Principio de Oportunidad
A42: Audiencias de Juicio | B42: Traslado Escrito Acusación | J42: Otras Audiencias Preliminares
B43: Audiencia Concentrada | H43: Audiencias de Juicio | J43: Audiencia de Acusación
B44: Juicio Oral | J44: Audiencia Preparatoria
...

Sheet 11
C1: Nombre del proceso/Subproceso: Atención y Trámite/Defensoría Pública | Q1: Código: SD-P07-F188
C2: Formulario: Informe Mensual Consolidado de Estadística RJV - Leyes 1098 de 2006, 1257 de 2008, 1719 de 2014, 985 de 2005, Decreto 1069 de 2014, Ley 1773 de 2016 y Ley 1761 de 2015 | Q2: Versión: 01
Q3: Vigente desde:
A6: REGIONAL: | G6: NOMBRE REPRESENTANTE JUDICIAL: | P6: PROGRAMA:
A7: AÑO: | G7: LUGAR DE EJECUCION: | P7: AREA:
A8: MES: | G8: CATEGORIA: | P8: SUB AREA:
A10: REPARTO | H10: Ley 1098 de 2006 (Víctimas Niños, Niñas y Adolescentes) | J10: Ley 1257 de 2008 (Violencia Contra la Mujer) | L10: Ley 1719 de 2014 (Violencia Sexual en el Conflicto Armado) | N10: Ley 985/2005 -Decreto 1069/2014 (Trata de Personas) | P10: Ley 1761 de 2015 (Feminicidio) | R10: Ley 1773 de 2016 (Ataques con Acidos) | T10: TOTAL
A11: No. de Poderes Vigentes del Mes Anterior | T11: =SUM(H11:S11) -> 0
A12: No. de Poderes Recibidos Durante el Mes | T12: =SUM(H12:S12) -> 0
A13: No. de Poderes Reasignados Durante el Mes | T13: =SUM(H13:S13) -> 0
A14: No. de Poderes Sustituidos Durante el Mes | T14: =SUM(H14:S14) -> 0
A15: No. de Poderes Terminados Durante el Mes | T15: =SUM(H15:S15) -> 0
A16: No. de Poderes Vigentes | H16: =(H11+H12+H13)-(H14+H15) -> 0 | J16: =(J11+J12+J13)-(J14+J15) -> 0 | L16: =(L11+L12+L13)-(L14+L15) -> 0 | N16: =(N11+N12+N13)-(N14+N15) -> 0 | P16: =(P11+P12+P13)-(P14+P15) -> 0 | R16: =(R11+R12+R13)-(R14+R15) -> 0 | T16: =SUM(H16:S16) -> 0
A17: No. de Poderes Vigentes Inactivos | T17: =SUM(H17:S17) -> 0
A18: No. de Poderes Vigentes Activos | H18: =H16-H17 -> 0 | I18: =(K13+K14)-K15 -> 0 | J18: =J16-J17 -> 0 | K18: =(M13+M14)-M15 -> 0 | L18: =L16-L17 -> 0 | M18: =(O13+O14)-O15 -> 0 | N18: =N16-N17 -> 0 | O18: =(Q13+Q14)-Q15 -> 0 | P18: =P16-P17 -> 0 | Q18: =(S13+S14)-S15 -> 0 | R18: =R16-R17 -> 0 | S18: =(U13+U14)-U15 -> 0 | T18: =SUM(H18:S18) -> 0
A19: No. de Asistencias Técnicas | T19: =SUM(H19:S19) -> 0
A20: COMUNICACIONES
A21: No. de Víctimas Contactadas Telefónicamente Durante el Mes | T21: =SUM(H21:S21) -> 0
A22: No. de Comunicaciones Escritas Durante el Mes | T22: =SUM(H22:S22) -> 0
A23: No. de Entrevistas Personales Durante el Mes | T23: =SUM(H23:S23) -> 0
A25: CONTROL EN LA GESTION DEFENSORIAL
A26: PROCEDIMIENTO ABREVIADO | H26: PROCEDIMIENTO ORDINARIO
A27: Modalidad | F27: P | G27: V | H27: Modalidad | T27: P | U27: V
A28: No. de Audiencias Programadas en el Mes | H28: No. de Audiencias Programadas en el Mes
A29: No. de Audiencias Realizadas en el Mes | F29: =SUM(D56,F56) -> 0 | G29: =SUM(E56,G56) -> 0 | H29: No. de Audiencias Realizadas en el Mes | T29: =SUM(N56,P56,R56,T56) -> 0 | U29: =SUM(O56,Q56,S56,U56) -> 0
A30: Descripción por Tipo de Audiencia Realizada | H30: Descripción por Tipo de Audiencia Realizada
A31: Etapa Procesal | B31: Tipo de Audiencia | D31: Asistidas por el RJV | F31: No Asistidas por el RJV | H31: Etapa Procesal | J31: Tipo de Audiencia | N31: Municipal | R31: Circuito
D32: P | E32: V | F32: P | G32: V | N32: Asistidas por el RJV | P32: No Asistidas por el RJV | R32: Asistidas por el RJV | T32: No Asistidas por el RJV
N33: P | O33: V | P33: P | Q33: V | R33: P | S33: V | T33: P | U33: V
A34: Fase de indagación | B34: Legalización de Captura | H34: Fase de indagación
B35: Medidas de Aseguramiento | H35: Audiencias Preliminares | J35: Solicitud Desarchivo Indagación Preliminar
B36: Medidas de Protección | J36: Medidas de Protección
B37: Principio de Oportunidad | J37: Legalización de Captura
B38: Otras Audiencias Preliminares | J38: Imputación
A39: Citación para Traslado del Escrito de Acusación | J39: Solicitud Medidas Cautelares
A40: Audiencia Concentrada | B40: Formalización del Traslado del Escrito de Acusación | J40: Medidas de Aseguramiento
B41: Se Enuncia la Práctica de Pruebas y se Controvierten las mismas | J41: Principio de Oportunidad
A42: Audiencias de Juicio | B42: Traslado Escrito Acusación | J42: Otras Audiencias Preliminares
B43: Audiencia Concentrada | H43: Audiencias de Juicio | J43: Audiencia de Acusación
B44: Juicio Oral | J44: Audiencia Preparatoria
...

Sheet 12
C1: Nombre del proceso/Subproceso: Atención y Trámite/Defensoría Pública | Q1: Código: SD-P07-F188
C2: Formulario: Informe Mensual Consolidado de Estadística RJV - Leyes 1098 de 2006, 1257 de 2008, 1719 de 2014, 985 de 2005, Decreto 1069 de 2014, Ley 1773 de 2016 y Ley 1761 de 2015 | Q2: Versión: 01
Q3: Vigente desde:
A6: REGIONAL: | G6: NOMBRE REPRESENTANTE JUDICIAL: | P6: PROGRAMA:
A7: AÑO: | G7: LUGAR DE EJECUCION: | P7: AREA:
A8: MES: | G8: CATEGORIA: | P8: SUB AREA:
A10: REPARTO | H10: Ley 1098 de 2006 (Víctimas Niños, Niñas y Adolescentes) | J10: Ley 1257 de 2008 (Violencia Contra la Mujer) | L10: Ley 1719 de 2014 (Violencia Sexual en el Conflicto Armado) | N10: Ley 985/2005 -Decreto 1069/2014 (Trata de Personas) | P10: Ley 1761 de 2015 (Feminicidio) | R10: Ley 1773 de 2016 (Ataques con Acidos) | T10: TOTAL
A11: No. de Poderes Vigentes del Mes Anterior | T11: =SUM(H11:S11) -> 0
A12: No. de Poderes Recibidos Durante el Mes | T12: =SUM(H12:S12) -> 0
A13: No. de Poderes Reasignados Durante el Mes | T13: =SUM(H13:S13) -> 0
A14: No. de Poderes Sustituidos Durante el Mes | T14: =SUM(H14:S14) -> 0
A15: No. de Poderes Terminados Durante el Mes | T15: =SUM(H15:S15) -> 0
A16: No. de Poderes Vigentes | H16: =(H11+H12+H13)-(H14+H15) -> 0 | J16: =(J11+J12+J13)-(J14+J15) -> 0 | L16: =(L11+L12+L13)-(L14+L15) -> 0 | N16: =(N11+N12+N13)-(N14+N15) -> 0 | P16: =(P11+P12+P13)-(P14+P15) -> 0 | R16: =(R11+R12+R13)-(R14+R15) -> 0 | T16: =SUM(H16:S16) -> 0
A17: No. de Poderes Vigentes Inactivos | T17: =SUM(H17:S17) -> 0
A18: No. de Poderes Vigentes Activos | H18: =H16-H17 -> 0 | I18: =(K13+K14)-K15 -> 0 | J18: =J16-J17 -> 0 | K18: =(M13+M14)-M15 -> 0 | L18: =L16-L17 -> 0 | M18: =(O13+O14)-O15 -> 0 | N18: =N16-N17 -> 0 | O18: =(Q13+Q14)-Q15 -> 0 | P18: =P16-P17 -> 0 | Q18: =(S13+S14)-S15 -> 0 | R18: =R16-R17 -> 0 | S18: =(U13+U14)-U15 -> 0 | T18: =SUM(H18:S18) -> 0
A19: No. de Asistencias Técnicas | T19: =SUM(H19:S19) -> 0
A20: COMUNICACIONES
A21: No. de Víctimas Contactadas Telefónicamente Durante el Mes | T21: =SUM(H21:S21) -> 0
A22: No. de Comunicaciones Escritas Durante el Mes | T22: =SUM(H22:S22) -> 0
A23: No. de Entrevistas Personales Durante el Mes | T23: =SUM(H23:S23) -> 0
A25: CONTROL EN LA GESTION DEFENSORIAL
A26: PROCEDIMIENTO ABREVIADO | H26: PROCEDIMIENTO ORDINARIO
A27: Modalidad | F27: P | G27: V | H27: Modalidad | T27: P | U27: V
A28: No. de Audiencias Programadas en el Mes | H28: No. de Audiencias Programadas en el Mes
A29: No. de Audiencias Realizadas en el Mes | F29: =SUM(D56,F56) -> 0 | G29: =SUM(E56,G56) -> 0 | H29: No. de Audiencias Realizadas en el Mes | T29: =SUM(N56,P56,R56,T56) -> 0 | U29: =SUM(O56,Q56,S56,U56) -> 0
A30: Descripción por Tipo de Audiencia Realizada | H30: Descripción por Tipo de Audiencia Realizada
A31: Etapa Procesal | B31: Tipo de Audiencia | D31: Asistidas por el RJV | F31: No Asistidas por el RJV | H31: Etapa Procesal | J31: Tipo de Audiencia | N31: Municipal | R31: Circuito
D32: P | E32: V | F32: P | G32: V | N32: Asistidas por el RJV | P32: No Asistidas por el RJV | R32: Asistidas por el RJV | T32: No Asistidas por el RJV
N33: P | O33: V | P33: P | Q33: V | R33: P | S33: V | T33: P | U33: V
A34: Fase de indagación | B34: Legalización de Captura | H34: Fase de indagación
B35: Medidas de Aseguramiento | H35: Audiencias Preliminares | J35: Solicitud Desarchivo Indagación Preliminar
B36: Medidas de Protección | J36: Medidas de Protección
B37: Principio de Oportunidad | J37: Legalización de Captura
B38: Otras Audiencias Preliminares | J38: Imputación
A39: Citación para Traslado del Escrito de Acusación | J39: Solicitud Medidas Cautelares
A40: Audiencia Concentrada | B40: Formalización del Traslado del Escrito de Acusación | J40: Medidas de Aseguramiento
B41: Se Enuncia la Práctica de Pruebas y se Controvierten las mismas | J41: Principio de Oportunidad
A42: Audiencias de Juicio | B42: Traslado Escrito Acusación | J42: Otras Audiencias Preliminares
B43: Audiencia Concentrada | H43: Audiencias de Juicio | J43: Audiencia de Acusación
B44: Juicio Oral | J44: Audiencia Preparatoria
...

Sheet 13
C1: Nombre del proceso/Subproceso: Atención y Trámite/Defensoría Pública | Q1: Código: SD-P07-F188
C2: Formulario: Informe Mensual Consolidado de Estadística RJV - Leyes 1098 de 2006, 1257 de 2008, 1719 de 2014, 985 de 2005, Decreto 1069 de 2014, Ley 1773 de 2016 y Ley 1761 de 2015 | Q2: Versión: 01
Q3: Vigente desde:
A6: REGIONAL: | G6: NOMBRE REPRESENTANTE JUDICIAL: | P6: PROGRAMA:
A7: AÑO: | G7: LUGAR DE EJECUCION: | P7: AREA:
A8: MES: | G8: CATEGORIA: | P8: SUB AREA:
A10: REPARTO | H10: Ley 1098 de 2006 (Víctimas Niños, Niñas y Adolescentes) | J10: Ley 1257 de 2008 (Violencia Contra la Mujer) | L10: Ley 1719 de 2014 (Violencia Sexual en el Conflicto Armado) | N10: Ley 985/2005 -Decreto 1069/2014 (Trata de Personas) | P10: Ley 1761 de 2015 (Feminicidio) | R10: Ley 1773 de 2016 (Ataques con Acidos) | T10: TOTAL
A11: No. de Poderes Vigentes del Mes Anterior | T11: =SUM(H11:S11) -> 0
A12: No. de Poderes Recibidos Durante el Mes | T12: =SUM(H12:S12) -> 0
A13: No. de Poderes Reasignados Durante el Mes | T13: =SUM(H13:S13) -> 0
A14: No. de Poderes Sustituidos Durante el Mes | T14: =SUM(H14:S14) -> 0
A15: No. de Poderes Terminados Durante el Mes | T15: =SUM(H15:S15) -> 0
A16: No. de Poderes Vigentes | H16: =(H11+H12+H13)-(H14+H15) -> 0 | J16: =(J11+J12+J13)-(J14+J15) -> 0 | L16: =(L11+L12+L13)-(L14+L15) -> 0 | N16: =(N11+N12+N13)-(N14+N15) -> 0 | P16: =(P11+P12+P13)-(P14+P15) -> 0 | R16: =(R11+R12+R13)-(R14+R15) -> 0 | T16: =SUM(H16:S16) -> 0
A17: No. de Poderes Vigentes Inactivos | T17: =SUM(H17:S17) -> 0
A18: No. de Poderes Vigentes Activos | H18: =H16-H17 -> 0 | I18: =(K13+K14)-K15 -> 0 | J18: =J16-J17 -> 0 | K18: =(M13+M14)-M15 -> 0 | L18: =L16-L17 -> 0 | M18: =(O13+O14)-O15 -> 0 | N18: =N16-N17 -> 0 | O18: =(Q13+Q14)-Q15 -> 0 | P18: =P16-P17 -> 0 | Q18: =(S13+S14)-S15 -> 0 | R18: =R16-R17 -> 0 | S18: =(U13+U14)-U15 -> 0 | T18: =SUM(H18:S18) -> 0
A19: No. de Asistencias Técnicas | T19: =SUM(H19:S19) -> 0
A20: COMUNICACIONES
A21: No. de Víctimas Contactadas Telefónicamente Durante el Mes | T21: =SUM(H21:S21) -> 0
A22: No. de Comunicaciones Escritas Durante el Mes | T22: =SUM(H22:S22) -> 0
A23: No. de Entrevistas Personales Durante el Mes | T23: =SUM(H23:S23) -> 0
A25: CONTROL EN LA GESTION DEFENSORIAL
A26: PROCEDIMIENTO ABREVIADO | H26: PROCEDIMIENTO ORDINARIO
A27: Modalidad | F27: P | G27: V | H27: Modalidad | T27: P | U27: V
A28: No. de Audiencias Programadas en el Mes | H28: No. de Audiencias Programadas en el Mes
A29: No. de Audiencias Realizadas en el Mes | F29: =SUM(D56,F56) -> 0 | G29: =SUM(E56,G56) -> 0 | H29: No. de Audiencias Realizadas en el Mes | T29: =SUM(N56,P56,R56,T56) -> 0 | U29: =SUM(O56,Q56,S56,U56) -> 0
A30: Descripción por Tipo de Audiencia Realizada | H30: Descripción por Tipo de Audiencia Realizada
A31: Etapa Procesal | B31: Tipo de Audiencia | D31: Asistidas por el RJV | F31: No Asistidas por el RJV | H31: Etapa Procesal | J31: Tipo de Audiencia | N31: Municipal | R31: Circuito
D32: P | E32: V | F32: P | G32: V | N32: Asistidas por el RJV | P32: No Asistidas por el RJV | R32: Asistidas por el RJV | T32: No Asistidas por el RJV
N33: P | O33: V | P33: P | Q33: V | R33: P | S33: V | T33: P | U33: V
