Workbook
Name AMAZONAS: Hoja1!$B$43
Name ANTIOQUIA: Hoja1!$C$43:$C$77
Name ARAUCA: Hoja1!$D$43:$D$44
Name AREA: Hoja1!$H$2:$H$4
Name ATLANTICO: Hoja1!$E$43:$E$45
Name BOGOTA: Hoja1!$F$43:$F$44
Name BOLIVAR: Hoja1!$G$43:$G$48
Name BOYACA: Hoja1!$H$43:$H$56
Name CALDAS: Hoja1!$I$43:$I$53
Name CAQUETA: Hoja1!$J$43:$J$46
Name CASANARE: Hoja1!$K$43:$K$46
Name CATEGORIA: Hoja1!$F$2:$F$5
Name CAUCA: Hoja1!$L$43:$L$51
Name CESAR: Hoja1!$M$43:$M$46
Name CHOCO: Hoja1!$N$43:$N$47
Name CORDOBA: Hoja1!$O$43:$O$52
Name CUNDINAMARCA: Hoja1!$P$43:$P$61
Name GUAINIA: Hoja1!$Q$43
Name GUAJIRA: Hoja1!$R$43:$R$47
Name GUAVIARE: Hoja1!$S$43:$S$44
Name HUILA: Hoja1!$T$43:$T$46
Name MAGDALENA: Hoja1!$U$43:$U$49
Name MAGDALENA_MEDIO: Hoja1!$V$43:$V$48
Name META: Hoja1!$W$43:$W$48
Name NARIÑO: Hoja1!$X$43:$X$49
Name NORTE_DE_SANTANDER: Hoja1!$Y$43:$Y$46
Name OCAÑA: Hoja1!$Z$43
Name PACIFICO: Hoja1!$AA$43:$AA$45
Name PROGRAMAS: Hoja1!$G$2:$G$12
Name PUTUMAYO: Hoja1!$AB$43:$AB$46
Name QUINDIO: Hoja1!$AC$43:$AC$44
Name REGIONALES: Hoja1!$B$42:$AM$42
Name RISARALDA: Hoja1!$AD$43:$AD$50
Name SAN_ANDRES: Hoja1!$AE$43
Name SANTANDER: Hoja1!$AF$43:$AF$51
Name SUB_AREA: Hoja1!$I$2:$I$3
Name SUCRE: Hoja1!$AG$43:$AG$48
Name TOLIMA: Hoja1!$AH$43:$AH$53
Name TUMACO: Hoja1!$AI$43:$AI$45
Name URABA: Hoja1!$AJ$43:$AJ$45
Name VALLE_DEL_CAUCA: Hoja1!$AK$43:$AK$50
Name VAUPES: Hoja1!$AL$43:$AL$44
Name VICHADA: Hoja1!$AM$43:$AM$44

Sheet Hoja1
C1: BIMESTRE | D1: MES | E1: REGIONAL | F1: CATEGORIA | G1: PROGRAMAS | H1: AREA | I1: SUB_AREA
C2: ENERO - FEBRERO | D2: ENERO | E2: AMAZONAS | F2: MUNICIPAL | G2: ADMINISTRATIVO | H2: DERECHO PUBLICO Y PRIVADO | I2: DE VICTIMAS
C3: MARZO - ABRIL | D3: FEBRERO | E3: ANTIOQUIA | F3: CIRCUITO | G3: CASACION | H3: ESPECIAL | I3: DE PROCESADOS Y CONDENADOS
C4: MAYO - JUNIO | D4: MARZO | E4: ARAUCA | F4: TRIBUNAL | G4: GENERAL DE DERECHO PUBLICO Y PRIVADO | H4: PENAL
C5: JULIO - AGOSTO | D5: ABRIL | E5: ATLANTICO | F5: CORTE | G5: LABORAL
C6: SEPTIEMBRE - OCTUBRE | D6: MAYO | E6: BOGOTA | G6: MINORIAS ETNICAS
C7: NOVIEMBRE - DICIEMBRE | D7: JUNIO | E7: BOLIVAR | G7: PENAL GENERAL
D8: JULIO | E8: BOYACA | G8: PENAL MILITAR
D9: AGOSTO | E9: CALDAS | G9: PROMISCUO
D10: SEPTIEMBRE | E10: CAQUETA | G10: RESTITUCION DE TIERRAS
D11: OCTUBRE | E11: CASANARE | G11: VICTIMAS EN JUSTICIA Y PAZ
D12: NOVIEMBRE | E12: CAUCA | G12: VICTIMAS GENERAL
D13: DICIEMBRE | E13: CESAR
E14: CHOCO
E15: CORDOBA
E16: CUNDINAMARCA
E17: GUAINIA
E18: GUAJIRA
E19: GUAVIARE
E20: HUILA
E21: MAGDALENA
E22: MAGDALENA MEDIO
E23: META
E24: NARIÑO
E25: NORTE SANTANDER
... E39: VICHADA
A41: CIRCUITOS JUDICIALES
B42: AMAZONAS | C42: ANTIOQUIA | D42: ARAUCA | E42: ATLANTICO | F42: BOGOTA | G42: BOLIVAR | H42: BOYACA | I42: CALDAS | J42: CAQUETA | K42: CASANARE | L42: CAUCA | M42: CESAR | N42: CHOCO | O42: CORDOBA | P42: CUNDINAMARCA | Q42: GUAINIA | R42: GUAJIRA | S42: GUAVIARE | T42: HUILA | U42: MAGDALENA | V42: MAGDALENA_MEDIO | W42: META | X42: NARIÑO | Y42: NORTE_DE_SANTANDER | Z42: OCAÑA | AA42: PACIFICO | AB42: PUTUMAYO | AC42: QUINDIO | AD42: RISARALDA | AE42: SAN_ANDRES | AF42: SANTANDER | AG42: SUCRE | AH42: TOLIMA | AI42: TUMACO | AJ42: URABA | AK42: VALLE_DEL_CAUCA | AL42: VAUPES | AM42: VICHADA
B43: LETICIA | C43: ABEJORRAL | D43: ARAUCA | E43: BARRANQUILLA | F43: BOGOTA D.C | G43: CARTAGENA | H43: CHIQUINQUIRA | I43: AGUADAS | J43: BELEN DE LOS ANDAQUIES | K43: MONTERREY | L43: BOLIVAR | M43: AGUACHICA | N43: BAHIA SOLANO | O43: AYAPEL | P43: BOGOTA D.C | Q43: INIRIDA | R43: MAICAO | S43: SAN JOSE DEL GUAVIARE | T43: GARZON | U43: CIENAGA | V43: BARRANCABERMEJA | W43: ACACIAS | X43: IPIALES | Y43: CUCUTA | Z43: OCAÑA | AA43: BUENAVENTURA | AB43: MOCOA | AC43: ARMENIA | AD43: APIA | AE43: SAN ANDRES | AF43: BUCARAMANGA | AG43: COROZAL | AH43: CHAPARRAL | AI43: BARBACOAS | AJ43: ANTIOQUIA Y CIRCUITOS JUDICIALES ASIGNADOS A LA REGIONAL | AK43: BUGA | AL43: MITU | AM43: PUERTO CARREÑO
C44: AMAGA | D44: SARAVENA | E44: BARRANQUILLA (DISTRITO JUDICIAL) | G44: CARTAGENA Y EL DPTO. DE BOLIVAR | H44: DUITAMA | I44: ANSERMA | J44: FLORENCIA | K44: OROCUE | L44: CALOTO | M44: CHIRIGUANA | N44: ISTMINA | O44: CERETE | P44: BOGOTA D.C (JUZGADOS ESPECIALIZADOS) | R44: RIOHACHA | S44: VILLAVICENCIO | T44: LA PLATA | U44: EL BANCO | V44: BUCARAMANGA Y CIRCUITOS JUDICIALES ASIGNADOS A LA REGIONAL | W44: GRANADA | X44: LA CRUZ | Y44: CUCUTA Y EL DPTO. DE NORTE DE SANTANDER | AA44: GUAPI (CAUCA) | AB44: MOCOA Y EL DPTO. DE PUTUMAYO | AC44: CALARCA | AD44: BELEN DE UMBRIA | AF44: BUCARAMANGA Y EL DPTO. DE SANTANDER | AG44: SAN MARCOS | AH44: ESPINAL | AI44: PASTO Y CIRCUITOS JUDICIALES ASIGNADOS A LA REGIONAL | AJ44: APARTADO | AK44: CALI | AL44: VILLAVICENCIO | AM44: VILLAVICENCIO
C45: AMALFI | G45: EL CARMEN DE BOLIVAR | H45: EL COCUY | I45: CHINCHINA | J45: FLORENCIA Y EL DPTO. DE CAQUETA | K45: PAZ DE ARIPORO | L45: GUAPI | M45: VALLEDUPAR | N45: QUIBDO | O45: CHINU | P45: CAQUEZA | R45: RIOHACHA Y EL DPTO. DE LA GUAJIRA | T45: NEIVA | U45: FUNDACION | V45: CIMITARRA | W45: PUERTO LOPEZ | X45: LA UNION | Y45: LOS PATIOS | AA45: ITSMINA (CHOCO) | AB45: PUERTO ASIS | AD45: DOSQUEBRADAS | AF45: CHARALA | AG45: SINCE | AH45: FRESNO | AI45: TUMACO | AJ45: TURBO | AK45: CALI Y BUGA Y EL DPTO. DEL VALLE DEL CAUCA
C46: ANDES | G46: MAGANGUE | H46: GARAGOA | I46: LA DORADA | J46: PUERTO RICO | K46: YOPAL | L46: PATIA EL BORDO | M46: VALLEDUPAR Y EL DPTO. DE CESAR | N46: QUIBDO Y EL DPTO. DEL CHOCO | O46: LORICA | P46: CHOCONTA | R46: SAN JUAN DEL CESAR | T46: PITALITO | U46: PIVIJAY | V46: PUERTO BERRIO | W46: SAN MARTIN | X46: PASTO | Y46: PAMPLONA | AB46: SIBUNDOY | AD46: LA VIRGINIA | AF46: GIRON | AG46: SINCELEJO | AH46: GUAMO | AK46: CARTAGO
C47: ANTIOQUIA | G47: MOMPOX | H47: GUATEQUE | I47: MANIZALES | L47: POPAYAN | N47: RIOSUCIO | O47: MONTELIBANO | P47: CUNDINAMARCA | R47: VILLANUEVA | U47: PLATO | V47: SAN VICENTE DE CHUCURI | W47: VILLAVICENCIO | X47: PASTO Y EL DPTO. DE NARIÑO | AD47: PEREIRA | AF47: MALAGA | AG47: SINCELEJO Y EL DPTO. DE SUCRE | AH47: HONDA | AK47: PALMIRA
C48: BOLIVAR | G48: TURBACO | H48: MIRAFLORES | I48: MANIZALES Y EL DPTO. DE CALDAS | L48: POPAYAN Y EL DPTO. DEL CAUCA | O48: MONTERIA | P48: CUNDINAMARCA Y EL DPTO. DE CUNDINAMARCA | U48: SANTA MARTA | V48: SIMITI | W48: VILLAVICENCIO Y EL DPTO. DEL META | X48: SAMANIEGO | AD48: PEREIRA Y EL DPTO. DE RISARALDA | AF48: PUENTE NACIONAL | AG48: SUCRE | AH48: IBAGUE | AK48: ROLDANILLO
C49: CAUCASIA | H49: MONIQUIRA | I49: MANZANARES | L49: PUERTO TEJADA | O49: MONTERIA Y EL DPTO. DE CORDOBA | P49: FACATATIVA | U49: SANTA MARTA Y EL DPTO. DE MAGDALENA | X49: TUQUERRES | AD49: QUINCHIA | AF49: SAN GIL | AH49: IBAGUE Y EL DPTO. DEL TOLIMA | AK49: SEVILLA
C50: CISNEROS | H50: PAZ DE RIO | I50: PENSILVANIA | L50: SANTANDER DE QUILICHAO | O50: PLANETARICA | P50: FUNZA | AD50: SANTA ROSA DE CABAL | AF50: SOCORRO | AH50: LERIDA | AK50: TULUA
C51: CONCORDIA | H51: RAMIRIQUI | I51: PUERTO BOYACA | L51: SILVIA | O51: SAHAGUN | P51: FUSAGASUGA | AF51: VELEZ | AH51: LIBANO
C52: DABEIBA | H52: SANTA ROSA DE VITERBO | I52: RIOSUCIO | O52: TIERRALTA | P52: GACHETA | AH52: MELGAR
C53: EL BAGRE | H53: SOATA | I53: SALAMINA | P53: GIRARDOT | AH53: PURIFICACION
C54: FREDONIA | H54: SOCHA | P54: GUADUAS
C55: FRONTINO | H55: SOGAMOSO | P55: LA MESA
C56: ITUANGO | H56: TUNJA | P56: LA PALMA
C57: JERICO | P57: PACHO
C58: LA CEJA | P58: SOACHA
C59: MARINILLA | P59: UBATE
C60: MEDELLIN | P60: VILLETA
C61: MEDELLIN Y EL DPTO. DE ANTIOQUIA | P61: ZIPAQUIRA
C62: MEDELLIN Y SU AREA METROPOLITANA
C63: PUERTO BERRIO
C64: RIONEGRO
C65: SAN PEDRO DE LOS MILAGROS
C66: SANTA BARBARA
C67: SANTA ROSA DE OSOS
C68: SANTAFE DE ANTIOQUIA
C69: SANTUARIO
C70: SEGOVIA
C71: SONSON
C72: SOPETRAN
C73: TAMESIS
... C77: YOLOMBO
A81: MUNICIPIOS
A82: departamentos | B82: AMAZONAS | C82: ANTIOQUIA | D82: ARAUCA | E82: ATLANTICO | F82: BOGOTA | G82: BOLIVAR | H82: BOYACA | I82: CALDAS | J82: CAQUETA | K82: CASANARE | L82: CAUCA | M82: CESAR | N82: CHOCO | O82: CORDOBA | P82: CUNDINAMARCA | Q82: GUAINIA | R82: GUAVIARE | S82: HUILA | T82: GUAJIRA | U82: MAGDALENA | V82: META | W82: NORTE_DE_SANTANDER | X82: NARIÑO | Y82: PUTUMAYO | Z82: QUINDIO | AA82: RISARALDA | AB82: SAN ANDRES | AC82: SANTANDER | AD82: SUCRE | AE82: TOLIMA | AF82: VALLE_DEL_CAUCA | AG82: VAUPES | AH82: VICHADA
A83: AMAZONAS | B83: LETICIA | C83: MEDELLIN | D83: ARAUCA | E83: BARRANQUILLA | F83: BOGOTA, D.C. | G83: CARTAGENA | H83: TUNJA | I83: MANIZALES | J83: FLORENCIA | K83: YOPAL | L83: POPAYAN | M83: VALLEDUPAR | N83: QUIBDO | O83: MONTERIA | P83: AGUA DE DIOS | Q83: INIRIDA | R83: SAN JOSE DEL GUAVIARE | S83: NEIVA | T83: RIOHACHA | U83: SANTA MARTA | V83: VILLAVICENCIO | W83: CUCUTA | X83: PASTO | Y83: MOCOA | Z83: ARMENIA | AA83: PEREIRA | AB83: SAN ANDRES | AC83: BUCARAMANGA | AD83: SINCELEJO | AE83: IBAGUE | AF83: CALI | AG83: MITU | AH83: PUERTO CARREÑO
A84: ANTIOQUIA | B84: EL ENCANTO | C84: ABEJORRAL | D84: ARAUQUITA | E84: BARANOA | G84: ACHI | H84: ALMEIDA | I84: AGUADAS | J84: ALBANIA | K84: AGUAZUL | L84: ALMAGUER | M84: AGUACHICA | N84: ACANDI | O84: AYAPEL | P84: ALBAN | Q84: BARRANCO MINAS | R84: CALAMAR | S84: ACEVEDO | T84: ALBANIA | U84: ALGARROBO | V84: ACACIAS | W84: ABREGO | X84: ALBAN | Y84: COLON | Z84: BUENAVISTA | AA84: APIA | AB84: PROVIDENCIA | AC84: AGUADA | AD84: BUENAVISTA | AE84: ALPUJARRA | AF84: ALCALA | AG84: CARURU | AH84: LA PRIMAVERA
A85: ARAUCA | B85: LA CHORRERA | C85: ABRIAQUI | D85: CRAVO NORTE | E85: CAMPO DE LA CRUZ | G85: ALTOS DEL ROSARIO | H85: AQUITANIA | I85: ANSERMA | J85: BELEN DE LOS ANDAQUIES | K85: CHAMEZA | L85: ARGELIA | M85: AGUSTIN CODAZZI | N85: ALTO BAUDO | O85: BUENAVISTA | P85: ANAPOIMA | Q85: MAPIRIPANA | R85: EL RETORNO | S85: AGRADO | T85: BARRANCAS | U85: ARACATACA | V85: BARRANCA DE UPIA | W85: ARBOLEDAS | X85: ALDANA | Y85: ORITO | Z85: CALARCA | AA85: BALBOA | AC85: ALBANIA | AD85: CAIMITO | AE85: ALVARADO | AF85: ANDALUCIA | AG85: PACOA | AH85: SANTA ROSALIA
A86: ATLANTICO | B86: LA PEDRERA | C86: ALEJANDRIA | D86: FORTUL | E86: CANDELARIA | G86: ARENAL | H86: ARCABUCO | I86: ARANZAZU | J86: CARTAGENA DEL CHAIRA | K86: HATO COROZAL | L86: BALBOA | M86: ASTREA | N86: ATRATO | O86: CANALETE | P86: ANOLAIMA | Q86: SAN FELIPE | R86: MIRAFLORES | S86: AIPE | T86: DIBULLA | U86: ARIGUANI | V86: CABUYARO | W86: BOCHALEMA | X86: ANCUYA | Y86: PUERTO ASIS | Z86: CIRCASIA | AA86: BELEN DE UMBRIA | AC86: ARATOCA | AD86: COLOSO | AE86: AMBALEMA | AF86: ANSERMANUEVO | AG86: TARAIRA | AH86: CUMARIBO
A87: BOGOTA | B87: LA VICTORIA | C87: AMAGA | D87: PUERTO RONDON | E87: GALAPA | G87: ARJONA | H87: BELEN | I87: BELALCAZAR | J87: CURILLO | K87: LA SALINA | L87: BOLIVAR | M87: BECERRIL | N87: BAGADO | O87: CERETE | P87: ARBELAEZ | Q87: PUERTO COLOMBIA | S87: ALGECIRAS | T87: DISTRACCION | U87: CERRO SAN ANTONIO | V87: CASTILLA LA NUEVA | W87: BUCARASICA | X87: ARBOLEDA | Y87: PUERTO CAICEDO | Z87: CORDOBA | AA87: DOSQUEBRADAS | AC87: BARBOSA | AD87: COROZAL | AE87: ANZOATEGUI | AF87: ARGELIA | AG87: PAPUNAUA
A88: BOLIVAR | B88: MIRITI - PARANA | C88: AMALFI | D88: SARAVENA | E88: JUAN DE ACOSTA | G88: ARROYOHONDO | H88: BERBEO | I88: CHINCHINA | J88: EL DONCELLO | K88: MANI | L88: BUENOS AIRES | M88: BOSCONIA | N88: BAHIA SOLANO | O88: CHIMA | P88: BELTRAN | Q88: LA GUADALUPE | S88: ALTAMIRA | T88: EL MOLINO | U88: CHIBOLO | V88: CUBARRAL | W88: CACOTA | X88: BARBACOAS | Y88: PUERTO GUZMAN | Z88: FILANDIA | AA88: GUATICA | AC88: BARICHARA | AD88: COVEÑAS | AE88: ARMERO | AF88: BOLIVAR | AG88: YAVARATE
A89: BOYACA | B89: PUERTO ALEGRIA | C89: ANDES | D89: TAME | E89: LURUACO | G89: BARRANCO DE LOBA | H89: BETEITIVA | I89: FILADELFIA | J89: EL PAUJIL | K89: MONTERREY | L89: CAJIBIO | M89: CHIMICHAGUA | N89: BAJO BAUDO | O89: CHINU | P89: BITUIMA | Q89: CACAHUAL | S89: BARAYA | T89: FONSECA | U89: CIENAGA | V89: CUMARAL | W89: CACHIRA | X89: BELEN | Y89: LEGUIZAMO | Z89: GENOVA | AA89: LA CELIA | AC89: BARRANCABERMEJA | AD89: CHALAN | AE89: ATACO | AF89: BUENAVENTURA
A90: CALDAS | B90: PUERTO ARICA | C90: ANGELOPOLIS | E90: MALAMBO | G90: CALAMAR | H90: BOAVITA | I90: LA DORADA | J90: LA MONTAÑITA | K90: NUNCHIA | L90: CALDONO | M90: CHIRIGUANA | N90: BOJAYA | O90: CIENAGA DE ORO | P90: BOJACA | Q90: PANA PANA | S90: CAMPOALEGRE | T90: HATONUEVO | U90: CONCORDIA | V90: EL CALVARIO | W90: CHINACOTA | X90: BUESACO | Y90: SIBUNDOY | Z90: LA TEBAIDA | AA90: LA VIRGINIA | AC90: BETULIA | AD90: EL ROBLE | AE90: CAJAMARCA | AF90: GUADALAJARA DE BUGA
A91: CAQUETA | B91: PUERTO NARIÑO | C91: ANGOSTURA | E91: MANATI | G91: CANTAGALLO | H91: BOYACA | I91: LA MERCED | J91: MILAN | K91: OROCUE | L91: CALOTO | M91: CURUMANI | N91: EL CANTON DEL SAN PABLO | O91: COTORRA | P91: CABRERA | Q91: MORICHAL | S91: COLOMBIA | T91: LA JAGUA DEL PILAR | U91: EL BANCO | V91: EL CASTILLO | W91: CHITAGA | X91: COLON | Y91: SAN FRANCISCO | Z91: MONTENEGRO | AA91: MARSELLA | AC91: BOLIVAR | AD91: GALERAS | AE91: CARMEN DE APICALA | AF91: BUGALAGRANDE
A92: CASANARE | B92: PUERTO SANTANDER | C92: ANORI | E92: PALMAR DE VARELA | G92: CICUCO | H92: BRICEÑO | I92: MANZANARES | J92: MORELIA | K92: PAZ DE ARIPORO | L92: CORINTO | M92: EL COPEY | N92: CARMEN DEL DARIEN | O92: LA APARTADA | P92: CACHIPAY | S92: ELIAS | T92: MAICAO | U92: EL PIÑON | V92: EL DORADO | W92: CONVENCION | X92: CONSACA | Y92: SAN MIGUEL | Z92: PIJAO | AA92: MISTRATO | AC92: CABRERA | AD92: GUARANDA | AE92: CASABIANCA | AF92: CAICEDONIA
A93: CAUCA | B93: TARAPACA | C93: SANTAFE DE ANTIOQUIA | E93: PIOJO | G93: CORDOBA | H93: BUENAVISTA | I93: MARMATO | J93: PUERTO RICO | K93: PORE | L93: EL TAMBO | M93: EL PASO | N93: CERTEGUI | O93: LORICA | P93: CAJICA | S93: GARZON | T93: MANAURE | U93: EL RETEN | V93: FUENTE DE ORO | W93: CUCUTILLA | X93: CONTADERO | Y93: SANTIAGO | Z93: QUIMBAYA | AA93: PUEBLO RICO | AC93: CALIFORNIA | AD93: LA UNION | AE93: CHAPARRAL | AF93: CALIMA
A94: CESAR | C94: ANZA | E94: POLONUEVO | G94: CLEMENCIA | H94: BUSBANZA | I94: MARQUETALIA | J94: SAN JOSE DEL FRAGUA | K94: RECETOR | L94: FLORENCIA | M94: GAMARRA | N94: CONDOTO | O94: LOS CORDOBAS | P94: CAPARRAPI | S94: GIGANTE | T94: SAN JUAN DEL CESAR | U94: FUNDACION | V94: GRANADA | W94: DURANIA | X94: CORDOBA | Y94: VALLE DEL GUAMUEZ | Z94: SALENTO | AA94: QUINCHIA | AC94: CAPITANEJO | AD94: LOS PALMITOS | AE94: COELLO | AF94: CANDELARIA
A95: CHOCO | C95: APARTADO | E95: PONEDERA | G95: EL CARMEN DE BOLIVAR | H95: CALDAS | I95: MARULANDA | J95: SAN VICENTE DEL CAGUAN | K95: SABANALARGA | L95: GUACHENE | M95: GONZALEZ | N95: EL CARMEN DE ATRATO | O95: MOMIL | P95: CAQUEZA | S95: GUADALUPE | T95: URIBIA | U95: GUAMAL | V95: GUAMAL | W95: EL CARMEN | X95: CUASPUD | Y95: VILLAGARZON | AA95: SANTA ROSA DE CABAL | AC95: CARCASI | AD95: MAJAGUAL | AE95: COYAIMA | AF95: CARTAGO
A96: CORDOBA | C96: ARBOLETES | E96: PUERTO COLOMBIA | G96: EL GUAMO | H96: CAMPOHERMOSO | I96: NEIRA | J96: SOLANO | K96: SACAMA | L96: GUAPI | M96: LA GLORIA | N96: EL LITORAL DEL SAN JUAN | O96: MONTELIBANO | P96: CARMEN DE CARUPA | S96: HOBO | T96: URUMITA | U96: NUEVA GRANADA | V96: MAPIRIPAN | W96: EL TARRA | X96: CUMBAL | AA96: SANTUARIO | AC96: CEPITA | AD96: MORROA | AE96: CUNDAY | AF96: DAGUA
A97: CUNDINAMARCA | C97: ARGELIA | E97: REPELON | G97: EL PEÑON | H97: CERINZA | I97: NORCASIA | J97: SOLITA | K97: SAN LUIS DE PALENQUE | L97: INZA | M97: LA JAGUA DE IBIRICO | N97: ISTMINA | O97: MOÑITOS | P97: CHAGUANI | S97: IQUIRA | T97: VILLANUEVA | U97: PEDRAZA | V97: MESETAS | W97: EL ZULIA | X97: CUMBITARA | AC97: CERRITO | AD97: OVEJAS | AE97: DOLORES | AF97: EL AGUILA
A98: GUAINIA | C98: ARMENIA | E98: SABANAGRANDE | G98: HATILLO DE LOBA | H98: CHINAVITA | I98: PACORA | J98: VALPARAISO | K98: TAMARA | L98: JAMBALO | M98: MANAURE | N98: JURADO | O98: PLANETA RICA | P98: CHIA | S98: ISNOS | U98: PIJIÑO DEL CARMEN | V98: LA MACARENA | W98: GRAMALOTE | X98: CHACHAGsI | AC98: CHARALA | AD98: PALMITO | AE98: ESPINAL | AF98: EL CAIRO
A99: GUAJIRA | C99: BARBOSA | E99: SABANALARGA | G99: MAGANGUE | H99: CHIQUINQUIRA | I99: PALESTINA | K99: TAURAMENA | L99: LA SIERRA | M99: PAILITAS | N99: LLORO | O99: PUEBLO NUEVO | P99: CHIPAQUE | S99: LA ARGENTINA | U99: PIVIJAY | V99: URIBE | W99: HACARI | X99: EL CHARCO | AC99: CHARTA | AD99: SAMPUES | AE99: FALAN | AF99: EL CERRITO
A100: GUAVIARE | C100: BELMIRA | E100: SANTA LUCIA | G100: MAHATES | H100: CHISCAS | I100: PENSILVANIA | K100: TRINIDAD | L100: LA VEGA | M100: PELAYA | N100: MEDIO ATRATO | O100: PUERTO ESCONDIDO | P100: CHOACHI | S100: LA PLATA | U100: PLATO | V100: LEJANIAS | W100: HERRAN | X100: EL PEÑOL | AC100: CHIMA | AD100: SAN BENITO ABAD | AE100: FLANDES | AF100: EL DOVIO
A101: HUILA | C101: BELLO | E101: SANTO TOMAS | G101: MARGARITA | H101: CHITA | I101: RIOSUCIO | K101: VILLANUEVA | L101: LOPEZ | M101: PUEBLO BELLO | N101: MEDIO BAUDO | O101: PUERTO LIBERTADOR | P101: CHOCONTA | S101: NATAGA | U101: PUEBLOVIEJO | V101: PUERTO CONCORDIA | W101: LABATECA | X101: EL ROSARIO | AC101: CHIPATA | AD101: SAN JUAN DE BETULIA | AE101: FRESNO | AF101: FLORIDA
A102: MAGDALENA | C102: BETANIA | E102: SOLEDAD | G102: MARIA LA BAJA | H102: CHITARAQUE | I102: RISARALDA | L102: MERCADERES | M102: RIO DE ORO | N102: MEDIO SAN JUAN | O102: PURISIMA | P102: COGUA | S102: OPORAPA | U102: REMOLINO | V102: PUERTO GAITAN | W102: LA ESPERANZA | X102: EL TABLON DE GOMEZ | AC102: CIMITARRA | AD102: SAN MARCOS | AE102: GUAMO | AF102: GINEBRA
A103: MAGDALENA MEDIO | C103: BETULIA | E103: SUAN | G103: MONTECRISTO | H103: CHIVATA | I103: SALAMINA | L103: MIRANDA | M103: LA PAZ | N103: NOVITA | O103: SAHAGUN | P103: COTA | S103: PAICOL | U103: SABANAS DE SAN ANGEL | V103: PUERTO LOPEZ | W103: LA PLAYA | X103: EL TAMBO | AC103: CONCEPCION | AD103: SAN ONOFRE | AE103: HERVEO | AF103: GUACARI
A104: META | C104: CIUDAD BOLIVAR | E104: TUBARA | G104: MOMPOS | H104: CIENEGA | I104: SAMANA | L104: MORALES | M104: SAN ALBERTO | N104: NUQUI | O104: SAN ANDRES SOTAVENTO | P104: CUCUNUBA | S104: PALERMO | U104: SALAMINA | V104: PUERTO LLERAS | W104: LOS PATIOS | X104: FUNES | AC104: CONFINES | AD104: SAN PEDRO | AE104: HONDA | AF104: JAMUNDI
A105: NARIÑO | C105: BRICEÑO | E105: USIACURI | G105: NOROSI | H105: COMBITA | I105: SAN JOSE | L105: PADILLA | M105: SAN DIEGO | N105: RIO IRO | O105: SAN ANTERO | P105: EL COLEGIO | S105: PALESTINA | U105: SAN SEBASTIAN DE BUENAVISTA | V105: PUERTO RICO | W105: LOURDES | X105: GUACHUCAL | AC105: CONTRATACION | AD105: SAN LUIS DE SINCE | AE105: ICONONZO | AF105: LA CUMBRE
A106: NORTE SANTANDER | C106: BURITICA | G106: MORALES | H106: COPER | I106: SUPIA | L106: PAEZ | M106: SAN MARTIN | N106: RIO QUITO | O106: SAN BERNARDO DEL VIENTO | P106: EL PEÑON | S106: PITAL | U106: SAN ZENON | V106: RESTREPO | W106: MUTISCUA | X106: GUAITARILLA | AC106: COROMORO | AD106: SUCRE | AE106: LERIDA | AF106: LA UNION
A107: OCAÑA | C107: CACERES | G107: PINILLOS | H107: CORRALES | I107: VICTORIA | L107: PATIA | M107: TAMALAMEQUE | N107: RIOSUCIO | O107: SAN CARLOS | P107: EL ROSAL | S107: PITALITO | U107: SANTA ANA | V107: SAN CARLOS DE GUAROA | W107: OCAÑA | X107: GUALMATAN | AC107: CURITI | AD107: SANTIAGO DE TOLU | AE107: LIBANO | AF107: LA VICTORIA
A108: PACIFICO | C108: CAICEDO | G108: REGIDOR | H108: COVARACHIA | I108: VILLAMARIA | L108: PIAMONTE | N108: SAN JOSE DEL PALMAR | O108: SAN PELAYO | P108: FACATATIVA | S108: RIVERA | U108: SANTA BARBARA DE PINTO | V108: SAN JUAN DE ARAMA | W108: PAMPLONA | X108: ILES | AC108: EL CARMEN DE CHUCURI | AD108: TOLU VIEJO | AE108: MARIQUITA | AF108: OBANDO
A109: PUTUMAYO | C109: CALDAS | G109: RIO VIEJO | H109: CUBARA | I109: VITERBO | L109: PIENDAMO | N109: SIPI | O109: TIERRALTA | P109: FOMEQUE | S109: SALADOBLANCO | U109: SITIONUEVO | V109: SAN JUANITO | W109: PAMPLONITA | X109: IMUES | AC109: EL GUACAMAYO | AE109: MELGAR | AF109: PALMIRA
A110: QUINDIO | C110: CAMPAMENTO | G110: SAN CRISTOBAL | H110: CUCAITA | L110: PUERTO TEJADA | N110: TADO | O110: VALENCIA | P110: FOSCA | S110: SAN AGUSTIN | U110: TENERIFE | V110: SAN MARTIN | W110: PUERTO SANTANDER | X110: IPIALES | AC110: EL PEÑON | AE110: MURILLO | AF110: PRADERA
A111: RISARALDA | C111: CAÑASGORDAS | G111: SAN ESTANISLAO | H111: CUITIVA | L111: PURACE | N111: UNGUIA | P111: FUNZA | S111: SANTA MARIA | U111: ZAPAYAN | V111: VISTAHERMOSA | W111: RAGONVALIA | X111: LA CRUZ | AC111: EL PLAYON | AE111: NATAGAIMA | AF111: RESTREPO
A112: SAN ANDRES | C112: CARACOLI | G112: SAN FERNANDO | H112: CHIQUIZA | L112: ROSAS | N112: UNION PANAMERICANA | P112: FUQUENE | S112: SUAZA | U112: ZONA BANANERA | W112: SALAZAR | X112: LA FLORIDA | AC112: ENCINO | AE112: ORTEGA | AF112: RIOFRIO
A113: SANTANDER | C113: CARAMANTA | G113: SAN JACINTO | H113: CHIVOR | L113: SAN SEBASTIAN | P113: FUSAGASUGA | S113: TARQUI | W113: SAN CALIXTO | X113: LA LLANADA | AC113: ENCISO | AE113: PALOCABILDO | AF113: ROLDANILLO
A114: SUCRE | C114: CAREPA | G114: SAN JACINTO DEL CAUCA | H114: DUITAMA | L114: SANTANDER DE QUILICHAO | P114: GACHALA | S114: TESALIA | W114: SAN CAYETANO | X114: LA TOLA | AC114: FLORIAN | AE114: PIEDRAS | AF114: SAN PEDRO
A115: TOLIMA | C115: EL CARMEN DE VIBORAL | G115: SAN JUAN NEPOMUCENO | H115: EL COCUY | L115: SANTA ROSA | P115: GACHANCIPA | S115: TELLO | W115: SANTIAGO | X115: LA UNION | AC115: FLORIDABLANCA | AE115: PLANADAS | AF115: SEVILLA
A116: TUMACO | C116: CAROLINA | G116: SAN MARTIN DE LOBA | H116: EL ESPINO | L116: SILVIA | P116: GACHETA | S116: TERUEL | W116: SARDINATA | X116: LEIVA | AC116: GALAN | AE116: PRADO | AF116: TORO
A117: URABA | C117: CAUCASIA | G117: SAN PABLO | H117: FIRAVITOBA | L117: SOTARA | P117: GAMA | S117: TIMANA | W117: SILOS | X117: LINARES | AC117: GAMBITA | AE117: PURIFICACION | AF117: TRUJILLO
A118: VALLE | C118: CHIGORODO | G118: SANTA CATALINA | H118: FLORESTA | L118: SUAREZ | P118: GIRARDOT | S118: VILLAVIEJA | W118: TEORAMA | X118: LOS ANDES | AC118: GIRON | AE118: RIOBLANCO | AF118: TULUA
A119: VAUPES | C119: CISNEROS | G119: SANTA ROSA | H119: GACHANTIVA | L119: SUCRE | P119: GRANADA | S119: YAGUARA | W119: TIBU | X119: MAGsI | AC119: GUACA | AE119: RONCESVALLES | AF119: ULLOA
A120: VICHADA | C120: COCORNA | G120: SANTA ROSA DEL SUR | H120: GAMEZA | L120: TIMBIO | P120: GUACHETA | W120: TOLEDO | X120: MALLAMA | AC120: GUADALUPE | AE120: ROVIRA | AF120: VERSALLES
...

Sheet 1
C1: Nombre del proceso/Subproceso: Atención y Trámite/Defensoría Pública | Q1: Código: SD-P07-F188
C2: Formulario: Informe Mensual Consolidado de Estadística RJV - Leyes 1098 de 2006, 1257 de 2008, 1719 de 2014, 985 de 2005, Decreto 1069 de 2014, Ley 1773 de 2016 y Ley 1761 de 2015 | Q2: Versión: 01
Q3: Vigente desde: 1de Sep- 2020
A6: REGIONAL: | C6: ANTIOQUIA | G6: NOMBRE REPRESENTANTE JUDICIAL: | K6: JULIETH GALLEGO MONTOYA | P6: PROGRAMA: | R6: VICTIMAS GENERAL
A7: AÑO: | C7: 2022 | G7: LUGAR DE EJECUCION: | K7: MARINILLA | P7: AREA: | R7: PENAL
A8: MES: | C8: DICIEMBRE | G8: CATEGORIA: | K8: CIRCUITO | P8: SUB AREA: | R8: DE VICTIMAS
A10: REPARTO | H10: Ley 1098 de 2006 (Víctimas Niños, Niñas y Adolescentes) | J10: Ley 1257 de 2008 (Violencia Contra la Mujer) | L10: Ley 1719 de 2014 (Violencia Sexual en el Conflicto Armado) | N10: Ley 985/2005 -Decreto 1069/2014 (Trata de Personas) | P10: Ley 1761 de 2015 (Feminicidio) | R10: Ley 1773 de 2016 (Ataques con Acidos) | T10: TOTAL
A11: No. de Poderes Vigentes del Mes Anterior | H11: 128 | J11: 22 | T11: =SUM(H11:S11) -> 150
A12: No. de Poderes Recibidos Durante el Mes | H12: 1 | J12: 0 | T12: =SUM(H12:S12) -> 1
A13: No. de Poderes Reasignados Durante el Mes | H13: 0 | J13: 0 | T13: =SUM(H13:S13) -> 0
A14: No. de Poderes Sustituidos Durante el Mes | H14: 0 | J14: 0 | T14: =SUM(H14:S14) -> 0
A15: No. de Poderes Terminados Durante el Mes | H15: 0 | J15: 0 | T15: =SUM(H15:S15) -> 0
A16: No. de Poderes Vigentes | H16: =(H11+H12+H13)-(H14+H15) -> 129 | J16: =(J11+J12+J13)-(J14+J15) -> 22 | L16: =(L11+L12+L13)-(L14+L15) -> 0 | N16: =(N11+N12+N13)-(N14+N15) -> 0 | P16: =(P11+P12+P13)-(P14+P15) -> 0 | R16: =(R11+R12+R13)-(R14+R15) -> 0 | T16: =SUM(H16:S16) -> 151
A17: No. de Poderes Vigentes Inactivos | H17: 20 | J17: 8 | T17: =SUM(H17:S17) -> 28
A18: No. de Poderes Vigentes Activos | H18: =H16-H17 -> 109 | I18: =(K13+K14)-K15 -> 0 | J18: =J16-J17 -> 14 | K18: =(M13+M14)-M15 -> 0 | L18: =L16-L17 -> 0 | M18: =(O13+O14)-O15 -> 0 | N18: =N16-N17 -> 0 | O18: =(Q13+Q14)-Q15 -> 0 | P18: =P16-P17 -> 0 | Q18: =(S13+S14)-S15 -> 0 | R18: =R16-R17 -> 0 | S18: =(U13+U14)-U15 -> 0 | T18: =SUM(H18:S18) -> 123
A19: No. de Asistencias Técnicas | H19: 0 | J19: 0 | T19: =SUM(H19:S19) -> 0
A20: COMUNICACIONES
A21: No. de Víctimas Contactadas Telefónicamente Durante el Mes | H21: 10 | J21: 5 | T21: =SUM(H21:S21) -> 15
A22: No. de Comunicaciones Escritas Durante el Mes | H22: 0 | J22: 0 | T22: =SUM(H22:S22) -> 0
A23: No. de Entrevistas Personales Durante el Mes | H23: 0 | J23: 0 | T23: =SUM(H23:S23) -> 0
A25: CONTROL EN LA GESTION DEFENSORIAL
A26: PROCEDIMIENTO ABREVIADO | H26: PROCEDIMIENTO ORDINARIO
A27: Modalidad | F27: P | G27: V | H27: Modalidad | T27: P | U27: V
A28: No. de Audiencias Programadas en el Mes | F28: 0 | G28: 3 | H28: No. de Audiencias Programadas en el Mes | U28: 33
A29: No. de Audiencias Realizadas en el Mes | F29: =SUM(D56,F56) -> 0 | G29: =SUM(E56,G56) -> 1 | H29: No. de Audiencias Realizadas en el Mes | T29: =SUM(N56,P56,R56,T56) -> 0 | U29: =SUM(O56,Q56,S56,U56) -> 17
A30: Descripción por Tipo de Audiencia Realizada | H30: Descripción por Tipo de Audiencia Realizada
A31: Etapa Procesal | B31: Tipo de Audiencia | D31: Asistidas por el RJV | F31: No Asistidas por el RJV | H31: Etapa Procesal | J31: Tipo de Audiencia | N31: Municipal | R31: Circuito
D32: P | E32: V | F32: P | G32: V | N32: Asistidas por el RJV | P32: No Asistidas por el RJV | R32: Asistidas por el RJV | T32: No Asistidas por el RJV
N33: P | O33: V | P33: P | Q33: V | R33: P | S33: V | T33: P | U33: V
A34: Fase de indagación | B34: Legalización de Captura | H34: Fase de indagación
B35: Medidas de Aseguramiento | H35: Audiencias Preliminares | J35: Solicitud Desarchivo Indagación Preliminar
B36: Medidas de Protección | J36: Medidas de Protección
B37: Principio de Oportunidad | J37: Legalización de Captura
B38: Otras Audiencias Preliminares | J38: Imputación
A39: Citación para Traslado del Escrito de Acusación | J39: Solicitud Medidas Cautelares
A40: Audiencia Concentrada | B40: Formalización del Traslado del Escrito de Acusación | J40: Medidas de Aseguramiento
B41: Se Enuncia la Práctica de Pruebas y se Controvierten las mismas | J41: Principio de Oportunidad
A42: Audiencias de Juicio | B42: Traslado Escrito Acusación | J42: Otras Audiencias Preliminares | Q42: 1
B43: Audiencia Concentrada | H43: Audiencias de Juicio | J43: Audiencia de Acusación | S43: 1
B44: Juicio Oral | E44: 1 | J44: Audiencia Preparatoria | S44: 7
B45: Traslado del Fallo | J45: Juicio Oral | S45: 7
A46: Incidente Reparación Integral | B46: Solicitud a Juez de Conocimiento para Abrir Trámite de Incidente Reparación Integral | J46: Lectura de Fallo
B47: Primera Audiencia | J47: Sentencia
B48: Segunda Audiencia | H48: Incidente Reparación Integral | J48: Solicitud a Juez de Conocimiento para Abrir Trámite de Incidente Reparación Integral
B49: Tercera Audiencia - Pruebas y Alegaciones - | J49: Primera Audiencia
A50: Preacuerdos | B50: Audiencia Preacuerdo | J50: Segunda Audiencia
A51: Verificación allanamiento a cargos | B51: Verificación Allanamiento a Cargos | J51: Tercera Audiencia - Pruebas y Alegaciones -
A52: Preclusión | B52: Preclusión | H52: Preacuerdos | J52: Audiencia Preacuerdo | S52: 1
A53: Segunda Instancia | B53: Audiencia Lectura Decisión | H53: Verificación Allanamiento a Cargos | J53: Verificación Allanamiento a Cargos
H54: Preclusión | J54: Preclusión
H55: Segunda Instancia | J55: Audiencia Lectura Decisión
A56: Total Audiencias Realizadas en el Mes | D56: =SUM(D34:D53) -> 0 | E56: =SUM(E34:E53) -> 1 | F56: =SUM(F34:F53) -> 0 | G56: =SUM(G34:G53) -> 0 | H56: Total Audiencias Realizadas en el Mes | N56: =SUM(N34:N55) -> 0 | O56: =SUM(O34:O55) -> 0 | P56: =SUM(P34:P55) -> 0 | Q56: =SUM(Q34:Q55) -> 1 | R56: =SUM(R34:R55) -> 0 | S56: =SUM(S34:S55) -> 16 | T56: =SUM(T34:T55) -> 0 | U56: =SUM(U34:U55) -> 0
A58: Causa de Audiencias Realizadas, NO Asistidas por el Representante Judicial de Víctimas Procedimiento Abreviado | K58: No. de Audiencias Realizadas, NO Asistidas por el Representante Judicial de Víctimas Procedimiento Ordinario
A59: Causa / Tipo de Audiencia | C59: Otra Audiencia | D59: Cruce con Turno | E59: Estrategia Jurídica | F59: Misión de Trabajo | G59: Capacitación | H59: Barra | I59: Caso Fortuito Fuerza Mayor | J59: Otro | K59: Causa / Tipo de Audiencia | N59: Otra Audiencia | O59: Cruce con Turno | P59: Estrategia Jurídica | Q59: Misión de Trabajo | R59: Capacitación | S59: Barra | T59: Caso Fortuito Fuerza Mayor | U59: Otro
A60: P | K60: No. Mpal. | M60: P
M61: V
A62: V | K62: No. Circuito | M62: P
M63: V
A65: No. de Audiencias No Realizadas o Aplazadas en el Mes Procedimiento Abreviado | I65: P | J65: =SUM(B68:J69) -> 0 | K65: No. de Audiencias No Realizadas o Aplazadas en el Mes Procedimiento Ordinario | Q65: Total Mpal. | R65: P | S65: =SUM(M68:U68) -> 0 | T65: V | U65: =SUM(M69:U69) -> 0
I66: V | J66: =SUM(B70:J71) -> 2 | Q66: Total Circuito | R66: P | S66: =SUM(M70:U70) -> 0 | T66: V | U66: =SUM(M71:U71) -> 16
A67: Causa / Tipo de Audiencia | B67: Defensor Público | C67: Defensor de Confianza | D67: Juez | E67: Fiscal | F67: Indiciado | G67: Víctima | H67: ICBF | I67: INPEC | J67: RJV (Incidente) | K67: Causa / Tipo de Audiencia | M67: Defensor Público | N67: Defensor de Confianza | O67: Juez | P67: Fiscal | Q67: Indiciado | R67: Víctima | S67: ICBF | T67: INPEC | U67: RJV (Incidente)
A68: P | K68: No. Mpal. | L68: P
L69: V
A70: V | E70: 1 | F70: 1 | K70: No. Circuito | L70: P
L71: V | M71: 5 | O71: 6 | P71: 4 | S71: 1
A73: 1098/2006 y 1257/2008 - HECHOS PUNIBLES LEYES
A74: PROGRAMA | F74: Homicidio | G74: Lesiones Personales | H74: Acceso Carnal con Menor de 14 Años | I74: Acto Sexual con Menor de 14 Años | J74: Acceso Carnal Violento | K74: Acto Sexual Violento | L74: Desaparición Forzada | M74: Secuestro Extorsivo | N74: Secuestro Simple | O74: Violencia Intrafamiliar | P74: Inasistencia Alimentaria | Q74: Hurto | R74: Concierto para Delinquir | S74: Otros | T74: Total
A75: Ley 1098 de 2006 | H75: 1 | T75: =SUM(F75:S75) -> 1
A76: Ley 1257 de 2008 (Mujer) | T76: =SUM(F76:S76) -> 0
A77: Ley 1257 de 2008 (LGTBI) | T77: =SUM(F77:S77) -> 0
A78: LEY 1719/2014 - HECHOS PUNIBLES
A79: Tipo de Usuario | E79: N° de Poderes Asignados en el mes | H79: Acceso Carnal Abusivo en Persona Protegida Menor de 14 Años | J79: Actos Sexuales en Persona Protegida Menor de 14 Años | L79: Prostitución Forzada en Persona Protegida | M79: Esclavitud Sexual en Persona Protegida | N79: Trata de Personas en Persona Protegida | O79: Esterilización Forzada en Persona Protegida | P79: Embarazo Forzado en Persona Protegida | Q79: Desnudez Forzada en Persona Protegida | R79: Aborto Forzado en Persona Protegida | S79: Otros | T79: Total
A80: Menor de Edad | C80: Femenino | T80: =SUM(H80:S80) -> 0
C81: Masculino | T81: =SUM(H81:S81) -> 0
A82: Mujer | T82: =SUM(H82:S82) -> 0
A83: Hombre | T83: =SUM(H83:S83) -> 0
A84: LGTBI | T84: =SUM(H84:S84) -> 0
A85: Total | E85: =SUM(E80:G84) -> 0 | H85: =SUM(H80:I84) -> 0 | J85: =SUM(J80:K84) -> 0 | L85: =SUM(L80:L84) -> 0 | M85: =SUM(M80:M84) -> 0 | N85: =SUM(N80:N84) -> 0 | O85: =SUM(O80:O84) -> 0 | P85: =SUM(P80:P84) -> 0 | Q85: =SUM(Q80:Q84) -> 0 | R85: =SUM(R80:R84) -> 0 | S85: =SUM(S80:S84) -> 0 | ... U85: =SUM(U80:U84) -> 0
A86: LEY 985/2005 (DECRETO 1069/2014) - CONDUCTAS TIPIFICADAS
A87: Tipo de Usuario | E87: N° de Poderes Asignados en el mes | H87: Explotación Sexual | J87: Trabajos o Servicios Forzados | L87: Esclavitud | N87: Servidumbre | O87: Explotación Mendicidad Ajena | P87: Matrimonio Servil | Q87: Extracción de Organos | R87: Turismo Sexual | S87: Otros | T87: Total
A88: Menor de Edad | C88: Femenino | T88: =SUM(H88:S88) -> 0
C89: Masculino | T89: =SUM(H89:S89) -> 0
A90: Mujer | T90: =SUM(H90:S90) -> 0
A91: Hombre | T91: =SUM(H91:S91) -> 0
A92: LGTBI | T92: =SUM(H92:S92) -> 0
A93: Total | E93: =SUM(E88:G92) -> 0 | H93: =SUM(H88:I92) -> 0 | J93: =SUM(J88:K92) -> 0 | L93: =SUM(L88:M92) -> 0 | N93: =SUM(N88:N92) -> 0 | O93: =SUM(O88:O92) -> 0 | P93: =SUM(P88:P92) -> 0 | Q93: =SUM(Q88:Q92) -> 0 | R93: =SUM(R88:R92) -> 0 | S93: =SUM(S88:S92) -> 0 | T93: =SUM(T88:U92) -> 0
A94: LEY 1773 DE 2016 - CONDUCTAS TIPIFICADAS
A95: Tipo de Usuario | E95: N° de Poderes Asignados en el mes | H95: Daño en el Cuerpo o en la Salud con Cualquier Tipo de Agente Químico | K95: Daño o Deformidad Permanente | N95: Pérdida Parcial o Total | P95: Pérdida Funcional o Anatómica | R95: Deformidad en el Rostro | T95: Total
A96: Menor de Edad | C96: Femenino | T96: =SUM(H96:S96) -> 0
C97: Masculino | T97: =SUM(H97:S97) -> 0
A98: Mujer | T98: =SUM(H98:S98) -> 0
A99: Hombre | T99: =SUM(H99:S99) -> 0
A100: LGTBI | T100: =SUM(H100:S100) -> 0
A101: Total | E101: =SUM(E96:G100) -> 0 | H101: =SUM(H96:J100) -> 0 | K101: =SUM(K96:M100) -> 0 | N101: =SUM(N96:O100) -> 0 | P101: =SUM(P96:Q100) -> 0 | R101: =SUM(R96:S100) -> 0 | T101: =SUM(T96:U100) -> 0
F102: JULIETH GALLEGO MONTOYA
A103: REPRESENTANTE JUDICIAL DE VÍCTIMAS
A105: Nombre del responsable de la elaboración del presente formulario: | H105: JULIETH GALLEGO MONTOYA
A106: Fecha de elaboración: | C106: 44900
C107: (dd-mm-aaaa)

Sheet 2
C1: Nombre del proceso/Subproceso: Atención y Trámite/Defensoría Pública | Q1: Código: SD-P07-F188
C2: Formulario: Informe Mensual Consolidado de Estadística RJV - Leyes 1098 de 2006, 1257 de 2008, 1719 de 2014, 985 de 2005, Decreto 1069 de 2014, Ley 1773 de 2016 y Ley 1761 de 2015 | Q2: Versión: 01
Q3: Vigente desde:
A6: REGIONAL: | G6: NOMBRE REPRESENTANTE JUDICIAL: | P6: PROGRAMA:
A7: AÑO: | G7: LUGAR DE EJECUCION: | P7: AREA:
A8: MES: | G8: CATEGORIA: | P8: SUB AREA:
A10: REPARTO | H10: Ley 1098 de 2006 (Víctimas Niños, Niñas y Adolescentes) | J10: Ley 1257 de 2008 (Violencia Contra la Mujer) | L10: Ley 1719 de 2014 (Violencia Sexual en el Conflicto Armado) | N10: Ley 985/2005 -Decreto 1069/2014 (Trata de Personas) | P10: Ley 1761 de 2015 (Feminicidio) | R10: Ley 1773 de 2016 (Ataques con Acidos) | T10: TOTAL
A11: No. de Poderes Vigentes del Mes Anterior | T11: =SUM(H11:S11) -> 0
A12: No. de Poderes Recibidos Durante el Mes | T12: =SUM(H12:S12) -> 0
A13: No. de Poderes Reasignados Durante el Mes | T13: =SUM(H13:S13) -> 0
A14: No. de Poderes Sustituidos Durante el Mes | T14: =SUM(H14:S14) -> 0
A15: No. de Poderes Terminados Durante el Mes | T15: =SUM(H15:S15) -> 0
A16: No. de Poderes Vigentes | H16: =(H11+H12+H13)-(H14+H15) -> 0 | J16: =(J11+J12+J13)-(J14+J15) -> 0 | L16: =(L11+L12+L13)-(L14+L15) -> 0 | N16: =(N11+N12+N13)-(N14+N15) -> 0 | P16: =(P11+P12+P13)-(P14+P15) -> 0 | R16: =(R11+R12+R13)-(R14+R15) -> 0 | T16: =SUM(H16:S16) -> 0
A17: No. de Poderes Vigentes Inactivos | T17: =SUM(H17:S17) -> 0
A18: No. de Poderes Vigentes Activos | H18: =H16-H17 -> 0 | I18: =(K13+K14)-K15 -> 0 | J18: =J16-J17 -> 0 | K18: =(M13+M14)-M15 -> 0 | L18: =L16-L17 -> 0 | M18: =(O13+O14)-O15 -> 0 | N18: =N16-N17 -> 0 | O18: =(Q13+Q14)-Q15 -> 0 | P18: =P16-P17 -> 0 | Q18: =(S13+S14)-S15 -> 0 | R18: =R16-R17 -> 0 | S18: =(U13+U14)-U15 -> 0 | T18: =SUM(H18:S18) -> 0
A19: No. de Asistencias Técnicas | T19: =SUM(H19:S19) -> 0
A20: COMUNICACIONES
A21: No. de Víctimas Contactadas Telefónicamente Durante el Mes | T21: =SUM(H21:S21) -> 0
A22: No. de Comunicaciones Escritas Durante el Mes | T22: =SUM(H22:S22) -> 0
A23: No. de Entrevistas Personales Durante el Mes | T23: =SUM(H23:S23) -> 0
A25: CONTROL EN LA GESTION DEFENSORIAL
A26: PROCEDIMIENTO ABREVIADO | H26: PROCEDIMIENTO ORDINARIO
A27: Modalidad | F27: P | G27: V | H27: Modalidad | T27: P | U27: V
A28: No. de Audiencias Programadas en el Mes | H28: No. de Audiencias Programadas en el Mes
A29: No. de Audiencias Realizadas en el Mes | F29: =SUM(D56,F56) -> 0 | G29: =SUM(E56,G56) -> 0 | H29: No. de Audiencias Realizadas en el Mes | T29: =SUM(N56,P56,R56,T56) -> 0 | U29: =SUM(O56,Q56,S56,U56) -> 0
A30: Descripción por Tipo de Audiencia Realizada | H30: Descripción por Tipo de Audiencia Realizada
A31: Etapa Procesal | B31: Tipo de Audiencia | D31: Asistidas por el RJV | F31: No Asistidas por el RJV | H31: Etapa Procesal | J31: Tipo de Audiencia | N31: Municipal | R31: Circuito
D32: P | E32: V | F32: P | G32: V | N32: Asistidas por el RJV | P32: No Asistidas por el RJV | R32: Asistidas por el RJV | T32: No Asistidas por el RJV
N33: P | O33: V | P33: P | Q33: V | R33: P | S33: V | T33: P | U33: V
A34: Fase de indagación | B34: Legalización de Captura | H34: Fase de indagación
B35: Medidas de Aseguramiento | H35: Audiencias Preliminares | J35: Solicitud Desarchivo Indagación Preliminar
B36: Medidas de Protección | J36: Medidas de Protección
B37: Principio de Oportunidad | J37: Legalización de Captura
B38: Otras Audiencias Preliminares | J38: Imputación
A39: Citación para Traslado del Escrito de Acusación | J39: Solicitud Medidas Cautelares
A40: Audiencia Concentrada | B40: Formalización del Traslado del Escrito de Acusación | J40: Medidas de Aseguramiento
B41: Se Enuncia la Práctica de Pruebas y se Controvierten las mismas | J41: Principio de Oportunidad
A42: Audiencias de Juicio | B42: Traslado Escrito Acusación | J42: Otras Audiencias Preliminares
B43: Audiencia Concentrada | H43: Audiencias de Juicio | J43: Audiencia de Acusación
B44: Juicio Oral | J44: Audiencia Preparatoria
B45: Traslado del Fallo | J45: Juicio Oral
A46: Incidente Reparación Integral | B46: Solicitud a Juez de Conocimiento para Abrir Trámite de Incidente Reparación Integral | J46: Lectura de Fallo
B47: Primera Audiencia | J47: Sentencia
B48: Segunda Audiencia | H48: Incidente Reparación Integral | J48: Solicitud a Juez de Conocimiento para Abrir Trámite de Incidente Reparación Integral
B49: Tercera Audiencia - Pruebas y Alegaciones - | J49: Primera Audiencia
A50: Preacuerdos | B50: Audiencia Preacuerdo | J50: Segunda Audiencia
A51: Verificación allanamiento a cargos | B51: Verificación Allanamiento a Cargos | J51: Tercera Audiencia - Pruebas y Alegaciones -
A52: Preclusión | B52: Preclusión | H52: Preacuerdos | J52: Audiencia Preacuerdo
A53: Segunda Instancia | B53: Audiencia Lectura Decisión | H53: Verificación Allanamiento a Cargos | J53: Verificación Allanamiento a Cargos
H54: Preclusión | J54: Preclusión
H55: Segunda Instancia | J55: Audiencia Lectura Decisión
A56: Total Audiencias Realizadas en el Mes | D56: =SUM(D34:D53) -> 0 | E56: =SUM(E34:E53) -> 0 | F56: =SUM(F34:F53) -> 0 | G56: =SUM(G34:G53) -> 0 | H56: Total Audiencias Realizadas en el Mes | N56: =SUM(N34:N55) -> 0 | O56: =SUM(O34:O55) -> 0 | P56: =SUM(P34:P55) -> 0 | Q56: =SUM(Q34:Q55) -> 0 | R56: =SUM(R34:R55) -> 0 | S56: =SUM(S34:S55) -> 0 | T56: =SUM(T34:T55) -> 0 | U56: =SUM(U34:U55) -> 0
A58: Causa de Audiencias Realizadas, NO Asistidas por el Representante Judicial de Víctimas Procedimiento Abreviado | K58: No. de Audiencias Realizadas, NO Asistidas por el Representante Judicial de Víctimas Procedimiento Ordinario
A59: Causa / Tipo de Audiencia | C59: Otra Audiencia | D59: Cruce con Turno | E59: Estrategia Jurídica | F59: Misión de Trabajo | G59: Capacitación | H59: Barra | I59: Caso Fortuito Fuerza Mayor | J59: Otro | K59: Causa / Tipo de Audiencia | N59: Otra Audiencia | O59: Cruce con Turno | P59: Estrategia Jurídica | Q59: Misión de Trabajo | R59: Capacitación | S59: Barra | T59: Caso Fortuito Fuerza Mayor | U59: Otro
A60: P | K60: No. Mpal. | M60: P
M61: V
A62: V | K62: No. Circuito | M62: P
M63: V
A65: No. de Audiencias No Realizadas o Aplazadas en el Mes Procedimiento Abreviado | I65: P | J65: =SUM(B68:J69) -> 0 | K65: No. de Audiencias No Realizadas o Aplazadas en el Mes Procedimiento Ordinario | Q65: Total Mpal. | R65: P | S65: =SUM(M68:U68) -> 0 | T65: V | U65: =SUM(M69:U69) -> 0
I66: V | J66: =SUM(B70:J71) -> 0 | Q66: Total Circuito | R66: P | S66: =SUM(M70:U70) -> 0 | T66: V | U66: =SUM(M71:U71) -> 0
A67: Causa / Tipo de Audiencia | B67: Defensor Público | C67: Defensor de Confianza | D67: Juez | E67: Fiscal | F67: Indiciado | G67: Víctima | H67: ICBF | I67: INPEC | J67: RJV (Incidente) | K67: Causa / Tipo de Audiencia | M67: Defensor Público | N67: Defensor de Confianza | O67: Juez | P67: Fiscal | Q67: Indiciado | R67: Víctima | S67: ICBF | T67: INPEC | U67: RJV (Incidente)
A68: P | K68: No. Mpal. | L68: P
L69: V
A70: V | K70: No. Circuito | L70: P
L71: V
A73: 1098/2006 y 1257/2008 - HECHOS PUNIBLES LEYES
A74: PROGRAMA | F74: Homicidio | G74: Lesiones Personales | H74: Acceso Carnal con Menor de 14 Años | I74: Acto Sexual con Menor de 14 Años | J74: Acceso Carnal Violento | K74: Acto Sexual Violento | L74: Desaparición Forzada | M74: Secuestro Extorsivo | N74: Secuestro Simple | O74: Violencia Intrafamiliar | P74: Inasistencia Alimentaria | Q74: Hurto | R74: Concierto para Delinquir | S74: Otros | T74: Total
A75: Ley 1098 de 2006 | T75: =SUM(F75:S75) -> 0
A76: Ley 1257 de 2008 (Mujer) | T76: =SUM(F76:S76) -> 0
A77: Ley 1257 de 2008 (LGTBI) | T77: =SUM(F77:S77) -> 0
A78: LEY 1719/2014 - HECHOS PUNIBLES
A79: Tipo de Usuario | E79: N° de Poderes Asignados en el mes | H79: Acceso Carnal Abusivo en Persona Protegida Menor de 14 Años | J79: Actos Sexuales en Persona Protegida Menor de 14 Años | L79: Prostitución Forzada en Persona Protegida | M79: Esclavitud Sexual en Persona Protegida | N79: Trata de Personas en Persona Protegida | O79: Esterilización Forzada en Persona Protegida | P79: Embarazo Forzado en Persona Protegida | Q79: Desnudez Forzada en Persona Protegida | R79: Aborto Forzado en Persona Protegida | S79: Otros | T79: Total
A80: Menor de Edad | C80: Femenino | T80: =SUM(H80:S80) -> 0
C81: Masculino | T81: =SUM(H81:S81) -> 0
A82: Mujer | T82: =SUM(H82:S82) -> 0
A83: Hombre | T83: =SUM(H83:S83) -> 0
A84: LGTBI | T84: =SUM(H84:S84) -> 0
A85: Total | E85: =SUM(E80:G84) -> 0 | H85: =SUM(H80:I84) -> 0 | J85: =SUM(J80:K84) -> 0 | L85: =SUM(L80:L84) -> 0 | M85: =SUM(M80:M84) -> 0 | N85: =SUM(N80:N84) -> 0 | O85: =SUM(O80:O84) -> 0 | P85: =SUM(P80:P84) -> 0 | Q85: =SUM(Q80:Q84) -> 0 | R85: =SUM(R80:R84) -> 0 | S85: =SUM(S80:S84) -> 0 | ... U85: =SUM(U80:U84) -> 0
A86: LEY 985/2005 (DECRETO 1069/2014) - CONDUCTAS TIPIFICADAS
A87: Tipo de Usuario | E87: N° de Poderes Asignados en el mes | H87: Explotación Sexual | J87: Trabajos o Servicios Forzados | L87: Esclavitud | N87: Servidumbre | O87: Explotación Mendicidad Ajena | P87: Matrimonio Servil | Q87: Extracción de Organos | R87: Turismo Sexual | S87: Otros | T87: Total
A88: Menor de Edad | C88: Femenino | T88: =SUM(H88:S88) -> 0
C89: Masculino | T89: =SUM(H89:S89) -> 0
A90: Mujer | T90: =SUM(H90:S90) -> 0
A91: Hombre | T91: =SUM(H91:S91) -> 0
A92: LGTBI | T92: =SUM(H92:S92) -> 0
A93: Total | E93: =SUM(E88:G92) -> 0 | H93: =SUM(H88:I92) -> 0 | J93: =SUM(J88:K92) -> 0 | L93: =SUM(L88:M92) -> 0 | N93: =SUM(N88:N92) -> 0 | O93: =SUM(O88:O92) -> 0 | P93: =SUM(P88:P92) -> 0 | Q93: =SUM(Q88:Q92) -> 0 | R93: =SUM(R88:R92) -> 0 | S93: =SUM(S88:S92) -> 0 | T93: =SUM(T88:U92) -> 0
A94: LEY 1773 DE 2016 - CONDUCTAS TIPIFICADAS
A95: Tipo de Usuario | E95: N° de Poderes Asignados en el mes | H95: Daño en el Cuerpo o en la Salud con Cualquier Tipo de Agente Químico | K95: Daño o Deformidad Permanente | N95: Pérdida Parcial o Total | P95: Pérdida Funcional o Anatómica | R95: Deformidad en el Rostro | T95: Total
A96: Menor de Edad | C96: Femenino | T96: =SUM(H96:S96) -> 0
C97: Masculino | T97: =SUM(H97:S97) -> 0
A98: Mujer | T98: =SUM(H98:S98) -> 0
A99: Hombre | T99: =SUM(H99:S99) -> 0
A100: LGTBI | T100: =SUM(H100:S100) -> 0
A101: Total | E101: =SUM(E96:G100) -> 0 | H101: =SUM(H96:J100) -> 0 | K101: =SUM(K96:M100) -> 0 | N101: =SUM(N96:O100) -> 0 | P101: =SUM(P96:Q100) -> 0 | R101: =SUM(R96:S100) -> 0 | T101: =SUM(T96:U100) -> 0
A103: REPRESENTANTE JUDICIAL DE VÍCTIMAS
A105: Nombre del responsable de la elaboración del presente formulario:
A106: Fecha de elaboración:
C107: (dd-mm-aaaa)

Sheet 3
C1: Nombre del proceso/Subproceso: Atención y Trámite/Defensoría Pública | Q1: Código: SD-P07-F188
C2: Formulario: Informe Mensual Consolidado de Estadística RJV - Leyes 1098 de 2006, 1257 de 2008, 1719 de 2014, 985 de 2005, Decreto 1069 de 2014, Ley 1773 de 2016 y Ley 1761 de 2015 | Q2: Versión: 01
Q3: Vigente desde:
A6: REGIONAL: | G6: NOMBRE REPRESENTANTE JUDICIAL: | P6: PROGRAMA:
A7: AÑO: | G7: LUGAR DE EJECUCION: | P7: AREA:
A8: MES: | G8: CATEGORIA: | P8: SUB AREA:
A10: REPARTO | H10: Ley 1098 de 2006 (Víctimas Niños, Niñas y Adolescentes) | J10: Ley 1257 de 2008 (Violencia Contra la Mujer) | L10: Ley 1719 de 2014 (Violencia Sexual en el Conflicto Armado) | N10: Ley 985/2005 -Decreto 1069/2014 (Trata de Personas) | P10: Ley 1761 de 2015 (Feminicidio) | R10: Ley 1773 de 2016 (Ataques con Acidos) | T10: TOTAL
A11: No. de Poderes Vigentes del Mes Anterior | T11: =SUM(H11:S11) -> 0
A12: No. de Poderes Recibidos Durante el Mes | T12: =SUM(H12:S12) -> 0
A13: No. de Poderes Reasignados Durante el Mes | T13: =SUM(H13:S13) -> 0
A14: No. de Poderes Sustituidos Durante el Mes | T14: =SUM(H14:S14) -> 0
A15: No. de Poderes Terminados Durante el Mes | T15: =SUM(H15:S15) -> 0
A16: No. de Poderes Vigentes | H16: =(H11+H12+H13)-(H14+H15) -> 0 | J16: =(J11+J12+J13)-(J14+J15) -> 0 | L16: =(L11+L12+L13)-(L14+L15) -> 0 | N16: =(N11+N12+N13)-(N14+N15) -> 0 | P16: =(P11+P12+P13)-(P14+P15) -> 0 | R16: =(R11+R12+R13)-(R14+R15) -> 0 | T16: =SUM(H16:S16) -> 0
A17: No. de Poderes Vigentes Inactivos | T17: =SUM(H17:S17) -> 0
A18: No. de Poderes Vigentes Activos | H18: =H16-H17 -> 0 | I18: =(K13+K14)-K15 -> 0 | J18: =J16-J17 -> 0 | K18: =(M13+M14)-M15 -> 0 | L18: =L16-L17 -> 0 | M18: =(O13+O14)-O15 -> 0 | N18: =N16-N17 -> 0 | O18: =(Q13+Q14)-Q15 -> 0 | P18: =P16-P17 -> 0 | Q18: =(S13+S14)-S15 -> 0 | R18: =R16-R17 -> 0 | S18: =(U13+U14)-U15 -> 0 | T18: =SUM(H18:S18) -> 0
A19: No. de Asistencias Técnicas | T19: =SUM(H19:S19) -> 0
A20: COMUNICACIONES
A21: No. de Víctimas Contactadas Telefónicamente Durante el Mes | T21: =SUM(H21:S21) -> 0
A22: No. de Comunicaciones Escritas Durante el Mes | T22: =SUM(H22:S22) -> 0
A23: No. de Entrevistas Personales Durante el Mes | T23: =SUM(H23:S23) -> 0
A25: CONTROL EN LA GESTION DEFENSORIAL
A26: PROCEDIMIENTO ABREVIADO | H26: PROCEDIMIENTO ORDINARIO
A27: Modalidad | F27: P | G27: V | H27: Modalidad | T27: P | U27: V
A28: No. de Audiencias Programadas en el Mes | H28: No. de Audiencias Programadas en el Mes
A29: No. de Audiencias Realizadas en el Mes | F29: =SUM(D56,F56) -> 0 | G29: =SUM(E56,G56) -> 0 | H29: No. de Audiencias Realizadas en el Mes | T29: =SUM(N56,P56,R56,T56) -> 0 | U29: =SUM(O56,Q56,S56,U56) -> 0
A30: Descripción por Tipo de Audiencia Realizada | H30: Descripción por Tipo de Audiencia Realizada
A31: Etapa Procesal | B31: Tipo de Audiencia | D31: Asistidas por el RJV | F31: No Asistidas por el RJV | H31: Etapa Procesal | J31: Tipo de Audiencia | N31: Municipal | R31: Circuito
D32: P | E32: V | F32: P | G32: V | N32: Asistidas por el RJV | P32: No Asistidas por el RJV | R32: Asistidas por el RJV | T32: No Asistidas por el RJV
N33: P | O33: V | P33: P | Q33: V | R33: P | S33: V | T33: P | U33: V
A34: Fase de indagación | B34: Legalización de Captura | H34: Fase de indagación
B35: Medidas de Aseguramiento | H35: Audiencias Preliminares | J35: Solicitud Desarchivo Indagación Preliminar
B36: Medidas de Protección | J36: Medidas de Protección
B37: Principio de Oportunidad | J37: Legalización de Captura
B38: Otras Audiencias Preliminares | J38: Imputación
A39: Citación para Traslado del Escrito de Acusación | J39: Solicitud Medidas Cautelares
A40: Audiencia Concentrada | B40: Formalización del Traslado del Escrito de Acusación | J40: Medidas de Aseguramiento
B41: Se Enuncia la Práctica de Pruebas y se Controvierten las mismas | J41: Principio de Oportunidad
A42: Audiencias de Juicio | B42: Traslado Escrito Acusación | J42: Otras Audiencias Preliminares
B43: Audiencia Concentrada | H43: Audiencias de Juicio | J43: Audiencia de Acusación
B44: Juicio Oral | J44: Audiencia Preparatoria
B45: Traslado del Fallo | J45: Juicio Oral
A46: Incidente Reparación Integral | B46: Solicitud a Juez de Conocimiento para Abrir Trámite de Incidente Reparación Integral | J46: Lectura de Fallo
B47: Primera Audiencia | J47: Sentencia
B48: Segunda Audiencia | H48: Incidente Reparación Integral | J48: Solicitud a Juez de Conocimiento para Abrir Trámite de Incidente Reparación Integral
B49: Tercera Audiencia - Pruebas y Alegaciones - | J49: Primera Audiencia
A50: Preacuerdos | B50: Audiencia Preacuerdo | J50: Segunda Audiencia
A51: Verificación allanamiento a cargos | B51: Verificación Allanamiento a Cargos | J51: Tercera Audiencia - Pruebas y Alegaciones -
A52: Preclusión | B52: Preclusión | H52: Preacuerdos | J52: Audiencia Preacuerdo
A53: Segunda Instancia | B53: Audiencia Lectura Decisión | H53: Verificación Allanamiento a Cargos | J53: Verificación Allanamiento a Cargos
H54: Preclusión | J54: Preclusión
H55: Segunda Instancia | J55: Audiencia Lectura Decisión
A56: Total Audiencias Realizadas en el Mes | D56: =SUM(D34:D53) -> 0 | E56: =SUM(E34:E53) -> 0 | F56: =SUM(F34:F53) -> 0 | G56: =SUM(G34:G53) -> 0 | H56: Total Audiencias Realizadas en el Mes | N56: =SUM(N34:N55) -> 0 | O56: =SUM(O34:O55) -> 0 | P56: =SUM(P34:P55) -> 0 | Q56: =SUM(Q34:Q55) -> 0 | R56: =SUM(R34:R55) -> 0 | S56: =SUM(S34:S55) -> 0 | T56: =SUM(T34:T55) -> 0 | U56: =SUM(U34:U55) -> 0
A58: Causa de Audiencias Realizadas, NO Asistidas por el Representante Judicial de Víctimas Procedimiento Abreviado | K58: No. de Audiencias Realizadas, NO Asistidas por el Representante Judicial de Víctimas Procedimiento Ordinario
A59: Causa / Tipo de Audiencia | C59: Otra Audiencia | D59: Cruce con Turno | E59: Estrategia Jurídica | F59: Misión de Trabajo | G59: Capacitación | H59: Barra | I59: Caso Fortuito Fuerza Mayor | J59: Otro | K59: Causa / Tipo de Audiencia | N59: Otra Audiencia | O59: Cruce con Turno | P59: Estrategia Jurídica | Q59: Misión de Trabajo | R59: Capacitación | S59: Barra | T59: Caso Fortuito Fuerza Mayor | U59: Otro
A60: P | K60: No. Mpal. | M60: P
M61: V
A62: V | K62: No. Circuito | M62: P
M63: V
A65: No. de Audiencias No Realizadas o Aplazadas en el Mes Procedimiento Abreviado | I65: P | J65: =SUM(B68:J69) -> 0 | K65: No. de Audiencias No Realizadas o Aplazadas en el Mes Procedimiento Ordinario | Q65: Total Mpal. | R65: P | S65: =SUM(M68:U68) -> 0 | T65: V | U65: =SUM(M69:U69) -> 0
I66: V | J66: =SUM(B70:J71) -> 0 | Q66: Total Circuito | R66: P | S66: =SUM(M70:U70) -> 0 | T66: V | U66: =SUM(M71:U71) -> 0
A67: Causa / Tipo de Audiencia | B67: Defensor Público | C67: Defensor de Confianza | D67: Juez | E67: Fiscal | F67: Indiciado | G67: Víctima | H67: ICBF | I67: INPEC | J67: RJV (Incidente) | K67: Causa / Tipo de Audiencia | M67: Defensor Público | N67: Defensor de Confianza | O67: Juez | P67: Fiscal | Q67: Indiciado | R67: Víctima | S67: ICBF | T67: INPEC | U67: RJV (Incidente)
A68: P | K68: No. Mpal. | L68: P
L69: V
A70: V | K70: No. Circuito | L70: P
L71: V
A73: 1098/2006 y 1257/2008 - HECHOS PUNIBLES LEYES
A74: PROGRAMA | F74: Homicidio | G74: Lesiones Personales | H74: Acceso Carnal con Menor de 14 Años | I74: Acto Sexual con Menor de 14 Años | J74: Acceso Carnal Violento | K74: Acto Sexual Violento | L74: Desaparición Forzada | M74: Secuestro Extorsivo | N74: Secuestro Simple | O74: Violencia Intrafamiliar | P74: Inasistencia Alimentaria | Q74: Hurto | R74: Concierto para Delinquir | S74: Otros | T74: Total
A75: Ley 1098 de 2006 | T75: =SUM(F75:S75) -> 0
A76: Ley 1257 de 2008 (Mujer) | T76: =SUM(F76:S76) -> 0
A77: Ley 1257 de 2008 (LGTBI) | T77: =SUM(F77:S77) -> 0
A78: LEY 1719/2014 - HECHOS PUNIBLES
A79: Tipo de Usuario | E79: N° de Poderes Asignados en el mes | H79: Acceso Carnal Abusivo en Persona Protegida Menor de 14 Años | J79: Actos Sexuales en Persona Protegida Menor de 14 Años | L79: Prostitución Forzada en Persona Protegida | M79: Esclavitud Sexual en Persona Protegida | N79: Trata de Personas en Persona Protegida | O79: Esterilización Forzada en Persona Protegida | P79: Embarazo Forzado en Persona Protegida | Q79: Desnudez Forzada en Persona Protegida | R79: Aborto Forzado en Persona Protegida | S79: Otros | T79: Total
A80: Menor de Edad | C80: Femenino | T80: =SUM(H80:S80) -> 0
C81: Masculino | T81: =SUM(H81:S81) -> 0
A82: Mujer | T82: =SUM(H82:S82) -> 0
A83: Hombre | T83: =SUM(H83:S83) -> 0
A84: LGTBI | T84: =SUM(H84:S84) -> 0
A85: Total | E85: =SUM(E80:G84) -> 0 | H85: =SUM(H80:I84) -> 0 | J85: =SUM(J80:K84) -> 0 | L85: =SUM(L80:L84) -> 0 | M85: =SUM(M80:M84) -> 0 | N85: =SUM(N80:N84) -> 0 | O85: =SUM(O80:O84) -> 0 | P85: =SUM(P80:P84) -> 0 | Q85: =SUM(Q80:Q84) -> 0 | R85: =SUM(R80:R84) -> 0 | S85: =SUM(S80:S84) -> 0 | ... U85: =SUM(U80:U84) -> 0
A86: LEY 985/2005 (DECRETO 1069/2014) - CONDUCTAS TIPIFICADAS
A87: Tipo de Usuario | E87: N° de Poderes Asignados en el mes | H87: Explotación Sexual | J87: Trabajos o Servicios Forzados | L87: Esclavitud | N87: Servidumbre | O87: Explotación Mendicidad Ajena | P87: Matrimonio Servil | Q87: Extracción de Organos | R87: Turismo Sexual | S87: Otros | T87: Total
A88: Menor de Edad | C88: Femenino | T88: =SUM(H88:S88) -> 0
C89: Masculino | T89: =SUM(H89:S89) -> 0
A90: Mujer | T90: =SUM(H90:S90) -> 0
A91: Hombre | T91: =SUM(H91:S91) -> 0
A92: LGTBI | T92: =SUM(H92:S92) -> 0
A93: Total | E93: =SUM(E88:G92) -> 0 | H93: =SUM(H88:I92) -> 0 | J93: =SUM(J88:K92) -> 0 | L93: =SUM(L88:M92) -> 0 | N93: =SUM(N88:N92) -> 0 | O93: =SUM(O88:O92) -> 0 | P93: =SUM(P88:P92) -> 0 | Q93: =SUM(Q88:Q92) -> 0 | R93: =SUM(R88:R92) -> 0 | S93: =SUM(S88:S92) -> 0 | T93: =SUM(T88:U92) -> 0
A94: LEY 1773 DE 2016 - CONDUCTAS TIPIFICADAS
A95: Tipo de Usuario | E95: N° de Poderes Asignados en el mes | H95: Daño en el Cuerpo o en la Salud con Cualquier Tipo de Agente Químico | K95: Daño o Deformidad Permanente | N95: Pérdida Parcial o Total | P95: Pérdida Funcional o Anatómica | R95: Deformidad en el Rostro | T95: Total
A96: Menor de Edad | C96: Femenino | T96: =SUM(H96:S96) -> 0
C97: Masculino | T97: =SUM(H97:S97) -> 0
A98: Mujer | T98: =SUM(H98:S98) -> 0
A99: Hombre | T99: =SUM(H99:S99) -> 0
A100: LGTBI | T100: =SUM(H100:S100) -> 0
A101: Total | E101: =SUM(E96:G100) -> 0 | H101: =SUM(H96:J100) -> 0 | K101: =SUM(K96:M100) -> 0 | N101: =SUM(N96:O100) -> 0 | P101: =SUM(P96:Q100) -> 0 | R101: =SUM(R96:S100) -> 0 | T101: =SUM(T96:U100) -> 0
A103: REPRESENTANTE JUDICIAL DE VÍCTIMAS
A105: Nombre del responsable de la elaboración del presente formulario:
A106: Fecha de elaboración:
C107: (dd-mm-aaaa)

Sheet 4
C1: Nombre del proceso/Subproceso: Atención y Trámite/Defensoría Pública | Q1: Código: SD-P07-F188
C2: Formulario: Informe Mensual Consolidado de Estadística RJV - Leyes 1098 de 2006, 1257 de 2008, 1719 de 2014, 985 de 2005, Decreto 1069 de 2014, Ley 1773 de 2016 y Ley 1761 de 2015 | Q2: Versión: 01
Q3: Vigente desde:
A6: REGIONAL: | G6: NOMBRE REPRESENTANTE JUDICIAL: | P6: PROGRAMA:
A7: AÑO: | G7: LUGAR DE EJECUCION: | P7: AREA:
A8: MES: | G8: CATEGORIA: | P8: SUB AREA:
A10: REPARTO | H10: Ley 1098 de 2006 (Víctimas Niños, Niñas y Adolescentes) | J10: Ley 1257 de 2008 (Violencia Contra la Mujer) | L10: Ley 1719 de 2014 (Violencia Sexual en el Conflicto Armado) | N10: Ley 985/2005 -Decreto 1069/2014 (Trata de Personas) | P10: Ley 1761 de 2015 (Feminicidio) | R10: Ley 1773 de 2016 (Ataques con Acidos) | T10: TOTAL
A11: No. de Poderes Vigentes del Mes Anterior | T11: =SUM(H11:S11) -> 0
A12: No. de Poderes Recibidos Durante el Mes | T12: =SUM(H12:S12) -> 0
A13: No. de Poderes Reasignados Durante el Mes | T13: =SUM(H13:S13) -> 0
A14: No. de Poderes Sustituidos Durante el Mes | T14: =SUM(H14:S14) -> 0
A15: No. de Poderes Terminados Durante el Mes | T15: =SUM(H15:S15) -> 0
A16: No. de Poderes Vigentes | H16: =(H11+H12+H13)-(H14+H15) -> 0 | J16: =(J11+J12+J13)-(J14+J15) -> 0 | L16: =(L11+L12+L13)-(L14+L15) -> 0 | N16: =(N11+N12+N13)-(N14+N15) -> 0 | P16: =(P11+P12+P13)-(P14+P15) -> 0 | R16: =(R11+R12+R13)-(R14+R15) -> 0 | T16: =SUM(H16:S16) -> 0
A17: No. de Poderes Vigentes Inactivos | T17: =SUM(H17:S17) -> 0
A18: No. de Poderes Vigentes Activos | H18: =H16-H17 -> 0 | I18: =(K13+K14)-K15 -> 0 | J18: =J16-J17 -> 0 | K18: =(M13+M14)-M15 -> 0 | L18: =L16-L17 -> 0 | M18: =(O13+O14)-O15 -> 0 | N18: =N16-N17 -> 0 | O18: =(Q13+Q14)-Q15 -> 0 | P18: =P16-P17 -> 0 | Q18: =(S13+S14)-S15 -> 0 | R18: =R16-R17 -> 0 | S18: =(U13+U14)-U15 -> 0 | T18: =SUM(H18:S18) -> 0
A19: No. de Asistencias Técnicas | T19: =SUM(H19:S19) -> 0
A20: COMUNICACIONES
A21: No. de Víctimas Contactadas Telefónicamente Durante el Mes | T21: =SUM(H21:S21) -> 0
A22: No. de Comunicaciones Escritas Durante el Mes | T22: =SUM(H22:S22) -> 0
A23: No. de Entrevistas Personales Durante el Mes | T23: =SUM(H23:S23) -> 0
A25: CONTROL EN LA GESTION DEFENSORIAL
A26: PROCEDIMIENTO ABREVIADO | H26: PROCEDIMIENTO ORDINARIO
A27: Modalidad | F27: P | G27: V | H27: Modalidad | T27: P | U27: V
A28: No. de Audiencias Programadas en el Mes | H28: No. de Audiencias Programadas en el Mes
A29: No. de Audiencias Realizadas en el Mes | F29: =SUM(D56,F56) -> 0 | G29: =SUM(E56,G56) -> 0 | H29: No. de Audiencias Realizadas en el Mes | T29: =SUM(N56,P56,R56,T56) -> 0 | U29: =SUM(O56,Q56,S56,U56) -> 0
A30: Descripción por Tipo de Audiencia Realizada | H30: Descripción por Tipo de Audiencia Realizada
A31: Etapa Procesal | B31: Tipo de Audiencia | D31: Asistidas por el RJV | F31: No Asistidas por el RJV | H31: Etapa Procesal | J31: Tipo de Audiencia | N31: Municipal | R31: Circuito
D32: P | E32: V | F32: P | G32: V | N32: Asistidas por el RJV | P32: No Asistidas por el RJV | R32: Asistidas por el RJV | T32: No Asistidas por el RJV
N33: P | O33: V | P33: P | Q33: V | R33: P | S33: V | T33: P | U33: V
A34: Fase de indagación | B34: Legalización de Captura | H34: Fase de indagación
B35: Medidas de Aseguramiento | H35: Audiencias Preliminares | J35: Solicitud Desarchivo Indagación Preliminar
B36: Medidas de Protección | J36: Medidas de Protección
B37: Principio de Oportunidad | J37: Legalización de Captura
B38: Otras Audiencias Preliminares | J38: Imputación
A39: Citación para Traslado del Escrito de Acusación | J39: Solicitud Medidas Cautelares
A40: Audiencia Concentrada | B40: Formalización del Traslado del Escrito de Acusación | J40: Medidas de Aseguramiento
B41: Se Enuncia la Práctica de Pruebas y se Controvierten las mismas | J41: Principio de Oportunidad
A42: Audiencias de Juicio | B42: Traslado Escrito Acusación | J42: Otras Audiencias Preliminares
B43: Audiencia Concentrada | H43: Audiencias de Juicio | J43: Audiencia de Acusación
B44: Juicio Oral | J44: Audiencia Preparatoria
B45: Traslado del Fallo | J45: Juicio Oral
A46: Incidente Reparación Integral | B46: Solicitud a Juez de Conocimiento para Abrir Trámite de Incidente Reparación Integral | J46: Lectura de Fallo
B47: Primera Audiencia | J47: Sentencia
B48: Segunda Audiencia | H48: Incidente Reparación Integral | J48: Solicitud a Juez de Conocimiento para Abrir Trámite de Incidente Reparación Integral
B49: Tercera Audiencia - Pruebas y Alegaciones - | J49: Primera Audiencia
A50: Preacuerdos | B50: Audiencia Preacuerdo | J50: Segunda Audiencia
A51: Verificación allanamiento a cargos | B51: Verificación Allanamiento a Cargos | J51: Tercera Audiencia - Pruebas y Alegaciones -
A52: Preclusión | B52: Preclusión | H52: Preacuerdos | J52: Audiencia Preacuerdo
A53: Segunda Instancia | B53: Audiencia Lectura Decisión | H53: Verificación Allanamiento a Cargos | J53: Verificación Allanamiento a Cargos
H54: Preclusión | J54: Preclusión
H55: Segunda Instancia | J55: Audiencia Lectura Decisión
A56: Total Audiencias Realizadas en el Mes | D56: =SUM(D34:D53) -> 0 | E56: =SUM(E34:E53) -> 0 | F56: =SUM(F34:F53) -> 0 | G56: =SUM(G34:G53) -> 0 | H56: Total Audiencias Realizadas en el Mes | N56: =SUM(N34:N55) -> 0 | O56: =SUM(O34:O55) -> 0 | P56: =SUM(P34:P55) -> 0 | Q56: =SUM(Q34:Q55) -> 0 | R56: =SUM(R34:R55) -> 0 | S56: =SUM(S34:S55) -> 0 | T56: =SUM(T34:T55) -> 0 | U56: =SUM(U34:U55) -> 0
A58: Causa de Audiencias Realizadas, NO Asistidas por el Representante Judicial de Víctimas Procedimiento Abreviado | K58: No. de Audiencias Realizadas, NO Asistidas por el Representante Judicial de Víctimas Procedimiento Ordinario
A59: Causa / Tipo de Audiencia | C59: Otra Audiencia | D59: Cruce con Turno | E59: Estrategia Jurídica | F59: Misión de Trabajo | G59: Capacitación | H59: Barra | I59: Caso Fortuito Fuerza Mayor | J59: Otro | K59: Causa / Tipo de Audiencia | N59: Otra Audiencia | O59: Cruce con Turno | P59: Estrategia Jurídica | Q59: Misión de Trabajo | R59: Capacitación | S59: Barra | T59: Caso Fortuito Fuerza Mayor | U59: Otro
A60: P | K60: No. Mpal. | M60: P
M61: V
A62: V | K62: No. Circuito | M62: P
M63: V
A65: No. de Audiencias No Realizadas o Aplazadas en el Mes Procedimiento Abreviado | I65: P | J65: =SUM(B68:J69) -> 0 | K65: No. de Audiencias No Realizadas o Aplazadas en el Mes Procedimiento Ordinario | Q65: Total Mpal. | R65: P | S65: =SUM(M68:U68) -> 0 | T65: V | U65: =SUM(M69:U69) -> 0
I66: V | J66: =SUM(B70:J71) -> 0 | Q66: Total Circuito | R66: P | S66: =SUM(M70:U70) -> 0 | T66: V | U66: =SUM(M71:U71) -> 0
A67: Causa / Tipo de Audiencia | B67: Defensor Público | C67: Defensor de Confianza | D67: Juez | E67: Fiscal | F67: Indiciado | G67: Víctima | H67: ICBF | I67: INPEC | J67: RJV (Incidente) | K67: Causa / Tipo de Audiencia | M67: Defensor Público | N67: Defensor de Confianza | O67: Juez | P67: Fiscal | Q67: Indiciado | R67: Víctima | S67: ICBF | T67: INPEC | U67: RJV (Incidente)
A68: P | K68: No. Mpal. | L68: P
L69: V
A70: V | K70: No. Circuito | L70: P
L71: V
A73: 1098/2006 y 1257/2008 - HECHOS PUNIBLES LEYES
A74: PROGRAMA | F74: Homicidio | G74: Lesiones Personales | H74: Acceso Carnal con Menor de 14 Años | I74: Acto Sexual con Menor de 14 Años | J74: Acceso Carnal Violento | K74: Acto Sexual Violento | L74: Desaparición Forzada | M74: Secuestro Extorsivo | N74: Secuestro Simple | O74: Violencia Intrafamiliar | P74: Inasistencia Alimentaria | Q74: Hurto | R74: Concierto para Delinquir | S74: Otros | T74: Total
A75: Ley 1098 de 2006 | T75: =SUM(F75:S75) -> 0
A76: Ley 1257 de 2008 (Mujer) | T76: =SUM(F76:S76) -> 0
A77: Ley 1257 de 2008 (LGTBI) | T77: =SUM(F77:S77) -> 0
A78: LEY 1719/2014 - HECHOS PUNIBLES
A79: Tipo de Usuario | E79: N° de Poderes Asignados en el mes | H79: Acceso Carnal Abusivo en Persona Protegida Menor de 14 Años | J79: Actos Sexuales en Persona Protegida Menor de 14 Años | L79: Prostitución Forzada en Persona Protegida | M79: Esclavitud Sexual en Persona Protegida | N79: Trata de Personas en Persona Protegida | O79: Esterilización Forzada en Persona Protegida | P79: Embarazo Forzado en Persona Protegida | Q79: Desnudez Forzada en Persona Protegida | R79: Aborto Forzado en Persona Protegida | S79: Otros | T79: Total
A80: Menor de Edad | C80: Femenino | T80: =SUM(H80:S80) -> 0
C81: Masculino | T81: =SUM(H81:S81) -> 0
A82: Mujer | T82: =SUM(H82:S82) -> 0
A83: Hombre | T83: =SUM(H83:S83) -> 0
A84: LGTBI | T84: =SUM(H84:S84) -> 0
A85: Total | E85: =SUM(E80:G84) -> 0 | H85: =SUM(H80:I84) -> 0 | J85: =SUM(J80:K84) -> 0 | L85: =SUM(L80:L84) -> 0 | M85: =SUM(M80:M84) -> 0 | N85: =SUM(N80:N84) -> 0 | O85: =SUM(O80:O84) -> 0 | P85: =SUM(P80:P84) -> 0 | Q85: =SUM(Q80:Q84) -> 0 | R85: =SUM(R80:R84) -> 0 | S85: =SUM(S80:S84) -> 0 | ... U85: =SUM(U80:U84) -> 0
A86: LEY 985/2005 (DECRETO 1069/2014) - CONDUCTAS TIPIFICADAS
A87: Tipo de Usuario | E87: N° de Poderes Asignados en el mes | H87: Explotación Sexual | J87: Trabajos o Servicios Forzados | L87: Esclavitud | N87: Servidumbre | O87: Explotación Mendicidad Ajena | P87: Matrimonio Servil | Q87: Extracción de Organos | R87: Turismo Sexual | S87: Otros | T87: Total
A88: Menor de Edad | C88: Femenino | T88: =SUM(H88:S88) -> 0
C89: Masculino | T89: =SUM(H89:S89) -> 0
A90: Mujer | T90: =SUM(H90:S90) -> 0
A91: Hombre | T91: =SUM(H91:S91) -> 0
A92: LGTBI | T92: =SUM(H92:S92) -> 0
A93: Total | E93: =SUM(E88:G92) -> 0 | H93: =SUM(H88:I92) -> 0 | J93: =SUM(J88:K92) -> 0 | L93: =SUM(L88:M92) -> 0 | N93: =SUM(N88:N92) -> 0 | O93: =SUM(O88:O92) -> 0 | P93: =SUM(P88:P92) -> 0 | Q93: =SUM(Q88:Q92) -> 0 | R93: =SUM(R88:R92) -> 0 | S93: =SUM(S88:S92) -> 0 | T93: =SUM(T88:U92) -> 0
A94: LEY 1773 DE 2016 - CONDUCTAS TIPIFICADAS
A95: Tipo de Usuario | E95: N° de Poderes Asignados en el mes | H95: Daño en el Cuerpo o en la Salud con Cualquier Tipo de Agente Químico | K95: Daño o Deformidad Permanente | N95: Pérdida Parcial o Total | P95: Pérdida Funcional o Anatómica | R95: Deformidad en el Rostro | T95: Total
A96: Menor de Edad | C96: Femenino | T96: =SUM(H96:S96) -> 0
C97: Masculino | T97: =SUM(H97:S97) -> 0
A98: Mujer | T98: =SUM(H98:S98) -> 0
A99: Hombre | T99: =SUM(H99:S99) -> 0
A100: LGTBI | T100: =SUM(H100:S100) -> 0
A101: Total | E101: =SUM(E96:G100) -> 0 | H101: =SUM(H96:J100) -> 0 | K101: =SUM(K96:M100) -> 0 | N101: =SUM(N96:O100) -> 0 | P101: =SUM(P96:Q100) -> 0 | R101: =SUM(R96:S100) -> 0 | T101: =SUM(T96:U100) -> 0
A103: REPRESENTANTE JUDICIAL DE VÍCTIMAS
A105: Nombre del responsable de la elaboración del presente formulario:
A106: Fecha de elaboración:
C107: (dd-mm-aaaa)

Sheet 5
C1: Nombre del proceso/Subproceso: Atención y Trámite/Defensoría Pública | Q1: Código: SD-P07-F188
C2: Formulario: Informe Mensual Consolidado de Estadística RJV - Leyes 1098 de 2006, 1257 de 2008, 1719 de 2014, 985 de 2005, Decreto 1069 de 2014, Ley 1773 de 2016 y Ley 1761 de 2015 | Q2: Versión: 01
Q3: Vigente desde:
A6: REGIONAL: | G6: NOMBRE REPRESENTANTE JUDICIAL: | P6: PROGRAMA:
A7: AÑO: | G7: LUGAR DE EJECUCION: | P7: AREA:
A8: MES: | G8: CATEGORIA: | P8: SUB AREA:
A10: REPARTO | H10: Ley 1098 de 2006 (Víctimas Niños, Niñas y Adolescentes) | J10: Ley 1257 de 2008 (Violencia Contra la Mujer) | L10: Ley 1719 de 2014 (Violencia Sexual en el Conflicto Armado) | N10: Ley 985/2005 -Decreto 1069/2014 (Trata de Personas) | P10: Ley 1761 de 2015 (Feminicidio) | R10: Ley 1773 de 2016 (Ataques con Acidos) | T10: TOTAL
A11: No. de Poderes Vigentes del Mes Anterior | T11: =SUM(H11:S11) -> 0
A12: No. de Poderes Recibidos Durante el Mes | T12: =SUM(H12:S12) -> 0
A13: No. de Poderes Reasignados Durante el Mes | T13: =SUM(H13:S13) -> 0
A14: No. de Poderes Sustituidos Durante el Mes | T14: =SUM(H14:S14) -> 0
A15: No. de Poderes Terminados Durante el Mes | T15: =SUM(H15:S15) -> 0
A16: No. de Poderes Vigentes | H16: =(H11+H12+H13)-(H14+H15) -> 0 | J16: =(J11+J12+J13)-(J14+J15) -> 0 | L16: =(L11+L12+L13)-(L14+L15) -> 0 | N16: =(N11+N12+N13)-(N14+N15) -> 0 | P16: =(P11+P12+P13)-(P14+P15) -> 0 | R16: =(R11+R12+R13)-(R14+R15) -> 0 | T16: =SUM(H16:S16) -> 0
A17: No. de Poderes Vigentes Inactivos | T17: =SUM(H17:S17) -> 0
A18: No. de Poderes Vigentes Activos | H18: =H16-H17 -> 0 | I18: =(K13+K14)-K15 -> 0 | J18: =J16-J17 -> 0 | K18: =(M13+M14)-M15 -> 0 | L18: =L16-L17 -> 0 | M18: =(O13+O14)-O15 -> 0 | N18: =N16-N17 -> 0 | O18: =(Q13+Q14)-Q15 -> 0 | P18: =P16-P17 -> 0 | Q18: =(S13+S14)-S15 -> 0 | R18: =R16-R17 -> 0 | S18: =(U13+U14)-U15 -> 0 | T18: =SUM(H18:S18) -> 0
A19: No. de Asistencias Técnicas | T19: =SUM(H19:S19) -> 0
A20: COMUNICACIONES
A21: No. de Víctimas Contactadas Telefónicamente Durante el Mes | T21: =SUM(H21:S21) -> 0
A22: No. de Comunicaciones Escritas Durante el Mes | T22: =SUM(H22:S22) -> 0
A23: No. de Entrevistas Personales Durante el Mes | T23: =SUM(H23:S23) -> 0
A25: CONTROL EN LA GESTION DEFENSORIAL
A26: PROCEDIMIENTO ABREVIADO | H26: PROCEDIMIENTO ORDINARIO
A27: Modalidad | F27: P | G27: V | H27: Modalidad | T27: P | U27: V
A28: No. de Audiencias Programadas en el Mes | H28: No. de Audiencias Programadas en el Mes
A29: No. de Audiencias Realizadas en el Mes | F29: =SUM(D56,F56) -> 0 | G29: =SUM(E56,G56) -> 0 | H29: No. de Audiencias Realizadas en el Mes | T29: =SUM(N56,P56,R56,T56) -> 0 | U29: =SUM(O56,Q56,S56,U56) -> 0
A30: Descripción por Tipo de Audiencia Realizada | H30: Descripción por Tipo de Audiencia Realizada
A31: Etapa Procesal | B31: Tipo de Audiencia | D31: Asistidas por el RJV | F31: No Asistidas por el RJV | H31: Etapa Procesal | J31: Tipo de Audiencia | N31: Municipal | R31: Circuito
D32: P | E32: V | F32: P | G32: V | N32: Asistidas por el RJV | P32: No Asistidas por el RJV | R32: Asistidas por el RJV | T32: No Asistidas por el RJV
N33: P | O33: V | P33: P | Q33: V | R33: P | S33: V | T33: P | U33: V
A34: Fase de indagación | B34: Legalización de Captura | H34: Fase de indagación
B35: Medidas de Aseguramiento | H35: Audiencias Preliminares | J35: Solicitud Desarchivo Indagación Preliminar
B36: Medidas de Protección | J36: Medidas de Protección
B37: Principio de Oportunidad | J37: Legalización de Captura
B38: Otras Audiencias Preliminares | J38: Imputación
A39: Citación para Traslado del Escrito de Acusación | J39: Solicitud Medidas Cautelares
A40: Audiencia Concentrada | B40: Formalización del Traslado del Escrito de Acusación | J40: Medidas de Aseguramiento
B41: Se Enuncia la Práctica de Pruebas y se Controvierten las mismas | J41: Principio de Oportunidad
A42: Audiencias de Juicio | B42: Traslado Escrito Acusación | J42: Otras Audiencias Preliminares
B43: Audiencia Concentrada | H43: Audiencias de Juicio | J43: Audiencia de Acusación
B44: Juicio Oral | J44: Audiencia Preparatoria
B45: Traslado del Fallo | J45: Juicio Oral
A46: Incidente Reparación Integral | B46: Solicitud a Juez de Conocimiento para Abrir Trámite de Incidente Reparación Integral | J46: Lectura de Fallo
B47: Primera Audiencia | J47: Sentencia
B48: Segunda Audiencia | H48: Incidente Reparación Integral | J48: Solicitud a Juez de Conocimiento para Abrir Trámite de Incidente Reparación Integral
B49: Tercera Audiencia - Pruebas y Alegaciones - | J49: Primera Audiencia
A50: Preacuerdos | B50: Audiencia Preacuerdo | J50: Segunda Audiencia
A51: Verificación allanamiento a cargos | B51: Verificación Allanamiento a Cargos | J51: Tercera Audiencia - Pruebas y Alegaciones -
A52: Preclusión | B52: Preclusión | H52: Preacuerdos | J52: Audiencia Preacuerdo
A53: Segunda Instancia | B53: Audiencia Lectura Decisión | H53: Verificación Allanamiento a Cargos | J53: Verificación Allanamiento a Cargos
H54: Preclusión | J54: Preclusión
H55: Segunda Instancia | J55: Audiencia Lectura Decisión
A56: Total Audiencias Realizadas en el Mes | D56: =SUM(D34:D53) -> 0 | E56: =SUM(E34:E53) -> 0 | F56: =SUM(F34:F53) -> 0 | G56: =SUM(G34:G53) -> 0 | H56: Total Audiencias Realizadas en el Mes | N56: =SUM(N34:N55) -> 0 | O56: =SUM(O34:O55) -> 0 | P56: =SUM(P34:P55) -> 0 | Q56: =SUM(Q34:Q55) -> 0 | R56: =SUM(R34:R55) -> 0 | S56: =SUM(S34:S55) -> 0 | T56: =SUM(T34:T55) -> 0 | U56: =SUM(U34:U55) -> 0
A58: Causa de Audiencias Realizadas, NO Asistidas por el Representante Judicial de Víctimas Procedimiento Abreviado | K58: No. de Audiencias Realizadas, NO Asistidas por el Representante Judicial de Víctimas Procedimiento Ordinario
A59: Causa / Tipo de Audiencia | C59: Otra Audiencia | D59: Cruce con Turno | E59: Estrategia Jurídica | F59: Misión de Trabajo | G59: Capacitación | H59: Barra | I59: Caso Fortuito Fuerza Mayor | J59: Otro | K59: Causa / Tipo de Audiencia | N59: Otra Audiencia | O59: Cruce con Turno | P59: Estrategia Jurídica | Q59: Misión de Trabajo | R59: Capacitación | S59: Barra | T59: Caso Fortuito Fuerza Mayor | U59: Otro
A60: P | K60: No. Mpal. | M60: P
M61: V
A62: V | K62: No. Circuito | M62: P
M63: V
A65: No. de Audiencias No Realizadas o Aplazadas en el Mes Procedimiento Abreviado | I65: P | J65: =SUM(B68:J69) -> 0 | K65: No. de Audiencias No Realizadas o Aplazadas en el Mes Procedimiento Ordinario | Q65: Total Mpal. | R65: P | S65: =SUM(M68:U68) -> 0 | T65: V | U65: =SUM(M69:U69) -> 0
I66: V | J66: =SUM(B70:J71) -> 0 | Q66: Total Circuito | R66: P | S66: =SUM(M70:U70) -> 0 | T66: V | U66: =SUM(M71:U71) -> 0
A67: Causa / Tipo de Audiencia | B67: Defensor Público | C67: Defensor de Confianza | D67: Juez | E67: Fiscal | F67: Indiciado | G67: Víctima | H67: ICBF | I67: INPEC | J67: RJV (Incidente) | K67: Causa / Tipo de Audiencia | M67: Defensor Público | N67: Defensor de Confianza | O67: Juez | P67: Fiscal | Q67: Indiciado | R67: Víctima | S67: ICBF | T67: INPEC | U67: RJV (Incidente)
A68: P | K68: No. Mpal. | L68: P
L69: V
A70: V | K70: No. Circuito | L70: P
L71: V
A73: 1098/2006 y 1257/2008 - HECHOS PUNIBLES LEYES
A74: PROGRAMA | F74: Homicidio | G74: Lesiones Personales | H74: Acceso Carnal con Menor de 14 Años | I74: Acto Sexual con Menor de 14 Años | J74: Acceso Carnal Violento | K74: Acto Sexual Violento | L74: Desaparición Forzada | M74: Secuestro Extorsivo | N74: Secuestro Simple | O74: Violencia Intrafamiliar | P74: Inasistencia Alimentaria | Q74: Hurto | R74: Concierto para Delinquir | S74: Otros | T74: Total
A75: Ley 1098 de 2006 | T75: =SUM(F75:S75) -> 0
A76: Ley 1257 de 2008 (Mujer) | T76: =SUM(F76:S76) -> 0
A77: Ley 1257 de 2008 (LGTBI) | T77: =SUM(F77:S77) -> 0
A78: LEY 1719/2014 - HECHOS PUNIBLES
A79: Tipo de Usuario | E79: N° de Poderes Asignados en el mes | H79: Acceso Carnal Abusivo en Persona Protegida Menor de 14 Años | J79: Actos Sexuales en Persona Protegida Menor de 14 Años | L79: Prostitución Forzada en Persona Protegida | M79: Esclavitud Sexual en Persona Protegida | N79: Trata de Personas en Persona Protegida | O79: Esterilización Forzada en Persona Protegida | P79: Embarazo Forzado en Persona Protegida | Q79: Desnudez Forzada en Persona Protegida | R79: Aborto Forzado en Persona Protegida | S79: Otros | T79: Total
A80: Menor de Edad | C80: Femenino | T80: =SUM(H80:S80) -> 0
C81: Masculino | T81: =SUM(H81:S81) -> 0
A82: Mujer | T82: =SUM(H82:S82) -> 0
A83: Hombre | T83: =SUM(H83:S83) -> 0
A84: LGTBI | T84: =SUM(H84:S84) -> 0
A85: Total | E85: =SUM(E80:G84) -> 0 | H85: =SUM(H80:I84) -> 0 | J85: =SUM(J80:K84) -> 0 | L85: =SUM(L80:L84) -> 0 | M85: =SUM(M80:M84) -> 0 | N85: =SUM(N80:N84) -> 0 | O85: =SUM(O80:O84) -> 0 | P85: =SUM(P80:P84) -> 0 | Q85: =SUM(Q80:Q84) -> 0 | R85: =SUM(R80:R84) -> 0 | S85: =SUM(S80:S84) -> 0 | ... U85: =SUM(U80:U84) -> 0
A86: LEY 985/2005 (DECRETO 1069/2014) - CONDUCTAS TIPIFICADAS
A87: Tipo de Usuario | E87: N° de Poderes Asignados en el mes | H87: Explotación Sexual | J87: Trabajos o Servicios Forzados | L87: Esclavitud | N87: Servidumbre | O87: Explotación Mendicidad Ajena | P87: Matrimonio Servil | Q87: Extracción de Organos | R87: Turismo Sexual | S87: Otros | T87: Total
A88: Menor de Edad | C88: Femenino | T88: =SUM(H88:S88) -> 0
C89: Masculino | T89: =SUM(H89:S89) -> 0
A90: Mujer | T90: =SUM(H90:S90) -> 0
A91: Hombre | T91: =SUM(H91:S91) -> 0
A92: LGTBI | T92: =SUM(H92:S92) -> 0
A93: Total | E93: =SUM(E88:G92) -> 0 | H93: =SUM(H88:I92) -> 0 | J93: =SUM(J88:K92) -> 0 | L93: =SUM(L88:M92) -> 0 | N93: =SUM(N88:N92) -> 0 | O93: =SUM(O88:O92) -> 0 | P93: =SUM(P88:P92) -> 0 | Q93: =SUM(Q88:Q92) -> 0 | R93: =SUM(R88:R92) -> 0 | S93: =SUM(S88:S92) -> 0 | T93: =SUM(T88:U92) -> 0
A94: LEY 1773 DE 2016 - CONDUCTAS TIPIFICADAS
A95: Tipo de Usuario | E95: N° de Poderes Asignados en el mes | H95: Daño en el Cuerpo o en la Salud con Cualquier Tipo de Agente Químico | K95: Daño o Deformidad Permanente | N95: Pérdida Parcial o Total | P95: Pérdida Funcional o Anatómica | R95: Deformidad en el Rostro | T95: Total
A96: Menor de Edad | C96: Femenino | T96: =SUM(H96:S96) -> 0
C97: Masculino | T97: =SUM(H97:S97) -> 0
A98: Mujer | T98: =SUM(H98:S98) -> 0
A99: Hombre | T99: =SUM(H99:S99) -> 0
A100: LGTBI | T100: =SUM(H100:S100) -> 0
A101: Total | E101: =SUM(E96:G100) -> 0 | H101: =SUM(H96:J100) -> 0 | K101: =SUM(K96:M100) -> 0 | N101: =SUM(N96:O100) -> 0 | P101: =SUM(P96:Q100) -> 0 | R101: =SUM(R96:S100) -> 0 | T101: =SUM(T96:U100) -> 0
A103: REPRESENTANTE JUDICIAL DE VÍCTIMAS
A105: Nombre del responsable de la elaboración del presente formulario:
A106: Fecha de elaboración:
C107: (dd-mm-aaaa)

Sheet 6
C1: Nombre del proceso/Subproceso: Atención y Trámite/Defensoría Pública | Q1: Código: SD-P07-F188
C2: Formulario: Informe Mensual Consolidado de Estadística RJV - Leyes 1098 de 2006, 1257 de 2008, 1719 de 2014, 985 de 2005, Decreto 1069 de 2014, Ley 1773 de 2016 y Ley 1761 de 2015 | Q2: Versión: 01
Q3: Vigente desde:
A6: REGIONAL: | G6: NOMBRE REPRESENTANTE JUDICIAL: | P6: PROGRAMA:
A7: AÑO: | G7: LUGAR DE EJECUCION: | P7: AREA:
A8: MES: | G8: CATEGORIA: | P8: SUB AREA:
A10: REPARTO | H10: Ley 1098 de 2006 (Víctimas Niños, Niñas y Adolescentes) | J10: Ley 1257 de 2008 (Violencia Contra la Mujer) | L10: Ley 1719 de 2014 (Violencia Sexual en el Conflicto Armado) | N10: Ley 985/2005 -Decreto 1069/2014 (Trata de Personas) | P10: Ley 1761 de 2015 (Feminicidio) | R10: Ley 1773 de 2016 (Ataques con Acidos) | T10: TOTAL
A11: No. de Poderes Vigentes del Mes Anterior | T11: =SUM(H11:S11) -> 0
A12: No. de Poderes Recibidos Durante el Mes | T12: =SUM(H12:S12) -> 0
A13: No. de Poderes Reasignados Durante el Mes | T13: =SUM(H13:S13) -> 0
A14: No. de Poderes Sustituidos Durante el Mes | T14: =SUM(H14:S14) -> 0
A15: No. de Poderes Terminados Durante el Mes | T15: =SUM(H15:S15) -> 0
A16: No. de Poderes Vigentes | H16: =(H11+H12+H13)-(H14+H15) -> 0 | J16: =(J11+J12+J13)-(J14+J15) -> 0 | L16: =(L11+L12+L13)-(L14+L15) -> 0 | N16: =(N11+N12+N13)-(N14+N15) -> 0 | P16: =(P11+P12+P13)-(P14+P15) -> 0 | R16: =(R11+R12+R13)-(R14+R15) -> 0 | T16: =SUM(H16:S16) -> 0
A17: No. de Poderes Vigentes Inactivos | T17: =SUM(H17:S17) -> 0
A18: No. de Poderes Vigentes Activos | H18: =H16-H17 -> 0 | I18: =(K13+K14)-K15 -> 0 | J18: =J16-J17 -> 0 | K18: =(M13+M14)-M15 -> 0 | L18: =L16-L17 -> 0 | M18: =(O13+O14)-O15 -> 0 | N18: =N16-N17 -> 0 | O18: =(Q13+Q14)-Q15 -> 0 | P18: =P16-P17 -> 0 | Q18: =(S13+S14)-S15 -> 0 | R18: =R16-R17 -> 0 | S18: =(U13+U14)-U15 -> 0 | T18: =SUM(H18:S18) -> 0
A19: No. de Asistencias Técnicas | T19: =SUM(H19:S19) -> 0
A20: COMUNICACIONES
A21: No. de Víctimas Contactadas Telefónicamente Durante el Mes | T21: =SUM(H21:S21) -> 0
A22: No. de Comunicaciones Escritas Durante el Mes | T22: =SUM(H22:S22) -> 0
A23: No. de Entrevistas Personales Durante el Mes | T23: =SUM(H23:S23) -> 0
A25: CONTROL EN LA GESTION DEFENSORIAL
A26: PROCEDIMIENTO ABREVIADO | H26: PROCEDIMIENTO ORDINARIO
A27: Modalidad | F27: P | G27: V | H27: Modalidad | T27: P | U27: V
A28: No. de Audiencias Programadas en el Mes | H28: No. de Audiencias Programadas en el Mes
A29: No. de Audiencias Realizadas en el Mes | F29: =SUM(D56,F56) -> 0 | G29: =SUM(E56,G56) -> 0 | H29: No. de Audiencias Realizadas en el Mes | T29: =SUM(N56,P56,R56,T56) -> 0 | U29: =SUM(O56,Q56,S56,U56) -> 0
A30: Descripción por Tipo de Audiencia Realizada | H30: Descripción por Tipo de Audiencia Realizada
A31: Etapa Procesal | B31: Tipo de Audiencia | D31: Asistidas por el RJV | F31: No Asistidas por el RJV | H31: Etapa Procesal | J31: Tipo de Audiencia | N31: Municipal | R31: Circuito
D32: P | E32: V | F32: P | G32: V | N32: Asistidas por el RJV | P32: No Asistidas por el RJV | R32: Asistidas por el RJV | T32: No Asistidas por el RJV
N33: P | O33: V | P33: P | Q33: V | R33: P | S33: V | T33: P | U33: V
A34: Fase de indagación | B34: Legalización de Captura | H34: Fase de indagación
B35: Medidas de Aseguramiento | H35: Audiencias Preliminares | J35: Solicitud Desarchivo Indagación Preliminar
B36: Medidas de Protección | J36: Medidas de Protección
B37: Principio de Oportunidad | J37: Legalización de Captura
B38: Otras Audiencias Preliminares | J38: Imputación
A39: Citación para Traslado del Escrito de Acusación | J39: Solicitud Medidas Cautelares
A40: Audiencia Concentrada | B40: Formalización del Traslado del Escrito de Acusación | J40: Medidas de Aseguramiento
B41: Se Enuncia la Práctica de Pruebas y se Controvierten las mismas | J41: Principio de Oportunidad
A42: Audiencias de Juicio | B42: Traslado Escrito Acusación | J42: Otras Audiencias Preliminares
B43: Audiencia Concentrada | H43: Audiencias de Juicio | J43: Audiencia de Acusación
B44: Juicio Oral | J44: Audiencia Preparatoria
B45: Traslado del Fallo | J45: Juicio Oral
A46: Incidente Reparación Integral | B46: Solicitud a Juez de Conocimiento para Abrir Trámite de Incidente Reparación Integral | J46: Lectura de Fallo
B47: Primera Audiencia | J47: Sentencia
B48: Segunda Audiencia | H48: Incidente Reparación Integral | J48: Solicitud a Juez de Conocimiento para Abrir Trámite de Incidente Reparación Integral
B49: Tercera Audiencia - Pruebas y Alegaciones - | J49: Primera Audiencia
A50: Preacuerdos | B50: Audiencia Preacuerdo | J50: Segunda Audiencia
A51: Verificación allanamiento a cargos | B51: Verificación Allanamiento a Cargos | J51: Tercera Audiencia - Pruebas y Alegaciones -
A52: Preclusión | B52: Preclusión | H52: Preacuerdos | J52: Audiencia Preacuerdo
A53: Segunda Instancia | B53: Audiencia Lectura Decisión | H53: Verificación Allanamiento a Cargos | J53: Verificación Allanamiento a Cargos
H54: Preclusión | J54: Preclusión
H55: Segunda Instancia | J55: Audiencia Lectura Decisión
A56: Total Audiencias Realizadas en el Mes | D56: =SUM(D34:D53) -> 0 | E56: =SUM(E34:E53) -> 0 | F56: =SUM(F34:F53) -> 0 | G56: =SUM(G34:G53) -> 0 | H56: Total Audiencias Realizadas en el Mes | N56: =SUM(N34:N55) -> 0 | O56: =SUM(O34:O55) -> 0 | P56: =SUM(P34:P55) -> 0 | Q56: =SUM(Q34:Q55) -> 0 | R56: =SUM(R34:R55) -> 0 | S56: =SUM(S34:S55) -> 0 | T56: =SUM(T34:T55) -> 0 | U56: =SUM(U34:U55) -> 0
A58: Causa de Audiencias Realizadas, NO Asistidas por el Representante Judicial de Víctimas Procedimiento Abreviado | K58: No. de Audiencias Realizadas, NO Asistidas por el Representante Judicial de Víctimas Procedimiento Ordinario
A59: Causa / Tipo de Audiencia | C59: Otra Audiencia | D59: Cruce con Turno | E59: Estrategia Jurídica | F59: Misión de Trabajo | G59: Capacitación | H59: Barra | I59: Caso Fortuito Fuerza Mayor | J59: Otro | K59: Causa / Tipo de Audiencia | N59: Otra Audiencia | O59: Cruce con Turno | P59: Estrategia Jurídica | Q59: Misión de Trabajo | R59: Capacitación | S59: Barra | T59: Caso Fortuito Fuerza Mayor | U59: Otro
A60: P | K60: No. Mpal. | M60: P
M61: V
A62: V | K62: No. Circuito | M62: P
M63: V
A65: No. de Audiencias No Realizadas o Aplazadas en el Mes Procedimiento Abreviado | I65: P | J65: =SUM(B68:J69) -> 0 | K65: No. de Audiencias No Realizadas o Aplazadas en el Mes Procedimiento Ordinario | Q65: Total Mpal. | R65: P | S65: =SUM(M68:U68) -> 0 | T65: V | U65: =SUM(M69:U69) -> 0
I66: V | J66: =SUM(B70:J71) -> 0 | Q66: Total Circuito | R66: P | S66: =SUM(M70:U70) -> 0 | T66: V | U66: =SUM(M71:U71) -> 0
A67: Causa / Tipo de Audiencia | B67: Defensor Público | C67: Defensor de Confianza | D67: Juez | E67: Fiscal | F67: Indiciado | G67: Víctima | H67: ICBF | I67: INPEC | J67: RJV (Incidente) | K67: Causa / Tipo de Audiencia | M67: Defensor Público | N67: Defensor de Confianza | O67: Juez | P67: Fiscal | Q67: Indiciado | R67: Víctima | S67: ICBF | T67: INPEC | U67: RJV (Incidente)
A68: P | K68: No. Mpal. | L68: P
L69: V
A70: V | K70: No. Circuito | L70: P
L71: V
A73: 1098/2006 y 1257/2008 - HECHOS PUNIBLES LEYES
A74: PROGRAMA | F74: Homicidio | G74: Lesiones Personales | H74: Acceso Carnal con Menor de 14 Años | I74: Acto Sexual con Menor de 14 Años | J74: Acceso Carnal Violento | K74: Acto Sexual Violento | L74: Desaparición Forzada | M74: Secuestro Extorsivo | N74: Secuestro Simple | O74: Violencia Intrafamiliar | P74: Inasistencia Alimentaria | Q74: Hurto | R74: Concierto para Delinquir | S74: Otros | T74: Total
A75: Ley 1098 de 2006 | T75: =SUM(F75:S75) -> 0
A76: Ley 1257 de 2008 (Mujer) | T76: =SUM(F76:S76) -> 0
A77: Ley 1257 de 2008 (LGTBI) | T77: =SUM(F77:S77) -> 0
A78: LEY 1719/2014 - HECHOS PUNIBLES
A79: Tipo de Usuario | E79: N° de Poderes Asignados en el mes | H79: Acceso Carnal Abusivo en Persona Protegida Menor de 14 Años | J79: Actos Sexuales en Persona Protegida Menor de 14 Años | L79: Prostitución Forzada en Persona Protegida | M79: Esclavitud Sexual en Persona Protegida | N79: Trata de Personas en Persona Protegida | O79: Esterilización Forzada en Persona Protegida | P79: Embarazo Forzado en Persona Protegida | Q79: Desnudez Forzada en Persona Protegida | R79: Aborto Forzado en Persona Protegida | S79: Otros | T79: Total
A80: Menor de Edad | C80: Femenino | T80: =SUM(H80:S80) -> 0
C81: Masculino | T81: =SUM(H81:S81) -> 0
A82: Mujer | T82: =SUM(H82:S82) -> 0
A83: Hombre | T83: =SUM(H83:S83) -> 0
A84: LGTBI | T84: =SUM(H84:S84) -> 0
A85: Total | E85: =SUM(E80:G84) -> 0 | H85: =SUM(H80:I84) -> 0 | J85: =SUM(J80:K84) -> 0 | L85: =SUM(L80:L84) -> 0 | M85: =SUM(M80:M84) -> 0 | N85: =SUM(N80:N84) -> 0 | O85: =SUM(O80:O84) -> 0 | P85: =SUM(P80:P84) -> 0 | Q85: =SUM(Q80:Q84) -> 0 | R85: =SUM(R80:R84) -> 0 | S85: =SUM(S80:S84) -> 0 | ... U85: =SUM(U80:U84) -> 0
A86: LEY 985/2005 (DECRETO 1069/2014) - CONDUCTAS TIPIFICADAS
A87: Tipo de Usuario | E87: N° de Poderes Asignados en el mes | H87: Explotación Sexual | J87: Trabajos o Servicios Forzados | L87: Esclavitud | N87: Servidumbre | O87: Explotación Mendicidad Ajena | P87: Matrimonio Servil | Q87: Extracción de Organos | R87: Turismo Sexual | S87: Otros | T87: Total
A88: Menor de Edad | C88: Femenino | T88: =SUM(H88:S88) -> 0
C89: Masculino | T89: =SUM(H89:S89) -> 0
A90: Mujer | T90: =SUM(H90:S90) -> 0
A91: Hombre | T91: =SUM(H91:S91) -> 0
A92: LGTBI | T92: =SUM(H92:S92) -> 0
A93: Total | E93: =SUM(E88:G92) -> 0 | H93: =SUM(H88:I92) -> 0 | J93: =SUM(J88:K92) -> 0 | L93: =SUM(L88:M92) -> 0 | N93: =SUM(N88:N92) -> 0 | O93: =SUM(O88:O92) -> 0 | P93: =SUM(P88:P92) -> 0 | Q93: =SUM(Q88:Q92) -> 0 | R93: =SUM(R88:R92) -> 0 | S93: =SUM(S88:S92) -> 0 | T93: =SUM(T88:U92) -> 0
A94: LEY 1773 DE 2016 - CONDUCTAS TIPIFICADAS
A95: Tipo de Usuario | E95: N° de Poderes Asignados en el mes | H95: Daño en el Cuerpo o en la Salud con Cualquier Tipo de Agente Químico | K95: Daño o Deformidad Permanente | N95: Pérdida Parcial o Total | P95: Pérdida Funcional o Anatómica | R95: Deformidad en el Rostro | T95: Total
A96: Menor de Edad | C96: Femenino | T96: =SUM(H96:S96) -> 0
C97: Masculino | T97: =SUM(H97:S97) -> 0
A98: Mujer | T98: =SUM(H98:S98) -> 0
A99: Hombre | T99: =SUM(H99:S99) -> 0
A100: LGTBI | T100: =SUM(H100:S100) -> 0
A101: Total | E101: =SUM(E96:G100) -> 0 | H101: =SUM(H96:J100) -> 0 | K101: =SUM(K96:M100) -> 0 | N101: =SUM(N96:O100) -> 0 | P101: =SUM(P96:Q100) -> 0 | R101: =SUM(R96:S100) -> 0 | T101: =SUM(T96:U100) -> 0
A103: REPRESENTANTE JUDICIAL DE VÍCTIMAS
A105: Nombre del responsable de la elaboración del presente formulario:
A106: Fecha de elaboración:
C107: (dd-mm-aaaa)

Sheet 7
C1: Nombre del proceso/Subproceso: Atención y Trámite/Defensoría Pública | Q1: Código: SD-P07-F188
C2: Formulario: Informe Mensual Consolidado de Estadística RJV - Leyes 1098 de 2006, 1257 de 2008, 1719 de 2014, 985 de 2005, Decreto 1069 de 2014, Ley 1773 de 2016 y Ley 1761 de 2015 | Q2: Versión: 01
Q3: Vigente desde:
A6: REGIONAL: | G6: NOMBRE REPRESENTANTE JUDICIAL: | P6: PROGRAMA:
A7: AÑO: | G7: LUGAR DE EJECUCION: | P7: AREA:
A8: MES: | G8: CATEGORIA: | P8: SUB AREA:
A10: REPARTO | H10: Ley 1098 de 2006 (Víctimas Niños, Niñas y Adolescentes) | J10: Ley 1257 de 2008 (Violencia Contra la Mujer) | L10: Ley 1719 de 2014 (Violencia Sexual en el Conflicto Armado) | N10: Ley 985/2005 -Decreto 1069/2014 (Trata de Personas) | P10: Ley 1761 de 2015 (Feminicidio) | R10: Ley 1773 de 2016 (Ataques con Acidos) | T10: TOTAL
A11: No. de Poderes Vigentes del Mes Anterior | T11: =SUM(H11:S11) -> 0
A12: No. de Poderes Recibidos Durante el Mes | T12: =SUM(H12:S12) -> 0
A13: No. de Poderes Reasignados Durante el Mes | T13: =SUM(H13:S13) -> 0
A14: No. de Poderes Sustituidos Durante el Mes | T14: =SUM(H14:S14) -> 0
A15: No. de Poderes Terminados Durante el Mes | T15: =SUM(H15:S15) -> 0
A16: No. de Poderes Vigentes | H16: =(H11+H12+H13)-(H14+H15) -> 0 | J16: =(J11+J12+J13)-(J14+J15) -> 0 | L16: =(L11+L12+L13)-(L14+L15) -> 0 | N16: =(N11+N12+N13)-(N14+N15) -> 0 | P16: =(P11+P12+P13)-(P14+P15) -> 0 | R16: =(R11+R12+R13)-(R14+R15) -> 0 | T16: =SUM(H16:S16) -> 0
A17: No. de Poderes Vigentes Inactivos | T17: =SUM(H17:S17) -> 0
A18: No. de Poderes Vigentes Activos | H18: =H16-H17 -> 0 | I18: =(K13+K14)-K15 -> 0 | J18: =J16-J17 -> 0 | K18: =(M13+M14)-M15 -> 0 | L18: =L16-L17 -> 0 | M18: =(O13+O14)-O15 -> 0 | N18: =N16-N17 -> 0 | O18: =(Q13+Q14)-Q15 -> 0 | P18: =P16-P17 -> 0 | Q18: =(S13+S14)-S15 -> 0 | R18: =R16-R17 -> 0 | S18: =(U13+U14)-U15 -> 0 | T18: =SUM(H18:S18) -> 0
A19: No. de Asistencias Técnicas | T19: =SUM(H19:S19) -> 0
A20: COMUNICACIONES
A21: No. de Víctimas Contactadas Telefónicamente Durante el Mes | T21: =SUM(H21:S21) -> 0
A22: No. de Comunicaciones Escritas Durante el Mes | T22: =SUM(H22:S22) -> 0
A23: No. de Entrevistas Personales Durante el Mes | T23: =SUM(H23:S23) -> 0
A25: CONTROL EN LA GESTION DEFENSORIAL
A26: PROCEDIMIENTO ABREVIADO | H26: PROCEDIMIENTO ORDINARIO
A27: Modalidad | F27: P | G27: V | H27: Modalidad | T27: P | U27: V
A28: No. de Audiencias Programadas en el Mes | H28: No. de Audiencias Programadas en el Mes
A29: No. de Audiencias Realizadas en el Mes | F29: =SUM(D56,F56) -> 0 | G29: =SUM(E56,G56) -> 0 | H29: No. de Audiencias Realizadas en el Mes | T29: =SUM(N56,P56,R56,T56) -> 0 | U29: =SUM(O56,Q56,S56,U56) -> 0
A30: Descripción por Tipo de Audiencia Realizada | H30: Descripción por Tipo de Audiencia Realizada
A31: Etapa Procesal | B31: Tipo de Audiencia | D31: Asistidas por el RJV | F31: No Asistidas por el RJV | H31: Etapa Procesal | J31: Tipo de Audiencia | N31: Municipal | R31: Circuito
D32: P | E32: V | F32: P | G32: V | N32: Asistidas por el RJV | P32: No Asistidas por el RJV | R32: Asistidas por el RJV | T32: No Asistidas por el RJV
N33: P | O33: V | P33: P | Q33: V | R33: P | S33: V | T33: P | U33: V
A34: Fase de indagación | B34: Legalización de Captura | H34: Fase de indagación
B35: Medidas de Aseguramiento | H35: Audiencias Preliminares | J35: Solicitud Desarchivo Indagación Preliminar
B36: Medidas de Protección | J36: Medidas de Protección
B37: Principio de Oportunidad | J37: Legalización de Captura
B38: Otras Audiencias Preliminares | J38: Imputación
A39: Citación para Traslado del Escrito de Acusación | J39: Solicitud Medidas Cautelares
A40: Audiencia Concentrada | B40: Formalización del Traslado del Escrito de Acusación | J40: Medidas de Aseguramiento
B41: Se Enuncia la Práctica de Pruebas y se Controvierten las mismas | J41: Principio de Oportunidad
A42: Audiencias de Juicio | B42: Traslado Escrito Acusación | J42: Otras Audiencias Preliminares
B43: Audiencia Concentrada | H43: Audiencias de Juicio | J43: Audiencia de Acusación
B44: Juicio Oral | J44: Audiencia Preparatoria
B45: Traslado del Fallo | J45: Juicio Oral
A46: Incidente Reparación Integral | B46: Solicitud a Juez de Conocimiento para Abrir Trámite de Incidente Reparación Integral | J46: Lectura de Fallo
B47: Primera Audiencia | J47: Sentencia
B48: Segunda Audiencia | H48: Incidente Reparación Integral | J48: Solicitud a Juez de Conocimiento para Abrir Trámite de Incidente Reparación Integral
B49: Tercera Audiencia - Pruebas y Alegaciones - | J49: Primera Audiencia
A50: Preacuerdos | B50: Audiencia Preacuerdo | J50: Segunda Audiencia
A51: Verificación allanamiento a cargos | B51: Verificación Allanamiento a Cargos | J51: Tercera Audiencia - Pruebas y Alegaciones -
A52: Preclusión | B52: Preclusión | H52: Preacuerdos | J52: Audiencia Preacuerdo
A53: Segunda Instancia | B53: Audiencia Lectura Decisión | H53: Verificación Allanamiento a Cargos | J53: Verificación Allanamiento a Cargos
H54: Preclusión | J54: Preclusión
H55: Segunda Instancia | J55: Audiencia Lectura Decisión
A56: Total Audiencias Realizadas en el Mes | D56: =SUM(D34:D53) -> 0 | E56: =SUM(E34:E53) -> 0 | F56: =SUM(F34:F53) -> 0 | G56: =SUM(G34:G53) -> 0 | H56: Total Audiencias Realizadas en el Mes | N56: =SUM(N34:N55) -> 0 | O56: =SUM(O34:O55) -> 0 | P56: =SUM(P34:P55) -> 0 | Q56: =SUM(Q34:Q55) -> 0 | R56: =SUM(R34:R55) -> 0 | S56: =SUM(S34:S55) -> 0 | T56: =SUM(T34:T55) -> 0 | U56: =SUM(U34:U55) -> 0
A58: Causa de Audiencias Realizadas, NO Asistidas por el Representante Judicial de Víctimas Procedimiento Abreviado | K58: No. de Audiencias Realizadas, NO Asistidas por el Representante Judicial de Víctimas Procedimiento Ordinario
A59: Causa / Tipo de Audiencia | C59: Otra Audiencia | D59: Cruce con Turno | E59: Estrategia Jurídica | F59: Misión de Trabajo | G59: Capacitación | H59: Barra | I59: Caso Fortuito Fuerza Mayor | J59: Otro | K59: Causa / Tipo de Audiencia | N59: Otra Audiencia | O59: Cruce con Turno | P59: Estrategia Jurídica | Q59: Misión de Trabajo | R59: Capacitación | S59: Barra | T59: Caso Fortuito Fuerza Mayor | U59: Otro
A60: P | K60: No. Mpal. | M60: P
M61: V
A62: V | K62: No. Circuito | M62: P
M63: V
A65: No. de Audiencias No Realizadas o Aplazadas en el Mes Procedimiento Abreviado | I65: P | J65: =SUM(B68:J69) -> 0 | K65: No. de Audiencias No Realizadas o Aplazadas en el Mes Procedimiento Ordinario | Q65: Total Mpal. | R65: P | S65: =SUM(M68:U68) -> 0 | T65: V | U65: =SUM(M69:U69) -> 0
I66: V | J66: =SUM(B70:J71) -> 0 | Q66: Total Circuito | R66: P | S66: =SUM(M70:U70) -> 0 | T66: V | U66: =SUM(M71:U71) -> 0
A67: Causa / Tipo de Audiencia | B67: Defensor Público | C67: Defensor de Confianza | D67: Juez | E67: Fiscal | F67: Indiciado | G67: Víctima | H67: ICBF | I67: INPEC | J67: RJV (Incidente) | K67: Causa / Tipo de Audiencia | M67: Defensor Público | N67: Defensor de Confianza | O67: Juez | P67: Fiscal | Q67: Indiciado | R67: Víctima | S67: ICBF | T67: INPEC | U67: RJV (Incidente)
A68: P | K68: No. Mpal. | L68: P
L69: V
A70: V | K70: No. Circuito | L70: P
L71: V
A73: 1098/2006 y 1257/2008 - HECHOS PUNIBLES LEYES
A74: PROGRAMA | F74: Homicidio | G74: Lesiones Personales | H74: Acceso Carnal con Menor de 14 Años | I74: Acto Sexual con Menor de 14 Años | J74: Acceso Carnal Violento | K74: Acto Sexual Violento | L74: Desaparición Forzada | M74: Secuestro Extorsivo | N74: Secuestro Simple | O74: Violencia Intrafamiliar | P74: Inasistencia Alimentaria | Q74: Hurto | R74: Concierto para Delinquir | S74: Otros | T74: Total
A75: Ley 1098 de 2006 | T75: =SUM(F75:S75) -> 0
A76: Ley 1257 de 2008 (Mujer) | T76: =SUM(F76:S76) -> 0
A77: Ley 1257 de 2008 (LGTBI) | T77: =SUM(F77:S77) -> 0
A78: LEY 1719/2014 - HECHOS PUNIBLES
A79: Tipo de Usuario | E79: N° de Poderes Asignados en el mes | H79: Acceso Carnal Abusivo en Persona Protegida Menor de 14 Años | J79: Actos Sexuales en Persona Protegida Menor de 14 Años | L79: Prostitución Forzada en Persona Protegida | M79: Esclavitud Sexual en Persona Protegida | N79: Trata de Personas en Persona Protegida | O79: Esterilización Forzada en Persona Protegida | P79: Embarazo Forzado en Persona Protegida | Q79: Desnudez Forzada en Persona Protegida | R79: Aborto Forzado en Persona Protegida | S79: Otros | T79: Total
A80: Menor de Edad | C80: Femenino | T80: =SUM(H80:S80) -> 0
C81: Masculino | T81: =SUM(H81:S81) -> 0
A82: Mujer | T82: =SUM(H82:S82) -> 0
A83: Hombre | T83: =SUM(H83:S83) -> 0
A84: LGTBI | T84: =SUM(H84:S84) -> 0
A85: Total | E85: =SUM(E80:G84) -> 0 | H85: =SUM(H80:I84) -> 0 | J85: =SUM(J80:K84) -> 0 | L85: =SUM(L80:L84) -> 0 | M85: =SUM(M80:M84) -> 0 | N85: =SUM(N80:N84) -> 0 | O85: =SUM(O80:O84) -> 0 | P85: =SUM(P80:P84) -> 0 | Q85: =SUM(Q80:Q84) -> 0 | R85: =SUM(R80:R84) -> 0 | S85: =SUM(S80:S84) -> 0 | ... U85: =SUM(U80:U84) -> 0
A86: LEY 985/2005 (DECRETO 1069/2014) - CONDUCTAS TIPIFICADAS
A87: Tipo de Usuario | E87: N° de Poderes Asignados en el mes | H87: Explotación Sexual | J87: Trabajos o Servicios Forzados | L87: Esclavitud | N87: Servidumbre | O87: Explotación Mendicidad Ajena | P87: Matrimonio Servil | Q87: Extracción de Organos | R87: Turismo Sexual | S87: Otros | T87: Total
A88: Menor de Edad | C88: Femenino | T88: =SUM(H88:S88) -> 0
C89: Masculino | T89: =SUM(H89:S89) -> 0
A90: Mujer | T90: =SUM(H90:S90) -> 0
A91: Hombre | T91: =SUM(H91:S91) -> 0
A92: LGTBI | T92: =SUM(H92:S92) -> 0
A93: Total | E93: =SUM(E88:G92) -> 0 | H93: =SUM(H88:I92) -> 0 | J93: =SUM(J88:K92) -> 0 | L93: =SUM(L88:M92) -> 0 | N93: =SUM(N88:N92) -> 0 | O93: =SUM(O88:O92) -> 0 | P93: =SUM(P88:P92) -> 0 | Q93: =SUM(Q88:Q92) -> 0 | R93: =SUM(R88:R92) -> 0 | S93: =SUM(S88:S92) -> 0 | T93: =SUM(T88:U92) -> 0
A94: LEY 1773 DE 2016 - CONDUCTAS TIPIFICADAS
A95: Tipo de Usuario | E95: N° de Poderes Asignados en el mes | H95: Daño en el Cuerpo o en la Salud con Cualquier Tipo de Agente Químico | K95: Daño o Deformidad Permanente | N95: Pérdida Parcial o Total | P95: Pérdida Funcional o Anatómica | R95: Deformidad en el Rostro | T95: Total
A96: Menor de Edad | C96: Femenino | T96: =SUM(H96:S96) -> 0
C97: Masculino | T97: =SUM(H97:S97) -> 0
A98: Mujer | T98: =SUM(H98:S98) -> 0
A99: Hombre | T99: =SUM(H99:S99) -> 0
A100: LGTBI | T100: =SUM(H100:S100) -> 0
A101: Total | E101: =SUM(E96:G100) -> 0 | H101: =SUM(H96:J100) -> 0 | K101: =SUM(K96:M100) -> 0 | N101: =SUM(N96:O100) -> 0 | P101: =SUM(P96:Q100) -> 0 | R101: =SUM(R96:S100) -> 0 | T101: =SUM(T96:U100) -> 0
A103: REPRESENTANTE JUDICIAL DE VÍCTIMAS
A105: Nombre del responsable de la elaboración del presente formulario:
A106: Fecha de elaboración:
C107: (dd-mm-aaaa)

Sheet 8
C1: Nombre del proceso/Subproceso: Atención y Trámite/Defensoría Pública | Q1: Código: SD-P07-F188
C2: Formulario: Informe Mensual Consolidado de Estadística RJV - Leyes 1098 de 2006, 1257 de 2008, 1719 de 2014, 985 de 2005, Decreto 1069 de 2014, Ley 1773 de 2016 y Ley 1761 de 2015 | Q2: Versión: 01
Q3: Vigente desde:
A6: REGIONAL: | G6: NOMBRE REPRESENTANTE JUDICIAL: | P6: PROGRAMA:
A7: AÑO: | G7: LUGAR DE EJECUCION: | P7: AREA:
A8: MES: | G8: CATEGORIA: | P8: SUB AREA:
A10: REPARTO | H10: Ley 1098 de 2006 (Víctimas Niños, Niñas y Adolescentes) | J10: Ley 1257 de 2008 (Violencia Contra la Mujer) | L10: Ley 1719 de 2014 (Violencia Sexual en el Conflicto Armado) | N10: Ley 985/2005 -Decreto 1069/2014 (Trata de Personas) | P10: Ley 1761 de 2015 (Feminicidio) | R10: Ley 1773 de 2016 (Ataques con Acidos) | T10: TOTAL
A11: No. de Poderes Vigentes del Mes Anterior | T11: =SUM(H11:S11) -> 0
A12: No. de Poderes Recibidos Durante el Mes | T12: =SUM(H12:S12) -> 0
A13: No. de Poderes Reasignados Durante el Mes | T13: =SUM(H13:S13) -> 0
A14: No. de Poderes Sustituidos Durante el Mes | T14: =SUM(H14:S14) -> 0
A15: No. de Poderes Terminados Durante el Mes | T15: =SUM(H15:S15) -> 0
A16: No. de Poderes Vigentes | H16: =(H11+H12+H13)-(H14+H15) -> 0 | J16: =(J11+J12+J13)-(J14+J15) -> 0 | L16: =(L11+L12+L13)-(L14+L15) -> 0 | N16: =(N11+N12+N13)-(N14+N15) -> 0 | P16: =(P11+P12+P13)-(P14+P15) -> 0 | R16: =(R11+R12+R13)-(R14+R15) -> 0 | T16: =SUM(H16:S16) -> 0
A17: No. de Poderes Vigentes Inactivos | T17: =SUM(H17:S17) -> 0
A18: No. de Poderes Vigentes Activos | H18: =H16-H17 -> 0 | I18: =(K13+K14)-K15 -> 0 | J18: =J16-J17 -> 0 | K18: =(M13+M14)-M15 -> 0 | L18: =L16-L17 -> 0 | M18: =(O13+O14)-O15 -> 0 | N18: =N16-N17 -> 0 | O18: =(Q13+Q14)-Q15 -> 0 | P18: =P16-P17 -> 0 | Q18: =(S13+S14)-S15 -> 0 | R18: =R16-R17 -> 0 | S18: =(U13+U14)-U15 -> 0 | T18: =SUM(H18:S18) -> 0
A19: No. de Asistencias Técnicas | T19: =SUM(H19:S19) -> 0
A20: COMUNICACIONES
A21: No. de Víctimas Contactadas Telefónicamente Durante el Mes | T21: =SUM(H21:S21) -> 0
A22: No. de Comunicaciones Escritas Durante el Mes | T22: =SUM(H22:S22) -> 0
A23: No. de Entrevistas Personales Durante el Mes | T23: =SUM(H23:S23) -> 0
A25: CONTROL EN LA GESTION DEFENSORIAL
A26: PROCEDIMIENTO ABREVIADO | H26: PROCEDIMIENTO ORDINARIO
A27: Modalidad | F27: P | G27: V | H27: Modalidad | T27: P | U27: V
A28: No. de Audiencias Programadas en el Mes | H28: No. de Audiencias Programadas en el Mes
A29: No. de Audiencias Realizadas en el Mes | F29: =SUM(D56,F56) -> 0 | G29: =SUM(E56,G56) -> 0 | H29: No. de Audiencias Realizadas en el Mes | T29: =SUM(N56,P56,R56,T56) -> 0 | U29: =SUM(O56,Q56,S56,U56) -> 0
A30: Descripción por Tipo de Audiencia Realizada | H30: Descripción por Tipo de Audiencia Realizada
A31: Etapa Procesal | B31: Tipo de Audiencia | D31: Asistidas por el RJV | F31: No Asistidas por el RJV | H31: Etapa Procesal | J31: Tipo de Audiencia | N31: Municipal | R31: Circuito
D32: P | E32: V | F32: P | G32: V | N32: Asistidas por el RJV | P32: No Asistidas por el RJV | R32: Asistidas por el RJV | T32: No Asistidas por el RJV
N33: P | O33: V | P33: P | Q33: V | R33: P | S33: V | T33: P | U33: V
A34: Fase de indagación | B34: Legalización de Captura | H34: Fase de indagación
B35: Medidas de Aseguramiento | H35: Audiencias Preliminares | J35: Solicitud Desarchivo Indagación Preliminar
B36: Medidas de Protección | J36: Medidas de Protección
B37: Principio de Oportunidad | J37: Legalización de Captura
B38: Otras Audiencias Preliminares | J38: Imputación
A39: Citación para Traslado del Escrito de Acusación | J39: Solicitud Medidas Cautelares
A40: Audiencia Concentrada | B40: Formalización del Traslado del Escrito de Acusación | J40: Medidas de Aseguramiento
B41: Se Enuncia la Práctica de Pruebas y se Controvierten las mismas | J41: Principio de Oportunidad
A42: Audiencias de Juicio | B42: Traslado Escrito Acusación | J42: Otras Audiencias Preliminares
B43: Audiencia Concentrada | H43: Audiencias de Juicio | J43: Audiencia de Acusación
B44: Juicio Oral | J44: Audiencia Preparatoria
B45: Traslado del Fallo | J45: Juicio Oral
A46: Incidente Reparación Integral | B46: Solicitud a Juez de Conocimiento para Abrir Trámite de Incidente Reparación Integral | J46: Lectura de Fallo
B47: Primera Audiencia | J47: Sentencia
B48: Segunda Audiencia | H48: Incidente Reparación Integral | J48: Solicitud a Juez de Conocimiento para Abrir Trámite de Incidente Reparación Integral
B49: Tercera Audiencia - Pruebas y Alegaciones - | J49: Primera Audiencia
A50: Preacuerdos | B50: Audiencia Preacuerdo | J50: Segunda Audiencia
A51: Verificación allanamiento a cargos | B51: Verificación Allanamiento a Cargos | J51: Tercera Audiencia - Pruebas y Alegaciones -
A52: Preclusión | B52: Preclusión | H52: Preacuerdos | J52: Audiencia Preacuerdo
A53: Segunda Instancia | B53: Audiencia Lectura Decisión | H53: Verificación Allanamiento a Cargos | J53: Verificación Allanamiento a Cargos
H54: Preclusión | J54: Preclusión
H55: Segunda Instancia | J55: Audiencia Lectura Decisión
A56: Total Audiencias Realizadas en el Mes | D56: =SUM(D34:D53) -> 0 | E56: =SUM(E34:E53) -> 0 | F56: =SUM(F34:F53) -> 0 | G56: =SUM(G34:G53) -> 0 | H56: Total Audiencias Realizadas en el Mes | N56: =SUM(N34:N55) -> 0 | O56: =SUM(O34:O55) -> 0 | P56: =SUM(P34:P55) -> 0 | Q56: =SUM(Q34:Q55) -> 0 | R56: =SUM(R34:R55) -> 0 | S56: =SUM(S34:S55) -> 0 | T56: =SUM(T34:T55) -> 0 | U56: =SUM(U34:U55) -> 0
A58: Causa de Audiencias Realizadas, NO Asistidas por el Representante Judicial de Víctimas Procedimiento Abreviado | K58: No. de Audiencias Realizadas, NO Asistidas por el Representante Judicial de Víctimas Procedimiento Ordinario
A59: Causa / Tipo de Audiencia | C59: Otra Audiencia | D59: Cruce con Turno | E59: Estrategia Jurídica | F59: Misión de Trabajo | G59: Capacitación | H59: Barra | I59: Caso Fortuito Fuerza Mayor | J59: Otro | K59: Causa / Tipo de Audiencia | N59: Otra Audiencia | O59: Cruce con Turno | P59: Estrategia Jurídica | Q59: Misión de Trabajo | R59: Capacitación | S59: Barra | T59: Caso Fortuito Fuerza Mayor | U59: Otro
A60: P | K60: No. Mpal. | M60: P
M61: V
A62: V | K62: No. Circuito | M62: P
M63: V
A65: No. de Audiencias No Realizadas o Aplazadas en el Mes Procedimiento Abreviado | I65: P | J65: =SUM(B68:J69) -> 0 | K65: No. de Audiencias No Realizadas o Aplazadas en el Mes Procedimiento Ordinario | Q65: Total Mpal. | R65: P | S65: =SUM(M68:U68) -> 0 | T65: V | U65: =SUM(M69:U69) -> 0
I66: V | J66: =SUM(B70:J71) -> 0 | Q66: Total Circuito | R66: P | S66: =SUM(M70:U70) -> 0 | T66: V | U66: =SUM(M71:U71) -> 0
A67: Causa / Tipo de Audiencia | B67: Defensor Público | C67: Defensor de Confianza | D67: Juez | E67: Fiscal | F67: Indiciado | G67: Víctima | H67: ICBF | I67: INPEC | J67: RJV (Incidente) | K67: Causa / Tipo de Audiencia | M67: Defensor Público | N67: Defensor de Confianza | O67: Juez | P67: Fiscal | Q67: Indiciado | R67: Víctima | S67: ICBF | T67: INPEC | U67: RJV (Incidente)
A68: P | K68: No. Mpal. | L68: P
L69: V
A70: V | K70: No. Circuito | L70: P
L71: V
A73: 1098/2006 y 1257/2008 - HECHOS PUNIBLES LEYES
A74: PROGRAMA | F74: Homicidio | G74: Lesiones Personales | H74: Acceso Carnal con Menor de 14 Años | I74: Acto Sexual con Menor de 14 Años | J74: Acceso Carnal Violento | K74: Acto Sexual Violento | L74: Desaparición Forzada | M74: Secuestro Extorsivo | N74: Secuestro Simple | O74: Violencia Intrafamiliar | P74: Inasistencia Alimentaria | Q74: Hurto | R74: Concierto para Delinquir | S74: Otros | T74: Total
A75: Ley 1098 de 2006 | T75: =SUM(F75:S75) -> 0
A76: Ley 1257 de 2008 (Mujer) | T76: =SUM(F76:S76) -> 0
A77: Ley 1257 de 2008 (LGTBI) | T77: =SUM(F77:S77) -> 0
A78: LEY 1719/2014 - HECHOS PUNIBLES
A79: Tipo de Usuario | E79: N° de Poderes Asignados en el mes | H79: Acceso Carnal Abusivo en Persona Protegida Menor de 14 Años | J79: Actos Sexuales en Persona Protegida Menor de 14 Años | L79: Prostitución Forzada en Persona Protegida | M79: Esclavitud Sexual en Persona Protegida | N79: Trata de Personas en Persona Protegida | O79: Esterilización Forzada en Persona Protegida | P79: Embarazo Forzado en Persona Protegida | Q79: Desnudez Forzada en Persona Protegida | R79: Aborto Forzado en Persona Protegida | S79: Otros | T79: Total
A80: Menor de Edad | C80: Femenino | T80: =SUM(H80:S80) -> 0
C81: Masculino | T81: =SUM(H81:S81) -> 0
A82: Mujer | T82: =SUM(H82:S82) -> 0
A83: Hombre | T83: =SUM(H83:S83) -> 0
A84: LGTBI | T84: =SUM(H84:S84) -> 0
A85: Total | E85: =SUM(E80:G84) -> 0 | H85: =SUM(H80:I84) -> 0 | J85: =SUM(J80:K84) -> 0 | L85: =SUM(L80:L84) -> 0 | M85: =SUM(M80:M84) -> 0 | N85: =SUM(N80:N84) -> 0 | O85: =SUM(O80:O84) -> 0 | P85: =SUM(P80:P84) -> 0 | Q85: =SUM(Q80:Q84) -> 0 | R85: =SUM(R80:R84) -> 0 | S85: =SUM(S80:S84) -> 0 | ... U85: =SUM(U80:U84) -> 0
A86: LEY 985/2005 (DECRETO 1069/2014) - CONDUCTAS TIPIFICADAS
A87: Tipo de Usuario | E87: N° de Poderes Asignados en el mes | H87: Explotación Sexual | J87: Trabajos o Servicios Forzados | L87: Esclavitud | N87: Servidumbre | O87: Explotación Mendicidad Ajena | P87: Matrimonio Servil | Q87: Extracción de Organos | R87: Turismo Sexual | S87: Otros | T87: Total
A88: Menor de Edad | C88: Femenino | T88: =SUM(H88:S88) -> 0
C89: Masculino | T89: =SUM(H89:S89) -> 0
A90: Mujer | T90: =SUM(H90:S90) -> 0
A91: Hombre | T91: =SUM(H91:S91) -> 0
A92: LGTBI | T92: =SUM(H92:S92) -> 0
A93: Total | E93: =SUM(E88:G92) -> 0 | H93: =SUM(H88:I92) -> 0 | J93: =SUM(J88:K92) -> 0 | L93: =SUM(L88:M92) -> 0 | N93: =SUM(N88:N92) -> 0 | O93: =SUM(O88:O92) -> 0 | P93: =SUM(P88:P92) -> 0 | Q93: =SUM(Q88:Q92) -> 0 | R93: =SUM(R88:R92) -> 0 | S93: =SUM(S88:S92) -> 0 | T93: =SUM(T88:U92) -> 0
A94: LEY 1773 DE 2016 - CONDUCTAS TIPIFICADAS
A95: Tipo de Usuario | E95: N° de Poderes Asignados en el mes | H95: Daño en el Cuerpo o en la Salud con Cualquier Tipo de Agente Químico | K95: Daño o Deformidad Permanente | N95: Pérdida Parcial o Total | P95: Pérdida Funcional o Anatómica | R95: Deformidad en el Rostro | T95: Total
A96: Menor de Edad | C96: Femenino | T96: =SUM(H96:S96) -> 0
C97: Masculino | T97: =SUM(H97:S97) -> 0
A98: Mujer | T98: =SUM(H98:S98) -> 0
A99: Hombre | T99: =SUM(H99:S99) -> 0
A100: LGTBI | T100: =SUM(H100:S100) -> 0
A101: Total | E101: =SUM(E96:G100) -> 0 | H101: =SUM(H96:J100) -> 0 | K101: =SUM(K96:M100) -> 0 | N101: =SUM(N96:O100) -> 0 | P101: =SUM(P96:Q100) -> 0 | R101: =SUM(R96:S100) -> 0 | T101: =SUM(T96:U100) -> 0
A103: REPRESENTANTE JUDICIAL DE VÍCTIMAS
A105: Nombre del responsable de la elaboración del presente formulario:
A106: Fecha de elaboración:
C107: (dd-mm-aaaa)

Sheet 9
C1: Nombre del proceso/Subproceso: Atención y Trámite/Defensoría Pública | Q1: Código: SD-P07-F188
C2: Formulario: Informe Mensual Consolidado de Estadística RJV - Leyes 1098 de 2006, 1257 de 2008, 1719 de 2014, 985 de 2005, Decreto 1069 de 2014, Ley 1773 de 2016 y Ley 1761 de 2015 | Q2: Versión: 01
Q3: Vigente desde:
A6: REGIONAL: | G6: NOMBRE REPRESENTANTE JUDICIAL: | P6: PROGRAMA:
A7: AÑO: | G7: LUGAR DE EJECUCION: | P7: AREA:
A8: MES: | G8: CATEGORIA: | P8: SUB AREA:
A10: REPARTO | H10: Ley 1098 de 2006 (Víctimas Niños, Niñas y Adolescentes) | J10: Ley 1257 de 2008 (Violencia Contra la Mujer) | L10: Ley 1719 de 2014 (Violencia Sexual en el Conflicto Armado) | N10: Ley 985/2005 -Decreto 1069/2014 (Trata de Personas) | P10: Ley 1761 de 2015 (Feminicidio) | R10: Ley 1773 de 2016 (Ataques con Acidos) | T10: TOTAL
A11: No. de Poderes Vigentes del Mes Anterior | T11: =SUM(H11:S11) -> 0
A12: No. de Poderes Recibidos Durante el Mes | T12: =SUM(H12:S12) -> 0
A13: No. de Poderes Reasignados Durante el Mes | T13: =SUM(H13:S13) -> 0
A14: No. de Poderes Sustituidos Durante el Mes | T14: =SUM(H14:S14) -> 0
A15: No. de Poderes Terminados Durante el Mes | T15: =SUM(H15:S15) -> 0
A16: No. de Poderes Vigentes | H16: =(H11+H12+H13)-(H14+H15) -> 0 | J16: =(J11+J12+J13)-(J14+J15) -> 0 | L16: =(L11+L12+L13)-(L14+L15) -> 0 | N16: =(N11+N12+N13)-(N14+N15) -> 0 | P16: =(P11+P12+P13)-(P14+P15) -> 0 | R16: =(R11+R12+R13)-(R14+R15) -> 0 | T16: =SUM(H16:S16) -> 0
A17: No. de Poderes Vigentes Inactivos | T17: =SUM(H17:S17) -> 0
A18: No. de Poderes Vigentes Activos | H18: =H16-H17 -> 0 | I18: =(K13+K14)-K15 -> 0 | J18: =J16-J17 -> 0 | K18: =(M13+M14)-M15 -> 0 | L18: =L16-L17 -> 0 | M18: =(O13+O14)-O15 -> 0 | N18: =N16-N17 -> 0 | O18: =(Q13+Q14)-Q15 -> 0 | P18: =P16-P17 -> 0 | Q18: =(S13+S14)-S15 -> 0 | R18: =R16-R17 -> 0 | S18: =(U13+U14)-U15 -> 0 | T18: =SUM(H18:S18) -> 0
A19: No. de Asistencias Técnicas | T19: =SUM(H19:S19) -> 0
A20: COMUNICACIONES
A21: No. de Víctimas Contactadas Telefónicamente Durante el Mes | T21: =SUM(H21:S21) -> 0
A22: No. de Comunicaciones Escritas Durante el Mes | T22: =SUM(H22:S22) -> 0
A23: No. de Entrevistas Personales Durante el Mes | T23: =SUM(H23:S23) -> 0
A25: CONTROL EN LA GESTION DEFENSORIAL
A26: PROCEDIMIENTO ABREVIADO | H26: PROCEDIMIENTO ORDINARIO
A27: Modalidad | F27: P | G27: V | H27: Modalidad | T27: P | U27: V
A28: No. de Audiencias Programadas en el Mes | H28: No. de Audiencias Programadas en el Mes
A29: No. de Audiencias Realizadas en el Mes | F29: =SUM(D56,F56) -> 0 | G29: =SUM(E56,G56) -> 0 | H29: No. de Audiencias Realizadas en el Mes | T29: =SUM(N56,P56,R56,T56) -> 0 | U29: =SUM(O56,Q56,S56,U56) -> 0
A30: Descripción por Tipo de Audiencia Realizada | H30: Descripción por Tipo de Audiencia Realizada
A31: Etapa Procesal | B31: Tipo de Audiencia | D31: Asistidas por el RJV | F31: No Asistidas por el RJV | H31: Etapa Procesal | J31: Tipo de Audiencia | N31: Municipal | R31: Circuito
D32: P | E32: V | F32: P | G32: V | N32: Asistidas por el RJV | P32: No Asistidas por el RJV | R32: Asistidas por el RJV | T32: No Asistidas por el RJV
N33: P | O33: V | P33: P | Q33: V | R33: P | S33: V | T33: P | U33: V
A34: Fase de indagación | B34: Legalización de Captura | H34: Fase de indagación
B35: Medidas de Aseguramiento | H35: Audiencias Preliminares | J35: Solicitud Desarchivo Indagación Preliminar
B36: Medidas de Protección | J36: Medidas de Protección
B37: Principio de Oportunidad | J37: Legalización de Captura
B38: Otras Audiencias Preliminares | J38: Imputación
A39: Citación para Traslado del Escrito de Acusación | J39: Solicitud Medidas Cautelares
A40: Audiencia Concentrada | B40: Formalización del Traslado del Escrito de Acusación | J40: Medidas de Aseguramiento
B41: Se Enuncia la Práctica de Pruebas y se Controvierten las mismas | J41: Principio de Oportunidad
A42: Audiencias de Juicio | B42: Traslado Escrito Acusación | J42: Otras Audiencias Preliminares
B43: Audiencia Concentrada | H43: Audiencias de Juicio | J43: Audiencia de Acusación
B44: Juicio Oral | J44: Audiencia Preparatoria
B45: Traslado del Fallo | J45: Juicio Oral
A46: Incidente Reparación Integral | B46: Solicitud a Juez de Conocimiento para Abrir Trámite de Incidente Reparación Integral | J46: Lectura de Fallo
B47: Primera Audiencia | J47: Sentencia
B48: Segunda Audiencia | H48: Incidente Reparación Integral | J48: Solicitud a Juez de Conocimiento para Abrir Trámite de Incidente Reparación Integral
B49: Tercera Audiencia - Pruebas y Alegaciones - | J49: Primera Audiencia
A50: Preacuerdos | B50: Audiencia Preacuerdo | J50: Segunda Audiencia
A51: Verificación allanamiento a cargos | B51: Verificación Allanamiento a Cargos | J51: Tercera Audiencia - Pruebas y Alegaciones -
A52: Preclusión | B52: Preclusión | H52: Preacuerdos | J52: Audiencia Preacuerdo
A53: Segunda Instancia | B53: Audiencia Lectura Decisión | H53: Verificación Allanamiento a Cargos | J53: Verificación Allanamiento a Cargos
H54: Preclusión | J54: Preclusión
H55: Segunda Instancia | J55: Audiencia Lectura Decisión
A56: Total Audiencias Realizadas en el Mes | D56: =SUM(D34:D53) -> 0 | E56: =SUM(E34:E53) -> 0 | F56: =SUM(F34:F53) -> 0 | G56: =SUM(G34:G53) -> 0 | H56: Total Audiencias Realizadas en el Mes | N56: =SUM(N34:N55) -> 0 | O56: =SUM(O34:O55) -> 0 | P56: =SUM(P34:P55) -> 0 | Q56: =SUM(Q34:Q55) -> 0 | R56: =SUM(R34:R55) -> 0 | S56: =SUM(S34:S55) -> 0 | T56: =SUM(T34:T55) -> 0 | U56: =SUM(U34:U55) -> 0
A58: Causa de Audiencias Realizadas, NO Asistidas por el Representante Judicial de Víctimas Procedimiento Abreviado | K58: No. de Audiencias Realizadas, NO Asistidas por el Representante Judicial de Víctimas Procedimiento Ordinario
A59: Causa / Tipo de Audiencia | C59: Otra Audiencia | D59: Cruce con Turno | E59: Estrategia Jurídica | F59: Misión de Trabajo | G59: Capacitación | H59: Barra | I59: Caso Fortuito Fuerza Mayor | J59: Otro | K59: Causa / Tipo de Audiencia | N59: Otra Audiencia | O59: Cruce con Turno | P59: Estrategia Jurídica | Q59: Misión de Trabajo | R59: Capacitación | S59: Barra | T59: Caso Fortuito Fuerza Mayor | U59: Otro
A60: P | K60: No. Mpal. | M60: P
M61: V
A62: V | K62: No. Circuito | M62: P
M63: V
A65: No. de Audiencias No Realizadas o Aplazadas en el Mes Procedimiento Abreviado | I65: P | J65: =SUM(B68:J69) -> 0 | K65: No. de Audiencias No Realizadas o Aplazadas en el Mes Procedimiento Ordinario | Q65: Total Mpal. | R65: P | S65: =SUM(M68:U68) -> 0 | T65: V | U65: =SUM(M69:U69) -> 0
I66: V | J66: =SUM(B70:J71) -> 0 | Q66: Total Circuito | R66: P | S66: =SUM(M70:U70) -> 0 | T66: V | U66: =SUM(M71:U71) -> 0
A67: Causa / Tipo de Audiencia | B67: Defensor Público | C67: Defensor de Confianza | D67: Juez | E67: Fiscal | F67: Indiciado | G67: Víctima | H67: ICBF | I67: INPEC | J67: RJV (Incidente) | K67: Causa / Tipo de Audiencia | M67: Defensor Público | N67: Defensor de Confianza | O67: Juez | P67: Fiscal | Q67: Indiciado | R67: Víctima | S67: ICBF | T67: INPEC | U67: RJV (Incidente)
A68: P | K68: No. Mpal. | L68: P
L69: V
A70: V | K70: No. Circuito | L70: P
L71: V
A73: 1098/2006 y 1257/2008 - HECHOS PUNIBLES LEYES
A74: PROGRAMA | F74: Homicidio | G74: Lesiones Personales | H74: Acceso Carnal con Menor de 14 Años | I74: Acto Sexual con Menor de 14 Años | J74: Acceso Carnal Violento | K74: Acto Sexual Violento | L74: Desaparición Forzada | M74: Secuestro Extorsivo | N74: Secuestro Simple | O74: Violencia Intrafamiliar | P74: Inasistencia Alimentaria | Q74: Hurto | R74: Concierto para Delinquir | S74: Otros | T74: Total
A75: Ley 1098 de 2006 | T75: =SUM(F75:S75) -> 0
A76: Ley 1257 de 2008 (Mujer) | T76: =SUM(F76:S76) -> 0
A77: Ley 1257 de 2008 (LGTBI) | T77: =SUM(F77:S77) -> 0
A78: LEY 1719/2014 - HECHOS PUNIBLES
A79: Tipo de Usuario | E79: N° de Poderes Asignados en el mes | H79: Acceso Carnal Abusivo en Persona Protegida Menor de 14 Años | J79: Actos Sexuales en Persona Protegida Menor de 14 Años | L79: Prostitución Forzada en Persona Protegida | M79: Esclavitud Sexual en Persona Protegida | N79: Trata de Personas en Persona Protegida | O79: Esterilización Forzada en Persona Protegida | P79: Embarazo Forzado en Persona Protegida | Q79: Desnudez Forzada en Persona Protegida | R79: Aborto Forzado en Persona Protegida | S79: Otros | T79: Total
A80: Menor de Edad | C80: Femenino | T80: =SUM(H80:S80) -> 0
C81: Masculino | T81: =SUM(H81:S81) -> 0
A82: Mujer | T82: =SUM(H82:S82) -> 0
A83: Hombre | T83: =SUM(H83:S83) -> 0
A84: LGTBI | T84: =SUM(H84:S84) -> 0
A85: Total | E85: =SUM(E80:G84) -> 0 | H85: =SUM(H80:I84) -> 0 | J85: =SUM(J80:K84) -> 0 | L85: =SUM(L80:L84) -> 0 | M85: =SUM(M80:M84) -> 0 | N85: =SUM(N80:N84) -> 0 | O85: =SUM(O80:O84) -> 0 | P85: =SUM(P80:P84) -> 0 | Q85: =SUM(Q80:Q84) -> 0 | R85: =SUM(R80:R84) -> 0 | S85: =SUM(S80:S84) -> 0 | ... U85: =SUM(U80:U84) -> 0
A86: LEY 985/2005 (DECRETO 1069/2014) - CONDUCTAS TIPIFICADAS
A87: Tipo de Usuario | E87: N° de Poderes Asignados en el mes | H87: Explotación Sexual | J87: Trabajos o Servicios Forzados | L87: Esclavitud | N87: Servidumbre | O87: Explotación Mendicidad Ajena | P87: Matrimonio Servil | Q87: Extracción de Organos | R87: Turismo Sexual | S87: Otros | T87: Total
A88: Menor de Edad | C88: Femenino | T88: =SUM(H88:S88) -> 0
C89: Masculino | T89: =SUM(H89:S89) -> 0
A90: Mujer | T90: =SUM(H90:S90) -> 0
A91: Hombre | T91: =SUM(H91:S91) -> 0
A92: LGTBI | T92: =SUM(H92:S92) -> 0
A93: Total | E93: =SUM(E88:G92) -> 0 | H93: =SUM(H88:I92) -> 0 | J93: =SUM(J88:K92) -> 0 | L93: =SUM(L88:M92) -> 0 | N93: =SUM(N88:N92) -> 0 | O93: =SUM(O88:O92) -> 0 | P93: =SUM(P88:P92) -> 0 | Q93: =SUM(Q88:Q92) -> 0 | R93: =SUM(R88:R92) -> 0 | S93: =SUM(S88:S92) -> 0 | T93: =SUM(T88:U92) -> 0
A94: LEY 1773 DE 2016 - CONDUCTAS TIPIFICADAS
A95: Tipo de Usuario | E95: N° de Poderes Asignados en el mes | H95: Daño en el Cuerpo o en la Salud con Cualquier Tipo de Agente Químico | K95: Daño o Deformidad Permanente | N95: Pérdida Parcial o Total | P95: Pérdida Funcional o Anatómica | R95: Deformidad en el Rostro | T95: Total
A96: Menor de Edad | C96: Femenino | T96: =SUM(H96:S96) -> 0
C97: Masculino | T97: =SUM(H97:S97) -> 0
A98: Mujer | T98: =SUM(H98:S98) -> 0
A99: Hombre | T99: =SUM(H99:S99) -> 0
A100: LGTBI | T100: =SUM(H100:S100) -> 0
A101: Total | E101: =SUM(E96:G100) -> 0 | H101: =SUM(H96:J100) -> 0 | K101: =SUM(K96:M100) -> 0 | N101: =SUM(N96:O100) -> 0 | P101: =SUM(P96:Q100) -> 0 | R101: =SUM(R96:S100) -> 0 | T101: =SUM(T96:U100) -> 0
A103: REPRESENTANTE JUDICIAL DE VÍCTIMAS
A105: Nombre del responsable de la elaboración del presente formulario:
A106: Fecha de elaboración:
C107: (dd-mm-aaaa)

Sheet 10
C1: Nombre del proceso/Subproceso: Atención y Trámite/Defensoría Pública | Q1: Código: SD-P07-F188
C2: Formulario: Informe Mensual Consolidado de Estadística RJV - Leyes 1098 de 2006, 1257 de 2008, 1719 de 2014, 985 de 2005, Decreto 1069 de 2014, Ley 1773 de 2016 y Ley 1761 de 2015 | Q2: Versión: 01
Q3: Vigente desde:
A6: REGIONAL: | G6: NOMBRE REPRESENTANTE JUDICIAL: | P6: PROGRAMA:
A7: AÑO: | G7: LUGAR DE EJECUCION: | P7: AREA:
A8: MES: | G8: CATEGORIA: | P8: SUB AREA:
A10: REPARTO | H10: Ley 1098 de 2006 (Víctimas Niños, Niñas y Adolescentes) | J10: Ley 1257 de 2008 (Violencia Contra la Mujer) | L10: Ley 1719 de 2014 (Violencia Sexual en el Conflicto Armado) | N10: Ley 985/2005 -Decreto 1069/2014 (Trata de Personas) | P10: Ley 1761 de 2015 (Feminicidio) | R10: Ley 1773 de 2016 (Ataques con Acidos) | T10: TOTAL
A11: No. de Poderes Vigentes del Mes Anterior | T11: =SUM(H11:S11) -> 0
A12: No. de Poderes Recibidos Durante el Mes | T12: =SUM(H12:S12) -> 0
A13: No. de Poderes Reasignados Durante el Mes | T13: =SUM(H13:S13) -> 0
A14: No. de Poderes Sustituidos Durante el Mes | T14: =SUM(H14:S14) -> 0
A15: No. de Poderes Terminados Durante el Mes | T15: =SUM(H15:S15) -> 0
A16: No. de Poderes Vigentes | H16: =(H11+H12+H13)-(H14+H15) -> 0 | J16: =(J11+J12+J13)-(J14+J15) -> 0 | L16: =(L11+L12+L13)-(L14+L15) -> 0 | N16: =(N11+N12+N13)-(N14+N15) -> 0 | P16: =(P11+P12+P13)-(P14+P15) -> 0 | R16: =(R11+R12+R13)-(R14+R15) -> 0 | T16: =SUM(H16:S16) -> 0
A17: No. de Poderes Vigentes Inactivos | T17: =SUM(H17:S17) -> 0
A18: No. de Poderes Vigentes Activos | H18: =H16-H17 -> 0 | I18: =(K13+K14)-K15 -> 0 | J18: =J16-J17 -> 0 | K18: =(M13+M14)-M15 -> 0 | L18: =L16-L17 -> 0 | M18: =(O13+O14)-O15 -> 0 | N18: =N16-N17 -> 0 | O18: =(Q13+Q14)-Q15 -> 0 | P18: =P16-P17 -> 0 | Q18: =(S13+S14)-S15 -> 0 | R18: =R16-R17 -> 0 | S18: =(U13+U14)-U15 -> 0 | T18: =SUM(H18:S18) -> 0
A19: No. de Asistencias Técnicas | T19: =SUM(H19:S19) -> 0
A20: COMUNICACIONES
A21: No. de Víctimas Contactadas Telefónicamente Durante el Mes | T21: =SUM(H21:S21) -> 0
A22: No. de Comunicaciones Escritas Durante el Mes | T22: =SUM(H22:S22) -> 0
A23: No. de Entrevistas Personales Durante el Mes | T23: =SUM(H23:S23) -> 0
A25: CONTROL EN LA GESTION DEFENSORIAL
A26: PROCEDIMIENTO ABREVIADO | H26: PROCEDIMIENTO ORDINARIO
A27: Modalidad | F27: P | G27: V | H27: Modalidad | T27: P | U27: V
A28: No. de Audiencias Programadas en el Mes | H28: No. de Audiencias Programadas en el Mes
A29: No. de Audiencias Realizadas en el Mes | F29: =SUM(D56,F56) -> 0 | G29: =SUM(E56,G56) -> 0 | H29: No. de Audiencias Realizadas en el Mes | T29: =SUM(N56,P56,R56,T56) -> 0 | U29: =SUM(O56,Q56,S56,U56) -> 0
A30: Descripción por Tipo de Audiencia Realizada | H30: Descripción por Tipo de Audiencia Realizada
A31: Etapa Procesal | B31: Tipo de Audiencia | D31: Asistidas por el RJV | F31: No Asistidas por el RJV | H31: Etapa Procesal | J31: Tipo de Audiencia | N31: Municipal | R31: Circuito
D32: P | E32: V | F32: P | G32: V | N32: Asistidas por el RJV | P32: No Asistidas por el RJV | R32: Asistidas por el RJV | T32: No Asistidas por el RJV
N33: P | O33: V | P33: P | Q33: V | R33: P | S33: V | T33: P | U33: V
A34: Fase de indagación | B34: Legalización de Captura | H34: Fase de indagación
B35: Medidas de Aseguramiento | H35: Audiencias Preliminares | J35: Solicitud Desarchivo Indagación Preliminar
B36: Medidas de Protección | J36: Medidas de Protección
B37: Principio de Oportunidad | J37: Legalización de Captura
B38: Otras Audiencias Preliminares | J38: Imputación
A39: Citación para Traslado del Escrito de Acusación | J39: Solicitud Medidas Cautelares
A40: Audiencia Concentrada | B40: Formalización del Traslado del Escrito de Acusación | J40: Medidas de Aseguramiento
B41: Se Enuncia la Práctica de Pruebas y se Controvierten las mismas | J41: Principio de Oportunidad
A42: Audiencias de Juicio | B42: Traslado Escrito Acusación | J42: Otras Audiencias Preliminares
B43: Audiencia Concentrada | H43: Audiencias de Juicio | J43: Audiencia de Acusación
B44: Juicio Oral | J44: Audiencia Preparatoria
B45: Traslado del Fallo | J45: Juicio Oral
A46: Incidente Reparación Integral | B46: Solicitud a Juez de Conocimiento para Abrir Trámite de Incidente Reparación Integral | J46: Lectura de Fallo
B47: Primera Audiencia | J47: Sentencia
B48: Segunda Audiencia | H48: Incidente Reparación Integral | J48: Solicitud a Juez de Conocimiento para Abrir Trámite de Incidente Reparación Integral
B49: Tercera Audiencia - Pruebas y Alegaciones - | J49: Primera Audiencia
A50: Preacuerdos | B50: Audiencia Preacuerdo | J50: Segunda Audiencia
A51: Verificación allanamiento a cargos | B51: Verificación Allanamiento a Cargos | J51: Tercera Audiencia - Pruebas y Alegaciones -
A52: Preclusión | B52: Preclusión | H52: Preacuerdos | J52: Audiencia Preacuerdo
A53: Segunda Instancia | B53: Audiencia Lectura Decisión | H53: Verificación Allanamiento a Cargos | J53: Verificación Allanamiento a Cargos
H54: Preclusión | J54: Preclusión
H55: Segunda Instancia | J55: Audiencia Lectura Decisión
A56: Total Audiencias Realizadas en el Mes | D56: =SUM(D34:D53) -> 0 | E56: =SUM(E34:E53) -> 0 | F56: =SUM(F34:F53) -> 0 | G56: =SUM(G34:G53) -> 0 | H56: Total Audiencias Realizadas en el Mes | N56: =SUM(N34:N55) -> 0 | O56: =SUM(O34:O55) -> 0 | P56: =SUM(P34:P55) -> 0 | Q56: =SUM(Q34:Q55) -> 0 | R56: =SUM(R34:R55) -> 0 | S56: =SUM(S34:S55) -> 0 | T56: =SUM(T34:T55) -> 0 | U56: =SUM(U34:U55) -> 0
A58: Causa de Audiencias Realizadas, NO Asistidas por el Representante Judicial de Víctimas Procedimiento Abreviado | K58: No. de Audiencias Realizadas, NO Asistidas por el Representante Judicial de Víctimas Procedimiento Ordinario
A59: Causa / Tipo de Audiencia | C59: Otra Audiencia | D59: Cruce con Turno | E59: Estrategia Jurídica | F59: Misión de Trabajo | G59: Capacitación | H59: Barra | I59: Caso Fortuito Fuerza Mayor | J59: Otro | K59: Causa / Tipo de Audiencia | N59: Otra Audiencia | O59: Cruce con Turno | P59: Estrategia Jurídica | Q59: Misión de Trabajo | R59: Capacitación | S59: Barra | T59: Caso Fortuito Fuerza Mayor | U59: Otro
A60: P | K60: No. Mpal. | M60: P
M61: V
A62: V | K62: No. Circuito | M62: P
M63: V
A65: No. de Audiencias No Realizadas o Aplazadas en el Mes Procedimiento Abreviado | I65: P | J65: =SUM(B68:J69) -> 0 | K65: No. de Audiencias No Realizadas o Aplazadas en el Mes Procedimiento Ordinario | Q65: Total Mpal. | R65: P | S65: =SUM(M68:U68) -> 0 | T65: V | U65: =SUM(M69:U69) -> 0
I66: V | J66: =SUM(B70:J71) -> 0 | Q66: Total Circuito | R66: P | S66: =SUM(M70:U70) -> 0 | T66: V | U66: =SUM(M71:U71) -> 0
A67: Causa / Tipo de Audiencia | B67: Defensor Público | C67: Defensor de Confianza | D67: Juez | E67: Fiscal | F67: Indiciado | G67: Víctima | H67: ICBF | I67: INPEC | J67: RJV (Incidente) | K67: Causa / Tipo de Audiencia | M67: Defensor Público | N67: Defensor de Confianza | O67: Juez | P67: Fiscal | Q67: Indiciado | R67: Víctima | S67: ICBF | T67: INPEC | U67: RJV (Incidente)
A68: P | K68: No. Mpal. | L68: P
L69: V
A70: V | K70: No. Circuito | L70: P
L71: V
A73: 1098/2006 y 1257/2008 - HECHOS PUNIBLES LEYES
A74: PROGRAMA | F74: Homicidio | G74: Lesiones Personales | H74: Acceso Carnal con Menor de 14 Años | I74: Acto Sexual con Menor de 14 Años | J74: Acceso Carnal Violento | K74: Acto Sexual Violento | L74: Desaparición Forzada | M74: Secuestro Extorsivo | N74: Secuestro Simple | O74: Violencia Intrafamiliar | P74: Inasistencia Alimentaria | Q74: Hurto | R74: Concierto para Delinquir | S74: Otros | T74: Total
A75: Ley 1098 de 2006 | T75: =SUM(F75:S75) -> 0
A76: Ley 1257 de 2008 (Mujer) | T76: =SUM(F76:S76) -> 0
A77: Ley 1257 de 2008 (LGTBI) | T77: =SUM(F77:S77) -> 0
A78: LEY 1719/2014 - HECHOS PUNIBLES
A79: Tipo de Usuario | E79: N° de Poderes Asignados en el mes | H79: Acceso Carnal Abusivo en Persona Protegida Menor de 14 Años | J79: Actos Sexuales en Persona Protegida Menor de 14 Años | L79: Prostitución Forzada en Persona Protegida | M79: Esclavitud Sexual en Persona Protegida | N79: Trata de Personas en Persona Protegida | O79: Esterilización Forzada en Persona Protegida | P79: Embarazo Forzado en Persona Protegida | Q79: Desnudez Forzada en Persona Protegida | R79: Aborto Forzado en Persona Protegida | S79: Otros | T79: Total
A80: Menor de Edad | C80: Femenino | T80: =SUM(H80:S80) -> 0
C81: Masculino | T81: =SUM(H81:S81) -> 0
A82: Mujer | T82: =SUM(H82:S82) -> 0
A83: Hombre | T83: =SUM(H83:S83) -> 0
A84: LGTBI | T84: =SUM(H84:S84) -> 0
A85: Total | E85: =SUM(E80:G84) -> 0 | H85: =SUM(H80:I84) -> 0 | J85: =SUM(J80:K84) -> 0 | L85: =SUM(L80:L84) -> 0 | M85: =SUM(M80:M84) -> 0 | N85: =SUM(N80:N84) -> 0 | O85: =SUM(O80:O84) -> 0 | P85: =SUM(P80:P84) -> 0 | Q85: =SUM(Q80:Q84) -> 0 | R85: =SUM(R80:R84) -> 0 | S85: =SUM(S80:S84) -> 0 | ... U85: =SUM(U80:U84) -> 0
A86: LEY 985/2005 (DECRETO 1069/2014) - CONDUCTAS TIPIFICADAS
A87: Tipo de Usuario | E87: N° de Poderes Asignados en el mes | H87: Explotación Sexual | J87: Trabajos o Servicios Forzados | L87: Esclavitud | N87: Servidumbre | O87: Explotación Mendicidad Ajena | P87: Matrimonio Servil | Q87: Extracción de Organos | R87: Turismo Sexual | S87: Otros | T87: Total
A88: Menor de Edad | C88: Femenino | T88: =SUM(H88:S88) -> 0
C89: Masculino | T89: =SUM(H89:S89) -> 0
A90: Mujer | T90: =SUM(H90:S90) -> 0
A91: Hombre | T91: =SUM(H91:S91) -> 0
A92: LGTBI | T92: =SUM(H92:S92) -> 0
A93: Total | E93: =SUM(E88:G92) -> 0 | H93: =SUM(H88:I92) -> 0 | J93: =SUM(J88:K92) -> 0 | L93: =SUM(L88:M92) -> 0 | N93: =SUM(N88:N92) -> 0 | O93: =SUM(O88:O92) -> 0 | P93: =SUM(P88:P92) -> 0 | Q93: =SUM(Q88:Q92) -> 0 | R93: =SUM(R88:R92) -> 0 | S93: =SUM(S88:S92) -> 0 | T93: =SUM(T88:U92) -> 0
A94: LEY 1773 DE 2016 - CONDUCTAS TIPIFICADAS
A95: Tipo de Usuario | E95: N° de Poderes Asignados en el mes | H95: Daño en el Cuerpo o en la Salud con Cualquier Tipo de Agente Químico | K95: Daño o Deformidad Permanente | N95: Pérdida Parcial o Total | P95: Pérdida Funcional o Anatómica | R95: Deformidad en el Rostro | T95: Total
A96: Menor de Edad | C96: Femenino | T96: =SUM(H96:S96) -> 0
C97: Masculino | T97: =SUM(H97:S97) -> 0
A98: Mujer | T98: =SUM(H98:S98) -> 0
A99: Hombre | T99: =SUM(H99:S99) -> 0
A100: LGTBI | T100: =SUM(H100:S100) -> 0
A101: Total | E101: =SUM(E96:G100) -> 0 | H101: =SUM(H96:J100) -> 0 | K101: =SUM(K96:M100) -> 0 | N101: =SUM(N96:O100) -> 0 | P101: =SUM(P96:Q100) -> 0 | R101: =SUM(R96:S100) -> 0 | T101: =SUM(T96:U100) -> 0
A103: REPRESENTANTE JUDICIAL DE VÍCTIMAS
A105: Nombre del responsable de la elaboración del presente formulario:
A106: Fecha de elaboración:
C107: (dd-mm-aaaa)

Sheet 11
C1: Nombre del proceso/Subproceso: Atención y Trámite/Defensoría Pública | Q1: Código: SD-P07-F188
C2: Formulario: Informe Mensual Consolidado de Estadística RJV - Leyes 1098 de 2006, 1257 de 2008, 1719 de 2014, 985 de 2005, Decreto 1069 de 2014, Ley 1773 de 2016 y Ley 1761 de 2015 | Q2: Versión: 01
Q3: Vigente desde:
A6: REGIONAL: | G6: NOMBRE REPRESENTANTE JUDICIAL: | P6: PROGRAMA:
A7: AÑO: | G7: LUGAR DE EJECUCION: | P7: AREA:
A8: MES: | G8: CATEGORIA: | P8: SUB AREA:
A10: REPARTO | H10: Ley 1098 de 2006 (Víctimas Niños, Niñas y Adolescentes) | J10: Ley 1257 de 2008 (Violencia Contra la Mujer) | L10: Ley 1719 de 2014 (Violencia Sexual en el Conflicto Armado) | N10: Ley 985/2005 -Decreto 1069/2014 (Trata de Personas) | P10: Ley 1761 de 2015 (Feminicidio) | R10: Ley 1773 de 2016 (Ataques con Acidos) | T10: TOTAL
A11: No. de Poderes Vigentes del Mes Anterior | T11: =SUM(H11:S11) -> 0
A12: No. de Poderes Recibidos Durante el Mes | T12: =SUM(H12:S12) -> 0
A13: No. de Poderes Reasignados Durante el Mes | T13: =SUM(H13:S13) -> 0
A14: No. de Poderes Sustituidos Durante el Mes | T14: =SUM(H14:S14) -> 0
A15: No. de Poderes Terminados Durante el Mes | T15: =SUM(H15:S15) -> 0
A16: No. de Poderes Vigentes | H16: =(H11+H12+H13)-(H14+H15) -> 0 | J16: =(J11+J12+J13)-(J14+J15) -> 0 | L16: =(L11+L12+L13)-(L14+L15) -> 0 | N16: =(N11+N12+N13)-(N14+N15) -> 0 | P16: =(P11+P12+P13)-(P14+P15) -> 0 | R16: =(R11+R12+R13)-(R14+R15) -> 0 | T16: =SUM(H16:S16) -> 0
A17: No. de Poderes Vigentes Inactivos | T17: =SUM(H17:S17) -> 0
A18: No. de Poderes Vigentes Activos | H18: =H16-H17 -> 0 | I18: =(K13+K14)-K15 -> 0 | J18: =J16-J17 -> 0 | K18: =(M13+M14)-M15 -> 0 | L18: =L16-L17 -> 0 | M18: =(O13+O14)-O15 -> 0 | N18: =N16-N17 -> 0 | O18: =(Q13+Q14)-Q15 -> 0 | P18: =P16-P17 -> 0 | Q18: =(S13+S14)-S15 -> 0 | R18: =R16-R17 -> 0 | S18: =(U13+U14)-U15 -> 0 | T18: =SUM(H18:S18) -> 0
A19: No. de Asistencias Técnicas | T19: =SUM(H19:S19) -> 0
A20: COMUNICACIONES
A21: No. de Víctimas Contactadas Telefónicamente Durante el Mes | T21: =SUM(H21:S21) -> 0
A22: No. de Comunicaciones Escritas Durante el Mes | T22: =SUM(H22:S22) -> 0
A23: No. de Entrevistas Personales Durante el Mes | T23: =SUM(H23:S23) -> 0
A25: CONTROL EN LA GESTION DEFENSORIAL
A26: PROCEDIMIENTO ABREVIADO | H26: PROCEDIMIENTO ORDINARIO
A27: Modalidad | F27: P | G27: V | H27: Modalidad | T27: P | U27: V
A28: No. de Audiencias Programadas en el Mes | H28: No. de Audiencias Programadas en el Mes
A29: No. de Audiencias Realizadas en el Mes | F29: =SUM(D56,F56) -> 0 | G29: =SUM(E56,G56) -> 0 | H29: No. de Audiencias Realizadas en el Mes | T29: =SUM(N56,P56,R56,T56) -> 0 | U29: =SUM(O56,Q56,S56,U56) -> 0
A30: Descripción por Tipo de Audiencia Realizada | H30: Descripción por Tipo de Audiencia Realizada
A31: Etapa Procesal | B31: Tipo de Audiencia | D31: Asistidas por el RJV | F31: No Asistidas por el RJV | H31: Etapa Procesal | J31: Tipo de Audiencia | N31: Municipal | R31: Circuito
D32: P | E32: V | F32: P | G32: V | N32: Asistidas por el RJV | P32: No Asistidas por el RJV | R32: Asistidas por el RJV | T32: No Asistidas por el RJV
N33: P | O33: V | P33: P | Q33: V | R33: P | S33: V | T33: P | U33: V
A34: Fase de indagación | B34: Legalización de Captura | H34: Fase de indagación
B35: Medidas de Aseguramiento | H35: Audiencias Preliminares | J35: Solicitud Desarchivo Indagación Preliminar
B36: Medidas de Protección | J36: Medidas de Protección
B37: Principio de Oportunidad | J37: Legalización de Captura
B38: Otras Audiencias Preliminares | J38: Imputación
A39: Citación para Traslado del Escrito de Acusación | J39: Solicitud Medidas Cautelares
A40: Audiencia Concentrada | B40: Formalización del Traslado del Escrito de Acusación | J40: Medidas de Aseguramiento
B41: Se Enuncia la Práctica de Pruebas y se Controvierten las mismas | J41: Principio de Oportunidad
A42: Audiencias de Juicio | B42: Traslado Escrito Acusación | J42: Otras Audiencias Preliminares
B43: Audiencia Concentrada | H43: Audiencias de Juicio | J43: Audiencia de Acusación
B44: Juicio Oral | J44: Audiencia Preparatoria
B45: Traslado del Fallo | J45: Juicio Oral
A46: Incidente Reparación Integral | B46: Solicitud a Juez de Conocimiento para Abrir Trámite de Incidente Reparación Integral | J46: Lectura de Fallo
B47: Primera Audiencia | J47: Sentencia
B48: Segunda Audiencia | H48: Incidente Reparación Integral | J48: Solicitud a Juez de Conocimiento para Abrir Trámite de Incidente Reparación Integral
B49: Tercera Audiencia - Pruebas y Alegaciones - | J49: Primera Audiencia
A50: Preacuerdos | B50: Audiencia Preacuerdo | J50: Segunda Audiencia
A51: Verificación allanamiento a cargos | B51: Verificación Allanamiento a Cargos | J51: Tercera Audiencia - Pruebas y Alegaciones -
A52: Preclusión | B52: Preclusión | H52: Preacuerdos | J52: Audiencia Preacuerdo
A53: Segunda Instancia | B53: Audiencia Lectura Decisión | H53: Verificación Allanamiento a Cargos | J53: Verificación Allanamiento a Cargos
H54: Preclusión | J54: Preclusión
H55: Segunda Instancia | J55: Audiencia Lectura Decisión
A56: Total Audiencias Realizadas en el Mes | D56: =SUM(D34:D53) -> 0 | E56: =SUM(E34:E53) -> 0 | F56: =SUM(F34:F53) -> 0 | G56: =SUM(G34:G53) -> 0 | H56: Total Audiencias Realizadas en el Mes | N56: =SUM(N34:N55) -> 0 | O56: =SUM(O34:O55) -> 0 | P56: =SUM(P34:P55) -> 0 | Q56: =SUM(Q34:Q55) -> 0 | R56: =SUM(R34:R55) -> 0 | S56: =SUM(S34:S55) -> 0 | T56: =SUM(T34:T55) -> 0 | U56: =SUM(U34:U55) -> 0
A58: Causa de Audiencias Realizadas, NO Asistidas por el Representante Judicial de Víctimas Procedimiento Abreviado | K58: No. de Audiencias Realizadas, NO Asistidas por el Representante Judicial de Víctimas Procedimiento Ordinario
A59: Causa / Tipo de Audiencia | C59: Otra Audiencia | D59: Cruce con Turno | E59: Estrategia Jurídica | F59: Misión de Trabajo | G59: Capacitación | H59: Barra | I59: Caso Fortuito Fuerza Mayor | J59: Otro | K59: Causa / Tipo de Audiencia | N59: Otra Audiencia | O59: Cruce con Turno | P59: Estrategia Jurídica | Q59: Misión de Trabajo | R59: Capacitación | S59: Barra | T59: Caso Fortuito Fuerza Mayor | U59: Otro
A60: P | K60: No. Mpal. | M60: P
M61: V
A62: V | K62: No. Circuito | M62: P
M63: V
A65: No. de Audiencias No Realizadas o Aplazadas en el Mes Procedimiento Abreviado | I65: P | J65: =SUM(B68:J69) -> 0 | K65: No. de Audiencias No Realizadas o Aplazadas en el Mes Procedimiento Ordinario | Q65: Total Mpal. | R65: P | S65: =SUM(M68:U68) -> 0 | T65: V | U65: =SUM(M69:U69) -> 0
I66: V | J66: =SUM(B70:J71) -> 0 | Q66: Total Circuito | R66: P | S66: =SUM(M70:U70) -> 0 | T66: V | U66: =SUM(M71:U71) -> 0
A67: Causa / Tipo de Audiencia | B67: Defensor Público | C67: Defensor de Confianza | D67: Juez | E67: Fiscal | F67: Indiciado | G67: Víctima | H67: ICBF | I67: INPEC | J67: RJV (Incidente) | K67: Causa / Tipo de Audiencia | M67: Defensor Público | N67: Defensor de Confianza | O67: Juez | P67: Fiscal | Q67: Indiciado | R67: Víctima | S67: ICBF | T67: INPEC | U67: RJV (Incidente)
A68: P | K68: No. Mpal. | L68: P
L69: V
A70: V | K70: No. Circuito | L70: P
L71: V
A73: 1098/2006 y 1257/2008 - HECHOS PUNIBLES LEYES
A74: PROGRAMA | F74: Homicidio | G74: Lesiones Personales | H74: Acceso Carnal con Menor de 14 Años | I74: Acto Sexual con Menor de 14 Años | J74: Acceso Carnal Violento | K74: Acto Sexual Violento | L74: Desaparición Forzada | M74: Secuestro Extorsivo | N74: Secuestro Simple | O74: Violencia Intrafamiliar | P74: Inasistencia Alimentaria | Q74: Hurto | R74: Concierto para Delinquir | S74: Otros | T74: Total
A75: Ley 1098 de 2006 | T75: =SUM(F75:S75) -> 0
A76: Ley 1257 de 2008 (Mujer) | T76: =SUM(F76:S76) -> 0
A77: Ley 1257 de 2008 (LGTBI) | T77: =SUM(F77:S77) -> 0
A78: LEY 1719/2014 - HECHOS PUNIBLES
A79: Tipo de Usuario | E79: N° de Poderes Asignados en el mes | H79: Acceso Carnal Abusivo en Persona Protegida Menor de 14 Años | J79: Actos Sexuales en Persona Protegida Menor de 14 Años | L79: Prostitución Forzada en Persona Protegida | M79: Esclavitud Sexual en Persona Protegida | N79: Trata de Personas en Persona Protegida | O79: Esterilización Forzada en Persona Protegida | P79: Embarazo Forzado en Persona Protegida | Q79: Desnudez Forzada en Persona Protegida | R79: Aborto Forzado en Persona Protegida | S79: Otros | T79: Total
A80: Menor de Edad | C80: Femenino | T80: =SUM(H80:S80) -> 0
C81: Masculino | T81: =SUM(H81:S81) -> 0
A82: Mujer | T82: =SUM(H82:S82) -> 0
A83: Hombre | T83: =SUM(H83:S83) -> 0
A84: LGTBI | T84: =SUM(H84:S84) -> 0
A85: Total | E85: =SUM(E80:G84) -> 0 | H85: =SUM(H80:I84) -> 0 | J85: =SUM(J80:K84) -> 0 | L85: =SUM(L80:L84) -> 0 | M85: =SUM(M80:M84) -> 0 | N85: =SUM(N80:N84) -> 0 | O85: =SUM(O80:O84) -> 0 | P85: =SUM(P80:P84) -> 0 | Q85: =SUM(Q80:Q84) -> 0 | R85: =SUM(R80:R84) -> 0 | S85: =SUM(S80:S84) -> 0 | ... U85: =SUM(U80:U84) -> 0
A86: LEY 985/2005 (DECRETO 1069/2014) - CONDUCTAS TIPIFICADAS
A87: Tipo de Usuario | E87: N° de Poderes Asignados en el mes | H87: Explotación Sexual | J87: Trabajos o Servicios Forzados | L87: Esclavitud | N87: Servidumbre | O87: Explotación Mendicidad Ajena | P87: Matrimonio Servil | Q87: Extracción de Organos | R87: Turismo Sexual | S87: Otros | T87: Total
A88: Menor de Edad | C88: Femenino | T88: =SUM(H88:S88) -> 0
C89: Masculino | T89: =SUM(H89:S89) -> 0
A90: Mujer | T90: =SUM(H90:S90) -> 0
A91: Hombre | T91: =SUM(H91:S91) -> 0
A92: LGTBI | T92: =SUM(H92:S92) -> 0
A93: Total | E93: =SUM(E88:G92) -> 0 | H93: =SUM(H88:I92) -> 0 | J93: =SUM(J88:K92) -> 0 | L93: =SUM(L88:M92) -> 0 | N93: =SUM(N88:N92) -> 0 | O93: =SUM(O88:O92) -> 0 | P93: =SUM(P88:P92) -> 0 | Q93: =SUM(Q88:Q92) -> 0 | R93: =SUM(R88:R92) -> 0 | S93: =SUM(S88:S92) -> 0 | T93: =SUM(T88:U92) -> 0
A94: LEY 1773 DE 2016 - CONDUCTAS TIPIFICADAS
A95: Tipo de Usuario | E95: N° de Poderes Asignados en el mes | H95: Daño en el Cuerpo o en la Salud con Cualquier Tipo de Agente Químico | K95: Daño o Deformidad Permanente | N95: Pérdida Parcial o Total | P95: Pérdida Funcional o Anatómica | R95: Deformidad en el Rostro | T95: Total
A96: Menor de Edad | C96: Femenino | T96: =SUM(H96:S96) -> 0
C97: Masculino | T97: =SUM(H97:S97) -> 0
A98: Mujer | T98: =SUM(H98:S98) -> 0
A99: Hombre | T99: =SUM(H99:S99) -> 0
A100: LGTBI | T100: =SUM(H100:S100) -> 0
A101: Total | E101: =SUM(E96:G100) -> 0 | H101: =SUM(H96:J100) -> 0 | K101: =SUM(K96:M100) -> 0 | N101: =SUM(N96:O100) -> 0 | P101: =SUM(P96:Q100) -> 0 | R101: =SUM(R96:S100) -> 0 | T101: =SUM(T96:U100) -> 0
A103: REPRESENTANTE JUDICIAL DE VÍCTIMAS
A105: Nombre del responsable de la elaboración del presente formulario:
A106: Fecha de elaboración:
C107: (dd-mm-aaaa)

Sheet 12
C1: Nombre del proceso/Subproceso: Atención y Trámite/Defensoría Pública | Q1: Código: SD-P07-F188
C2: Formulario: Informe Mensual Consolidado de Estadística RJV - Leyes 1098 de 2006, 1257 de 2008, 1719 de 2014, 985 de 2005, Decreto 1069 de 2014, Ley 1773 de 2016 y Ley 1761 de 2015 | Q2: Versión: 01
Q3: Vigente desde:
A6: REGIONAL: | G6: NOMBRE REPRESENTANTE JUDICIAL: | P6: PROGRAMA:
A7: AÑO: | G7: LUGAR DE EJECUCION: | P7: AREA:
A8: MES: | G8: CATEGORIA: | P8: SUB AREA:
A10: REPARTO | H10: Ley 1098 de 2006 (Víctimas Niños, Niñas y Adolescentes) | J10: Ley 1257 de 2008 (Violencia Contra la Mujer) | L10: Ley 1719 de 2014 (Violencia Sexual en el Conflicto Armado) | N10: Ley 985/2005 -Decreto 1069/2014 (Trata de Personas) | P10: Ley 1761 de 2015 (Feminicidio) | R10: Ley 1773 de 2016 (Ataques con Acidos) | T10: TOTAL
A11: No. de Poderes Vigentes del Mes Anterior | T11: =SUM(H11:S11) -> 0
A12: No. de Poderes Recibidos Durante el Mes | T12: =SUM(H12:S12) -> 0
A13: No. de Poderes Reasignados Durante el Mes | T13: =SUM(H13:S13) -> 0
A14: No. de Poderes Sustituidos Durante el Mes | T14: =SUM(H14:S14) -> 0
A15: No. de Poderes Terminados Durante el Mes | T15: =SUM(H15:S15) -> 0
A16: No. de Poderes Vigentes | H16: =(H11+H12+H13)-(H14+H15) -> 0 | J16: =(J11+J12+J13)-(J14+J15) -> 0 | L16: =(L11+L12+L13)-(L14+L15) -> 0 | N16: =(N11+N12+N13)-(N14+N15) -> 0 | P16: =(P11+P12+P13)-(P14+P15) -> 0 | R16: =(R11+R12+R13)-(R14+R15) -> 0 | T16: =SUM(H16:S16) -> 0
A17: No. de Poderes Vigentes Inactivos | T17: =SUM(H17:S17) -> 0
A18: No. de Poderes Vigentes Activos | H18: =H16-H17 -> 0 | I18: =(K13+K14)-K15 -> 0 | J18: =J16-J17 -> 0 | K18: =(M13+M14)-M15 -> 0 | L18: =L16-L17 -> 0 | M18: =(O13+O14)-O15 -> 0 | N18: =N16-N17 -> 0 | O18: =(Q13+Q14)-Q15 -> 0 | P18: =P16-P17 -> 0 | Q18: =(S13+S14)-S15 -> 0 | R18: =R16-R17 -> 0 | S18: =(U13+U14)-U15 -> 0 | T18: =SUM(H18:S18) -> 0
A19: No. de Asistencias Técnicas | T19: =SUM(H19:S19) -> 0
A20: COMUNICACIONES
A21: No. de Víctimas Contactadas Telefónicamente Durante el Mes | T21: =SUM(H21:S21) -> 0
A22: No. de Comunicaciones Escritas Durante el Mes | T22: =SUM(H22:S22) -> 0
A23: No. de Entrevistas Personales Durante el Mes | T23: =SUM(H23:S23) -> 0
A25: CONTROL EN LA GESTION DEFENSORIAL
A26: PROCEDIMIENTO ABREVIADO | H26: PROCEDIMIENTO ORDINARIO
A27: Modalidad | F27: P | G27: V | H27: Modalidad | T27: P | U27: V
A28: No. de Audiencias Programadas en el Mes | H28: No. de Audiencias Programadas en el Mes
A29: No. de Audiencias Realizadas en el Mes | F29: =SUM(D56,F56) -> 0 | G29: =SUM(E56,G56) -> 0 | H29: No. de Audiencias Realizadas en el Mes | T29: =SUM(N56,P56,R56,T56) -> 0 | U29: =SUM(O56,Q56,S56,U56) -> 0
A30: Descripción por Tipo de Audiencia Realizada | H30: Descripción por Tipo de Audiencia Realizada
A31: Etapa Procesal | B31: Tipo de Audiencia | D31: Asistidas por el RJV | F31: No Asistidas por el RJV | H31: Etapa Procesal | J31: Tipo de Audiencia | N31: Municipal | R31: Circuito
D32: P | E32: V | F32: P | G32: V | N32: Asistidas por el RJV | P32: No Asistidas por el RJV | R32: Asistidas por el RJV | T32: No Asistidas por el RJV
N33: P | O33: V | P33: P | Q33: V | R33: P | S33: V | T33: P | U33: V
A34: Fase de indagación | B34: Legalización de Captura | H34: Fase de indagación
B35: Medidas de Aseguramiento | H35: Audiencias Preliminares | J35: Solicitud Desarchivo Indagación Preliminar
B36: Medidas de Protección | J36: Medidas de Protección
B37: Principio de Oportunidad | J37: Legalización de Captura
B38: Otras Audiencias Preliminares | J38: Imputación
A39: Citación para Traslado del Escrito de Acusación | J39: Solicitud Medidas Cautelares
A40: Audiencia Concentrada | B40: Formalización del Traslado del Escrito de Acusación | J40: Medidas de Aseguramiento
B41: Se Enuncia la Práctica de Pruebas y se Controvierten las mismas | J41: Principio de Oportunidad
A42: Audiencias de Juicio | B42: Traslado Escrito Acusación | J42: Otras Audiencias Preliminares
B43: Audiencia Concentrada | H43: Audiencias de Juicio | J43: Audiencia de Acusación
B44: Juicio Oral | J44: Audiencia Preparatoria
B45: Traslado del Fallo | J45: Juicio Oral
A46: Incidente Reparación Integral | B46: Solicitud a Juez de Conocimiento para Abrir Trámite de Incidente Reparación Integral | J46: Lectura de Fallo
B47: Primera Audiencia | J47: Sentencia
B48: Segunda Audiencia | H48: Incidente Reparación Integral | J48: Solicitud a Juez de Conocimiento para Abrir Trámite de Incidente Reparación Integral
B49: Tercera Audiencia - Pruebas y Alegaciones - | J49: Primera Audiencia
A50: Preacuerdos | B50: Audiencia Preacuerdo | J50: Segunda Audiencia
A51: Verificación allanamiento a cargos | B51: Verificación Allanamiento a Cargos | J51: Tercera Audiencia - Pruebas y Alegaciones -
A52: Preclusión | B52: Preclusión | H52: Preacuerdos | J52: Audiencia Preacuerdo
A53: Segunda Instancia | B53: Audiencia Lectura Decisión | H53: Verificación Allanamiento a Cargos | J53: Verificación Allanamiento a Cargos
H54: Preclusión | J54: Preclusión
H55: Segunda Instancia | J55: Audiencia Lectura Decisión
A56: Total Audiencias Realizadas en el Mes | D56: =SUM(D34:D53) -> 0 | E56: =SUM(E34:E53) -> 0 | F56: =SUM(F34:F53) -> 0 | G56: =SUM(G34:G53) -> 0 | H56: Total Audiencias Realizadas en el Mes | N56: =SUM(N34:N55) -> 0 | O56: =SUM(O34:O55) -> 0 | P56: =SUM(P34:P55) -> 0 | Q56: =SUM(Q34:Q55) -> 0 | R56: =SUM(R34:R55) -> 0 | S56: =SUM(S34:S55) -> 0 | T56: =SUM(T34:T55) -> 0 | U56: =SUM(U34:U55) -> 0
A58: Causa de Audiencias Realizadas, NO Asistidas por el Representante Judicial de Víctimas Procedimiento Abreviado | K58: No. de Audiencias Realizadas, NO Asistidas por el Representante Judicial de Víctimas Procedimiento Ordinario
A59: Causa / Tipo de Audiencia | C59: Otra Audiencia | D59: Cruce con Turno | E59: Estrategia Jurídica | F59: Misión de Trabajo | G59: Capacitación | H59: Barra | I59: Caso Fortuito Fuerza Mayor | J59: Otro | K59: Causa / Tipo de Audiencia | N59: Otra Audiencia | O59: Cruce con Turno | P59: Estrategia Jurídica | Q59: Misión de Trabajo | R59: Capacitación | S59: Barra | T59: Caso Fortuito Fuerza Mayor | U59: Otro
A60: P | K60: No. Mpal. | M60: P
M61: V
A62: V | K62: No. Circuito | M62: P
M63: V
A65: No. de Audiencias No Realizadas o Aplazadas en el Mes Procedimiento Abreviado | I65: P | J65: =SUM(B68:J69) -> 0 | K65: No. de Audiencias No Realizadas o Aplazadas en el Mes Procedimiento Ordinario | Q65: Total Mpal. | R65: P | S65: =SUM(M68:U68) -> 0 | T65: V | U65: =SUM(M69:U69) -> 0
I66: V | J66: =SUM(B70:J71) -> 0 | Q66: Total Circuito | R66: P | S66: =SUM(M70:U70) -> 0 | T66: V | U66: =SUM(M71:U71) -> 0
A67: Causa / Tipo de Audiencia | B67: Defensor Público | C67: Defensor de Confianza | D67: Juez | E67: Fiscal | F67: Indiciado | G67: Víctima | H67: ICBF | I67: INPEC | J67: RJV (Incidente) | K67: Causa / Tipo de Audiencia | M67: Defensor Público | N67: Defensor de Confianza | O67: Juez | P67: Fiscal | Q67: Indiciado | R67: Víctima | S67: ICBF | T67: INPEC | U67: RJV (Incidente)
A68: P | K68: No. Mpal. | L68: P
L69: V
A70: V | K70: No. Circuito | L70: P
L71: V
A73: 1098/2006 y 1257/2008 - HECHOS PUNIBLES LEYES
A74: PROGRAMA | F74: Homicidio | G74: Lesiones Personales | H74: Acceso Carnal con Menor de 14 Años | I74: Acto Sexual con Menor de 14 Años | J74: Acceso Carnal Violento | K74: Acto Sexual Violento | L74: Desaparición Forzada | M74: Secuestro Extorsivo | N74: Secuestro Simple | O74: Violencia Intrafamiliar | P74: Inasistencia Alimentaria | Q74: Hurto | R74: Concierto para Delinquir | S74: Otros | T74: Total
A75: Ley 1098 de 2006 | T75: =SUM(F75:S75) -> 0
A76: Ley 1257 de 2008 (Mujer) | T76: =SUM(F76:S76) -> 0
A77: Ley 1257 de 2008 (LGTBI) | T77: =SUM(F77:S77) -> 0
A78: LEY 1719/2014 - HECHOS PUNIBLES
A79: Tipo de Usuario | E79: N° de Poderes Asignados en el mes | H79: Acceso Carnal Abusivo en Persona Protegida Menor de 14 Años | J79: Actos Sexuales en Persona Protegida Menor de 14 Años | L79: Prostitución Forzada en Persona Protegida | M79: Esclavitud Sexual en Persona Protegida | N79: Trata de Personas en Persona Protegida | O79: Esterilización Forzada en Persona Protegida | P79: Embarazo Forzado en Persona Protegida | Q79: Desnudez Forzada en Persona Protegida | R79: Aborto Forzado en Persona Protegida | S79: Otros | T79: Total
A80: Menor de Edad | C80: Femenino | T80: =SUM(H80:S80) -> 0
C81: Masculino | T81: =SUM(H81:S81) -> 0
A82: Mujer | T82: =SUM(H82:S82) -> 0
A83: Hombre | T83: =SUM(H83:S83) -> 0
A84: LGTBI | T84: =SUM(H84:S84) -> 0
A85: Total | E85: =SUM(E80:G84) -> 0 | H85: =SUM(H80:I84) -> 0 | J85: =SUM(J80:K84) -> 0 | L85: =SUM(L80:L84) -> 0 | M85: =SUM(M80:M84) -> 0 | N85: =SUM(N80:N84) -> 0 | O85: =SUM(O80:O84) -> 0 | P85: =SUM(P80:P84) -> 0 | Q85: =SUM(Q80:Q84) -> 0 | R85: =SUM(R80:R84) -> 0 | S85: =SUM(S80:S84) -> 0 | ... U85: =SUM(U80:U84) -> 0
A86: LEY 985/2005 (DECRETO 1069/2014) - CONDUCTAS TIPIFICADAS
A87: Tipo de Usuario | E87: N° de Poderes Asignados en el mes | H87: Explotación Sexual | J87: Trabajos o Servicios Forzados | L87: Esclavitud | N87: Servidumbre | O87: Explotación Mendicidad Ajena | P87: Matrimonio Servil | Q87: Extracción de Organos | R87: Turismo Sexual | S87: Otros | T87: Total
A88: Menor de Edad | C88: Femenino | T88: =SUM(H88:S88) -> 0
C89: Masculino | T89: =SUM(H89:S89) -> 0
A90: Mujer | T90: =SUM(H90:S90) -> 0
A91: Hombre | T91: =SUM(H91:S91) -> 0
A92: LGTBI | T92: =SUM(H92:S92) -> 0
A93: Total | E93: =SUM(E88:G92) -> 0 | H93: =SUM(H88:I92) -> 0 | J93: =SUM(J88:K92) -> 0 | L93: =SUM(L88:M92) -> 0 | N93: =SUM(N88:N92) -> 0 | O93: =SUM(O88:O92) -> 0 | P93: =SUM(P88:P92) -> 0 | Q93: =SUM(Q88:Q92) -> 0 | R93: =SUM(R88:R92) -> 0 | S93: =SUM(S88:S92) -> 0 | T93: =SUM(T88:U92) -> 0
A94: LEY 1773 DE 2016 - CONDUCTAS TIPIFICADAS
A95: Tipo de Usuario | E95: N° de Poderes Asignados en el mes | H95: Daño en el Cuerpo o en la Salud con Cualquier Tipo de Agente Químico | K95: Daño o Deformidad Permanente | N95: Pérdida Parcial o Total | P95: Pérdida Funcional o Anatómica | R95: Deformidad en el Rostro | T95: Total
A96: Menor de Edad | C96: Femenino | T96: =SUM(H96:S96) -> 0
C97: Masculino | T97: =SUM(H97:S97) -> 0
A98: Mujer | T98: =SUM(H98:S98) -> 0
A99: Hombre | T99: =SUM(H99:S99) -> 0
A100: LGTBI | T100: =SUM(H100:S100) -> 0
A101: Total | E101: =SUM(E96:G100) -> 0 | H101: =SUM(H96:J100) -> 0 | K101: =SUM(K96:M100) -> 0 | N101: =SUM(N96:O100) -> 0 | P101: =SUM(P96:Q100) -> 0 | R101: =SUM(R96:S100) -> 0 | T101: =SUM(T96:U100) -> 0
A103: REPRESENTANTE JUDICIAL DE VÍCTIMAS
A105: Nombre del responsable de la elaboración del presente formulario:
A106: Fecha de elaboración:
C107: (dd-mm-aaaa)

Sheet 13
C1: Nombre del proceso/Subproceso: Atención y Trámite/Defensoría Pública | Q1: Código: SD-P07-F188
C2: Formulario: Informe Mensual Consolidado de Estadística RJV - Leyes 1098 de 2006, 1257 de 2008, 1719 de 2014, 985 de 2005, Decreto 1069 de 2014, Ley 1773 de 2016 y Ley 1761 de 2015 | Q2: Versión: 01
Q3: Vigente desde:
A6: REGIONAL: | G6: NOMBRE REPRESENTANTE JUDICIAL: | P6: PROGRAMA:
A7: AÑO: | G7: LUGAR DE EJECUCION: | P7: AREA:
A8: MES: | G8: CATEGORIA: | P8: SUB AREA:
A10: REPARTO | H10: Ley 1098 de 2006 (Víctimas Niños, Niñas y Adolescentes) | J10: Ley 1257 de 2008 (Violencia Contra la Mujer) | L10: Ley 1719 de 2014 (Violencia Sexual en el Conflicto Armado) | N10: Ley 985/2005 -Decreto 1069/2014 (Trata de Personas) | P10: Ley 1761 de 2015 (Feminicidio) | R10: Ley 1773 de 2016 (Ataques con Acidos) | T10: TOTAL
A11: No. de Poderes Vigentes del Mes Anterior | T11: =SUM(H11:S11) -> 0
A12: No. de Poderes Recibidos Durante el Mes | T12: =SUM(H12:S12) -> 0
A13: No. de Poderes Reasignados Durante el Mes | T13: =SUM(H13:S13) -> 0
A14: No. de Poderes Sustituidos Durante el Mes | T14: =SUM(H14:S14) -> 0
A15: No. de Poderes Terminados Durante el Mes | T15: =SUM(H15:S15) -> 0
A16: No. de Poderes Vigentes | H16: =(H11+H12+H13)-(H14+H15) -> 0 | J16: =(J11+J12+J13)-(J14+J15) -> 0 | L16: =(L11+L12+L13)-(L14+L15) -> 0 | N16: =(N11+N12+N13)-(N14+N15) -> 0 | P16: =(P11+P12+P13)-(P14+P15) -> 0 | R16: =(R11+R12+R13)-(R14+R15) -> 0 | T16: =SUM(H16:S16) -> 0
A17: No. de Poderes Vigentes Inactivos | T17: =SUM(H17:S17) -> 0
A18: No. de Poderes Vigentes Activos | H18: =H16-H17 -> 0 | I18: =(K13+K14)-K15 -> 0 | J18: =J16-J17 -> 0 | K18: =(M13+M14)-M15 -> 0 | L18: =L16-L17 -> 0 | M18: =(O13+O14)-O15 -> 0 | N18: =N16-N17 -> 0 | O18: =(Q13+Q14)-Q15 -> 0 | P18: =P16-P17 -> 0 | Q18: =(S13+S14)-S15 -> 0 | R18: =R16-R17 -> 0 | S18: =(U13+U14)-U15 -> 0 | T18: =SUM(H18:S18) -> 0
A19: No. de Asistencias Técnicas | T19: =SUM(H19:S19) -> 0
A20: COMUNICACIONES
A21: No. de Víctimas Contactadas Telefónicamente Durante el Mes | T21: =SUM(H21:S21) -> 0
A22: No. de Comunicaciones Escritas Durante el Mes | T22: =SUM(H22:S22) -> 0
A23: No. de Entrevistas Personales Durante el Mes | T23: =SUM(H23:S23) -> 0
A25: CONTROL EN LA GESTION DEFENSORIAL
A26: PROCEDIMIENTO ABREVIADO | H26: PROCEDIMIENTO ORDINARIO
A27: Modalidad | F27: P | G27: V | H27: Modalidad | T27: P | U27: V
A28: No. de Audiencias Programadas en el Mes | H28: No. de Audiencias Programadas en el Mes
A29: No. de Audiencias Realizadas en el Mes | F29: =SUM(D56,F56) -> 0 | G29: =SUM(E56,G56) -> 0 | H29: No. de Audiencias Realizadas en el Mes | T29: =SUM(N56,P56,R56,T56) -> 0 | U29: =SUM(O56,Q56,S56,U56) -> 0
A30: Descripción por Tipo de Audiencia Realizada | H30: Descripción por Tipo de Audiencia Realizada
A31: Etapa Procesal | B31: Tipo de Audiencia | D31: Asistidas por el RJV | F31: No Asistidas por el RJV | H31: Etapa Procesal | J31: Tipo de Audiencia | N31: Municipal | R31: Circuito
D32: P | E32: V | F32: P | G32: V | N32: Asistidas por el RJV | P32: No Asistidas por el RJV | R32: Asistidas por el RJV | T32: No Asistidas por el RJV
N33: P | O33: V | P33: P | Q33: V | R33: P | S33: V | T33: P | U33: V
A34: Fase de indagación | B34: Legalización de Captura | H34: Fase de indagación
B35: Medidas de Aseguramiento | H35: Audiencias Preliminares | J35: Solicitud Desarchivo Indagación Preliminar
B36: Medidas de Protección | J36: Medidas de Protección
B37: Principio de Oportunidad | J37: Legalización de Captura
B38: Otras Audiencias Preliminares | J38: Imputación
A39: Citación para Traslado del Escrito de Acusación | J39: Solicitud Medidas Cautelares
A40: Audiencia Concentrada | B40: Formalización del Traslado del Escrito de Acusación | J40: Medidas de Aseguramiento
B41: Se Enuncia la Práctica de Pruebas y se Controvierten las mismas | J41: Principio de Oportunidad
A42: Audiencias de Juicio | B42: Traslado Escrito Acusación | J42: Otras Audiencias Preliminares
B43: Audiencia Concentrada | H43: Audiencias de Juicio | J43: Audiencia de Acusación
B44: Juicio Oral | J44: Audiencia Preparatoria
B45: Traslado del Fallo | J45: Juicio Oral
A46: Incidente Reparación Integral | B46: Solicitud a Juez de Conocimiento para Abrir Trámite de Incidente Reparación Integral | J46: Lectura de Fallo
B47: Primera Audiencia | J47: Sentencia
B48: Segunda Audiencia | H48: Incidente Reparación Integral | J48: Solicitud a Juez de Conocimiento para Abrir Trámite de Incidente Reparación Integral
B49: Tercera Audiencia - Pruebas y Alegaciones - | J49: Primera Audiencia
A50: Preacuerdos | B50: Audiencia Preacuerdo | J50: Segunda Audiencia
A51: Verificación allanamiento a cargos | B51: Verificación Allanamiento a Cargos | J51: Tercera Audiencia - Pruebas y Alegaciones -
A52: Preclusión | B52: Preclusión | H52: Preacuerdos | J52: Audiencia Preacuerdo
A53: Segunda Instancia | B53: Audiencia Lectura Decisión | H53: Verificación Allanamiento a Cargos | J53: Verificación Allanamiento a Cargos
H54: Preclusión | J54: Preclusión
H55: Segunda Instancia | J55: Audiencia Lectura Decisión
A56: Total Audiencias Realizadas en el Mes | D56: =SUM(D34:D53) -> 0 | E56: =SUM(E34:E53) -> 0 | F56: =SUM(F34:F53) -> 0 | G56: =SUM(G34:G53) -> 0 | H56: Total Audiencias Realizadas en el Mes | N56: =SUM(N34:N55) -> 0 | O56: =SUM(O34:O55) -> 0 | P56: =SUM(P34:P55) -> 0 | Q56: =SUM(Q34:Q55) -> 0 | R56: =SUM(R34:R55) -> 0 | S56: =SUM(S34:S55) -> 0 | T56: =SUM(T34:T55) -> 0 | U56: =SUM(U34:U55) -> 0
A58: Causa de Audiencias Realizadas, NO Asistidas por el Representante Judicial de Víctimas Procedimiento Abreviado | K58: No. de Audiencias Realizadas, NO Asistidas por el Representante Judicial de Víctimas Procedimiento Ordinario
A59: Causa / Tipo de Audiencia | C59: Otra Audiencia | D59: Cruce con Turno | E59: Estrategia Jurídica | F59: Misión de Trabajo | G59: Capacitación | H59: Barra | I59: Caso Fortuito Fuerza Mayor | J59: Otro | K59: Causa / Tipo de Audiencia | N59: Otra Audiencia | O59: Cruce con Turno | P59: Estrategia Jurídica | Q59: Misión de Trabajo | R59: Capacitación | S59: Barra | T59: Caso Fortuito Fuerza Mayor | U59: Otro
A60: P | K60: No. Mpal. | M60: P
M61: V
A62: V | K62: No. Circuito | M62: P
M63: V
A65: No. de Audiencias No Realizadas o Aplazadas en el Mes Procedimiento Abreviado | I65: P | J65: =SUM(B68:J69) -> 0 | K65: No. de Audiencias No Realizadas o Aplazadas en el Mes Procedimiento Ordinario | Q65: Total Mpal. | R65: P | S65: =SUM(M68:U68) -> 0 | T65: V | U65: =SUM(M69:U69) -> 0
I66: V | J66: =SUM(B70:J71) -> 0 | Q66: Total Circuito | R66: P | S66: =SUM(M70:U70) -> 0 | T66: V | U66: =SUM(M71:U71) -> 0
A67: Causa / Tipo de Audiencia | B67: Defensor Público | C67: Defensor de Confianza | D67: Juez | E67: Fiscal | F67: Indiciado | G67: Víctima | H67: ICBF | I67: INPEC | J67: RJV (Incidente) | K67: Causa / Tipo de Audiencia | M67: Defensor Público | N67: Defensor de Confianza | O67: Juez | P67: Fiscal | Q67: Indiciado | R67: Víctima | S67: ICBF | T67: INPEC | U67: RJV (Incidente)
A68: P | K68: No. Mpal. | L68: P
L69: V
A70: V | K70: No. Circuito | L70: P
L71: V
A73: 1098/2006 y 1257/2008 - HECHOS PUNIBLES LEYES
A74: PROGRAMA | F74: Homicidio | G74: Lesiones Personales | H74: Acceso Carnal con Menor de 14 Años | I74: Acto Sexual con Menor de 14 Años | J74: Acceso Carnal Violento | K74: Acto Sexual Violento | L74: Desaparición Forzada | M74: Secuestro Extorsivo | N74: Secuestro Simple | O74: Violencia Intrafamiliar | P74: Inasistencia Alimentaria | Q74: Hurto | R74: Concierto para Delinquir | S74: Otros | T74: Total
A75: Ley 1098 de 2006 | T75: =SUM(F75:S75) -> 0
A76: Ley 1257 de 2008 (Mujer) | T76: =SUM(F76:S76) -> 0
A77: Ley 1257 de 2008 (LGTBI) | T77: =SUM(F77:S77) -> 0
A78: LEY 1719/2014 - HECHOS PUNIBLES
A79: Tipo de Usuario | E79: N° de Poderes Asignados en el mes | H79: Acceso Carnal Abusivo en Persona Protegida Menor de 14 Años | J79: Actos Sexuales en Persona Protegida Menor de 14 Años | L79: Prostitución Forzada en Persona Protegida | M79: Esclavitud Sexual en Persona Protegida | N79: Trata de Personas en Persona Protegida | O79: Esterilización Forzada en Persona Protegida | P79: Embarazo Forzado en Persona Protegida | Q79: Desnudez Forzada en Persona Protegida | R79: Aborto Forzado en Persona Protegida | S79: Otros | T79: Total
A80: Menor de Edad | C80: Femenino | T80: =SUM(H80:S80) -> 0
C81: Masculino | T81: =SUM(H81:S81) -> 0
A82: Mujer | T82: =SUM(H82:S82) -> 0
A83: Hombre | T83: =SUM(H83:S83) -> 0
A84: LGTBI | T84: =SUM(H84:S84) -> 0
A85: Total | E85: =SUM(E80:G84) -> 0 | H85: =SUM(H80:I84) -> 0 | J85: =SUM(J80:K84) -> 0 | L85: =SUM(L80:L84) -> 0 | M85: =SUM(M80:M84) -> 0 | N85: =SUM(N80:N84) -> 0 | O85: =SUM(O80:O84) -> 0 | P85: =SUM(P80:P84) -> 0 | Q85: =SUM(Q80:Q84) -> 0 | R85: =SUM(R80:R84) -> 0 | S85: =SUM(S80:S84) -> 0 | ... U85: =SUM(U80:U84) -> 0
A86: LEY 985/2005 (DECRETO 1069/2014) - CONDUCTAS TIPIFICADAS
A87: Tipo de Usuario | E87: N° de Poderes Asignados en el mes | H87: Explotación Sexual | J87: Trabajos o Servicios Forzados | L87: Esclavitud | N87: Servidumbre | O87: Explotación Mendicidad Ajena | P87: Matrimonio Servil | Q87: Extracción de Organos | R87: Turismo Sexual | S87: Otros | T87: Total
A88: Menor de Edad | C88: Femenino | T88: =SUM(H88:S88) -> 0
C89: Masculino | T89: =SUM(H89:S89) -> 0
A90: Mujer | T90: =SUM(H90:S90) -> 0
A91: Hombre | T91: =SUM(H91:S91) -> 0
A92: LGTBI | T92: =SUM(H92:S92) -> 0
A93: Total | E93: =SUM(E88:G92) -> 0 | H93: =SUM(H88:I92) -> 0 | J93: =SUM(J88:K92) -> 0 | L93: =SUM(L88:M92) -> 0 | N93: =SUM(N88:N92) -> 0 | O93: =SUM(O88:O92) -> 0 | P93: =SUM(P88:P92) -> 0 | Q93: =SUM(Q88:Q92) -> 0 | R93: =SUM(R88:R92) -> 0 | S93: =SUM(S88:S92) -> 0 | T93: =SUM(T88:U92) -> 0
A94: LEY 1773 DE 2016 - CONDUCTAS TIPIFICADAS
A95: Tipo de Usuario | E95: N° de Poderes Asignados en el mes | H95: Daño en el Cuerpo o en la Salud con Cualquier Tipo de Agente Químico | K95: Daño o Deformidad Permanente | N95: Pérdida Parcial o Total | P95: Pérdida Funcional o Anatómica | R95: Deformidad en el Rostro | T95: Total
A96: Menor de Edad | C96: Femenino | T96: =SUM(H96:S96) -> 0
C97: Masculino | T97: =SUM(H97:S97) -> 0
A98: Mujer | T98: =SUM(H98:S98) -> 0
A99: Hombre | T99: =SUM(H99:S99) -> 0
A100: LGTBI | T100: =SUM(H100:S100) -> 0
A101: Total | E101: =SUM(E96:G100) -> 0 | H101: =SUM(H96:J100) -> 0 | K101: =SUM(K96:M100) -> 0 | N101: =SUM(N96:O100) -> 0 | P101: =SUM(P96:Q100) -> 0 | R101: =SUM(R96:S100) -> 0 | T101: =SUM(T96:U100) -> 0
A103: REPRESENTANTE JUDICIAL DE VÍCTIMAS
A105: Nombre del responsable de la elaboración del presente formulario:
A106: Fecha de elaboración:
C107: (dd-mm-aaaa)

Sheet 14
C1: Nombre del proceso/Subproceso: Atención y Trámite/Defensoría Pública | Q1: Código: SD-P07-F188
C2: Formulario: Informe Mensual Consolidado de Estadística RJV - Leyes 1098 de 2006, 1257 de 2008, 1719 de 2014, 985 de 2005, Decreto 1069 de 2014, Ley 1773 de 2016 y Ley 1761 de 2015 | Q2: Versión: 01
Q3: Vigente desde:
A6: REGIONAL: | G6: NOMBRE REPRESENTANTE JUDICIAL: | P6: PROGRAMA:
A7: AÑO: | G7: LUGAR DE EJECUCION: | P7: AREA:
A8: MES: | G8: CATEGORIA: | P8: SUB AREA:
A10: REPARTO | H10: Ley 1098 de 2006 (Víctimas Niños, Niñas y Adolescentes) | J10: Ley 1257 de 2008 (Violencia Contra la Mujer) | L10: Ley 1719 de 2014 (Violencia Sexual en el Conflicto Armado) | N10: Ley 985/2005 -Decreto 1069/2014 (Trata de Personas) | P10: Ley 1761 de 2015 (Feminicidio) | R10: Ley 1773 de 2016 (Ataques con Acidos) | T10: TOTAL
A11: No. de Poderes Vigentes del Mes Anterior | T11: =SUM(H11:S11) -> 0
A12: No. de Poderes Recibidos Durante el Mes | T12: =SUM(H12:S12) -> 0
A13: No. de Poderes Reasignados Durante el Mes | T13: =SUM(H13:S13) -> 0
A14: No. de Poderes Sustituidos Durante el Mes | T14: =SUM(H14:S14) -> 0
A15: No. de Poderes Terminados Durante el Mes | T15: =SUM(H15:S15) -> 0
A16: No. de Poderes Vigentes | H16: =(H11+H12+H13)-(H14+H15) -> 0 | J16: =(J11+J12+J13)-(J14+J15) -> 0 | L16: =(L11+L12+L13)-(L14+L15) -> 0 | N16: =(N11+N12+N13)-(N14+N15) -> 0 | P16: =(P11+P12+P13)-(P14+P15) -> 0 | R16: =(R11+R12+R13)-(R14+R15) -> 0 | T16: =SUM(H16:S16) -> 0
A17: No. de Poderes Vigentes Inactivos | T17: =SUM(H17:S17) -> 0
A18: No. de Poderes Vigentes Activos | H18: =H16-H17 -> 0 | I18: =(K13+K14)-K15 -> 0 | J18: =J16-J17 -> 0 | K18: =(M13+M14)-M15 -> 0 | L18: =L16-L17 -> 0 | M18: =(O13+O14)-O15 -> 0 | N18: =N16-N17 -> 0 | O18: =(Q13+Q14)-Q15 -> 0 | P18: =P16-P17 -> 0 | Q18: =(S13+S14)-S15 -> 0 | R18: =R16-R17 -> 0 | S18: =(U13+U14)-U15 -> 0 | T18: =SUM(H18:S18) -> 0
A19: No. de Asistencias Técnicas | T19: =SUM(H19:S19) -> 0
A20: COMUNICACIONES
A21: No. de Víctimas Contactadas Telefónicamente Durante el Mes | T21: =SUM(H21:S21) -> 0
A22: No. de Comunicaciones Escritas Durante el Mes | T22: =SUM(H22:S22) -> 0
A23: No. de Entrevistas Personales Durante el Mes | T23: =SUM(H23:S23) -> 0
A25: CONTROL EN LA GESTION DEFENSORIAL
A26: PROCEDIMIENTO ABREVIADO | H26: PROCEDIMIENTO ORDINARIO
A27: Modalidad | F27: P | G27: V | H27: Modalidad | T27: P | U27: V
A28: No. de Audiencias Programadas en el Mes | H28: No. de Audiencias Programadas en el Mes
A29: No. de Audiencias Realizadas en el Mes | F29: =SUM(D56,F56) -> 0 | G29: =SUM(E56,G56) -> 0 | H29: No. de Audiencias Realizadas en el Mes | T29: =SUM(N56,P56,R56,T56) -> 0 | U29: =SUM(O56,Q56,S56,U56) -> 0
A30: Descripción por Tipo de Audiencia Realizada | H30: Descripción por Tipo de Audiencia Realizada
A31: Etapa Procesal | B31: Tipo de Audiencia | D31: Asistidas por el RJV | F31: No Asistidas por el RJV | H31: Etapa Procesal | J31: Tipo de Audiencia | N31: Municipal | R31: Circuito
D32: P | E32: V | F32: P | G32: V | N32: Asistidas por el RJV | P32: No Asistidas por el RJV | R32: Asistidas por el RJV | T32: No Asistidas por el RJV
N33: P | O33: V | P33: P | Q33: V | R33: P | S33: V | T33: P | U33: V
A34: Fase de indagación | B34: Legalización de Captura | H34: Fase de indagación
B35: Medidas de Aseguramiento | H35: Audiencias Preliminares | J35: Solicitud Desarchivo Indagación Preliminar
B36: Medidas de Protección | J36: Medidas de Protección
B37: Principio de Oportunidad | J37: Legalización de Captura
B38: Otras Audiencias Preliminares | J38: Imputación
A39: Citación para Traslado del Escrito de Acusación | J39: Solicitud Medidas Cautelares
A40: Audiencia Concentrada | B40: Formalización del Traslado del Escrito de Acusación | J40: Medidas de Aseguramiento
B41: Se Enuncia la Práctica de Pruebas y se Controvierten las mismas | J41: Principio de Oportunidad
A42: Audiencias de Juicio | B42: Traslado Escrito Acusación | J42: Otras Audiencias Preliminares
B43: Audiencia Concentrada | H43: Audiencias de Juicio | J43: Audiencia de Acusación
B44: Juicio Oral | J44: Audiencia Preparatoria
B45: Traslado del Fallo | J45: Juicio Oral
A46: Incidente Reparación Integral | B46: Solicitud a Juez de Conocimiento para Abrir Trámite de Incidente Reparación Integral | J46: Lectura de Fallo
B47: Primera Audiencia | J47: Sentencia
B48: Segunda Audiencia | H48: Incidente Reparación Integral | J48: Solicitud a Juez de Conocimiento para Abrir Trámite de Incidente Reparación Integral
B49: Tercera Audiencia - Pruebas y Alegaciones - | J49: Primera Audiencia
A50: Preacuerdos | B50: Audiencia Preacuerdo | J50: Segunda Audiencia
A51: Verificación allanamiento a cargos | B51: Verificación Allanamiento a Cargos | J51: Tercera Audiencia - Pruebas y Alegaciones -
A52: Preclusión | B52: Preclusión | H52: Preacuerdos | J52: Audiencia Preacuerdo
A53: Segunda Instancia | B53: Audiencia Lectura Decisión | H53: Verificación Allanamiento a Cargos | J53: Verificación Allanamiento a Cargos
H54: Preclusión | J54: Preclusión
H55: Segunda Instancia | J55: Audiencia Lectura Decisión
A56: Total Audiencias Realizadas en el Mes | D56: =SUM(D34:D53) -> 0 | E56: =SUM(E34:E53) -> 0 | F56: =SUM(F34:F53) -> 0 | G56: =SUM(G34:G53) -> 0 | H56: Total Audiencias Realizadas en el Mes | N56: =SUM(N34:N55) -> 0 | O56: =SUM(O34:O55) -> 0 | P56: =SUM(P34:P55) -> 0 | Q56: =SUM(Q34:Q55) -> 0 | R56: =SUM(R34:R55) -> 0 | S56: =SUM(S34:S55) -> 0 | T56: =SUM(T34:T55) -> 0 | U56: =SUM(U34:U55) -> 0
A58: Causa de Audiencias Realizadas, NO Asistidas por el Representante Judicial de Víctimas Procedimiento Abreviado | K58: No. de Audiencias Realizadas, NO Asistidas por el Representante Judicial de Víctimas Procedimiento Ordinario
A59: Causa / Tipo de Audiencia | C59: Otra Audiencia | D59: Cruce con Turno | E59: Estrategia Jurídica | F59: Misión de Trabajo | G59: Capacitación | H59: Barra | I59: Caso Fortuito Fuerza Mayor | J59: Otro | K59: Causa / Tipo de Audiencia | N59: Otra Audiencia | O59: Cruce con Turno | P59: Estrategia Jurídica | Q59: Misión de Trabajo | R59: Capacitación | S59: Barra | T59: Caso Fortuito Fuerza Mayor | U59: Otro
A60: P | K60: No. Mpal. | M60: P
M61: V
A62: V | K62: No. Circuito | M62: P
M63: V
A65: No. de Audiencias No Realizadas o Aplazadas en el Mes Procedimiento Abreviado | I65: P | J65: =SUM(B68:J69) -> 0 | K65: No. de Audiencias No Realizadas o Aplazadas en el Mes Procedimiento Ordinario | Q65: Total Mpal. | R65: P | S65: =SUM(M68:U68) -> 0 | T65: V | U65: =SUM(M69:U69) -> 0
I66: V | J66: =SUM(B70:J71) -> 0 | Q66: Total Circuito | R66: P | S66: =SUM(M70:U70) -> 0 | T66: V | U66: =SUM(M71:U71) -> 0
A67: Causa / Tipo de Audiencia | B67: Defensor Público | C67: Defensor de Confianza | D67: Juez | E67: Fiscal | F67: Indiciado | G67: Víctima | H67: ICBF | I67: INPEC | J67: RJV (Incidente) | K67: Causa / Tipo de Audiencia | M67: Defensor Público | N67: Defensor de Confianza | O67: Juez | P67: Fiscal | Q67: Indiciado | R67: Víctima | S67: ICBF | T67: INPEC | U67: RJV (Incidente)
A68: P | K68: No. Mpal. | L68: P
L69: V
A70: V | K70: No. Circuito | L70: P
L71: V
A73: 1098/2006 y 1257/2008 - HECHOS PUNIBLES LEYES
A74: PROGRAMA | F74: Homicidio | G74: Lesiones Personales | H74: Acceso Carnal con Menor de 14 Años | I74: Acto Sexual con Menor de 14 Años | J74: Acceso Carnal Violento | K74: Acto Sexual Violento | L74: Desaparición Forzada | M74: Secuestro Extorsivo | N74: Secuestro Simple | O74: Violencia Intrafamiliar | P74: Inasistencia Alimentaria | Q74: Hurto | R74: Concierto para Delinquir | S74: Otros | T74: Total
A75: Ley 1098 de 2006 | T75: =SUM(F75:S75) -> 0
A76: Ley 1257 de 2008 (Mujer) | T76: =SUM(F76:S76) -> 0
A77: Ley 1257 de 2008 (LGTBI) | T77: =SUM(F77:S77) -> 0
A78: LEY 1719/2014 - HECHOS PUNIBLES
A79: Tipo de Usuario | E79: N° de Poderes Asignados en el mes | H79: Acceso Carnal Abusivo en Persona Protegida Menor de 14 Años | J79: Actos Sexuales en Persona Protegida Menor de 14 Años | L79: Prostitución Forzada en Persona Protegida | M79: Esclavitud Sexual en Persona Protegida | N79: Trata de Personas en Persona Protegida | O79: Esterilización Forzada en Persona Protegida | P79: Embarazo Forzado en Persona Protegida | Q79: Desnudez Forzada en Persona Protegida | R79: Aborto Forzado en Persona Protegida | S79: Otros | T79: Total
A80: Menor de Edad | C80: Femenino | T80: =SUM(H80:S80) -> 0
C81: Masculino | T81: =SUM(H81:S81) -> 0
A82: Mujer | T82: =SUM(H82:S82) -> 0
A83: Hombre | T83: =SUM(H83:S83) -> 0
A84: LGTBI | T84: =SUM(H84:S84) -> 0
A85: Total | E85: =SUM(E80:G84) -> 0 | H85: =SUM(H80:I84) -> 0 | J85: =SUM(J80:K84) -> 0 | L85: =SUM(L80:L84) -> 0 | M85: =SUM(M80:M84) -> 0 | N85: =SUM(N80:N84) -> 0 | O85: =SUM(O80:O84) -> 0 | P85: =SUM(P80:P84) -> 0 | Q85: =SUM(Q80:Q84) -> 0 | R85: =SUM(R80:R84) -> 0 | S85: =SUM(S80:S84) -> 0 | ... U85: =SUM(U80:U84) -> 0
A86: LEY 985/2005 (DECRETO 1069/2014) - CONDUCTAS TIPIFICADAS
A87: Tipo de Usuario | E87: N° de Poderes Asignados en el mes | H87: Explotación Sexual | J87: Trabajos o Servicios Forzados | L87: Esclavitud | N87: Servidumbre | O87: Explotación Mendicidad Ajena | P87: Matrimonio Servil | Q87: Extracción de Organos | R87: Turismo Sexual | S87: Otros | T87: Total
A88: Menor de Edad | C88: Femenino | T88: =SUM(H88:S88) -> 0
C89: Masculino | T89: =SUM(H89:S89) -> 0
A90: Mujer | T90: =SUM(H90:S90) -> 0
A91: Hombre | T91: =SUM(H91:S91) -> 0
A92: LGTBI | T92: =SUM(H92:S92) -> 0
A93: Total | E93: =SUM(E88:G92) -> 0 | H93: =SUM(H88:I92) -> 0 | J93: =SUM(J88:K92) -> 0 | L93: =SUM(L88:M92) -> 0 | N93: =SUM(N88:N92) -> 0 | O93: =SUM(O88:O92) -> 0 | P93: =SUM(P88:P92) -> 0 | Q93: =SUM(Q88:Q92) -> 0 | R93: =SUM(R88:R92) -> 0 | S93: =SUM(S88:S92) -> 0 | T93: =SUM(T88:U92) -> 0
A94: LEY 1773 DE 2016 - CONDUCTAS TIPIFICADAS
A95: Tipo de Usuario | E95: N° de Poderes Asignados en el mes | H95: Daño en el Cuerpo o en la Salud con Cualquier Tipo de Agente Químico | K95: Daño o Deformidad Permanente | N95: Pérdida Parcial o Total | P95: Pérdida Funcional o Anatómica | R95: Deformidad en el Rostro | T95: Total
A96: Menor de Edad | C96: Femenino | T96: =SUM(H96:S96) -> 0
C97: Masculino | T97: =SUM(H97:S97) -> 0
A98: Mujer | T98: =SUM(H98:S98) -> 0
A99: Hombre | T99: =SUM(H99:S99) -> 0
A100: LGTBI | T100: =SUM(H100:S100) -> 0
A101: Total | E101: =SUM(E96:G100) -> 0 | H101: =SUM(H96:J100) -> 0 | K101: =SUM(K96:M100) -> 0 | N101: =SUM(N96:O100) -> 0 | P101: =SUM(P96:Q100) -> 0 | R101: =SUM(R96:S100) -> 0 | T101: =SUM(T96:U100) -> 0
A103: REPRESENTANTE JUDICIAL DE VÍCTIMAS
A105: Nombre del responsable de la elaboración del presente formulario:
A106: Fecha de elaboración:
C107: (dd-mm-aaaa)

Sheet 15
C1: Nombre del proceso/Subproceso: Atención y Trámite/Defensoría Pública | Q1: Código: SD-P07-F188
C2: Formulario: Informe Mensual Consolidado de Estadística RJV - Leyes 1098 de 2006, 1257 de 2008, 1719 de 2014, 985 de 2005, Decreto 1069 de 2014, Ley 1773 de 2016 y Ley 1761 de 2015 | Q2: Versión: 01
Q3: Vigente desde:
A6: REGIONAL: | G6: NOMBRE REPRESENTANTE JUDICIAL: | P6: PROGRAMA:
A7: AÑO: | G7: LUGAR DE EJECUCION: | P7: AREA:
A8: MES: | G8: CATEGORIA: | P8: SUB AREA:
A10: REPARTO | H10: Ley 1098 de 2006 (Víctimas Niños, Niñas y Adolescentes) | J10: Ley 1257 de 2008 (Violencia Contra la Mujer) | L10: Ley 1719 de 2014 (Violencia Sexual en el Conflicto Armado) | N10: Ley 985/2005 -Decreto 1069/2014 (Trata de Personas) | P10: Ley 1761 de 2015 (Feminicidio) | R10: Ley 1773 de 2016 (Ataques con Acidos) | T10: TOTAL
A11: No. de Poderes Vigentes del Mes Anterior | T11: =SUM(H11:S11) -> 0
A12: No. de Poderes Recibidos Durante el Mes | T12: =SUM(H12:S12) -> 0
A13: No. de Poderes Reasignados Durante el Mes | T13: =SUM(H13:S13) -> 0
A14: No. de Poderes Sustituidos Durante el Mes | T14: =SUM(H14:S14) -> 0
A15: No. de Poderes Terminados Durante el Mes | T15: =SUM(H15:S15) -> 0
A16: No. de Poderes Vigentes | H16: =(H11+H12+H13)-(H14+H15) -> 0 | J16: =(J11+J12+J13)-(J14+J15) -> 0 | L16: =(L11+L12+L13)-(L14+L15) -> 0 | N16: =(N11+N12+N13)-(N14+N15) -> 0 | P16: =(P11+P12+P13)-(P14+P15) -> 0 | R16: =(R11+R12+R13)-(R14+R15) -> 0 | T16: =SUM(H16:S16) -> 0
A17: No. de Poderes Vigentes Inactivos | T17: =SUM(H17:S17) -> 0
A18: No. de Poderes Vigentes Activos | H18: =H16-H17 -> 0 | I18: =(K13+K14)-K15 -> 0 | J18: =J16-J17 -> 0 | K18: =(M13+M14)-M15 -> 0 | L18: =L16-L17 -> 0 | M18: =(O13+O14)-O15 -> 0 | N18: =N16-N17 -> 0 | O18: =(Q13+Q14)-Q15 -> 0 | P18: =P16-P17 -> 0 | Q18: =(S13+S14)-S15 -> 0 | R18: =R16-R17 -> 0 | S18: =(U13+U14)-U15 -> 0 | T18: =SUM(H18:S18) -> 0
A19: No. de Asistencias Técnicas | T19: =SUM(H19:S19) -> 0
A20: COMUNICACIONES
A21: No. de Víctimas Contactadas Telefónicamente Durante el Mes | T21: =SUM(H21:S21) -> 0
A22: No. de Comunicaciones Escritas Durante el Mes | T22: =SUM(H22:S22) -> 0
A23: No. de Entrevistas Personales Durante el Mes | T23: =SUM(H23:S23) -> 0
A25: CONTROL EN LA GESTION DEFENSORIAL
A26: PROCEDIMIENTO ABREVIADO | H26: PROCEDIMIENTO ORDINARIO
A27: Modalidad | F27: P | G27: V | H27: Modalidad | T27: P | U27: V
A28: No. de Audiencias Programadas en el Mes | H28: No. de Audiencias Programadas en el Mes
A29: No. de Audiencias Realizadas en el Mes | F29: =SUM(D56,F56) -> 0 | G29: =SUM(E56,G56) -> 0 | H29: No. de Audiencias Realizadas en el Mes | T29: =SUM(N56,P56,R56,T56) -> 0 | U29: =SUM(O56,Q56,S56,U56) -> 0
A30: Descripción por Tipo de Audiencia Realizada | H30: Descripción por Tipo de Audiencia Realizada
A31: Etapa Procesal | B31: Tipo de Audiencia | D31: Asistidas por el RJV | F31: No Asistidas por el RJV | H31: Etapa Procesal | J31: Tipo de Audiencia | N31: Municipal | R31: Circuito
D32: P | E32: V | F32: P | G32: V | N32: Asistidas por el RJV | P32: No Asistidas por el RJV | R32: Asistidas por el RJV | T32: No Asistidas por el RJV
N33: P | O33: V | P33: P | Q33: V | R33: P | S33: V | T33: P | U33: V
A34: Fase de indagación | B34: Legalización de Captura | H34: Fase de indagación
B35: Medidas de Aseguramiento | H35: Audiencias Preliminares | J35: Solicitud Desarchivo Indagación Preliminar
B36: Medidas de Protección | J36: Medidas de Protección
B37: Principio de Oportunidad | J37: Legalización de Captura
B38: Otras Audiencias Preliminares | J38: Imputación
A39: Citación para Traslado del Escrito de Acusación | J39: Solicitud Medidas Cautelares
A40: Audiencia Concentrada | B40: Formalización del Traslado del Escrito de Acusación | J40: Medidas de Aseguramiento
B41: Se Enuncia la Práctica de Pruebas y se Controvierten las mismas | J41: Principio de Oportunidad
A42: Audiencias de Juicio | B42: Traslado Escrito Acusación | J42: Otras Audiencias Preliminares
B43: Audiencia Concentrada | H43: Audiencias de Juicio | J43: Audiencia de Acusación
B44: Juicio Oral | J44: Audiencia Preparatoria
B45: Traslado del Fallo | J45: Juicio Oral
A46: Incidente Reparación Integral | B46: Solicitud a Juez de Conocimiento para Abrir Trámite de Incidente Reparación Integral | J46: Lectura de Fallo
B47: Primera Audiencia | J47: Sentencia
B48: Segunda Audiencia | H48: Incidente Reparación Integral | J48: Solicitud a Juez de Conocimiento para Abrir Trámite de Incidente Reparación Integral
B49: Tercera Audiencia - Pruebas y Alegaciones - | J49: Primera Audiencia
A50: Preacuerdos | B50: Audiencia Preacuerdo | J50: Segunda Audiencia
A51: Verificación allanamiento a cargos | B51: Verificación Allanamiento a Cargos | J51: Tercera Audiencia - Pruebas y Alegaciones -
A52: Preclusión | B52: Preclusión | H52: Preacuerdos | J52: Audiencia Preacuerdo
A53: Segunda Instancia | B53: Audiencia Lectura Decisión | H53: Verificación Allanamiento a Cargos | J53: Verificación Allanamiento a Cargos
H54: Preclusión | J54: Preclusión
H55: Segunda Instancia | J55: Audiencia Lectura Decisión
A56: Total Audiencias Realizadas en el Mes | D56: =SUM(D34:D53) -> 0 | E56: =SUM(E34:E53) -> 0 | F56: =SUM(F34:F53) -> 0 | G56: =SUM(G34:G53) -> 0 | H56: Total Audiencias Realizadas en el Mes | N56: =SUM(N34:N55) -> 0 | O56: =SUM(O34:O55) -> 0 | P56: =SUM(P34:P55) -> 0 | Q56: =SUM(Q34:Q55) -> 0 | R56: =SUM(R34:R55) -> 0 | S56: =SUM(S34:S55) -> 0 | T56: =SUM(T34:T55) -> 0 | U56: =SUM(U34:U55) -> 0
A58: Causa de Audiencias Realizadas, NO Asistidas por el Representante Judicial de Víctimas Procedimiento Abreviado | K58: No. de Audiencias Realizadas, NO Asistidas por el Representante Judicial de Víctimas Procedimiento Ordinario
A59: Causa / Tipo de Audiencia | C59: Otra Audiencia | D59: Cruce con Turno | E59: Estrategia Jurídica | F59: Misión de Trabajo | G59: Capacitación | H59: Barra | I59: Caso Fortuito Fuerza Mayor | J59: Otro | K59: Causa / Tipo de Audiencia | N59: Otra Audiencia | O59: Cruce con Turno | P59: Estrategia Jurídica | Q59: Misión de Trabajo | R59: Capacitación | S59: Barra | T59: Caso Fortuito Fuerza Mayor | U59: Otro
A60: P | K60: No. Mpal. | M60: P
M61: V
A62: V | K62: No. Circuito | M62: P
M63: V
A65: No. de Audiencias No Realizadas o Aplazadas en el Mes Procedimiento Abreviado | I65: P | J65: =SUM(B68:J69) -> 0 | K65: No. de Audiencias No Realizadas o Aplazadas en el Mes Procedimiento Ordinario | Q65: Total Mpal. | R65: P | S65: =SUM(M68:U68) -> 0 | T65: V | U65: =SUM(M69:U69) -> 0
I66: V | J66: =SUM(B70:J71) -> 0 | Q66: Total Circuito | R66: P | S66: =SUM(M70:U70) -> 0 | T66: V | U66: =SUM(M71:U71) -> 0
A67: Causa / Tipo de Audiencia | B67: Defensor Público | C67: Defensor de Confianza | D67: Juez | E67: Fiscal | F67: Indiciado | G67: Víctima | H67: ICBF | I67: INPEC | J67: RJV (Incidente) | K67: Causa / Tipo de Audiencia | M67: Defensor Público | N67: Defensor de Confianza | O67: Juez | P67: Fiscal | Q67: Indiciado | R67: Víctima | S67: ICBF | T67: INPEC | U67: RJV (Incidente)
A68: P | K68: No. Mpal. | L68: P
L69: V
A70: V | K70: No. Circuito | L70: P
L71: V
A73: 1098/2006 y 1257/2008 - HECHOS PUNIBLES LEYES
A74: PROGRAMA | F74: Homicidio | G74: Lesiones Personales | H74: Acceso Carnal con Menor de 14 Años | I74: Acto Sexual con Menor de 14 Años | J74: Acceso Carnal Violento | K74: Acto Sexual Violento | L74: Desaparición Forzada | M74: Secuestro Extorsivo | N74: Secuestro Simple | O74: Violencia Intrafamiliar | P74: Inasistencia Alimentaria | Q74: Hurto | R74: Concierto para Delinquir | S74: Otros | T74: Total
A75: Ley 1098 de 2006 | T75: =SUM(F75:S75) -> 0
A76: Ley 1257 de 2008 (Mujer) | T76: =SUM(F76:S76) -> 0
A77: Ley 1257 de 2008 (LGTBI) | T77: =SUM(F77:S77) -> 0
A78: LEY 1719/2014 - HECHOS PUNIBLES
A79: Tipo de Usuario | E79: N° de Poderes Asignados en el mes | H79: Acceso Carnal Abusivo en Persona Protegida Menor de 14 Años | J79: Actos Sexuales en Persona Protegida Menor de 14 Años | L79: Prostitución Forzada en Persona Protegida | M79: Esclavitud Sexual en Persona Protegida | N79: Trata de Personas en Persona Protegida | O79: Esterilización Forzada en Persona Protegida | P79: Embarazo Forzado en Persona Protegida | Q79: Desnudez Forzada en Persona Protegida | R79: Aborto Forzado en Persona Protegida | S79: Otros | T79: Total
A80: Menor de Edad | C80: Femenino | T80: =SUM(H80:S80) -> 0
C81: Masculino | T81: =SUM(H81:S81) -> 0
A82: Mujer | T82: =SUM(H82:S82) -> 0
A83: Hombre | T83: =SUM(H83:S83) -> 0
A84: LGTBI | T84: =SUM(H84:S84) -> 0
A85: Total | E85: =SUM(E80:G84) -> 0 | H85: =SUM(H80:I84) -> 0 | J85: =SUM(J80:K84) -> 0 | L85: =SUM(L80:L84) -> 0 | M85: =SUM(M80:M84) -> 0 | N85: =SUM(N80:N84) -> 0 | O85: =SUM(O80:O84) -> 0 | P85: =SUM(P80:P84) -> 0 | Q85: =SUM(Q80:Q84) -> 0 | R85: =SUM(R80:R84) -> 0 | S85: =SUM(S80:S84) -> 0 | ... U85: =SUM(U80:U84) -> 0
A86: LEY 985/2005 (DECRETO 1069/2014) - CONDUCTAS TIPIFICADAS
A87: Tipo de Usuario | E87: N° de Poderes Asignados en el mes | H87: Explotación Sexual | J87: Trabajos o Servicios Forzados | L87: Esclavitud | N87: Servidumbre | O87: Explotación Mendicidad Ajena | P87: Matrimonio Servil | Q87: Extracción de Organos | R87: Turismo Sexual | S87: Otros | T87: Total
A88: Menor de Edad | C88: Femenino | T88: =SUM(H88:S88) -> 0
C89: Masculino | T89: =SUM(H89:S89) -> 0
A90: Mujer | T90: =SUM(H90:S90) -> 0
A91: Hombre | T91: =SUM(H91:S91) -> 0
A92: LGTBI | T92: =SUM(H92:S92) -> 0
A93: Total | E93: =SUM(E88:G92) -> 0 | H93: =SUM(H88:I92) -> 0 | J93: =SUM(J88:K92) -> 0 | L93: =SUM(L88:M92) -> 0 | N93: =SUM(N88:N92) -> 0 | O93: =SUM(O88:O92) -> 0 | P93: =SUM(P88:P92) -> 0 | Q93: =SUM(Q88:Q92) -> 0 | R93: =SUM(R88:R92) -> 0 | S93: =SUM(S88:S92) -> 0 | T93: =SUM(T88:U92) -> 0
A94: LEY 1773 DE 2016 - CONDUCTAS TIPIFICADAS
A95: Tipo de Usuario | E95: N° de Poderes Asignados en el mes | H95: Daño en el Cuerpo o en la Salud con Cualquier Tipo de Agente Químico | K95: Daño o Deformidad Permanente | N95: Pérdida Parcial o Total | P95: Pérdida Funcional o Anatómica | R95: Deformidad en el Rostro | T95: Total
A96: Menor de Edad | C96: Femenino | T96: =SUM(H96:S96) -> 0
C97: Masculino | T97: =SUM(H97:S97) -> 0
A98: Mujer | T98: =SUM(H98:S98) -> 0
A99: Hombre | T99: =SUM(H99:S99) -> 0
A100: LGTBI | T100: =SUM(H100:S100) -> 0
A101: Total | E101: =SUM(E96:G100) -> 0 | H101: =SUM(H96:J100) -> 0 | K101: =SUM(K96:M100) -> 0 | N101: =SUM(N96:O100) -> 0 | P101: =SUM(P96:Q100) -> 0 | R101: =SUM(R96:S100) -> 0 | T101: =SUM(T96:U100) -> 0
A103: REPRESENTANTE JUDICIAL DE VÍCTIMAS
A105: Nombre del responsable de la elaboración del presente formulario:
A106: Fecha de elaboración:
C107: (dd-mm-aaaa)

Sheet 16
C1: Nombre del proceso/Subproceso: Atención y Trámite/Defensoría Pública | Q1: Código: SD-P07-F188
C2: Formulario: Informe Mensual Consolidado de Estadística RJV - Leyes 1098 de 2006, 1257 de 2008, 1719 de 2014, 985 de 2005, Decreto 1069 de 2014, Ley 1773 de 2016 y Ley 1761 de 2015 | Q2: Versión: 01
Q3: Vigente desde:
A6: REGIONAL: | G6: NOMBRE REPRESENTANTE JUDICIAL: | P6: PROGRAMA:
A7: AÑO: | G7: LUGAR DE EJECUCION: | P7: AREA:
A8: MES: | G8: CATEGORIA: | P8: SUB AREA:
A10: REPARTO | H10: Ley 1098 de 2006 (Víctimas Niños, Niñas y Adolescentes) | J10: Ley 1257 de 2008 (Violencia Contra la Mujer) | L10: Ley 1719 de 2014 (Violencia Sexual en el Conflicto Armado) | N10: Ley 985/2005 -Decreto 1069/2014 (Trata de Personas) | P10: Ley 1761 de 2015 (Feminicidio) | R10: Ley 1773 de 2016 (Ataques con Acidos) | T10: TOTAL
A11: No. de Poderes Vigentes del Mes Anterior | T11: =SUM(H11:S11) -> 0
A12: No. de Poderes Recibidos Durante el Mes | T12: =SUM(H12:S12) -> 0
A13: No. de Poderes Reasignados Durante el Mes | T13: =SUM(H13:S13) -> 0
A14: No. de Poderes Sustituidos Durante el Mes | T14: =SUM(H14:S14) -> 0
A15: No. de Poderes Terminados Durante el Mes | T15: =SUM(H15:S15) -> 0
A16: No. de Poderes Vigentes | H16: =(H11+H12+H13)-(H14+H15) -> 0 | J16: =(J11+J12+J13)-(J14+J15) -> 0 | L16: =(L11+L12+L13)-(L14+L15) -> 0 | N16: =(N11+N12+N13)-(N14+N15) -> 0 | P16: =(P11+P12+P13)-(P14+P15) -> 0 | R16: =(R11+R12+R13)-(R14+R15) -> 0 | T16: =SUM(H16:S16) -> 0
A17: No. de Poderes Vigentes Inactivos | T17: =SUM(H17:S17) -> 0
A18: No. de Poderes Vigentes Activos | H18: =H16-H17 -> 0 | I18: =(K13+K14)-K15 -> 0 | J18: =J16-J17 -> 0 | K18: =(M13+M14)-M15 -> 0 | L18: =L16-L17 -> 0 | M18: =(O13+O14)-O15 -> 0 | N18: =N16-N17 -> 0 | O18: =(Q13+Q14)-Q15 -> 0 | P18: =P16-P17 -> 0 | Q18: =(S13+S14)-S15 -> 0 | R18: =R16-R17 -> 0 | S18: =(U13+U14)-U15 -> 0 | T18: =SUM(H18:S18) -> 0
A19: No. de Asistencias Técnicas | T19: =SUM(H19:S19) -> 0
A20: COMUNICACIONES
A21: No. de Víctimas Contactadas Telefónicamente Durante el Mes | T21: =SUM(H21:S21) -> 0
A22: No. de Comunicaciones Escritas Durante el Mes | T22: =SUM(H22:S22) -> 0
A23: No. de Entrevistas Personales Durante el Mes | T23: =SUM(H23:S23) -> 0
A25: CONTROL EN LA GESTION DEFENSORIAL
A26: PROCEDIMIENTO ABREVIADO | H26: PROCEDIMIENTO ORDINARIO
A27: Modalidad | F27: P | G27: V | H27: Modalidad | T27: P | U27: V
A28: No. de Audiencias Programadas en el Mes | H28: No. de Audiencias Programadas en el Mes
A29: No. de Audiencias Realizadas en el Mes | F29: =SUM(D56,F56) -> 0 | G29: =SUM(E56,G56) -> 0 | H29: No. de Audiencias Realizadas en el Mes | T29: =SUM(N56,P56,R56,T56) -> 0 | U29: =SUM(O56,Q56,S56,U56) -> 0
A30: Descripción por Tipo de Audiencia Realizada | H30: Descripción por Tipo de Audiencia Realizada
A31: Etapa Procesal | B31: Tipo de Audiencia | D31: Asistidas por el RJV | F31: No Asistidas por el RJV | H31: Etapa Procesal | J31: Tipo de Audiencia | N31: Municipal | R31: Circuito
D32: P | E32: V | F32: P | G32: V | N32: Asistidas por el RJV | P32: No Asistidas por el RJV | R32: Asistidas por el RJV | T32: No Asistidas por el RJV
N33: P | O33: V | P33: P | Q33: V | R33: P | S33: V | T33: P | U33: V
A34: Fase de indagación | B34: Legalización de Captura | H34: Fase de indagación
B35: Medidas de Aseguramiento | H35: Audiencias Preliminares | J35: Solicitud Desarchivo Indagación Preliminar
B36: Medidas de Protección | J36: Medidas de Protección
B37: Principio de Oportunidad | J37: Legalización de Captura
B38: Otras Audiencias Preliminares | J38: Imputación
A39: Citación para Traslado del Escrito de Acusación | J39: Solicitud Medidas Cautelares
A40: Audiencia Concentrada | B40: Formalización del Traslado del Escrito de Acusación | J40: Medidas de Aseguramiento
B41: Se Enuncia la Práctica de Pruebas y se Controvierten las mismas | J41: Principio de Oportunidad
A42: Audiencias de Juicio | B42: Traslado Escrito Acusación | J42: Otras Audiencias Preliminares
B43: Audiencia Concentrada | H43: Audiencias de Juicio | J43: Audiencia de Acusación
B44: Juicio Oral | J44: Audiencia Preparatoria
B45: Traslado del Fallo | J45: Juicio Oral
A46: Incidente Reparación Integral | B46: Solicitud a Juez de Conocimiento para Abrir Trámite de Incidente Reparación Integral | J46: Lectura de Fallo
B47: Primera Audiencia | J47: Sentencia
B48: Segunda Audiencia | H48: Incidente Reparación Integral | J48: Solicitud a Juez de Conocimiento para Abrir Trámite de Incidente Reparación Integral
B49: Tercera Audiencia - Pruebas y Alegaciones - | J49: Primera Audiencia
A50: Preacuerdos | B50: Audiencia Preacuerdo | J50: Segunda Audiencia
A51: Verificación allanamiento a cargos | B51: Verificación Allanamiento a Cargos | J51: Tercera Audiencia - Pruebas y Alegaciones -
A52: Preclusión | B52: Preclusión | H52: Preacuerdos | J52: Audiencia Preacuerdo
A53: Segunda Instancia | B53: Audiencia Lectura Decisión | H53: Verificación Allanamiento a Cargos | J53: Verificación Allanamiento a Cargos
H54: Preclusión | J54: Preclusión
H55: Segunda Instancia | J55: Audiencia Lectura Decisión
A56: Total Audiencias Realizadas en el Mes | D56: =SUM(D34:D53) -> 0 | E56: =SUM(E34:E53) -> 0 | F56: =SUM(F34:F53) -> 0 | G56: =SUM(G34:G53) -> 0 | H56: Total Audiencias Realizadas en el Mes | N56: =SUM(N34:N55) -> 0 | O56: =SUM(O34:O55) -> 0 | P56: =SUM(P34:P55) -> 0 | Q56: =SUM(Q34:Q55) -> 0 | R56: =SUM(R34:R55) -> 0 | S56: =SUM(S34:S55) -> 0 | T56: =SUM(T34:T55) -> 0 | U56: =SUM(U34:U55) -> 0
A58: Causa de Audiencias Realizadas, NO Asistidas por el Representante Judicial de Víctimas Procedimiento Abreviado | K58: No. de Audiencias Realizadas, NO Asistidas por el Representante Judicial de Víctimas Procedimiento Ordinario
A59: Causa / Tipo de Audiencia | C59: Otra Audiencia | D59: Cruce con Turno | E59: Estrategia Jurídica | F59: Misión de Trabajo | G59: Capacitación | H59: Barra | I59: Caso Fortuito Fuerza Mayor | J59: Otro | K59: Causa / Tipo de Audiencia | N59: Otra Audiencia | O59: Cruce con Turno | P59: Estrategia Jurídica | Q59: Misión de Trabajo | R59: Capacitación | S59: Barra | T59: Caso Fortuito Fuerza Mayor | U59: Otro
A60: P | K60: No. Mpal. | M60: P
M61: V
A62: V | K62: No. Circuito | M62: P
M63: V
A65: No. de Audiencias No Realizadas o Aplazadas en el Mes Procedimiento Abreviado | I65: P | J65: =SUM(B68:J69) -> 0 | K65: No. de Audiencias No Realizadas o Aplazadas en el Mes Procedimiento Ordinario | Q65: Total Mpal. | R65: P | S65: =SUM(M68:U68) -> 0 | T65: V | U65: =SUM(M69:U69) -> 0
I66: V | J66: =SUM(B70:J71) -> 0 | Q66: Total Circuito | R66: P | S66: =SUM(M70:U70) -> 0 | T66: V | U66: =SUM(M71:U71) -> 0
A67: Causa / Tipo de Audiencia | B67: Defensor Público | C67: Defensor de Confianza | D67: Juez | E67: Fiscal | F67: Indiciado | G67: Víctima | H67: ICBF | I67: INPEC | J67: RJV (Incidente) | K67: Causa / Tipo de Audiencia | M67: Defensor Público | N67: Defensor de Confianza | O67: Juez | P67: Fiscal | Q67: Indiciado | R67: Víctima | S67: ICBF | T67: INPEC | U67: RJV (Incidente)
A68: P | K68: No. Mpal. | L68: P
L69: V
A70: V | K70: No. Circuito | L70: P
L71: V
A73: 1098/2006 y 1257/2008 - HECHOS PUNIBLES LEYES
A74: PROGRAMA | F74: Homicidio | G74: Lesiones Personales | H74: Acceso Carnal con Menor de 14 Años | I74: Acto Sexual con Menor de 14 Años | J74: Acceso Carnal Violento | K74: Acto Sexual Violento | L74: Desaparición Forzada | M74: Secuestro Extorsivo | N74: Secuestro Simple | O74: Violencia Intrafamiliar | P74: Inasistencia Alimentaria | Q74: Hurto | R74: Concierto para Delinquir | S74: Otros | T74: Total
A75: Ley 1098 de 2006 | T75: =SUM(F75:S75) -> 0
A76: Ley 1257 de 2008 (Mujer) | T76: =SUM(F76:S76) -> 0
A77: Ley 1257 de 2008 (LGTBI) | T77: =SUM(F77:S77) -> 0
A78: LEY 1719/2014 - HECHOS PUNIBLES
A79: Tipo de Usuario | E79: N° de Poderes Asignados en el mes | H79: Acceso Carnal Abusivo en Persona Protegida Menor de 14 Años | J79: Actos Sexuales en Persona Protegida Menor de 14 Años | L79: Prostitución Forzada en Persona Protegida | M79: Esclavitud Sexual en Persona Protegida | N79: Trata de Personas en Persona Protegida | O79: Esterilización Forzada en Persona Protegida | P79: Embarazo Forzado en Persona Protegida | Q79: Desnudez Forzada en Persona Protegida | R79: Aborto Forzado en Persona Protegida | S79: Otros | T79: Total
A80: Menor de Edad | C80: Femenino | T80: =SUM(H80:S80) -> 0
C81: Masculino | T81: =SUM(H81:S81) -> 0
A82: Mujer | T82: =SUM(H82:S82) -> 0
A83: Hombre | T83: =SUM(H83:S83) -> 0
A84: LGTBI | T84: =SUM(H84:S84) -> 0
A85: Total | E85: =SUM(E80:G84) -> 0 | H85: =SUM(H80:I84) -> 0 | J85: =SUM(J80:K84) -> 0 | L85: =SUM(L80:L84) -> 0 | M85: =SUM(M80:M84) -> 0 | N85: =SUM(N80:N84) -> 0 | O85: =SUM(O80:O84) -> 0 | P85: =SUM(P80:P84) -> 0 | Q85: =SUM(Q80:Q84) -> 0 | R85: =SUM(R80:R84) -> 0 | S85: =SUM(S80:S84) -> 0 | ... U85: =SUM(U80:U84) -> 0
A86: LEY 985/2005 (DECRETO 1069/2014) - CONDUCTAS TIPIFICADAS
A87: Tipo de Usuario | E87: N° de Poderes Asignados en el mes | H87: Explotación Sexual | J87: Trabajos o Servicios Forzados | L87: Esclavitud | N87: Servidumbre | O87: Explotación Mendicidad Ajena | P87: Matrimonio Servil | Q87: Extracción de Organos | R87: Turismo Sexual | S87: Otros | T87: Total
A88: Menor de Edad | C88: Femenino | T88: =SUM(H88:S88) -> 0
C89: Masculino | T89: =SUM(H89:S89) -> 0
A90: Mujer | T90: =SUM(H90:S90) -> 0
A91: Hombre | T91: =SUM(H91:S91) -> 0
A92: LGTBI | T92: =SUM(H92:S92) -> 0
A93: Total | E93: =SUM(E88:G92) -> 0 | H93: =SUM(H88:I92) -> 0 | J93: =SUM(J88:K92) -> 0 | L93: =SUM(L88:M92) -> 0 | N93: =SUM(N88:N92) -> 0 | O93: =SUM(O88:O92) -> 0 | P93: =SUM(P88:P92) -> 0 | Q93: =SUM(Q88:Q92) -> 0 | R93: =SUM(R88:R92) -> 0 | S93: =SUM(S88:S92) -> 0 | T93: =SUM(T88:U92) -> 0
A94: LEY 1773 DE 2016 - CONDUCTAS TIPIFICADAS
A95: Tipo de Usuario | E95: N° de Poderes Asignados en el mes | H95: Daño en el Cuerpo o en la Salud con Cualquier Tipo de Agente Químico | K95: Daño o Deformidad Permanente | N95: Pérdida Parcial o Total | P95: Pérdida Funcional o Anatómica | R95: Deformidad en el Rostro | T95: Total
A96: Menor de Edad | C96: Femenino | T96: =SUM(H96:S96) -> 0
C97: Masculino | T97: =SUM(H97:S97) -> 0
A98: Mujer | T98: =SUM(H98:S98) -> 0
A99: Hombre | T99: =SUM(H99:S99) -> 0
A100: LGTBI | T100: =SUM(H100:S100) -> 0
A101: Total | E101: =SUM(E96:G100) -> 0 | H101: =SUM(H96:J100) -> 0 | K101: =SUM(K96:M100) -> 0 | N101: =SUM(N96:O100) -> 0 | P101: =SUM(P96:Q100) -> 0 | R101: =SUM(R96:S100) -> 0 | T101: =SUM(T96:U100) -> 0
A103: REPRESENTANTE JUDICIAL DE VÍCTIMAS
A105: Nombre del responsable de la elaboración del presente formulario:
A106: Fecha de elaboración:
C107: (dd-mm-aaaa)

Sheet 17
C1: Nombre del proceso/Subproceso: Atención y Trámite/Defensoría Pública | Q1: Código: SD-P07-F188
C2: Formulario: Informe Mensual Consolidado de Estadística RJV - Leyes 1098 de 2006, 1257 de 2008, 1719 de 2014, 985 de 2005, Decreto 1069 de 2014, Ley 1773 de 2016 y Ley 1761 de 2015 | Q2: Versión: 01
Q3: Vigente desde:
A6: REGIONAL: | G6: NOMBRE REPRESENTANTE JUDICIAL: | P6: PROGRAMA:
A7: AÑO: | G7: LUGAR DE EJECUCION: | P7: AREA:
A8: MES: | G8: CATEGORIA: | P8: SUB AREA:
A10: REPARTO | H10: Ley 1098 de 2006 (Víctimas Niños, Niñas y Adolescentes) | J10: Ley 1257 de 2008 (Violencia Contra la Mujer) | L10: Ley 1719 de 2014 (Violencia Sexual en el Conflicto Armado) | N10: Ley 985/2005 -Decreto 1069/2014 (Trata de Personas) | P10: Ley 1761 de 2015 (Feminicidio) | R10: Ley 1773 de 2016 (Ataques con Acidos) | T10: TOTAL
A11: No. de Poderes Vigentes del Mes Anterior | T11: =SUM(H11:S11) -> 0
A12: No. de Poderes Recibidos Durante el Mes | T12: =SUM(H12:S12) -> 0
A13: No. de Poderes Reasignados Durante el Mes | T13: =SUM(H13:S13) -> 0
A14: No. de Poderes Sustituidos Durante el Mes | T14: =SUM(H14:S14) -> 0
A15: No. de Poderes Terminados Durante el Mes | T15: =SUM(H15:S15) -> 0
A16: No. de Poderes Vigentes | H16: =(H11+H12+H13)-(H14+H15) -> 0 | J16: =(J11+J12+J13)-(J14+J15) -> 0 | L16: =(L11+L12+L13)-(L14+L15) -> 0 | N16: =(N11+N12+N13)-(N14+N15) -> 0 | P16: =(P11+P12+P13)-(P14+P15) -> 0 | R16: =(R11+R12+R13)-(R14+R15) -> 0 | T16: =SUM(H16:S16) -> 0
A17: No. de Poderes Vigentes Inactivos | T17: =SUM(H17:S17) -> 0
A18: No. de Poderes Vigentes Activos | H18: =H16-H17 -> 0 | I18: =(K13+K14)-K15 -> 0 | J18: =J16-J17 -> 0 | K18: =(M13+M14)-M15 -> 0 | L18: =L16-L17 -> 0 | M18: =(O13+O14)-O15 -> 0 | N18: =N16-N17 -> 0 | O18: =(Q13+Q14)-Q15 -> 0 | P18: =P16-P17 -> 0 | Q18: =(S13+S14)-S15 -> 0 | R18: =R16-R17 -> 0 | S18: =(U13+U14)-U15 -> 0 | T18: =SUM(H18:S18) -> 0
A19: No. de Asistencias Técnicas | T19: =SUM(H19:S19) -> 0
A20: COMUNICACIONES
A21: No. de Víctimas Contactadas Telefónicamente Durante el Mes | T21: =SUM(H21:S21) -> 0
A22: No. de Comunicaciones Escritas Durante el Mes | T22: =SUM(H22:S22) -> 0
A23: No. de Entrevistas Personales Durante el Mes | T23: =SUM(H23:S23) -> 0
A25: CONTROL EN LA GESTION DEFENSORIAL
A26: PROCEDIMIENTO ABREVIADO | H26: PROCEDIMIENTO ORDINARIO
A27: Modalidad | F27: P | G27: V | H27: Modalidad | T27: P | U27: V
A28: No. de Audiencias Programadas en el Mes | H28: No. de Audiencias Programadas en el Mes
A29: No. de Audiencias Realizadas en el Mes | F29: =SUM(D56,F56) -> 0 | G29: =SUM(E56,G56) -> 0 | H29: No. de Audiencias Realizadas en el Mes | T29: =SUM(N56,P56,R56,T56) -> 0 | U29: =SUM(O56,Q56,S56,U56) -> 0
A30: Descripción por Tipo de Audiencia Realizada | H30: Descripción por Tipo de Audiencia Realizada
A31: Etapa Procesal | B31: Tipo de Audiencia | D31: Asistidas por el RJV | F31: No Asistidas por el RJV | H31: Etapa Procesal | J31: Tipo de Audiencia | N31: Municipal | R31: Circuito
D32: P | E32: V | F32: P | G32: V | N32: Asistidas por el RJV | P32: No Asistidas por el RJV | R32: Asistidas por el RJV | T32: No Asistidas por el RJV
N33: P | O33: V | P33: P | Q33: V | R33: P | S33: V | T33: P | U33: V
A34: Fase de indagación | B34: Legalización de Captura | H34: Fase de indagación
B35: Medidas de Aseguramiento | H35: Audiencias Preliminares | J35: Solicitud Desarchivo Indagación Preliminar
B36: Medidas de Protección | J36: Medidas de Protección
B37: Principio de Oportunidad | J37: Legalización de Captura
B38: Otras Audiencias Preliminares | J38: Imputación
A39: Citación para Traslado del Escrito de Acusación | J39: Solicitud Medidas Cautelares
A40: Audiencia Concentrada | B40: Formalización del Traslado del Escrito de Acusación | J40: Medidas de Aseguramiento
B41: Se Enuncia la Práctica de Pruebas y se Controvierten las mismas | J41: Principio de Oportunidad
A42: Audiencias de Juicio | B42: Traslado Escrito Acusación | J42: Otras Audiencias Preliminares
B43: Audiencia Concentrada | H43: Audiencias de Juicio | J43: Audiencia de Acusación
B44: Juicio Oral | J44: Audiencia Preparatoria
B45: Traslado del Fallo | J45: Juicio Oral
A46: Incidente Reparación Integral | B46: Solicitud a Juez de Conocimiento para Abrir Trámite de Incidente Reparación Integral | J46: Lectura de Fallo
B47: Primera Audiencia | J47: Sentencia
B48: Segunda Audiencia | H48: Incidente Reparación Integral | J48: Solicitud a Juez de Conocimiento para Abrir Trámite de Incidente Reparación Integral
B49: Tercera Audiencia - Pruebas y Alegaciones - | J49: Primera Audiencia
A50: Preacuerdos | B50: Audiencia Preacuerdo | J50: Segunda Audiencia
A51: Verificación allanamiento a cargos | B51: Verificación Allanamiento a Cargos | J51: Tercera Audiencia - Pruebas y Alegaciones -
A52: Preclusión | B52: Preclusión | H52: Preacuerdos | J52: Audiencia Preacuerdo
A53: Segunda Instancia | B53: Audiencia Lectura Decisión | H53: Verificación Allanamiento a Cargos | J53: Verificación Allanamiento a Cargos
H54: Preclusión | J54: Preclusión
H55: Segunda Instancia | J55: Audiencia Lectura Decisión
A56: Total Audiencias Realizadas en el Mes | D56: =SUM(D34:D53) -> 0 | E56: =SUM(E34:E53) -> 0 | F56: =SUM(F34:F53) -> 0 | G56: =SUM(G34:G53) -> 0 | H56: Total Audiencias Realizadas en el Mes | N56: =SUM(N34:N55) -> 0 | O56: =SUM(O34:O55) -> 0 | P56: =SUM(P34:P55) -> 0 | Q56: =SUM(Q34:Q55) -> 0 | R56: =SUM(R34:R55) -> 0 | S56: =SUM(S34:S55) -> 0 | T56: =SUM(T34:T55) -> 0 | U56: =SUM(U34:U55) -> 0
A58: Causa de Audiencias Realizadas, NO Asistidas por el Representante Judicial de Víctimas Procedimiento Abreviado | K58: No. de Audiencias Realizadas, NO Asistidas por el Representante Judicial de Víctimas Procedimiento Ordinario
A59: Causa / Tipo de Audiencia | C59: Otra Audiencia | D59: Cruce con Turno | E59: Estrategia Jurídica | F59: Misión de Trabajo | G59: Capacitación | H59: Barra | I59: Caso Fortuito Fuerza Mayor | J59: Otro | K59: Causa / Tipo de Audiencia | N59: Otra Audiencia | O59: Cruce con Turno | P59: Estrategia Jurídica | Q59: Misión de Trabajo | R59: Capacitación | S59: Barra | T59: Caso Fortuito Fuerza Mayor | U59: Otro
A60: P | K60: No. Mpal. | M60: P
M61: V
A62: V | K62: No. Circuito | M62: P
M63: V
A65: No. de Audiencias No Realizadas o Aplazadas en el Mes Procedimiento Abreviado | I65: P | J65: =SUM(B68:J69) -> 0 | K65: No. de Audiencias No Realizadas o Aplazadas en el Mes Procedimiento Ordinario | Q65: Total Mpal. | R65: P | S65: =SUM(M68:U68) -> 0 | T65: V | U65: =SUM(M69:U69) -> 0
I66: V | J66: =SUM(B70:J71) -> 0 | Q66: Total Circuito | R66: P | S66: =SUM(M70:U70) -> 0 | T66: V | U66: =SUM(M71:U71) -> 0
A67: Causa / Tipo de Audiencia | B67: Defensor Público | C67: Defensor de Confianza | D67: Juez | E67: Fiscal | F67: Indiciado | G67: Víctima | H67: ICBF | I67: INPEC | J67: RJV (Incidente) | K67: Causa / Tipo de Audiencia | M67: Defensor Público | N67: Defensor de Confianza | O67: Juez | P67: Fiscal | Q67: Indiciado | R67: Víctima | S67: ICBF | T67: INPEC | U67: RJV (Incidente)
A68: P | K68: No. Mpal. | L68: P
L69: V
A70: V | K70: No. Circuito | L70: P
L71: V
A73: 1098/2006 y 1257/2008 - HECHOS PUNIBLES LEYES
