Workbook
Name contratación: 'IDENTIFICACION Y ANALISIS'!$B$39:$B$43
Name ejecución: 'IDENTIFICACION Y ANALISIS'!$B$45:$B$68
Name OPCIONES: 'ASIGNACION Y TRATAMIENTO.'!$B$48:$B$50
Name OPCIONES: 'ASIGNACION Y TRATAMIENTO'!$B$48:$B$50
Name planeación: 'IDENTIFICACION Y ANALISIS'!$B$19:$B$29
Name selección: 'IDENTIFICACION Y ANALISIS'!$B$31:$B$37

Sheet CONTEXTO
C1: MATRIZ DE RIESGOS EN CONTRATACIÓN | F1: Código: GCO-GCI-F164 Versión: 01 Vigencia: 16 diciembre de 2021 Caso HOLA: 206942
B5: ESTABLECER EL CONTEXTO
B6: El punto inicial es identificar el contexto en el cual interactúa la Entidad Estatal para conocer el ambiente social, económico y político, e identificar (i) sus propios Riesgos; (ii) los Riesgos comunes a sus Procesos de Contratación; y (iii) los Riesgos del Proceso de Contratación en particular. (Aplica igual para contratos interadministrativos) En este paso la Entidad Estatal debe identificar los aspectos que se mencionan a continuación y los posibles efectos adversos que estos pueden generar.
B7: Objeto del Proceso de Contratación: CONTRATAR LA PRESTACIÓN DEL SERVICIO PARA REALIZAR LA PRODUCCIÓN (DISEÑO, ELABORACIÓN E IMPRESIÓN GRAFICA) Y SUMINISTRO DE MATERIALES IMPRESOS, DE MERCHANDISING Y PROMOCIONALES QUE REQUIERA LA ALCALDÌA LOCAL, DE CONFORMIDAD CON LAS CONDICIONES, CANTIDADES Y ESPECIFICACIONES TECNICAS ESTABLECIDAS EN EL PRESENTE ESTUDIO PREVIO
B8: Partícipes del Proceso de Contratación: Agentes internos (supervisores, funcionarios y demás usuarios).
B9: Ciudadanía que se beneficia del Proceso de Contratación: Agentes externos (contratistas, visitantes y usuarios externos en general)
B10: Capacidad de la Entidad Estatal entendida como la disponibilidad de recursos y conocimientos para el Proceso de Contratación: La disponibilidad de la Entidad de sus recursos y el conocimiento de su equipo humano se refleja en los diferentes funcionarios que participarán en las diversas etapas del proceso de selección: participan las áreas que requieren los procesos de contratación (Etapa de Estudios previos), el área de Contratos de la Secretaría General (Etapa contractual), los evaluadores designados, idóneos y con experiencia en el tema.
B11: Suficiencia del presupuesto oficial del Proceso de Contratación: De acuerdo al Plan de contratación para la vigencia 2022, se estimaron los recursos necesarios para el desarrollo del proceso de la contratación, el cual tendrá el soporte presupuestal suficiente para su desarrollo con el rubro O21202020080383611 Servicios integrales de publicidad
B12: Condiciones geográficas y de acceso del lugar en el cual se debe cumplir el objeto del Proceso de Contratación: El suministro o servicio se prestará principalmente en las Sedes de la Alcaldía Local de Usme o en el lugar indicado en los estudios previos del proceso.
B13: Entorno socio ambiental: Si aplican
B14: Condiciones políticas: Si aplican
B15: Factores ambientales: La Alcaldía Local de USME, cumple la normatividad ambiental, mejora continuamente sus procesos para liderar, prevenir, mitigar, proteger, conservar y hacer un uso racional de los recursos naturales y del medio ambiente, siendo modelo de responsabilidad ambiental en la gestión pública. La Política Ambiental Operativa de La Alcaldía Local de USME, forma parte de la Política del Sistema Integrado de Gestión de la Entidad y está orientada por la Norma ISO 14001 de 2015. En consecuencia, la Entidad desarrolla los lineamientos sectoriales contenidos en el Plan Institucional de Gestión Ambiental –PIGA-, que se concreta a través de los Programas de Gestión en Residuos, Agua, Energía, Condiciones Internas, Buenas Prácticas y Gestión Contractual. Dichos Programas están sujetos al mejoramiento continuo, por parte de la Entidad, para el beneficio general.
B16: Sector del objeto del Proceso de Contratación y su mercado: Todos los clientes (entidades privadas, Estatales y Gubernamentales), alrededor en todo el Territorio Nacional Colombiano y el exterior, quienes solicitan equipos y servicios de seguridad y control de acceso, con niveles elevados de flujo peatonal.
... B18: Experiencia propia y de otras Entidades Estatales en Procesos de Contratación del mismo tipo: La Alcaldía Local de Usme, ha realizado procesos de contratación de mínima cuantía para elementos publicitarios los cuales permiten fortalecer el acercamiento, interacción y comunicación con la comunidad; Por lo anterior, este es un proceso que ha sido adelantado de manera recurrente por la administración local, de manera que cuenta con la experiencia adquirida en el adelantamiento de este tipo de procesos necesarios para lograr el cumplimiento de los fines de la contratación.

Sheet IDENTIFICACION Y ANALISIS
C2: MATRIZ DE RIESGOS DE CONTRATACIÓN | F2: Código: GCO-GCI-F164 Versión: 01 Vigencia: 16 diciembre de 2021 Caso HOLA: 206942
B6: DEFINICIONES
B7: RIESGO: evento que puede generar efectos adversos y de distinta magnitud en el logro de los objetivos del Proceso de Contratación o en la ejecución de un contrato
B8: RIESGOS PREVISIBLES: Son los posibles hechos o circunstancias que por la naturaleza del contrato y de la actividad a ejecutar es factible su ocurrencia.
B9: ETAPA DE PLANEACIÓN: Está comprendida entre la elaboración del Plan Anual de Adquisiciones y la fecha en la cual decide continuar o no con el Proceso de Contratación
B10: ETAPA DE SELECCIÓN: Está comprendida entre el acto de Apertura del Proceso de Contratación y la Adjudicación o la declaración de desierto del Proceso de Contratación
B11: ETAPA DE CONTRATACIÓN: Una vez adjudicado el contrato objeto del Proceso de Contratación, inicia la etapa de contratación en la cual se debe cumplir con el cronograma previsto para la celebración del contrato, el registro presupuestal, la publicación en el SECOP y el cumplimiento de los requisitos para el perfeccionamiento, ejecución y pago.
B12: ETAPA DE EJECUCIÓN: Inicia una vez cumplidos los requisitos previstos para iniciar la ejecución del contrato respectivo y termina con el vencimiento del plazo del contrato o la fecha de liquidación si hay lugar a ella.
B13: RIESGO GENERAL: Es un riesgo de todos los procesos de contratación adelantados por la Entidad Estatal, por lo cual está presente en toda su actividad contractual.
B14: RIEGO ESPECIFICO: Es un riesgo propio del proceso de contratación objeto de análisis.
B15: INSTRUCCIONES PARA LA IDENTIFICACIÓN, ANALISIS, EVALUACIÓN , ASIGNACIÓN Y TRATAMIENTO DE RIESGOS EN LA CONTRATACIÓN
B16: 1) Identifique los riesgos previsibles que le apliquen al objeto contractual que se adelante; En caso de identificar otro riesgo inclúyalo en la proforma e informe al Área de Contratos de la Secretaría General para que sea actualizada en el SIG.
C17: ETAPAS | D17: CLASE | E17: FUENTE | F17: TIPO
C18: PLANEACIÓN
B19: Inadecuada escogencia de la modalidad de contratación | D19: General | E19: Interno | F19: Operacionales
B20: Requisitos habilitantes inapropiados para el proceso de selección | D20: General | E20: Interno | F20: Operacionales
B21: Inadecuado análisis económico estimativo del valor del contrato | D21: Estatal | E21: Externo | F21: Economicos
B22: Inadecuada descripción del bien o servicio requerido | D22: General | E22: Interno | F22: Operacionales
B23: Inadecuada elaboración de estudios y diseños | D23: General | E23: Interno | F23: Operacionales
B24: Requisitos habilitantes que impidan la selección objetiva | D24: General | E24: Interno | F24: Operacionales
B25: Falta de profundidad en el estudio de sector no identificandose claramente aspectos de oferta y demanda | D25: General | E25: Interno | F25: Economicos
B26: Ausencia de fundamentación de la justificación y conveniencia de la contratación | D26: General | E26: Interno | F26: Operacionales
B27: Inadecuada identificación de las condiciones contractuales | D27: General | E27: Interno | F27: Operacionales
B28: No aprobación o demoras en la expedición vigencias futuras | D28: General | E28: Interno | F28: Operacionales
B29: Apertura de procesos sin disponibilidad presupuestal | D29: General | E29: Interno | F29: Operacionales
C30: SELECCIÓN
B31: Inadecuada evaluación de las ofertas y/o verificación de requisitos habilitantes | D31: General | E31: Interno | F31: Operacionales
B32: Inadecuado manejo administrativo del proceso contractual | D32: General | E32: Interno | F32: Operacionales
B33: Falta de claridad en la elaboración de los actos administrativos | D33: General | E33: Interno | F33: Operacionales
B34: Contestación inoportuna a todas las observaciones formuladas a los documentos de la contratación | D34: Estatal | E34: Interno | F34: Operacionales
B35: No publicación de la documentación del proceso de selección en el SECOP | D35: Estatal | E35: Interno | F35: Operacionales
B36: Confabulacion de los proponentes (Colusión) | D36: General | E36: Externo | F36: Operacionales
B37: Selección de ofertas con precios artificialmente bajos. | D37: General | E37: Externo | F37: Operacionales
C38: CONTRATACIÓN
B39: Riesgo de que no se firme el contrato. | D39: General | E39: Interno | F39: Operacionales
B40: Falta de constitución o constitución tardía de la garantía única. Aceptación de garantías que no se ajustan a lo contemplado en el contrato | D40: General | E40: Externo | F40: Operacionales
B41: Falta de solicitud o solicitud tardía del registro presupuestal | D41: General | E41: Externo | F41: Operacionales
B42: No publicación de la documentación del proceso de selección en el SECOP | D42: General | E42: Interno | F42: Operacionales
B43: Presentación de reclamos de terceros sobre la selección del oferente que retrasen el perfeccionamiento del contrato. | D43: General | E43: Interno | F43: Operacionales
C44: EJECUCIÓN
...

Sheet EVALUACION
D1: MATRIZ DE RIESGOS DE CONTRATACIÓN | K1: Código: GCO-GCI-F164 Versión: 01 Vigencia: 16 diciembre de 2021 Caso HOLA: 206942
B5: Objeto Contractual: CONTRATAR LA PRESTACIÓN DEL SERVICIO PARA REALIZAR LA PRODUCCIÓN (DISEÑO, ELABORACIÓN E IMPRESIÓN GRAFICA) Y SUMINISTRO DE MATERIALES IMPRESOS, DE MERCHANDISING Y PROMOCIONALES QUE REQUIERA LA ALCALDÌA LOCAL, DE CONFORMIDAD CON LAS CONDICIONES, CANTIDADES Y ESPECIFICACIONES TECNICAS ESTABLECIDAS EN EL PRESENTE ESTUDIO PREVIO
B6: INSTRUCCIONES PARA LA IDENTIFICACIÓN, ANALISIS, EVALUACIÓN , ASIGNACIÓN Y TRATAMIENTO DE RIESGOS EN LA CONTRATACIÓN
B7: 1) Seleccione el tipo de calificación (Cualitativa ó Monetaria)
B8: 2) Seleccione la(s) etapas y los riesgos que aplican al objeto contractual
B9: 3) Asigne la probabilidad de ocurrencia del riesgo, de conformidad con la tabla de probabilidad
B10: 4) Asigne el impacto que generaría la materialización del riesgo, de conformidad con la tabla de impacto
B11: 5) Al realizar las anteriores actividades se obtendrá la calificación total y la valoración del riesgo (prioridad) , traslde al formato evaluación con controles, los que tengan un nivel de criticidad diferente a bajo.
B12: 6) Continúe en la hoja de evaluación de controles
B14: CALIFICACIÓN | H14: Cualitativa
B15: ETAPA | C15: Descripción (Que puede pasar y, cómo puede ocurrir) | H15: Consecuencias de la ocurrencia del evento | I15: Probabilidad de Ocurrencia | J15: Impacto | K15: Calificación Total | L15: Prioridad
B16: PLANEACIÓN | C16: Inadecuado análisis económico estimativo del valor del contrato | H16: Declarar desierto el proceso de contratación y la imposibilidad de ejecutar el proyecto. | I16: 2 | J16: 4 | K16: =+I16+J16 -> 6 | L16: =IF(K16<=4,"BAJO",IF(K16=5,"MEDIO",IF(K16=6,"ALTO",IF(K16=7,"ALTO","EXTREMO")))) -> ALTO
B17: PLANEACIÓN | C17: Inadecuada descripción del bien o servicio requerido | H17: No prestar el servicio adecuado de acuerdo a la necesidad del mismo. | I17: 2 | J17: 3 | K17: =+I17+J17 -> 5 | L17: =IF(K17<=4,"BAJO",IF(K17=5,"MEDIO",IF(K17=6,"ALTO",IF(K17=7,"ALTO","EXTREMO")))) -> MEDIO
B18: PLANEACIÓN | C18: Requisitos habilitantes que impidan la selección objetiva | H18: Demoras en el proceso de selección | I18: 2 | J18: 3 | K18: =+I18+J18 -> 5 | L18: =IF(K18<=4,"BAJO",IF(K18=5,"MEDIO",IF(K18=6,"ALTO",IF(K18=7,"ALTO","EXTREMO")))) -> MEDIO
B19: SELECCIÓN | C19: No publicación de la documentación del proceso de selección en el SECOP | H19: Dificultad para la selección del proponente. | I19: 3 | J19: 2 | K19: =+I19+J19 -> 5 | L19: =IF(K19<=4,"BAJO",IF(K19=5,"MEDIO",IF(K19=6,"ALTO",IF(K19=7,"ALTO","EXTREMO")))) -> MEDIO
B20: SELECCIÓN | C20: Selección de ofertas con precios artificialmente bajos. | H20: Retrasos en la selección del proponente | I20: 2 | J20: 3 | K20: =+I20+J20 -> 5 | L20: =IF(K20<=4,"BAJO",IF(K20=5,"MEDIO",IF(K20=6,"ALTO",IF(K20=7,"ALTO","EXTREMO")))) -> MEDIO
B21: CONTRATACIÓN | C21: Riesgo de que no se firme el contrato. | H21: Demora en la ejecución del contrato durante la vigencia actual | I21: 1 | J21: 4 | K21: =+I21+J21 -> 5 | L21: =IF(K21<=4,"BAJO",IF(K21=5,"MEDIO",IF(K21=6,"ALTO",IF(K21=7,"ALTO","EXTREMO")))) -> MEDIO
B22: CONTRATACIÓN | C22: Falta de solicitud o solicitud tardía del registro presupuestal | H22: Retraso en los tiempos esstimados para la contratación | I22: 3 | J22: 2 | K22: =+I22+J22 -> 5 | L22: =IF(K22<=4,"BAJO",IF(K22=5,"MEDIO",IF(K22=6,"ALTO",IF(K22=7,"ALTO","EXTREMO")))) -> MEDIO
B23: CONTRATACIÓN | C23: Falta de constitución o constitución tardía de la garantía única. Aceptación de garantías que no se ajustan a lo contemplado en el contrato | H23: Demora por parte del contratista para el perfeccionamiento del contrato, en cuanto a demora de firma de contrato, firma acta de inicio, entrega de pólizas y demas | I23: 2 | J23: 3 | K23: =+I23+J23 -> 5 | L23: =IF(K23<=4,"BAJO",IF(K23=5,"MEDIO",IF(K23=6,"ALTO",IF(K23=7,"ALTO","EXTREMO")))) -> MEDIO
B24: EJECUCIÓN | C24: Variación de los precios del mercado | H24: No prestar el servicio por desequilibrio economico. | I24: 3 | J24: 3 | K24: =+I24+J24 -> 6 | L24: =IF(K24<=4,"BAJO",IF(K24=5,"MEDIO",IF(K24=6,"ALTO",IF(K24=7,"ALTO","EXTREMO")))) -> ALTO
B25: EJECUCIÓN | C25: Factores políticos o macroeconómicos. | H25: Afectación al orden público por protestas, marchas y/o actos de violencia que pueden afectar la entrega oportuna de los elementos | I25: 2 | J25: 3 | K25: =+I25+J25 -> 5 | L25: =IF(K25<=4,"BAJO",IF(K25=5,"MEDIO",IF(K25=6,"ALTO",IF(K25=7,"ALTO","EXTREMO")))) -> MEDIO
B26: EJECUCIÓN | C26: Variación en la disponibilidad o en el costo de los insumos necesarios para prestar los servicios. | H26: Que el contratista manifieste no querer continuar con el contrato, lo que representa dificultad y demoras en la entrega al FDLU | I26: 2 | J26: 3 | K26: =+I26+J26 -> 5 | L26: =IF(K26<=4,"BAJO",IF(K26=5,"MEDIO",IF(K26=6,"ALTO",IF(K26=7,"ALTO","EXTREMO")))) -> MEDIO
B27: EJECUCIÓN | C27: Incumplimiento de compromisos adquiridos por el contratista seleccionado con sus subcontratistas, suministradores de bienes y servicios. | H27: variaciones en el tiempo estimado para entrega de los elementos al FDLU | I27: 2 | J27: 3 | K27: =+I27+J27 -> 5 | L27: =IF(K27<=4,"BAJO",IF(K27=5,"MEDIO",IF(K27=6,"ALTO",IF(K27=7,"ALTO","EXTREMO")))) -> MEDIO
... B31: EJECUCIÓN | C31: Eventos naturales tales como lluvias, inundaciones y sequias entre otros | H31: La no entrega a tiempo de los insumos solicitados por las condiciones ambientales. | I31: 2 | J31: 3 | K31: =+I31+J31 -> 5 | L31: =IF(K31<=4,"BAJO",IF(K31=5,"MEDIO",IF(K31=6,"ALTO",IF(K31=7,"ALTO","EXTREMO")))) -> MEDIO
B34: Probabilidad | C34: Catagoria | E34: Valoración | G34: Impacto | H34: Categoria | I34: Valoración
C35: Raro (puede ocurrir excepcionalmente) | E35: 1 | H35: Insignificante | I35: 1
C36: Improbable (puede ocurrir ocasionalmente) | E36: 2 | H36: Menor | I36: 2
C37: Posible (puede ocurrir en cualquier momento futuro) | E37: 3 | H37: Moderado | I37: 3
C38: Probable (probablemente va a ocurrir) | E38: 4 | H38: Mayor | I38: 4
C39: Casi cierto (ocurre en la mayoria de circunstancias) | E39: 5 | H39: Catastrófico | I39: 5
C41: Valoración del Riesgo
C42: Calificación Cualitativa | F42: Obstruye la ejecución del contrato de manera intrascendente. | G42: Dificulta la ejecución del contrato de manera baja, aplicando medidas mínimas se pueden lograr el objeto contractual | H42: Afecta la ejecución del contrato sin alterar el beneficio para las partes | I42: Obstruye la ejecución del contrato sustancialmente pero aun así permite la consecución del objeto contractual | K42: Perturba la ejecución del contrato de manera grave imposibilitando la consecución del objeto contractual.
C43: Calificación Monetaria | F43: Los sobrecostos no representan más del uno por ciento (1%) del valor del contrato. | G43: Los sobrecostos no representan más del cinco por ciento (5%) del valor del contrato. | H43: Genera un impacto sobre el valor del contrato entre el cinco (5%) y el quince por ciento (15%). | I43: Incrementa el valor del contrato entre el quince (15%) y el treinta por ciento (30%). | K43: Impacto sobre el valor del contrato en más del treinta por ciento (30%).
C44: Categoría | E44: Valoración | F44: Insignificante | G44: Menor | H44: Moderado | I44: Mayor | K44: Catastrófico
F45: 1 | G45: 2 | H45: 3 | I45: 4 | K45: 5
C46: Raro (puede ocurrir excepcionalmente) | E46: 1 | F46: 2 | G46: 3 | H46: 4 | I46: 5 | K46: 6
C47: Improbable (puede ocurrir ocasionalmente) | E47: 2 | F47: 3 | G47: 4 | H47: 5 | I47: 6 | K47: 7
C48: Posible (puede ocurrir en cualquier momento futuro) | E48: 3 | F48: 4 | G48: 5 | H48: 6 | I48: 7 | K48: 8
C49: Probable (probablemente va a ocurrir) | E49: 4 | F49: 5 | G49: 6 | H49: 7 | I49: 8 | K49: 9
C50: Casi cierto (ocurre en la mayoria de circunstancias) | E50: 5 | F50: 6 | G50: 7 | H50: 8 | I50: 9 | K50: 10
...

Sheet EVALUACION CON CONTROLES
D2: MATRIZ DE RIESGOS DE CONTRATACIÓN | P2: Código: GCO-GCI-F164 Versión: 01 Vigencia: 16 diciembre de 2021 Caso HOLA: 206942
A6: =+EVALUACION!B5 -> Objeto Contractual: CONTRATAR LA PRESTACIÓN DEL SERVICIO PARA REALIZAR LA PRODUCCIÓN (DISEÑO, ELABORACIÓN E IMPRESIÓN GRAFICA) Y SUMINISTRO DE MATERIALES IMPRESOS, DE MERCHANDISING Y PROMOCIONALES QUE REQUIERA LA ALCALDÌA LOCAL, DE CONFORMIDAD CON LAS CONDICIONES, CANTIDADES Y ESPECIFICACIONES TECNICAS ESTABLECIDAS EN EL PRESENTE ESTUDIO PREVIO
A7: INSTRUCCIONES PARA LA IDENTIFICACIÓN, ANALISIS, EVALUACIÓN , ASIGNACIÓN Y TRATAMIENTO DE RIESGOS EN LA CONTRATACIÓN
A8: 1) Describa el tratamiento/controles a ser implementados
A9: 2) Teniendo en cuenta el tratamiento descrito, asigne la probabilidad de ocurrencia del riesgo, de conformidad con la tabla de probabilidad
A10: 3) Teniendo en cuenta el tratamiento descrito, asigne el impacto que generaría la materialización del riesgo, de conformidad con la tabla de impacto
A11: 4) Al realizar las anteriores actividades se obtendrá la calificación total y la valoración del riesgo (prioridad)
A12: 5) Diligencie la información de las démas columnas
A13: 7) Continúe en la hoja de asignación y tratamiento
A15: ETAPA | B15: Descripción (Que puede pasar y, cómo puede ocurrir) | F15: Tratamiento/Controles a ser implementados | H15: Probabilidad de Ocurrencia | I15: Impacto | J15: Calificación Total | K15: Prioridad | L15: ¿Afecta el equilibrio económico del contrato? | M15: Persona responsable por implementar el tratamiento | N15: Fecha estimada en que se inicia el tratamiento | O15: Fecha estimada en que se completa el tratamiento | P15: ¿Cómo se realiza el monitoreo? | Q15: Periodicidad ¿Cuándo?
A16: =+EVALUACION!B16 -> PLANEACIÓN | B16: =+EVALUACION!C16 -> Inadecuado análisis económico estimativo del valor del contrato | F16: Realizar correcto analisis deacuerdo a las necesidades de la alcaldia y los proyectos a realizar en la localidad | H16: =+EVALUACION!I16 -> 2 | I16: =+EVALUACION!J16 -> 4 | J16: =+H16+I16 -> 6 | K16: =IF(J16<=4,"BAJO",IF(J16=5,"MEDIO",IF(J16=6,"ALTO",IF(J16=7,"ALTO","EXTREMO")))) -> ALTO | L16: NO | M16: CONTRATANTE | N16: 2022 | O16: 2022 | P16: Supervisión constante al desarrollo del proceso | Q16: Durante la etapa de planeación
A17: =+EVALUACION!B17 -> PLANEACIÓN | B17: =+EVALUACION!C17 -> Inadecuada descripción del bien o servicio requerido | F17: Realizar las especificaciones claras de acuerdo a las necesidades existentes | H17: =+EVALUACION!I17 -> 2 | I17: =+EVALUACION!J17 -> 3 | J17: =+H17+I17 -> 5 | K17: =IF(J17<=4,"BAJO",IF(J17=5,"MEDIO",IF(J17=6,"ALTO",IF(J17=7,"ALTO","EXTREMO")))) -> MEDIO | L17: NO | M17: CONTRATANTE | N17: 2022 | O17: 2022 | P17: Supervisión constante al desarrollo del proceso | Q17: Durante la etapa de planeación
A18: =+EVALUACION!B18 -> PLANEACIÓN | B18: =+EVALUACION!C18 -> Requisitos habilitantes que impidan la selección objetiva | F18: Revisar y ajustar los requisitos estipulados, su pertinencia e idoneidad para garantizar la selección objetiva | H18: =+EVALUACION!I18 -> 2 | I18: =+EVALUACION!J18 -> 3 | J18: =+H18+I18 -> 5 | K18: =IF(J18<=4,"BAJO",IF(J18=5,"MEDIO",IF(J18=6,"ALTO",IF(J18=7,"ALTO","EXTREMO")))) -> MEDIO | L18: NO | M18: CONTRATANTE | N18: 2022 | O18: 2022 | P18: Supervisión constante al desarrollo del proceso | Q18: Durante la etapa de planeación
A19: =+EVALUACION!B19 -> SELECCIÓN | B19: =+EVALUACION!C19 -> No publicación de la documentación del proceso de selección en el SECOP | F19: Supervisar el proceso y solicitar comprobantes o garantías que evidencien el cumplimiento de la publicación en SECOP | H19: =+EVALUACION!I19 -> 3 | I19: =+EVALUACION!J19 -> 2 | J19: =+H19+I19 -> 5 | K19: =IF(J19<=4,"BAJO",IF(J19=5,"MEDIO",IF(J19=6,"ALTO",IF(J19=7,"ALTO","EXTREMO")))) -> MEDIO | L19: NO | M19: CONTRATANTE | N19: 2022 | O19: 2022 | P19: Supervisión constante al desarrollo del proceso | Q19: Durante la etapa de selección
A20: =+EVALUACION!B20 -> SELECCIÓN | B20: =+EVALUACION!C20 -> Selección de ofertas con precios artificialmente bajos. | F20: Supervisar el proceso y solicitar comprobantes o garantías que evidencien el precio real de los elementos requeridos | H20: =+EVALUACION!I20 -> 2 | I20: =+EVALUACION!J20 -> 3 | J20: =+H20+I20 -> 5 | K20: =IF(J20<=4,"BAJO",IF(J20=5,"MEDIO",IF(J20=6,"ALTO",IF(J20=7,"ALTO","EXTREMO")))) -> MEDIO | L20: NO | M20: CONTRATANTE | N20: 2022 | O20: 2022 | P20: Supervisión constante al desarrollo del proceso | Q20: Durante la etapa de selección
A21: =+EVALUACION!B21 -> CONTRATACIÓN | B21: =+EVALUACION!C21 -> Riesgo de que no se firme el contrato. | F21: Hacer Seguimiento al proponente adjudicatario para que realice la firma del contrato dentro de los tiempos justos | H21: =+EVALUACION!I21 -> 1 | I21: =+EVALUACION!J21 -> 4 | J21: =+H21+I21 -> 5 | K21: =IF(J21<=4,"BAJO",IF(J21=5,"MEDIO",IF(J21=6,"ALTO",IF(J21=7,"ALTO","EXTREMO")))) -> MEDIO | L21: NO | M21: CONTRATANTE Y CONTRATISTA | N21: 2022 | O21: 2022 | P21: Supervisión constante al desarrollo del proceso | Q21: Durante la etapa de contratación
A22: =+EVALUACION!B22 -> CONTRATACIÓN | B22: =+EVALUACION!C22 -> Falta de solicitud o solicitud tardía del registro presupuestal | F22: Realizar un cronograma ajustado de acuerdo a cada etapa del proceso, para garantizar la ejecución de las acciones pertinentes en los tiempos establecidos | H22: =+EVALUACION!I22 -> 3 | I22: =+EVALUACION!J22 -> 2 | J22: =+H22+I22 -> 5 | K22: =IF(J22<=4,"BAJO",IF(J22=5,"MEDIO",IF(J22=6,"ALTO",IF(J22=7,"ALTO","EXTREMO")))) -> MEDIO | L22: NO | M22: CONTRATANTE | N22: 2022 | O22: 2022 | P22: Supervisión constante al desarrollo del proceso | Q22: Durante la etapa de contratación
A23: =+EVALUACION!B23 -> CONTRATACIÓN | B23: =+EVALUACION!C23 -> Falta de constitución o constitución tardía de la garantía única. Aceptación de garantías que no se ajustan a lo contemplado en el contrato | F23: Hacer Seguimiento al proponente adjudicado para que realice los trámites para las garantías a tiempo | H23: =+EVALUACION!I23 -> 2 | I23: =+EVALUACION!J23 -> 3 | J23: =+H23+I23 -> 5 | K23: =IF(J23<=4,"BAJO",IF(J23=5,"MEDIO",IF(J23=6,"ALTO",IF(J23=7,"ALTO","EXTREMO")))) -> MEDIO | L23: NO | M23: CONTRATANTE Y CONTRATISTA | N23: 2022 | O23: 2022 | P23: Supervisión constante al desarrollo del proceso | Q23: Durante la etapa de contratación
A24: =+EVALUACION!B24 -> EJECUCIÓN | B24: =+EVALUACION!C24 -> Variación de los precios del mercado | F24: Realizar el ajuste que se requiera, de acuerdo a las variaciones de los precios del mercado y según cotización | H24: =+EVALUACION!I24 -> 3 | I24: =+EVALUACION!J24 -> 3 | J24: =+H24+I24 -> 6 | K24: =IF(J24<=4,"BAJO",IF(J24=5,"MEDIO",IF(J24=6,"ALTO",IF(J24=7,"ALTO","EXTREMO")))) -> ALTO | L24: SI | M24: CONTRATANTE Y CONTRATISTA | N24: 2022 | O24: 2022 | P24: Supervisión constante al desarrollo del proceso | Q24: Durante la etapa de ejecución
A25: =+EVALUACION!B25 -> EJECUCIÓN | B25: =+EVALUACION!C25 -> Factores políticos o macroeconómicos. | F25: Contemplar un plan de contingencia previo a cada actividad, reconociendo la situción de orden público para la modificacion de cronograma especifico. | H25: =+EVALUACION!I25 -> 2 | I25: =+EVALUACION!J25 -> 3 | J25: =+H25+I25 -> 5 | K25: =IF(J25<=4,"BAJO",IF(J25=5,"MEDIO",IF(J25=6,"ALTO",IF(J25=7,"ALTO","EXTREMO")))) -> MEDIO | L25: NO | M25: CONTRATISTA | N25: 2022 | O25: 2022 | P25: Supervisión constante al desarrollo del proceso | Q25: Durante la etapa de ejecución
A26: =+EVALUACION!B26 -> EJECUCIÓN | B26: =+EVALUACION!C26 -> Variación en la disponibilidad o en el costo de los insumos necesarios para prestar los servicios. | F26: Realizar las solicitudes adicionales previamente y hacer los ajustes que se requieran de acuerdo a la variación de precios de los items no contemplados en la oferta economica | H26: =+EVALUACION!I26 -> 2 | I26: =+EVALUACION!J26 -> 3 | J26: =+H26+I26 -> 5 | K26: =IF(J26<=4,"BAJO",IF(J26=5,"MEDIO",IF(J26=6,"ALTO",IF(J26=7,"ALTO","EXTREMO")))) -> MEDIO | L26: NO | M26: CONTRATISTA | N26: 2022 | O26: 2022 | P26: Supervisión constante al desarrollo del proceso | Q26: Durante la etapa de ejecución
A27: =+EVALUACION!B27 -> EJECUCIÓN | B27: =+EVALUACION!C27 -> Incumplimiento de compromisos adquiridos por el contratista seleccionado con sus subcontratistas, suministradores de bienes y servicios. | F27: Realizar seguimiento a los controles utilizados por el operador para el cumplimiento de las obligaciones | H27: =+EVALUACION!I27 -> 2 | I27: =+EVALUACION!J27 -> 3 | J27: =+H27+I27 -> 5 | K27: =IF(J27<=4,"BAJO",IF(J27=5,"MEDIO",IF(J27=6,"ALTO",IF(J27=7,"ALTO","EXTREMO")))) -> MEDIO | L27: NO | M27: CONTRATANTE | N27: 2022 | O27: 2022 | P27: Supervisión constante al desarrollo del proceso | Q27: Durante la etapa de ejecución
... A31: =+EVALUACION!B31 -> EJECUCIÓN | B31: =+EVALUACION!C31 -> Eventos naturales tales como lluvias, inundaciones y sequias entre otros | F31: Validación en conjunto con el contratista respecto a posibles cambios que surjan durante la ejecucion del contrato | H31: =+EVALUACION!I31 -> 2 | I31: =+EVALUACION!J31 -> 3 | J31: =+H31+I31 -> 5 | K31: =IF(J31<=4,"BAJO",IF(J31=5,"MEDIO",IF(J31=6,"ALTO",IF(J31=7,"ALTO","EXTREMO")))) -> MEDIO | L31: NO | M31: CONTRATISTA | N31: 2022 | O31: 2022 | P31: Supervisión constante al desarrollo del proceso | Q31: Durante la etapa de ejecución
B33: Categoria del Riesgo | G33: Impacto del Riesgo
A34: Probabilidad | B34: Catagoria | E34: Valoración | G34: Categoria | I34: Valoración | M34: Categoria del Riesgo
B35: Raro (puede ocurrir excepcionalmente) | E35: 1 | G35: Insignificante | I35: 1 | M35: Valoración del Riesgo | O35: Categoría
B36: Improbable (puede ocurrir ocasionalmente) | E36: 2 | G36: Menor | I36: 2 | M36: 8, 9 y 10 | O36: Riesgo extremo
B37: Posible (puede ocurrir en cualquier momento futuro) | E37: 3 | G37: Moderado | I37: 3 | M37: 6 y 7 | O37: Riesgo alto
B38: Probable (probablemente va a ocurrir) | E38: 4 | G38: Mayor | I38: 4 | M38: 5 | O38: Riesgo medio
B39: Casi cierto (ocurre en la mayoria de circunstancias) | E39: 5 | G39: Catastrófico | I39: 5 | M39: 2, 3 y 4 | O39: Riesgo bajo
B41: Valoración del Riesgo
B42: Calificación Cualitativa | F42: Obstruye la ejecución del contrato de manera intrascendente. | H42: Dificulta la ejecución del contrato de manera baja, aplicando medidas mínimas se pueden lograr el objeto contractual | K42: Afecta la ejecución del contrato sin alterar el beneficio para las partes | M42: Obstruye la ejecución del contrato sustancialmente pero aun así permite la consecución del objeto contractual | O42: Perturba la ejecución del contrato de manera grave imposibilitando la consecución del objeto contractual.
B43: Calificación Monetaria | F43: Los sobrecostos no representan más del uno por ciento (1%) del valor del contrato. | H43: Los sobrecostos no representan más del cinco por ciento (5%) del valor del contrato. | K43: Genera un impacto sobre el valor del contrato entre el cinco (5%) y el quince por ciento (15%). | M43: Incrementa el valor del contrato entre el quince (15%) y el treinta por ciento (30%). | O43: Impacto sobre el valor del contrato en más del treinta por ciento (30%).
B44: Catagoria | E44: Valoración | F44: Insignificante | H44: Menor | K44: Moderado | M44: Mayor | O44: Catastrófico
F45: 1 | H45: 2 | K45: 3 | M45: 4 | O45: 5
B46: Raro (puede ocurrir excepcionalmente) | E46: 1 | F46: 2 | H46: 3 | K46: 4 | M46: 5 | O46: 6
B47: Improbable (puede ocurrir ocasionalmente) | E47: 2 | F47: 3 | H47: 4 | K47: 5 | M47: 6 | O47: 7
B48: Posible (puede ocurrir en cualquier momento futuro) | E48: 3 | F48: 4 | H48: 5 | K48: 6 | M48: 7 | O48: 8
B49: Probable (probablemente va a ocurrir) | E49: 4 | F49: 5 | H49: 6 | K49: 7 | M49: 8 | O49: 9
B50: Casi cierto (ocurre en la mayoria de circunstancias) | E50: 5 | F50: 6 | H50: 7 | K50: 8 | M50: 9 | O50: 10

Sheet ASIGNACION Y TRATAMIENTO.
D2: MATRIZ DE RIESGOS DE CONTRATACIÓN | W2: Código: GCO-GCI-F164 Versión: 01 Vigencia: 16 diciembre de 2021 Caso HOLA: 206942
B6: =+EVALUACION!B5 -> Objeto Contractual: CONTRATAR LA PRESTACIÓN DEL SERVICIO PARA REALIZAR LA PRODUCCIÓN (DISEÑO, ELABORACIÓN E IMPRESIÓN GRAFICA) Y SUMINISTRO DE MATERIALES IMPRESOS, DE MERCHANDISING Y PROMOCIONALES QUE REQUIERA LA ALCALDÌA LOCAL, DE CONFORMIDAD CON LAS CONDICIONES, CANTIDADES Y ESPECIFICACIONES TECNICAS ESTABLECIDAS EN EL PRESENTE ESTUDIO PREVIO
B7: IDENTIFICACIÓN, ANALISIS, EVALUACIÓN , ASIGNACIÓN Y TRATAMIENTO DE RIESGOS EN LA CONTRATACIÓN
B8: Esta matriz es un documento anexo del Estudio Previo
B10: No | C10: Descripción (Que puede pasar y, cómo puede ocurrir) | D10: Etapa | E10: Clase | F10: Fuente | G10: Consecuencias de la ocurrencia del evento | H10: Probabilidad | I10: Impacto | J10: Calificación total | K10: Prioridad | L10: ¿A quien se le asigna? | M10: % | N10: Tratamiento/Controles a ser implementados | O10: Probabilidad | P10: Impacto | Q10: Calificación total | R10: Prioridad | S10: ¿Afecta el equilibrio económico del contrato? | T10: Persona responsable por implementar el tratamiento | U10: Fecha estimada en que se inicia el tratamiento | V10: Fecha estimada en que se completa el tratamiento | W10: ¿Cómo se realiza el monitoreo | X10: Periodicidad ¿Cuándo?
B11: 1 | C11: Inadecuado análisis económico estimativo del valor del contrato | D11: =+'EVALUACION CON CONTROLES'!A16 -> PLANEACIÓN | E11: =VLOOKUP(C11,'IDENTIFICACION Y ANALISIS'!$B$19:$F$68,3,FALSE) -> Estatal | F11: =VLOOKUP(C11,'IDENTIFICACION Y ANALISIS'!$B$19:$F$68,4,FALSE) -> Externo | G11: =+EVALUACION!H16 -> Declarar desierto el proceso de contratación y la imposibilidad de ejecutar el proyecto. | H11: =+EVALUACION!I16 -> 2 | I11: =+EVALUACION!J16 -> 4 | J11: =+EVALUACION!K16 -> 6 | K11: =+EVALUACION!L16 -> ALTO | L11: SDG | M11: 100 | N11: =+'EVALUACION CON CONTROLES'!F16 -> Realizar correcto analisis deacuerdo a las necesidades de la alcaldia y los proyectos a realizar en la localidad | O11: 1 | P11: 3 | Q11: =+O11+P11 -> 4 | R11: BAJO | S11: =+'EVALUACION CON CONTROLES'!L16 -> NO | T11: =+'EVALUACION CON CONTROLES'!M16 -> CONTRATANTE | U11: =+'EVALUACION CON CONTROLES'!N16 -> 2022 | V11: =+'EVALUACION CON CONTROLES'!O16 -> 2022 | W11: =+'EVALUACION CON CONTROLES'!P16 -> Supervisión constante al desarrollo del proceso | X11: =+'EVALUACION CON CONTROLES'!Q16 -> Durante la etapa de planeación
B12: 2 | C12: Inadecuada descripción del bien o servicio requerido | D12: =+'EVALUACION CON CONTROLES'!A17 -> PLANEACIÓN | E12: =VLOOKUP(C12,'IDENTIFICACION Y ANALISIS'!$B$19:$F$68,3,FALSE) -> General | F12: =VLOOKUP(C12,'IDENTIFICACION Y ANALISIS'!$B$19:$F$68,4,FALSE) -> Interno | G12: =+EVALUACION!H17 -> No prestar el servicio adecuado de acuerdo a la necesidad del mismo. | H12: =+EVALUACION!I17 -> 2 | I12: =+EVALUACION!J17 -> 3 | J12: =+EVALUACION!K17 -> 5 | K12: =+EVALUACION!L17 -> MEDIO | L12: SDG | M12: 100 | N12: =+'EVALUACION CON CONTROLES'!F17 -> Realizar las especificaciones claras de acuerdo a las necesidades existentes | O12: 1 | P12: 2 | Q12: =+O12+P12 -> 3 | R12: BAJO | S12: =+'EVALUACION CON CONTROLES'!L17 -> NO | T12: =+'EVALUACION CON CONTROLES'!M17 -> CONTRATANTE | U12: =+'EVALUACION CON CONTROLES'!N17 -> 2022 | V12: =+'EVALUACION CON CONTROLES'!O17 -> 2022 | W12: =+'EVALUACION CON CONTROLES'!P17 -> Supervisión constante al desarrollo del proceso | X12: =+'EVALUACION CON CONTROLES'!Q17 -> Durante la etapa de planeación
B13: 3 | C13: Requisitos habilitantes que impidan la selección objetiva | D13: =+'EVALUACION CON CONTROLES'!A18 -> PLANEACIÓN | E13: =VLOOKUP(C13,'IDENTIFICACION Y ANALISIS'!$B$19:$F$68,3,FALSE) -> General | F13: =VLOOKUP(C13,'IDENTIFICACION Y ANALISIS'!$B$19:$F$68,4,FALSE) -> Interno | G13: =+EVALUACION!H18 -> Demoras en el proceso de selección | H13: =+EVALUACION!I18 -> 2 | I13: =+EVALUACION!J18 -> 3 | J13: =+EVALUACION!K18 -> 5 | K13: =+EVALUACION!L18 -> MEDIO | L13: SDG | M13: 100 | N13: =+'EVALUACION CON CONTROLES'!F18 -> Revisar y ajustar los requisitos estipulados, su pertinencia e idoneidad para garantizar la selección objetiva | O13: =+'EVALUACION CON CONTROLES'!H18 -> 2 | P13: 2 | Q13: =+O13+P13 -> 4 | R13: BAJO | S13: =+'EVALUACION CON CONTROLES'!L18 -> NO | T13: =+'EVALUACION CON CONTROLES'!M18 -> CONTRATANTE | U13: =+'EVALUACION CON CONTROLES'!N18 -> 2022 | V13: =+'EVALUACION CON CONTROLES'!O18 -> 2022 | W13: =+'EVALUACION CON CONTROLES'!P18 -> Supervisión constante al desarrollo del proceso | X13: =+'EVALUACION CON CONTROLES'!Q18 -> Durante la etapa de planeación
B14: 4 | C14: No publicación de la documentación del proceso de selección en el SECOP | D14: =+'EVALUACION CON CONTROLES'!A19 -> SELECCIÓN | E14: =VLOOKUP(C14,'IDENTIFICACION Y ANALISIS'!$B$19:$F$68,3,FALSE) -> Estatal | F14: =VLOOKUP(C14,'IDENTIFICACION Y ANALISIS'!$B$19:$F$68,4,FALSE) -> Interno | G14: =+EVALUACION!H19 -> Dificultad para la selección del proponente. | H14: =+EVALUACION!I19 -> 3 | I14: =+EVALUACION!J19 -> 2 | J14: =+EVALUACION!K19 -> 5 | K14: =+EVALUACION!L19 -> MEDIO | L14: SDG | M14: 100 | N14: =+'EVALUACION CON CONTROLES'!F19 -> Supervisar el proceso y solicitar comprobantes o garantías que evidencien el cumplimiento de la publicación en SECOP | O14: 1 | P14: =+'EVALUACION CON CONTROLES'!I19 -> 2 | Q14: =+O14+P14 -> 3 | R14: BAJO | S14: =+'EVALUACION CON CONTROLES'!L19 -> NO | T14: =+'EVALUACION CON CONTROLES'!M19 -> CONTRATANTE | U14: =+'EVALUACION CON CONTROLES'!N19 -> 2022 | V14: =+'EVALUACION CON CONTROLES'!O19 -> 2022 | W14: =+'EVALUACION CON CONTROLES'!P19 -> Supervisión constante al desarrollo del proceso | X14: =+'EVALUACION CON CONTROLES'!Q19 -> Durante la etapa de selección
B15: 5 | C15: Selección de ofertas con precios artificialmente bajos. | D15: =+'EVALUACION CON CONTROLES'!A20 -> SELECCIÓN | E15: =VLOOKUP(C15,'IDENTIFICACION Y ANALISIS'!$B$19:$F$68,3,FALSE) -> General | F15: =VLOOKUP(C15,'IDENTIFICACION Y ANALISIS'!$B$19:$F$68,4,FALSE) -> Externo | G15: =+EVALUACION!H20 -> Retrasos en la selección del proponente | H15: =+EVALUACION!I20 -> 2 | I15: =+EVALUACION!J20 -> 3 | J15: =+EVALUACION!K20 -> 5 | K15: =+EVALUACION!L20 -> MEDIO | L15: SDG | M15: 100 | N15: =+'EVALUACION CON CONTROLES'!F20 -> Supervisar el proceso y solicitar comprobantes o garantías que evidencien el precio real de los elementos requeridos | O15: =+'EVALUACION CON CONTROLES'!H20 -> 2 | P15: 2 | Q15: =+O15+P15 -> 4 | R15: BAJO | S15: =+'EVALUACION CON CONTROLES'!L20 -> NO | T15: =+'EVALUACION CON CONTROLES'!M20 -> CONTRATANTE | U15: =+'EVALUACION CON CONTROLES'!N20 -> 2022 | V15: =+'EVALUACION CON CONTROLES'!O20 -> 2022 | W15: =+'EVALUACION CON CONTROLES'!P20 -> Supervisión constante al desarrollo del proceso | X15: =+'EVALUACION CON CONTROLES'!Q20 -> Durante la etapa de selección
B16: 6 | C16: Riesgo de que no se firme el contrato. | D16: =+'EVALUACION CON CONTROLES'!A21 -> CONTRATACIÓN | E16: =VLOOKUP(C16,'IDENTIFICACION Y ANALISIS'!$B$19:$F$68,3,FALSE) -> General | F16: =VLOOKUP(C16,'IDENTIFICACION Y ANALISIS'!$B$19:$F$68,4,FALSE) -> Interno | G16: =+EVALUACION!H21 -> Demora en la ejecución del contrato durante la vigencia actual | H16: =+EVALUACION!I21 -> 1 | I16: =+EVALUACION!J21 -> 4 | J16: =+EVALUACION!K21 -> 5 | K16: =+EVALUACION!L21 -> MEDIO | L16: CONTRATISTA | M16: 100 | N16: =+'EVALUACION CON CONTROLES'!F21 -> Hacer Seguimiento al proponente adjudicatario para que realice la firma del contrato dentro de los tiempos justos | O16: =+'EVALUACION CON CONTROLES'!H21 -> 1 | P16: 2 | Q16: =+O16+P16 -> 3 | R16: BAJO | S16: =+'EVALUACION CON CONTROLES'!L21 -> NO | T16: =+'EVALUACION CON CONTROLES'!M21 -> CONTRATANTE Y CONTRATISTA | U16: =+'EVALUACION CON CONTROLES'!N21 -> 2022 | V16: =+'EVALUACION CON CONTROLES'!O21 -> 2022 | W16: =+'EVALUACION CON CONTROLES'!P21 -> Supervisión constante al desarrollo del proceso | X16: =+'EVALUACION CON CONTROLES'!Q21 -> Durante la etapa de contratación
B17: 7 | C17: Falta de solicitud o solicitud tardía del registro presupuestal | D17: =+'EVALUACION CON CONTROLES'!A22 -> CONTRATACIÓN | E17: =VLOOKUP(C17,'IDENTIFICACION Y ANALISIS'!$B$19:$F$68,3,FALSE) -> General | F17: =VLOOKUP(C17,'IDENTIFICACION Y ANALISIS'!$B$19:$F$68,4,FALSE) -> Externo | G17: =+EVALUACION!H22 -> Retraso en los tiempos esstimados para la contratación | H17: =+EVALUACION!I22 -> 3 | I17: =+EVALUACION!J22 -> 2 | J17: =+EVALUACION!K22 -> 5 | K17: =+EVALUACION!L22 -> MEDIO | L17: SDG | M17: 100 | N17: =+'EVALUACION CON CONTROLES'!F22 -> Realizar un cronograma ajustado de acuerdo a cada etapa del proceso, para garantizar la ejecución de las acciones pertinentes en los tiempos establecidos | O17: 1 | P17: =+'EVALUACION CON CONTROLES'!I22 -> 2 | Q17: =+O17+P17 -> 3 | R17: BAJO | S17: =+'EVALUACION CON CONTROLES'!L22 -> NO | T17: =+'EVALUACION CON CONTROLES'!M22 -> CONTRATANTE | U17: =+'EVALUACION CON CONTROLES'!N22 -> 2022 | V17: =+'EVALUACION CON CONTROLES'!O22 -> 2022 | W17: =+'EVALUACION CON CONTROLES'!P22 -> Supervisión constante al desarrollo del proceso | X17: =+'EVALUACION CON CONTROLES'!Q22 -> Durante la etapa de contratación
B18: 8 | C18: Falta de constitución o constitución tardía de la garantía única. Aceptación de garantías que no se ajustan a lo contemplado en el contrato | D18: =+'EVALUACION CON CONTROLES'!A23 -> CONTRATACIÓN | E18: =VLOOKUP(C18,'IDENTIFICACION Y ANALISIS'!$B$19:$F$68,3,FALSE) -> General | F18: =VLOOKUP(C18,'IDENTIFICACION Y ANALISIS'!$B$19:$F$68,4,FALSE) -> Externo | G18: =+EVALUACION!H23 -> Demora por parte del contratista para el perfeccionamiento del contrato, en cuanto a demora de firma de contrato, firma acta de inicio, entrega de pólizas y demas | H18: =+EVALUACION!I23 -> 2 | I18: =+EVALUACION!J23 -> 3 | J18: =+EVALUACION!K23 -> 5 | K18: =+EVALUACION!L23 -> MEDIO | L18: CONTRATISTA Y SDG | M18: 100 | N18: =+'EVALUACION CON CONTROLES'!F23 -> Hacer Seguimiento al proponente adjudicado para que realice los trámites para las garantías a tiempo | O18: =+'EVALUACION CON CONTROLES'!H23 -> 2 | P18: 2 | Q18: =+O18+P18 -> 4 | R18: BAJO | S18: =+'EVALUACION CON CONTROLES'!L23 -> NO | T18: =+'EVALUACION CON CONTROLES'!M23 -> CONTRATANTE Y CONTRATISTA | U18: =+'EVALUACION CON CONTROLES'!N23 -> 2022 | V18: =+'EVALUACION CON CONTROLES'!O23 -> 2022 | W18: =+'EVALUACION CON CONTROLES'!P23 -> Supervisión constante al desarrollo del proceso | X18: =+'EVALUACION CON CONTROLES'!Q23 -> Durante la etapa de contratación
B19: 9 | C19: Variación de los precios del mercado | D19: =+'EVALUACION CON CONTROLES'!A24 -> EJECUCIÓN | E19: =VLOOKUP(C19,'IDENTIFICACION Y ANALISIS'!$B$19:$F$68,3,FALSE) -> General | F19: =VLOOKUP(C19,'IDENTIFICACION Y ANALISIS'!$B$19:$F$68,4,FALSE) -> Externo | G19: =+EVALUACION!H24 -> No prestar el servicio por desequilibrio economico. | H19: =+EVALUACION!I24 -> 3 | I19: =+EVALUACION!J24 -> 3 | J19: =+EVALUACION!K24 -> 6 | K19: =+EVALUACION!L24 -> ALTO | L19: CONTRATISTA | M19: 100 | N19: =+'EVALUACION CON CONTROLES'!F24 -> Realizar el ajuste que se requiera, de acuerdo a las variaciones de los precios del mercado y según cotización | O19: 3 | P19: 2 | Q19: =+O19+P19 -> 5 | R19: MEDIO | S19: =+'EVALUACION CON CONTROLES'!L24 -> SI | T19: CONTRATISTA | U19: =+'EVALUACION CON CONTROLES'!N24 -> 2022 | V19: =+'EVALUACION CON CONTROLES'!O24 -> 2022 | W19: =+'EVALUACION CON CONTROLES'!P24 -> Supervisión constante al desarrollo del proceso | X19: =+'EVALUACION CON CONTROLES'!Q24 -> Durante la etapa de ejecución
B20: 10 | C20: Factores políticos o macroeconómicos. | D20: =+'EVALUACION CON CONTROLES'!A25 -> EJECUCIÓN | E20: =VLOOKUP(C20,'IDENTIFICACION Y ANALISIS'!$B$19:$F$68,3,FALSE) -> General | F20: =VLOOKUP(C20,'IDENTIFICACION Y ANALISIS'!$B$19:$F$68,4,FALSE) -> Externo | G20: =+EVALUACION!H25 -> Afectación al orden público por protestas, marchas y/o actos de violencia que pueden afectar la entrega oportuna de los elementos | H20: =+EVALUACION!I25 -> 2 | I20: =+EVALUACION!J25 -> 3 | J20: =+EVALUACION!K25 -> 5 | K20: =+EVALUACION!L25 -> MEDIO | L20: CONTRATISTA | M20: 100 | N20: =+'EVALUACION CON CONTROLES'!F25 -> Contemplar un plan de contingencia previo a cada actividad, reconociendo la situción de orden público para la modificacion de cronograma especifico. | O20: 1 | P20: 2 | Q20: =+O20+P20 -> 3 | R20: BAJO | S20: =+'EVALUACION CON CONTROLES'!L25 -> NO | T20: =+'EVALUACION CON CONTROLES'!M25 -> CONTRATISTA | U20: =+'EVALUACION CON CONTROLES'!N25 -> 2022 | V20: =+'EVALUACION CON CONTROLES'!O25 -> 2022 | W20: =+'EVALUACION CON CONTROLES'!P25 -> Supervisión constante al desarrollo del proceso | X20: =+'EVALUACION CON CONTROLES'!Q25 -> Durante la etapa de ejecución
B21: 11 | C21: Variación en la disponibilidad o en el costo de los insumos necesarios para prestar los servicios. | D21: =+'EVALUACION CON CONTROLES'!A26 -> EJECUCIÓN | E21: =VLOOKUP(C21,'IDENTIFICACION Y ANALISIS'!$B$19:$F$68,3,FALSE) -> General | F21: =VLOOKUP(C21,'IDENTIFICACION Y ANALISIS'!$B$19:$F$68,4,FALSE) -> Externo | G21: =+EVALUACION!H26 -> Que el contratista manifieste no querer continuar con el contrato, lo que representa dificultad y demoras en la entrega al FDLU | H21: =+EVALUACION!I26 -> 2 | I21: =+EVALUACION!J26 -> 3 | J21: =+EVALUACION!K26 -> 5 | K21: =+EVALUACION!L26 -> MEDIO | L21: CONTRATISTA | M21: 100 | N21: =+'EVALUACION CON CONTROLES'!F26 -> Realizar las solicitudes adicionales previamente y hacer los ajustes que se requieran de acuerdo a la variación de precios de los items no contemplados en la oferta economica | O21: =+'EVALUACION CON CONTROLES'!H26 -> 2 | P21: 2 | Q21: =+O21+P21 -> 4 | R21: BAJO | S21: =+'EVALUACION CON CONTROLES'!L26 -> NO | T21: =+'EVALUACION CON CONTROLES'!M26 -> CONTRATISTA | U21: =+'EVALUACION CON CONTROLES'!N26 -> 2022 | V21: =+'EVALUACION CON CONTROLES'!O26 -> 2022 | W21: =+'EVALUACION CON CONTROLES'!P26 -> Supervisión constante al desarrollo del proceso | X21: =+'EVALUACION CON CONTROLES'!Q26 -> Durante la etapa de ejecución
B22: 12 | C22: Incumplimiento de compromisos adquiridos por el contratista seleccionado con sus subcontratistas, suministradores de bienes y servicios. | D22: =+'EVALUACION CON CONTROLES'!A27 -> EJECUCIÓN | E22: =VLOOKUP(C22,'IDENTIFICACION Y ANALISIS'!$B$19:$F$68,3,FALSE) -> General | F22: =VLOOKUP(C22,'IDENTIFICACION Y ANALISIS'!$B$19:$F$68,4,FALSE) -> Externo | G22: =+EVALUACION!H27 -> variaciones en el tiempo estimado para entrega de los elementos al FDLU | H22: =+EVALUACION!I27 -> 2 | I22: =+EVALUACION!J27 -> 3 | J22: =+EVALUACION!K27 -> 5 | K22: =+EVALUACION!L27 -> MEDIO | L22: CONTRATISTA | M22: 100 | N22: =+'EVALUACION CON CONTROLES'!F27 -> Realizar seguimiento a los controles utilizados por el operador para el cumplimiento de las obligaciones | O22: 1 | P22: =+'EVALUACION CON CONTROLES'!I27 -> 3 | Q22: =+O22+P22 -> 4 | R22: BAJO | S22: =+'EVALUACION CON CONTROLES'!L27 -> NO | T22: =+'EVALUACION CON CONTROLES'!M27 -> CONTRATANTE | U22: =+'EVALUACION CON CONTROLES'!N27 -> 2022 | V22: =+'EVALUACION CON CONTROLES'!O27 -> 2022 | W22: =+'EVALUACION CON CONTROLES'!P27 -> Supervisión constante al desarrollo del proceso | X22: =+'EVALUACION CON CONTROLES'!Q27 -> Durante la etapa de ejecución
B23: 13 | C23: Imposición de nuevos trámites o permisos | D23: =+'EVALUACION CON CONTROLES'!A28 -> EJECUCIÓN | E23: =VLOOKUP(C23,'IDENTIFICACION Y ANALISIS'!$B$19:$F$68,3,FALSE) -> General | F23: =VLOOKUP(C23,'IDENTIFICACION Y ANALISIS'!$B$19:$F$68,4,FALSE) -> Externo | G23: =+EVALUACION!H28 -> No ejecución en los plazos establecidos | H23: =+EVALUACION!I28 -> 2 | I23: =+EVALUACION!J28 -> 3 | J23: =+EVALUACION!K28 -> 5 | K23: =+EVALUACION!L28 -> MEDIO | L23: CONTRATISTA Y SDG | M23: 100 | N23: =+'EVALUACION CON CONTROLES'!F28 -> Identificar y revisar los nuevos requisitos aplicables para la ejecución del contrato, y según corresponda ajustarlos y anexarlos a los ya estipulados, asegurando su pertinencia e idoneidad para garantizar la ejecución efectiva | O23: 1 | P23: 2 | Q23: =+O23+P23 -> 3 | R23: BAJO | S23: =+'EVALUACION CON CONTROLES'!L28 -> NO | T23: =+'EVALUACION CON CONTROLES'!M28 -> CONTRATANTE Y CONTRATISTA | U23: =+'EVALUACION CON CONTROLES'!N28 -> 2022 | V23: =+'EVALUACION CON CONTROLES'!O28 -> 2022 | W23: =+'EVALUACION CON CONTROLES'!P28 -> Supervisión constante al desarrollo del proceso | X23: =+'EVALUACION CON CONTROLES'!Q28 -> Durante la etapa de ejecución
B24: 14 | C24: Cambios en el marco regulatorio o normatividad aplicable al proyecto. | D24: =+'EVALUACION CON CONTROLES'!A29 -> EJECUCIÓN | E24: =VLOOKUP(C24,'IDENTIFICACION Y ANALISIS'!$B$19:$F$68,3,FALSE) -> General | F24: =VLOOKUP(C24,'IDENTIFICACION Y ANALISIS'!$B$19:$F$68,4,FALSE) -> Externo | G24: =+EVALUACION!H29 -> Cambios normativos o por la expedición de normas posteriores a la celebración del contrato que afecten las condiciones económicas, técnicas y/o jurídicas inicialmente pactadas | H24: =+EVALUACION!I29 -> 2 | I24: =+EVALUACION!J29 -> 3 | J24: =+EVALUACION!K29 -> 5 | K24: =+EVALUACION!L29 -> MEDIO | L24: CONTRATISTA Y SDG | M24: 100 | N24: =+'EVALUACION CON CONTROLES'!F29 -> Hacer ajustes de acuerdo a la normatividad vigente | O24: 1 | P24: 2 | Q24: =+O24+P24 -> 3 | R24: BAJO | S24: =+'EVALUACION CON CONTROLES'!L29 -> NO | T24: CONTRATANTE Y CONTRATISTA | U24: =+'EVALUACION CON CONTROLES'!N29 -> 2022 | V24: =+'EVALUACION CON CONTROLES'!O29 -> 2022 | W24: =+'EVALUACION CON CONTROLES'!P29 -> Supervisión constante al desarrollo del proceso | X24: =+'EVALUACION CON CONTROLES'!Q29 -> Durante la etapa de ejecución
B25: 15 | C25: Variación de tasas o tarifas | D25: =+'EVALUACION CON CONTROLES'!A30 -> EJECUCIÓN | E25: =VLOOKUP(C25,'IDENTIFICACION Y ANALISIS'!$B$19:$F$68,3,FALSE) -> General | F25: =VLOOKUP(C25,'IDENTIFICACION Y ANALISIS'!$B$19:$F$68,4,FALSE) -> Externo | G25: =+EVALUACION!H30 -> Dificultad en la entrega oportuna de los productos. | H25: =+EVALUACION!I30 -> 2 | I25: =+EVALUACION!J30 -> 3 | J25: =+EVALUACION!K30 -> 5 | K25: =+EVALUACION!L30 -> MEDIO | L25: CONTRATISTA Y SDG | M25: 100 | N25: =+'EVALUACION CON CONTROLES'!F30 -> Revisar las condiciones, tasas o tarifas que se plantean y verificar su variación con respecto a lo cotizado y acordado, con el fin de analizar su ajuste | O25: =+'EVALUACION CON CONTROLES'!H30 -> 2 | P25: 2 | Q25: =+O25+P25 -> 4 | R25: BAJO | S25: =+'EVALUACION CON CONTROLES'!L30 -> SI | T25: =+'EVALUACION CON CONTROLES'!M30 -> CONTRATANTE Y CONTRATISTA | U25: =+'EVALUACION CON CONTROLES'!N30 -> 2022 | V25: =+'EVALUACION CON CONTROLES'!O30 -> 2022 | W25: =+'EVALUACION CON CONTROLES'!P30 -> Supervisión constante al desarrollo del proceso | X25: =+'EVALUACION CON CONTROLES'!Q30 -> Durante la etapa de ejecución
B26: 16 | C26: Eventos naturales tales como lluvias, inundaciones y sequias entre otros | D26: =+'EVALUACION CON CONTROLES'!A31 -> EJECUCIÓN | E26: =VLOOKUP(C26,'IDENTIFICACION Y ANALISIS'!$B$19:$F$68,3,FALSE) -> General | F26: =VLOOKUP(C26,'IDENTIFICACION Y ANALISIS'!$B$19:$F$68,4,FALSE) -> Externo | G26: =+EVALUACION!H31 -> La no entrega a tiempo de los insumos solicitados por las condiciones ambientales. | H26: =+EVALUACION!I31 -> 2 | I26: =+EVALUACION!J31 -> 3 | J26: =+EVALUACION!K31 -> 5 | K26: =+EVALUACION!L31 -> MEDIO | L26: CONTRATISTA | M26: 100 | N26: =+'EVALUACION CON CONTROLES'!F31 -> Validación en conjunto con el contratista respecto a posibles cambios que surjan durante la ejecucion del contrato | O26: =+'EVALUACION CON CONTROLES'!H31 -> 2 | P26: 2 | Q26: =+O26+P26 -> 4 | R26: BAJO | S26: =+'EVALUACION CON CONTROLES'!L31 -> NO | T26: =+'EVALUACION CON CONTROLES'!M31 -> CONTRATISTA | U26: =+'EVALUACION CON CONTROLES'!N31 -> 2022 | V26: =+'EVALUACION CON CONTROLES'!O31 -> 2022 | W26: =+'EVALUACION CON CONTROLES'!P31 -> Supervisión constante al desarrollo del proceso | X26: =+'EVALUACION CON CONTROLES'!Q31 -> Durante la etapa de ejecución
F28: Categoria | J28: Impacto del Riesgo
E29: Probabilidad | F29: Catagoria | G29: Valoración | J29: Categoria | L29: Valoración
F30: Raro (puede ocurrir excepcionalmente) | G30: 1 | J30: Insignificante | L30: 1
F31: Improbable (puede ocurrir ocasionalmente) | G31: 2 | J31: Menor | L31: 2
F32: Posible (puede ocurrir en cualquier momento futuro) | G32: 3 | J32: Moderado | L32: 3
F33: Probable (probablemente va a ocurrir) | G33: 4 | J33: Mayor | L33: 4
F34: Casi cierto (ocurre en la mayoria de circunstancias) | G34: 5 | J34: Catastrófico | L34: 5
D36: Valoración del Riesgo
D37: Catagoria | E37: Valoración | F37: Insignificante | H37: Menor | J37: Moderado | K37: Mayor | L37: Catastrófico | P37: Categoria del Riesgo
F38: 1 | H38: 2 | J38: 3 | K38: 4 | L38: 5 | P38: Valoración del Riesgo | S38: Categoría
D39: Raro (puede ocurrir excepcionalmente) | E39: 1 | F39: 2 | H39: 3 | J39: 4 | K39: 5 | L39: 6 | P39: 8, 9 y 10 | S39: Riesgo extremo
D40: Improbable (puede ocurrir ocasionalmente) | E40: 2 | F40: 3 | H40: 4 | J40: 5 | K40: 6 | L40: 7 | P40: 6 y 7 | S40: Riesgo alto
D41: Posible (puede ocurrir en cualquier momento futuro) | E41: 3 | F41: 4 | H41: 5 | J41: 6 | K41: 7 | L41: 8 | P41: 5 | S41: Riesgo medio
D42: Probable (probablemente va a ocurrir) | E42: 4 | F42: 5 | H42: 6 | J42: 7 | K42: 8 | L42: 9 | P42: 2, 3 y 4 | S42: Riesgo bajo
D43: Casi cierto (ocurre en la mayoria de circunstancias) | E43: 5 | F43: 6 | H43: 7 | J43: 8 | K43: 9 | L43: 10
B48: CONTRATISTA
B49: SDG
B50: CONTRATISTA Y SDG

Sheet ASIGNACION Y TRATAMIENTO
D2: MATRIZ DE RIESGOS DE CONTRATACIÓN | W2: Código: GCO-GCI-F164 Versión: 01 Vigencia: 16 diciembre de 2021 Caso HOLA: 206942
B6: =+EVALUACION!B5 -> Objeto Contractual: CONTRATAR LA PRESTACIÓN DEL SERVICIO PARA REALIZAR LA PRODUCCIÓN (DISEÑO, ELABORACIÓN E IMPRESIÓN GRAFICA) Y SUMINISTRO DE MATERIALES IMPRESOS, DE MERCHANDISING Y PROMOCIONALES QUE REQUIERA LA ALCALDÌA LOCAL, DE CONFORMIDAD CON LAS CONDICIONES, CANTIDADES Y ESPECIFICACIONES TECNICAS ESTABLECIDAS EN EL PRESENTE ESTUDIO PREVIO
B7: IDENTIFICACIÓN, ANALISIS, EVALUACIÓN , ASIGNACIÓN Y TRATAMIENTO DE RIESGOS EN LA CONTRATACIÓN
B8: Esta matriz es un documento anexo del Estudio Previo
B10: No | C10: Descripción (Que puede pasar y, cómo puede ocurrir) | D10: Etapa | E10: Clase | F10: Fuente | G10: Consecuencias de la ocurrencia del evento | H10: Probabilidad | I10: Impacto | J10: Calificación total | K10: Prioridad | L10: ¿A quien se le asigna? | M10: % | N10: Tratamiento/Controles a ser implementados | O10: Probabilidad | P10: Impacto | Q10: Calificación total | R10: Prioridad | S10: ¿Afecta el equilibrio económico del contrato? | T10: Persona responsable por implementar el tratamiento | U10: Fecha estimada en que se inicia el tratamiento | V10: Fecha estimada en que se completa el tratamiento | W10: ¿Cómo se realiza el monitoreo | X10: Periodicidad ¿Cuándo?
B11: 1 | C11: Inadecuado análisis económico estimativo del valor del contrato | D11: =+'EVALUACION CON CONTROLES'!A16 -> PLANEACIÓN | E11: =VLOOKUP(C11,'IDENTIFICACION Y ANALISIS'!$B$19:$F$68,3,FALSE) -> Estatal | F11: =VLOOKUP(C11,'IDENTIFICACION Y ANALISIS'!$B$19:$F$68,4,FALSE) -> Externo | G11: =+EVALUACION!H16 -> Declarar desierto el proceso de contratación y la imposibilidad de ejecutar el proyecto. | H11: =+EVALUACION!I16 -> 2 | I11: =+EVALUACION!J16 -> 4 | J11: =+EVALUACION!K16 -> 6 | K11: =+EVALUACION!L16 -> ALTO | L11: SDG | M11: 100 | N11: =+'EVALUACION CON CONTROLES'!F16 -> Realizar correcto analisis deacuerdo a las necesidades de la alcaldia y los proyectos a realizar en la localidad | O11: =+'EVALUACION CON CONTROLES'!H16 -> 2 | P11: =+'EVALUACION CON CONTROLES'!I16 -> 4 | Q11: =+'EVALUACION CON CONTROLES'!J16 -> 6 | R11: =+'EVALUACION CON CONTROLES'!K16 -> ALTO | S11: =+'EVALUACION CON CONTROLES'!L16 -> NO | T11: =+'EVALUACION CON CONTROLES'!M16 -> CONTRATANTE | U11: =+'EVALUACION CON CONTROLES'!N16 -> 2022 | V11: =+'EVALUACION CON CONTROLES'!O16 -> 2022 | ... X11: =+'EVALUACION CON CONTROLES'!Q16 -> Durante la etapa de planeación
B12: 2 | C12: Inadecuada descripción del bien o servicio requerido | D12: =+'EVALUACION CON CONTROLES'!A17 -> PLANEACIÓN | E12: =VLOOKUP(C12,'IDENTIFICACION Y ANALISIS'!$B$19:$F$68,3,FALSE) -> General | F12: =VLOOKUP(C12,'IDENTIFICACION Y ANALISIS'!$B$19:$F$68,4,FALSE) -> Interno | G12: =+EVALUACION!H17 -> No prestar el servicio adecuado de acuerdo a la necesidad del mismo. | H12: =+EVALUACION!I17 -> 2 | I12: =+EVALUACION!J17 -> 3 | J12: =+EVALUACION!K17 -> 5 | K12: =+EVALUACION!L17 -> MEDIO | L12: SDG | M12: 100 | N12: =+'EVALUACION CON CONTROLES'!F17 -> Realizar las especificaciones claras de acuerdo a las necesidades existentes | O12: =+'EVALUACION CON CONTROLES'!H17 -> 2 | P12: =+'EVALUACION CON CONTROLES'!I17 -> 3 | Q12: =+'EVALUACION CON CONTROLES'!J17 -> 5 | R12: =+'EVALUACION CON CONTROLES'!K17 -> MEDIO | S12: =+'EVALUACION CON CONTROLES'!L17 -> NO | T12: =+'EVALUACION CON CONTROLES'!M17 -> CONTRATANTE | U12: =+'EVALUACION CON CONTROLES'!N17 -> 2022 | V12: =+'EVALUACION CON CONTROLES'!O17 -> 2022 | ... X12: =+'EVALUACION CON CONTROLES'!Q17 -> Durante la etapa de planeación
B13: 3 | C13: Requisitos habilitantes que impidan la selección objetiva | D13: =+'EVALUACION CON CONTROLES'!A18 -> PLANEACIÓN | E13: =VLOOKUP(C13,'IDENTIFICACION Y ANALISIS'!$B$19:$F$68,3,FALSE) -> General | F13: =VLOOKUP(C13,'IDENTIFICACION Y ANALISIS'!$B$19:$F$68,4,FALSE) -> Interno | G13: =+EVALUACION!H18 -> Demoras en el proceso de selección | H13: =+EVALUACION!I18 -> 2 | I13: =+EVALUACION!J18 -> 3 | J13: =+EVALUACION!K18 -> 5 | K13: =+EVALUACION!L18 -> MEDIO | L13: SDG | M13: 100 | N13: =+'EVALUACION CON CONTROLES'!F18 -> Revisar y ajustar los requisitos estipulados, su pertinencia e idoneidad para garantizar la selección objetiva | O13: =+'EVALUACION CON CONTROLES'!H18 -> 2 | P13: =+'EVALUACION CON CONTROLES'!I18 -> 3 | Q13: =+'EVALUACION CON CONTROLES'!J18 -> 5 | R13: =+'EVALUACION CON CONTROLES'!K18 -> MEDIO | S13: =+'EVALUACION CON CONTROLES'!L18 -> NO | T13: =+'EVALUACION CON CONTROLES'!M18 -> CONTRATANTE | U13: =+'EVALUACION CON CONTROLES'!N18 -> 2022 | V13: =+'EVALUACION CON CONTROLES'!O18 -> 2022 | ... X13: =+'EVALUACION CON CONTROLES'!Q18 -> Durante la etapa de planeación
B14: 4 | C14: No publicación de la documentación del proceso de selección en el SECOP | D14: =+'EVALUACION CON CONTROLES'!A19 -> SELECCIÓN | E14: =VLOOKUP(C14,'IDENTIFICACION Y ANALISIS'!$B$19:$F$68,3,FALSE) -> Estatal | F14: =VLOOKUP(C14,'IDENTIFICACION Y ANALISIS'!$B$19:$F$68,4,FALSE) -> Interno | G14: =+EVALUACION!H19 -> Dificultad para la selección del proponente. | H14: =+EVALUACION!I19 -> 3 | I14: =+EVALUACION!J19 -> 2 | J14: =+EVALUACION!K19 -> 5 | K14: =+EVALUACION!L19 -> MEDIO | L14: SDG | M14: 100 | N14: =+'EVALUACION CON CONTROLES'!F19 -> Supervisar el proceso y solicitar comprobantes o garantías que evidencien el cumplimiento de la publicación en SECOP | O14: =+'EVALUACION CON CONTROLES'!H19 -> 3 | P14: =+'EVALUACION CON CONTROLES'!I19 -> 2 | Q14: =+'EVALUACION CON CONTROLES'!J19 -> 5 | R14: =+'EVALUACION CON CONTROLES'!K19 -> MEDIO | S14: =+'EVALUACION CON CONTROLES'!L19 -> NO | T14: =+'EVALUACION CON CONTROLES'!M19 -> CONTRATANTE | U14: =+'EVALUACION CON CONTROLES'!N19 -> 2022 | V14: =+'EVALUACION CON CONTROLES'!O19 -> 2022 | ... X14: =+'EVALUACION CON CONTROLES'!Q19 -> Durante la etapa de selección
B15: 5 | C15: Selección de ofertas con precios artificialmente bajos. | D15: =+'EVALUACION CON CONTROLES'!A20 -> SELECCIÓN | E15: =VLOOKUP(C15,'IDENTIFICACION Y ANALISIS'!$B$19:$F$68,3,FALSE) -> General | F15: =VLOOKUP(C15,'IDENTIFICACION Y ANALISIS'!$B$19:$F$68,4,FALSE) -> Externo | G15: =+EVALUACION!H20 -> Retrasos en la selección del proponente | H15: =+EVALUACION!I20 -> 2 | I15: =+EVALUACION!J20 -> 3 | J15: =+EVALUACION!K20 -> 5 | K15: =+EVALUACION!L20 -> MEDIO | L15: SDG | M15: 100 | N15: =+'EVALUACION CON CONTROLES'!F20 -> Supervisar el proceso y solicitar comprobantes o garantías que evidencien el precio real de los elementos requeridos | O15: =+'EVALUACION CON CONTROLES'!H20 -> 2 | P15: =+'EVALUACION CON CONTROLES'!I20 -> 3 | Q15: =+'EVALUACION CON CONTROLES'!J20 -> 5 | R15: =+'EVALUACION CON CONTROLES'!K20 -> MEDIO | S15: =+'EVALUACION CON CONTROLES'!L20 -> NO | T15: =+'EVALUACION CON CONTROLES'!M20 -> CONTRATANTE | U15: =+'EVALUACION CON CONTROLES'!N20 -> 2022 | V15: =+'EVALUACION CON CONTROLES'!O20 -> 2022 | ... X15: =+'EVALUACION CON CONTROLES'!Q20 -> Durante la etapa de selección
B16: 6 | C16: Riesgo de que no se firme el contrato. | D16: =+'EVALUACION CON CONTROLES'!A21 -> CONTRATACIÓN | E16: =VLOOKUP(C16,'IDENTIFICACION Y ANALISIS'!$B$19:$F$68,3,FALSE) -> General | F16: =VLOOKUP(C16,'IDENTIFICACION Y ANALISIS'!$B$19:$F$68,4,FALSE) -> Interno | G16: =+EVALUACION!H21 -> Demora en la ejecución del contrato durante la vigencia actual | H16: =+EVALUACION!I21 -> 1 | I16: =+EVALUACION!J21 -> 4 | J16: =+EVALUACION!K21 -> 5 | K16: =+EVALUACION!L21 -> MEDIO | L16: CONTRATISTA | M16: 100 | N16: =+'EVALUACION CON CONTROLES'!F21 -> Hacer Seguimiento al proponente adjudicatario para que realice la firma del contrato dentro de los tiempos justos | O16: =+'EVALUACION CON CONTROLES'!H21 -> 1 | P16: =+'EVALUACION CON CONTROLES'!I21 -> 4 | Q16: =+'EVALUACION CON CONTROLES'!J21 -> 5 | R16: =+'EVALUACION CON CONTROLES'!K21 -> MEDIO | S16: =+'EVALUACION CON CONTROLES'!L21 -> NO | T16: =+'EVALUACION CON CONTROLES'!M21 -> CONTRATANTE Y CONTRATISTA | U16: =+'EVALUACION CON CONTROLES'!N21 -> 2022 | V16: =+'EVALUACION CON CONTROLES'!O21 -> 2022 | ... X16: =+'EVALUACION CON CONTROLES'!Q21 -> Durante la etapa de contratación
