Workbook

Sheet PRESUPUESTO
A1: ÍTEM | B1: ACTIVIDAD | C1: UNIDAD | D1: CANTIDAD | E1: VR UNITARIO | F1: VR TOTAL
B2: CERRAMIENTO FRONTAL
A3: 1 | B3: PRELIMINARES
A4: 1.1 | B4: SEÑALIZACIÓN GENERAL | C4: GBL | D4: 1 | E4: =+'1.1'!H32 -> 570400 | F4: =+D4*E4 -> 570400
A5: 1.2 | B5: DESMONTE AVISO PUBLICITARIO INFOTEP | C5: GBL | D5: 1 | E5: =+'1.2'!H32 -> 156900 | F5: =+D5*E5 -> 156900
A6: 1.3 | B6: DESMONTE REJAS EN ALUMINIO | C6: M2 | D6: 58.9 | E6: =+'1.3'!H31 -> 27810 | F6: =+D6*E6 -> 1638009
B7: TOTAL | F7: =SUM(F4:F6) -> 2365309
A8: 2 | B8: DEMOLICIONES - CERRAMIENTO FRONTAL
A9: 2.1 | B9: DEMOLICIÓN DE MURO EN MAMPOSTERÍA EN BLOQUE DE CONCRETO No. 15 | C9: M2 | D9: 35.3 | E9: =+'2.1'!H32 -> 68600 | F9: =+D9*E9 -> 2421580
A10: 2.2 | B10: DEMOLICIÓN DE COLUMNAS EN CONCRETO ARMADO | C10: M3 | D10: 3.38 | E10: =+'2.2'!H31 -> 230150 | F10: =+D10*E10 -> 777907
A11: 2.3 | B11: DEMOLICIÓN DE CIMENTACIÓN EN CONCRETO | C11: M3 | D11: 2.88 | E11: =+'2.3'!H30 -> 230150 | F11: =+D11*E11 -> 662832
B12: TOTAL | F12: =SUM(F9:F11) -> 3862319
A13: 3 | B13: CIMENTACIONES - CERRAMIENTO FRONTAL
A14: 3.1 | B14: ZAPATA DE CIMENTACIÓN DE CONCRETO ARMADO (1,20X0,90X0,30 - 9 UNIDADES) | C14: M3 | D14: 2.92 | E14: =+'3.1'!H32 -> 1744890 | F14: =+D14*E14 -> 5095078.8
A15: 3.2 | B15: VIGA DE CIMENTACIÓN (0,30X0,30) | C15: M3 | D15: 3.6603 | E15: =+'3.2'!H32 -> 1744890 | F15: =+D15*E15 -> 6386820.9
B16: TOTAL | F16: =SUM(F14:F15) -> 11481900
A17: 4 | B17: ESTRUCTURAS - CERRAMIENTO FRONTAL
A18: 4.1 | B18: COLUMNA RECTANGULAR EN CONCRETO REFORZADO (0,60X0,30X2,5 - 9 UNIDADES) | C18: M3 | D18: 4.05 | E18: =+'4.1'!H33 -> 1834690 | F18: =+D18*E18 -> 7430494.5
A19: 4.2 | B19: VIGA DE AMARRE EN MURO (0,15X0,20) | C19: M3 | D19: 3.6603 | E19: =+'4.2'!H33 -> 1834690 | F19: =+D19*E19 -> 6715515.8
B20: TOTAL | F20: =SUM(F18:F19) -> 14146010
A21: 5 | B21: MAMPOSTERÍA - CERRAMIENTO FRONTAL
A22: 5.1 | B22: MURO SENCILLO BLOQUE CEMENTO e=0.15m | C22: M2 | D22: 29.82 | E22: =+'5.1'!H31 -> 185050 | F22: =+D22*E22 -> 5518191
B23: TOTAL | F23: =SUM(F22:F22) -> 5518191
A24: 6 | B24: PAÑETES - CERRAMIENTO FRONTAL
A25: 6.1 | B25: PAÑETE LISO EXTERIOR IMPERMEABIL S/MUROS 1:4 e=0.02 | C25: M2 | D25: 119.65 | E25: =+'6.1'!H33 -> 105470 | F25: =+D25*E25 -> 12619486
B26: TOTAL | F26: =SUM(F25:F25) -> 12619486
A27: 7 | B27: ESTUCO Y PINTURA - CERRAMIENTO FRONTAL
A28: 7.1 | B28: ESTUCO Y PINTURA MUROS EXTERIORES [DUREZA] | C28: M2 | D28: 119.65 | E28: =+'7.1'!H33 -> 87148 | F28: =+D28*E28 -> 10427258
B29: TOTAL | F29: =SUM(F28:F28) -> 10427258
A30: 8 | B30: ILUMINACIÓN EN FACHADA - CERRAMIENTO FRONTAL
A31: 8.1 | B31: SUMINISTRO E INSTALACIÓN DE ILUMINACIÓN EN COLUMNAS EN FACHADA | C31: UN | D31: 9 | E31: =+'8.1'!H33 -> 756448 | F31: =+D31*E31 -> 6808032
B32: TOTAL | F32: =SUM(F31:F31) -> 6808032
A33: 9 | B33: TUBERIA EN ALUMINIO - CERRAMIENTO FRONTAL
A34: 9.1 | B34: SUMINISTRO E INSTALACIÓN DE TUBERIA EN ALUMINIO DE 1 1/2"X 1 1/2" | C34: ML | D34: 168 | E34: =+'9.1'!H31 -> 59598 | F34: =+D34*E34 -> 10012464
A35: 9.2 | B35: SUMINISTRO E INSTALACIÓN DE TUBERIA EN ALUMINIO DE 3" X 1 1/2" | C35: ML | D35: 336 | E35: =+'9.2'!H31 -> 77182 | F35: =+D35*E35 -> 25933152
B36: TOTAL | F36: =SUM(F34:F35) -> 35945616
B37: CERRAMIENTO POSTERIOR
A38: 10 | B38: DEMOLICIONES - CERRAMIENTO POSTERIOR
A39: 10.1 | B39: DEMOLICIÓN DE MURO EN MAMPOSTERÍA EN BLOQUE DE CONCRETO No. 15 | C39: M2 | D39: 48.5 | E39: =+'10.1'!H32 -> 107000 | F39: =+D39*E39 -> 5189500
A40: 10.2 | B40: DEMOLICIÓN DE COLUMNAS EN CONCRETO ARMADO | C40: M3 | D40: 1.05 | E40: =+'10.2'!H31 -> 230150 | F40: =+D40*E40 -> 241657.5
...

Sheet 1.1
A1: 1 | B1: =VLOOKUP(A1,PRESUPUESTO!$A$1:$F$97,2,FALSE) -> PRELIMINARES
A2: 1.1 | B2: =VLOOKUP(A2,PRESUPUESTO!$A$1:$F$97,2,FALSE) -> SEÑALIZACIÓN GENERAL
G3: UNIDAD | H3: =VLOOKUP(A2,PRESUPUESTO!$A$1:$F$97,3,FALSE) -> GBL
A13: IMAGEN ILUSTRATIVA
A15: I. EQUIPO | E15: UNIDAD | F15: CANTIDAD | G15: VR PARCIAL | H15: VR TOTAL
A16: Herramienta menor | E16: % | F16: 6 | G16: 950 | H16: =+F16*G16 -> 5700
A17: SUBTOTAL EQUIPO | H17: =SUM(H16) -> 5700
A19: II. MATERIALES | E19: UNIDAD | F19: CANTIDAD | G19: VR PARCIAL | H19: VR TOTAL
A20: Avisos informativos y señalización | E20: UN | F20: 3 | G20: 160000 | H20: =+F20*G20 -> 480000
A21: Elementos de fijación | E21: UN | F21: 3 | G21: 8000 | H21: =+F21*G21 -> 24000
A22: SUBTOTAL MATERIALES | H22: =SUM(H20:H21) -> 504000
A24: III. TRANSPORTES | E24: UNIDAD | F24: CANTIDAD | G24: VR PARCIAL | H24: VR TOTAL
A25: Transporte camioneta | E25: VJ | F25: 0.02 | G25: 125000 | H25: =+F25*G25 -> 2500
A26: SUBTOTAL TRANSPORTES | H26: =SUM(H25:H25) -> 2500
A28: IV. MANO DE OBRA | E28: UNIDAD | F28: CANTIDAD | G28: VR PARCIAL | H28: VR TOTAL
A29: Mano de obra básica | E29: HC | F29: 2 | G29: 29100 | H29: =+F29*G29 -> 58200
A30: SUBTOTAL MANO DE OBRA | H30: =SUM(H29:H29) -> 58200
A32: VALOR TOTAL | H32: =+H17+H22+H26+H30 -> 570400

Sheet 1.2
A1: 1 | B1: =VLOOKUP(A1,PRESUPUESTO!$A$1:$F$97,2,FALSE) -> PRELIMINARES
A2: 1.2 | B2: =VLOOKUP(A2,PRESUPUESTO!$A$1:$F$97,2,FALSE) -> DESMONTE AVISO PUBLICITARIO INFOTEP
G3: UNIDAD | H3: =VLOOKUP(A2,PRESUPUESTO!$A$1:$F$97,3,FALSE) -> GBL
A13: IMAGEN ILUSTRATIVA
A15: I. EQUIPO | E15: UNIDAD | F15: CANTIDAD | G15: VR PARCIAL | H15: VR TOTAL
A16: Herramienta menor | E16: % | F16: 12 | G16: 950 | H16: =+F16*G16 -> 11400
A17: SUBTOTAL EQUIPO | H17: =SUM(H16) -> 11400
A19: II. MATERIALES | E19: UNIDAD | F19: CANTIDAD | G19: VR PARCIAL | H19: VR TOTAL
H20: =+F20*G20 -> 0
H21: =+F21*G21 -> 0
A22: SUBTOTAL MATERIALES | H22: =SUM(H20:H21) -> 0
A24: III. TRANSPORTES | E24: UNIDAD | F24: CANTIDAD | G24: VR PARCIAL | H24: VR TOTAL
H25: =+F25*G25 -> 0
A26: SUBTOTAL TRANSPORTES | H26: =SUM(H25:H25) -> 0
A28: IV. MANO DE OBRA | E28: UNIDAD | F28: CANTIDAD | G28: VR PARCIAL | H28: VR TOTAL
A29: Mano de obra básica | E29: HC | F29: 5 | G29: 29100 | H29: =+F29*G29 -> 145500
A30: SUBTOTAL MANO DE OBRA | H30: =SUM(H29:H29) -> 145500
A32: VALOR TOTAL | H32: =+H17+H22+H26+H30 -> 156900

Sheet 1.3
A1: 1 | B1: =VLOOKUP(A1,PRESUPUESTO!$A$1:$F$97,2,FALSE) -> PRELIMINARES
A2: 1.3 | B2: =VLOOKUP(A2,PRESUPUESTO!$A$1:$F$97,2,FALSE) -> DESMONTE REJAS EN ALUMINIO
G3: UNIDAD | H3: =VLOOKUP(A2,PRESUPUESTO!$A$1:$F$97,3,FALSE) -> M2
A13: IMAGEN ILUSTRATIVA
A15: I. EQUIPO | E15: UNIDAD | F15: CANTIDAD | G15: VR PARCIAL | H15: VR TOTAL
A16: Herramienta menor | E16: % | F16: 12 | G16: 950 | H16: =+F16*G16 -> 11400
A17: SUBTOTAL EQUIPO | H17: =SUM(H16) -> 11400
A19: II. MATERIALES | E19: UNIDAD | F19: CANTIDAD | G19: VR PARCIAL | H19: VR TOTAL
A20: Disco de corte | E20: UN | F20: 0.2 | G20: 5000 | H20: =+F20*G20 -> 1000
A21: SUBTOTAL MATERIALES | H21: =SUM(H20:H20) -> 1000
A23: III. TRANSPORTES | E23: UNIDAD | F23: CANTIDAD | G23: VR PARCIAL | H23: VR TOTAL
A24: Transporte camioneta | E24: Vj | F24: 0.1 | G24: 125000 | H24: =+F24*G24 -> 12500
A25: SUBTOTAL TRANSPORTES | H25: =SUM(H24:H24) -> 12500
A27: IV. MANO DE OBRA | E27: UNIDAD | F27: CANTIDAD | G27: VR PARCIAL | H27: VR TOTAL
A28: Mano de obra básica | E28: HC | F28: 0.1 | G28: 29100 | H28: =+F28*G28 -> 2910
A29: SUBTOTAL MANO DE OBRA | H29: =SUM(H28:H28) -> 2910
A31: VALOR TOTAL | H31: =+H17+H21+H25+H29 -> 27810

Sheet 2.1
A1: 2 | B1: =VLOOKUP(A1,PRESUPUESTO!$A$1:$F$97,2,FALSE) -> DEMOLICIONES - CERRAMIENTO FRONTAL
A2: 2.1 | B2: =VLOOKUP(A2,PRESUPUESTO!$A$1:$F$97,2,FALSE) -> DEMOLICIÓN DE MURO EN MAMPOSTERÍA EN BLOQUE DE CONCRETO No. 15
G3: UNIDAD | H3: =VLOOKUP(A2,PRESUPUESTO!$A$1:$F$97,3,FALSE) -> M2
A13: IMAGEN ILUSTRATIVA
A15: I. EQUIPO | E15: UNIDAD | F15: CANTIDAD | G15: VR PARCIAL | H15: VR TOTAL
A16: Herramienta menor | E16: % | F16: 10 | G16: 950 | H16: =+F16*G16 -> 9500
A17: SUBTOTAL EQUIPO | H17: =SUM(H16:H16) -> 9500
A19: II. MATERIALES | E19: UNIDAD | F19: CANTIDAD | G19: VR PARCIAL | H19: VR TOTAL
H20: =+F20*G20 -> 0
H21: =+F21*G21 -> 0
A22: SUBTOTAL MATERIALES | H22: =SUM(H20:H21) -> 0
A24: III. TRANSPORTES | E24: UNIDAD | F24: CANTIDAD | G24: VR PARCIAL | H24: VR TOTAL
A25: Transporte camión | E25: VJ | F25: 0.1 | G25: 300000 | H25: =+F25*G25 -> 30000
A26: SUBTOTAL TRANSPORTES | H26: =SUM(H25:H25) -> 30000
A28: IV. MANO DE OBRA | E28: UNIDAD | F28: CANTIDAD | G28: VR PARCIAL | H28: VR TOTAL
A29: Mano de obra básica | E29: HC | F29: 1 | G29: 29100 | H29: =+F29*G29 -> 29100
A30: SUBTOTAL MANO DE OBRA | H30: =SUM(H29:H29) -> 29100
A32: VALOR TOTAL | H32: =+H17+H22+H26+H30 -> 68600

Sheet 2.2
A1: 2 | B1: =VLOOKUP(A1,PRESUPUESTO!$A$1:$F$97,2,FALSE) -> DEMOLICIONES - CERRAMIENTO FRONTAL
A2: 2.2 | B2: =VLOOKUP(A2,PRESUPUESTO!$A$1:$F$97,2,FALSE) -> DEMOLICIÓN DE COLUMNAS EN CONCRETO ARMADO
G3: UNIDAD | H3: =VLOOKUP(A2,PRESUPUESTO!$A$1:$F$97,3,FALSE) -> M3
A13: IMAGEN ILUSTRATIVA
A15: I. EQUIPO | E15: UNIDAD | F15: CANTIDAD | G15: VR PARCIAL | H15: VR TOTAL
A16: Herramienta menor | E16: % | F16: 25 | G16: 950 | H16: =+F16*G16 -> 23750
A17: SUBTOTAL EQUIPO | H17: =SUM(H16:H16) -> 23750
A19: II. MATERIALES | E19: UNIDAD | F19: CANTIDAD | G19: VR PARCIAL | H19: VR TOTAL
H20: =+F20*G20 -> 0
A21: SUBTOTAL MATERIALES | H21: =SUM(H20:H20) -> 0
A23: III. TRANSPORTES | E23: UNIDAD | F23: CANTIDAD | G23: VR PARCIAL | H23: VR TOTAL
A24: Transporte camión | E24: VJ | F24: 0.3 | G24: 300000 | H24: =+F24*G24 -> 90000
A25: SUBTOTAL TRANSPORTES | H25: =SUM(H24:H24) -> 90000
A27: IV. MANO DE OBRA | E27: UNIDAD | F27: CANTIDAD | G27: VR PARCIAL | H27: VR TOTAL
A28: Mano de obra básica | E28: HC | F28: 4 | G28: 29100 | H28: =+F28*G28 -> 116400
A29: SUBTOTAL MANO DE OBRA | H29: =SUM(H28:H28) -> 116400
A31: VALOR TOTAL | H31: =+H17+H21+H25+H29 -> 230150

Sheet 2.3
A1: 2 | B1: =VLOOKUP(A1,PRESUPUESTO!$A$1:$F$97,2,FALSE) -> DEMOLICIONES - CERRAMIENTO FRONTAL
A2: 2.3 | B2: =VLOOKUP(A2,PRESUPUESTO!$A$1:$F$97,2,FALSE) -> DEMOLICIÓN DE CIMENTACIÓN EN CONCRETO
G3: UNIDAD | H3: =VLOOKUP(A2,PRESUPUESTO!$A$1:$F$97,3,FALSE) -> M3
A12: IMAGEN ILUSTRATIVA
A14: I. EQUIPO | E14: UNIDAD | F14: CANTIDAD | G14: VR PARCIAL | H14: VR TOTAL
A15: Herramienta menor | E15: % | F15: 25 | G15: 950 | H15: =+F15*G15 -> 23750
A16: SUBTOTAL EQUIPO | H16: =SUM(H15:H15) -> 23750
A18: II. MATERIALES | E18: UNIDAD | F18: CANTIDAD | G18: VR PARCIAL | H18: VR TOTAL
H19: =+F19*G19 -> 0
A20: SUBTOTAL MATERIALES | H20: =SUM(H19:H19) -> 0
A22: III. TRANSPORTES | E22: UNIDAD | F22: CANTIDAD | G22: VR PARCIAL | H22: VR TOTAL
A23: Transporte camión | E23: VJ | F23: 0.3 | G23: 300000 | H23: =+F23*G23 -> 90000
A24: SUBTOTAL TRANSPORTES | H24: =SUM(H23:H23) -> 90000
A26: IV. MANO DE OBRA | E26: UNIDAD | F26: CANTIDAD | G26: VR PARCIAL | H26: VR TOTAL
A27: Mano de obra básica | E27: HC | F27: 4 | G27: 29100 | H27: =+F27*G27 -> 116400
A28: SUBTOTAL MANO DE OBRA | H28: =SUM(H27:H27) -> 116400
A30: VALOR TOTAL | H30: =+H16+H20+H24+H28 -> 230150

Sheet 3.1
A1: 3 | B1: =VLOOKUP(A1,PRESUPUESTO!$A$1:$F$97,2,FALSE) -> CIMENTACIONES - CERRAMIENTO FRONTAL
A2: 3.1 | B2: =VLOOKUP(A2,PRESUPUESTO!$A$1:$F$97,2,FALSE) -> ZAPATA DE CIMENTACIÓN DE CONCRETO ARMADO (1,20X0,90X0,30 - 9 UNIDADES)
G3: UNIDAD | H3: =VLOOKUP(A2,PRESUPUESTO!$A$1:$F$97,3,FALSE) -> M3
A12: IMAGEN ILUSTRATIVA
A14: I. EQUIPO | E14: UNIDAD | F14: CANTIDAD | G14: VR PARCIAL | H14: VR TOTAL
A15: Herramienta menor | E15: % | F15: 4 | G15: 950 | H15: =+F15*G15 -> 3800
A16: SUBTOTAL EQUIPO | H16: =SUM(H15:H15) -> 3800
A18: II. MATERIALES | E18: UNIDAD | F18: CANTIDAD | G18: VR PARCIAL | H18: VR TOTAL
A19: Acero sin figurar 60.000 PSI | E19: Kg | F19: 25 | G19: 5850 | H19: =+F19*G19 -> 146250
A20: Concreto premezclado de 4000PSI | E20: M3 | F20: 1 | G20: 1350000 | H20: =+F20*G20 -> 1350000
A21: Alambre de amarre | E21: Kg | F21: 0.4 | G21: 5850 | H21: =+F21*G21 -> 2340
A22: SUBTOTAL MATERIALES | H22: =SUM(H19:H21) -> 1498590
A24: III. TRANSPORTES | E24: UNIDAD | F24: CANTIDAD | G24: VR PARCIAL | H24: VR TOTAL
A25: Transporte general | E25: M3 | F25: 1 | G25: 97000 | H25: =+F25*G25 -> 97000
A26: SUBTOTAL TRANSPORTES | H26: =SUM(H25:H25) -> 97000
A28: IV. MANO DE OBRA | E28: UNIDAD | F28: CANTIDAD | G28: VR PARCIAL | H28: VR TOTAL
A29: Mano de obra básica | E29: HC | F29: 5 | G29: 29100 | H29: =+F29*G29 -> 145500
A30: SUBTOTAL MANO DE OBRA | H30: =SUM(H29:H29) -> 145500
A32: VALOR TOTAL | H32: =+H16+H22+H26+H30 -> 1744890

Sheet 3.2
A1: 3 | B1: =VLOOKUP(A1,PRESUPUESTO!$A$1:$F$97,2,FALSE) -> CIMENTACIONES - CERRAMIENTO FRONTAL
A2: 3.2 | B2: =VLOOKUP(A2,PRESUPUESTO!$A$1:$F$97,2,FALSE) -> VIGA DE CIMENTACIÓN (0,30X0,30)
G3: UNIDAD | H3: =VLOOKUP(A2,PRESUPUESTO!$A$1:$F$97,3,FALSE) -> M3
A12: IMAGEN ILUSTRATIVA
A14: I. EQUIPO | E14: UNIDAD | F14: CANTIDAD | G14: VR PARCIAL | H14: VR TOTAL
A15: Herramienta menor | E15: % | F15: 4 | G15: 950 | H15: =+F15*G15 -> 3800
A16: SUBTOTAL EQUIPO | H16: =SUM(H15:H15) -> 3800
A18: II. MATERIALES | E18: UNIDAD | F18: CANTIDAD | G18: VR PARCIAL | H18: VR TOTAL
A19: Acero sin figurar 60.000 PSI | E19: Kg | F19: 25 | G19: 5850 | H19: =+F19*G19 -> 146250
A20: Concreto premezclado de 4000PSI | E20: M3 | F20: 1 | G20: 1350000 | H20: =+F20*G20 -> 1350000
A21: Alambre de amarre | E21: Kg | F21: 0.4 | G21: 5850 | H21: =+F21*G21 -> 2340
A22: SUBTOTAL MATERIALES | H22: =SUM(H19:H21) -> 1498590
A24: III. TRANSPORTES | E24: UNIDAD | F24: CANTIDAD | G24: VR PARCIAL | H24: VR TOTAL
A25: Transporte general | E25: M3 | F25: 1 | G25: 97000 | H25: =+F25*G25 -> 97000
A26: SUBTOTAL TRANSPORTES | H26: =SUM(H25:H25) -> 97000
A28: IV. MANO DE OBRA | E28: UNIDAD | F28: CANTIDAD | G28: VR PARCIAL | H28: VR TOTAL
A29: Mano de obra básica | E29: HC | F29: 5 | G29: 29100 | H29: =+F29*G29 -> 145500
A30: SUBTOTAL MANO DE OBRA | H30: =SUM(H29:H29) -> 145500
A32: VALOR TOTAL | H32: =+H16+H22+H26+H30 -> 1744890

Sheet 4.1
A1: 4 | B1: =VLOOKUP(A1,PRESUPUESTO!$A$1:$F$97,2,FALSE) -> ESTRUCTURAS - CERRAMIENTO FRONTAL
A2: 4.1 | B2: =VLOOKUP(A2,PRESUPUESTO!$A$1:$F$97,2,FALSE) -> COLUMNA RECTANGULAR EN CONCRETO REFORZADO (0,60X0,30X2,5 - 9 UNIDADES)
G3: UNIDAD | H3: =VLOOKUP(A2,PRESUPUESTO!$A$1:$F$97,3,FALSE) -> M3
A12: IMAGEN ILUSTRATIVA
A14: I. EQUIPO | E14: UNIDAD | F14: CANTIDAD | G14: VR PARCIAL | H14: VR TOTAL
A15: Herramienta menor | E15: % | F15: 3 | G15: 950 | H15: =+F15*G15 -> 2850
A16: SUBTOTAL EQUIPO | H16: =SUM(H15:H15) -> 2850
A18: II. MATERIALES | E18: UNIDAD | F18: CANTIDAD | G18: VR PARCIAL | H18: VR TOTAL
A19: Acero sin figurar 60.000 PSI | E19: Kg | F19: 20 | G19: 5850 | H19: =+F19*G19 -> 117000
A20: Concreto premezclado de 4000PSI | E20: M3 | F20: 1 | G20: 1350000 | H20: =+F20*G20 -> 1350000
A21: Alambre de amarre | E21: Kg | F21: 0.4 | G21: 5850 | H21: =+F21*G21 -> 2340
A22: Formaleta para columnas | E22: Un | F22: 1 | G22: 120000 | H22: =+F22*G22 -> 120000
A23: SUBTOTAL MATERIALES | H23: =SUM(H19:H22) -> 1589340
A25: III. TRANSPORTES | E25: UNIDAD | F25: CANTIDAD | G25: VR PARCIAL | H25: VR TOTAL
A26: Transporte general | E26: M3 | F26: 1 | G26: 97000 | H26: =+F26*G26 -> 97000
A27: SUBTOTAL TRANSPORTES | H27: =SUM(H26:H26) -> 97000
A29: IV. MANO DE OBRA | E29: UNIDAD | F29: CANTIDAD | G29: VR PARCIAL | H29: VR TOTAL
A30: Mano de obra básica | E30: HC | F30: 5 | G30: 29100 | H30: =+F30*G30 -> 145500
A31: SUBTOTAL MANO DE OBRA | H31: =SUM(H30:H30) -> 145500
A33: VALOR TOTAL | H33: =+H16+H23+H27+H31 -> 1834690

Sheet 4.2
A1: 4 | B1: =VLOOKUP(A1,PRESUPUESTO!$A$1:$F$97,2,FALSE) -> ESTRUCTURAS - CERRAMIENTO FRONTAL
A2: 4.2 | B2: =VLOOKUP(A2,PRESUPUESTO!$A$1:$F$97,2,FALSE) -> VIGA DE AMARRE EN MURO (0,15X0,20)
G3: UNIDAD | H3: =VLOOKUP(A2,PRESUPUESTO!$A$1:$F$97,3,FALSE) -> M3
A12: IMAGEN ILUSTRATIVA
A14: I. EQUIPO | E14: UNIDAD | F14: CANTIDAD | G14: VR PARCIAL | H14: VR TOTAL
A15: Herramienta menor | E15: % | F15: 3 | G15: 950 | H15: =+F15*G15 -> 2850
A16: SUBTOTAL EQUIPO | H16: =SUM(H15:H15) -> 2850
A18: II. MATERIALES | E18: UNIDAD | F18: CANTIDAD | G18: VR PARCIAL | H18: VR TOTAL
A19: Acero sin figurar 60.000 PSI | E19: Kg | F19: 20 | G19: 5850 | H19: =+F19*G19 -> 117000
A20: Concreto premezclado de 4000PSI | E20: M3 | F20: 1 | G20: 1350000 | H20: =+F20*G20 -> 1350000
A21: Alambre de amarre | E21: Kg | F21: 0.4 | G21: 5850 | H21: =+F21*G21 -> 2340
A22: Formaleta para viga | E22: Un | F22: 1 | G22: 120000 | H22: =+F22*G22 -> 120000
A23: SUBTOTAL MATERIALES | H23: =SUM(H19:H22) -> 1589340
A25: III. TRANSPORTES | E25: UNIDAD | F25: CANTIDAD | G25: VR PARCIAL | H25: VR TOTAL
A26: Transporte general | E26: M3 | F26: 1 | G26: 97000 | H26: =+F26*G26 -> 97000
A27: SUBTOTAL TRANSPORTES | H27: =SUM(H26:H26) -> 97000
A29: IV. MANO DE OBRA | E29: UNIDAD | F29: CANTIDAD | G29: VR PARCIAL | H29: VR TOTAL
A30: Mano de obra básica | E30: HC | F30: 5 | G30: 29100 | H30: =+F30*G30 -> 145500
A31: SUBTOTAL MANO DE OBRA | H31: =SUM(H30:H30) -> 145500
A33: VALOR TOTAL | H33: =+H16+H23+H27+H31 -> 1834690

Sheet 5.1
A1: 5 | B1: =VLOOKUP(A1,PRESUPUESTO!$A$1:$F$97,2,FALSE) -> MAMPOSTERÍA - CERRAMIENTO FRONTAL
A2: 5.1 | B2: =VLOOKUP(A2,PRESUPUESTO!$A$1:$F$97,2,FALSE) -> MURO SENCILLO BLOQUE CEMENTO e=0.15m
G3: UNIDAD | H3: =VLOOKUP(A2,PRESUPUESTO!$A$1:$F$97,3,FALSE) -> M2
A12: IMAGEN ILUSTRATIVA
A14: I. EQUIPO | E14: UNIDAD | F14: CANTIDAD | G14: VR PARCIAL | H14: VR TOTAL
A15: Herramienta menor | E15: % | F15: 1 | G15: 950 | H15: =+F15*G15 -> 950
A16: SUBTOTAL EQUIPO | H16: =SUM(H15:H15) -> 950
A18: II. MATERIALES | E18: UNIDAD | F18: CANTIDAD | G18: VR PARCIAL | H18: VR TOTAL
A19: Bloque No 15 | E19: Un | F19: 12.5 | G19: 7500 | H19: =+F19*G19 -> 93750
A20: Mortero 1:4 | E20: M3 | F20: 0.05 | G20: 975000 | H20: =+F20*G20 -> 48750
A21: SUBTOTAL MATERIALES | H21: =SUM(H19:H20) -> 142500
A23: III. TRANSPORTES | E23: UNIDAD | F23: CANTIDAD | G23: VR PARCIAL | H23: VR TOTAL
A24: Transporte camioneta | E24: VJ | F24: 0.1 | G24: 125000 | H24: =+F24*G24 -> 12500
A25: SUBTOTAL TRANSPORTES | H25: =SUM(H24:H24) -> 12500
A27: IV. MANO DE OBRA | E27: UNIDAD | F27: CANTIDAD | G27: VR PARCIAL | H27: VR TOTAL
A28: Mano de obra básica | E28: HC | F28: 1 | G28: 29100 | H28: =+F28*G28 -> 29100
A29: SUBTOTAL MANO DE OBRA | H29: =SUM(H28:H28) -> 29100
A31: VALOR TOTAL | H31: =+H16+H21+H25+H29 -> 185050

Sheet 6.1
A1: 6 | B1: =VLOOKUP(A1,PRESUPUESTO!$A$1:$F$97,2,FALSE) -> PAÑETES - CERRAMIENTO FRONTAL
A2: 6.1 | B2: =VLOOKUP(A2,PRESUPUESTO!$A$1:$F$97,2,FALSE) -> PAÑETE LISO EXTERIOR IMPERMEABIL S/MUROS 1:4 e=0.02
G3: UNIDAD | H3: =VLOOKUP(A2,PRESUPUESTO!$A$1:$F$97,3,FALSE) -> M2
A12: IMAGEN ILUSTRATIVA
A15: I. EQUIPO | E15: UNIDAD | F15: CANTIDAD | G15: VR PARCIAL | H15: VR TOTAL
A16: Herramienta menor | E16: % | F16: 6 | G16: 950 | H16: =+F16*G16 -> 5700
A17: SUBTOTAL EQUIPO | H17: =SUM(H16:H16) -> 5700
A19: II. MATERIALES | E19: UNIDAD | F19: CANTIDAD | G19: VR PARCIAL | H19: VR TOTAL
A20: Agua potable | E20: Lt | F20: 3 | G20: 1500 | H20: =+F20*G20 -> 4500
A21: Arena fina | E21: M3 | F21: 0.1 | G21: 450000 | H21: =+F21*G21 -> 45000
A22: Cemento gris | E22: Kg | F22: 3 | G22: 950 | H22: =+F22*G22 -> 2850
A23: SUBTOTAL MATERIALES | H23: =SUM(H20:H22) -> 52350
A25: III. TRANSPORTES | E25: UNIDAD | F25: CANTIDAD | G25: VR PARCIAL | H25: VR TOTAL
A26: Transporte camioneta | E26: VJ | F26: 0.1 | G26: 125000 | H26: =+F26*G26 -> 12500
A27: SUBTOTAL TRANSPORTES | H27: =SUM(H26:H26) -> 12500
A29: IV. MANO DE OBRA | E29: UNIDAD | F29: CANTIDAD | G29: VR PARCIAL | H29: VR TOTAL
A30: Mano de obra básica | E30: HC | F30: 1.2 | G30: 29100 | H30: =+F30*G30 -> 34920
A31: SUBTOTAL MANO DE OBRA | H31: =SUM(H30:H30) -> 34920
A33: VALOR TOTAL | H33: =+H17+H23+H27+H31 -> 105470

Sheet 7.1
A1: 7 | B1: =VLOOKUP(A1,PRESUPUESTO!$A$1:$F$97,2,FALSE) -> ESTUCO Y PINTURA - CERRAMIENTO FRONTAL
A2: 7.1 | B2: =VLOOKUP(A2,PRESUPUESTO!$A$1:$F$97,2,FALSE) -> ESTUCO Y PINTURA MUROS EXTERIORES [DUREZA]
G3: UNIDAD | H3: =VLOOKUP(A2,PRESUPUESTO!$A$1:$F$97,3,FALSE) -> M2
A12: IMAGEN ILUSTRATIVA
A15: I. EQUIPO | E15: UNIDAD | F15: CANTIDAD | G15: VR PARCIAL | H15: VR TOTAL
A16: Herramienta menor | E16: % | F16: 3 | G16: 950 | H16: =+F16*G16 -> 2850
A17: SUBTOTAL EQUIPO | H17: =SUM(H16:H16) -> 2850
A19: II. MATERIALES | E19: UNIDAD | F19: CANTIDAD | G19: VR PARCIAL | H19: VR TOTAL
A20: Estuco Plástico | E20: Gl | F20: 0.5 | G20: 26400 | H20: =+F20*G20 -> 13200
A21: Lija agua 150 | E21: Un | F21: 1 | G21: 1800 | H21: =+F21*G21 -> 1800
A22: Pintura Dureza | E22: Gl | F22: 0.5 | G22: 68200 | H22: =+F22*G22 -> 34100
A23: SUBTOTAL MATERIALES | H23: =SUM(H20:H22) -> 49100
A25: III. TRANSPORTES | E25: UNIDAD | F25: CANTIDAD | G25: VR PARCIAL | H25: VR TOTAL
A26: Transporte camioneta | E26: VJ | F26: 0.03 | G26: 125000 | H26: =+F26*G26 -> 3750
A27: SUBTOTAL TRANSPORTES | H27: =SUM(H26:H26) -> 3750
A29: IV. MANO DE OBRA | E29: UNIDAD | F29: CANTIDAD | G29: VR PARCIAL | H29: VR TOTAL
A30: Mano de obra básica | E30: HC | F30: 1 | G30: 31448 | H30: =+F30*G30 -> 31448
A31: SUBTOTAL MANO DE OBRA | H31: =SUM(H30:H30) -> 31448
A33: VALOR TOTAL | H33: =+H17+H23+H27+H31 -> 87148

Sheet 8.1
A1: 8 | B1: =VLOOKUP(A1,PRESUPUESTO!$A$1:$F$97,2,FALSE) -> ILUMINACIÓN EN FACHADA - CERRAMIENTO FRONTAL
A2: 8.1 | B2: =VLOOKUP(A2,PRESUPUESTO!$A$1:$F$97,2,FALSE) -> SUMINISTRO E INSTALACIÓN DE ILUMINACIÓN EN COLUMNAS EN FACHADA
G3: UNIDAD | H3: =VLOOKUP(A2,PRESUPUESTO!$A$1:$F$97,3,FALSE) -> UN
A12: IMAGEN ILUSTRATIVA
A14: I. EQUIPO | E14: UNIDAD | F14: CANTIDAD | G14: VR PARCIAL | H14: VR TOTAL
A15: Herramienta menor | E15: % | F15: 3 | G15: 950 | H15: =+F15*G15 -> 2850
A16: SUBTOTAL EQUIPO | H16: =SUM(H15:H15) -> 2850
A18: II. MATERIALES | E18: UNIDAD | F18: CANTIDAD | G18: VR PARCIAL | H18: VR TOTAL
A19: Lampara Aplique LED 12W | E19: Und | F19: 1 | G19: 26400 | H19: =+F19*G19 -> 26400
A20: Cable # 12 halogeno | E20: ml | F20: 100 | G20: 3400 | H20: =+F20*G20 -> 340000
A21: Tubo conduit 3/4 y accesorios | E21: ml | F21: 44 | G21: 7500 | H21: =+F21*G21 -> 330000
A22: Caja de control de iluminación con foto celda | E22: Un | F22: 1 | G22: 22000 | H22: =+F22*G22 -> 22000
A23: SUBTOTAL MATERIALES | H23: =SUM(H19:H22) -> 718400
A25: III. TRANSPORTES | E25: UNIDAD | F25: CANTIDAD | G25: VR PARCIAL | H25: VR TOTAL
A26: Transporte camioneta | E26: VJ | F26: 0.03 | G26: 125000 | H26: =+F26*G26 -> 3750
A27: SUBTOTAL TRANSPORTES | H27: =SUM(H26:H26) -> 3750
A29: IV. MANO DE OBRA | E29: UNIDAD | F29: CANTIDAD | G29: VR PARCIAL | H29: VR TOTAL
A30: Mano de obra básica | E30: HC | F30: 1 | G30: 31448 | H30: =+F30*G30 -> 31448
A31: SUBTOTAL MANO DE OBRA | H31: =SUM(H30:H30) -> 31448
A33: VALOR TOTAL | H33: =+H16+H23+H27+H31 -> 756448

Sheet 9.1
A1: 9 | B1: =VLOOKUP(A1,PRESUPUESTO!$A$1:$F$97,2,FALSE) -> TUBERIA EN ALUMINIO - CERRAMIENTO FRONTAL
A2: 9.1 | B2: =VLOOKUP(A2,PRESUPUESTO!$A$1:$F$97,2,FALSE) -> SUMINISTRO E INSTALACIÓN DE TUBERIA EN ALUMINIO DE 1 1/2"X 1 1/2"
G3: UNIDAD | H3: =VLOOKUP(A2,PRESUPUESTO!$A$1:$F$97,3,FALSE) -> ML
A12: IMAGEN ILUSTRATIVA
A14: I. EQUIPO | E14: UNIDAD | F14: CANTIDAD | G14: VR PARCIAL | H14: VR TOTAL
A15: Herramienta menor | E15: % | F15: 2 | G15: 950 | H15: =+F15*G15 -> 1900
A16: SUBTOTAL EQUIPO | H16: =SUM(H15:H15) -> 1900
A18: II. MATERIALES | E18: UNIDAD | F18: CANTIDAD | G18: VR PARCIAL | H18: VR TOTAL
A19: Tuberia de aluminio de 1 1/2" X 1 1/2" | E19: ml | F19: 1 | G19: 18250 | H19: =+F19*G19 -> 18250
A20: Elementos de fijación | E20: Gbl | F20: 1 | G20: 5500 | H20: =+F20*G20 -> 5500
A21: SUBTOTAL MATERIALES | H21: =SUM(H19:H20) -> 23750
A23: III. TRANSPORTES | E23: UNIDAD | F23: CANTIDAD | G23: VR PARCIAL | H23: VR TOTAL
A24: Transporte camioneta | E24: VJ | F24: 0.02 | G24: 125000 | H24: =+F24*G24 -> 2500
A25: SUBTOTAL TRANSPORTES | H25: =SUM(H24:H24) -> 2500
A27: IV. MANO DE OBRA | E27: UNIDAD | F27: CANTIDAD | G27: VR PARCIAL | H27: VR TOTAL
A28: Mano de obra básica | E28: HC | F28: 1 | G28: 31448 | H28: =+F28*G28 -> 31448
A29: SUBTOTAL MANO DE OBRA | H29: =SUM(H28:H28) -> 31448
A31: VALOR TOTAL | H31: =+H16+H21+H25+H29 -> 59598

Sheet 9.2
A1: 9 | B1: =VLOOKUP(A1,PRESUPUESTO!$A$1:$F$97,2,FALSE) -> TUBERIA EN ALUMINIO - CERRAMIENTO FRONTAL
A2: 9.2 | B2: =VLOOKUP(A2,PRESUPUESTO!$A$1:$F$97,2,FALSE) -> SUMINISTRO E INSTALACIÓN DE TUBERIA EN ALUMINIO DE 3" X 1 1/2"
G3: UNIDAD | H3: =VLOOKUP(A2,PRESUPUESTO!$A$1:$F$97,3,FALSE) -> ML
A12: IMAGEN ILUSTRATIVA
A14: I. EQUIPO | E14: UNIDAD | F14: CANTIDAD | G14: VR PARCIAL | H14: VR TOTAL
A15: Herramienta menor | E15: % | F15: 2 | G15: 950 | H15: =+F15*G15 -> 1900
A16: SUBTOTAL EQUIPO | H16: =SUM(H15:H15) -> 1900
A18: II. MATERIALES | E18: UNIDAD | F18: CANTIDAD | G18: VR PARCIAL | H18: VR TOTAL
A19: Tuberia de aluminio de 1 1/2" X 1 1/2" | E19: ml | F19: 1 | G19: 35834 | H19: =+F19*G19 -> 35834
A20: Elementos de fijación | E20: Gbl | F20: 1 | G20: 5500 | H20: =+F20*G20 -> 5500
A21: SUBTOTAL MATERIALES | H21: =SUM(H19:H20) -> 41334
A23: III. TRANSPORTES | E23: UNIDAD | F23: CANTIDAD | G23: VR PARCIAL | H23: VR TOTAL
A24: Transporte camioneta | E24: VJ | F24: 0.02 | G24: 125000 | H24: =+F24*G24 -> 2500
A25: SUBTOTAL TRANSPORTES | H25: =SUM(H24:H24) -> 2500
A27: IV. MANO DE OBRA | E27: UNIDAD | F27: CANTIDAD | G27: VR PARCIAL | H27: VR TOTAL
A28: Mano de obra básica | E28: HC | F28: 1 | G28: 31448 | H28: =+F28*G28 -> 31448
A29: SUBTOTAL MANO DE OBRA | H29: =SUM(H28:H28) -> 31448
A31: VALOR TOTAL | H31: =+H16+H21+H25+H29 -> 77182

Sheet 10.1
A1: 10 | B1: =VLOOKUP(A1,PRESUPUESTO!$A$1:$F$97,2,FALSE) -> DEMOLICIONES - CERRAMIENTO POSTERIOR
A2: 10.1 | B2: =VLOOKUP(A2,PRESUPUESTO!$A$1:$F$97,2,FALSE) -> DEMOLICIÓN DE MURO EN MAMPOSTERÍA EN BLOQUE DE CONCRETO No. 15
G3: UNIDAD | H3: =VLOOKUP(A2,PRESUPUESTO!$A$1:$F$97,3,FALSE) -> M2
A13: IMAGEN ILUSTRATIVA
A15: I. EQUIPO | E15: UNIDAD | F15: CANTIDAD | G15: VR PARCIAL | H15: VR TOTAL
A16: Herramienta menor | E16: % | F16: 4 | G16: 950 | H16: =+F16*G16 -> 3800
A17: SUBTOTAL EQUIPO | H17: =SUM(H16:H16) -> 3800
A19: II. MATERIALES | E19: UNIDAD | F19: CANTIDAD | G19: VR PARCIAL | H19: VR TOTAL
H20: =+F20*G20 -> 0
H21: =+F21*G21 -> 0
A22: SUBTOTAL MATERIALES | H22: =SUM(H20:H21) -> 0
A24: III. TRANSPORTES | E24: UNIDAD | F24: CANTIDAD | G24: VR PARCIAL | H24: VR TOTAL
A25: Transporte camión | E25: VJ | F25: 0.15 | G25: 300000 | H25: =+F25*G25 -> 45000
A26: SUBTOTAL TRANSPORTES | H26: =SUM(H25:H25) -> 45000
A28: IV. MANO DE OBRA | E28: UNIDAD | F28: CANTIDAD | G28: VR PARCIAL | H28: VR TOTAL
A29: Mano de obra básica | E29: HC | F29: 2 | G29: 29100 | H29: =+F29*G29 -> 58200
A30: SUBTOTAL MANO DE OBRA | H30: =SUM(H29:H29) -> 58200
A32: VALOR TOTAL | H32: =+H17+H22+H26+H30 -> 107000

Sheet 10.2
A1: 10 | B1: =VLOOKUP(A1,PRESUPUESTO!$A$1:$F$97,2,FALSE) -> DEMOLICIONES - CERRAMIENTO POSTERIOR
A2: 10.2 | B2: =VLOOKUP(A2,PRESUPUESTO!$A$1:$F$97,2,FALSE) -> DEMOLICIÓN DE COLUMNAS EN CONCRETO ARMADO
G3: UNIDAD | H3: =VLOOKUP(A2,PRESUPUESTO!$A$1:$F$97,3,FALSE) -> M3
A13: IMAGEN ILUSTRATIVA
A15: I. EQUIPO | E15: UNIDAD | F15: CANTIDAD | G15: VR PARCIAL | H15: VR TOTAL
A16: Herramienta menor | E16: % | F16: 25 | G16: 950 | H16: =+F16*G16 -> 23750
A17: SUBTOTAL EQUIPO | H17: =SUM(H16:H16) -> 23750
A19: II. MATERIALES | E19: UNIDAD | F19: CANTIDAD | G19: VR PARCIAL | H19: VR TOTAL
H20: =+F20*G20 -> 0
A21: SUBTOTAL MATERIALES | H21: =SUM(H20:H20) -> 0
A23: III. TRANSPORTES | E23: UNIDAD | F23: CANTIDAD | G23: VR PARCIAL | H23: VR TOTAL
A24: Transporte camión | E24: VJ | F24: 0.3 | G24: 300000 | H24: =+F24*G24 -> 90000
A25: SUBTOTAL TRANSPORTES | H25: =SUM(H24:H24) -> 90000
A27: IV. MANO DE OBRA | E27: UNIDAD | F27: CANTIDAD | G27: VR PARCIAL | H27: VR TOTAL
A28: Mano de obra básica | E28: HC | F28: 4 | G28: 29100 | H28: =+F28*G28 -> 116400
A29: SUBTOTAL MANO DE OBRA | H29: =SUM(H28:H28) -> 116400
A31: VALOR TOTAL | H31: =+H17+H21+H25+H29 -> 230150

Sheet 10.3
A1: 10 | B1: =VLOOKUP(A1,PRESUPUESTO!$A$1:$F$97,2,FALSE) -> DEMOLICIONES - CERRAMIENTO POSTERIOR
A2: 10.3 | B2: =VLOOKUP(A2,PRESUPUESTO!$A$1:$F$97,2,FALSE) -> DEMOLICIÓN DE CIMENTACIÓN EN CONCRETO
G3: UNIDAD | H3: =VLOOKUP(A2,PRESUPUESTO!$A$1:$F$97,3,FALSE) -> M3
A12: IMAGEN ILUSTRATIVA
A14: I. EQUIPO | E14: UNIDAD | F14: CANTIDAD | G14: VR PARCIAL | H14: VR TOTAL
A15: Herramienta menor | E15: % | F15: 25 | G15: 950 | H15: =+F15*G15 -> 23750
A16: SUBTOTAL EQUIPO | H16: =SUM(H15:H15) -> 23750
A18: II. MATERIALES | E18: UNIDAD | F18: CANTIDAD | G18: VR PARCIAL | H18: VR TOTAL
H19: =+F19*G19 -> 0
A20: SUBTOTAL MATERIALES | H20: =SUM(H19:H19) -> 0
A22: III. TRANSPORTES | E22: UNIDAD | F22: CANTIDAD | G22: VR PARCIAL | H22: VR TOTAL
A23: Transporte camión | E23: VJ | F23: 0.3 | G23: 300000 | H23: =+F23*G23 -> 90000
A24: SUBTOTAL TRANSPORTES | H24: =SUM(H23:H23) -> 90000
A26: IV. MANO DE OBRA | E26: UNIDAD | F26: CANTIDAD | G26: VR PARCIAL | H26: VR TOTAL
A27: Mano de obra básica | E27: HC | F27: 4 | G27: 29100 | H27: =+F27*G27 -> 116400
A28: SUBTOTAL MANO DE OBRA | H28: =SUM(H27:H27) -> 116400
A30: VALOR TOTAL | H30: =+H16+H20+H24+H28 -> 230150

Sheet 11.1
A1: 11 | B1: =VLOOKUP(A1,PRESUPUESTO!$A$1:$F$97,2,FALSE) -> CIMENTACIONES - CERRAMIENTO POSTERIOR
A2: 11.1 | B2: =VLOOKUP(A2,PRESUPUESTO!$A$1:$F$97,2,FALSE) -> ZAPATA DE CIMENTACIÓN DE CONCRETO ARMADO (0,90X0,90X0,30 - 9 UNIDADES)
G3: UNIDAD | H3: =VLOOKUP(A2,PRESUPUESTO!$A$1:$F$97,3,FALSE) -> M3
A12: IMAGEN ILUSTRATIVA
A14: I. EQUIPO | E14: UNIDAD | F14: CANTIDAD | G14: VR PARCIAL | H14: VR TOTAL
A15: Herramienta menor | E15: % | F15: 3 | G15: 950 | H15: =+F15*G15 -> 2850
A16: SUBTOTAL EQUIPO | H16: =SUM(H15:H15) -> 2850
A18: II. MATERIALES | E18: UNIDAD | F18: CANTIDAD | G18: VR PARCIAL | H18: VR TOTAL
A19: Acero sin figurar 60.000 PSI | E19: Kg | F19: 25 | G19: 5850 | H19: =+F19*G19 -> 146250
A20: Concreto premezclado de 4000PSI | E20: M3 | F20: 1 | G20: 1350000 | H20: =+F20*G20 -> 1350000
A21: Alambre de amarre | E21: Kg | F21: 0.4 | G21: 5850 | H21: =+F21*G21 -> 2340
A22: SUBTOTAL MATERIALES | H22: =SUM(H19:H21) -> 1498590
A24: III. TRANSPORTES | E24: UNIDAD | F24: CANTIDAD | G24: VR PARCIAL | H24: VR TOTAL
A25: Transporte general | E25: M3 | F25: 1 | G25: 97000 | H25: =+F25*G25 -> 97000
A26: SUBTOTAL TRANSPORTES | H26: =SUM(H25:H25) -> 97000
A28: IV. MANO DE OBRA | E28: UNIDAD | F28: CANTIDAD | G28: VR PARCIAL | H28: VR TOTAL
A29: Mano de obra básica | E29: HC | F29: 5 | G29: 29100 | H29: =+F29*G29 -> 145500
A30: SUBTOTAL MANO DE OBRA | H30: =SUM(H29:H29) -> 145500
A32: VALOR TOTAL | H32: =+H16+H22+H26+H30 -> 1743940

Sheet 11.2
A1: 11 | B1: =VLOOKUP(A1,PRESUPUESTO!$A$1:$F$97,2,FALSE) -> CIMENTACIONES - CERRAMIENTO POSTERIOR
A2: 11.2 | B2: =VLOOKUP(A2,PRESUPUESTO!$A$1:$F$97,2,FALSE) -> VIGA DE CIMENTACIÓN (0,30X0,30)
G3: UNIDAD | H3: =VLOOKUP(A2,PRESUPUESTO!$A$1:$F$97,3,FALSE) -> M3
A12: IMAGEN ILUSTRATIVA
A14: I. EQUIPO | E14: UNIDAD | F14: CANTIDAD | G14: VR PARCIAL | H14: VR TOTAL
A15: Herramienta menor | E15: % | F15: 3 | G15: 950 | H15: =+F15*G15 -> 2850
A16: SUBTOTAL EQUIPO | H16: =SUM(H15:H15) -> 2850
A18: II. MATERIALES | E18: UNIDAD | F18: CANTIDAD | G18: VR PARCIAL | H18: VR TOTAL
A19: Acero sin figurar 60.000 PSI | E19: Kg | F19: 25 | G19: 5850 | H19: =+F19*G19 -> 146250
A20: Concreto premezclado de 4000PSI | E20: M3 | F20: 1 | G20: 1350000 | H20: =+F20*G20 -> 1350000
A21: Alambre de amarre | E21: Kg | F21: 0.4 | G21: 5850 | H21: =+F21*G21 -> 2340
A22: SUBTOTAL MATERIALES | H22: =SUM(H19:H21) -> 1498590
A24: III. TRANSPORTES | E24: UNIDAD | F24: CANTIDAD | G24: VR PARCIAL | H24: VR TOTAL
A25: Transporte general | E25: M3 | F25: 1 | G25: 97000 | H25: =+F25*G25 -> 97000
A26: SUBTOTAL TRANSPORTES | H26: =SUM(H25:H25) -> 97000
A28: IV. MANO DE OBRA | E28: UNIDAD | F28: CANTIDAD | G28: VR PARCIAL | H28: VR TOTAL
A29: Mano de obra básica | E29: HC | F29: 5 | G29: 29100 | H29: =+F29*G29 -> 145500
A30: SUBTOTAL MANO DE OBRA | H30: =SUM(H29:H29) -> 145500
A32: VALOR TOTAL | H32: =+H16+H22+H26+H30 -> 1743940

Sheet 12.1
A1: 12 | B1: =VLOOKUP(A1,PRESUPUESTO!$A$1:$F$97,2,FALSE) -> ESTRUCTURAS - CERRAMIENTO POSTERIOR
A2: 12.1 | B2: =VLOOKUP(A2,PRESUPUESTO!$A$1:$F$97,2,FALSE) -> COLUMNA CUADRADA EN CONCRETO REFORZADO (0,30X0,30X1,00 - 14 UNIDADES)
G3: UNIDAD | H3: =VLOOKUP(A2,PRESUPUESTO!$A$1:$F$97,3,FALSE) -> M3
A12: IMAGEN ILUSTRATIVA
A14: I. EQUIPO | E14: UNIDAD | F14: CANTIDAD | G14: VR PARCIAL | H14: VR TOTAL
A15: Herramienta menor | E15: % | F15: 3 | G15: 950 | H15: =+F15*G15 -> 2850
A16: SUBTOTAL EQUIPO | H16: =SUM(H15:H15) -> 2850
A18: II. MATERIALES | E18: UNIDAD | F18: CANTIDAD | G18: VR PARCIAL | H18: VR TOTAL
A19: Acero sin figurar 60.000 PSI | E19: Kg | F19: 20 | G19: 5850 | H19: =+F19*G19 -> 117000
A20: Concreto premezclado de 4000PSI | E20: M3 | F20: 1 | G20: 1350000 | H20: =+F20*G20 -> 1350000
A21: Alambre de amarre | E21: Kg | F21: 0.4 | G21: 5850 | H21: =+F21*G21 -> 2340
A22: Formaleta para columnas | E22: Un | F22: 1 | G22: 120000 | H22: =+F22*G22 -> 120000
A23: SUBTOTAL MATERIALES | H23: =SUM(H19:H22) -> 1589340
A25: III. TRANSPORTES | E25: UNIDAD | F25: CANTIDAD | G25: VR PARCIAL | H25: VR TOTAL
A26: Transporte general | E26: M3 | F26: 1 | G26: 97000 | H26: =+F26*G26 -> 97000
A27: SUBTOTAL TRANSPORTES | H27: =SUM(H26:H26) -> 97000
A29: IV. MANO DE OBRA | E29: UNIDAD | F29: CANTIDAD | G29: VR PARCIAL | H29: VR TOTAL
A30: Mano de obra básica | E30: HC | F30: 5 | G30: 29100 | H30: =+F30*G30 -> 145500
A31: SUBTOTAL MANO DE OBRA | H31: =SUM(H30:H30) -> 145500
A33: VALOR TOTAL | H33: =+H16+H23+H27+H31 -> 1834690

Sheet 12.2
A1: 12 | B1: =VLOOKUP(A1,PRESUPUESTO!$A$1:$F$97,2,FALSE) -> ESTRUCTURAS - CERRAMIENTO POSTERIOR
A2: 12.2 | B2: =VLOOKUP(A2,PRESUPUESTO!$A$1:$F$97,2,FALSE) -> VIGA DE AMARRE EN MURO (0,15X0,20)
G3: UNIDAD | H3: =VLOOKUP(A2,PRESUPUESTO!$A$1:$F$97,3,FALSE) -> M3
A12: IMAGEN REPRESENTATIVA O ILUSTRATIVA
A14: I. EQUIPO | E14: UNIDAD | F14: CANTIDAD | G14: VR PARCIAL | H14: VR TOTAL
A15: Herramienta menor | E15: % | F15: 3 | G15: 950 | H15: =+F15*G15 -> 2850
A16: SUBTOTAL EQUIPO | H16: =SUM(H15:H15) -> 2850
A18: II. MATERIALES | E18: UNIDAD | F18: CANTIDAD | G18: VR PARCIAL | H18: VR TOTAL
A19: Acero sin figurar 60.000 PSI | E19: Kg | F19: 20 | G19: 5850 | H19: =+F19*G19 -> 117000
A20: Concreto premezclado de 4000PSI | E20: M3 | F20: 1 | G20: 1350000 | H20: =+F20*G20 -> 1350000
A21: Alambre de amarre | E21: Kg | F21: 0.4 | G21: 5850 | H21: =+F21*G21 -> 2340
A22: SUBTOTAL MATERIALES | H22: =SUM(H19:H21) -> 1469340
A24: III. TRANSPORTES | E24: UNIDAD | F24: CANTIDAD | G24: VR PARCIAL | H24: VR TOTAL
A25: Transporte general | E25: M3 | F25: 1 | G25: 97000 | H25: =+F25*G25 -> 97000
A26: SUBTOTAL TRANSPORTES | H26: =SUM(H25:H25) -> 97000
A28: IV. MANO DE OBRA | E28: UNIDAD | F28: CANTIDAD | G28: VR PARCIAL | H28: VR TOTAL
A29: Mano de obra básica | E29: HC | F29: 5 | G29: 29100 | H29: =+F29*G29 -> 145500
A30: SUBTOTAL MANO DE OBRA | H30: =SUM(H29:H29) -> 145500
A32: VALOR TOTAL | H32: =+H16+H22+H26+H30 -> 1714690

Sheet 13.1
A1: 13 | B1: =VLOOKUP(A1,PRESUPUESTO!$A$1:$F$97,2,FALSE) -> MAMPOSTERÍA - CERRAMIENTO POSTERIOR
A2: 13.1 | B2: =VLOOKUP(A2,PRESUPUESTO!$A$1:$F$97,2,FALSE) -> MURO SENCILLO BLOQUE CEMENTO e=0.15m
G3: UNIDAD | H3: =VLOOKUP(A2,PRESUPUESTO!$A$1:$F$97,3,FALSE) -> M2
A12: IMAGEN ILUSTRATIVA
A14: I. EQUIPO | E14: UNIDAD | F14: CANTIDAD | G14: VR PARCIAL | H14: VR TOTAL
A15: Herramienta menor | E15: % | F15: 1 | G15: 950 | H15: =+F15*G15 -> 950
A16: SUBTOTAL EQUIPO | H16: =SUM(H15:H15) -> 950
A18: II. MATERIALES | E18: UNIDAD | F18: CANTIDAD | G18: VR PARCIAL | H18: VR TOTAL
A19: Bloque No 15 | E19: Un | F19: 12.5 | G19: 7500 | H19: =+F19*G19 -> 93750
A20: Mortero 1:4 | E20: M3 | F20: 0.05 | G20: 975000 | H20: =+F20*G20 -> 48750
A21: SUBTOTAL MATERIALES | H21: =SUM(H19:H20) -> 142500
A23: III. TRANSPORTES | E23: UNIDAD | F23: CANTIDAD | G23: VR PARCIAL | H23: VR TOTAL
A24: Transporte camioneta | E24: VJ | F24: 0.1 | G24: 125000 | H24: =+F24*G24 -> 12500
A25: SUBTOTAL TRANSPORTES | H25: =SUM(H24:H24) -> 12500
A27: IV. MANO DE OBRA | E27: UNIDAD | F27: CANTIDAD | G27: VR PARCIAL | H27: VR TOTAL
A28: Mano de obra básica | E28: HC | F28: 1 | G28: 29100 | H28: =+F28*G28 -> 29100
A29: SUBTOTAL MANO DE OBRA | H29: =SUM(H28:H28) -> 29100
A31: VALOR TOTAL | H31: =+H16+H21+H25+H29 -> 185050

Sheet 14.1
A1: 14 | B1: =VLOOKUP(A1,PRESUPUESTO!$A$1:$F$97,2,FALSE) -> PAÑETES - CERRAMIENTO POSTERIOR
A2: 14.1 | B2: =VLOOKUP(A2,PRESUPUESTO!$A$1:$F$97,2,FALSE) -> PAÑETE LISO IMPERMEABIL S/MUROS 1:4 e=0.02
G3: UNIDAD | H3: =VLOOKUP(A2,PRESUPUESTO!$A$1:$F$97,3,FALSE) -> M2
A12: IMAGEN ILUSTRATIVA
A15: I. EQUIPO | E15: UNIDAD | F15: CANTIDAD | G15: VR PARCIAL | H15: VR TOTAL
A16: Herramienta menor | E16: % | F16: 6 | G16: 950 | H16: =+F16*G16 -> 5700
A17: SUBTOTAL EQUIPO | H17: =SUM(H16:H16) -> 5700
A19: II. MATERIALES | E19: UNIDAD | F19: CANTIDAD | G19: VR PARCIAL | H19: VR TOTAL
A20: Agua potable | E20: Lt | F20: 3 | G20: 1500 | H20: =+F20*G20 -> 4500
A21: Arena fina | E21: M3 | F21: 0.1 | G21: 450000 | H21: =+F21*G21 -> 45000
A22: Cemento gris | E22: Kg | F22: 3 | G22: 950 | H22: =+F22*G22 -> 2850
A23: SUBTOTAL MATERIALES | H23: =SUM(H20:H22) -> 52350
A25: III. TRANSPORTES | E25: UNIDAD | F25: CANTIDAD | G25: VR PARCIAL | H25: VR TOTAL
A26: Transporte camioneta | E26: VJ | F26: 0.1 | G26: 125000 | H26: =+F26*G26 -> 12500
A27: SUBTOTAL TRANSPORTES | H27: =SUM(H26:H26) -> 12500
A29: IV. MANO DE OBRA | E29: UNIDAD | F29: CANTIDAD | G29: VR PARCIAL | H29: VR TOTAL
A30: Mano de obra básica | E30: HC | F30: 1.2 | G30: 29100 | H30: =+F30*G30 -> 34920
A31: SUBTOTAL MANO DE OBRA | H31: =SUM(H30:H30) -> 34920
A33: VALOR TOTAL | H33: =+H17+H23+H27+H31 -> 105470

Sheet 15.1
A1: 15 | B1: =VLOOKUP(A1,PRESUPUESTO!$A$1:$F$97,2,FALSE) -> ESTUCO Y PINTURA - CERRAMIENTO POSTERIOR
A2: 15.1 | B2: =VLOOKUP(A2,PRESUPUESTO!$A$1:$F$97,2,FALSE) -> ESTUCO Y PINTURA MUROS [DUREZA]
G3: UNIDAD | H3: =VLOOKUP(A2,PRESUPUESTO!$A$1:$F$97,3,FALSE) -> M2
A12: IMAGEN ILUSTRATIVA
A15: I. EQUIPO | E15: UNIDAD | F15: CANTIDAD | G15: VR PARCIAL | H15: VR TOTAL
A16: Herramienta menor | E16: % | F16: 3 | G16: 950 | H16: =+F16*G16 -> 2850
A17: SUBTOTAL EQUIPO | H17: =SUM(H16:H16) -> 2850
A19: II. MATERIALES | E19: UNIDAD | F19: CANTIDAD | G19: VR PARCIAL | H19: VR TOTAL
A20: Estuco Plástico | E20: Gl | F20: 0.5 | G20: 26400 | H20: =+F20*G20 -> 13200
A21: Lija agua 150 | E21: Un | F21: 1 | G21: 1800 | H21: =+F21*G21 -> 1800
A22: Pintura Dureza | E22: Gl | F22: 0.5 | G22: 68200 | H22: =+F22*G22 -> 34100
A23: SUBTOTAL MATERIALES | H23: =SUM(H20:H22) -> 49100
A25: III. TRANSPORTES | E25: UNIDAD | F25: CANTIDAD | G25: VR PARCIAL | H25: VR TOTAL
A26: Transporte camioneta | E26: VJ | F26: 0.03 | G26: 125000 | H26: =+F26*G26 -> 3750
A27: SUBTOTAL TRANSPORTES | H27: =SUM(H26:H26) -> 3750
A29: IV. MANO DE OBRA | E29: UNIDAD | F29: CANTIDAD | G29: VR PARCIAL | H29: VR TOTAL
A30: Mano de obra básica | E30: HC | F30: 1 | G30: 31448 | H30: =+F30*G30 -> 31448
A31: SUBTOTAL MANO DE OBRA | H31: =SUM(H30:H30) -> 31448
A33: VALOR TOTAL | H33: =+H17+H23+H27+H31 -> 87148

Sheet 16.1
A1: 16 | B1: =VLOOKUP(A1,PRESUPUESTO!$A$1:$F$97,2,FALSE) -> ESTRUCTURAS - GARITA DE VIGILANCIA
A2: 16.1 | B2: =VLOOKUP(A2,PRESUPUESTO!$A$1:$F$97,2,FALSE) -> COLUMNETA CUADRADA ANCLADA EN CONCRETO REFORZADO (0,20X0,20X2,80 - 4 UNIDADES)
G3: UNIDAD | H3: =VLOOKUP(A2,PRESUPUESTO!$A$1:$F$97,3,FALSE) -> M3
A12: IMAGEN ILUSTRATIVA
A14: I. EQUIPO | E14: UNIDAD | F14: CANTIDAD | G14: VR PARCIAL | H14: VR TOTAL
A15: Herramienta menor | E15: % | F15: 3 | G15: 950 | H15: =+F15*G15 -> 2850
A16: SUBTOTAL EQUIPO | H16: =SUM(H15:H15) -> 2850
A18: II. MATERIALES | E18: UNIDAD | F18: CANTIDAD | G18: VR PARCIAL | H18: VR TOTAL
A19: Acero sin figurar 60.000 PSI | E19: Kg | F19: 10 | G19: 5850 | H19: =+F19*G19 -> 58500
A20: Concreto premezclado de 4000PSI | E20: M3 | F20: 1 | G20: 1350000 | H20: =+F20*G20 -> 1350000
A21: Alambre de amarre | E21: Kg | F21: 0.4 | G21: 5850 | H21: =+F21*G21 -> 2340
A22: Formaleta para columnas | E22: Un | F22: 1 | G22: 120000 | H22: =+F22*G22 -> 120000
A23: Adhesivo de anclaje | E23: ml | F23: 300 | G23: 1200 | H23: =+F23*G23 -> 360000
A24: SUBTOTAL MATERIALES | H24: =SUM(H19:H23) -> 1890840
A26: III. TRANSPORTES | E26: UNIDAD | F26: CANTIDAD | G26: VR PARCIAL | H26: VR TOTAL
A27: Transporte general | E27: M3 | F27: 1 | G27: 97000 | H27: =+F27*G27 -> 97000
A28: SUBTOTAL TRANSPORTES | H28: =SUM(H27:H27) -> 97000
A30: IV. MANO DE OBRA | E30: UNIDAD | F30: CANTIDAD | G30: VR PARCIAL | H30: VR TOTAL
A31: Mano de obra básica | E31: HC | F31: 5 | G31: 29100 | H31: =+F31*G31 -> 145500
A32: SUBTOTAL MANO DE OBRA | H32: =SUM(H31:H31) -> 145500
A34: VALOR TOTAL | H34: =+H16+H24+H28+H32 -> 2136190

Sheet 16.2
A1: 16 | B1: =VLOOKUP(A1,PRESUPUESTO!$A$1:$F$97,2,FALSE) -> ESTRUCTURAS - GARITA DE VIGILANCIA
A2: 16.2 | B2: =VLOOKUP(A2,PRESUPUESTO!$A$1:$F$97,2,FALSE) -> VIGA DE AMARRE EN MURO (0,15X0,20)
G3: UNIDAD | H3: =VLOOKUP(A2,PRESUPUESTO!$A$1:$F$97,3,FALSE) -> M3
A12: IMAGEN ILUSTRATIVA
A14: I. EQUIPO | E14: UNIDAD | F14: CANTIDAD | G14: VR PARCIAL | H14: VR TOTAL
A15: Herramienta menor | E15: % | F15: 3 | G15: 950 | H15: =+F15*G15 -> 2850
A16: SUBTOTAL EQUIPO | H16: =SUM(H15:H15) -> 2850
A18: II. MATERIALES | E18: UNIDAD | F18: CANTIDAD | G18: VR PARCIAL | H18: VR TOTAL
A19: Acero sin figurar 60.000 PSI | E19: Kg | F19: 20 | G19: 5850 | H19: =+F19*G19 -> 117000
A20: Concreto premezclado de 4000PSI | E20: M3 | F20: 1 | G20: 1350000 | H20: =+F20*G20 -> 1350000
A21: Alambre de amarre | E21: Kg | F21: 0.4 | G21: 5850 | H21: =+F21*G21 -> 2340
A22: Formaleta para viga | E22: Un | F22: 1 | G22: 120000 | H22: =+F22*G22 -> 120000
A23: SUBTOTAL MATERIALES | H23: =SUM(H19:H22) -> 1589340
A25: III. TRANSPORTES | E25: UNIDAD | F25: CANTIDAD | G25: VR PARCIAL | H25: VR TOTAL
A26: Transporte general | E26: M3 | F26: 1 | G26: 97000 | H26: =+F26*G26 -> 97000
A27: SUBTOTAL TRANSPORTES | H27: =SUM(H26:H26) -> 97000
A29: IV. MANO DE OBRA | E29: UNIDAD | F29: CANTIDAD | G29: VR PARCIAL | H29: VR TOTAL
A30: Mano de obra básica | E30: HC | F30: 5 | G30: 29100 | H30: =+F30*G30 -> 145500
A31: SUBTOTAL MANO DE OBRA | H31: =SUM(H30:H30) -> 145500
A33: VALOR TOTAL | H33: =+H16+H23+H27+H31 -> 1834690

Sheet 17.1
A1: 17 | B1: =VLOOKUP(A1,PRESUPUESTO!$A$1:$F$97,2,FALSE) -> MAMPOSTERÍA - GARITA DE VIGILANCIA
A2: 17.1 | B2: =VLOOKUP(A2,PRESUPUESTO!$A$1:$F$97,2,FALSE) -> MURO SENCILLO BLOQUE CEMENTO e=0.15m
G3: UNIDAD | H3: =VLOOKUP(A2,PRESUPUESTO!$A$1:$F$97,3,FALSE) -> M2
A12: IMAGEN ILUSTRATIVA
A14: I. EQUIPO | E14: UNIDAD | F14: CANTIDAD | G14: VR PARCIAL | H14: VR TOTAL
A15: Herramienta menor | E15: % | F15: 1 | G15: 950 | H15: =+F15*G15 -> 950
A16: SUBTOTAL EQUIPO | H16: =SUM(H15:H15) -> 950
A18: II. MATERIALES | E18: UNIDAD | F18: CANTIDAD | G18: VR PARCIAL | H18: VR TOTAL
A19: Bloque No 15 | E19: Un | F19: 12.5 | G19: 7500 | H19: =+F19*G19 -> 93750
A20: Mortero 1:4 | E20: M3 | F20: 0.05 | G20: 975000 | H20: =+F20*G20 -> 48750
A21: SUBTOTAL MATERIALES | H21: =SUM(H19:H20) -> 142500
A23: III. TRANSPORTES | E23: UNIDAD | F23: CANTIDAD | G23: VR PARCIAL | H23: VR TOTAL
A24: Transporte camioneta | E24: VJ | F24: 0.1 | G24: 125000 | H24: =+F24*G24 -> 12500
A25: SUBTOTAL TRANSPORTES | H25: =SUM(H24:H24) -> 12500
A27: IV. MANO DE OBRA | E27: UNIDAD | F27: CANTIDAD | G27: VR PARCIAL | H27: VR TOTAL
A28: Mano de obra básica | E28: HC | F28: 1 | G28: 29100 | H28: =+F28*G28 -> 29100
A29: SUBTOTAL MANO DE OBRA | H29: =SUM(H28:H28) -> 29100
A31: VALOR TOTAL | H31: =+H16+H21+H25+H29 -> 185050

Sheet 18.1
A1: 18 | B1: =VLOOKUP(A1,PRESUPUESTO!$A$1:$F$97,2,FALSE) -> PAÑETES - GARITA DE VIGILANCIA
A2: 18.1 | B2: =VLOOKUP(A2,PRESUPUESTO!$A$1:$F$97,2,FALSE) -> PAÑETE LISO IMPERMEABIL S/MUROS 1:4 e=0.02
G3: UNIDAD | H3: =VLOOKUP(A2,PRESUPUESTO!$A$1:$F$97,3,FALSE) -> M2
A12: IMAGEN ILUSTRATIVA
A15: I. EQUIPO | E15: UNIDAD | F15: CANTIDAD | G15: VR PARCIAL | H15: VR TOTAL
A16: Herramienta menor | E16: % | F16: 6 | G16: 950 | H16: =+F16*G16 -> 5700
A17: SUBTOTAL EQUIPO | H17: =SUM(H16:H16) -> 5700
A19: II. MATERIALES | E19: UNIDAD | F19: CANTIDAD | G19: VR PARCIAL | H19: VR TOTAL
A20: Agua potable | E20: Lt | F20: 3 | G20: 1500 | H20: =+F20*G20 -> 4500
A21: Arena fina | E21: M3 | F21: 0.1 | G21: 450000 | H21: =+F21*G21 -> 45000
A22: Cemento gris | E22: Kg | F22: 3 | G22: 950 | H22: =+F22*G22 -> 2850
A23: SUBTOTAL MATERIALES | H23: =SUM(H20:H22) -> 52350
A25: III. TRANSPORTES | E25: UNIDAD | F25: CANTIDAD | G25: VR PARCIAL | H25: VR TOTAL
A26: Transporte camioneta | E26: VJ | F26: 0.1 | G26: 125000 | H26: =+F26*G26 -> 12500
A27: SUBTOTAL TRANSPORTES | H27: =SUM(H26:H26) -> 12500
A29: IV. MANO DE OBRA | E29: UNIDAD | F29: CANTIDAD | G29: VR PARCIAL | H29: VR TOTAL
A30: Mano de obra básica | E30: HC | F30: 1.2 | G30: 29100 | H30: =+F30*G30 -> 34920
A31: SUBTOTAL MANO DE OBRA | H31: =SUM(H30:H30) -> 34920
A33: VALOR TOTAL | H33: =+H17+H23+H27+H31 -> 105470

Sheet 19.1
A1: 19 | B1: =VLOOKUP(A1,PRESUPUESTO!$A$1:$F$97,2,FALSE) -> ESTUCO Y PINTURA - GARITA DE VIGILANCIA
A2: 19.1 | B2: =VLOOKUP(A2,PRESUPUESTO!$A$1:$F$97,2,FALSE) -> ESTUCO Y PINTURA MUROS [DUREZA]
G3: UNIDAD | H3: =VLOOKUP(A2,PRESUPUESTO!$A$1:$F$97,3,FALSE) -> M2
A12: IMAGEN ILUSTRATIVA
A15: I. EQUIPO | E15: UNIDAD | F15: CANTIDAD | G15: VR PARCIAL | H15: VR TOTAL
A16: Herramienta menor | E16: % | F16: 3 | G16: 950 | H16: =+F16*G16 -> 2850
A17: SUBTOTAL EQUIPO | H17: =SUM(H16:H16) -> 2850
A19: II. MATERIALES | E19: UNIDAD | F19: CANTIDAD | G19: VR PARCIAL | H19: VR TOTAL
A20: Estuco Plástico | E20: Gl | F20: 0.5 | G20: 26400 | H20: =+F20*G20 -> 13200
A21: Lija agua 150 | E21: Un | F21: 1 | G21: 1800 | H21: =+F21*G21 -> 1800
A22: Pintura Dureza | E22: Gl | F22: 0.5 | G22: 68200 | H22: =+F22*G22 -> 34100
A23: SUBTOTAL MATERIALES | H23: =SUM(H20:H22) -> 49100
A25: III. TRANSPORTES | E25: UNIDAD | F25: CANTIDAD | G25: VR PARCIAL | H25: VR TOTAL
A26: Transporte camioneta | E26: VJ | F26: 0.03 | G26: 125000 | H26: =+F26*G26 -> 3750
A27: SUBTOTAL TRANSPORTES | H27: =SUM(H26:H26) -> 3750
A29: IV. MANO DE OBRA | E29: UNIDAD | F29: CANTIDAD | G29: VR PARCIAL | H29: VR TOTAL
A30: Mano de obra básica | E30: HC | F30: 1.2 | G30: 31448 | H30: =+F30*G30 -> 37737.6
A31: SUBTOTAL MANO DE OBRA | H31: =SUM(H30:H30) -> 37737.6
A33: VALOR TOTAL | H33: =+H17+H23+H27+H31 -> 93437.6

Sheet 20.1
A1: 20 | B1: =VLOOKUP(A1,PRESUPUESTO!$A$1:$F$97,2,FALSE) -> PUERTAS Y VENTANAS - GARITA DE VIGILANCIA
A2: 20.1 | B2: =VLOOKUP(A2,PRESUPUESTO!$A$1:$F$97,2,FALSE) -> SUMINISTRO E INSTALACIÓN DE PUERTA EN ALUMINIO (0,90X2,00)
G3: UNIDAD | H3: =VLOOKUP(A2,PRESUPUESTO!$A$1:$F$97,3,FALSE) -> UN
A12: IMAGEN ILUSTRATIVA
A14: I. EQUIPO | E14: UNIDAD | F14: CANTIDAD | G14: VR PARCIAL | H14: VR TOTAL
A15: Herramienta menor | E15: % | F15: 100 | G15: 950 | H15: =+F15*G15 -> 95000
A16: SUBTOTAL EQUIPO | H16: =SUM(H15:H15) -> 95000
A18: II. MATERIALES | E18: UNIDAD | F18: CANTIDAD | G18: VR PARCIAL | H18: VR TOTAL
A19: Puerta en aluminio de 0,90X2,00 | E19: Un | F19: 1 | G19: 1380000 | H19: =+F19*G19 -> 1380000
A20: SUBTOTAL MATERIALES | H20: =SUM(H19:H19) -> 1380000
A22: III. TRANSPORTES | E22: UNIDAD | F22: CANTIDAD | G22: VR PARCIAL | H22: VR TOTAL
A23: Transporte camioneta | E23: VJ | F23: 0.6 | G23: 125000 | H23: =+F23*G23 -> 75000
A24: SUBTOTAL TRANSPORTES | H24: =SUM(H23:H23) -> 75000
A26: IV. MANO DE OBRA | E26: UNIDAD | F26: CANTIDAD | G26: VR PARCIAL | H26: VR TOTAL
A27: Mano de obra básica | E27: HC | F27: 3 | G27: 29100 | H27: =+F27*G27 -> 87300
A28: SUBTOTAL MANO DE OBRA | H28: =SUM(H27:H27) -> 87300
A30: VALOR TOTAL | H30: =+H16+H20+H24+H28 -> 1637300

Sheet 20.2
A1: 20 | B1: =VLOOKUP(A1,PRESUPUESTO!$A$1:$F$97,2,FALSE) -> PUERTAS Y VENTANAS - GARITA DE VIGILANCIA
A2: 20.2 | B2: =VLOOKUP(A2,PRESUPUESTO!$A$1:$F$97,2,FALSE) -> SUMINISTRO E INSTALACIÓN DE VENTANA EN ALUMINIO Y VIDRIO (1,00X1,20)
G3: UNIDAD | H3: =VLOOKUP(A2,PRESUPUESTO!$A$1:$F$97,3,FALSE) -> UN
A12: IMAGEN ILUSTRATIVA
A14: I. EQUIPO | E14: UNIDAD | F14: CANTIDAD | G14: VR PARCIAL | H14: VR TOTAL
A15: Herramienta menor | E15: % | F15: 100 | G15: 950 | H15: =+F15*G15 -> 95000
A16: SUBTOTAL EQUIPO | H16: =SUM(H15:H15) -> 95000
A18: II. MATERIALES | E18: UNIDAD | F18: CANTIDAD | G18: VR PARCIAL | H18: VR TOTAL
A19: ventana en aluminio de 1,00X1,20 | E19: Un | F19: 1 | G19: 1050000 | H19: =+F19*G19 -> 1050000
A20: SUBTOTAL MATERIALES | H20: =SUM(H19:H19) -> 1050000
A22: III. TRANSPORTES | E22: UNIDAD | F22: CANTIDAD | G22: VR PARCIAL | H22: VR TOTAL
A23: Transporte camioneta | E23: VJ | F23: 0.6 | G23: 125000 | H23: =+F23*G23 -> 75000
A24: SUBTOTAL TRANSPORTES | H24: =SUM(H23:H23) -> 75000
A26: IV. MANO DE OBRA | E26: UNIDAD | F26: CANTIDAD | G26: VR PARCIAL | H26: VR TOTAL
A27: Mano de obra básica | E27: HC | F27: 2 | G27: 29100 | H27: =+F27*G27 -> 58200
A28: SUBTOTAL MANO DE OBRA | H28: =SUM(H27:H27) -> 58200
A30: VALOR TOTAL | H30: =+H16+H20+H24+H28 -> 1278200

Sheet 21.1
A1: 21 | B1: =VLOOKUP(A1,PRESUPUESTO!$A$1:$F$97,2,FALSE) -> CUBIERTAS Y CIELO RASO - GARITA DE VIGILANCIA
A2: 21.1 | B2: =VLOOKUP(A2,PRESUPUESTO!$A$1:$F$97,2,FALSE) -> SUMINISTRO E INSTALACIÓN DE ESTRUCTURA EN MADERA PARA CUBIERTA A DOS AGUAS
G3: UNIDAD | H3: =VLOOKUP(A2,PRESUPUESTO!$A$1:$F$97,3,FALSE) -> M2
A12: IMAGEN ILUSTRATIVA
A14: I. EQUIPO | E14: UNIDAD | F14: CANTIDAD | G14: VR PARCIAL | H14: VR TOTAL
A15: Herramienta menor | E15: % | F15: 12 | G15: 950 | H15: =+F15*G15 -> 11400
A16: SUBTOTAL EQUIPO | H16: =SUM(H15:H15) -> 11400
A18: II. MATERIALES | E18: UNIDAD | F18: CANTIDAD | G18: VR PARCIAL | H18: VR TOTAL
A19: Madera inmunizada 2X2 | E19: Ml | F19: 4 | G19: 42000 | H19: =+F19*G19 -> 168000
A20: Madera inmunizada 2X4 | E20: Ml | F20: 4 | G20: 65000 | H20: =+F20*G20 -> 260000
A21: Elementos de fijación | E21: Gb | F21: 1 | G21: 35000 | H21: =+F21*G21 -> 35000
A22: SUBTOTAL MATERIALES | H22: =SUM(H19:H19) -> 168000
A24: III. TRANSPORTES | E24: UNIDAD | F24: CANTIDAD | G24: VR PARCIAL | H24: VR TOTAL
A25: Transporte camioneta | E25: VJ | F25: 0.2 | G25: 125000 | H25: =+F25*G25 -> 25000
A26: SUBTOTAL TRANSPORTES | H26: =SUM(H25:H25) -> 25000
A28: IV. MANO DE OBRA | E28: UNIDAD | F28: CANTIDAD | G28: VR PARCIAL | H28: VR TOTAL
A29: Mano de obra básica | E29: HC | F29: 1.5 | G29: 29100 | H29: =+F29*G29 -> 43650
A30: SUBTOTAL MANO DE OBRA | H30: =SUM(H29:H29) -> 43650
A32: VALOR TOTAL | H32: =+H16+H22+H26+H30 -> 248050

Sheet 21.2
A1: 21 | B1: =VLOOKUP(A1,PRESUPUESTO!$A$1:$F$97,2,FALSE) -> CUBIERTAS Y CIELO RASO - GARITA DE VIGILANCIA
A2: 21.2 | B2: =VLOOKUP(A2,PRESUPUESTO!$A$1:$F$97,2,FALSE) -> SUMINISTRO E INSTALACIÓN DE CUBIERTA LIVIANA TIPO ECOROOF BLANCA
G3: UNIDAD | H3: =VLOOKUP(A2,PRESUPUESTO!$A$1:$F$97,3,FALSE) -> M2
A12: IMAGEN ILUSTRATIVA
A14: I. EQUIPO | E14: UNIDAD | F14: CANTIDAD | G14: VR PARCIAL | H14: VR TOTAL
A15: Herramienta menor | E15: % | F15: 12 | G15: 950 | H15: =+F15*G15 -> 11400
A16: SUBTOTAL EQUIPO | H16: =SUM(H15:H15) -> 11400
A18: II. MATERIALES | E18: UNIDAD | F18: CANTIDAD | G18: VR PARCIAL | H18: VR TOTAL
A19: Teja liviana Ecoroof | E19: Ml | F19: 1.5 | G19: 85000 | H19: =+F19*G19 -> 127500
A20: Caballete Ecoroof | E20: Ml | F20: 1.5 | G20: 46000 | H20: =+F20*G20 -> 69000
A21: Elementos de fijación | E21: Gb | F21: 4 | G21: 45000 | H21: =+F21*G21 -> 180000
A22: SUBTOTAL MATERIALES | H22: =SUM(H19:H19) -> 127500
A24: III. TRANSPORTES | E24: UNIDAD | F24: CANTIDAD | G24: VR PARCIAL | H24: VR TOTAL
A25: Transporte camioneta | E25: VJ | F25: 0.2 | G25: 125000 | H25: =+F25*G25 -> 25000
A26: SUBTOTAL TRANSPORTES | H26: =SUM(H25:H25) -> 25000
A28: IV. MANO DE OBRA | E28: UNIDAD | F28: CANTIDAD | G28: VR PARCIAL | H28: VR TOTAL
A29: Mano de obra básica | E29: HC | F29: 2 | G29: 29100 | H29: =+F29*G29 -> 58200
A30: SUBTOTAL MANO DE OBRA | H30: =SUM(H29:H29) -> 58200
A32: VALOR TOTAL | H32: =+H16+H22+H26+H30 -> 222100

Sheet 21.3
A1: 21 | B1: =VLOOKUP(A1,PRESUPUESTO!$A$1:$F$97,2,FALSE) -> CUBIERTAS Y CIELO RASO - GARITA DE VIGILANCIA
A2: 21.3 | B2: =VLOOKUP(A2,PRESUPUESTO!$A$1:$F$97,2,FALSE) -> SUMINISTRO E INSTALACIÓN DE CIELO RASO EN PVC
G3: UNIDAD | H3: =VLOOKUP(A2,PRESUPUESTO!$A$1:$F$97,3,FALSE) -> M2
A12: IMAGEN ILUSTRATIVA
A14: I. EQUIPO | E14: UNIDAD | F14: CANTIDAD | G14: VR PARCIAL | H14: VR TOTAL
A15: Herramienta menor | E15: % | F15: 2 | G15: 950 | H15: =+F15*G15 -> 1900
A16: SUBTOTAL EQUIPO | H16: =SUM(H15:H15) -> 1900
A18: II. MATERIALES | E18: UNIDAD | F18: CANTIDAD | G18: VR PARCIAL | H18: VR TOTAL
A19: Lamina lisa de PVC blanca | E19: M2 | F19: 2.5 | G19: 53000 | H19: =+F19*G19 -> 132500
A20: Estructura de soporte cielo raso | E20: M2 | F20: 6 | G20: 22000 | H20: =+F20*G20 -> 132000
A21: SUBTOTAL MATERIALES | H21: =SUM(H19:H20) -> 264500
A23: III. TRANSPORTES | E23: UNIDAD | F23: CANTIDAD | G23: VR PARCIAL | H23: VR TOTAL
A24: Transporte camioneta | E24: VJ | F24: 0.02 | G24: 125000 | H24: =+F24*G24 -> 2500
A25: SUBTOTAL TRANSPORTES | H25: =SUM(H24:H24) -> 2500
A27: IV. MANO DE OBRA | E27: UNIDAD | F27: CANTIDAD | G27: VR PARCIAL | H27: VR TOTAL
A28: Mano de obra básica | E28: HC | F28: 2 | G28: 29100 | H28: =+F28*G28 -> 58200
A29: SUBTOTAL MANO DE OBRA | H29: =SUM(H28:H28) -> 58200
A31: VALOR TOTAL | H31: =+H16+H21+H25+H29 -> 327100

Sheet 22.1
A1: 22 | B1: =VLOOKUP(A1,PRESUPUESTO!$A$1:$F$97,2,FALSE) -> TOMAS ELÉCTRICAS E ILUMINACIÓN - GARITA DE VIGILANCIA
A2: 22.1 | B2: =VLOOKUP(A2,PRESUPUESTO!$A$1:$F$97,2,FALSE) -> SUMINISTRO E INSTALACIÓN DE TOMAS ELÉCTRICAS E ILUMINACIÓN
G3: UNIDAD | H3: =VLOOKUP(A2,PRESUPUESTO!$A$1:$F$97,3,FALSE) -> GBL
A12: IMAGEN REPRESENTATIVA O ILUSTRATIVA
A14: I. EQUIPO | E14: UNIDAD | F14: CANTIDAD | G14: VR PARCIAL | H14: VR TOTAL
A15: Herramienta menor | E15: % | F15: 6 | G15: 950 | H15: =+F15*G15 -> 5700
A16: SUBTOTAL EQUIPO | H16: =SUM(H15:H15) -> 5700
A18: II. MATERIALES | E18: UNIDAD | F18: CANTIDAD | G18: VR PARCIAL | H18: VR TOTAL
A19: Panel Led Sq Cuadrado 60x60 40w 100-277v | E19: Und | F19: 1 | G19: 285000 | H19: =+F19*G19 -> 285000
A20: Cable # 12 halogeno | E20: ml | F20: 185 | G20: 3400 | H20: =+F20*G20 -> 629000
A21: Tubo conduit 3/4 y accesorios | E21: ml | F21: 28 | G21: 7500 | H21: =+F21*G21 -> 210000
A22: Toma electrica doble con polo a tierra | E22: Un | F22: 5 | G22: 10100 | H22: =+F22*G22 -> 50500
A23: Interruptor doble | E23: Un | F23: 2 | G23: 12300 | H23: =+F23*G23 -> 24600
A24: SUBTOTAL MATERIALES | H24: =SUM(H19:H22) -> 1174500
A26: III. TRANSPORTES | E26: UNIDAD | F26: CANTIDAD | G26: VR PARCIAL | H26: VR TOTAL
A27: Transporte camioneta | E27: VJ | F27: 0.4 | G27: 125000 | H27: =+F27*G27 -> 50000
A28: SUBTOTAL TRANSPORTES | H28: =SUM(H27:H27) -> 50000
A30: IV. MANO DE OBRA | E30: UNIDAD | F30: CANTIDAD | G30: VR PARCIAL | H30: VR TOTAL
A31: Mano de obra básica | E31: HC | F31: 6 | G31: 31448 | H31: =+F31*G31 -> 188688
A32: SUBTOTAL MANO DE OBRA | H32: =SUM(H31:H31) -> 188688
A34: VALOR TOTAL | H34: =+H16+H24+H28+H32 -> 1418888

Sheet 23.1
A1: 23 | B1: =VLOOKUP(A1,PRESUPUESTO!$A$1:$F$97,2,FALSE) -> ASEO GENERAL
A2: 23.1 | B2: =VLOOKUP(A2,PRESUPUESTO!$A$1:$F$97,2,FALSE) -> ASEO GENERAL
G3: UNIDAD | H3: =VLOOKUP(A2,PRESUPUESTO!$A$1:$F$97,3,FALSE) -> GBL
A12: IMAGEN REPRESENTATIVA O ILUSTRATIVA
A14: I. EQUIPO | E14: UNIDAD | F14: CANTIDAD | G14: VR PARCIAL | H14: VR TOTAL
A15: Herramienta menor | E15: % | F15: 10 | G15: 950 | H15: =+F15*G15 -> 9500
A16: SUBTOTAL EQUIPO | H16: =SUM(H15:H15) -> 9500
A18: II. MATERIALES | E18: UNIDAD | F18: CANTIDAD | G18: VR PARCIAL | H18: VR TOTAL
A19: Ácido Nítrico | E19: Lt | F19: 2 | G19: 5570 | H19: =+F19*G19 -> 11140
A20: Jabón liquido industrial | E20: Un | F20: 1 | G20: 30000 | H20: =+F20*G20 -> 30000
A21: Trapero | E21: Un | F21: 2 | G21: 28900 | H21: =+F21*G21 -> 57800
A22: Recogedor | E22: Un | F22: 1 | G22: 24900 | H22: =+F22*G22 -> 24900
A23: Escobas | E23: Un | F23: 3 | G23: 24900 | H23: =+F23*G23 -> 74700
A24: Estopa | E24: Un | F24: 4 | G24: 7600 | H24: =+F24*G24 -> 30400
A25: Bon Brill | E25: Un | F25: 2 | G25: 3500 | H25: =+F25*G25 -> 7000
A26: SUBTOTAL MATERIALES | H26: =SUM(H19:H25) -> 235940
A28: III. TRANSPORTES | E28: UNIDAD | F28: CANTIDAD | G28: VR PARCIAL | H28: VR TOTAL
A29: Transporte camioneta | E29: VJ | F29: 0.1 | G29: 125000 | H29: =+F29*G29 -> 12500
A30: SUBTOTAL TRANSPORTES | H30: =SUM(H29:H29) -> 12500
A32: IV. MANO DE OBRA | E32: UNIDAD | F32: CANTIDAD | G32: VR PARCIAL | H32: VR TOTAL
A33: Mano de obra básica | E33: HC | F33: 4 | G33: 29100 | H33: =+F33*G33 -> 116400
A34: SUBTOTAL MANO DE OBRA | H34: =SUM(H33:H33) -> 116400
A36: VALOR TOTAL | H36: =+H16+H26+H30+H34 -> 374340
