Workbook
Name \a: #REF!
Name \a: #REF!
Name \a: #REF!
Name \a: #REF!
Name \s: #REF!
Name \s: #REF!
Name \s: #REF!
Name \s: #REF!
Name \X: [0]!ERR
Name \Z: [0]!ERR
Name _________AFC1: [1]INV!$A$25:$D$28
Name _________AFC3: [1]INV!$F$25:$I$28
Name _________AFC5: [1]INV!$K$25:$N$28
Name _________BGC1: [1]INV!$A$5:$D$8
Name _________BGC3: [1]INV!$F$5:$I$8
Name _________BGC5: [1]INV!$K$5:$N$8
Name _________CAC1: [1]INV!$A$19:$D$22
Name _________CAC3: [1]INV!$F$19:$I$22
Name _________CAC5: [1]INV!$K$19:$N$22
Name _________PJ50: #REF!
Name _________PJ50: #REF!
Name _________PJ50: #REF!
Name _________PJ50: #REF!
Name _________SBC1: [1]INV!$A$12:$D$15
Name _________SBC3: [1]INV!$F$12:$I$15
Name _________SBC5: [1]INV!$K$12:$N$15
Name ________AFC1: [1]INV!$A$25:$D$28
Name ________AFC3: [1]INV!$F$25:$I$28
Name ________AFC5: [1]INV!$K$25:$N$28
Name ________BGC1: [1]INV!$A$5:$D$8
Name ________BGC3: [1]INV!$F$5:$I$8
Name ________BGC5: [1]INV!$K$5:$N$8
Name ________CAC1: [1]INV!$A$19:$D$22
Name ________CAC3: [1]INV!$F$19:$I$22
Name ________CAC5: [1]INV!$K$19:$N$22
Name ________MA2: #REF!
Name ________MA2: #REF!
Name ________MA2: #REF!
Name ________MA2: #REF!
Name ________PJ50: #REF!
Name ________PJ50: #REF!
Name ________PJ50: #REF!
Name ________PJ50: #REF!
Name ________SBC1: [1]INV!$A$12:$D$15
Name ________SBC3: [1]INV!$F$12:$I$15
Name ________SBC5: [1]INV!$K$12:$N$15
Name _______AFC1: [1]INV!$A$25:$D$28
Name _______AFC3: [1]INV!$F$25:$I$28
Name _______AFC5: [1]INV!$K$25:$N$28
Name _______BGC1: [1]INV!$A$5:$D$8
Name _______BGC3: [1]INV!$F$5:$I$8
Name _______BGC5: [1]INV!$K$5:$N$8
Name _______CAC1: [1]INV!$A$19:$D$22
Name _______CAC3: [1]INV!$F$19:$I$22
Name _______CAC5: [1]INV!$K$19:$N$22
Name _______MA2: #REF!
Name _______MA2: #REF!
Name _______MA2: #REF!
Name _______MA2: #REF!
Name _______PJ50: #REF!

Sheet DATOS INICIALES 
B1: MINISTERIO DE TRANSPORTE | J1: CÓDIGO | K1: MSE--FR-14
B2: INSTITUTO NACIONAL DE VIAS
B3: DIRECCION OPERATIVA | J3: VERSIÓN | K3: 2
B4: PROCESO SUPERVISION, EJECUCION Y SEGUIMIENTO A PROYECTOS
B5: MANUAL DE INTERVENTORÍA OBRA PUBLICA | J5: PÁGINA | K5: 1 | L5: DE | M5: 1
B7: ANALISIS DE PRECIOS UNITARIOS
J9: FECHA | K9: DD | L9: MM | M9: AA
K10: XXX | L10: XXX | M10: XXX
A11: UNIDAD EJECUTORA: | C11: XXXXXXXXXX | H11: DIRECCIÓN TERRITORIAL: | I11: XXXXXXXXXX
A17: CONTRATO No. | C17: XXXXXXXXXX | F17: DE | G17: XXXXXXXXXX
A18: OBJETO DEL CONTRATO | C18: XXXXXXXXXXXXXXXXXXXXXXXXXXXXXXXXXXXXXX
A21: CONTRATISTA : | C21: XXXXXXXXXX
A23: INTERVENTOR | C23: XXXXXXXXXX
A25: GESTOR TECNICO DE CONTRATO | D25: XXXXXXXXXX
A27: FECHA CIERRE DE LICITACIÓN Y/O SELECCIÓN ABREVIADA | F27: XXXXXXXXXX
A31: PROVISION PARA AJUSTES, OBRAS COMPLEMENTARIAS Y/O ADICIONALES | E31: 0
A32: AJUSTE ESTUDIOS Y DISEÑOS | E32: 0
A33: GESTION SOCIAL Y PREDIAL (Incluye IVA 16%) | E33: 0 | I33: 1
A34: GESTION AMBIENTAL (Incluye PAGA e IVA 16%) | E34: 0

Sheet PRESUPUESTO OFICIAL
C3: INSTITUTO NACIONAL DE VIAS
C4: DIRECCION OPERATIVA
C5: SELECCIÓN ABREVIADA DE MENOR CUANTIA SA-MC-DT-CAL-009-2019
C6: CONSTRUCCION OBRAS DE SEÑALIZACION PARA LA SEGURIDAD VIAL EN VIAS A CARGO DEL INVIAS EN JURISDICCION DE LA DIRECCIÓN TERRITORIAL CALDAS. (VIAS CON DISPOSITIVOS CONTROL Y SEÑALIZACION- SISTEMA CONTENCION VEHICULARCOMPLEMENTARIAS-ZONAS ESCOLARES)
C8: PRESUPUESTO OFICIAL
C12: Nº | D12: ITEM DE PAGO | E12: ESPECIFICACIONES | G12: DESCRIPCION | H12: UND. | I12: CANTIDAD | J12: VALOR UNITARIO | K12: VALOR TOTAL
E13: GENERAL | F13: PARTICULAR
C14: SEÑALIZACIÓN VIAL
C15: 1 | D15: SV-02 | G15: SUMINISTRO E INSTALACIÓN DE SEÑAL VERTICAL SP, SR Y SI 75 CM X 75 CM | H15: UNIDAD | I15: 54 | J15: =+'SV-02'!N92 -> 381134 | K15: =I15*J15 -> 20581236
C16: 2 | D16: SV-07 | G16: MARCAS VIALES CON PINTURA EN FRIO ACRÍLICA PURA BASE AGUA | H16: M2 | I16: 1958 | J16: =+'SV-07'!N91 -> 24376 | K16: =I16*J16 -> 47728208
C17: 3 | D17: SV-12 | G17: LÍNEA DEMARCACION EN PINTURA ACRILICA CON MICROESFERAS | H17: M | I17: 15000 | J17: =+'SV-12'!N92 -> 2081 | K17: =I17*J17 -> 31215000
C18: 4 | D18: SV-19 | G18: SUMINISTRO E INSTALACIÓN DE SEÑAL VERTICAL SP-47B | H18: UNIDAD | I18: 12 | J18: =+'SV-19'!N97 -> 413244 | K18: =I18*J18 -> 4958928
C19: 5 | D19: SV-20 | G19: SUMINISTRO E INSTALACIÓN DE SEÑAL VERTICAL SP-47 | H19: UNIDAD | I19: 12 | J19: =+'SV-20'!N96 -> 407053 | K19: =I19*J19 -> 4884636
C24: Subtotal | K24: =ROUND(SUM(K15:K23),0) -> 109368008
G26: PROVISION PARA AJUSTES, OBRAS COMPLEMENTARIAS Y/O ADICIONALES | K26: ='DATOS INICIALES '!E31 -> 0
G27: VALOR BASICO DEL CONTRATO INCLUYE OBRAS COMPLEMENTARIAS Y AJUSTES | K27: =+K24 -> 109368008
G28: VALOR IVA (OBRA) (19% SOBRE UTILIDAD OBRA ) | K28: =ROUND((K27/(1+K42))*K41*0.19,0) -> 799228
G29: SUBTOTAL OBRAS (INCLUYE IVA) | K29: =K27+K28 -> 110167236
G30: REVISION Y/O COMPLEMENTACION Y/O AJUSTE DE ESTUDIOS Y DISEÑOS | K30: =+'DATOS INICIALES '!E32 -> 0
G31: IVA AJUSTE ESTUDIOS Y DISEÑOS | K31: =ROUND(0.16*K30,0) -> 0
G32: TOTAL ESTUDIOS Y DISEÑOS, REVISION Y AJUSTE DE ESTUDIOS Y DISEÑOS EXISTENTES | K32: =K30+K31 -> 0
G33: GESTION SOCIAL Y PREDIAL (Incluye IVA 16%) | K33: =+'DATOS INICIALES '!E33 -> 0
G34: GESTION AMBIENTAL (Incluye PAGA e IVA 16%) | K34: =+'DATOS INICIALES '!E34 -> 0
G35: VALOR TOTAL | K35: =K29+K32+K33+K34 -> 110167236 | N35: 110175000 | O35: =+N35-K35 -> 7764
C37: VALOR TOTAL EN LETRAS:
C38: NOTA 1: Teniendo en cuenta el Manual de Señalización Vial - Dispositivos para la Regulación del Tránsito en Calles, Carreteras y Ciclorrutas de Colombia, adoptado mediante Resolución No. 001050 del 5 de mayo de 2004 del Ministerio de Transporte, se aclara que el aparte de SEÑALIZACIÓN se debe ajustar a todo su contenido, esta señalización debe colocarse desde la órden de iniciación del contrato. | H38: DESCRIPCION | K38: PORCENTAJE
C39: NOTA 2: El control de tráfico temporal y la señalización provisional necesarios para la ejecución de las obras será por cuenta y riesgo del contratista. | H39: ADMINISTRACION | J39: A= | K39: 0.2
C40: NOTA 3: Se debe tener en cuenta que el PRECIO UNITARIO incluye el valor de A.I.U. | H40: IMPREVISTO | J40: I= | K40: 0.05
C41: NOTA 4: Si el valor del A.I.U. presentado es menor al NOVENTA por ciento (90%) o mayor al Ciento diez por ciento (110%) del Valor Oficial del Porcentaje de A.I.U., establecido en el formulario No 1 "presupuesto oficial", la propuesta será rechazada | H41: UTILIDAD (NO MODIFICAR) | J41: U= | K41: 0.05
C42: NOTA 5: Cuando la fracción decimal del peso sea igual o superior a 5 se aproximara por exceso al número entero siguiente del peso y cuando la fracción decimal del peso sea inferior a 5 se aproximará por defecto al número entero del peso. | H42: TOTAL A.I.U | J42: A.I.U.= | K42: =SUM(K39:K41) -> 0.3
C43: NOTA 6: El A.I.U y su discriminación deben estar en porcentaje (%).
C44: NOTA 7: El reconocimiento económico de los requerimientos ambientales exigidos por las autoridades ambientales, y/o sociales que son de obligatorio cumplimiento, serán reconocidos a cargo de reembolso de gastos (afectados por un % de administracion).

Sheet Materiales
B2: =+'DATOS INICIALES '!C18 -> XXXXXXXXXXXXXXXXXXXXXXXXXXXXXXXXXXXXXX
A3: CODIGO | B3: MATERIALES | C3: UNIDAD | D3: COSTO
A4: SV-1001 | B4: Acero Canastilla | C4: KG | D4: 4160
A5: SV-1002 | B5: Acero PDR-60 | C5: KG | D5: 3330
A6: SV-1003 | B6: ACPM | C6: gl | D6: 8330
A7: SV-1004 | B7: Aditivo acelerante | C7: kg | D7: 7760
A8: SV-1005 | B8: Agregado para concreto hidraulico | C8: M³ | D8: 54330
A9: SV-1006 | B9: Agregado petreo para mezclas asfálticas | C9: M³ | D9: 54330
A10: SV-1007 | B10: Agregados seleccionados (tamaño máximo 1") (bandas sonoras reduce velocidad) | C10: M³ | D10: 129150
A11: SV-1008 | B11: Agua | C11: LT | D11: 54
A12: SV-1009 | B12: Alambre de pua calibre 12 (340 m) | C12: ML | D12: 540
A13: SV-1010 | B13: Alambre negro para amarre | C13: KG | D13: 5720
A14: SV-1011 | B14: Antisol | C14: KG | D14: 7700
A15: SV-1012 | B15: Arena lavada | C15: M³ | D15: 61440
... A94: SV-1091 | B94: FORMALETA PARA JUNTAS | C94: M2 | D94: 13430
B144: KG: KILOGRAMO
B145: LB: LIBRA
B146: M²: METRO CUADRADO
B147: M³: METRO CUBICO
B148: ML: METRO LINEAL
B149: LT: LITRO
B150: U: UNIDAD

Sheet Equipo
B2: =+'DATOS INICIALES '!C18 -> XXXXXXXXXXXXXXXXXXXXXXXXXXXXXXXXXXXXXX
A3: CODIGO | B3: EQUIPO | C3: UNIDAD | D3: TARIFA
A4: E-SV-001 | B4: CORTADORA DE LÁMINA | C4: $/HORA | D4: 20339
A5: E-SV-002 | B5: CORTADORA DE ANGULO | C5: $/HORA | D5: 20339
A6: E-SV-003 | B6: EQUIPO DE SOLDADURA | C6: $/HORA | D6: 16271
A7: E-SV-004 | B7: EQUIPO DE PINTURA | C7: $/HORA | D7: 20339
A8: E-SV-005 | B8: EQUIPO DE SERIGRAFÍA | C8: $/HORA | D8: 13574
A9: E-SV-006 | B9: EQUIPO DE LAMINACIÓN | C9: $/HORA | D9: 8003
A10: E-SV-007 | B10: TALADRO | C10: $/HORA | D10: 2715
A11: E-SV-008 | B11: Camioneta D-300 | C11: $/HORA | D11: 39346
A12: E-SV-009 | B12: Maquina térmica | C12: $/HORA | D12: 13282
A13: E-SV-010 | B13: Camiontta con Platon | C13: $/HORA | D13: 31870
A14: E-SV-011 | B14: Maquina Manual | C14: $/HORA | D14: 17706
A15: E-SV-012 | B15: Vehiculo delineador, capacidad de 120 galones, tanque para microesfera de 1200 lb. | C15: $/HORA | D15: 105610
... A17: E-SV-014 | B17: EQUIPO MANUAL PARA PINTURA TERMOPLASTICA INCLUYE CALDERA | C17: $/HORA | D17: 53606
A18: E-SV-015 | C18: $/HORA
A19: E-SV-016 | C19: $/HORA
A20: E-SV-017 | C20: $/HORA
A21: E-SV-018 | C21: $/HORA
A22: E-SV-019 | B22: Cargador 920 o equivalente | C22: $/HORA
A23: E-SV-020 | B23: Cargador Frontal 966H | C23: $/HORA
A24: E-SV-021 | B24: Carrotanque de agua 10000 Litros | C24: $/HORA
A25: E-SV-022 | B25: Carrotanque Irrigador de asfalto | C25: $/HORA
A26: E-SV-023 | B26: Central de fabricación de la mezcla (Concreto) | C26: $/HORA
A27: E-SV-024 | B27: Cizalla | C27: $/HORA
A28: E-SV-025 | B28: Compactador manual (RANA) | C28: $/HORA
A29: E-SV-026 | B29: Compactador neumatico | C29: $/HORA
A30: E-SV-027 | B30: Compresor 125 pies 3 con martillo | C30: $/HORA
A31: E-SV-028 | B31: Compresor (barrido y soplado) | C31: $/HORA
A32: E-SV-029 | B32: Compresor 125 pies3 con martillo o superior | C32: $/HORA
A33: E-SV-030 | B33: Compresor 175 CFM o superior | C33: $/HORA
... A64: E-SV-061 | B64: Plana de Asfalto CM | C64: $/HORA
A65: E-SV-062 | B65: Planta eléctrica 25 kw | C65: $/HORA | D65: 13324
A66: E-SV-063 | B66: Pluma de 500 Kg motor a gasolina (Incluye combustible | C66: $/HORA
A67: E-SV-064 | B67: Pulidora | C67: $/HORA
A68: E-SV-065 | B68: Regla vibratoria L=3m | C68: $/HORA
A69: E-SV-066 | B69: Retroexcavadora 120 HP | C69: $/HORA
A70: E-SV-067 | B70: Soplete gas propano | C70: $/HORA
A71: E-SV-068 | B71: Taladro (broca de Tugsteno 1 1/8") | C71: $/HORA
A72: E-SV-069 | B72: Tarifa de transporte | C72: M³-KM
...

Sheet Mano de Obra
B2: =+'DATOS INICIALES '!C18 -> XXXXXXXXXXXXXXXXXXXXXXXXXXXXXXXXXXXXXX
A3: CODIGO | B3: CARGO | C3: JORNAL | D3: PRESTACIONES | E3: TARIFA
A4: MO-SV-001 | B4: CORTADOR | C4: 72000 | D4: 1.85 | E4: =+C4*D4 -> 133200
A5: MO-SV-002 | B5: SOLDADOR | C5: 88000 | D5: 1.85 | E5: =+C5*D5 -> 162800
A6: MO-SV-003 | B6: PINTOR | C6: 72000 | D6: 1.85 | E6: =+C6*D6 -> 133200
A7: MO-SV-004 | B7: LAMINADOR | C7: 72000 | D7: 1.85 | E7: =+C7*D7 -> 133200
A8: MO-SV-005 | B8: SERIGRAFISTA | C8: 72000 | D8: 1.85 | E8: =+C8*D8 -> 133200
A9: MO-SV-006 | B9: AYUDANTE | C9: 28000 | D9: 1.85 | E9: =+C9*D9 -> 51800
A10: MO-SV-007 | B10: CUADRILLA DE INSTALÑACIÓN (3) | C10: 83000 | D10: 1.85 | E10: =+C10*D10 -> 153550
A11: MO-SV-008 | B11: OFICIAL | C11: 48000 | D11: 1.85 | E11: =+C11*D11 -> 88800
A12: MO-SV-009 | B12: INSPECTOR DE OBRA | C12: 64000 | D12: 1.85 | E12: =+C12*D12 -> 118400
A13: MO-SV-010 | B13: INGENIERO RESIDENTE | C13: 131631.37 | D13: 1.85 | E13: =+C13*D13 -> 243518.03
A14: MO-SV-011 | B14: INGENIERO ESPECIALISTA | C14: 157957.64 | D14: 1.85 | E14: =+C14*D14 -> 292221.64
A15: MO-SV-012 | B15: OPERADOR DE EQUIPO | C15: 72000 | D15: 1.85 | E15: =+C15*D15 -> 133200
A16: MO-SV-013 | B16: OPERADOR DE CALDERA | C16: 72000 | D16: 1.85 | E16: =+C16*D16 -> 133200
E17: =+C17*D17 -> 0
E18: =+C18*D18 -> 0
E19: =+C19*D19 -> 0
E20: =+C20*D20 -> 0
E21: =+C21*D21 -> 0
E22: =+C22*D22 -> 0
E23: =+C23*D23 -> 0
B93: $/HORA: PESOS M/C POR CADA HORA DE TRABAJO
B94: M³-KM: COSTO DE TRANSPORTE DE CADA METRO CUBICO POR CADA KILOMETRO
B95: KG-KM: COSTO DE TRANSPORTE DE CADA KILOGRAMO POR CADA KILOMETRO

Sheet SV-01
C2: MINISTERIO DE TRANSPORTE | K2: CÓDIGO | L2: MSE--FR-14
C3: INSTITUTO NACIONAL DE VIAS
C4: DIRECCION OPERATIVA | K4: VERSIÓN | L4: 2
C5: PROCESO SUPERVISION, EJECUCION Y SEGUIMIENTO A PROYECTOS
C6: =+'DATOS INICIALES '!B5 -> MANUAL DE INTERVENTORÍA OBRA PUBLICA | K6: PÁGINA | L6: 1 | M6: DE | N6: 1
C8: ANALISIS DE PRECIOS UNITARIOS
K10: FECHA | L10: DD | M10: MM | N10: AA
L11: =+'DATOS INICIALES '!K10 -> XXX | M11: =+'DATOS INICIALES '!L10 -> XXX | N11: =+'DATOS INICIALES '!M10 -> XXX
B12: UNIDAD EJECUTORA: | D12: =+'DATOS INICIALES '!C11 -> XXXXXXXXXX | I12: DIRECCIÓN TERRITORIAL: | J12: =+'DATOS INICIALES '!I11 -> XXXXXXXXXX
B18: CONTRATO No. | D18: =+'DATOS INICIALES '!C17 -> XXXXXXXXXX | G18: DE | H18: =+'DATOS INICIALES '!G17 -> XXXXXXXXXX
B19: OBJETO DEL CONTRATO | D19: =+'DATOS INICIALES '!C18 -> XXXXXXXXXXXXXXXXXXXXXXXXXXXXXXXXXXXXXX
B22: CONTRATISTA : | D22: =+'DATOS INICIALES '!C21 -> XXXXXXXXXX
B24: INTERVENTOR | D24: =+'DATOS INICIALES '!C23 -> XXXXXXXXXX
B26: GESTOR TECNICO DE CONTRATO | E26: =+'DATOS INICIALES '!D25 -> XXXXXXXXXX
B28: FECHA CIERRE DE LICITACIÓN Y/O SELECCIÓN ABREVIADA | G28: =+'DATOS INICIALES '!F27 -> XXXXXXXXXX
B30: DATOS ESPECÍFICOS
B32: ITEM | C32: DESCRIPCIÓN | L32: UNIDAD | N32: CANTIDAD
B33: =+'PRESUPUESTO OFICIAL'!#REF! -> #REF! | C33: =+'PRESUPUESTO OFICIAL'!#REF! -> #REF! | L33: =+'PRESUPUESTO OFICIAL'!#REF! -> #REF! | N33: =+'PRESUPUESTO OFICIAL'!#REF! -> #REF!
B34: I. EQUIPO
B37: DESCRIPCIÓN | I37: TIPO | K37: TARIFA/HORA | L37: RENDIMIENTO | N37: Vr. UNITARIO
A38: E-SV-001 | B38: =VLOOKUP(A38,Equipo!$A$4:$D$79,2,0) -> CORTADORA DE LÁMINA | K38: =VLOOKUP(A38,Equipo!$A$4:$D$79,4,0) -> 20339 | L38: 3 | N38: =+K38/L38 -> 6779.6667
A39: E-SV-002 | B39: =VLOOKUP(A39,Equipo!$A$4:$D$79,2,0) -> CORTADORA DE ANGULO | K39: =VLOOKUP(A39,Equipo!$A$4:$D$79,4,0) -> 20339 | L39: 3 | N39: =+K39/L39 -> 6779.6667
A40: E-SV-003 | B40: =VLOOKUP(A40,Equipo!$A$4:$D$79,2,0) -> EQUIPO DE SOLDADURA | K40: =VLOOKUP(A40,Equipo!$A$4:$D$79,4,0) -> 16271 | L40: 3 | N40: =+K40/L40 -> 5423.6667
A41: E-SV-004 | B41: =VLOOKUP(A41,Equipo!$A$4:$D$79,2,0) -> EQUIPO DE PINTURA | K41: =VLOOKUP(A41,Equipo!$A$4:$D$79,4,0) -> 20339 | L41: 3 | N41: =+K41/L41 -> 6779.6667
A42: E-SV-005 | B42: =VLOOKUP(A42,Equipo!$A$4:$D$79,2,0) -> EQUIPO DE SERIGRAFÍA | K42: =VLOOKUP(A42,Equipo!$A$4:$D$79,4,0) -> 13574 | L42: 2 | N42: =+K42/L42 -> 6787
A43: E-SV-006 | B43: =VLOOKUP(A43,Equipo!$A$4:$D$79,2,0) -> EQUIPO DE LAMINACIÓN | K43: =VLOOKUP(A43,Equipo!$A$4:$D$79,4,0) -> 8003 | L43: 2 | N43: =+K43/L43 -> 4001.5
A44: E-SV-007 | B44: =VLOOKUP(A44,Equipo!$A$4:$D$79,2,0) -> TALADRO | K44: =VLOOKUP(A44,Equipo!$A$4:$D$79,4,0) -> 2715 | L44: 3 | N44: =+K44/L44 -> 905
A45: E-SV-077 | B45: =VLOOKUP(A45,Equipo!$A$4:$D$80,2,0) -> HERRAMIENTA MENOR | N45: 2790.67
B46: SUBTOTAL $ | N46: =SUM(N38:N45) -> 40246.837
B47: II. MATERIALES
B50: DESCRIPCIÓN | J50: UNIDAD | K50: CANTIDAD | L50: PRECIO UNIT. | N50: Vr. UNITARIO
A51: SV-1063 | B51: =VLOOKUP(A51,Materiales!$A$4:$D$141,2,0) -> LAMINA GALV. CALIBRE 16 | J51: =VLOOKUP(A51,Materiales!$A$4:$D$141,3,0) -> M2 | K51: 0.396 | L51: =VLOOKUP(A51,Materiales!$A$4:$D$141,4,0) -> 49580 | N51: =+K51*L51 -> 19633.68 | O51: =0.6*0.6 -> 0.36 | P51: =+O51*1.05 -> 0.378
A52: SV-1064 | B52: =VLOOKUP(A52,Materiales!$A$4:$D$141,2,0) -> PAPEL REFLECTIVO TIPO III | J52: =VLOOKUP(A52,Materiales!$A$4:$D$141,3,0) -> M2 | K52: 0.378 | L52: =VLOOKUP(A52,Materiales!$A$4:$D$141,4,0) -> 48400 | N52: =+K52*L52 -> 18295.2 | O52: =0.75*0.75 -> 0.5625 | P52: =+O52*1.03 -> 0.579375
A53: SV-1065 | B53: =VLOOKUP(A53,Materiales!$A$4:$D$141,2,0) -> ANGULO DE 2" X 1/4" | J53: =VLOOKUP(A53,Materiales!$A$4:$D$141,3,0) -> ML | K53: 3.2 | L53: =VLOOKUP(A53,Materiales!$A$4:$D$141,4,0) -> 17710 | N53: =+K53*L53 -> 56672 | O53: =0.6+1.8+0.8 -> 3.2
A54: SV-1066 | B54: =VLOOKUP(A54,Materiales!$A$4:$D$141,2,0) -> ANGULO DE 2" X 1/8" | J54: =VLOOKUP(A54,Materiales!$A$4:$D$141,3,0) -> ML | K54: 1.2 | L54: =VLOOKUP(A54,Materiales!$A$4:$D$141,4,0) -> 9810 | N54: =+K54*L54 -> 11772 | O54: =0.6*2 -> 1.2
A55: SV-1067 | B55: =VLOOKUP(A55,Materiales!$A$4:$D$141,2,0) -> TORNILLOS Y REMACHES | J55: =VLOOKUP(A55,Materiales!$A$4:$D$141,3,0) -> UND. | K55: 4 | L55: =VLOOKUP(A55,Materiales!$A$4:$D$141,4,0) -> 1004 | N55: =+K55*L55 -> 4016
A56: SV-1068 | B56: =VLOOKUP(A56,Materiales!$A$4:$D$141,2,0) -> PINTURA EN POLVO | J56: =VLOOKUP(A56,Materiales!$A$4:$D$141,3,0) -> GALON | K56: 0.05 | L56: =VLOOKUP(A56,Materiales!$A$4:$D$141,4,0) -> 170330 | N56: =+K56*L56 -> 8516.5
A57: SV-1069 | B57: =VLOOKUP(A57,Materiales!$A$4:$D$141,2,0) -> PINTURA ESMALTE | J57: =VLOOKUP(A57,Materiales!$A$4:$D$141,3,0) -> GALON | K57: 0.06 | L57: =VLOOKUP(A57,Materiales!$A$4:$D$141,4,0) -> 59020 | N57: =+K57*L57 -> 3541.2
A58: SV-1070 | B58: =VLOOKUP(A58,Materiales!$A$4:$D$141,2,0) -> SOLDADURA | J58: =VLOOKUP(A58,Materiales!$A$4:$D$141,3,0) -> KG | K58: 0.25 | L58: =VLOOKUP(A58,Materiales!$A$4:$D$141,4,0) -> 7210 | N58: =+K58*L58 -> 1802.5
A59: SV-1071 | B59: =VLOOKUP(A59,Materiales!$A$4:$D$141,2,0) -> CONCRETO CLASE E | J59: =VLOOKUP(A59,Materiales!$A$4:$D$141,3,0) -> M3 | K59: 0.05 | L59: =VLOOKUP(A59,Materiales!$A$4:$D$141,4,0) -> 463800 | N59: =+K59*L59 -> 23190
...

Sheet SV-02
C2: MINISTERIO DE TRANSPORTE | K2: CÓDIGO | L2: MSE--FR-14
C3: INSTITUTO NACIONAL DE VIAS
C4: DIRECCION OPERATIVA | K4: VERSIÓN | L4: 2
C5: PROCESO SUPERVISION, EJECUCION Y SEGUIMIENTO A PROYECTOS
C6: =+'DATOS INICIALES '!B5 -> MANUAL DE INTERVENTORÍA OBRA PUBLICA | K6: PÁGINA | L6: 1 | M6: DE | N6: 1
C8: ANALISIS DE PRECIOS UNITARIOS
K10: FECHA | L10: DD | M10: MM | N10: AA
L11: =+'DATOS INICIALES '!K10 -> XXX | M11: =+'DATOS INICIALES '!L10 -> XXX | N11: =+'DATOS INICIALES '!M10 -> XXX
B12: UNIDAD EJECUTORA: | D12: =+'DATOS INICIALES '!C11 -> XXXXXXXXXX | I12: DIRECCIÓN TERRITORIAL: | J12: =+'DATOS INICIALES '!I11 -> XXXXXXXXXX
B18: CONTRATO No. | D18: =+'DATOS INICIALES '!C17 -> XXXXXXXXXX | G18: DE | H18: =+'DATOS INICIALES '!G17 -> XXXXXXXXXX
B19: OBJETO DEL CONTRATO | D19: =+'DATOS INICIALES '!C18 -> XXXXXXXXXXXXXXXXXXXXXXXXXXXXXXXXXXXXXX
B22: CONTRATISTA : | D22: =+'DATOS INICIALES '!C21 -> XXXXXXXXXX
B24: INTERVENTOR | D24: =+'DATOS INICIALES '!C23 -> XXXXXXXXXX
B26: GESTOR TECNICO DE CONTRATO | E26: =+'DATOS INICIALES '!D25 -> XXXXXXXXXX
B28: FECHA CIERRE DE LICITACIÓN Y/O SELECCIÓN ABREVIADA | G28: =+'DATOS INICIALES '!F27 -> XXXXXXXXXX
B30: DATOS ESPECÍFICOS
B32: ITEM | C32: DESCRIPCIÓN | L32: UNIDAD | N32: CANTIDAD
B33: ='PRESUPUESTO OFICIAL'!D15 -> SV-02 | C33: ='PRESUPUESTO OFICIAL'!G15 -> SUMINISTRO E INSTALACIÓN DE SEÑAL VERTICAL SP, SR Y SI 75 CM X 75 CM | L33: ='PRESUPUESTO OFICIAL'!H15 -> UNIDAD | N33: ='PRESUPUESTO OFICIAL'!I15 -> 54
B34: I. EQUIPO
B37: DESCRIPCIÓN | I37: TIPO | K37: TARIFA/HORA | L37: RENDIMIENTO | N37: Vr. UNITARIO
A38: E-SV-001 | B38: =VLOOKUP(A38,Equipo!$A$4:$D$80,2,0) -> CORTADORA DE LÁMINA | K38: =VLOOKUP(A38,Equipo!$A$4:$D$80,4,0) -> 20339 | L38: 4 | N38: =+K38/L38 -> 5084.75
A39: E-SV-002 | B39: =VLOOKUP(A39,Equipo!$A$4:$D$80,2,0) -> CORTADORA DE ANGULO | K39: =VLOOKUP(A39,Equipo!$A$4:$D$80,4,0) -> 20339 | L39: 4 | N39: =+K39/L39 -> 5084.75
A40: E-SV-003 | B40: =VLOOKUP(A40,Equipo!$A$4:$D$80,2,0) -> EQUIPO DE SOLDADURA | K40: =VLOOKUP(A40,Equipo!$A$4:$D$80,4,0) -> 16271 | L40: 4 | N40: =+K40/L40 -> 4067.75
A41: E-SV-004 | B41: =VLOOKUP(A41,Equipo!$A$4:$D$80,2,0) -> EQUIPO DE PINTURA | K41: =VLOOKUP(A41,Equipo!$A$4:$D$80,4,0) -> 20339 | L41: 4 | N41: =+K41/L41 -> 5084.75
A42: E-SV-005 | B42: =VLOOKUP(A42,Equipo!$A$4:$D$80,2,0) -> EQUIPO DE SERIGRAFÍA | K42: =VLOOKUP(A42,Equipo!$A$4:$D$80,4,0) -> 13574 | L42: 3 | N42: =+K42/L42 -> 4524.6667
A43: E-SV-006 | B43: =VLOOKUP(A43,Equipo!$A$4:$D$80,2,0) -> EQUIPO DE LAMINACIÓN | K43: =VLOOKUP(A43,Equipo!$A$4:$D$80,4,0) -> 8003 | L43: 3 | N43: =+K43/L43 -> 2667.6667
A44: E-SV-007 | B44: =VLOOKUP(A44,Equipo!$A$4:$D$80,2,0) -> TALADRO | K44: =VLOOKUP(A44,Equipo!$A$4:$D$80,4,0) -> 2715 | L44: 4 | N44: =+K44/L44 -> 678.75
A45: E-SV-008 | B45: =VLOOKUP(A45,Equipo!$A$4:$D$80,2,0) -> Camioneta D-300 | K45: =VLOOKUP(A45,Equipo!$A$4:$D$80,4,0) -> 39346 | L45: 4 | N45: =+K45/L45 -> 9836.5
N46: =SUM(N38:N45) -> 37029.583
B47: II. MATERIALES
B50: DESCRIPCIÓN | J50: UNIDAD | K50: CANTIDAD | L50: PRECIO UNIT. | N50: Vr. UNITARIO
A51: SV-1063 | B51: =VLOOKUP(A51,Materiales!$A$4:$D$141,2,0) -> LAMINA GALV. CALIBRE 16 | J51: =VLOOKUP(A51,Materiales!$A$4:$D$141,3,0) -> M2 | K51: 0.63046 | L51: =VLOOKUP(A51,Materiales!A4:D141,4,0) -> 49580 | N51: =+K51*L51 -> 31258.207 | Q51: =0.75*0.75 -> 0.5625
A52: SV-1064 | B52: =VLOOKUP(A52,Materiales!$A$4:$D$141,2,0) -> PAPEL REFLECTIVO TIPO III | J52: Rollo | K52: 0.017 | L52: 3522400 | N52: =+K52*L52 -> 59880.8
A53: SV-1065 | B53: =VLOOKUP(A53,Materiales!$A$4:$D$141,2,0) -> ANGULO DE 2" X 1/4" | J53: =VLOOKUP(A53,Materiales!$A$4:$D$141,3,0) -> ML | K53: 3.35 | L53: =VLOOKUP(A53,Materiales!A6:D143,4,0) -> 17710 | N53: =+K53*L53 -> 59328.5 | O53: =0.75+1.8+0.8 -> 3.35
A54: SV-1066 | B54: =VLOOKUP(A54,Materiales!$A$4:$D$141,2,0) -> ANGULO DE 2" X 1/8" | J54: =VLOOKUP(A54,Materiales!$A$4:$D$141,3,0) -> ML | K54: 1.5 | L54: =VLOOKUP(A54,Materiales!A7:D144,4,0) -> 9810 | N54: =+K54*L54 -> 14715
A55: SV-1067 | B55: =VLOOKUP(A55,Materiales!$A$4:$D$141,2,0) -> TORNILLOS Y REMACHES | J55: =VLOOKUP(A55,Materiales!$A$4:$D$141,3,0) -> UND. | K55: 4 | L55: =VLOOKUP(A55,Materiales!A8:D145,4,0) -> 1004 | N55: =+K55*L55 -> 4016
A56: SV-1068 | B56: =VLOOKUP(A56,Materiales!$A$4:$D$141,2,0) -> PINTURA EN POLVO | J56: =VLOOKUP(A56,Materiales!$A$4:$D$141,3,0) -> GALON | K56: 0.05 | L56: =VLOOKUP(A56,Materiales!A9:D146,4,0) -> 170330 | N56: =+K56*L56 -> 8516.5
A57: SV-1069 | B57: =VLOOKUP(A57,Materiales!$A$4:$D$141,2,0) -> PINTURA ESMALTE | J57: =VLOOKUP(A57,Materiales!$A$4:$D$141,3,0) -> GALON | K57: 0.06 | L57: =VLOOKUP(A57,Materiales!A10:D147,4,0) -> 59020 | N57: =+K57*L57 -> 3541.2
A58: SV-1070 | B58: =VLOOKUP(A58,Materiales!$A$4:$D$141,2,0) -> SOLDADURA | J58: =VLOOKUP(A58,Materiales!$A$4:$D$141,3,0) -> KG | K58: 0.25 | L58: =VLOOKUP(A58,Materiales!A11:D148,4,0) -> 7210 | N58: =+K58*L58 -> 1802.5
A59: SV-1071 | B59: =VLOOKUP(A59,Materiales!$A$4:$D$141,2,0) -> CONCRETO CLASE E | J59: =VLOOKUP(A59,Materiales!$A$4:$D$141,3,0) -> M3 | K59: 0.05 | L59: =VLOOKUP(A59,Materiales!A12:D149,4,0) -> 463800 | N59: =+K59*L59 -> 23190
...

Sheet SV-03
C2: MINISTERIO DE TRANSPORTE | K2: CÓDIGO | L2: MSE--FR-14
C3: INSTITUTO NACIONAL DE VIAS
C4: DIRECCION OPERATIVA | K4: VERSIÓN | L4: 2
C5: PROCESO SUPERVISION, EJECUCION Y SEGUIMIENTO A PROYECTOS
C6: =+'DATOS INICIALES '!B5 -> MANUAL DE INTERVENTORÍA OBRA PUBLICA | K6: PÁGINA | L6: 1 | M6: DE | N6: 1
C8: ANALISIS DE PRECIOS UNITARIOS
K10: FECHA | L10: DD | M10: MM | N10: AA
L11: =+'DATOS INICIALES '!K10 -> XXX | M11: =+'DATOS INICIALES '!L10 -> XXX | N11: =+'DATOS INICIALES '!M10 -> XXX
B12: UNIDAD EJECUTORA: | D12: =+'DATOS INICIALES '!C11 -> XXXXXXXXXX | I12: DIRECCIÓN TERRITORIAL: | J12: =+'DATOS INICIALES '!I11 -> XXXXXXXXXX
B18: CONTRATO No. | D18: =+'DATOS INICIALES '!C17 -> XXXXXXXXXX | G18: DE | H18: =+'DATOS INICIALES '!G17 -> XXXXXXXXXX
B19: OBJETO DEL CONTRATO | D19: =+'DATOS INICIALES '!C18 -> XXXXXXXXXXXXXXXXXXXXXXXXXXXXXXXXXXXXXX
B22: CONTRATISTA : | D22: =+'DATOS INICIALES '!C21 -> XXXXXXXXXX
B24: INTERVENTOR | D24: =+'DATOS INICIALES '!C23 -> XXXXXXXXXX
B26: GESTOR TECNICO DE CONTRATO | E26: =+'DATOS INICIALES '!D25 -> XXXXXXXXXX
B28: FECHA CIERRE DE LICITACIÓN Y/O SELECCIÓN ABREVIADA | G28: =+'DATOS INICIALES '!F27 -> XXXXXXXXXX
B30: DATOS ESPECÍFICOS
B32: ITEM | C32: DESCRIPCIÓN | L32: UNIDAD | N32: CANTIDAD
B33: =+'PRESUPUESTO OFICIAL'!#REF! -> #REF! | C33: =+'PRESUPUESTO OFICIAL'!#REF! -> #REF! | L33: =+'PRESUPUESTO OFICIAL'!#REF! -> #REF! | N33: ='PRESUPUESTO OFICIAL'!#REF! -> #REF!
B34: I. EQUIPO
B37: DESCRIPCIÓN | I37: TIPO | K37: TARIFA/HORA | L37: RENDIMIENTO | N37: Vr. UNITARIO
A38: E-SV-001 | B38: =VLOOKUP(A38,Equipo!$A$4:$D$80,2,0) -> CORTADORA DE LÁMINA | K38: =VLOOKUP(A38,Equipo!$A$4:$D$80,4,0) -> 20339 | L38: 4 | N38: =+K38/L38 -> 5084.75
A39: E-SV-002 | B39: =VLOOKUP(A39,Equipo!$A$4:$D$80,2,0) -> CORTADORA DE ANGULO | K39: =VLOOKUP(A39,Equipo!$A$4:$D$80,4,0) -> 20339 | L39: 4 | N39: =+K39/L39 -> 5084.75
A40: E-SV-003 | B40: =VLOOKUP(A40,Equipo!$A$4:$D$80,2,0) -> EQUIPO DE SOLDADURA | K40: =VLOOKUP(A40,Equipo!$A$4:$D$80,4,0) -> 16271 | L40: 4 | N40: =+K40/L40 -> 4067.75
A41: E-SV-004 | B41: =VLOOKUP(A41,Equipo!$A$4:$D$80,2,0) -> EQUIPO DE PINTURA | K41: =VLOOKUP(A41,Equipo!$A$4:$D$80,4,0) -> 20339 | L41: 4 | N41: =+K41/L41 -> 5084.75
A42: E-SV-005 | B42: =VLOOKUP(A42,Equipo!$A$4:$D$80,2,0) -> EQUIPO DE SERIGRAFÍA | K42: =VLOOKUP(A42,Equipo!$A$4:$D$80,4,0) -> 13574 | L42: 3 | N42: =+K42/L42 -> 4524.6667
A43: E-SV-006 | B43: =VLOOKUP(A43,Equipo!$A$4:$D$80,2,0) -> EQUIPO DE LAMINACIÓN | K43: =VLOOKUP(A43,Equipo!$A$4:$D$80,4,0) -> 8003 | L43: 3 | N43: =+K43/L43 -> 2667.6667
A44: E-SV-007 | B44: =VLOOKUP(A44,Equipo!$A$4:$D$80,2,0) -> TALADRO | K44: =VLOOKUP(A44,Equipo!$A$4:$D$80,4,0) -> 2715 | L44: 4 | N44: =+K44/L44 -> 678.75
B46: SUBTOTAL | N46: =SUM(N38:N45) -> 27193.083
B47: II. MATERIALES
B50: DESCRIPCIÓN | J50: UNIDAD | K50: CANTIDAD | L50: PRECIO UNIT. | N50: Vr. UNITARIO
A51: SV-1063 | B51: =VLOOKUP(A51,Materiales!$A$4:$D$141,2,0) -> LAMINA GALV. CALIBRE 16 | J51: =VLOOKUP(A51,Materiales!$A$4:$D$141,3,0) -> M2 | K51: 0.891 | L51: =VLOOKUP(A51,Materiales!$A$4:$D$141,4,0) -> 49580 | N51: =+K51*L51 -> 44175.78 | O51: =0.9*0.9*1.1 -> 0.891
A52: SV-1064 | B52: =VLOOKUP(A52,Materiales!$A$4:$D$141,2,0) -> PAPEL REFLECTIVO TIPO III | J52: =VLOOKUP(A52,Materiales!$A$4:$D$141,3,0) -> M2 | K52: =0.9*0.9*1.02 -> 0.8262 | L52: =VLOOKUP(A52,Materiales!$A$4:$D$141,4,0) -> 48400 | N52: =+K52*L52 -> 39988.08
A53: SV-1065 | B53: =VLOOKUP(A53,Materiales!$A$4:$D$141,2,0) -> ANGULO DE 2" X 1/4" | J53: =VLOOKUP(A53,Materiales!$A$4:$D$141,3,0) -> ML | K53: 3.5 | L53: =VLOOKUP(A53,Materiales!$A$4:$D$141,4,0) -> 17710 | N53: =+K53*L53 -> 61985 | O53: =0.9+1.8+0.8 -> 3.5
A54: SV-1066 | B54: =VLOOKUP(A54,Materiales!$A$4:$D$141,2,0) -> ANGULO DE 2" X 1/8" | J54: =VLOOKUP(A54,Materiales!$A$4:$D$141,3,0) -> ML | K54: 1.8 | L54: =VLOOKUP(A54,Materiales!$A$4:$D$141,4,0) -> 9810 | N54: =+K54*L54 -> 17658 | O54: =0.9*2 -> 1.8
A55: SV-1067 | B55: =VLOOKUP(A55,Materiales!$A$4:$D$141,2,0) -> TORNILLOS Y REMACHES | J55: =VLOOKUP(A55,Materiales!$A$4:$D$141,3,0) -> UND. | K55: 4 | L55: =VLOOKUP(A55,Materiales!$A$4:$D$141,4,0) -> 1004 | N55: =+K55*L55 -> 4016
A56: SV-1068 | B56: =VLOOKUP(A56,Materiales!$A$4:$D$141,2,0) -> PINTURA EN POLVO | J56: =VLOOKUP(A56,Materiales!$A$4:$D$141,3,0) -> GALON | K56: 0.05 | L56: =VLOOKUP(A56,Materiales!$A$4:$D$141,4,0) -> 170330 | N56: =+K56*L56 -> 8516.5
A57: SV-1069 | B57: =VLOOKUP(A57,Materiales!$A$4:$D$141,2,0) -> PINTURA ESMALTE | J57: =VLOOKUP(A57,Materiales!$A$4:$D$141,3,0) -> GALON | K57: 0.06 | L57: =VLOOKUP(A57,Materiales!$A$4:$D$141,4,0) -> 59020 | N57: =+K57*L57 -> 3541.2
A58: SV-1070 | B58: =VLOOKUP(A58,Materiales!$A$4:$D$141,2,0) -> SOLDADURA | J58: =VLOOKUP(A58,Materiales!$A$4:$D$141,3,0) -> KG | K58: 0.25 | L58: =VLOOKUP(A58,Materiales!$A$4:$D$141,4,0) -> 7210 | N58: =+K58*L58 -> 1802.5
A59: SV-1071 | B59: =VLOOKUP(A59,Materiales!$A$4:$D$141,2,0) -> CONCRETO CLASE E | J59: =VLOOKUP(A59,Materiales!$A$4:$D$141,3,0) -> M3 | K59: 0.05 | L59: =VLOOKUP(A59,Materiales!$A$4:$D$141,4,0) -> 463800 | N59: =+K59*L59 -> 23190
B62: SUBTOTAL | N62: =SUM(N51:N61) -> 204873.06
...

Sheet SV-04
C2: MINISTERIO DE TRANSPORTE | K2: CÓDIGO | L2: MSE--FR-14
C3: INSTITUTO NACIONAL DE VIAS
C4: DIRECCION OPERATIVA | K4: VERSIÓN | L4: 2
C5: PROCESO SUPERVISION, EJECUCION Y SEGUIMIENTO A PROYECTOS
C6: =+'DATOS INICIALES '!B5 -> MANUAL DE INTERVENTORÍA OBRA PUBLICA | K6: PÁGINA | L6: 1 | M6: DE | N6: 1
C8: ANALISIS DE PRECIOS UNITARIOS
K10: FECHA | L10: DD | M10: MM | N10: AA
L11: =+'DATOS INICIALES '!K10 -> XXX | M11: =+'DATOS INICIALES '!L10 -> XXX | N11: =+'DATOS INICIALES '!M10 -> XXX
B12: UNIDAD EJECUTORA: | D12: =+'DATOS INICIALES '!C11 -> XXXXXXXXXX | I12: DIRECCIÓN TERRITORIAL: | J12: =+'DATOS INICIALES '!I11 -> XXXXXXXXXX
B18: CONTRATO No. | D18: =+'DATOS INICIALES '!C17 -> XXXXXXXXXX | G18: DE | H18: =+'DATOS INICIALES '!G17 -> XXXXXXXXXX
B19: OBJETO DEL CONTRATO | D19: =+'DATOS INICIALES '!C18 -> XXXXXXXXXXXXXXXXXXXXXXXXXXXXXXXXXXXXXX
B22: CONTRATISTA : | D22: =+'DATOS INICIALES '!C21 -> XXXXXXXXXX
B24: INTERVENTOR | D24: =+'DATOS INICIALES '!C23 -> XXXXXXXXXX
B26: GESTOR TECNICO DE CONTRATO | E26: =+'DATOS INICIALES '!D25 -> XXXXXXXXXX
B28: FECHA CIERRE DE LICITACIÓN Y/O SELECCIÓN ABREVIADA | G28: =+'DATOS INICIALES '!F27 -> XXXXXXXXXX
B30: DATOS ESPECÍFICOS
B32: ITEM | C32: DESCRIPCIÓN | L32: UNIDAD | N32: CANTIDAD
B33: =+'PRESUPUESTO OFICIAL'!#REF! -> #REF! | C33: =+'PRESUPUESTO OFICIAL'!#REF! -> #REF! | L33: =+'PRESUPUESTO OFICIAL'!#REF! -> #REF! | N33: ='PRESUPUESTO OFICIAL'!#REF! -> #REF!
B34: I. EQUIPO
B37: DESCRIPCIÓN | I37: TIPO | K37: TARIFA/HORA | L37: RENDIMIENTO | N37: Vr. UNITARIO
A38: E-SV-001 | B38: =VLOOKUP(A38,Equipo!$A$4:$D$80,2,0) -> CORTADORA DE LÁMINA | K38: =+VLOOKUP(A38,Equipo!$A$4:$D$80,4,0) -> 20339 | L38: 4 | N38: =+K38/L38 -> 5084.75
A39: E-SV-002 | B39: =VLOOKUP(A39,Equipo!$A$4:$D$80,2,0) -> CORTADORA DE ANGULO | K39: =+VLOOKUP(A39,Equipo!$A$4:$D$80,4,0) -> 20339 | L39: 4 | N39: =+K39/L39 -> 5084.75
A40: E-SV-003 | B40: =VLOOKUP(A40,Equipo!$A$4:$D$80,2,0) -> EQUIPO DE SOLDADURA | K40: =+VLOOKUP(A40,Equipo!$A$4:$D$80,4,0) -> 16271 | L40: 4 | N40: =+K40/L40 -> 4067.75
A41: E-SV-004 | B41: =VLOOKUP(A41,Equipo!$A$4:$D$80,2,0) -> EQUIPO DE PINTURA | K41: =+VLOOKUP(A41,Equipo!$A$4:$D$80,4,0) -> 20339 | L41: 4 | N41: =+K41/L41 -> 5084.75
A42: E-SV-005 | B42: =VLOOKUP(A42,Equipo!$A$4:$D$80,2,0) -> EQUIPO DE SERIGRAFÍA | K42: =+VLOOKUP(A42,Equipo!$A$4:$D$80,4,0) -> 13574 | L42: 3 | N42: =+K42/L42 -> 4524.6667
A43: E-SV-006 | B43: =VLOOKUP(A43,Equipo!$A$4:$D$80,2,0) -> EQUIPO DE LAMINACIÓN | K43: =+VLOOKUP(A43,Equipo!$A$4:$D$80,4,0) -> 8003 | L43: 3 | N43: =+K43/L43 -> 2667.6667
A44: E-SV-007 | B44: =VLOOKUP(A44,Equipo!$A$4:$D$80,2,0) -> TALADRO | K44: =+VLOOKUP(A44,Equipo!$A$4:$D$80,4,0) -> 2715 | L44: 4 | N44: =+K44/L44 -> 678.75
B46: SUBTOTAL | N46: =SUM(N38:N45) -> 27193.083
B47: II. MATERIALES
B50: DESCRIPCIÓN | J50: UNIDAD | K50: CANTIDAD | L50: PRECIO UNIT. | N50: Vr. UNITARIO
A51: SV-1063 | B51: =VLOOKUP(A51,Materiales!$A$4:$D$141,2,0) -> LAMINA GALV. CALIBRE 16 | J51: =VLOOKUP(A51,Materiales!$A$4:$D$141,3,0) -> M2 | K51: 1.584 | L51: =VLOOKUP(A51,Materiales!$A$4:$D$141,4,0) -> 49580 | M51: =VLOOKUP(D51,Materiales!$A$4:$D$141,3,0) -> #N/A | N51: =+K51*L51 -> 78534.72 | O51: =1.2*1.2*1.1 -> 1.584
A52: SV-1064 | B52: =VLOOKUP(A52,Materiales!$A$4:$D$141,2,0) -> PAPEL REFLECTIVO TIPO III | J52: =VLOOKUP(A52,Materiales!$A$4:$D$141,3,0) -> M2 | K52: 1.4688 | L52: =VLOOKUP(A52,Materiales!$A$4:$D$141,4,0) -> 48400 | M52: =VLOOKUP(D52,Materiales!$A$4:$D$141,3,0) -> #N/A | N52: =+K52*L52 -> 71089.92 | O52: =1.2*1.2*1.02 -> 1.4688
A53: SV-1065 | B53: =VLOOKUP(A53,Materiales!$A$4:$D$141,2,0) -> ANGULO DE 2" X 1/4" | J53: =VLOOKUP(A53,Materiales!$A$4:$D$141,3,0) -> ML | K53: 3.8 | L53: =VLOOKUP(A53,Materiales!$A$4:$D$141,4,0) -> 17710 | M53: =VLOOKUP(D53,Materiales!$A$4:$D$141,3,0) -> #N/A | N53: =+K53*L53 -> 67298 | O53: =1.2+1.8+0.8 -> 3.8
A54: SV-1066 | B54: =VLOOKUP(A54,Materiales!$A$4:$D$141,2,0) -> ANGULO DE 2" X 1/8" | J54: =VLOOKUP(A54,Materiales!$A$4:$D$141,3,0) -> ML | K54: =1.2*2 -> 2.4 | L54: =VLOOKUP(A54,Materiales!$A$4:$D$141,4,0) -> 9810 | M54: =VLOOKUP(D54,Materiales!$A$4:$D$141,3,0) -> #N/A | N54: =+K54*L54 -> 23544
A55: SV-1067 | B55: =VLOOKUP(A55,Materiales!$A$4:$D$141,2,0) -> TORNILLOS Y REMACHES | J55: =VLOOKUP(A55,Materiales!$A$4:$D$141,3,0) -> UND. | K55: 4 | L55: =VLOOKUP(A55,Materiales!$A$4:$D$141,4,0) -> 1004 | M55: =VLOOKUP(D55,Materiales!$A$4:$D$141,3,0) -> #N/A | N55: =+K55*L55 -> 4016
A56: SV-1068 | B56: =VLOOKUP(A56,Materiales!$A$4:$D$141,2,0) -> PINTURA EN POLVO | J56: =VLOOKUP(A56,Materiales!$A$4:$D$141,3,0) -> GALON | K56: 0.05 | L56: =VLOOKUP(A56,Materiales!$A$4:$D$141,4,0) -> 170330 | M56: =VLOOKUP(D56,Materiales!$A$4:$D$141,3,0) -> #N/A | N56: =+K56*L56 -> 8516.5
A57: SV-1069 | B57: =VLOOKUP(A57,Materiales!$A$4:$D$141,2,0) -> PINTURA ESMALTE | J57: =VLOOKUP(A57,Materiales!$A$4:$D$141,3,0) -> GALON | K57: 0.06 | L57: =VLOOKUP(A57,Materiales!$A$4:$D$141,4,0) -> 59020 | M57: =VLOOKUP(D57,Materiales!$A$4:$D$141,3,0) -> #N/A | N57: =+K57*L57 -> 3541.2
A58: SV-1070 | B58: =VLOOKUP(A58,Materiales!$A$4:$D$141,2,0) -> SOLDADURA | J58: =VLOOKUP(A58,Materiales!$A$4:$D$141,3,0) -> KG | K58: 0.25 | L58: =VLOOKUP(A58,Materiales!$A$4:$D$141,4,0) -> 7210 | M58: =VLOOKUP(D58,Materiales!$A$4:$D$141,3,0) -> #N/A | N58: =+K58*L58 -> 1802.5
A59: SV-1071 | B59: =VLOOKUP(A59,Materiales!$A$4:$D$141,2,0) -> CONCRETO CLASE E | J59: =VLOOKUP(A59,Materiales!$A$4:$D$141,3,0) -> M3 | K59: 0.05 | L59: =VLOOKUP(A59,Materiales!$A$4:$D$141,4,0) -> 463800 | M59: =VLOOKUP(D59,Materiales!$A$4:$D$141,3,0) -> #N/A | N59: =+K59*L59 -> 23190
B60: SUBTOTAL | N60: =SUM(N51:N59) -> 281532.84
...

Sheet SV-05
C2: MINISTERIO DE TRANSPORTE | K2: CÓDIGO | L2: MSE--FR-14
C3: INSTITUTO NACIONAL DE VIAS
C4: DIRECCION OPERATIVA | K4: VERSIÓN | L4: 2
C5: PROCESO SUPERVISION, EJECUCION Y SEGUIMIENTO A PROYECTOS
C6: =+'DATOS INICIALES '!B5 -> MANUAL DE INTERVENTORÍA OBRA PUBLICA | K6: PÁGINA | L6: 1 | M6: DE | N6: 1
C8: ANALISIS DE PRECIOS UNITARIOS
K10: FECHA | L10: DD | M10: MM | N10: AA
L11: =+'DATOS INICIALES '!K10 -> XXX | M11: =+'DATOS INICIALES '!L10 -> XXX | N11: =+'DATOS INICIALES '!M10 -> XXX
B12: UNIDAD EJECUTORA: | D12: =+'DATOS INICIALES '!C11 -> XXXXXXXXXX | I12: DIRECCIÓN TERRITORIAL: | J12: =+'DATOS INICIALES '!I11 -> XXXXXXXXXX
B18: CONTRATO No. | D18: =+'DATOS INICIALES '!C17 -> XXXXXXXXXX | G18: DE | H18: =+'DATOS INICIALES '!G17 -> XXXXXXXXXX
B19: OBJETO DEL CONTRATO | D19: =+'DATOS INICIALES '!C18 -> XXXXXXXXXXXXXXXXXXXXXXXXXXXXXXXXXXXXXX
B22: CONTRATISTA : | D22: =+'DATOS INICIALES '!C21 -> XXXXXXXXXX
B24: INTERVENTOR | D24: =+'DATOS INICIALES '!C23 -> XXXXXXXXXX
B26: GESTOR TECNICO DE CONTRATO | E26: =+'DATOS INICIALES '!D25 -> XXXXXXXXXX
B28: FECHA CIERRE DE LICITACIÓN Y/O SELECCIÓN ABREVIADA | G28: =+'DATOS INICIALES '!F27 -> XXXXXXXXXX
B30: DATOS ESPECÍFICOS
B32: ITEM | C32: DESCRIPCIÓN | L32: UNIDAD | N32: CANTIDAD
B33: =+'PRESUPUESTO OFICIAL'!#REF! -> #REF! | C33: =+'PRESUPUESTO OFICIAL'!#REF! -> #REF! | L33: =+'PRESUPUESTO OFICIAL'!#REF! -> #REF! | N33: ='PRESUPUESTO OFICIAL'!#REF! -> #REF!
B34: I. EQUIPO
B37: DESCRIPCIÓN | I37: TIPO | K37: TARIFA/HORA | L37: RENDIMIENTO | N37: Vr. UNITARIO
A38: E-SV-008 | B38: =VLOOKUP(A38,Equipo!$A$4:$D$80,2,0) -> Camioneta D-300 | K38: =VLOOKUP(A38,Equipo!$A$4:$D$80,4,0) -> 39346 | L38: 100 | N38: =+K38/L38 -> 393.46
A39: E-SV-009 | B39: =VLOOKUP(A39,Equipo!$A$4:$D$80,2,0) -> Maquina térmica | K39: =VLOOKUP(A39,Equipo!$A$4:$D$80,4,0) -> 13282 | L39: 100 | N39: =+K39/L39 -> 132.82
A40: E-SV-077 | B40: =VLOOKUP(A40,Equipo!$A$4:$D$80,2,0) -> HERRAMIENTA MENOR | N40: 3
B42: SUBTOTAL | N42: =SUM(N38:N41) -> 529.28
B43: II. MATERIALES
B46: DESCRIPCIÓN | J46: UNIDAD | K46: CANTIDAD | L46: PRECIO UNIT. | N46: Vr. UNITARIO
A47: SV-1075 | B47: =VLOOKUP(A47,Materiales!$A$4:$D$141,2,0) -> TACHA REFLECTIVA | J47: =VLOOKUP(A47,Materiales!$A$4:$D$141,3,0) -> UND | K47: 1 | L47: =VLOOKUP(A47,Materiales!$A$4:$D$141,4,0) -> 4300 | N47: =+L47*K47 -> 4300
A48: SV-1076 | B48: =VLOOKUP(A48,Materiales!$A$4:$D$141,2,0) -> PEGANTE EPOXICO | J48: =VLOOKUP(A48,Materiales!$A$4:$D$141,3,0) -> KG | K48: 0.04 | L48: =VLOOKUP(A48,Materiales!$A$4:$D$141,4,0) -> 22090 | N48: =+L48*K48 -> 883.6
B52: SUBTOTAL | N52: =SUM(N47:N51) -> 5183.6
B53: III. TRANSPORTES
B56: MATERIAL | I56: VOL. o PESO | J56: DISTANCIA | K56: M3 o Ton/Km | L56: TARIFA | N56: Vr. UNITARIO
N57: =+L57*K57 -> 0
B59: SUBTOTAL | N59: =SUM(N57:N58) -> 0
B60: IV. MANO DE OBRA
B63: TRABAJADOR | H63: CANTIDAD | I63: JORNAL | J63: PRESTACIONES | K63: JORNAL TOTAL | L63: RENDIMIENTO | N63: Vr. UNITARIO
A64: MO-SV-006 | B64: =VLOOKUP(A64,'Mano de Obra'!$A$4:$E$80,2,0) -> AYUDANTE | H64: 2 | I64: =VLOOKUP(A64,'Mano de Obra'!$A$4:$E$80,3,0) -> 28000 | J64: =VLOOKUP(A64,'Mano de Obra'!$A$4:$E$80,4,0) -> 1.85 | K64: =+H64*I64*J64 -> 103600 | L64: 800 | N64: =+K64/L64 -> 129.5
A65: MO-SV-012 | B65: =VLOOKUP(A65,'Mano de Obra'!$A$4:$E$80,2,0) -> OPERADOR DE EQUIPO | H65: 1 | I65: =VLOOKUP(A65,'Mano de Obra'!$A$4:$E$80,3,0) -> 72000 | J65: =VLOOKUP(A65,'Mano de Obra'!$A$4:$E$80,4,0) -> 1.85 | K65: =+H65*I65*J65 -> 133200 | L65: 800 | N65: =+K65/L65 -> 166.5
B70: SUBTOTAL | N70: =SUM(N64:N69) -> 296
B72: TOTAL COSTO DIRECTO | N72: =+N70+N59+N52+N42 -> 6008.88
B73: V. COSTOS INDIRECTOS
...

Sheet SV-06
C2: MINISTERIO DE TRANSPORTE | K2: CÓDIGO | L2: MSE--FR-14
C3: INSTITUTO NACIONAL DE VIAS
C4: DIRECCION OPERATIVA | K4: VERSIÓN | L4: 2
C5: PROCESO SUPERVISION, EJECUCION Y SEGUIMIENTO A PROYECTOS
C6: =+'DATOS INICIALES '!B5 -> MANUAL DE INTERVENTORÍA OBRA PUBLICA | K6: PÁGINA | L6: 1 | M6: DE | N6: 1
C8: ANALISIS DE PRECIOS UNITARIOS
K10: FECHA | L10: DD | M10: MM | N10: AA
L11: =+'DATOS INICIALES '!K10 -> XXX | M11: =+'DATOS INICIALES '!L10 -> XXX | N11: =+'DATOS INICIALES '!M10 -> XXX
B12: UNIDAD EJECUTORA: | D12: =+'DATOS INICIALES '!C11 -> XXXXXXXXXX | I12: DIRECCIÓN TERRITORIAL: | J12: =+'DATOS INICIALES '!I11 -> XXXXXXXXXX
B18: CONTRATO No. | D18: =+'DATOS INICIALES '!C17 -> XXXXXXXXXX | G18: DE | H18: =+'DATOS INICIALES '!G17 -> XXXXXXXXXX
B19: OBJETO DEL CONTRATO | D19: =+'DATOS INICIALES '!C18 -> XXXXXXXXXXXXXXXXXXXXXXXXXXXXXXXXXXXXXX
B22: CONTRATISTA : | D22: =+'DATOS INICIALES '!C21 -> XXXXXXXXXX
B24: INTERVENTOR | D24: =+'DATOS INICIALES '!C23 -> XXXXXXXXXX
B26: GESTOR TECNICO DE CONTRATO | E26: =+'DATOS INICIALES '!D25 -> XXXXXXXXXX
B28: FECHA CIERRE DE LICITACIÓN Y/O SELECCIÓN ABREVIADA | G28: =+'DATOS INICIALES '!F27 -> XXXXXXXXXX
B30: DATOS ESPECÍFICOS
B32: ITEM | C32: DESCRIPCIÓN | L32: UNIDAD | N32: CANTIDAD
B33: =+'PRESUPUESTO OFICIAL'!#REF! -> #REF! | C33: =+'PRESUPUESTO OFICIAL'!#REF! -> #REF! | L33: =+'PRESUPUESTO OFICIAL'!#REF! -> #REF! | N33: ='PRESUPUESTO OFICIAL'!#REF! -> #REF!
B34: I. EQUIPO
B37: DESCRIPCIÓN | I37: TIPO | K37: TARIFA/HORA | L37: RENDIMIENTO | N37: Vr. UNITARIO
A38: E-SV-012 | B38: =VLOOKUP(A38,Equipo!$A$4:$D$80,2,0) -> Vehiculo delineador, capacidad de 120 galones, tanque para microesfera de 1200 lb. | K38: =VLOOKUP(A38,Equipo!$A$4:$D$80,4,0) -> 105610 | L38: 1650 | N38: =+K38/L38 -> 64.006061
A39: E-SV-008 | B39: =VLOOKUP(A39,Equipo!$A$4:$D$80,2,0) -> Camioneta D-300 | K39: =VLOOKUP(A39,Equipo!$A$4:$D$80,4,0) -> 39346 | L39: 1650 | N39: =+K39/L39 -> 23.846061
A40: E-SV-077 | B40: =VLOOKUP(A40,Equipo!$A$4:$D$80,2,0) -> HERRAMIENTA MENOR | N40: 0.35
B46: SUBTOTAL | N46: =SUM(N38:N45) -> 88.202121
B47: II. MATERIALES
B50: DESCRIPCIÓN | J50: UNIDAD | K50: CANTIDAD | L50: PRECIO UNIT. | N50: Vr. UNITARIO
A51: SV-1074 | B51: =VLOOKUP(A51,Materiales!$A$4:$D$141,2,0) -> IMPRIMANTE | J51: =VLOOKUP(A51,Materiales!$A$4:$D$141,3,0) -> GALON | K51: 0.011 | L51: =VLOOKUP(A51,Materiales!$A$4:$D$141,4,0) -> 69120 | N51: =+L51*K51 -> 760.32
B59: SUBTOTAL | N59: =SUM(N51:N58) -> 760.32
B60: III. TRANSPORTES
B63: MATERIAL | I63: VOL. o PESO | J63: DISTANCIA | K63: M3 o Ton/Km | L63: TARIFA | N63: Vr. UNITARIO
N64: =+L64*K64 -> 0
B66: SUBTOTAL | N66: =SUM(N64:N65) -> 0
B67: IV. MANO DE OBRA
B70: TRABAJADOR | H70: CANTIDAD | I70: JORNAL | J70: PRESTACIONES | K70: JORNAL TOTAL | L70: RENDIMIENTO | N70: Vr. UNITARIO
A71: MO-SV-012 | B71: =VLOOKUP(A71,'Mano de Obra'!$A$4:$E$80,2,0) -> OPERADOR DE EQUIPO | H71: 2 | I71: =VLOOKUP(A71,'Mano de Obra'!$A$4:$E$80,3,0) -> 72000 | J71: =VLOOKUP(A71,'Mano de Obra'!$A$4:$E$80,4,0) -> 1.85 | K71: =+H71*I71*J71 -> 266400 | L71: 13200 | N71: =+K71/L71 -> 20.181818
A72: MO-SV-006 | B72: =VLOOKUP(A72,'Mano de Obra'!$A$4:$E$80,2,0) -> AYUDANTE | H72: 6 | I72: =VLOOKUP(A72,'Mano de Obra'!$A$4:$E$80,3,0) -> 28000 | J72: =VLOOKUP(A72,'Mano de Obra'!$A$4:$E$80,4,0) -> 1.85 | K72: =+H72*I72*J72 -> 310800 | L72: 13200 | N72: =+K72/L72 -> 23.545455
B79: SUBTOTAL | N79: =SUM(N71:N78) -> 43.727273
B81: TOTAL COSTO DIRECTO | N81: =+N79+N66+N59+N46 -> 892.24939
B82: V. COSTOS INDIRECTOS
B85: Descripción | K85: Porcentaje | L85: Valor Total
...

Sheet SV-07
C2: MINISTERIO DE TRANSPORTE | K2: CÓDIGO | L2: MSE--FR-14
C3: INSTITUTO NACIONAL DE VIAS
C4: DIRECCION OPERATIVA | K4: VERSIÓN | L4: 2
C5: PROCESO SUPERVISION, EJECUCION Y SEGUIMIENTO A PROYECTOS
C6: =+'DATOS INICIALES '!B5 -> MANUAL DE INTERVENTORÍA OBRA PUBLICA | K6: PÁGINA | L6: 1 | M6: DE | N6: 1
C8: ANALISIS DE PRECIOS UNITARIOS
K10: FECHA | L10: DD | M10: MM | N10: AA
L11: =+'DATOS INICIALES '!K10 -> XXX | M11: =+'DATOS INICIALES '!L10 -> XXX | N11: =+'DATOS INICIALES '!M10 -> XXX
B12: UNIDAD EJECUTORA: | D12: =+'DATOS INICIALES '!C11 -> XXXXXXXXXX | I12: DIRECCIÓN TERRITORIAL: | J12: =+'DATOS INICIALES '!I11 -> XXXXXXXXXX
B18: CONTRATO No. | D18: =+'DATOS INICIALES '!C17 -> XXXXXXXXXX | G18: DE | H18: =+'DATOS INICIALES '!G17 -> XXXXXXXXXX
B19: OBJETO DEL CONTRATO | D19: =+'DATOS INICIALES '!C18 -> XXXXXXXXXXXXXXXXXXXXXXXXXXXXXXXXXXXXXX
B22: CONTRATISTA : | D22: =+'DATOS INICIALES '!C21 -> XXXXXXXXXX
B24: INTERVENTOR | D24: =+'DATOS INICIALES '!C23 -> XXXXXXXXXX
B26: GESTOR TECNICO DE CONTRATO | E26: =+'DATOS INICIALES '!D25 -> XXXXXXXXXX
B28: FECHA CIERRE DE LICITACIÓN Y/O SELECCIÓN ABREVIADA | G28: =+'DATOS INICIALES '!F27 -> XXXXXXXXXX
B30: DATOS ESPECÍFICOS
B32: ITEM | C32: DESCRIPCIÓN | L32: UNIDAD | N32: CANTIDAD
B33: =+'PRESUPUESTO OFICIAL'!D16 -> SV-07 | C33: =+'PRESUPUESTO OFICIAL'!G16 -> MARCAS VIALES CON PINTURA EN FRIO ACRÍLICA PURA BASE AGUA | L33: =+'PRESUPUESTO OFICIAL'!H16 -> M2 | N33: ='PRESUPUESTO OFICIAL'!I16 -> 1958
B34: I. EQUIPO
B37: DESCRIPCIÓN | I37: TIPO | K37: TARIFA/HORA | L37: RENDIMIENTO | N37: Vr. UNITARIO
A38: E-SV-010 | B38: =VLOOKUP(A38,Equipo!$A$4:$D$80,2,0) -> Camiontta con Platon | K38: =VLOOKUP(A38,Equipo!$A$4:$D$80,4,0) -> 31870 | L38: 15 | N38: =+K38/L38 -> 2124.6667
A39: E-SV-011 | B39: =VLOOKUP(A39,Equipo!$A$4:$D$80,2,0) -> Maquina Manual | K39: =VLOOKUP(A39,Equipo!$A$4:$D$80,4,0) -> 17706 | L39: 15 | N39: =+K39/L39 -> 1180.4 | O39: =40*4 -> 160
A40: E-SV-077 | B40: =VLOOKUP(A40,Equipo!$A$4:$D$80,2,0) -> HERRAMIENTA MENOR | N40: 43
B47: SUBTOTAL | N47: =SUM(N38:N46) -> 3348.0667
B48: II. MATERIALES
B49: II. MATERIALES
B51: DESCRIPCIÓN | J51: UNIDAD | K51: CANTIDAD | L51: PRECIO UNIT. | N51: Vr. UNITARIO
A52: SV-1072 | B52: =VLOOKUP(A52,Materiales!$A$4:$D$141,2,0) -> ESFERAS REFLECTIVAS | J52: =VLOOKUP(A52,Materiales!$A$4:$D$141,3,0) -> LB | K52: 0.85 | L52: =VLOOKUP(A52,Materiales!$A$4:$D$141,4,0) -> 1900 | N52: =+K52*L52 -> 1615
A53: SV-1073 | B53: =VLOOKUP(A53,Materiales!$A$4:$D$141,2,0) -> PINTURA ACRILICA PURA PARA TRAFICO | J53: =VLOOKUP(A53,Materiales!$A$4:$D$141,3,0) -> GALON | K53: 0.167 | L53: =VLOOKUP(A53,Materiales!$A$4:$D$141,4,0) -> 64000 | N53: =+K53*L53 -> 10688
B60: SUBTOTAL | N60: =SUM(N52:N59) -> 12303
B61: III. TRANSPORTES
B62: III. TRANSPORTES
B64: MATERIAL | I64: VOL. o PESO | J64: DISTANCIA | K64: M3 o Ton/Km | L64: TARIFA | N64: Vr. UNITARIO
N65: =+L65*K65 -> 0
B67: SUBTOTAL | N67: =SUM(N65:N66) -> 0
B68: IV. MANO DE OBRA
B69: IV. MANO DE OBRA
B71: TRABAJADOR | H71: CANTIDAD | I71: JORNAL | J71: PRESTACIONES | K71: JORNAL TOTAL | L71: RENDIMIENTO | N71: Vr. UNITARIO
A72: MO-SV-012 | B72: =VLOOKUP(A72,'Mano de Obra'!$A$4:$E$80,2,0) -> OPERADOR DE EQUIPO | H72: 1 | I72: =VLOOKUP(A72,'Mano de Obra'!$A$4:$D$80,3,0) -> 72000 | J72: =VLOOKUP(A72,'Mano de Obra'!$A$4:$D$80,4,0) -> 1.85 | K72: =+H72*I72*J72 -> 133200 | L72: 120 | N72: =+K72/L72 -> 1110
A73: MO-SV-006 | B73: =VLOOKUP(A73,'Mano de Obra'!$A$4:$E$80,2,0) -> AYUDANTE | H73: 3 | I73: =VLOOKUP(A73,'Mano de Obra'!$A$4:$D$80,3,0) -> 28000 | J73: =VLOOKUP(A73,'Mano de Obra'!$A$4:$D$80,4,0) -> 1.85 | K73: =+H73*I73*J73 -> 155400 | L73: 120 | N73: =+K73/L73 -> 1295
...

Sheet SV-08
C2: MINISTERIO DE TRANSPORTE | K2: CÓDIGO | L2: MSE--FR-14
C3: INSTITUTO NACIONAL DE VIAS
C4: DIRECCION OPERATIVA | K4: VERSIÓN | L4: 2
C5: PROCESO SUPERVISION, EJECUCION Y SEGUIMIENTO A PROYECTOS
C6: =+'DATOS INICIALES '!B5 -> MANUAL DE INTERVENTORÍA OBRA PUBLICA | K6: PÁGINA | L6: 1 | M6: DE | N6: 1
C8: ANALISIS DE PRECIOS UNITARIOS
K10: FECHA | L10: DD | M10: MM | N10: AA
L11: =+'DATOS INICIALES '!K10 -> XXX | M11: =+'DATOS INICIALES '!L10 -> XXX | N11: =+'DATOS INICIALES '!M10 -> XXX
B12: UNIDAD EJECUTORA: | D12: =+'DATOS INICIALES '!C11 -> XXXXXXXXXX | I12: DIRECCIÓN TERRITORIAL: | J12: =+'DATOS INICIALES '!I11 -> XXXXXXXXXX
B18: CONTRATO No. | D18: =+'DATOS INICIALES '!C17 -> XXXXXXXXXX | G18: DE | H18: =+'DATOS INICIALES '!G17 -> XXXXXXXXXX
B19: OBJETO DEL CONTRATO | D19: =+'DATOS INICIALES '!C18 -> XXXXXXXXXXXXXXXXXXXXXXXXXXXXXXXXXXXXXX
B22: CONTRATISTA : | D22: =+'DATOS INICIALES '!C21 -> XXXXXXXXXX
B24: INTERVENTOR | D24: =+'DATOS INICIALES '!C23 -> XXXXXXXXXX
B26: GESTOR TECNICO DE CONTRATO | E26: =+'DATOS INICIALES '!D25 -> XXXXXXXXXX
B28: FECHA CIERRE DE LICITACIÓN Y/O SELECCIÓN ABREVIADA | G28: =+'DATOS INICIALES '!F27 -> XXXXXXXXXX
B30: DATOS ESPECÍFICOS
B32: ITEM | C32: DESCRIPCIÓN | K32: GRUPO DE AJUSTE | L32: UNIDAD | N32: CANTIDAD
B33: =+'PRESUPUESTO OFICIAL'!#REF! -> #REF! | C33: =+'PRESUPUESTO OFICIAL'!#REF! -> #REF! | L33: =+'PRESUPUESTO OFICIAL'!#REF! -> #REF! | N33: =+'PRESUPUESTO OFICIAL'!#REF! -> #REF!
B34: I. EQUIPO
B35: I. EQUIPO
B37: DESCRIPCIÓN | I37: TIPO | K37: TARIFA/HORA | L37: RENDIMIENTO | N37: Vr. UNITARIO
A38: E-SV-001 | B38: =VLOOKUP(A38,Equipo!$A$4:$D$80,2,0) -> CORTADORA DE LÁMINA | K38: =VLOOKUP(A38,Equipo!$A$4:$D$80,4,0) -> 20339 | L38: 4 | N38: =+K38/L38 -> 5084.75
A39: E-SV-002 | B39: =VLOOKUP(A39,Equipo!$A$4:$D$80,2,0) -> CORTADORA DE ANGULO | K39: =VLOOKUP(A39,Equipo!$A$4:$D$80,4,0) -> 20339 | L39: 4 | N39: =+K39/L39 -> 5084.75
A40: E-SV-003 | B40: =VLOOKUP(A40,Equipo!$A$4:$D$80,2,0) -> EQUIPO DE SOLDADURA | K40: =VLOOKUP(A40,Equipo!$A$4:$D$80,4,0) -> 16271 | L40: 4 | N40: =+K40/L40 -> 4067.75
A41: E-SV-004 | B41: =VLOOKUP(A41,Equipo!$A$4:$D$80,2,0) -> EQUIPO DE PINTURA | K41: =VLOOKUP(A41,Equipo!$A$4:$D$80,4,0) -> 20339 | L41: 4 | N41: =+K41/L41 -> 5084.75
A42: E-SV-005 | B42: =VLOOKUP(A42,Equipo!$A$4:$D$80,2,0) -> EQUIPO DE SERIGRAFÍA | K42: =VLOOKUP(A42,Equipo!$A$4:$D$80,4,0) -> 13574 | L42: 3 | N42: =+K42/L42 -> 4524.6667
A43: E-SV-006 | B43: =VLOOKUP(A43,Equipo!$A$4:$D$80,2,0) -> EQUIPO DE LAMINACIÓN | K43: =VLOOKUP(A43,Equipo!$A$4:$D$80,4,0) -> 8003 | L43: 3 | N43: =+K43/L43 -> 2667.6667
A44: E-SV-007 | B44: =VLOOKUP(A44,Equipo!$A$4:$D$80,2,0) -> TALADRO | K44: =VLOOKUP(A44,Equipo!$A$4:$D$80,4,0) -> 2715 | L44: 4 | N44: =+K44/L44 -> 678.75
A45: E-SV-077 | B45: =VLOOKUP(A45,Equipo!$A$4:$D$80,2,0) -> HERRAMIENTA MENOR | N45: 2600
B47: SUBTOTAL | N47: =SUM(N38:N46) -> 29793.083
B48: II. MATERIALES
B49: II. MATERIALES
B51: DESCRIPCIÓN | J51: UNIDAD | K51: CANTIDAD | L51: PRECIO UNIT. | N51: Vr. UNITARIO
A52: SV-1063 | B52: =VLOOKUP(A52,Materiales!$A$4:$D$141,2,0) -> LAMINA GALV. CALIBRE 16 | J52: =VLOOKUP(A52,Materiales!$A$4:$D$141,3,0) -> M2 | K52: 0.15 | L52: =VLOOKUP(A52,Materiales!$A$4:$D$141,4,0) -> 49580 | N52: =+K52*L52 -> 7437 | O52: =0.45*0.3 -> 0.135 | P52: =+O52*1.02 -> 0.1377
A53: SV-1064 | B53: =VLOOKUP(A53,Materiales!$A$4:$D$141,2,0) -> PAPEL REFLECTIVO TIPO III | J53: =VLOOKUP(A53,Materiales!$A$4:$D$141,3,0) -> M2 | K53: 0.137 | L53: =VLOOKUP(A53,Materiales!$A$4:$D$141,4,0) -> 48400 | N53: =+K53*L53 -> 6630.8
A54: SV-1065 | B54: =VLOOKUP(A54,Materiales!$A$4:$D$141,2,0) -> ANGULO DE 2" X 1/4" | J54: =VLOOKUP(A54,Materiales!$A$4:$D$141,3,0) -> ML | K54: 2.45 | L54: =VLOOKUP(A54,Materiales!$A$4:$D$141,4,0) -> 17710 | N54: =+K54*L54 -> 43389.5 | O54: =0.45+1.2+0.8 -> 2.45
A55: SV-1066 | B55: =VLOOKUP(A55,Materiales!$A$4:$D$141,2,0) -> ANGULO DE 2" X 1/8" | J55: =VLOOKUP(A55,Materiales!$A$4:$D$141,3,0) -> ML | K55: =0.3*2 -> 0.6 | L55: =VLOOKUP(A55,Materiales!$A$4:$D$141,4,0) -> 9810 | N55: =+K55*L55 -> 5886 | O55: =0.45+0.3 -> 0.75
A56: SV-1067 | B56: =VLOOKUP(A56,Materiales!$A$4:$D$141,2,0) -> TORNILLOS Y REMACHES | J56: =VLOOKUP(A56,Materiales!$A$4:$D$141,3,0) -> UND. | K56: 4 | L56: =VLOOKUP(A56,Materiales!$A$4:$D$141,4,0) -> 1004 | N56: =+K56*L56 -> 4016
A57: SV-1068 | B57: =VLOOKUP(A57,Materiales!$A$4:$D$141,2,0) -> PINTURA EN POLVO | J57: =VLOOKUP(A57,Materiales!$A$4:$D$141,3,0) -> GALON | K57: 0.05 | L57: =VLOOKUP(A57,Materiales!$A$4:$D$141,4,0) -> 170330 | N57: =+K57*L57 -> 8516.5
A58: SV-1069 | B58: =VLOOKUP(A58,Materiales!$A$4:$D$141,2,0) -> PINTURA ESMALTE | J58: =VLOOKUP(A58,Materiales!$A$4:$D$141,3,0) -> GALON | K58: 0.06 | L58: =VLOOKUP(A58,Materiales!$A$4:$D$141,4,0) -> 59020 | N58: =+K58*L58 -> 3541.2
...

Sheet SV-09
C2: MINISTERIO DE TRANSPORTE | K2: CÓDIGO | L2: MSE--FR-14
C3: INSTITUTO NACIONAL DE VIAS
C4: DIRECCION OPERATIVA | K4: VERSIÓN | L4: 2
C5: PROCESO SUPERVISION, EJECUCION Y SEGUIMIENTO A PROYECTOS
C6: =+'DATOS INICIALES '!B5 -> MANUAL DE INTERVENTORÍA OBRA PUBLICA | K6: PÁGINA | L6: 1 | M6: DE | N6: 1
C8: ANALISIS DE PRECIOS UNITARIOS
K10: FECHA | L10: DD | M10: MM | N10: AA
L11: =+'DATOS INICIALES '!K10 -> XXX | M11: =+'DATOS INICIALES '!L10 -> XXX | N11: =+'DATOS INICIALES '!M10 -> XXX
B12: UNIDAD EJECUTORA: | D12: =+'DATOS INICIALES '!C11 -> XXXXXXXXXX | I12: DIRECCIÓN TERRITORIAL: | J12: =+'DATOS INICIALES '!I11 -> XXXXXXXXXX
B18: CONTRATO No. | D18: =+'DATOS INICIALES '!C17 -> XXXXXXXXXX | G18: DE | H18: =+'DATOS INICIALES '!G17 -> XXXXXXXXXX
B19: OBJETO DEL CONTRATO | D19: =+'DATOS INICIALES '!C18 -> XXXXXXXXXXXXXXXXXXXXXXXXXXXXXXXXXXXXXX
B22: CONTRATISTA : | D22: =+'DATOS INICIALES '!C21 -> XXXXXXXXXX
B24: INTERVENTOR | D24: =+'DATOS INICIALES '!C23 -> XXXXXXXXXX
B26: GESTOR TECNICO DE CONTRATO | E26: =+'DATOS INICIALES '!D25 -> XXXXXXXXXX
B28: FECHA CIERRE DE LICITACIÓN Y/O SELECCIÓN ABREVIADA | G28: =+'DATOS INICIALES '!F27 -> XXXXXXXXXX
B30: DATOS ESPECÍFICOS
B32: ITEM | C32: DESCRIPCIÓN | K32: GRUPO DE AJUSTE | L32: UNIDAD | N32: CANTIDAD
B33: =+'PRESUPUESTO OFICIAL'!#REF! -> #REF! | C33: =+'PRESUPUESTO OFICIAL'!#REF! -> #REF! | L33: =+'PRESUPUESTO OFICIAL'!#REF! -> #REF! | N33: ='PRESUPUESTO OFICIAL'!#REF! -> #REF!
B34: I. EQUIPO
B35: I. EQUIPO
B37: DESCRIPCIÓN | I37: TIPO | K37: TARIFA/HORA | L37: RENDIMIENTO | N37: Vr. UNITARIO
A38: E-SV-001 | B38: =VLOOKUP(A38,Equipo!$A$4:$D$80,2,0) -> CORTADORA DE LÁMINA | K38: =VLOOKUP(A38,Equipo!$A$4:$D$80,4,0) -> 20339 | L38: 4 | N38: =+K38/L38 -> 5084.75
A39: E-SV-002 | B39: =VLOOKUP(A39,Equipo!$A$4:$D$80,2,0) -> CORTADORA DE ANGULO | K39: =VLOOKUP(A39,Equipo!$A$4:$D$80,4,0) -> 20339 | L39: 4 | N39: =+K39/L39 -> 5084.75
A40: E-SV-003 | B40: =VLOOKUP(A40,Equipo!$A$4:$D$80,2,0) -> EQUIPO DE SOLDADURA | K40: =VLOOKUP(A40,Equipo!$A$4:$D$80,4,0) -> 16271 | L40: 4 | N40: =+K40/L40 -> 4067.75
A41: E-SV-004 | B41: =VLOOKUP(A41,Equipo!$A$4:$D$80,2,0) -> EQUIPO DE PINTURA | K41: =VLOOKUP(A41,Equipo!$A$4:$D$80,4,0) -> 20339 | L41: 4 | N41: =+K41/L41 -> 5084.75
A42: E-SV-005 | B42: =VLOOKUP(A42,Equipo!$A$4:$D$80,2,0) -> EQUIPO DE SERIGRAFÍA | K42: =VLOOKUP(A42,Equipo!$A$4:$D$80,4,0) -> 13574 | L42: 3 | N42: =+K42/L42 -> 4524.6667
A43: E-SV-006 | B43: =VLOOKUP(A43,Equipo!$A$4:$D$80,2,0) -> EQUIPO DE LAMINACIÓN | K43: =VLOOKUP(A43,Equipo!$A$4:$D$80,4,0) -> 8003 | L43: 3 | N43: =+K43/L43 -> 2667.6667
A44: E-SV-007 | B44: =VLOOKUP(A44,Equipo!$A$4:$D$80,2,0) -> TALADRO | K44: =VLOOKUP(A44,Equipo!$A$4:$D$80,4,0) -> 2715 | L44: 4 | N44: =+K44/L44 -> 678.75
A45: E-SV-077 | B45: =VLOOKUP(A45,Equipo!$A$4:$D$80,2,0) -> HERRAMIENTA MENOR | N45: 2600
B47: SUBTOTAL | N47: =SUM(N38:N46) -> 29793.083
B48: II. MATERIALES
B49: II. MATERIALES
B51: DESCRIPCIÓN | J51: UNIDAD | K51: CANTIDAD | L51: PRECIO UNIT. | N51: Vr. UNITARIO
A52: SV-1063 | B52: =VLOOKUP(A52,Materiales!$A$4:$D$141,2,0) -> LAMINA GALV. CALIBRE 16 | J52: =VLOOKUP(A52,Materiales!$A$4:$D$141,3,0) -> M2 | K52: 0.22 | L52: =VLOOKUP(A52,Materiales!$A$4:$D$141,4,0) -> 49580 | N52: =+K52*L52 -> 10907.6
A53: SV-1064 | B53: =VLOOKUP(A53,Materiales!$A$4:$D$141,2,0) -> PAPEL REFLECTIVO TIPO III | J53: =VLOOKUP(A53,Materiales!$A$4:$D$141,3,0) -> M2 | K53: 0.2 | L53: =VLOOKUP(A53,Materiales!$A$4:$D$141,4,0) -> 48400 | N53: =+K53*L53 -> 9680
A54: SV-1065 | B54: =VLOOKUP(A54,Materiales!$A$4:$D$141,2,0) -> ANGULO DE 2" X 1/4" | J54: =VLOOKUP(A54,Materiales!$A$4:$D$141,3,0) -> ML | K54: 2.5 | L54: =VLOOKUP(A54,Materiales!$A$4:$D$141,4,0) -> 17710 | N54: =+K54*L54 -> 44275 | O54: =0.5+0.8+1.2 -> 2.5
A55: SV-1066 | B55: =VLOOKUP(A55,Materiales!$A$4:$D$141,2,0) -> ANGULO DE 2" X 1/8" | J55: =VLOOKUP(A55,Materiales!$A$4:$D$141,3,0) -> ML | K55: 0.8 | L55: =VLOOKUP(A55,Materiales!$A$4:$D$141,4,0) -> 9810 | N55: =+K55*L55 -> 7848
A56: SV-1067 | B56: =VLOOKUP(A56,Materiales!$A$4:$D$141,2,0) -> TORNILLOS Y REMACHES | J56: =VLOOKUP(A56,Materiales!$A$4:$D$141,3,0) -> UND. | K56: 4 | L56: =VLOOKUP(A56,Materiales!$A$4:$D$141,4,0) -> 1004 | N56: =+K56*L56 -> 4016
A57: SV-1068 | B57: =VLOOKUP(A57,Materiales!$A$4:$D$141,2,0) -> PINTURA EN POLVO | J57: =VLOOKUP(A57,Materiales!$A$4:$D$141,3,0) -> GALON | K57: 0.05 | L57: =VLOOKUP(A57,Materiales!$A$4:$D$141,4,0) -> 170330 | N57: =+K57*L57 -> 8516.5
A58: SV-1069 | B58: =VLOOKUP(A58,Materiales!$A$4:$D$141,2,0) -> PINTURA ESMALTE | J58: =VLOOKUP(A58,Materiales!$A$4:$D$141,3,0) -> GALON | K58: 0.06 | L58: =VLOOKUP(A58,Materiales!$A$4:$D$141,4,0) -> 59020 | N58: =+K58*L58 -> 3541.2
...

Sheet SV-10
C2: MINISTERIO DE TRANSPORTE | K2: CÓDIGO | L2: MSE--FR-14
C3: INSTITUTO NACIONAL DE VIAS
C4: DIRECCION OPERATIVA | K4: VERSIÓN | L4: 2
C5: PROCESO SUPERVISION, EJECUCION Y SEGUIMIENTO A PROYECTOS
C6: =+'DATOS INICIALES '!B5 -> MANUAL DE INTERVENTORÍA OBRA PUBLICA | K6: PÁGINA | L6: 1 | M6: DE | N6: 1
C8: ANALISIS DE PRECIOS UNITARIOS
K10: FECHA | L10: DD | M10: MM | N10: AA
L11: =+'DATOS INICIALES '!K10 -> XXX | M11: =+'DATOS INICIALES '!L10 -> XXX | N11: =+'DATOS INICIALES '!M10 -> XXX
B12: UNIDAD EJECUTORA: | D12: =+'DATOS INICIALES '!C11 -> XXXXXXXXXX | I12: DIRECCIÓN TERRITORIAL: | J12: =+'DATOS INICIALES '!I11 -> XXXXXXXXXX
B18: CONTRATO No. | D18: =+'DATOS INICIALES '!C17 -> XXXXXXXXXX | G18: DE | H18: =+'DATOS INICIALES '!G17 -> XXXXXXXXXX
B19: OBJETO DEL CONTRATO | D19: =+'DATOS INICIALES '!C18 -> XXXXXXXXXXXXXXXXXXXXXXXXXXXXXXXXXXXXXX
B22: CONTRATISTA : | D22: =+'DATOS INICIALES '!C21 -> XXXXXXXXXX
B24: INTERVENTOR | D24: =+'DATOS INICIALES '!C23 -> XXXXXXXXXX
B26: GESTOR TECNICO DE CONTRATO | E26: =+'DATOS INICIALES '!D25 -> XXXXXXXXXX
B28: FECHA CIERRE DE LICITACIÓN Y/O SELECCIÓN ABREVIADA | G28: =+'DATOS INICIALES '!F27 -> XXXXXXXXXX
B30: DATOS ESPECÍFICOS
B32: ITEM | C32: DESCRIPCIÓN | K32: GRUPO DE AJUSTE | L32: UNIDAD | N32: CANTIDAD
B33: =+'PRESUPUESTO OFICIAL'!#REF! -> #REF! | C33: =+'PRESUPUESTO OFICIAL'!#REF! -> #REF! | D33: =+'PRESUPUESTO OFICIAL'!#REF! -> #REF! | E33: =+'PRESUPUESTO OFICIAL'!#REF! -> #REF! | F33: =+'PRESUPUESTO OFICIAL'!#REF! -> #REF! | G33: =+'PRESUPUESTO OFICIAL'!#REF! -> #REF! | H33: =+'PRESUPUESTO OFICIAL'!#REF! -> #REF! | I33: =+'PRESUPUESTO OFICIAL'!#REF! -> #REF! | ... L33: =+'PRESUPUESTO OFICIAL'!#REF! -> #REF! | N33: =+'PRESUPUESTO OFICIAL'!#REF! -> #REF!
B34: I. EQUIPO
B35: I. EQUIPO
B37: DESCRIPCIÓN | I37: TIPO | K37: TARIFA/HORA | L37: RENDIMIENTO | N37: Vr. UNITARIO
A38: E-SV-001 | B38: =VLOOKUP(A38,Equipo!$A$4:$D$80,2,0) -> CORTADORA DE LÁMINA | K38: =VLOOKUP(A38,Equipo!$A$4:$D$80,4,0) -> 20339 | L38: 4 | N38: =+K38/L38 -> 5084.75
A39: E-SV-002 | B39: =VLOOKUP(A39,Equipo!$A$4:$D$80,2,0) -> CORTADORA DE ANGULO | K39: =VLOOKUP(A39,Equipo!$A$4:$D$80,4,0) -> 20339 | L39: 4 | N39: =+K39/L39 -> 5084.75
A40: E-SV-003 | B40: =VLOOKUP(A40,Equipo!$A$4:$D$80,2,0) -> EQUIPO DE SOLDADURA | K40: =VLOOKUP(A40,Equipo!$A$4:$D$80,4,0) -> 16271 | L40: 4 | N40: =+K40/L40 -> 4067.75
A41: E-SV-004 | B41: =VLOOKUP(A41,Equipo!$A$4:$D$80,2,0) -> EQUIPO DE PINTURA | K41: =VLOOKUP(A41,Equipo!$A$4:$D$80,4,0) -> 20339 | L41: 4 | N41: =+K41/L41 -> 5084.75
A42: E-SV-005 | B42: =VLOOKUP(A42,Equipo!$A$4:$D$80,2,0) -> EQUIPO DE SERIGRAFÍA | K42: =VLOOKUP(A42,Equipo!$A$4:$D$80,4,0) -> 13574 | L42: 3 | N42: =+K42/L42 -> 4524.6667
A43: E-SV-006 | B43: =VLOOKUP(A43,Equipo!$A$4:$D$80,2,0) -> EQUIPO DE LAMINACIÓN | K43: =VLOOKUP(A43,Equipo!$A$4:$D$80,4,0) -> 8003 | L43: 3 | N43: =+K43/L43 -> 2667.6667
A44: E-SV-007 | B44: =VLOOKUP(A44,Equipo!$A$4:$D$80,2,0) -> TALADRO | K44: =VLOOKUP(A44,Equipo!$A$4:$D$80,4,0) -> 2715 | L44: 4 | N44: =+K44/L44 -> 678.75
A45: E-SV-077 | B45: =VLOOKUP(A45,Equipo!$A$4:$D$80,2,0) -> HERRAMIENTA MENOR | N45: 2620
P46: =110000*1.098 -> 120780
B48: SUBTOTAL | N48: =SUM(N38:N47) -> 29813.083
B49: II. MATERIALES
B50: II. MATERIALES
B52: DESCRIPCIÓN | J52: UNIDAD | K52: CANTIDAD | L52: PRECIO UNIT. | N52: Vr. UNITARIO
A53: SV-1063 | B53: =VLOOKUP(A53,Materiales!$A$4:$D$141,2,0) -> LAMINA GALV. CALIBRE 16 | J53: =VLOOKUP(A53,Materiales!$A$4:$D$141,3,0) -> M2 | K53: 0.5 | L53: =VLOOKUP(A53,Materiales!$A$4:$D$141,4,0) -> 49580 | N53: =+K53*L53 -> 24790 | O53: =0.75*0.6*1.03 -> 0.4635
A54: SV-1064 | B54: =VLOOKUP(A54,Materiales!$A$4:$D$141,2,0) -> PAPEL REFLECTIVO TIPO III | J54: =VLOOKUP(A54,Materiales!$A$4:$D$141,3,0) -> M2 | K54: 0.4635 | L54: =VLOOKUP(A54,Materiales!$A$4:$D$141,4,0) -> 48400 | N54: =+K54*L54 -> 22433.4
A55: SV-1065 | B55: =VLOOKUP(A55,Materiales!$A$4:$D$141,2,0) -> ANGULO DE 2" X 1/4" | J55: =VLOOKUP(A55,Materiales!$A$4:$D$141,3,0) -> ML | K55: 2.75 | L55: =VLOOKUP(A55,Materiales!$A$4:$D$141,4,0) -> 17710 | N55: =+K55*L55 -> 48702.5 | O55: =0.75+1.2+0.8 -> 2.75
A56: SV-1066 | B56: =VLOOKUP(A56,Materiales!$A$4:$D$141,2,0) -> ANGULO DE 2" X 1/8" | J56: =VLOOKUP(A56,Materiales!$A$4:$D$141,3,0) -> ML | K56: =0.6*2 -> 1.2 | L56: =VLOOKUP(A56,Materiales!$A$4:$D$141,4,0) -> 9810 | N56: =+K56*L56 -> 11772
A57: SV-1067 | B57: =VLOOKUP(A57,Materiales!$A$4:$D$141,2,0) -> TORNILLOS Y REMACHES | J57: =VLOOKUP(A57,Materiales!$A$4:$D$141,3,0) -> UND. | K57: 4 | L57: =VLOOKUP(A57,Materiales!$A$4:$D$141,4,0) -> 1004 | N57: =+K57*L57 -> 4016
A58: SV-1068 | B58: =VLOOKUP(A58,Materiales!$A$4:$D$141,2,0) -> PINTURA EN POLVO | J58: =VLOOKUP(A58,Materiales!$A$4:$D$141,3,0) -> GALON | K58: 0.05 | L58: =VLOOKUP(A58,Materiales!$A$4:$D$141,4,0) -> 170330 | N58: =+K58*L58 -> 8516.5
...

Sheet SV-11
C2: MINISTERIO DE TRANSPORTE | K2: CÓDIGO | L2: MSE--FR-14
C3: INSTITUTO NACIONAL DE VIAS
C4: DIRECCION OPERATIVA | K4: VERSIÓN | L4: 2
C5: PROCESO SUPERVISION, EJECUCION Y SEGUIMIENTO A PROYECTOS
C6: =+'DATOS INICIALES '!B5 -> MANUAL DE INTERVENTORÍA OBRA PUBLICA | K6: PÁGINA | L6: 1 | M6: DE | N6: 1
C8: ANALISIS DE PRECIOS UNITARIOS
K10: FECHA | L10: DD | M10: MM | N10: AA
L11: =+'DATOS INICIALES '!K10 -> XXX | M11: =+'DATOS INICIALES '!L10 -> XXX | N11: =+'DATOS INICIALES '!M10 -> XXX
B12: UNIDAD EJECUTORA: | D12: =+'DATOS INICIALES '!C11 -> XXXXXXXXXX | I12: DIRECCIÓN TERRITORIAL: | J12: =+'DATOS INICIALES '!I11 -> XXXXXXXXXX
B18: CONTRATO No. | D18: =+'DATOS INICIALES '!C17 -> XXXXXXXXXX | G18: DE | H18: =+'DATOS INICIALES '!G17 -> XXXXXXXXXX
B19: OBJETO DEL CONTRATO | D19: =+'DATOS INICIALES '!C18 -> XXXXXXXXXXXXXXXXXXXXXXXXXXXXXXXXXXXXXX
B22: CONTRATISTA : | D22: =+'DATOS INICIALES '!C21 -> XXXXXXXXXX
B24: INTERVENTOR | D24: =+'DATOS INICIALES '!C23 -> XXXXXXXXXX
B26: GESTOR TECNICO DE CONTRATO | E26: =+'DATOS INICIALES '!D25 -> XXXXXXXXXX
B28: FECHA CIERRE DE LICITACIÓN Y/O SELECCIÓN ABREVIADA | G28: =+'DATOS INICIALES '!F27 -> XXXXXXXXXX
B30: DATOS ESPECÍFICOS
B32: ITEM | C32: DESCRIPCIÓN | K32: GRUPO DE AJUSTE | L32: UNIDAD | N32: CANTIDAD
B33: =+'PRESUPUESTO OFICIAL'!#REF! -> #REF! | C33: =+'PRESUPUESTO OFICIAL'!#REF! -> #REF! | L33: =+'PRESUPUESTO OFICIAL'!#REF! -> #REF! | N33: =+'PRESUPUESTO OFICIAL'!#REF! -> #REF!
B34: I. EQUIPO
