Workbook
Name \0: '[1]CRA.MODI'!#REF!
Name \0: '[1]CRA.MODI'!#REF!
Name \a: #REF!
Name \a: #N/A
Name \a: #REF!
Name \b: #REF!
Name \b: #REF!
Name \c: #REF!
Name \c: #REF!
Name \e: #REF!
Name \e: #REF!
Name \f: #REF!
Name \i: #REF!
Name \i: #REF!
Name \L: #REF!
Name \L: #REF!
Name \m: #REF!
Name \m: #REF!
Name \P: #REF!
Name \P: #REF!
Name \q: #N/A
Name \r: #REF!
Name \r: #REF!
Name \s: #REF!
Name \sa: #REF!
Name \sa: #REF!
Name \t: #REF!
Name \t: #REF!
Name \w: #N/A
Name \X: FM!err
Name \x: #REF!
Name \X: [2]!err
Name \Z: FM!err
Name \z: #REF!
Name \Z: [2]!err
Name _: #REF!
Name _: #REF!
Name _________________________________________________i1: #REF!
Name _________________________________________________i1: #REF!
Name ________________________________________________i1: #REF!
Name ________________________________________________i1: #REF!
Name _______________________________________________i1: #REF!
Name ______________________________________________i1: #REF!
Name _____________________________________________i1: #REF!
Name ____________________________________________i1: #REF!
Name ___________________________________________i1: #REF!
Name __________________________________________i1: #REF!
Name _________________________________________i1: #REF!
Name ________________________________________i1: #REF!
Name _______________________________________i1: #REF!
Name ______________________________________i1: #REF!
Name _____________________________________i1: #REF!
Name ____________________________________i1: #REF!
Name ___________________________________i1: #REF!
Name __________________________________i1: #REF!
Name _________________________________i1: #REF!
Name ________________________________i1: #REF!
Name _______________________________i1: #REF!
Name ______________________________i1: #REF!
Name _____________________________i1: #REF!

Sheet ACTIVIDADES
A1: ITEMS GENERALES
A2: G-01 CONCRETOS Y MORTEROS
A3: CODIGO | B3: DESCRIPCIÓN | C3: UND IDAD | D3: VALOR UNITARIO
A4: G-01-01 | B4: Concreto de 10,3 Mpa (producción) | C4: M3 | D4: 428320
A5: G-01-02 | B5: Concreto de 13,8 Mpa (2000 psi) (producción) | C5: M3 | D5: 472051
A6: G-01-03 | B6: Concreto de 17,2 Mpa (2500 psi) (producción) | C6: M3 | D6: 636266
A7: G-01-04 | B7: Concreto de 20,7 Mpa (3000 psi) (producción) | C7: M3 | D7: 575097
A8: G-01-05 | B8: Concreto de 24,5 Mpa (3500 PSI) (producción) | C8: M3 | D8: 114497152
A9: G-01-06 | B9: Concreto de 27,6 Mpa (4000) (producción) | C9: M3 | D9: 120424122
A10: G-01-07 | B10: Concreto de 20,7 Mpa (3000 psi) psi impermeabilizado (producción) | C10: M3 | D10: 582093
A11: G-01-08 | B11: Concreto de 20,7 Mpa (3.000 psi) acelerado (producción) | C11: M3 | D11: 1315637
A12: G-01-09 | B12: Concreto de 27,6 Mpa (4.000 psi) impermeabilizado (producción) | C12: M3 | D12: 120431118
A13: G-01-10 | B13: Concreto de 27,6 Mpa (4.000 psi) acelerado (producción) | C13: M3 | D13: 121270453
A14: G-01-11 | B14: Concreto ciclópeo (producción) | C14: M3 | D14: 436665
A15: G-01-12 | B15: Concreto fluido 13,8 Mpa (2000 PSI) tamaño máximo 1/2" | C15: M3 | D15: 782661
A16: G-01-13 | B16: Concreto fluido 17,2 Mpa (2500 psi) (producción) | C16: M3 | D16: 826134
A17: G-01-14 | B17: Mortero 1:2 (producción) | C17: M3 | D17: =+'APU GENERALES'!H424 -> 425935
A18: G-01-15 | B18: Mortero 1:3 (producción) | C18: M3 | D18: =+'APU GENERALES'!H453 -> 335812
A19: G-01-16 | B19: Mortero 1:4 (producción) | C19: M3 | D19: 127324
A20: G-01-17 | B20: Mortero 1:5 (producción) | C20: M3 | D20: 128596
A21: G-01-18 | B21: Mortero 1:3 impermeabilizado (producción) | C21: M3 | D21: 132124395
A22: G-02 ACEROS
A23: CODIGO | B23: DESCRIPCIÓN | C23: UND IDAD | D23: VALOR UNITARIO
A24: G-02-01 | B24: Acero Fy = 37.000 psi d<=1/4" | C24: Kg | D24: 42197
A25: G-02-02 | B25: Acero Fy = 60.000 psi d>1/4" | C25: Kg | D25: 7598
A26: G-02-03 | B26: Malla electrosoldada M-188 Φ 6.00 mm c/.15m en ambos sentidos (incluye alambre negro, colocación y traslapo). | C26: Kg | D26: 46434
A27: G-03 TRANSPORTE
A28: CODIGO | B28: DESCRIPCIÓN | C28: UND IDAD | D28: VALOR UNITARIO
A29: G-03-01 | B29: Transporte material (corte, sub-base, base, afirmado, Petreos, arenas, etc) | C29: M3-Km | D29: 1375
A30: G-03-02 | B30: Transporte maquinaría pesada | C30: Km | D30: 51658
A31: G-03-03 | B31: Transporte materiales en mula (carga = 100 kg/km) | C31: Carga-Km | D31: 5000
A32: G-03-04 | B32: Transporte materiales a hombro (carga = 30 kg/km) | C32: Carga.Km | D32: 5000
A33: G-03-05 | B33: Disposición en botadero | C33: M3 | D33: 2500
A34: G-03-06 | B34: Disposición en botadero | C34: M3 | D34: 2500
A35: 1- CONSTRUCCION DE INFRAESTRUCTURA SOCIAL Y COMUNITARIA
A36: 1-01- PRELIMINARES
A37: CODIGO | B37: DESCRIPCIÓN | C37: UND IDAD | D37: VALOR UNITARIO
A38: 1-01-01 | B38: Valla de identificación de obra área menor a 4 m2, colocada en cerchas metálica, incluye mantenimiento durante la construcción | C38: M2 | D38: =+#REF! -> #REF!
A39: 1-01-02 | B39: Valla de identificación de obra área mayor a 4 m2, colocada en cerchas metálica, incluye mantenimiento durante la construcción | C39: M2 | D39: 139833
A40: 1-01-03 | B40: Campamento, incluye teja de zinc, piso en afirmado , tabla. | C40: M2 | D40: 1203958
...

Sheet LISTA DE PRECIOS
A2: CODIGO INSUMO | B2: INSUMO, EQUIPO O HERRAMIENTA | D2: TIPO | E2: 2021 VR. IVA INCLUIDO
A4: MANO DE OBRA | F4: IPC 2019 3,8%
A5: CÓDIGO | B5: DESCRIPCIÓN | D5: UNIDAD | E5: VALOR UNITARIO 2020 | F5: =1.038 -> 1.038
A6: MO 001 | B6: Ayudante | D6: Día | E6: =+'MANO DE OBRA'!F31 -> 67964
A7: MO 002 | B7: Ayudante práctico | D7: Día | E7: =+'MANO DE OBRA'!F32 -> 95150
A8: MO 003 | B8: Oficial | D8: Día | E8: =+'MANO DE OBRA'!F33 -> 122335
A9: MO 004 | B9: Cadenero 1 | D9: Día | E9: =+'MANO DE OBRA'!F34 -> 101946
A10: MO 005 | B10: Cadenero 2 | D10: Día | E10: =+'MANO DE OBRA'!F35 -> 67964
A11: MO 006 | B11: Liniero cat 1 | D11: Día | E11: =+'MANO DE OBRA'!F36 -> 175996
A12: MO 007 | B12: Liniero cat 2 | D12: Día | E12: =+'MANO DE OBRA'!F37 -> 122335
A13: MO 008 | B13: Maestro de obra | D13: Día | E13: =+'MANO DE OBRA'!F38 -> 157140
A14: MO 009 | B14: Minero | D14: Día | E14: =+'MANO DE OBRA'!F39 -> 157140
A15: MO 010 | B15: Oficial eléctrico | D15: Día | E15: =+'MANO DE OBRA'!F40 -> 135928
A16: MO 011 | B16: Oficial pintor | D16: Día | E16: =+'MANO DE OBRA'!F41 -> 108742
A17: MO 012 | B17: Operador de maquinaria | D17: Día | E17: =+'MANO DE OBRA'!F42 -> 122335
... A21: MO 016 | B21: Ayudante eléctrico | D21: Día | E21: =+'MANO DE OBRA'!F46 -> 108742
A22: MOB002 | B22: Oficial (jornal + prestaciones) | D22: Día | E22: 106303 | F22: =+'MANO DE OBRA'!G33 -> 0 | G22: =+'MANO DE OBRA'!F33 -> 122335
A23: MOB003 | B23: Ayudante (jornal + prestaciones) | D23: Día | E23: 59057 | G23: =+'MANO DE OBRA'!F31 -> 67964
A24: MOB004 | B24: Ayudante práctico (jornal + prestaciones) | D24: Día | E24: 82680 | G24: =+'MANO DE OBRA'!F32 -> 95150
A25: MOB005 | B25: Cuadrilla A 1 Of + 4 Ay (jornal + prestaciones) | D25: Día | E25: 342531
A26: MOB006 | B26: Cuadrilla B 1 Min + 2 Ay (jornal + prestaciones) | D26: Día | E26: 313003
A27: MOB007 | B27: Oficial eléctrico (jornal + prestaciones) | D27: Día | E27: 118115
A28: MOB008 | B28: Cuadrilla S (1Sold.+1Ay práctico) (jornal + prestaciones) | D28: Día | E28: 188983
A29: MOB010 | B29: Comisión topografía (topógrafo + Cadenero 1 + 2 Cadeneros 2) | D29: Día | E29: 397158
A30: MOB011 | B30: Acarreo Horizontal | D30: % MO | E30: 4564
A31: MOB012 | B31: Profesional en salud ocupacional | D31: Mes | E31: 4570983
A32: MOB013 | B32: Cuadrilla C 1 Of + 7 Ay (jornal + prestaciones) | D32: Día | E32: 519702
A33: MOB014 | B33: Cuadrilla D 2 Of + 4 Ay (jornal + prestaciones) | D33: Día | E33: 448834
A34: MOB015 | B34: Cuadrilla E 1 Of + 1 Ay (jornal + prestaciones) | D34: Día | E34: 165360
A35: MOB016 | B35: Cuadrilla F 6 Of + 4 Ay (jornal + prestaciones) | D35: Día | E35: 874046
A36: MOB017 | B36: Cuadrilla G 1 Of + 2 Ay (jornal + prestaciones) | D36: Día | E36: 224417
... A41: MOB022 | B41: Cuadrilla L 2 Of + 8 Ay (jornal + prestaciones) | D41: Día | E41: 685062
B42: EQUIPO
A44: CÓDIGO | B44: DESCRIPCIÓN | D44: UNIDAD | E44: VALOR UNITARIO 2019
B45: Accesorios y empaques canal PVC promedio de: U y soporte | D45: Un | E45: 36330
A47: EQU001 | B47: Control de agua | D47: %MO | E47: 0
A48: EQU002 | B48: Herramienta menor | D48: %MO | E48: 0
A49: EQU003 | B49: Concretadora gasolina 1 o 1 1/2 sacos | D49: Día | E49: 59500 | F49: 57090 | G49: ALQUIEQUIPOS
A50: EQU004 | B50: Buldozer, Potencia al volante de 140 HP, motor de 2200 RPM, longitud de hoja 4,80m. | D50: Hr | E50: 96000
A51: EQU005 | B51: Compresor 185 pies3 CFM de 2 martillos, incluye 2 operarios y combustible | D51: Hr | E51: 74736 | F51: 67150
...

Sheet APU GENERALES
K1: 2110
B2: ESCENARIO DEPORTIVO COLISEO MAYOR PEREIRA
B3: REFERENCIA | L3: =+VLOOKUP(K1,#REF!,9,FALSE) -> #REF!
B4: ITEM | D4: G-01-01
B5: =VLOOKUP(D4,ACTIVIDADES!A:D,2,FALSE) -> Concreto de 10,3 Mpa (producción) | D5: VALOR | H5: Unidad
D6: =+ROUND(H31+H20+H14+H26,0) -> 264176 | H6: =VLOOKUP(D4,ACTIVIDADES!A:D,3,FALSE) -> M3
B9: MATERIALES | D9: UNIDAD | E9: CANTIDAD | F9: DES | G9: VALOR UNITARIO | H9: VALOR TOTAL
B10: MAT,068 | C10: =VLOOKUP(B10,'LISTA DE PRECIOS'!A:B,2,FALSE) -> Cemento gris saco por 50 kilos, incluye cargue, descargue y transporte | D10: =VLOOKUP(B10,'LISTA DE PRECIOS'!A:D,4,FALSE) -> Sc | E10: 3.5 | F10: 1.03 | G10: =VLOOKUP(B10,'LISTA DE PRECIOS'!A:E,5,FALSE) -> 24999.52 | H10: =+ROUND(E10*F10*G10,0) -> 90123
B11: MAT,040 | C11: =VLOOKUP(B11,'LISTA DE PRECIOS'!A:B,2,FALSE) -> Arena | D11: =VLOOKUP(B11,'LISTA DE PRECIOS'!A:D,4,FALSE) -> M3 | E11: 0.56 | F11: 1.03 | G11: =VLOOKUP(B11,'LISTA DE PRECIOS'!A:E,5,FALSE) -> 0 | H11: =+ROUND(E11*F11*G11,0) -> 0
B12: MAT,410 | C12: =VLOOKUP(B12,'LISTA DE PRECIOS'!A:B,2,FALSE) -> Triturado | D12: =VLOOKUP(B12,'LISTA DE PRECIOS'!A:D,4,FALSE) -> M3 | E12: 0.9 | F12: 1.03 | G12: =VLOOKUP(B12,'LISTA DE PRECIOS'!A:E,5,FALSE) -> 77156 | H12: =+ROUND(E12*F12*G12,0) -> 71524
B13: MAT,027 | C13: =VLOOKUP(B13,'LISTA DE PRECIOS'!A:B,2,FALSE) -> Agua | D13: =VLOOKUP(B13,'LISTA DE PRECIOS'!A:D,4,FALSE) -> Lt | E13: 160 | F13: 1.03 | G13: =VLOOKUP(B13,'LISTA DE PRECIOS'!A:E,5,FALSE) -> 7 | H13: =+ROUND(E13*F13*G13,0) -> 1154
E14: SUBTOTAL MATERIALES | H14: =ROUND(SUM(H10:H13),0) -> 162801
B16: EQUIPOS Y HERRAMIENTAS | D16: UNIDAD | E16: RENDIMIENTO | F16: DES | G16: VALOR UNITARIO | H16: VALOR TOTAL
B17: EQU002 | C17: =VLOOKUP(B17,'LISTA DE PRECIOS'!A:B,2,FALSE) -> Herramienta menor | D17: =VLOOKUP(B17,'LISTA DE PRECIOS'!A:D,4,FALSE) -> %MO | E17: 0.1 | G17: =+H31 -> 89712 | H17: =+ROUND(E17*G17,0) -> 8971
B18: EQU010 | C18: =VLOOKUP(B18,'LISTA DE PRECIOS'!A:B,2,FALSE) -> Volqueta 7 m3 | D18: =VLOOKUP(B18,'LISTA DE PRECIOS'!A:D,4,FALSE) -> Hr | E18: 0.05 | G18: =VLOOKUP(B18,'LISTA DE PRECIOS'!A:E,5,FALSE) -> 73227.786 | H18: =+ROUND(E18*G18,0) -> 3661
B19: EQU003 | C19: =VLOOKUP(B19,'LISTA DE PRECIOS'!A:B,2,FALSE) -> Concretadora gasolina 1 o 1 1/2 sacos | D19: =VLOOKUP(B19,'LISTA DE PRECIOS'!A:D,4,FALSE) -> Día | E19: 0.15 | G19: =VLOOKUP(B19,'LISTA DE PRECIOS'!A:E,5,FALSE) -> 59500 | H19: =+ROUND(E19*G19,0) -> 8925
E20: SUBTOTAL EQUIPOS | H20: =ROUND(SUM(H17:H17),0) -> 8971
B22: TRANSPORTE | D22: UNIDAD | E22: DISTANCIA (Km) | F22: DES | G22: VALOR UNITARIO ($/ m³*km) | H22: VALOR TOTAL
B23: 1 | C23: APLICA | E23: 1 | F23: 1.47 | G23: 1831 | H23: =+ROUND(E23*F23*G23,0) -> 2692 | M23: =84/12 -> 7
B24: 2 | C24: No aplica | H24: =+ROUND(E24*G24,0) -> 0
B25: 3 | C25: No aplica | H25: =+ROUND(E25*G25,0) -> 0
E26: SUBTOTAL TRANSPORTE | H26: =ROUND(SUM(H23:H25),0) -> 2692
B28: MANO DE OBRA | D28: UNIDAD | E28: RENDIMIENTO | F28: CANT | G28: VALOR /HORA | H28: VALOR TOTAL
B29: MO 001 | C29: =VLOOKUP(B29,'LISTA DE PRECIOS'!A:B,2,FALSE) -> Ayudante | D29: =VLOOKUP(B29,'LISTA DE PRECIOS'!A:D,4,FALSE) -> Día | E29: 0.15 | F29: 7 | G29: =VLOOKUP(B29,'LISTA DE PRECIOS'!A:E,5,FALSE) -> 67964 | H29: =+ROUND(E29*F29*G29,0) -> 71362
B30: MO 003 | C30: =VLOOKUP(B30,'LISTA DE PRECIOS'!A:B,2,FALSE) -> Oficial | D30: =VLOOKUP(B30,'LISTA DE PRECIOS'!A:D,4,FALSE) -> Día | E30: 0.15 | F30: 1 | G30: =VLOOKUP(B30,'LISTA DE PRECIOS'!A:E,5,FALSE) -> 122335 | H30: =+ROUND(E30*F30*G30,0) -> 18350
E31: SUBTOTAL MANO DE OBRA | H31: =ROUND(SUM(H29:H30),0) -> 89712
E33: COSTO DIRECTO | H33: =+ROUND(H31+H20+H14+H26,0) -> 264176
B36: ESCENARIO DEPORTIVO COLISEO MAYOR PEREIRA
B37: REFERENCIA
B38: ITEM | D38: G-01-02
B39: =VLOOKUP(D38,ACTIVIDADES!A:D,2,FALSE) -> Concreto de 13,8 Mpa (2000 psi) (producción) | D39: VALOR | H39: Unidad
D40: =+ROUND(H65+H54+H48+H60,0) -> 312972 | H40: =VLOOKUP(D38,ACTIVIDADES!A:D,3,FALSE) -> M3
B43: MATERIALES | D43: UNIDAD | E43: CANTIDAD | F43: DES | G43: VALOR UNITARIO | H43: VALOR TOTAL
B44: MAT,068 | C44: =VLOOKUP(B44,'LISTA DE PRECIOS'!A:B,2,FALSE) -> Cemento gris saco por 50 kilos, incluye cargue, descargue y transporte | D44: =VLOOKUP(B44,'LISTA DE PRECIOS'!A:D,4,FALSE) -> Sc | E44: 5.2 | F44: 1.03 | G44: =VLOOKUP(B44,'LISTA DE PRECIOS'!A:E,5,FALSE) -> 24999.52 | H44: =+ROUND(E44*F44*G44,0) -> 133897
B45: MAT,040 | C45: =VLOOKUP(B45,'LISTA DE PRECIOS'!A:B,2,FALSE) -> Arena | D45: =VLOOKUP(B45,'LISTA DE PRECIOS'!A:D,4,FALSE) -> M3 | E45: 0.6 | F45: 1.03 | G45: =VLOOKUP(B45,'LISTA DE PRECIOS'!A:E,5,FALSE) -> 0 | H45: =+ROUND(E45*F45*G45,0) -> 0
B46: MAT,410 | C46: =VLOOKUP(B46,'LISTA DE PRECIOS'!A:B,2,FALSE) -> Triturado | D46: =VLOOKUP(B46,'LISTA DE PRECIOS'!A:D,4,FALSE) -> M3 | E46: 0.84 | F46: 1.03 | G46: =VLOOKUP(B46,'LISTA DE PRECIOS'!A:E,5,FALSE) -> 77156 | H46: =+ROUND(E46*F46*G46,0) -> 66755
B47: MAT,027 | C47: =VLOOKUP(B47,'LISTA DE PRECIOS'!A:B,2,FALSE) -> Agua | D47: =VLOOKUP(B47,'LISTA DE PRECIOS'!A:D,4,FALSE) -> Lt | E47: 185 | F47: 1.03 | G47: =VLOOKUP(B47,'LISTA DE PRECIOS'!A:E,5,FALSE) -> 7 | H47: =+ROUND(E47*F47*G47,0) -> 1334
E48: SUBTOTAL MATERIALES | H48: =ROUND(SUM(H44:H47),0) -> 201986
B50: EQUIPOS Y HERRAMIENTAS | D50: UNIDAD | E50: RENDIMIENTO | F50: DES | G50: VALOR UNITARIO | H50: VALOR TOTAL
B51: EQU002 | C51: =VLOOKUP(B51,'LISTA DE PRECIOS'!A:B,2,FALSE) -> Herramienta menor | D51: =VLOOKUP(B51,'LISTA DE PRECIOS'!A:D,4,FALSE) -> %MO | E51: 0.1 | G51: =+H65 -> 89712 | H51: =+ROUND(E51*G51,0) -> 8971
...

Sheet MANO DE OBRA
B1: Análisis Mano de Obra
B3: ANÁLISIS MANO DE OBRA
B4: Salario Mínimo Mensual Legal Vigente año 2MAT,54917 | C4: 1000000
B5: Subsidio de Transporte (salario <= 2 SMMLV) | C5: 117172
B7: FACTOR PRESTACIONAL
B8: DESCRIPCIÓN | C8: SALARIO <= 2 SMMLV | D8: SALARIO > 2 SMMLV | E8: SALARIO <= 2 SMMLV
C9: PERSONAL TÉCNICO, OPERATIVO Riesgo Clase V | D9: PERSONAL TÉCNICO, OPERATIVO Riesgo Clase V | E9: PERSONAL TÉCNICO, OPERATIVO Riesgo Clase II
B10: PRESTACIONES SOCIALES
B11: Cesantías | C11: 0.0833 | D11: 0.0833 | E11: 0.0833
B12: Intereses cesantías | C12: 0.01 | D12: 0.01 | E12: 0.01
B13: Vacaciones | C13: 0.0417 | D13: 0.0417 | E13: 0.0417
B14: Prima | C14: 0.0833 | D14: 0.0833 | E14: 0.0833
B15: Dotación | C15: 0.08 | D15: 0.06 | E15: 0.06
B16: SEGURIDAD SOCIAL
B17: Aportes régimen general de pensiones (I.V.M) | C17: 0.12 | D17: 0.12 | E17: 0.12
B18: Aporte riesgos profesionales A.R.P. | C18: 0.0696 | D18: 0.0696 | E18: 0.01
B19: Aportes régimen contributivo de salud | C19: 0.085 | D19: 0.085 | E19: 0.085
B20: Certifcado trabajo en alturas | C20: 0.01 | D20: 0.01 | E20: 0.01
B21: OTROS APORTES
B22: Aportes FIC | C22: 0.025 | D22: 0.025 | E22: 0.025
B23: I.C.B.F.
B24: Caja de compensacion familiar | C24: 0.04 | D24: 0.04 | E24: 0.04
B25: Subsidio de transporte | C25: =C5/C4 -> 0.117172
B26: Dias festivo (18 al año) | C26: 0.05 | D26: 0.05 | E26: 0.05
B27: Exámenes médicos de ingreso y egreso | C27: 0.01 | D27: 0.01 | E27: 0.01
C28: =SUM(C10:C27) -> 0.825072 | D28: =SUM(D10:D27) -> 0.6879 | E28: =SUM(E10:E27) -> 0.6283
B30: NOMBRE | C30: SALARIO MENSUAL | D30: PRESTACIONES Y APORTES | E30: SALARIO + PRESTACIONES | F30: SALARIO DIA
A31: MO 001 | B31: Ayudante | C31: =C4+C5 -> 1117172 | D31: =ROUND((C31*$C$28),0) -> 921747 | E31: =C31+D31 -> 2038919 | F31: =ROUND((E31/30),0) -> 67964
A32: MO 002 | B32: Ayudante práctico | C32: =C31*1.4 -> 1564040.8 | D32: =ROUND((C32*$C$28),0) -> 1290446 | E32: =C32+D32 -> 2854486.8 | F32: =ROUND((E32/30),0) -> 95150
A33: MO 003 | B33: Oficial | C33: =C31*1.8 -> 2010909.6 | D33: =ROUND((C33*$C$28),0) -> 1659145 | E33: =C33+D33 -> 3670054.6 | F33: =ROUND((E33/30),0) -> 122335
A34: MO 004 | B34: Cadenero 1 | C34: =C31*1.5 -> 1675758 | D34: =ROUND((C34*$C$28),0) -> 1382621 | E34: =C34+D34 -> 3058379 | F34: =ROUND((E34/30),0) -> 101946
A35: MO 005 | B35: Cadenero 2 | C35: =C31 -> 1117172 | D35: =ROUND((C35*$C$28),0) -> 921747 | E35: =C35+D35 -> 2038919 | F35: =ROUND((E35/30),0) -> 67964
A36: MO 006 | B36: Liniero cat 1 | C36: =C31*2.8 -> 3128081.6 | D36: =ROUND((C36*D28),0) -> 2151807 | E36: =C36+D36 -> 5279888.6 | F36: =ROUND((E36/30),0) -> 175996
A37: MO 007 | B37: Liniero cat 2 | C37: =C31*1.8 -> 2010909.6 | D37: =ROUND((C37*$C$28),0) -> 1659145 | E37: =C37+D37 -> 3670054.6 | F37: =ROUND((E37/30),0) -> 122335
A38: MO 008 | B38: Maestro de obra | C38: =C31*2.5 -> 2792930 | D38: =ROUND((C38*$D$28),0) -> 1921257 | E38: =C38+D38 -> 4714187 | F38: =ROUND((E38/30),0) -> 157140
A39: MO 009 | B39: Minero | C39: =C31*2.5 -> 2792930 | D39: =ROUND((C39*$D$28),0) -> 1921257 | E39: =C39+D39 -> 4714187 | F39: =ROUND((E39/30),0) -> 157140
A40: MO 010 | B40: Oficial eléctrico | C40: =C31*2 -> 2234344 | D40: =ROUND((C40*$C$28),0) -> 1843495 | E40: =C40+D40 -> 4077839 | F40: =ROUND((E40/30),0) -> 135928
A41: MO 011 | B41: Oficial pintor | C41: =C31*1.6 -> 1787475.2 | D41: =ROUND((C41*$C$28),0) -> 1474796 | E41: =C41+D41 -> 3262271.2 | F41: =ROUND((E41/30),0) -> 108742
A42: MO 012 | B42: Operador de maquinaria | C42: =C31*1.8 -> 2010909.6 | D42: =ROUND((C42*$C$28),0) -> 1659145 | E42: =C42+D42 -> 3670054.6 | F42: =ROUND((E42/30),0) -> 122335
A43: MO 013 | B43: Soldador | C43: =C31*1.8 -> 2010909.6 | D43: =ROUND((C43*$C$28),0) -> 1659145 | E43: =C43+D43 -> 3670054.6 | F43: =ROUND((E43/30),0) -> 122335
...

Sheet SALARIOS 
B3: SALARIOS
B5: OFICIO | C5: TIEMPO | D5: SUELDO-JORNAL | H5: SMMLV 2021 | I5: 908526
B6: Director de obra | C6: MES | D6: 4.5 | E6: 5574000 | F6: =D6*$I$5 -> 4088367
B7: Ingeniero residente de obra -BIM | C7: MES | D7: 3 | E7: 3602000 | F7: =D7*$I$5 -> 2725578
B8: Asesor en estructuras | C8: MES | D8: 3.5 | E8: 5328000 | F8: =D8*$I$5 -> 3179841
B9: Asesor hidrosanitario | C9: MES | D9: 3.5 | E9: 5328000 | F9: =D9*$I$5 -> 3179841
B10: Asesor electrico | C10: MES | D10: 3 | E10: 5328000 | F10: =D10*$I$5 -> 2725578
B11: Asesor ambiental | C11: MES | D11: 3 | E11: 5328000 | F11: =D11*$I$5 -> 2725578
B12: Trabajadora social | C12: MES | D12: 2.5 | E12: 3602000 | F12: =D12*$I$5 -> 2271315
B13: Profesional en salud ocupacional | C13: MES | D13: 2.5 | E13: 3602000 | F13: =D13*$I$5 -> 2271315
B14: Tecnologo en obras civiles | C14: MES | D14: 2 | E14: 2373000 | F14: =D14*$I$5 -> 1817052
B15: Director de interventoria | C15: MES | D15: 5 | E15: 5574000 | F15: =D15*$I$5 -> 4542630
B16: Ingeniero residente de interventoria - BIM | C16: MES | D16: 3 | E16: 3602000 | F16: =D16*$I$5 -> 2725578
B17: Contador Publico | C17: MES | D17: 3 | E17: 3602000 | F17: =D17*$I$5 -> 2725578
... B19: Secretaria | C19: MES | D19: 2.5 | E19: 1520000 | F19: =D19*$I$5 -> 2271315
C20: MES | D20: 4 | F20: =D20*$I$5 -> 3634104
C21: MES | D21: 5 | F21: =D21*$I$5 -> 4542630
C22: MES | D22: 4 | F22: =D22*$I$5 -> 3634104
C23: MES | D23: 4 | F23: =D23*$I$5 -> 3634104
C24: MES | D24: 4 | F24: =D24*$I$5 -> 3634104
C25: MES | D25: 4 | F25: =D25*$I$5 -> 3634104
C26: MES | D26: 5 | F26: =D26*$I$5 -> 4542630
C27: MES | D27: 4 | F27: =D27*$I$5 -> 3634104

Sheet PGIO 
B2: PRESUPUESTO OBRA ESCENARIO DEPORTIVO TIRO CON ARCO SARA JOSE LOPEZ BUENO
B3: ESTUDIOS Y DISEÑOS PARA LA CONSTRUCCIÓN Y ADECUACIÓN DE LOS ESCENARIOS DEPORTIVOS JUEGOS DEPORTIVOS NACIONALES Y PARANACIONALES 2023
B4: PRESUPUESTO DE IMPLEMENTACION DEL PLAN DE GESTION INTEGRAL DE OBRA (PGIO)
B5: I. | C5: RECURSOS PARA LA IMPLEMENTACION PROGRAMA DE HSST (HIGIENE SEGURIDAD Y SALUD EN EL TRABAJO)
B6: No | C6: COMPONENTE | D6: ELEMENTOS | E6: UNIDAD | F6: CANTIDAD | G6: VALOR UNITARIO | H6: VALOR TOTAL
B7: 1 | C7: KIT DE ELEMENTOS DE PROTECCION PERSONAL GENERAL | D7: Casco | E7: unidad | F7: 20 | G7: 15000 | H7: =+G7*F7 -> 300000
D8: Gafas | E8: unidad | F8: 40 | G8: 7000 | H8: =+G8*F8 -> 280000
D9: Tapon para oidos de silicona | E9: Par | F9: 20 | G9: 1000 | H9: =+G9*F9 -> 20000
D10: Protector auditivo de Diadema para operador de la rana, operador del vibrador de concreto, operador de la regla vibratoria. | E10: Par | F10: 20 | G10: 16000 | H10: =+G10*F10 -> 320000
D11: Guantes de seguridad | E11: Par | F11: 40 | G11: 7000 | H11: =+G11*F11 -> 280000
D12: Chaleco reflectivo | E12: unidad | F12: 20 | G12: 13000 | H12: =+G12*F12 -> 260000
D13: Lineas de vida certificadas | E13: Conjunto | F13: 8 | G13: 325000 | H13: =+G13*F13 -> 2600000
D14: Arnes certificado | E14: Conjunto | F14: 8 | G14: 145000 | H14: =+G14*F14 -> 1160000
B15: 2 | C15: KIT DE EMERGENCIAS | D15: Extintor (10 Lbs) | E15: unidad | F15: 2 | G15: 45000 | H15: =+G15*F15 -> 90000
D16: Señal de Extintor en acrilico de 22 cm X 15 cm | E16: unidad | F16: 2 | G16: 10000 | H16: =+G16*F16 -> 20000
D17: Camilla rígida | E17: unidad | F17: 2 | G17: 200000 | H17: =+G17*F17 -> 400000
D18: Inmobilizador de cabeza para camilla | E18: unidad | F18: 2 | G18: 60000 | H18: =+G18*F18 -> 120000
D19: Botiquín dotado | E19: unidad | F19: 2 | G19: 300000 | H19: =+G19*F19 -> 600000
B20: 3 | C20: KIT DE SEÑALIZACION EN SST (Señales en acrilico de 15x15 cm) | D20: Señal de uso de elementos de protección personal - EPP | E20: unidad | F20: 2 | G20: 10000 | H20: =+G20*F20 -> 20000
D21: Señal de sustancia peligrosa | E21: unidad | F21: 2 | G21: 10000 | H21: =+G21*F21 -> 20000
D22: Señal de ruta de evacuación | E22: unidad | F22: 2 | G22: 10000 | H22: =+G22*F22 -> 20000
D23: Señal de puntos de encuentros | E23: unidad | F23: 2 | G23: 10000 | H23: =+G23*F23 -> 20000
D24: Señal de baños | E24: unidad | F24: 2 | G24: 10000 | H24: =+G24*F24 -> 20000
B25: 4 | C25: HIDRATACION DEL PERSONAL | D25: Bolsas con agua | E25: unidad | F25: =+(20+6)*1*24*6 -> 3744 | G25: 250 | H25: =+G25*F25 -> 936000
B26: 5 | C26: MATERIAL INFORMATIVO | D26: Generación de informes, impresión de información, adquisición de información, capacitaciones y mantenimiento del plan de implementación de PGIO eje de seguridad industrial y salud ocupacional. | E26: MES | F26: 6 | G26: 120000 | H26: =+G26*F26 -> 720000
B27: 7 | C27: KIT DE BIOSEGURIDAD | D27: Caja de tapabocas | E27: unidad | F27: 12 | G27: 25000 | H27: =+G27*F27 -> 300000
D28: Gel antibacterial | E28: unidad | F28: 12 | G28: 20000 | H28: =+G28*F28 -> 240000
D29: Lavamanos provisional | E29: unidad | F29: 2 | G29: 350000 | H29: =+G29*F29 -> 700000
D30: Termometro | E30: unidad | F30: 2 | G30: 150000 | H30: =+G30*F30 -> 300000
B31: TOTAL COSTOS RECURSOS PARA PARA LA IMPLEMENTACION PROGRAMA DE HSST (HIGIENE SEGURIDAD Y SALUD EN EL TRABAJO) | H31: =SUM(H7:H30) -> 9746000
B33: II. | C33: RECURSOS PARA LA IMPLEMENTACION DE PAGA
B34: No | C34: COMPONENTE | D34: ELEMENTOS | E34: UNIDAD | F34: CANTIDAD | G34: VALOR UNITARIO | H34: VALOR TOTAL
B35: 1 | C35: KIT PARA DESPERDICIOS SOLIDOS | D35: Canecas de 65 litros con tapa | E35: unidad | F35: 3 | G35: 30000 | H35: =+G35*F35 -> 90000
D36: Bolsa color negro calibre 2" de 65 cm X 85 cm | E36: unidad | F36: 15 | G36: 1000 | H36: =+G36*F36 -> 15000
D37: Bolsa color rojo calibre 2" de 65 cm X 85 cm | E37: unidad | F37: 15 | G37: 1000 | H37: =+G37*F37 -> 15000
D38: Bolsa color verde calibre 2" de 65 cm X 85 cm | E38: unidad | F38: 15 | G38: 1000 | H38: =+G38*F38 -> 15000
B39: 2 | C39: KIT DE SEÑALIZACION AMBIENTAL (Señales en acrilico de 15 X 15) | D39: Residuos reciclables | E39: unidad | F39: 2 | G39: 10000 | H39: =+G39*F39 -> 20000
D40: Residuos ordinarios | E40: unidad | F40: 2 | G40: 10000 | H40: =+G40*F40 -> 20000
D41: Residuos peligrosos | E41: unidad | F41: 2 | G41: 10000 | H41: =+G41*F41 -> 20000
B42: 3 | C42: LAVADO DE HERRAMIENTAS | D42: Caneca para lavado de herramientas con capacidad para 55 galones, de acero o similar | E42: unidad | F42: 2 | G42: 70000 | H42: =+G42*F42 -> 140000
...

Sheet PPTO_INTER_TIRO_ARCO
B2: PRESUPUESTO INTERVENTORIA ESCENARIO DEPORTIVO TIRO CON ARCO SARA JOSE LOPEZ BUENO
B4: ESTUDIOS Y DISEÑOS PARA LA CONSTRUCCIÓN Y ADECUACIÓN DE LOS ESCENARIOS DEPORTIVOS JUEGOS DEPORTIVOS NACIONALES Y PARANACIONALES 2023
B5: COSTO DE INTERVENTORIA
B7: 1. PERSONAL PROFESIONAL, TECNICO Y ADMINISTRATIVO | C7: DEDICACION | D7: CANTIDAD | E7: MESES | F7: TARIFA MENSUAL | G7: FACTOR MULTIPLICADOR | H7: COSTO TOTAL
B8: =+'SALARIOS '!B15 -> Director de interventoria | C8: 0.5 | D8: 1 | E8: 6 | F8: =+VLOOKUP(B8,'SALARIOS '!$B$7:$E$28,4,FALSE) -> 5574000 | G8: =+FM!$C$38 -> 1.93 | H8: =+F8*E8*D8*C8*G8 -> 32273460
B9: =+'SALARIOS '!B16 -> Ingeniero residente de interventoria - BIM | C9: 1 | D9: 1 | E9: 6 | F9: =+VLOOKUP(B9,'SALARIOS '!$B$7:$E$28,4,FALSE) -> 3602000 | G9: =+FM!$C$38 -> 1.93 | H9: =+F9*E9*D9*C9*G9 -> 41711160
B10: =+'SALARIOS '!B8 -> Asesor en estructuras | C10: 0.2 | D10: 1 | E10: 4 | F10: =+VLOOKUP(B10,'SALARIOS '!$B$7:$E$28,4,FALSE) -> 5328000 | G10: =+FM!$C$79 -> 1.31 | H10: =+F10*E10*D10*C10*G10 -> 5583744
B11: =+'SALARIOS '!B9 -> Asesor hidrosanitario | C11: 0.2 | D11: 1 | E11: 3 | F11: =+VLOOKUP(B11,'SALARIOS '!$B$7:$E$28,4,FALSE) -> 5328000 | G11: =+FM!$C$79 -> 1.31 | H11: =+F11*E11*D11*C11*G11 -> 4187808
B12: =+'SALARIOS '!B10 -> Asesor electrico | C12: 0.2 | D12: 1 | E12: 3 | F12: =+VLOOKUP(B12,'SALARIOS '!$B$7:$E$28,4,FALSE) -> 5328000 | G12: =+FM!$C$79 -> 1.31 | H12: =+F12*E12*D12*C12*G12 -> 4187808
B13: =+'SALARIOS '!B11 -> Asesor ambiental | C13: 0.2 | D13: 1 | E13: 3 | F13: =+VLOOKUP(B13,'SALARIOS '!$B$7:$E$28,4,FALSE) -> 5328000 | G13: =+FM!$C$79 -> 1.31 | H13: =+F13*E13*D13*C13*G13 -> 4187808
B14: =+'SALARIOS '!B13 -> Profesional en salud ocupacional | C14: 0.5 | D14: 1 | E14: 6 | F14: =+VLOOKUP(B14,'SALARIOS '!$B$7:$E$28,4,FALSE) -> 3602000 | G14: =+FM!$C$38 -> 1.93 | H14: =+F14*E14*D14*C14*G14 -> 20855580
B15: =+'SALARIOS '!B14 -> Tecnologo en obras civiles | C15: 1 | D15: 1 | E15: 6 | F15: =+VLOOKUP(B15,'SALARIOS '!$B$7:$E$28,4,FALSE) -> 2373000 | G15: =+FM!$C$38 -> 1.93 | H15: =+F15*E15*D15*C15*G15 -> 27479340
B16: SUBTOTAL PERSONAL PROFESIONAL, TECNICO Y ADMINISTRATIVO | H16: =SUM(H8:H15) -> 140466708
B17: TOTAL COSTOS DE PERSONAL PROFESIONAL, TECNICO Y ADMINISTRATIVO (A) = | H17: =+H16 -> 140466708
B18: 2. DESCRIPCION DE COSTOS INDIRECTOS | C18: UNIDAD | D18: CANTIDAD | E18: MESES | F18: COSTO PARCIAL | G18: COSTO TOTAL
B19: Memoria fotográfica + planos + papelería | C19: Mes | D19: 1 | E19: 3 | F19: 300000 | G19: =+F19*E19*D19 -> 900000
B20: Equipo de topografia | C20: Mes | D20: 1 | E20: 1 | F20: 3000000 | G20: =+F20*E20*D20 -> 3000000
B21: Caracterizacion materiales (Granulometrias y otros) | C21: und | D21: 2 | E21: 1 | F21: 85000 | G21: =F21*E21*D21 -> 170000
B22: Densidades capas granulares | C22: und | D22: 5 | E22: 1 | F22: 65000 | G22: =F22*E22*D22 -> 325000
B23: Rotura de cilindros | C23: und | D23: 24 | E23: 4 | F23: 20000 | G23: =F23*E23*D23 -> 1920000
B24: TOTAL COSTOS INDIRECTOS (B) = | G24: =+SUM(G19:H23) -> 6315000
B26: TOTAL COSTOS DE PERSONAL PROFESIONAL, TECNICO Y ADMINISTRATIVO (A) Y COSTOS INDIRECTOS (B) = | G26: =+H17+G24 -> 146781708
B27: IVA 19 % (C) = | G27: =+G26*0.19 -> 27888525
B28: GASTOS DE LEGALIZACION (D) = | G28: =+H57 -> 10274720
B30: COSTO TOTAL INTERVENTORIA | H30: =+ROUND(G26+G27+G28,0) -> 184944952
B36: Elaboró: Ingeniero Jhon Alvaro Pabon Ramirez | E36: VoBo: Ingeniero Juan Pablo Guzman Martinez
B37: Profesional en presupuestos. | E37: Coordinador de Prespuestos
B42: VoBo: Arquitecta Jocelyn Danna | E42: VoBo: Arquitecto Fredy Enrique Lopez Ramirez
B43: Asesora metodologica | E43: Arquitecto senior
B49: CARGA TRIBUTARIA - CONTRATOS DE CONSULTORIA
B50: DESCUENTOS IMPUESTOS | C50: TARIFA | D50: BASE GRAVABLE CALCULO | H50: VALOR CALCULADO
B51: ESTAMPILLA BIENESTAR ADULTO MAYOR | C51: 3 | D51: VALOR SIN IVA | H51: =($G$26*C51%) -> 4403451.2
B52: ESTAMPILLAS PRO-HOSPITALES | C52: 0 | D52: VALOR SIN IVA | H52: =($G$26*C52%) -> 0
B53: ESTAMPILLA UNIVERSIDAD TECNOLOGICA | C53: 1 | D53: VALOR SIN IVA | H53: =($G$26*C53%) -> 1467817.1
B54: ESTAMPILLA PRODEPORTE Y RECREACION | C54: 0 | D54: VALOR SIN IVA | H54: =($G$26*C54%) -> 0
B55: ESTAMPILLA PRODESAROLLO | C55: 2 | D55: VALOR SIN IVA | H55: =($G$26*C55%) -> 2935634.2
B56: ESTAMPILLA PRO-CULTURA | C56: 1 | D56: VALOR SIN IVA | H56: =($G$26*C56%) -> 1467817.1
B57: Impuestos, tasas y contribuciones | H57: =H51+H52+H53+H54+H55+H56 -> 10274720

Sheet FM
A1: FACTOR MULTIPLICADOR 1 | E1: FACTOR MULTIPLICADOR 2
A2: CALCULO DEL FACTOR MULTIPLICADOR < 10 SMMLV | E2: CALCULO DEL FACTOR MULTIPLICADOR >= 10 SMMLV
A3: ÍTEM | B3: DESCRIPCIÓN | C3: % | E3: ÍTEM | F3: DESCRIPCIÓN | G3: %
A4: A | B4: SALARIO BÁSICO (Nomina Total Mensual) | C4: 100 | E4: A | F4: SALARIO BÁSICO (Nomina Total Mensual) | G4: 100
A5: B | B5: PRESTACIONES SOCIALES | E5: B | F5: PRESTACIONES SOCIALES
B6: Cesantías | C6: 8.333 | F6: Cesantías | G6: 8.333
B7: Intereses de cesantías | C7: 1 | F7: Intereses de cesantías | G7: 1
B8: Prima | C8: 8.333 | F8: Prima | G8: 8.333
B9: Vacaciones | C9: 4.17 | F9: Vacaciones | G9: 4.17
B10: SEGURIDAD SOCIAL | F10: SEGURIDAD SOCIAL
B11: Seguridad Social (Pensión) | C11: 12 | F11: Seguridad Social (Salud) | G11: 8.5
B12: Seguridad Social (Salud) | C12: 8.5 | F12: Seguridad Social (Pensión) | G12: 12
B13: Aseguradora de Riesgos Profesionales | C13: 6.96 | F13: Aseguradora de Riesgos Profesionales | G13: 6.96
B14: OTROS | F14: OTROS
B15: Subsidio de Transporte (permisos, bonificaciones, seguros, etc.) | C15: 0.12 | F15: ICBF | G15: 3
B16: Dotación | C16: 0.6 | F16: SENA | G16: 2
A17: SUBTOTAL B | C17: =C6+C7+C8+C9+C11+C12+C13+C15+C16 -> 50.016 | F17: Subsidio de Transporte (permisos, bonificaciones, seguros, etc.) | G17: 0.12
A18: C | B18: COSTOS INDIRECTOS | C18: % | F18: Dotación | G18: 0.6
B19: GASTOS LEGALES Y DE ADMINISTRACIÓN | E19: SUBTOTAL B | G19: =G6+G7+G8+G9+G11+G12+G13+G15+G16+G17+G18 -> 55.016
B20: Arriendos de oficina, administración y servicios públicos | C20: 6 | E20: C | F20: COSTOS INDIRECTOS | G20: %
B21: Útiles, papelería oficina consultor | C21: 3 | F21: GASTOS LEGALES Y DE ADMINISTRACIÓN
B22: Personal administrativo | C22: 5 | F22: Arriendos de oficina, administración y servicios públicos | G22: 6
B23: Personal profesional no facturado | C23: 3 | F23: Útiles, papelería oficina consultor | G23: 3
B24: Comunicaciones | C24: 1 | F24: Personal administrativo | G24: 5
B25: Asesoría legal, tributaria y medica | C25: 2 | F25: Personal profesional no facturado | G25: 3
B26: Gastos de representación | C26: 1 | F26: Comunicaciones | G26: 1
B27: Gastos e intereses bancarios por financiación | C27: 1 | F27: Asesoría legal, tributaria y medica | G27: 3
B28: Equipos y mantenimiento de oficina | C28: 1 | F28: Gastos de representación | G28: 1
B29: Seguros de oficina del consultor | C29: 1 | F29: Gastos e intereses bancarios por financiación | G29: 1
A30: SUBTOTAL C | C30: =SUM(C20:C29) -> 24 | F30: Equipos y mantenimiento de oficina | G30: 1
A31: D | B31: GASTOS DE PERFECCIONAMIENTO | F31: Seguros de oficina del consultor | G31: 1
B32: Póliza de calidad | C32: 0.531 | E32: SUBTOTAL C | G32: =SUM(G22:G31) -> 25
B33: Retefuente | E33: D | F33: GASTOS DE PERFECCIONAMIENTO
B34: Rete IVA | F34: Póliza de calidad | G34: 0.531
B35: Póliza de cumplimiento | C35: 0.995 | F35: Retefuente
A36: SUBTOTAL D | C36: =SUM(C32:C35) -> 1.526 | F36: Rete IVA
A37: E | B37: HONORARIOS (UTILIDADES) 10% de (A+B+C+D) | C37: =+(C4+C17+C30+C36)*0.1 -> 17.5542 | F37: Póliza de cumplimiento | G37: 0.995
B38: FACTOR MULTIPLICADOR = ( A + B + C + D ) / 100 | C38: =+ROUND((C37+C36+C30+C17+C4)/100,2) -> 1.93 | E38: SUBTOTAL D | G38: =SUM(G34:G37) -> 1.526
E39: E | F39: HONORARIOS (UTILIDADES) 10% de (A+B+C+D) | G39: =+(G4+G19+G32+G38)*0.1 -> 18.1542
F40: FACTOR MULTIPLICADOR = ( A + B + C + D ) / 100 | G40: =ROUND((G39+G38+G32+G19+G4)/100,2) -> 2
...

Sheet AIU 
B2: CALCULO DEL A. I. U.
B3: LICITACIÓN PUBLICA
B4: 1.- | C4: CALCULO DE LA ADMINISTRACION : A
B5: 1.1.- | C5: MANEJO ADMINISTRATIVO MENSUAL
B7: PLAZO DEL CONTRATO: | G7: 180 | H7: DIAS
B8: COSTO DIRECTO OBRA : | G8: =+PPTO_TIRO_CON_ARCO!J183 -> 1500461471 | H8: MCTE
B10: DESCRIPCION | D10: SUELDO MES | E10: F.P | F10: CANT | G10: DEDICACION | H10: DURACION | I10: VALOR TOTAL | J10: PORCENTAJE %
B11: PERSONAL TECNICO Y ADM: (Incluye Prestaciones Soc.)
B12: Director de obra | D12: =+VLOOKUP(B12,'SALARIOS '!$B$6:$F$27,4,FALSE) -> 5574000 | E12: =1+'MANO DE OBRA'!$D$28 -> 1.6879 | F12: 1 | G12: 0.5 | H12: 6 | I12: =H12*G12*F12*D12*E12 -> 28225064 | J12: =ROUND(I12/G$8,4) -> 0.0188
B13: =+'SALARIOS '!B7 -> Ingeniero residente de obra -BIM | D13: =+VLOOKUP(B13,'SALARIOS '!$B$6:$F$27,4,FALSE) -> 3602000 | E13: =1+'MANO DE OBRA'!$D$28 -> 1.6879 | F13: 1 | G13: 1 | H13: 6 | I13: =H13*G13*F13*D13*E13 -> 36478895 | J13: =ROUND(I13/G$8,4) -> 0.0243
B14: =+'SALARIOS '!B8 -> Asesor en estructuras | D14: =+VLOOKUP(B14,'SALARIOS '!$B$6:$F$27,4,FALSE) -> 5328000 | E14: 1 | F14: 1 | G14: 0.2 | H14: 5 | I14: =H14*G14*F14*D14*E14 -> 5328000 | J14: =ROUND(I14/G$8,4) -> 0.0036
B15: =+'SALARIOS '!B9 -> Asesor hidrosanitario | D15: =+VLOOKUP(B15,'SALARIOS '!$B$6:$F$27,4,FALSE) -> 5328000 | E15: 1 | F15: 1 | G15: 0.2 | H15: 3 | I15: =H15*G15*F15*D15*E15 -> 3196800 | J15: =ROUND(I15/G$8,4) -> 0.0021
B16: =+'SALARIOS '!B10 -> Asesor electrico | D16: =+VLOOKUP(B16,'SALARIOS '!$B$6:$F$27,4,FALSE) -> 5328000 | E16: 1 | F16: 1 | G16: 0.2 | H16: 3 | I16: =H16*G16*F16*D16*E16 -> 3196800 | J16: =ROUND(I16/G$8,4) -> 0.0021
B17: =+'SALARIOS '!B11 -> Asesor ambiental | D17: =+VLOOKUP(B17,'SALARIOS '!$B$6:$F$27,4,FALSE) -> 5328000 | E17: 1 | F17: 1 | G17: 0.2 | H17: 3 | I17: =H17*G17*F17*D17*E17 -> 3196800 | J17: =ROUND(I17/G$8,4) -> 0.0021
B18: =+'SALARIOS '!B12 -> Trabajadora social | D18: =+VLOOKUP(B18,'SALARIOS '!$B$6:$F$27,4,FALSE) -> 3602000 | E18: 1 | F18: 1 | G18: 0.3 | H18: 6 | I18: =H18*G18*F18*D18*E18 -> 6483600 | J18: =ROUND(I18/G$8,4) -> 0.0043
B19: =+'SALARIOS '!B13 -> Profesional en salud ocupacional | D19: =+VLOOKUP(B19,'SALARIOS '!$B$6:$F$27,4,FALSE) -> 3602000 | E19: =1+'MANO DE OBRA'!$D$28 -> 1.6879 | F19: 1 | G19: 1 | H19: 6 | I19: =H19*G19*F19*D19*E19 -> 36478895 | J19: =ROUND(I19/G$8,4) -> 0.0243
B20: =+'SALARIOS '!B14 -> Tecnologo en obras civiles | D20: =+VLOOKUP(B20,'SALARIOS '!$B$6:$F$27,4,FALSE) -> 2373000 | E20: =1+'MANO DE OBRA'!$D$28 -> 1.6879 | F20: 1 | G20: 1 | H20: 6 | I20: =H20*G20*F20*D20*E20 -> 24032320 | J20: =ROUND(I20/G$8,4) -> 0.016
B21: =+'SALARIOS '!B17 -> Contador Publico | D21: =+VLOOKUP(B21,'SALARIOS '!$B$6:$F$27,4,FALSE) -> 3602000 | E21: 1 | F21: 1 | G21: 0.2 | H21: 2 | I21: =H21*G21*F21*D21*E21 -> 1440800 | J21: =ROUND(I21/G$8,4) -> 0.001
B22: =+'SALARIOS '!B18 -> Almacenista | D22: =+VLOOKUP(B22,'SALARIOS '!$B$6:$F$27,4,FALSE) -> 1520000 | E22: =1+'MANO DE OBRA'!$C$28 -> 1.825072 | F22: 1 | G22: 1 | H22: 6 | I22: =H22*G22*F22*D22*E22 -> 16644657 | J22: =ROUND(I22/G$8,4) -> 0.0111
B23: =+'SALARIOS '!B19 -> Secretaria | D23: =+VLOOKUP(B23,'SALARIOS '!$B$6:$F$27,4,FALSE) -> 1520000 | E23: =1+'MANO DE OBRA'!$C$28 -> 1.825072 | F23: 1 | G23: 1 | H23: 6 | I23: =H23*G23*F23*D23*E23 -> 16644657 | J23: =ROUND(I23/G$8,4) -> 0.0111
B24: Subtotal Mensual Personal técnico y administrativo: | I24: =SUM(I12:I23) -> 1.8134729e+08 | J24: =SUM(J12:J23) -> 0.1208
B26: OFICINA, PAPELERIA Y OTROS:
B27: Papelería, informes y Planos | E27: MES | F27: 2 | G27: 1 | H27: 150000 | I27: =H27*G27*F27 -> 300000 | J27: =ROUND(I27/G$8,4) -> 0.0002
B28: Servicios de comunicación | E28: MES | F28: 1 | G28: 1 | H28: 150000 | I28: =H28*G28*F28 -> 150000 | J28: =ROUND(I28/G$8,4) -> 0.0001
B29: Equipos de oficina | E29: MES | F29: 1 | G29: 1 | H29: 150000 | I29: =H29*G29*F29 -> 150000 | J29: =ROUND(I29/G$8,4) -> 0.0001
B30: Valla de identificación de obra área tamaño de 6m x 3m, colocada en cerchas metálica, incluye mantenimiento durante la construcción | E30: UND | F30: 1 | G30: 1 | H30: 550000 | I30: =H30*G30*F30 -> 550000 | J30: =ROUND(I30/G$8,4) -> 0.0004
B31: Campamento, incluye teja de zinc, piso en afirmado , tabla. | E31: UND | F31: 1 | G31: 1 | H31: 7550000 | I31: =H31*G31*F31 -> 7550000 | J31: =ROUND(I31/G$8,4) -> 0.005
B32: Suministro de red provisional de energia 110 - 220v | E32: MES | F32: 1 | G32: 6 | H32: 150000 | I32: =H32*G32*F32 -> 900000 | J32: =ROUND(I32/G$8,4) -> 0.0006
B33: Suministro de red provisional de agua y alcantarillado | E33: MES | F33: 1 | G33: 6 | H33: 150000 | I33: =H33*G33*F33 -> 900000 | J33: =ROUND(I33/G$8,4) -> 0.0006
B34: Alquiler de baño portátil (3 aseos semanales) | E34: UND/MES | F34: 12 | G34: 6 | H34: 150000 | I34: =H34*G34*F34 -> 10800000 | J34: =ROUND(I34/G$8,4) -> 0.0072
B35: Subtotal Mensual oficina , papeleria y otros: | I35: =SUM(I27:I34) -> 21300000 | J35: =SUM(J27:J34) -> 0.0142
B37: 1.2.- | C37: POR LEGALIZACION DEL CONTRATO
C39: Pólizas (0.65% del V.P.) | I39: 0.0065
H40: Total Legalización del Contrato: | I40: =SUM(I39:I39) -> 0.0065
B42: 1.3.- | C42: DESCUENTOS EN LAS CUENTAS DE COBRO
C44: =+CONCATENATE("Impuesto de contribucion especial ",I44*100,"%") -> Impuesto de contribucion especial 5% | I44: 0.05
C45: =+CONCATENATE("Por Estampilla Pro-deporte ",I45*100,"%") -> Por Estampilla Pro-deporte 2% | I45: 0.02
C46: =+CONCATENATE("Por Estampilla Pro-UTP ",I46*100,"%") -> Por Estampilla Pro-UTP 1% | I46: 0.01
C47: =+CONCATENATE("Por Estampilla Pro-cultura ",I47*100,"%") -> Por Estampilla Pro-cultura 1,5% | I47: 0.015
C48: =+CONCATENATE("Por Estampilla Pro-Adulto mayor ",I48*100,"%") -> Por Estampilla Pro-Adulto mayor 2% | I48: 0.02
...

Sheet PPTO_TIRO_CON_ARCO
E1: PRESUPUESTO OBRA ESCENARIO DEPORTIVO TIRO CON ARCO SARA JOSE LOPEZ BUENO
E3: ESTUDIOS Y DISEÑOS PARA LA CONSTRUCCIÓN Y ADECUACIÓN DE LOS ESCENARIOS DEPORTIVOS JUEGOS DEPORTIVOS NACIONALES Y PARANACIONALES 2023
A5: FINAL | B5: MATERFORMAT | E5: 1 | F5: PRELIMINARES | G5: UNIDAD | H5: CANTIDAD | I5: VALOR UNITARIO | J5: VALOR TOTAL | L5: PORCENTAJE DIRECTO
A6: =+CONCATENATE(B6,"_",E6) -> 00 31 13_JDN2023-TA-01-001 | B6: 00 31 13 | E6: JDN2023-TA-01-001 | F6: =+'1'!B4 -> Localización y replanteo | G6: =+'1'!H5 -> m2 | H6: 1100 | I6: =+'1'!D5 -> 1637 | J6: =+ROUND(H6*I6,0) -> 1800700 | L6: =+J6/$J$190 -> 0.00089794049
A7: =+CONCATENATE(B7,"_",E7) -> 00 31 13_JDN2023-TA-01-002 | B7: 00 31 13 | E7: JDN2023-TA-01-002 | F7: =+'1'!B51 -> Suministro e instalacion de tela de cerramiento h= 2.0 m | G7: =+'1'!H52 -> m | H7: 248.88 | I7: =+'1'!D52 -> 4147 | J7: =+ROUND(H7*I7,0) -> 1032105 | L7: =+J7/$J$190 -> 0.00051467144
A8: =+CONCATENATE(B8,"_",E8) -> 31 13 00_JDN2023-TA-01-003 | B8: 31 13 00 | E8: JDN2023-TA-01-003 | F8: =+'1'!B95 -> Poda + tala árbol grande H=6-9 m, Incluye raices y retiro de sobrante. | G8: =+'1'!H96 -> UND | H8: 1 | I8: =+'1'!D96 -> 441524 | J8: =+ROUND(H8*I8,0) -> 441524 | L8: =+J8/$J$190 -> 0.0002201712 | N8: 60.55
A9: =+CONCATENATE(B9,"_",E9) -> 03 11 26_JDN2023-TA-01-004 | B9: 03 11 26 | E9: JDN2023-TA-01-004 | F9: =+'1'!B132 -> Nivelación terreno con material del sitio | G9: =+'1'!H133 -> m2 | H9: 967.84 | I9: =+'1'!D133 -> 4336 | J9: =+ROUND(H9*I9,0) -> 4196554 | L9: =+J9/$J$190 -> 0.0020926616 | N9: =+I11*N8 -> 10332676
A10: =+CONCATENATE(B10,"_",E10) -> 00 31 13_JDN2023-TA-01-005 | B10: 00 31 13 | E10: JDN2023-TA-01-005 | F10: =+'1'!B168 -> Cargue de material manual | G10: =+'1'!H169 -> m3 | H10: 46.95 | I10: =+'1'!D169 -> 27213 | J10: =+ROUND(H10*I10,0) -> 1277650 | L10: =+J10/$J$190 -> 0.00063711538
A11: =+CONCATENATE(B11,"_",E11) -> 01 56 33_JDN2023-TA-01-006 | B11: 01 56 33 | E11: JDN2023-TA-01-006 | F11: =+'1'!B203 -> Cerramiento en tubería galvanizada de 1 1/2" @ 2 m, con malla eslabonada galvanizada calibre 13 ojo de 2", incluye viga de cimentación 0,30 x 0,30 m en concreto de 20,7 Mpa incluye refuerzo, y 3 hilos de alambre de puas C14. . | G11: =+'1'!H204 -> m | H11: 151.06 | I11: =+'1'!D204 -> 170647 | J11: =+ROUND(H11*I11,0) -> 25777936 | L11: =+J11/$J$190 -> 0.012854475 | M11: 159.68 | N11: =104000*H11 -> 15710240
E12: JDN2023-TA-01-007 | F12: =+'1'!B246 -> Empradizacion | G12: =+'1'!H247 -> m2 | H12: 200 | I12: =+'1'!D247 -> 8075 | J12: =+ROUND(H12*I12,0) -> 1615000 | L12: =+J12/$J$190 -> 0.00080533897
A13: =+CONCATENATE(B13,"_",E13) -> 00 31 13_JDN2023-TA-01-008 | B13: 00 31 13 | E13: JDN2023-TA-01-008 | F13: =+'1'!B282 -> Aseo de obra | G13: =+'1'!H283 -> UND | H13: 1 | I13: =+'1'!D283 -> 777345 | J13: =+ROUND(H13*I13,0) -> 777345 | L13: =+J13/$J$190 -> 0.00038763234 | N13: =+J11-N11 -> 10067696
G14: =+CONCATENATE("SUBTOTAL"," ",F5) -> SUBTOTAL PRELIMINARES | J14: =+SUM(J6:J13) -> 36918814 | L14: =+J14/$J$190 -> 0.018410006
E16: 2 | F16: DESMONTES Y DEMOLICIONES | G16: UNIDAD | H16: CANTIDAD | I16: VALOR UNITARIO | J16: VALOR TOTAL
A17: =+CONCATENATE(B17,"_",E17) -> 02 41 00_JDN2023-TA-02-001 | B17: 02 41 00 | E17: JDN2023-TA-02-001 | F17: =+'2'!B4 -> Desmonte aparatos sanitarios, con recuperación de ellos | G17: =+'2'!H5 -> UND | H17: 4 | I17: =+'2'!D5 -> 24638 | J17: =+ROUND(H17*I17,0) -> 98552 | L17: =+J17/$J$190 -> 4.9144128e-05
A18: =+CONCATENATE(B18,"_",E18) -> 02 41 00_JDN2023-TA-02-002 | B18: 02 41 00 | E18: JDN2023-TA-02-002 | F18: =+'2'!B40 -> Demolición de losa sobre terreno | G18: =+'2'!H41 -> m2 | H18: =161+36 -> 197 | I18: =+'2'!D41 -> 11663 | J18: =+ROUND(H18*I18,0) -> 2297611 | L18: =+J18/$J$190 -> 0.0011457311
A19: =+CONCATENATE(B19,"_",E19) -> 31 20 00_JDN2023-TA-02-003 | B19: 31 20 00 | E19: JDN2023-TA-02-003 | F19: =+'2'!B76 -> Cargue mecánico de material | G19: =+'2'!H77 -> m3 | H19: =+H18*1.2*0.1 -> 23.64 | I19: =+'2'!D77 -> 3075 | J19: =+ROUND(H19*I19,0) -> 72693 | L19: =+J19/$J$190 -> 3.624923e-05
A20: =+CONCATENATE(B20,"_",E20) -> 10 22 19_JDN2023-TA-02-004 | B20: 10 22 19 | E20: JDN2023-TA-02-004 | F20: =+'2'!B111 -> Desmonte de cubierta existente h< 3 m | G20: =+'2'!H112 -> m2 | H20: 89.77 | I20: =+'2'!D112 -> 7586 | J20: =+ROUND(H20*I20,0) -> 680995 | L20: =+J20/$J$190 -> 0.00033958626
A21: =+CONCATENATE(B21,"_",E21) -> 10 22 19_JDN2023-TA-02-005 | B21: 10 22 19 | E21: JDN2023-TA-02-005 | F21: =+'2'!B149 -> Desmonte de estructura metalica | G21: =+'2'!H150 -> Kg | H21: 1590 | I21: =+'2'!D150 -> 3574 | J21: =+ROUND(H21*I21,0) -> 5682660 | L21: =+J21/$J$190 -> 0.002833726
E22: JDN2023-TA-02-006 | F22: =+'2'!B185 -> Desmonte malla eslabonada | G22: =+'2'!H186 -> m2 | H22: =(99.8+66.06)*2 -> 331.72 | I22: =+'2'!D186 -> 6314 | J22: =+ROUND(H22*I22,0) -> 2094480 | L22: =+J22/$J$190 -> 0.0010444374
E23: JDN2023-TA-02-007 | F23: =+'2'!B221 -> Demolicion de muro en soga, incluye pisamalla, columneta y desmonte de poste galvanizado. | G23: =+'2'!H222 -> m2 | H23: =99.8*0.5 -> 49.9 | I23: =+'2'!D222 -> 17671 | J23: =+ROUND(H23*I23,0) -> 881783 | L23: =+J23/$J$190 -> 0.00043971159
G24: =+CONCATENATE("SUBTOTAL"," ",F16) -> SUBTOTAL DESMONTES Y DEMOLICIONES | J24: =+SUM(J17:J23) -> 11808774 | L24: =+J24/$J$190 -> 0.0058885857
E26: 3 | F26: EXCAVACIONES Y LLENOS | G26: UNIDAD | H26: CANTIDAD | I26: VALOR UNITARIO | J26: VALOR TOTAL
A27: =+CONCATENATE(B27,"_",E27) -> 31 23 16_JDN2023-TA-03-001 | B27: 31 23 16 | E27: JDN2023-TA-03-001 | F27: =+'3'!B3 -> Excavación en material común seco de 0 - 2 m manual | G27: =+'3'!H4 -> m3 | H27: 187.09 | I27: =+'3'!D4 -> 33111 | J27: =++ROUND(H27*I27,0) -> 6194737 | L27: =+J27/$J$190 -> 0.0030890793
E28: JDN2023-TA-03-002 | F28: =+'3'!B40 -> Retiro de material sobrante (distancia 1 a 15 Km) | G28: =+'3'!H41 -> m3 | H28: 132.58 | I28: =+'3'!D41 -> 34973 | J28: =++ROUND(H28*I28,0) -> 4636720 | L28: =+J28/$J$190 -> 0.0023121556
A29: =+CONCATENATE(B29,"_",E29) -> 31 23 16_JDN2023-TA-03-003 | B29: 31 23 16 | E29: JDN2023-TA-03-003 | F29: =+'3'!B75 -> Excavación material común abierto manual | G29: =+'3'!H76 -> m2 | H29: =31.3*1.5*1 -> 46.95 | I29: =+'3'!D76 -> 39262 | J29: =++ROUND(H29*I29,0) -> 1843351 | L29: =+J29/$J$190 -> 0.00091920891 | N29: =187.09/2 -> 93.545
E30: JDN2023-TA-03-004 | F30: =+'3'!B112 -> Lleno compactado con afirmado incluye transporte | G30: =+'3'!H113 -> m3 | H30: 38.36 | I30: =+'3'!D113 -> 75740 | J30: =++ROUND(H30*I30,0) -> 2905386
A31: =+CONCATENATE(B31,"_",E31) -> 31 23 23_JDN2023-TA-03-005 | B31: 31 23 23 | E31: JDN2023-TA-03-005 | F31: =+'3'!B151 -> Lleno compactado con material del sitio manual | G31: =+'3'!H152 -> m3 | H31: 93.5 | I31: =+'3'!D152 -> 27222 | J31: =++ROUND(H31*I31,0) -> 2545257 | L31: =+J31/$J$190 -> 0.0012692227
A32: =+CONCATENATE(B32,"_",E32) -> 31 23 23_JDN2023-TA-03-006 | B32: 31 23 23 | E32: JDN2023-TA-03-006 | F32: =+'3'!B189 -> Lleno compactado manual con material transportado | G32: =+'3'!H190 -> m3 | H32: 93.5 | I32: =+'3'!D190 -> 71029 | J32: =++ROUND(H32*I32,0) -> 6641212 | L32: =+J32/$J$190 -> 0.0033117194
G33: =+CONCATENATE("SUBTOTAL"," ",F26) -> SUBTOTAL EXCAVACIONES Y LLENOS | J33: =+SUM(J27:J32) -> 24766663 | L33: =+J33/$J$190 -> 0.012350191
E35: 4 | F35: CONCRETOS | G35: UNIDAD | H35: CANTIDAD | I35: VALOR UNITARIO | J35: VALOR TOTAL
E36: JDN2023-TA-04-001 | F36: =+'4'!B4 -> Solado en concreto de 10,3 Mpa | G36: =+'4'!H5 -> m3 | H36: 5.35 | I36: =+'4'!D5 -> 352744 | J36: =++ROUND(H36*I36,0) -> 1887180 | L36: =+J36/$J$190 -> 0.00094106477
A37: =+CONCATENATE(B37,"_",E37) -> 03 06 30 13_JDN2023-TA-04-002 | B37: 03 06 30 13 | E37: JDN2023-TA-04-002 | F37: =+'4'!B41 -> Placa de contrapiso en concreto premezclado de 27,6 Mpa ( 4000 psi) e = 0,10 m, no incluye malla electrosoldada | G37: =+'4'!H42 -> m2 | H37: 366.34 | I37: =+'4'!D42 -> 76612 | J37: =++ROUND(H37*I37,0) -> 28066040 | L37: =+J37/$J$190 -> 0.013995465 | M37: 366.33
A38: =+CONCATENATE(B38,"_",E38) -> 03 11 13_JDN2023-TA-04-003 | B38: 03 11 13 | E38: JDN2023-TA-04-003 | F38: =+'4'!B81 -> Zapatas en concreto premezclado de 27,6 Mpa (4000 PSI), no incluye refuerzo | G38: =+'4'!H82 -> m3 | H38: 53.55 | I38: =+'4'!D82 -> 777724 | J38: =++ROUND(H38*I38,0) -> 41647120 | L38: =+J38/$J$190 -> 0.020767832 | M38: 53.55
A39: =+CONCATENATE(B39,"_",E39) -> 03 06 30 26_JDN2023-TA-04-004 | B39: 03 06 30 26 | E39: JDN2023-TA-04-004 | F39: =+'4'!B124 -> Viga de enlace de zapatas en concreto premezclado de 27,6 Mpa (4000 PSI), no incluye refuerzo | G39: =+'4'!H125 -> m3 | H39: 18.75 | I39: =+'4'!D125 -> 793957 | J39: =++ROUND(H39*I39,0) -> 14886694 | L39: =+J39/$J$190 -> 0.0074234271
A40: =+CONCATENATE(B40,"_",E40) -> 03 06 30 16_JDN2023-TA-04-005 | B40: 03 06 30 16 | E40: JDN2023-TA-04-005 | F40: =+'4'!B167 -> Columna en concreto premezclado de 27,6 Mpa (4000 PSI) a la vista , no incluye refuerzo | G40: =+'4'!H168 -> m3 | H40: 45.71 | I40: =+'4'!D168 -> 1057958 | J40: =++ROUND(H40*I40,0) -> 48359260 | L40: =+J40/$J$190 -> 0.024114921 | M40: º
A41: =+CONCATENATE(B41,"_",E41) -> 03 48 19_JDN2023-TA-04-006 | B41: 03 48 19 | E41: JDN2023-TA-04-006 | F41: =+'4'!B214 -> Escalera en espina de pescado en perlin de 2P 10-11con huellas en perlin P12-12 abierto con concreto de 20.7 Mpa (3000 psi) de 8 cm, incluye Platinas de soporte para pasos, anticorrosivo y pintura. | G41: =+'4'!H215 -> m | H41: 25.44 | I41: =+'4'!D215 -> 687495 | J41: =++ROUND(H41*I41,0) -> 17489873 | L41: =+J41/$J$190 -> 0.0087215333
A42: =+CONCATENATE(B42,"_",E42) -> 03 06 30 19_JDN2023-TA-04-007 | B42: 03 06 30 19 | E42: JDN2023-TA-04-007 | F42: =+'4'!B260 -> Placa con lamina colaborante cal 22 en concreto premezclado de 27,6 Mpa (4000 PSI) laterales a la vista, e = 0,10 m, incluye Malla electrosoldada | G42: =+'4'!H261 -> m2 | H42: 472.6 | I42: =+'4'!D261 -> 151596 | J42: =++ROUND(H42*I42,0) -> 71644270 | L42: =+J42/$J$190 -> 0.035726268 | M42: 475.31
A43: =+CONCATENATE(B43,"_",E43) -> 03 06 30 26_JDN2023-TA-04-008 | B43: 03 06 30 26 | E43: JDN2023-TA-04-008 | F43: =+'4'!B302 -> Viga aérea en concreto premezclado de 27,6 Mpa (4000 PSI) a la vista, no incluye refuerzo | G43: =+'4'!H303 -> m3 | H43: 125.5 | I43: =+'4'!D303 -> 1387044 | J43: =++ROUND(H43*I43,0) -> 174074022 | L43: =+J43/$J$190 -> 0.086804083
A44: =+CONCATENATE(B44,"_",E44) -> 03 33 00_JDN2023-TA-04-009 | B44: 03 33 00 | E44: JDN2023-TA-04-009 | F44: =+'4'!B349 -> Alfajía en concreto de 20,7 Mpa para remate de muro, incluye refuerzo | G44: =+'4'!H350 -> m | H44: 167.07 | I44: =+'4'!D350 -> 124761 | J44: =++ROUND(H44*I44,0) -> 20843820 | L44: =+J44/$J$190 -> 0.010394019
A45: =+CONCATENATE(B45,"_",E45) -> 03 30 53_JDN2023-TA-04-010 | B45: 03 30 53 | E45: JDN2023-TA-04-010 | F45: =+'4'!B393 -> Rampa en concreto de 20,7 Mpa (3000 PSI) e = 0,10 m | G45: =+'4'!H394 -> m2 | H45: 11.2 | I45: =+'4'!D394 -> 72102 | J45: =++ROUND(H45*I45,0) -> 807542 | L45: =+J45/$J$190 -> 0.00040269043
...

Sheet 1
B2: ESCENARIO DEPORTIVO TIRO CON ARCO
B3: REFERENCIA | D3: JDN2023-TA-01-001
B4: Localización y replanteo | D4: VALOR | H4: Unidad
D5: =+ROUND(H29+H19+H14+H23,0) -> 1637 | H5: m2
B8: MATERIALES | D8: UNIDAD | E8: CANTIDAD | F8: DES | G8: VALOR UNITARIO | H8: VALOR TOTAL
B9: MAT,334 | C9: =VLOOKUP(B9,'LISTA DE PRECIOS'!A:B,2,FALSE) -> Puntilla de 3" | D9: =VLOOKUP(B9,'LISTA DE PRECIOS'!A:D,4,FALSE) -> Lb | E9: 0.02 | F9: 1 | G9: =VLOOKUP(B9,'LISTA DE PRECIOS'!A:E,5,FALSE) -> 3500 | H9: =+ROUND(E9*F9*G9,0) -> 70
B10: MAT,176 | C10: =VLOOKUP(B10,'LISTA DE PRECIOS'!A:B,2,FALSE) -> Guadua basa longitud promedio = 5 m | D10: =VLOOKUP(B10,'LISTA DE PRECIOS'!A:D,4,FALSE) -> Un | E10: 0.02 | F10: 0.3 | G10: =VLOOKUP(B10,'LISTA DE PRECIOS'!A:E,5,FALSE) -> 6228 | H10: =+ROUND(E10*F10*G10,0) -> 37
B11: MAT,116 | C11: =VLOOKUP(B11,'LISTA DE PRECIOS'!A:B,2,FALSE) -> Cuartón de sajo 2" x 4" x 2,9 m | D11: =VLOOKUP(B11,'LISTA DE PRECIOS'!A:D,4,FALSE) -> M | E11: 0.1 | F11: 0.3 | G11: =VLOOKUP(B11,'LISTA DE PRECIOS'!A:E,5,FALSE) -> 4359.6 | H11: =+ROUND(E11*F11*G11,0) -> 131
B12: MAT,298 | C12: =VLOOKUP(B12,'LISTA DE PRECIOS'!A:B,2,FALSE) -> Pintura esmalte para exteriores | D12: =VLOOKUP(B12,'LISTA DE PRECIOS'!A:D,4,FALSE) -> Gl | E12: 0.002 | F12: 1.03 | G12: =VLOOKUP(B12,'LISTA DE PRECIOS'!A:E,5,FALSE) -> 60633 | H12: =+ROUND(E12*F12*G12,0) -> 125
B13: MAT,222 | C13: =VLOOKUP(B13,'LISTA DE PRECIOS'!A:B,2,FALSE) -> Listón sajo de 5 x 3 cm x 2,5 m (varilla) | D13: =VLOOKUP(B13,'LISTA DE PRECIOS'!A:D,4,FALSE) -> M | E13: 0.1 | F13: 0.3 | G13: =VLOOKUP(B13,'LISTA DE PRECIOS'!A:E,5,FALSE) -> 5424 | H13: =+ROUND(E13*F13*G13,0) -> 163
E14: SUBTOTAL MATERIALES | H14: =ROUND(SUM(H9:H13),0) -> 526
B16: EQUIPOS Y HERRAMIENTAS | D16: UNIDAD | E16: RENDIMIENTO | F16: CANT | G16: VALOR UNITARIO | H16: VALOR TOTAL
B17: EQU002 | C17: =VLOOKUP(B17,'LISTA DE PRECIOS'!A:B,2,FALSE) -> Herramienta menor | D17: =VLOOKUP(B17,'LISTA DE PRECIOS'!A:D,4,FALSE) -> %MO | E17: 0.1 | G17: =+H29 -> 916 | H17: =+ROUND(E17*G17,0) -> 92
B18: EQU011 | C18: =VLOOKUP(B18,'LISTA DE PRECIOS'!A:B,2,FALSE) -> Equipo completo de topografía | D18: =VLOOKUP(B18,'LISTA DE PRECIOS'!A:D,4,FALSE) -> Día | E18: 0.001 | G18: =VLOOKUP(B18,'LISTA DE PRECIOS'!A:E,5,FALSE) -> 102710.1 | H18: =+ROUND(E18*G18,0) -> 103
E19: SUBTOTAL EQUIPOS | H19: =ROUND(SUM(H17:H18),0) -> 195
B21: TRANSPORTE | D21: UNIDAD | E21: DISTANCIA (Km) | F21: CANT | G21: VALOR UNITARIO ($/ m³*km) | H21: VALOR TOTAL
B22: 3 | C22: No aplica | H22: =+ROUND(E22*G22,0) -> 0
E23: SUBTOTAL TRANSPORTE | H23: =ROUND(SUM(H22:H22),0) -> 0
B25: MANO DE OBRA | D25: UNIDAD | E25: RENDIMIENTO | F25: CANT | G25: VALOR /HORA | H25: VALOR TOTAL
B26: MO 014 | C26: =VLOOKUP(B26,'LISTA DE PRECIOS'!A:B,2,FALSE) -> Topógrafo | D26: =VLOOKUP(B26,'LISTA DE PRECIOS'!A:D,4,FALSE) -> Día | E26: 0.002 | F26: 1 | G26: =VLOOKUP(B26,'LISTA DE PRECIOS'!A:E,5,FALSE) -> 219995 | H26: =+ROUND(E26*F26*G26,0) -> 440
B27: MO 004 | C27: =VLOOKUP(B27,'LISTA DE PRECIOS'!A:B,2,FALSE) -> Cadenero 1 | D27: =VLOOKUP(B27,'LISTA DE PRECIOS'!A:D,4,FALSE) -> Día | E27: 0.002 | F27: 1 | G27: =VLOOKUP(B27,'LISTA DE PRECIOS'!A:E,5,FALSE) -> 101946 | H27: =+ROUND(E27*F27*G27,0) -> 204
B28: MO 005 | C28: =VLOOKUP(B28,'LISTA DE PRECIOS'!A:B,2,FALSE) -> Cadenero 2 | D28: =VLOOKUP(B28,'LISTA DE PRECIOS'!A:D,4,FALSE) -> Día | E28: 0.002 | F28: 2 | G28: =VLOOKUP(B28,'LISTA DE PRECIOS'!A:E,5,FALSE) -> 67964 | H28: =+ROUND(E28*F28*G28,0) -> 272
E29: SUBTOTAL MANO DE OBRA | H29: =ROUND(SUM(H26:H28),0) -> 916
E31: COSTO DIRECTO | H31: =+ROUND(H29+H19+H14+H23,0) -> 1637
E33: AIU | G33: Porcentaje | H33: Valor Total
E34: ADMINISTRACION | G34: 0.2765 | H34: =+H31*G34 -> 452.6305
E35: IMPREVISTOS | G35: 0 | H35: =+H31*G35 -> 0
E36: UTILIDAD | G36: 0.05 | H36: =+H31*G36 -> 81.85
E38: COSTO INDIRECTO | H38: =+ROUND(H34+H35+H36,0) -> 534
E40: Precio Unitario Total Aproximado al peso $ | H40: =ROUND(H31+H38,0) -> 2171
C42: Elaboro: Ingeniero Jhon Alvaro Pabon | E42: VoBo: Ingeniero Juan Pablo Guzman Martinez
C46: VoBo: Arquitecta Jocelyn Danna | E46: VoBo: Arquitecto Fredy Enrique Lopez Ramirez
B49: ESCENARIO DEPORTIVO TIRO CON ARCO
B50: REFERENCIA | D50: JDN2023-TA-01-002
B51: Suministro e instalacion de tela de cerramiento h= 2.0 m | D51: VALOR | H51: Unidad
D52: =+ROUND(H70+H62+H58+H66,0) -> 4147 | H52: m
B55: MATERIALES | D55: UNIDAD | E55: CANTIDAD | F55: DES | G55: VALOR UNITARIO | H55: VALOR TOTAL
B56: MAT,032 | C56: =VLOOKUP(B56,'LISTA DE PRECIOS'!A:B,2,FALSE) -> Amarras con tapa plástica | D56: =VLOOKUP(B56,'LISTA DE PRECIOS'!A:D,4,FALSE) -> Un | E56: 2 | F56: 1 | G56: =VLOOKUP(B56,'LISTA DE PRECIOS'!A:E,5,FALSE) -> 199 | H56: =+ROUND(E56*F56*G56,0) -> 398
B57: MAT,394 | C57: =VLOOKUP(B57,'LISTA DE PRECIOS'!A:B,2,FALSE) -> Tela de cerramiento a = 2,10 m (rollo por 100 m) | D57: =VLOOKUP(B57,'LISTA DE PRECIOS'!A:D,4,FALSE) -> M2 | E57: 2.1 | F57: 1.05 | G57: =VLOOKUP(B57,'LISTA DE PRECIOS'!A:E,5,FALSE) -> 1361 | H57: =+ROUND(E57*F57*G57,0) -> 3001
E58: SUBTOTAL MATERIALES | H58: =ROUND(SUM(H56:H57),0) -> 3399
...

Sheet 2
B2: ESCENARIO DEPORTIVO TIRO CON ARCO
B3: REFERENCIA | D3: JDN2023-TA-02-001
B4: Desmonte aparatos sanitarios, con recuperación de ellos | D4: VALOR | H4: Unidad
D5: =+ROUND(H23+H15+H10+H19,0) -> 24638 | H5: UND
B8: MATERIALES | D8: UNIDAD | E8: CANTIDAD | F8: DES | G8: VALOR UNITARIO | H8: VALOR TOTAL
E10: SUBTOTAL MATERIALES | H10: =ROUND(SUM(H9:H9),0) -> 0
B12: EQUIPOS Y HERRAMIENTAS | D12: UNIDAD | E12: RENDIMIENTO | F12: CANT | G12: VALOR UNITARIO | H12: VALOR TOTAL
B13: EQU002 | C13: =VLOOKUP(B13,'LISTA DE PRECIOS'!A:B,2,FALSE) -> Herramienta menor | D13: =VLOOKUP(B13,'LISTA DE PRECIOS'!A:D,4,FALSE) -> %MO | E13: 0.15 | G13: =H23 -> 19710 | H13: =+ROUND(E13*G13,0) -> 2957
B14: MOB011 | C14: =VLOOKUP(B14,'LISTA DE PRECIOS'!A:B,2,FALSE) -> Acarreo Horizontal | D14: =VLOOKUP(B14,'LISTA DE PRECIOS'!A:D,4,FALSE) -> % MO | E14: 0.1 | G14: =H23 -> 19710 | H14: =+ROUND(E14*G14,0) -> 1971
E15: SUBTOTAL EQUIPOS | H15: =ROUND(SUM(H13:H14),0) -> 4928
B17: TRANSPORTE | D17: UNIDAD | E17: DISTANCIA (Km) | F17: CANT | G17: VALOR UNITARIO ($/ m³*km) | H17: VALOR TOTAL
B18: 3 | C18: No aplica | H18: =+ROUND(E18*G18,0) -> 0
E19: SUBTOTAL TRANSPORTE | H19: =ROUND(SUM(H18:H18),0) -> 0
B21: MANO DE OBRA | D21: UNIDAD | E21: RENDIMIENTO | F21: CANT | G21: VALOR /HORA | H21: VALOR TOTAL
B22: MO 001 | C22: =VLOOKUP(B22,'LISTA DE PRECIOS'!A:B,2,FALSE) -> Ayudante | D22: =VLOOKUP(B22,'LISTA DE PRECIOS'!A:D,4,FALSE) -> Día | E22: 0.29 | F22: 1 | G22: =VLOOKUP(B22,'LISTA DE PRECIOS'!A:E,5,FALSE) -> 67964 | H22: =+ROUND(E22*F22*G22,0) -> 19710
E23: SUBTOTAL MANO DE OBRA | H23: =ROUND(SUM(H22:H22),0) -> 19710
E25: COSTO DIRECTO | H25: =+ROUND(H23+H15+H10+H19,0) -> 24638
C31: Elaboro: Ingeniero Jhon Alvaro Pabon | E31: VoBo: Ingeniero Juan Pablo Guzman Martinez
C35: VoBo: Arquitecta Jocelyn Danna | E35: VoBo: Arquitecto Fredy Enrique Lopez Ramirez
B38: ESCENARIO DEPORTIVO TIRO CON ARCO
B39: REFERENCIA | D39: JDN2023-TA-02-002
B40: Demolición de losa sobre terreno | D40: VALOR | H40: Unidad
D41: =+ROUND(H59+H51+H46+H55,0) -> 11663 | H41: m2
B44: MATERIALES | D44: UNIDAD | E44: CANTIDAD | F44: DES | G44: VALOR UNITARIO | H44: VALOR TOTAL
E46: SUBTOTAL MATERIALES | H46: =ROUND(SUM(H45:H45),0) -> 0
B48: EQUIPOS Y HERRAMIENTAS | D48: UNIDAD | E48: RENDIMIENTO | F48: CANT | G48: VALOR UNITARIO | H48: VALOR TOTAL
B49: EQU002 | C49: =VLOOKUP(B49,'LISTA DE PRECIOS'!A:B,2,FALSE) -> Herramienta menor | D49: =VLOOKUP(B49,'LISTA DE PRECIOS'!A:D,4,FALSE) -> %MO | E49: 0.15 | G49: =+H59 -> 8971 | H49: =+ROUND(E49*G49,0) -> 1346
B50: MOB011 | C50: =VLOOKUP(B50,'LISTA DE PRECIOS'!A:B,2,FALSE) -> Acarreo Horizontal | D50: =VLOOKUP(B50,'LISTA DE PRECIOS'!A:D,4,FALSE) -> % MO | E50: 0.15 | G50: =+H59 -> 8971 | H50: =+ROUND(E50*G50,0) -> 1346
E51: SUBTOTAL EQUIPOS | H51: =ROUND(SUM(H49:H50),0) -> 2692
B53: TRANSPORTE | D53: UNIDAD | E53: DISTANCIA (Km) | F53: CANT | G53: VALOR UNITARIO ($/ m³*km) | H53: VALOR TOTAL
B54: 3 | C54: No aplica | H54: =+ROUND(E54*G54,0) -> 0
E55: SUBTOTAL TRANSPORTE | H55: =ROUND(SUM(H54:H54),0) -> 0
B57: MANO DE OBRA | D57: UNIDAD | E57: RENDIMIENTO | F57: CANT | G57: VALOR /HORA | H57: VALOR TOTAL
B58: MO 001 | C58: =VLOOKUP(B58,'LISTA DE PRECIOS'!A:B,2,FALSE) -> Ayudante | D58: =VLOOKUP(B58,'LISTA DE PRECIOS'!A:D,4,FALSE) -> Día | E58: 0.033 | F58: 4 | G58: =VLOOKUP(B58,'LISTA DE PRECIOS'!A:E,5,FALSE) -> 67964 | H58: =+ROUND(E58*F58*G58,0) -> 8971
E59: SUBTOTAL MANO DE OBRA | H59: =ROUND(SUM(H58:H58),0) -> 8971
E61: COSTO DIRECTO | H61: =+ROUND(H59+H51+H46+H55,0) -> 11663
C67: Elaboro: Ingeniero Jhon Alvaro Pabon | E67: VoBo: Ingeniero Juan Pablo Guzman Martinez
C71: VoBo: Arquitecta Jocelyn Danna | E71: VoBo: Arquitecto Fredy Enrique Lopez Ramirez
B74: ESCENARIO DEPORTIVO TIRO CON ARCO
B75: REFERENCIA | D75: JDN2023-TA-02-003
...

Sheet 3
B1: ESCENARIO DEPORTIVO TIRO CON ARCO
B2: REFERENCIA | D2: JDN2023-TA-03-001
B3: Excavación en material común seco de 0 - 2 m manual | D3: VALOR | H3: Unidad
D4: =+ROUND(H23+H14+H9+H18,0) -> 33111 | H4: m3
B7: MATERIALES | D7: UNIDAD | E7: CANTIDAD | F7: DESP | G7: VALOR UNITARIO | H7: VALOR TOTAL
E9: SUBTOTAL MATERIALES | H9: =ROUND(SUM(H8:H8),0) -> 0
B11: EQUIPOS Y HERRAMIENTAS | D11: UNIDAD | E11: RENDIMIENTO | F11: DESP | G11: VALOR UNITARIO | H11: VALOR TOTAL
B12: EQU002 | C12: =VLOOKUP(B12,'LISTA DE PRECIOS'!A:B,2,FALSE) -> Herramienta menor | D12: =VLOOKUP(B12,'LISTA DE PRECIOS'!A:D,4,FALSE) -> %MO | E12: 0.1 | F12: 1 | G12: =+H23 -> 27593 | H12: =+ROUND(E12*F12*G12,0) -> 2759
B13: MOB011 | C13: =VLOOKUP(B13,'LISTA DE PRECIOS'!A:B,2,FALSE) -> Acarreo Horizontal | D13: =VLOOKUP(B13,'LISTA DE PRECIOS'!A:D,4,FALSE) -> % MO | E13: 0.1 | F13: 1 | G13: =+H23 -> 27593 | H13: =+ROUND(E13*G13,0) -> 2759
E14: SUBTOTAL EQUIPOS | H14: =ROUND(SUM(H12:H13),0) -> 5518
B16: TRANSPORTE | D16: UNIDAD | E16: DISTANCIA (Km) | F16: CANT | G16: VALOR UNITARIO ($/ m³*km) | H16: VALOR TOTAL
B17: 3 | C17: No aplica | H17: =+ROUND(E17*G17,0) -> 0
E18: SUBTOTAL TRANSPORTE | H18: =ROUND(SUM(H17:H17),0) -> 0
B20: MANO DE OBRA | D20: UNIDAD | E20: RENDIMIENTO | F20: CANT | G20: VALOR /HORA | H20: VALOR TOTAL
B21: MO 001 | C21: =VLOOKUP(B21,'LISTA DE PRECIOS'!A:B,2,FALSE) -> Ayudante | D21: =VLOOKUP(B21,'LISTA DE PRECIOS'!A:D,4,FALSE) -> Día | E21: 0.07 | F21: 4 | G21: =VLOOKUP(B21,'LISTA DE PRECIOS'!A:E,5,FALSE) -> 67964 | H21: =+ROUND(E21*F21*G21,0) -> 19030
B22: MO 003 | C22: =VLOOKUP(B22,'LISTA DE PRECIOS'!A:B,2,FALSE) -> Oficial | D22: =VLOOKUP(B22,'LISTA DE PRECIOS'!A:D,4,FALSE) -> Día | E22: 0.07 | F22: 1 | G22: =VLOOKUP(B22,'LISTA DE PRECIOS'!A:E,5,FALSE) -> 122335 | H22: =+ROUND(E22*F22*G22,0) -> 8563
E23: SUBTOTAL MANO DE OBRA | H23: =ROUND(SUM(H21:H22),0) -> 27593
E25: COSTO DIRECTO | H25: =+ROUND(H23+H14+H9+H18,0) -> 33111
C31: Elaboro: Ingeniero Jhon Alvaro Pabon | E31: VoBo: Ingeniero Juan Pablo Guzman Martinez
C35: VoBo: Arquitecta Jocelyn Danna | E35: VoBo: Arquitecto Fredy Enrique Lopez Ramirez
B38: ESCENARIO DEPORTIVO TIRO CON ARCO
B39: REFERENCIA | D39: JDN2023-TA-03-002
B40: Retiro de material sobrante (distancia 1 a 15 Km) | D40: VALOR | H40: Unidad
D41: =+ROUND(H58+H50+H46+H54,0) -> 34973 | H41: m3
