Workbook
Name RESPUESTASINO: 'Hoja 1 variables'!$B$2:$B$3
Name unocero: '[1]Hoja 1 variables'!$C$2:$C$3

Sheet EVALUACIÓN
A1: PROPONENTE | B1: SOLUCIONES DE TECNOLOGIA E INGENIERIA SAS
B2: Nota: Se entenderá el número 1 que se encuentra cumpliendo y 0 que no cumple
A4: REQUISITO HABILITANTE | F4: CAUSAL DE RECHAZO De acuerdo al numeral 4.5- Causales de rechazo del pliego de condiciones, se establecio en el No 6: "Cuando existan inconsistencias en la información o documentos que sustenten los requisitos habilitantes y evaluables que no permitan hacer una comparación objetiva de las propuestas" Ver detalle Hoja 2. Experiencia habilitante
A5: CAPACIDAD JURÍDICA
A6: CAPACIDAD FINANCIERA
A7: CAPACIDAD ORGANIZACIONAL
A8: EXPERIENCIA PROPONENTE | B8: RECHAZADO
A9: HABILITADO
A13: PUNTAJE OBTENIDO
A14: CRITERIO DE EVALUACIÓN | C14: PUNTAJE MÁXIMO | D14: Puntaje Proponente
A15: 1. Oferta Economica | B15: Cantidad de centros poblados | C15: 25 | D15: =+IF(B9=1,'4. OFERTA ECONOMICA'!D6,"NA") -> NA
B16: Cantidad de meses de operación adicionales | C16: 15 | D16: =+IF(B9=1,'4. OFERTA ECONOMICA'!I6,"NA") -> NA
A17: 2. Calidad | B17: Velocidad mejorada | C17: 25 | D17: =+IF(B9=1,'5. CALIDAD'!E5,"NA") -> NA
B18: Tiempo de acceso gratuito por usuario adicional | C18: 24 | D18: =+IF(B9=1,'5. CALIDAD'!J5,"NA") -> NA
A19: 3. Apoyo Industria Nacional | C19: 10 | D19: =+IF(B9=1,C31,"NA") -> NA
A20: 4. Proponentes con trabajadores con discapacidad | C20: 1 | D20: =+IF(B9=1,B34,"NA") -> NA
A21: TOTAL | C21: =SUM(C15:C20) -> 100 | D21: =SUM(D15:D20) -> 0
A27: APOYO A LA INDUSTRIA NACIONAL | B27: PUNTAJE MÁXIMO | C27: PUNTAJE DEL PROPONENTE
A29: Cuando los proponentes oferten bienes o servicios nacionales. | B29: 10 | C29: x
A30: Tratándose de bienes o servicios extranjeros, pero que incorpore servicios profesionales, técnicos y operativos de origen nacional. | B30: 5
A31: Total puntaje apoyo a la industria nacional
A34: Puntaje para proponentes con trabajadores con discapacidad. | C34: No incluye en su propuesta anexo No 12-certificación proponente con trabajadores con discapacidad

Sheet 1.Carta y exp habilitante
A1: PROPONENTE | B1: =EVALUACIÓN!B1 -> SOLUCIONES DE TECNOLOGIA E INGENIERIA SAS
A4: CARTA DE PRESENTACIÓN DE LA PROPUESTA
A6: MIEMBROS DEL PROPONENTE PLURAL: | B6: PORCENTAJE DE PARTICIPACIÓN | D6: ACREDITA LA EXPERIENCIA
A7: SDT INGENIERIA | B7: 1 | D7: SI
A12: EXPERIENCIA COMO REQUISITO HABILITANTE
A13: Valor acreditado en SMMLV por los contratos válidos de acuerdo a los requisitos habilitantes del numeral 5.3. del Pliego de Condiciones | I13: ='2. Experiencia habilitante'!M11 -> 0
A16: Requisito mínimo habilitante en SMMLV | H16: Cumple con el requisito mínimo habilitante?
A17: =13503898500/828116 -> 16306.772 | H17: =+IF($I$13>=$A$17,1,0) -> 0

Sheet 2. Experiencia habilitante
A1: PROPONENTE | C1: =EVALUACIÓN!B1 -> SOLUCIONES DE TECNOLOGIA E INGENIERIA SAS
A3: # Contrato | B3: Miembro que reporta la Experiencia | C3: Consecutivo RUP | D3: Clasificación UNSPSC | E3: Entidad Contratante | F3: Resumen del objeto del contrato | G3: Fecha de Inicio | H3: Fecha de terminación | I3: Forma de ejecución | K3: Valor del Contrato COP | L3: SMMLV del año de terminación del contrato | M3: Valor del Contrato en SMMLV | N3: Valor del Contrato en SMMLV (RUP) | O3: CONTRATO VÁLIDO PARA HABILITAR | P3: OBSERVACIONES
I4: I, C, UT | J4: %
A5: 1 | B5: SDT INGENIERIA SAS | C5: 30 | D5: 81112100 81161700 | E5: MUNICIPIO MONTERIA | F5: Suministro de equipos tecnologicos, plataforma educativa e instalación de redes de datos para soportar la prestación del servicio de conectividad de internet a 119 IE oficiales del municipio de Monteria. Tomando como referencia los requerimientos establecidos en la ficha tecnica del programa conexión total del MEN | G5: 41883 | H5: 42004 | I5: I | J5: 1 | K5: 1384106416 | L5: 616000 | M5: =+K5/L5 -> 2246.926 | N5: 2246.93 | O5: 0 | P5: En la certificación aportada para este contrato, se encontró inconsistencia respecto del cargo y la idoneidad de quien suscribe la certificación ya que al ser un contrato ejecutado con un municipio quien aparentemente suscribe la certificación funge como "Gerente TIC del Dpto de Córdoba" Frente a ésto surge para el Comité evaluador la necesidad de validar la certificación con la Entidad Contratante (Alcaldia de Monteria) respecto a la veracidad de la información allí contenida. Al respecto mediante correo electronico de fecha 7 de mayo de 2019, la funcionaria Maria Luisa Franco de la Alcaldia de Montería quien presuntamente suscribe la certificación informa que no corresponde a su firma ni tiene las facultades para expedir este tipo de documento. Por lo anterior, y dadas las inconsistencias presentadas se encuentra incurso en la causal de rechazo No. 6 del pliego de condiciones que señala "Cuando existan inconsistencias en la información o documentos que sustenten los requisitos habilitantes y evaluables que no permitan hacer una comparación objetiva de las propuestas".
A6: 2 | B6: SDT INGENIERIA SAS | C6: 48 | D6: 81112100 81161700 | E6: MUNICIPIO PUERTO GAITAN | F6: Suministro e instalación para la implementación de infraestructura TIC y formación de usuarios para el desarrollo del Ecosistema Digital | G6: 42038 | H6: 42158 | I6: UT | J6: 0.7 | K6: =(3306900000*70)/100 -> 2314830000 | L6: 644350 | M6: =+K6/L6 -> 3592.5041 | N6: 5132.15 | O6: 0 | P6: El valor total del contrato es $ 3.306.900.000, pero debido a que se presento como Unión temporal, este integrante tenia el 70%, con lo cual se realizan los respectivos calculos. En la certificación aportada no se evidencia la actividad conjunta de planeación e instalación, solamente señala el suministro e instalación para la implementación de infraestructura .Por otra parte la certificación menciona el servicio de canal de internet agregado, no obstante en la certificación no se evidencia que se realizó la operación o mantenimiento de redes de telecomunicaciones, por lo cual no cumple, ver hoja 3 detalle de contratos
A7: 3 | B7: SDT INGENIERIA SAS | C7: 92 | D7: 81161700 83111600 | E7: EMPRESA DE RECURSOS TECNOLOGICOS SA-ERT | F7: Contratar la adquisición e instalación de la infraestructura tecnologica en soluciones de conectividad para el departamento de Caqueta. | G7: 41626 | H7: 42154 | I7: I | J7: 1 | K7: 1404000000 | L7: 616000 | M7: =+K7/L7 -> 2279.2208 | N7: 2279.22 | O7: 0 | P7: En la certificación aportada no se evidencia la actividad conjunta de planeación e instalación de redes de telecomunicaciones, solamente señala que se debe contratar la adquisición e instalación de la infraestructura tecnologica en soluciones de conectividad. Por lo cual no cumple, Ver hoja 3 detalle de contratos
A8: 4 | B8: SDT INGENIERIA SAS | C8: 96 | D8: 81112100 81161700 83111600 | E8: EMPRESA DE RECURSOS TECNOLOGICOS SA-ERT | F8: Prestación del servicio de una solución inalambrica con tecnologia wifi (CAPEX Y OPEX) en los deptos de Boyaca, Huila y Nariño detallados en la enexo tecnico. | G8: 43280 | H8: 43555 | I8: I | J8: 1 | K8: 2249234898 | L8: 781242 | M8: =+K8/L8 -> 2879.0502 | N8: 2879.05 | O8: 0 | P8: En la certificación aportada no se evidencia las actividades con respecto a la experiencia requerida de planeación e instalación, operación o mantenimiento de redes de telecomunicaciones. Ver hoja 3 detalle de contratos
A9: 5 | B9: SDT INGENIERIA SAS | C9: 98 | D9: 81112100 81161700 83111600 | E9: EMPRESA DE TELECOMUNICACIONES DE POPAYAN SA-EMTEL ESP | F9: Suministro e instalación de espacios de acceso gratuito a Internet a traves de las zonas wifi que integran las TIC que se instalen a nivel nacional en los deptos de Arauca, Bolivar, Cauca, Cesar, Choco, Cordoba, Cundinamarca, La Guajira, Guaviare, Norte de Santander, Nariño, Sucre y Vichada entre otros | G9: 43075 | H9: 43312 | I9: I | J9: 1 | K9: 5139898088 | L9: 781242 | M9: =+K9/L9 -> 6579.1369 | N9: 6579.13 | O9: 0 | P9: En la certificación aportada no se evidencia las actividades u obligaciones con respecto a la experiencia requerida de planeación e instalación, operación o mantenimiento de redes de telecomunicaciones. Ver hoja 3 detalle de contratos
A10: 6 | B10: SDT INGENIERIA SAS | C10: 101 | D10: 81112100 81161700 83111600 | E10: PROJECT AND BUSINESS MANAGEMENT SAS | F10: Habilitar y promover espacios de acceso gratuito a Internet a traves de las zonas wifi que integran las TIC para el uso de la comunidad en el depto de Meta | G10: 43075 | H10: 43312 | I10: I | J10: 1 | K10: 2418436428 | L10: 781242 | M10: =+K10/L10 -> 3095.6303 | N10: 3095.63 | O10: 0 | P10: En la certificación aportada no se evidencia las actividades u obligaciones con respecto a la experiencia requerida de planeación e instalación, operación o mantenimiento de redes de telecomunicaciones. Ver hoja 3 detalle de contratos
M11: =+SUMPRODUCT($N$5:$N$10,$O$5:$O$10) -> 0

Sheet 3.DETALLE CONTRATOS 
A1: PROPONENTE | B1: =EVALUACIÓN!B1 -> SOLUCIONES DE TECNOLOGIA E INGENIERIA SAS
A3: NUMERAL | B3: REQUISITO | C3: CONTRATO 1 | E3: CONTRATO 2 | G3: CONTRATO 3 | I3: CONTRATO 4 | K3: CONTRATO 5 | M3: CONTRATO 6
C4: VALOR / COMENTARIOS | D4: CUMPLE | E4: VALOR / COMENTARIOS | F4: CUMPLE | G4: VALOR / COMENTARIOS | H4: CUMPLE | I4: VALOR / COMENTARIOS | J4: CUMPLE | K4: VALOR / COMENTARIOS | L4: CUMPLE | M4: VALOR / COMENTARIOS | N4: CUMPLE
A5: 280 | B5: El Proponente deberá deberá acreditar su experiencia en la Provisión de Redes y Servicios de Telecomunicaciones, observando la siguiente condicion: • El objeto de los contratos aportados deberá contener actividades de: (1) Planeación, e instalación o; (2) Operación o Mantenimiento de redes de telecomunicaciones. | D5: SI | E5: En la certificación aportada no se evidencia la actividad conjunta de planeación e instalación, solamente señala el suministro e instalación para la implementación de infraestructura .Por otra parte la certificación menciona el servicio de canal de internet agregado, no obstante en la certificación no se evidencia que se realizó la operación o mantenimiento de redes de telecomunicaciones. | F5: NO | G5: En la certificación aportada no se evidencia la actividad conjunta de planeación e instalación de redes de telecomunicaciones, solamente señala que se debe contratar la adquisición e instalación de la infraestructura tecnologica en soluciones de conectividad. | H5: NO | I5: En la certificación aportada no se evidencia las actividades con respecto a la experiencia requerida, pues el objeto es la Prestación del servicio de una solución inalambrica con tecnologia wifi (CAPEX Y OPEX) | J5: NO | K5: En la certificación aportada no se evidencia las actividades con respecto a la experiencia requerida, su objeto es suministro e instalación de espacios de acceso gratuito a Internet a traves de las zonas wifi que integran las TIC, por lo cual no se evidencia su actividad la actividad conjunta de planeación e instalación de redes de telecomunicaciones. | L5: NO | M5: En la certificación aportada no se evidencia las actividades con respecto a la experiencia requerida de planeación e instalación, operación o mantenimiento de redes de telecomunicaciones, teniendo en cuenta que el objeto es: Habilitar y promover espacios de acceso gratuito a Internet a traves de las zonas wifi | N5: NO
A6: INFORMACIÓN NO CONTENIDA EN EL RUP (VERIFICAR A TRAVÉS DE LA CERTIFICACIÓN)
A7: 5.3.1.2 Pliego de Condiciones | B7: Objeto del Contrato. | D7: SI | F7: SI | H7: SI | J7: SI | L7: SI | N7: SI
B8: Actividades y /o obligaciones | D8: SI | F8: SI | G8: No se encuentran las actividades u obligaciones en la certificación para acreditar la experiencia de acuerdo a las actividades requeridas | H8: NO | I8: No se encuentran las actividades u obligaciones en la certificación para acreditar la experiencia, o en su defecto no se relaciona el anexo tecnico a que hace referencia el objeto del contrato. | J8: NO | K8: No se encuentran las actividades u obligaciones en la certificación para acreditar la experiencia de acuerdo a las actividades requeridas | L8: NO | M8: No se encuentran las actividades u obligaciones en la certificación para acreditar la experiencia de acuerdo a las actividades requeridas | N8: NO
B9: Identificación y cargo de la persona facultada para expedirla. | C9: En la certificación aportada para este contrato, se encontraron inconsistencias que generaron la necesidad de validar la certificación con la Entidad Contratante (Alcaldia de Monteria) respecto a la veracidad de la información allí contenida, así como la idoneidad de quien la firma. Al respecto mediante correo electronico de fecha 7 de mayo de 2019, la funcionaria Maria Luisa Franco de la Alcaldia de Montería quien presuntamente suscribe la certificación informa que no corresponde a su firma ni tiene las facultades para expedir este tipo de documento. | D9: NO | F9: SI | H9: SI | J9: SI | K9: En la certificación no se identifica el cargo de la persona que expide dicha certificación. | L9: NO | N9: SI
B10: Si la certificación incluye varios contratos, se debe identificar en forma precisa si se trata de adiciones, prórrogas u otrosíes al principal o son contratos diferentes, indicando en cada uno de ellos sus plazos y valor. (En caso que aplique) | H10: SI
B11: Fecha de suscripción o de iniciación del Contrato. | D11: SI | F11: SI | H11: SI | J11: SI | L11: SI | N11: SI
B12: Fecha de terminación de los contratos suscritos, ejecutados y terminados dentro de los diez (10) años anteriores a la fecha de cierre del presente proceso de selección | D12: SI | F12: SI | H12: SI | J12: SI | L12: SI | N12: SI

Sheet 4. OFERTA ECONOMICA
A1: PROPONENTE | B1: =EVALUACIÓN!B1 -> SOLUCIONES DE TECNOLOGIA E INGENIERIA SAS
A2: PROPUESTA DE ECONOMICA
A5: A. Cantidad de centros poblados ofertados | D5: 1000 | F5: B. Cantidad de meses de operación adicionales | I5: 6
A6: Puntaje | F6: Puntaje
A7: MCP | F7: MCT
A9: Puntaje = (Qp *25) / MCP | F9: Puntaje = (Qp *15) / MCT
A10: MCP= Cantidad de centros poblados incluidos en la propuesta que encabeza la asignación del puntaje; Qp = Cantidad de centros poblados incluidos en la propuesta evaluada | F10: MCT= Cantidad de meses adicionales de operación incluidos en la propuesta que encabeza la asignación del puntaje; Qp = Cantidad de meses adicionales de operación incluidos en la propuesta evaluada
A14: Nota: el proponente que oferte una cantidad de centros poblados inferior al 50% del universo de elegibles no recibirá puntaje.

Sheet 5. CALIDAD
A1: PROPONENTE | C1: =EVALUACIÓN!B1 -> SOLUCIONES DE TECNOLOGIA E INGENIERIA SAS
A2: PROPUESTA DE CALIDAD
B4: A. Velocidad Mejorada Unidad (Mbps) | E4: 8.5 | G4: B. Tiempo de acceso gratuito por usuario adicional unidad (minutos) | J4: 1410
B5: Puntaje | G5: Puntaje
B6: MCv | G6: MCA
B8: Puntaje = (Qp *25) / MCv | H8: Puntaje = (Qp *24) / MCA
B10: MCv = Velocidad efectiva máxima de transmisión de datos mejorada incluida en la propuesta que encabeza la asignación del puntaje medida en Mbps; Qp = Velocidad efectiva máxima de transmisión de datos mejorada en la propuesta evaluada medida en Mbps. | H10: MCA = Tiempo de acceso gratuito por usuario al día adicional al mínimo exigido incluido en la propuesta que encabeza la asignación del puntaje, medido en minutos; Qp = Tiempo de acceso gratuito por usuario al día, adicional al mínimo exigido incluido en la propuesta evaluada medido en minutos.

Sheet Hoja 1 variables
B2: SI | C2: 1 | D2: Año | E2: SMMLV
B3: NO | C3: 0 | D3: 2008 | E3: 461500
D4: 2009 | E4: 496900
B5: 100 | D5: 2010 | E5: 515000
B6: 0 | D6: 2011 | E6: 535600
D7: 2012 | E7: 566700
D8: 2013 | E8: 589500
D9: 2014 | E9: 616000
D10: 2015 | E10: 644350
D11: 2016 | E11: 689454
D12: 2017 | E12: 737717
D13: 2018 | E13: 781242
D14: 2019 | E14: 828116
