Workbook
Name RESPUESTASINO: 'Hoja 1 variables'!$B$2:$B$3
Name unocero: '[1]Hoja 1 variables'!$C$2:$C$3

Sheet EVALUACIÓN
A1: PROPONENTE | B1: RED DE INGENIERIA SAS
B2: Nota: Se entenderá el número 1 que se encuentra cumpliendo y 0 que no cumple
A4: REQUISITO HABILITANTE
A5: CAPACIDAD JURÍDICA | B5: 1
A6: CAPACIDAD FINANCIERA | B6: 1
A7: CAPACIDAD ORGANIZACIONAL | B7: 1
A8: EXPERIENCIA PROPONENTE | B8: =+'1.Carta y exp habilitante'!H17 -> 1
A9: HABILITADO | B9: =+IFERROR(IF(AND(B5:B8),1,0),0) -> 1
A13: PUNTAJE OBTENIDO
A14: CRITERIO DE EVALUACIÓN | C14: PUNTAJE MÁXIMO | D14: Puntaje Proponente
A15: 1. Oferta Economica | B15: Cantidad de centros poblados | C15: 25 | D15: =+IF(B9=1,'4. OFERTA ECONOMICA'!D6,"NA") -> 25
B16: Cantidad de meses de operación adicionales | C16: 15 | D16: =+IF(B9=1,'4. OFERTA ECONOMICA'!I6,"NA") -> 15
A17: 2. Calidad | B17: Velocidad mejorada | C17: 25 | D17: =+IF(B9=1,'5. CALIDAD'!E5,"NA") -> 25
B18: Tiempo de acceso gratuito por usuario adicional | C18: 24 | D18: =+IF(B9=1,'5. CALIDAD'!J5,"NA") -> 24
A19: 3. Apoyo Industria Nacional | C19: 10 | D19: =+IF(B9=1,C31,"NA") -> 10
A20: 4. Proponentes con trabajadores con discapacidad | C20: 1 | D20: =+IF(B9=1,B34,"NA") -> 0
A21: TOTAL | C21: =SUM(C15:C20) -> 100 | D21: =SUM(D15:D20) -> 99
A27: APOYO A LA INDUSTRIA NACIONAL | B27: PUNTAJE MÁXIMO | C27: PUNTAJE DEL PROPONENTE
A29: Cuando los proponentes oferten bienes o servicios nacionales. | B29: 10 | C29: x
A30: Tratándose de bienes o servicios extranjeros, pero que incorpore servicios profesionales, técnicos y operativos de origen nacional. | B30: 5
A31: Total puntaje apoyo a la industria nacional | C31: 10
A34: Puntaje para proponentes con trabajadores con discapacidad. | B34: 0 | C34: No incluye en su propuesta anexo No 12-certificación proponente con trabajadores con discapacidad

Sheet 1.Carta y exp habilitante
A1: PROPONENTE | B1: =EVALUACIÓN!B1 -> RED DE INGENIERIA SAS
A4: CARTA DE PRESENTACIÓN DE LA PROPUESTA
A6: MIEMBROS DEL PROPONENTE PLURAL: | B6: PORCENTAJE DE PARTICIPACIÓN | D6: ACREDITA LA EXPERIENCIA
A7: RED DE INGENIERIA SAS | B7: 1 | D7: SI
A12: EXPERIENCIA COMO REQUISITO HABILITANTE
A13: Valor acreditado en SMMLV por los contratos válidos de acuerdo a los requisitos habilitantes del numeral 5.3. del Pliego de Condiciones | I13: ='2. Experiencia habilitante'!M11 -> 19381.25
A16: Requisito mínimo habilitante en SMMLV | H16: Cumple con el requisito mínimo habilitante?
A17: =13503898500/828116 -> 16306.772 | H17: =+IF($I$13>=$A$17,1,0) -> 1

Sheet 2. Experiencia habilitante
A1: PROPONENTE | C1: =EVALUACIÓN!B1 -> RED DE INGENIERIA SAS
A3: # Contrato | B3: Miembro que reporta la Experiencia | C3: Consecutivo RUP | D3: Clasificación UNSPSC | E3: Entidad Contratante | F3: Resumen del objeto del contrato | G3: Fecha de Inicio | H3: Fecha de terminación | I3: Forma de ejecución | K3: Valor del Contrato COP | L3: SMMLV del año de terminación del contrato | M3: Valor del Contrato en SMMLV | N3: Valor del Contrato en SMMLV (RUP) | O3: CONTRATO VÁLIDO PARA HABILITAR | P3: OBSERVACIONES
I4: I, C, UT | J4: %
A5: 1 | B5: RED DE INGENIERIA SAS | C5: 34 | D5: 81112100 86161700 | E5: FONDO DE TECNOLOGIAS DE LA INFORMACIÓN Y COMUNICACIONES | F5: IMPLEMENTAR LA ESTRATEGIA PUNTOS DIGITALES COMPARTEL MEDIANTE EL DESARROLLO DE ACTIVIDADES QUE GARANTICEN EL ACCESO A TELEFONIA E INTERNET A COMUNIDADES EN ZONAS RURALES Y/O APARTADAS EN LOS DEPTOS DE: VALLE DEL CAUCA, ANTIOQUIA, BOLIVAR, BOYACA, MAGDALENA, CORDOBA, NORTE DE SANTANDER Y EJE CAFETERO | G5: 41271 | H5: 42405 | I5: UT | J5: 0.2 | K5: 13362479993 | L5: 689454 | M5: =+K5/L5 -> 19381.25 | N5: 96906.1 | O5: 1 | P5: El valor total del contrato fue de $66.812.399.972, no obstante, debido a que se presentó como Unión temporal, este integrante tenia el 20%, con lo cual se realizan los respectivos calculos
A6: 2
A7: 3
A8: 4
A9: 5
A10: 6
M11: =+SUMPRODUCT($M$5:$M$10,$O$5:$O$10) -> 19381.25

Sheet 3.DETALLE CONTRATOS 
A1: PROPONENTE | B1: =+#REF! -> #REF!
A3: NUMERAL | B3: REQUISITO | C3: CONTRATO 1
C4: VALOR / COMENTARIOS | D4: CUMPLE
A5: 5.3 del Pliego de Condiciones | B5: El Proponente deberá deberá acreditar su experiencia en la Provisión de Redes y Servicios de Telecomunicaciones, observando la siguiente condicion: • El objeto de los contratos aportados deberá contener actividades de: (1) Planeación, e instalación o; (2) Operación o Mantenimiento de redes de telecomunicaciones. | D5: SI
A6: INFORMACIÓN NO CONTENIDA EN EL RUP (VERIFICAR A TRAVÉS DE LA CERTIFICACIÓN)
A7: 5.3.1.2 Pliego de Condiciones | B7: Objeto del Contrato. | D7: SI
B8: Actividades y /o obligaciones | D8: SI
B9: Identificación y cargo de la persona facultada para expedirla. | D9: SI
B10: Si la certificación incluye varios contratos, se debe identificar en forma precisa si se trata de adiciones, prórrogas u otrosíes al principal o son contratos diferentes, indicando en cada uno de ellos sus plazos y valor. | D10: SI
B11: Fecha de suscripción o de iniciación del Contrato. | D11: SI
B12: Fecha de terminación de los contratos suscritos, ejecutados y terminados dentro de los diez (10) años anteriores a la fecha de cierre del presente proceso de selección | D12: SI

Sheet 4. OFERTA ECONOMICA
A1: PROPONENTE | B1: =EVALUACIÓN!B1 -> RED DE INGENIERIA SAS
A2: PROPUESTA DE ECONOMICA
A5: A. Cantidad de centros poblados ofertados | D5: 1000 | F5: B. Cantidad de meses de operación adicionales | I5: 3
A6: Puntaje | D6: =(D5*25)/D7 -> 25 | F6: Puntaje | I6: =(I5*15)/I7 -> 15
A7: MCP | D7: 1000 | F7: MCT | I7: 3
A9: Puntaje = (Qp *25) / MCP | F9: Puntaje = (Qp *15) / MCT
A10: MCP= Cantidad de centros poblados incluidos en la propuesta que encabeza la asignación del puntaje; Qp = Cantidad de centros poblados incluidos en la propuesta evaluada | F10: MCT= Cantidad de meses adicionales de operación incluidos en la propuesta que encabeza la asignación del puntaje; Qp = Cantidad de meses adicionales de operación incluidos en la propuesta evaluada
A14: Nota: el proponente que oferte una cantidad de centros poblados inferior al 50% del universo de elegibles no recibirá puntaje.

Sheet 5. CALIDAD
A1: PROPONENTE | C1: =EVALUACIÓN!B1 -> RED DE INGENIERIA SAS
A2: PROPUESTA DE CALIDAD
B4: A. Velocidad Mejorada Unidad (Mbps) | E4: 7 | G4: B. Tiempo de acceso gratuito por usuario adicional unidad (minutos) | J4: 1410
B5: Puntaje | E5: =(E4*25)/E6 -> 25 | G5: Puntaje | J5: =(J4*24)/J6 -> 24
B6: MCv | E6: 7 | G6: MCA | J6: 1410
B8: Puntaje = (Qp *25) / MCv | H8: Puntaje = (Qp *24) / MCA
B10: MCv = Velocidad efectiva máxima de transmisión de datos mejorada incluida en la propuesta que encabeza la asignación del puntaje medida en Mbps; Qp = Velocidad efectiva máxima de transmisión de datos mejorada en la propuesta evaluada medida en Mbps. | H10: MCA = Tiempo de acceso gratuito por usuario al día adicional al mínimo exigido incluido en la propuesta que encabeza la asignación del puntaje, medido en minutos; Qp = Tiempo de acceso gratuito por usuario al día, adicional al mínimo exigido incluido en la propuesta evaluada medido en minutos.

Sheet Hoja 1 variables
B2: SI | C2: 1 | D2: Año | E2: SMMLV
B3: NO | C3: 0 | D3: 2008 | E3: 461500
D4: 2009 | E4: 496900
B5: 100 | D5: 2010 | E5: 515000
B6: 0 | D6: 2011 | E6: 535600
D7: 2012 | E7: 566700
D8: 2013 | E8: 589500
D9: 2014 | E9: 616000
D10: 2015 | E10: 644350
D11: 2016 | E11: 689454
D12: 2017 | E12: 737717
D13: 2018 | E13: 781242
D14: 2019 | E14: 828116
