Workbook
Name frmMainForm_tblFormContainer_trContentRow_tdLeftColumn_divViewProfilePerspective_tblProfileDetails_trIsGroupContentRow_tdTitleCell_rptIsGroupRepeater_rpteIsGroupConditionalElements_lnkIsGroupConditionalSpan_1: General!$C$26

Sheet General
C2: PUNTAJE | D2: 3
B3: 1- SEGURIDAD ACROPOLIS LTDA
B4: EMPLEADOS | C4: PROPONENTE | D4: PORCENTAJE PARTICIPACIÓN | E4: DISCAPACITADOS | F4: % DISCAPACITADOS | G4: MAYORES DE 45 AÑOS | H4: %MAYORES DE 45 AÑOS | I4: MUJERES | J4: % MUJERES
B5: 3305 | C5: SEGURIDAD ACROPOLIS LTDA | D5: 1 | E5: 6 | F5: =IFERROR((E5*100%)/B5,0) -> 0.0018154312 | G5: 886 | H5: =IFERROR(G5/B5,0) -> 0.26807867 | I5: 287 | J5: =IFERROR(I5/B5,0) -> 0.086838124
B8: TOTAL | D8: =SUM(D5:D7) -> 1 | E8: =(D5*E5)+(D6*E6)+(D7*E7) -> 6 | F8: =($D$5*F5)+($D$6*F6)+($D$7*F7) -> 0.0018154312 | G8: =($D$5*G5)+($D$6*G6)+($D$7*G7) -> 886 | H8: =($D$5*H5)+($D$6*H6)+($D$7*H7) -> 0.26807867 | I8: =($D$5*I5)+($D$6*I6)+($D$7*I7) -> 287 | J8: =($D$5*J5)+($D$6*J6)+($D$7*J7) -> 0.086838124
B10: 2- UT NAPSEP ENVIGADO 2022
B11: EMPLEADOS | C11: PROPONENTE | D11: PORCENTAJE PARTICIPACIÓN | E11: DISCAPACITADOS | F11: =+F4 -> % DISCAPACITADOS | G11: MAYORES DE 45 AÑOS | H11: =+H4 -> %MAYORES DE 45 AÑOS | I11: MUJERES | J11: % MUJERES
C12: SEGURIDAD NAPOLES LTDA | D12: 0.9 | F12: =IFERROR((E12*100%)/B12,0) -> 0 | H12: =IFERROR(G12/B12,0) -> 0 | J12: =IFERROR(I12/B12,0) -> 0
B13: RECHAZADO | C13: SEGURIDAD EL PENTAGONO COLOMBIANO LTDA- SEPECOL LTDA | D13: 0.1 | F13: =IFERROR((E13*100%)/B13,0) -> 0 | H13: =IFERROR(G13/B13,0) -> 0 | J13: =IFERROR(I13/B13,0) -> 0
B15: TOTAL | D15: =SUM(D12:D14) -> 1 | E15: =(D12*E12)+(D13*E13)+(D14*E14) -> 0 | F15: =($D$12*F12)+($D$13*F13)+($D$14*F14) -> 0 | G15: =($D$12*G12)+($D$13*G13)+($D$14*G14) -> 0 | H15: =($D$12*H12)+($D$13*H13)+($D$14*H14) -> 0 | I15: =($D$12*I12)+($D$13*I13)+($D$14*I14) -> 0 | J15: =($D$12*J12)+($D$13*J13)+($D$14*J14) -> 0
B17: 3- MIRO SEGURIDAD LTDA
B18: EMPLEADOS | C18: PROPONENTE | D18: PORCENTAJE PARTICIPACIÓN | E18: DISCAPACITADOS | F18: =+F11 -> % DISCAPACITADOS | G18: MAYORES DE 45 AÑOS | H18: =+H11 -> %MAYORES DE 45 AÑOS | I18: MUJERES | J18: % MUJERES
B19: 5621 | C19: MIRO SEGURIDAD | D19: 1 | E19: 10 | F19: =IFERROR((E19*100%)/B19,0) -> 0.0017790429 | G19: 936 | H19: =IFERROR(G19/B19,0) -> 0.16651841 | I19: 992 | J19: =IFERROR(I19/B19,0) -> 0.17648105
B22: TOTAL | D22: =SUM(D19:D21) -> 1 | E22: =(D19*E19)+(D20*E20)+(D21*E21) -> 10 | F22: =(D19*F19)+(D20*F20)+(D21*F21) -> 0.0017790429 | G22: =(D19*G19)+(D20*G20)+(D21*G21) -> 936 | H22: =(D19*H19)+(D20*H20)+(D21*H21) -> 0.16651841 | I22: =(D19*I19)+(D20*I20)+(D21*I21) -> 992 | J22: =(D19*J19)+(D20*J20)+(D21*J21) -> 0.17648105
B24: 4- UNIÓN TEMPORAL ANDISAN ENVIGADO 2022
B25: EMPLEADOS | C25: PROPONENTE | D25: PORCENTAJE PARTICIPACIÓN | E25: DISCAPACITADOS | F25: =+F18 -> % DISCAPACITADOS | G25: MAYORES DE 45 AÑOS | H25: =+H18 -> %MAYORES DE 45 AÑOS | I25: MUJERES | J25: % MUJERES
B26: 2987 | C26: COMPAÑIA ANDINA DE SEGURIDAD PRIVADA BIC LTDA - ANDISEG BIC LTDA. | D26: 0.9 | E26: 26 | F26: =IFERROR((E26*100%)/B26,0) -> 0.0087043857 | G26: 0 | H26: =IFERROR(G26/B26,0) -> 0 | I26: 0 | J26: =IFERROR(I26/B26,0) -> 0
B27: 259 | C27: SEGURIDA SAN CARLOS LTDA | D27: 0.1 | E27: 1 | F27: =IFERROR((E27*100%)/B27,0) -> 0.0038610039 | G27: 109 | H27: =IFERROR(G27/B27,0) -> 0.42084942 | I27: 62 | J27: =IFERROR(I27/B27,0) -> 0.23938224
B28: TOTAL | D28: =SUM(D26:D27) -> 1 | E28: =(D26*E26)+(D27*E27) -> 23.5 | F28: =(D26*F26)+(D27*F27) -> 0.0082200475 | G28: =(D26*G26)+(D27*G27) -> 10.9 | H28: =(D26*H26)+(D27*H27) -> 0.042084942 | I28: =(D26*I26)+(D27*I27) -> 6.2 | J28: =(D26*J26)+(D27*J27) -> 0.023938224
B30: 5- VIGILANCIA SANTAFEREÑA Y CIA LTDA
B31: EMPLEADOS | C31: PROPONENTE | D31: PORCENTAJE PARTICIPACIÓN | E31: DISCAPACITADOS | F31: =+F25 -> % DISCAPACITADOS | G31: MAYORES DE 45 AÑOS | H31: =+H25 -> %MAYORES DE 45 AÑOS | I31: MUJERES | J31: % MUJERES
B32: RECHAZADO | C32: VIGILANCIA SANTAFEREÑA Y CIA LTDA | D32: 1 | F32: =IFERROR((E32*100%)/B32,0) -> 0 | H32: =IFERROR(G32/B32,0) -> 0 | J32: =IFERROR(I32/B32,0) -> 0
B35: TOTAL | D35: =SUM(D32:D34) -> 1 | E35: =(D32*E32)+(D33*E33)+(D34*E34) -> 0 | F35: =(D32*F32)+(D33*F33)+(D34*F34) -> 0 | G35: =(D32*G32)+(D33*G33)+(D34*G34) -> 0 | H35: =(D32*H32)+(D33*H33)+(D34*H34) -> 0 | I35: =(D32*I32)+(D33*I33)+(D34*I34) -> 0 | J35: =(D32*J32)+(D33*J33)+(D34*J34) -> 0

Sheet Calificación
B2: DISCAPACIDAD
B4: PUNTAJE | C4: 0.5 | D4: MAYOR | E4: =MAX(General!E8,General!E15,General!E22,General!E28,General!E35) -> 23.5 | F4: =MAX(General!F8,General!F15,General!F22,General!F28,General!F35) -> 0.0082200475
B5: UNIÓN TEMPORAL | C5: MÉTODO 1 | D5: CALIFICACIÓN | E5: MÉTODO 2 | F5: CALIFICACIÓN | G5: TOTAL
B6: =+General!B3 -> 1- SEGURIDAD ACROPOLIS LTDA | C6: =+General!E8 -> 6 | D6: =IFERROR(($C$4*(C6/$E$4)),0) -> 0.12765957 | E6: =IFERROR(General!F8,0) -> 0.0018154312 | F6: =IFERROR(($C$4*(E6/$F$4)),0) -> 0.11042705 | G6: =+D6+F6 -> 0.23808662
B7: =+General!B10 -> 2- UT NAPSEP ENVIGADO 2022 | C7: =+General!E15 -> 0 | D7: =IFERROR(($C$4*(C7/$E$4)),0) -> 0 | E7: =+General!F15 -> 0 | F7: =IFERROR(($C$4*(E7/$F$4)),0) -> 0 | G7: =+D7+F7 -> 0
B8: =+General!B17 -> 3- MIRO SEGURIDAD LTDA | C8: =+General!E22 -> 10 | D8: =IFERROR(($C$4*(C8/$E$4)),0) -> 0.21276596 | E8: =+General!F22 -> 0.0017790429 | F8: =IFERROR(($C$4*(E8/$F$4)),0) -> 0.10821366 | G8: =+D8+F8 -> 0.32097962
B9: =+General!B24 -> 4- UNIÓN TEMPORAL ANDISAN ENVIGADO 2022 | C9: =+General!E28 -> 23.5 | D9: =IFERROR(($C$4*(C9/$E$4)),0) -> 0.5 | E9: =+General!F28 -> 0.0082200475 | F9: =IFERROR(($C$4*(E9/$F$4)),0) -> 0.5 | G9: =+D9+F9 -> 1
B10: =+General!B30 -> 5- VIGILANCIA SANTAFEREÑA Y CIA LTDA | C10: =+General!E35 -> 0 | D10: =IFERROR(($C$4*(C10/$E$4)),0) -> 0 | E10: =+General!F35 -> 0 | F10: =IFERROR(($C$4*(E10/$F$4)),0) -> 0 | G10: =+D10+F10 -> 0
B12: MAYORES 45 | I12: TOTAL
B14: PUNTAJE | C14: =+C4 -> 0.5 | D14: MAYOR | E14: =MAX(General!G8,General!G15,General!G22,General!G28,General!G35) -> 936 | F14: =MAX(General!H8,General!H15,General!H22,General!H28,General!H35) -> 0.26807867 | I14: =+B5 -> UNIÓN TEMPORAL | J14: PUNTAJE TOTAL
B15: =+B5 -> UNIÓN TEMPORAL | C15: MÉTODO 1 | D15: CALIFICACIÓN | E15: MÉTODO 2 | F15: CALIFICACIÓN | G15: TOTAL
B16: =+B6 -> 1- SEGURIDAD ACROPOLIS LTDA | C16: =+General!G8 -> 886 | D16: =IFERROR(($C$14*(C16/$E$14)),0) -> 0.4732906 | E16: =+General!H8 -> 0.26807867 | F16: =IFERROR(($C$14*(E16/$F$14)),0) -> 0.5 | G16: =+D16+F16 -> 0.9732906 | I16: =+B6 -> 1- SEGURIDAD ACROPOLIS LTDA | J16: =+G6+G16+G26 -> 1.6020612
B17: =+B7 -> 2- UT NAPSEP ENVIGADO 2022 | C17: =+General!G15 -> 0 | D17: =IFERROR(($C$14*(C17/$E$14)),0) -> 0 | E17: =+General!H15 -> 0 | F17: =IFERROR(($C$14*(E17/$F$14)),0) -> 0 | G17: =+D17+F17 -> 0 | I17: =+B7 -> 2- UT NAPSEP ENVIGADO 2022 | J17: =+G7+G17+G27 -> 0
B18: =+B8 -> 3- MIRO SEGURIDAD LTDA | C18: =+General!G22 -> 936 | D18: =IFERROR(($C$14*(C18/$E$14)),0) -> 0.5 | E18: =+General!H22 -> 0.16651841 | F18: =IFERROR(($C$14*(E18/$F$14)),0) -> 0.31057751 | G18: =+D18+F18 -> 0.81057751 | I18: =+B8 -> 3- MIRO SEGURIDAD LTDA | J18: =+G8+G18+G28 -> 2.1315571
B19: =+B9 -> 4- UNIÓN TEMPORAL ANDISAN ENVIGADO 2022 | C19: =+General!G28 -> 10.9 | D19: =IFERROR(($C$14*(C19/$E$14)),0) -> 0.0058226496 | E19: =+General!H28 -> 0.042084942 | F19: =IFERROR(($C$14*(E19/$F$14)),0) -> 0.078493642 | G19: =+D19+F19 -> 0.084316292 | I19: =+B9 -> 4- UNIÓN TEMPORAL ANDISAN ENVIGADO 2022 | J19: =+G9+G19+G29 -> 1.1552622
B20: =+B10 -> 5- VIGILANCIA SANTAFEREÑA Y CIA LTDA | C20: =+General!G35 -> 0 | D20: =IFERROR(($C$14*(C20/$E$14)),0) -> 0 | E20: =+General!H35 -> 0 | F20: =IFERROR(($C$14*(E20/$F$14)),0) -> 0 | G20: =+D20+F20 -> 0 | I20: =+B10 -> 5- VIGILANCIA SANTAFEREÑA Y CIA LTDA | J20: =+G10+G20+G30 -> 0
B22: MUJERES
B24: PUNTAJE | C24: =+C14 -> 0.5 | D24: MAYOR | E24: =MAX(General!I8,General!I15,General!I22,General!I28,General!I35) -> 992 | F24: =MAX(General!J8,General!J15,General!J22,General!J28,General!J35) -> 0.17648105
B25: =+B15 -> UNIÓN TEMPORAL | C25: MÉTODO 1 | D25: CALIFICACIÓN | E25: MÉTODO 2 | F25: CALIFICACIÓN | G25: TOTAL
B26: =+B16 -> 1- SEGURIDAD ACROPOLIS LTDA | C26: =+General!I8 -> 287 | D26: =IFERROR(($C$24*(C26/$E$24)),0) -> 0.14465726 | E26: =+General!J8 -> 0.086838124 | F26: =IFERROR(($C$24*(E26/$F$24)),0) -> 0.24602676 | G26: =+D26+F26 -> 0.39068402
B27: =+B17 -> 2- UT NAPSEP ENVIGADO 2022 | C27: =+General!I15 -> 0 | D27: =IFERROR(($C$24*(C27/$E$24)),0) -> 0 | E27: =+General!J15 -> 0 | F27: =IFERROR(($C$24*(E27/$F$24)),0) -> 0 | G27: =+D27+F27 -> 0
B28: =+B18 -> 3- MIRO SEGURIDAD LTDA | C28: =+General!I22 -> 992 | D28: =IFERROR(($C$24*(C28/$E$24)),0) -> 0.5 | E28: =+General!J22 -> 0.17648105 | F28: =IFERROR(($C$24*(E28/$F$24)),0) -> 0.5 | G28: =+D28+F28 -> 1
B29: =+B19 -> 4- UNIÓN TEMPORAL ANDISAN ENVIGADO 2022 | C29: =+General!I28 -> 6.2 | D29: =IFERROR(($C$24*(C29/$E$24)),0) -> 0.003125 | E29: =+General!J28 -> 0.023938224 | F29: =IFERROR(($C$24*(E29/$F$24)),0) -> 0.067820946 | G29: =+D29+F29 -> 0.070945946
B30: =+B20 -> 5- VIGILANCIA SANTAFEREÑA Y CIA LTDA | C30: =+General!I35 -> 0 | D30: =IFERROR(($C$24*(C30/$E$24)),0) -> 0 | E30: =+General!J35 -> 0 | F30: =IFERROR(($C$24*(E30/$F$24)),0) -> 0 | G30: =+D30+F30 -> 0

Sheet PUNTAJE TOTAL
B3: PUNTAJE MÁXIMO | C3: 50 | D3: 35.5 | E3: 10 | F3: 1 | G3: 3 | H3: 0.25 | I3: 0.25 | J3: =SUM(C3:I3) -> 100
B4: CALIFICACIÓN | C4: Factor Económico VALOR PROPUESTA | D4: FACTOR TÉCNICO CALIDAD | E4: ESTIMULO A LA INDUSTRIA NACIONAL | F4: PERSONAL EN CONDICIÓN DE DISCAPACIDAD (INCENTIVO DECRETO 392 DE 2018) | G4: INCENTIVO PARA LA VINCULACIÓN DE PERSONAS CON DISCAPACIDAD, MUJERES Y MAYORES DE 45 AÑOS (INCENTIVO DECRETO 1279 DE 2021) | H4: INCENTIVO EMPRENDIMIENTOS O EMPRESAS DE MUJERES | I4: INCENTIVO A MIPYMES | J4: TOTAL
B6: =+Calificación!I16 -> 1- SEGURIDAD ACROPOLIS LTDA | C6: 66.05 | D6: 19 | E6: 10 | F6: 1 | G6: =+Calificación!J16 -> 1.6020612 | H6: 0.25 | J6: =SUM(C6:I6) -> 97.902061
B7: =+Calificación!I17 -> 2- UT NAPSEP ENVIGADO 2022 | G7: =+Calificación!J17 -> 0 | J7: RECHAZADO
B8: =+Calificación!I18 -> 3- MIRO SEGURIDAD LTDA | C8: 66.05 | D8: 19 | E8: 10 | F8: 1 | G8: =+Calificación!J18 -> 2.1315571 | H8: 0.25 | J8: =SUM(C8:I8) -> 98.431557
B9: =+Calificación!I19 -> 4- UNIÓN TEMPORAL ANDISAN ENVIGADO 2022 | C9: 66.05 | D9: 19 | E9: 10 | F9: 1 | G9: =+Calificación!J19 -> 1.1552622 | H9: 0.25 | I9: 0.25 | J9: =SUM(C9:I9) -> 97.705262
B10: =+Calificación!I20 -> 5- VIGILANCIA SANTAFEREÑA Y CIA LTDA | G10: =+Calificación!J20 -> 0 | J10: RECHAZADO
