Workbook
Name _AFC1: [1]INV!$A$25:$D$28
Name _AFC3: [1]INV!$F$25:$I$28
Name _AFC5: [1]INV!$K$25:$N$28
Name _BGC1: [1]INV!$A$5:$D$8
Name _BGC3: [1]INV!$F$5:$I$8
Name _BGC5: [1]INV!$K$5:$N$8
Name _CAC1: [1]INV!$A$19:$D$22
Name _CAC3: [1]INV!$F$19:$I$22
Name _CAC5: [1]INV!$K$19:$N$22
Name _Cod1: #REF!
Name _Cod1: #REF!
Name _Cod1: #REF!
Name _MA2: #REF!
Name _MA2: #REF!
Name _MA2: #REF!
Name _SBC1: [1]INV!$A$12:$D$15
Name _SBC3: [1]INV!$F$12:$I$15
Name _SBC5: [1]INV!$K$12:$N$15
Name a: #REF!
Name a: #REF!
Name a: #REF!
Name A_IMPRESIÓN_IM: #REF!
Name A_IMPRESIÓN_IM: #REF!
Name A_IMPRESIÓN_IM: #REF!
Name aa: #REF!
Name aa: #REF!
Name aa: #REF!
Name aaa: #REF!
Name aaa: #REF!
Name aaa: #REF!
Name AAC: [1]AASHTO!$A$14:$F$17
Name ABG: [1]AASHTO!$A$2:$F$5
Name admon: #REF!
Name admon: #REF!
Name admon: #REF!
Name ASB: [1]AASHTO!$A$8:$F$11
Name Base: #REF!
Name Base: #REF!
Name Base: #REF!
Name CAP: #REF!
Name CAP: #REF!
Name CAP: #REF!
Name cd: [2]Hoja1!$C$81
Name Cod: #REF!
Name Cod: #REF!
Name Cod: #REF!
Name CODOS: #REF!
Name CODOS: #REF!
Name CODOS: #REF!
Name datos: #REF!
Name datos: #REF!
Name datos: #REF!
Name diametros: #REF!
Name diametros: #REF!
Name diametros: #REF!
Name ee: #REF!
Name ee: #REF!
Name ee: #REF!
Name Excel_BuiltIn__FilterDatabase: [3]Presupuesto_Via_distribuidora!$A$9:$H$344
Name Excel_BuiltIn_Print_Area: [3]Presupuesto_Via_distribuidora!$C$1:$H$344

Sheet FORMULARIO No. 3 - BRICEÑO
A1: DEPARTAMENTO DE ANTIOQUIA
A2: GERENCIA DE SERVICIOS PUBLICOS - GRUPO II BRICEÑO
A3: CONCURSO DE MERITOS No. CON-37-01-2019
A4: INTERVENTORÍA ADMINISTRATIVA, TECNICA, AMBIENTAL, LEGAL Y FINANCIERA A LA CONSTRUCCIÓN DE OBRAS
A5: GRUPO II: "INTERVENTORÍA ADMINISTRATIVA, TÉCNICA, AMBIENTAL, LEGAL Y FINANCIERA AL MEJORAMIENTO Y OPTIMIZACIÓN DE ACUEDUCTO MULTIVEREDAL LAS AURAS – MUNICIPIO DE BRICEÑO – ANTIOQUIA".
A6: FORMULARIO No. 3 - GRUPO II
A7: ITEM | B7: DESCRIPCIÓN | C7: UNIDAD | D7: CANTIDAD | E7: SUELDO O TARIFA MENSUAL | F7: DEDICACIÓN MENSUAL (%) | G7: DURACIÓN (meses) | H7: VALOR PARCIAL ($)
A8: A | B8: COSTOS DIRECTOS DE PERSONAL
A9: 1 | B9: Personal Profesional:
A10: 1.1 | B10: Director de Interventoria | C10: Persona | D10: 1 | F10: 0.2
A11: 1.2 | B11: Residente de interventoria | C11: Persona | D11: 1 | F11: 1
A12: 1.3 | B12: Tecnólogo socio - ambiental de interventoría | C12: Persona | D12: 1 | F12: 1
A13: 1.4 | B13: Tecnólogo (SUMINISTROS) | C13: Persona | D13: 1 | F13: 1
B14: SUBTOTAL COSTOS DE PERSONAL
B15: Factor Multiplicador (FM)
B16: COSTOS DE PERSONAL CON FM
A17: 2 | B17: Gastos de viaje
A18: 2.1 | B18: Gastos de Alojamiento, transporte y alimentación se reconoceran según su costo real y contra factura. | C18: Estimado
B19: TOTAL COSTOS DIRECTOS DE PERSONAL (A)
A20: B | B20: OTROS COSTOS DIRECTOS
A21: 3 | B21: Gastos de Transporte, Alquiler de equipos y Otros:
A22: 3.1 | B22: Fotocopias, edicion informes, registros fotográficos entre otros (Municipio de Briceño) | C22: Unidad | D22: 1
A23: 3.2 | B23: Motos. Alquiler modelo 2010 o superior - tarifa de alquiler | C23: Unidad | D23: 1
A24: 3.2 | B24: Comunicaciones (Telefono, Fax, Celular, Internet, Etc) mensual (Municipio de Briceño) | C24: Unidad | D24: 1
A25: 3.3 | B25: Tarifa alquiler de equipo de oficina para uso del proyecto: 1 equipo de cómputo, muebles y enseres de oficina (Municipio de Briceño) | C25: Unidad | D25: 1
A26: 3.4 | B26: Impresora oficina (Una sola vez) | C26: Unidad | D26: 1
A27: 3.5 | B27: Oficina de campo (alqulier y pago de servicios públicos) (Municipio de Briceño) | C27: Unidad | D27: 1
A28: 4 | B28: Ensayos de laboratorio según la necesidad (Municipio de Briceño) | C28: Estimado | D28: 1
B29: SUBTOTAL OTROS COSTOS DIRECTOS (B)
B30: VALOR BÁSICO (A + B)
B31: IVA (19%)
B32: VALOR TOTAL DE LA INTERVENTORÍA
A34: OBSERVACIONES:
A35: 1. Para la determinación de las tarifas unitarias correspondientes a "OTROS COSTOS DIRECTOS", se entiende que el oferente incluyó todas las variables que inciden en su cálculo y además el porcentaje de honorarios que haya establecido dentro de su Factor Multiplicador.
A36: 2. Los costos de personal se reembolsarán según la dedicación efectiva que hubiere tenido en la ejecución de los trabajos.
A37: 3. El valor a pagar en el item "Ensayos de laboratorio" incluirá el porcentaje de honorarios establecido dentro de su factor multiplicador, los costos de transporte y demás gastos necesarios para el cumplimiento de las especificaciones solicitadas, así como el estudio de mercado correspondiente a las tarifas unitarias que se estén estudiando, Dicho valor (ensayo) será acordado previamentre entre las partes, a saber: Interventor y Supervisor. En todo caso solo se reconocerá hasta el valor establecido en el presente formulario. Se pagará contra factura.
A38: 4, Los demás valores subrayados, corresponden a montos estimados con los cuales se atenderán las actividades correspondientes, las cuales se reembolsarán según su costo real, previa presentación de la factura. En todo caso solo se reconocerá hasta el valor establecido en el presente formulario.

Sheet PRESUP (2)
A1: DEPARTAMENTO DE ANTIOQUIA
A2: GERENCIA DE SERVICIOS PUBLICOS
A3: CONCURSO DE MERITOS No. CON-37-03-2017
A4: INTERVENTORÍA ADMINISTRATIVA, TECNICA, AMBIENTAL, LEGAL Y FINANCIERA A LA CONSTRUCCIÓN DE OBRAS BRICEÑO - CORREGIMIENTO LAS AURAS.
A5: GRUPO I; INTERVENTORÍA ADMINISTRATIVA, TECNICA, AMBIENTAL, LEGAL Y FINANCIERA A LA CONSTRUCCIÓN DEL PLAN MAESTRO DE ALCANTARILLADO MUNICIPIO DE BRICEÑO - CORREGIMIENTO LAS AURAS.
A6: PRESUPUESTO OFICIAL
A7: ITEM | B7: DESCRIPCIÓN | C7: UNIDAD | D7: CANTIDAD | E7: SUELDO O TARIFA MENSUAL | F7: DEDICACIÓN MENSUAL (%) | G7: DURACIÓN (meses) | H7: VALOR PARCIAL ($)
A8: A | B8: COSTOS DIRECTOS DE PERSONAL
A9: 1 | B9: Personal Profesional: | M9: =+#REF! -> #REF! | N9: =+#REF! -> #REF! | O9: =+N9*0.08 -> #REF! | P9: =+O9/N9 -> #REF!
A10: 1.1 | B10: Director de Interventoria | C10: Persona | D10: 1 | E10: 5698864 | F10: 0.2 | G10: 6 | H10: =+E10*F10*G10*D10 -> 6838636.8 | I10: =+SUM(H10:H12)*G15+H18+H29+H31 -> 1.4526124e+08 | M10: =+#REF! -> #REF! | N10: =+#REF! -> #REF! | O10: =+N10*0.02 -> #REF! | P10: =+O10/N10 -> #REF!
A11: 1.2 | B11: Residente de interventoria | C11: Persona | D11: 1 | E11: 4673757 | F11: 1 | G11: 6 | H11: =+E11*F11*G11*D11 -> 28042542 | I11: =+ROUND(I10/N9,9) -> #REF! | M11: =+#REF! -> #REF! | N11: =+N10+N9 -> #REF! | O11: =+O10+O9 -> #REF!
A12: 1.3 | B12: Tecnólogo social de interventoría | C12: Persona | D12: 1 | E12: 2279546 | F12: 1 | G12: 6 | H12: =+E12*F12*G12*D12 -> 13677276
A13: 1.4 | B13: Tecnólogo (SUMINISTROS) | C13: Persona | D13: 1 | E13: 2279546 | F13: 1 | G13: 2 | H13: =+E13*F13*G13*D13 -> 4559092 | I13: =+H13*G15 -> 9254956.8 | N13: =+H32 -> 154516200 | O13: =+O11-N13 -> #REF!
B14: SUBTOTAL COSTOS DE PERSONAL | H14: =SUM(H10:H13) -> 53117547 | I14: =+ROUND(I13/N10,9) -> #REF! | J14: =+H13/N10 -> #REF! | O14: =+N13/N11 -> #REF!
B15: Factor Multiplicador (FM) | G15: 2.03 | M15: 154516200
B16: COSTOS DE PERSONAL CON FM | H16: =ROUND(((H14)*G15),0) -> 107828620
A17: 2 | B17: Gastos de viaje | J17: 355000 | M17: =+H32-M15 -> 0
A18: 2.1 | B18: Gastos de Alojamiento, transporte y alimentación se reconoceran según su costo real y contra factura. | C18: Estimado | H18: =+J18 -> 10756500 | J18: =(5*J17*G10)+(J17*0.05*G10) -> 10756500
B19: TOTAL COSTOS DIRECTOS DE PERSONAL (A) | H19: =SUM(H16:H18) -> 118585120
A20: B | B20: OTROS COSTOS DIRECTOS
A21: 3 | B21: Gastos de Transporte, Alquiler de equipos y Otros:
A22: 3.1 | B22: Fotocopias, edicion informes, registros fotográficos entre otros (Municipio de Briceño) | C22: Unidad | D22: 1 | E22: 120000 | G22: =+G10 -> 6 | H22: =D22*E22*G22 -> 720000
A23: 3.2 | B23: Motos. Alquiler modelo 2010 o superior - tarifa de alquiler | C23: Unidad | D23: 1 | E23: 400000 | G23: 6 | H23: =D23*E23*G23 -> 2400000
A24: 3.2 | B24: Comunicaciones (Telefono, Fax, Celular, Internet, Etc) mensual (Municipio de Briceño) | C24: Unidad | D24: 1 | E24: 200000 | G24: =+G10 -> 6 | H24: =D24*E24*G24 -> 1200000
A25: 3.3 | B25: Tarifa alquiler de equipo de oficina para uso del proyecto: 1 equipo de cómputo, muebles y enseres de oficina (Municipio de Briceño) | C25: Unidad | D25: 1 | E25: 200000 | G25: =+G10 -> 6 | H25: =D25*E25*G25 -> 1200000
A26: 3.4 | B26: Impresora oficina (Una sola vez) | C26: Unidad | D26: 1 | E26: 300000 | H26: =+D26*E26 -> 300000
A27: 3.5 | B27: Oficina de campo (alqulier y pago de servicios públicos) (Municipio de Briceño) | C27: Unidad | D27: 1 | E27: 550000 | G27: =+G10 -> 6 | H27: =+D27*E27*G27 -> 3300000
A28: 4 | B28: Ensayos de laboratorio según la necesidad (Municipio de Briceño) | C28: Estimado | D28: 1 | E28: =2398801+2116906-402213+76421-14520+2759-524+99-19+4-1-2000000-44372+8431-1602+304-57+10-1 -> 2140426 | H28: =+E28*D28 -> 2140426
B29: SUBTOTAL OTROS COSTOS DIRECTOS (B) | H29: =SUM(H22:H28) -> 11260426 | L29: acta | M29: valor acta con IVA | N29: amortización | O29: Neto a pagar
B30: VALOR BÁSICO (A + B) | H30: =H19+H29 -> 129845546 | L30: 3 | M30: 53198296 | N30: 11109275 | O30: =+M30-N30 -> 42089021
B31: IVA (19%) | H31: =ROUNDUP((H30*0.19),0) -> 24670654 | L31: 4 | M31: 53198296 | N31: 11109275 | O31: =+M31-N31 -> 42089021
B32: VALOR TOTAL DE LA INTERVENTORÍA | H32: =ROUND((SUM(H30:H31)),0) -> 154516200 | L32: 5 | M32: 53198296 | N32: 11109275 | O32: =+M32-N32 -> 42089021
M33: =SUM(M30:M32) -> 159594888 | N33: =SUM(N30:N32) -> 33327825 | O33: =SUM(O30:O32) -> 126267063
A34: OBSERVACIONES:
A35: 1. Para la determinación de las tarifas unitarias correspondientes a "OTROS COSTOS DIRECTOS", se entiende que el oferente incluyó todas las variables que inciden en su cálculo y además el porcentaje de honorarios que haya establecido dentro de su Factor Multiplicador.
A36: 2. Los costos de personal se reembolsarán según la dedicación efectiva que hubiere tenido en la ejecución de los trabajos.
A37: 3. El valor a pagar en el item "Ensayos de laboratorio" incluirá el porcentaje de honorarios establecido dentro de su factor multiplicador, los costos de transporte y demás gastos necesarios para el cumplimiento de las especificaciones solicitadas, así como el estudio de mercado correspondiente a las tarifas unitarias que se estén estudiando, Dicho valor (ensayo) será acordado previamentre entre las partes, a saber: Interventor y Supervisor. En todo caso solo se reconocerá hasta el valor establecido en el presente formulario. Se pagará contra factura.
A38: 4, Los demás valores subrayados, corresponden a montos estimados con los cuales se atenderán las actividades correspondientes, las cuales se reembolsarán según su costo real, previa presentación de la factura. En todo caso solo se reconocerá hasta el valor establecido en el presente formulario.
B40: Elaboró: | M40: VALOR BÁSICO (A + B) | S40: 175740000
B42: Javier Madrid. | F42: FECHA:Julio de 2018
...

Sheet FM (2)
A1: GOBERNACIÓN DE ANTIOQUIA
A2: SECRETARÍA DE INFRAESTRUCTURA FÍSICA
A3: =+'FORMULARIO No. 3 - BRICEÑO'!A3:H3 -> CONCURSO DE MERITOS No. CON-37-01-2019
A4: =+'FORMULARIO No. 3 - BRICEÑO'!A4:H4 -> INTERVENTORÍA ADMINISTRATIVA, TECNICA, AMBIENTAL, LEGAL Y FINANCIERA A LA CONSTRUCCIÓN DE OBRAS
A5: FACTOR MULTIPLICADOR OFICIAL
A6: 1 | B6: Salario Básico | C6: 1 | D6: NOMINA | E6: NOMINA CON FM | F6: VR TOTAL CTTO | G6: PLAZO | H6: COSTOS CALCULADOS
B7: Subtotal 1 | C7: =+C6 -> 1 | H7: =+D8*C6 -> 53117547
D8: =+'PRESUP (2)'!H14 -> 53117547 | E8: =+'PRESUP (2)'!H16 -> 107828620 | F8: =+'PRESUP (2)'!H32 -> 154516200 | G8: =+'PRESUP (2)'!G11 -> 6
A9: 2 | B9: Prestaciones Sociales | D9: SALARIO AÑO 2015 | F9: 828116
B10: Prima anual | C10: 0.0833
B11: Cesantía anual | C11: 0.0833 | D11: COSTO DIRECTO | E11: =+'PRESUP (2)'!H30 -> 129845546 | F11: =+E8/13 -> 8294509.2
B12: Interés a las cesantías | C12: 0.01 | D12: VR IVA | E12: =+'PRESUP (2)'!H31 -> 24670654 | F12: =+F11*0.05*7 -> 2903078.2
B13: Vacaciones anuales | C13: 0.042 | D13: VR TOTAL | E13: =+'PRESUP (2)'!H32 -> 154516200
B14: EPS | C14: 0.085
B15: Pensiones (AFP) | C15: 0.12
B16: Subsidio familiar | C16: 0.04
B17: Sena | C17: 0.02
B18: ICBF | C18: 0.03
B19: ARP 6,96 % NORMAL | C19: 0.0696
B20: Subtotal 2 | C20: =SUM(C10:C19) -> 0.5832 | D20: =+C20-C17-C18-C14-C19 -> 0.3786 | H20: =+C20*D8 -> 30978153
A22: 3 | B22: Costos Indirectos | I22: V/R MES
B23: Costos oficina (arrendamiento oficina central, administración y servicios públicos) | C23: =F23/$D$8 -> 0.02338538 | F23: =0.25*F9*G8 -> 1242174 | H23: =+$D$8*C23 -> 1242174 | I23: =+H23/$G8 -> 207029
B24: Seguro oficina central | C24: =F24/$D$8 -> 0.02338538 | F24: =0.25*F9*G8 -> 1242174 | H24: =+$D$8*C24 -> 1242174 | I24: =+F24/$G8 -> 207029
B25: Papelería de la oficina del consultor para uso del proyecto( cafetería y otros gastos funcionamiento | C25: =F25/$D$8 -> 0.02338538 | F25: =0.25*F9*G8 -> 1242174 | H25: =+$D$8*C25 -> 1242174 | I25: =+H25/$G8 -> 207029
B26: Personal Administrativo y técnico no facturable | C26: =F26/$D$8 -> 0.012779047 | D26: Secretaria y mensajero? | F26: =+G46*G8*0.3 -> 678791.64 | H26: =+$D$8*C26 -> 678791.64 | I26: =+H26/$G8 -> 113131.94
B27: Asesoría contable y tributaria (revisoría fiscal) | C27: =+F27/$D$8 -> 0.018708304 | F27: =0.2*F9*G8 -> 993739.2 | H27: =+$D$8*C27 -> 993739.2 | I27: =+H27/$G8 -> 165623.2
B28: Otros gastos bancarios | C28: =F28/$D$8 -> 0.018708304 | F28: =(0.2*F9*G8) -> 993739.2 | H28: =+$D$8*C28 -> 993739.2 | I28: =+H28/$G8 -> 165623.2
B29: Equipo de oficina para uso del proyecto y actualizaciones de software | C29: =F29/$D$8 -> 0.018708304 | F29: =0.2*F9*G8 -> 993739.2 | H29: =+$D$8*C29 -> 993739.2 | I29: =+H29/$G8 -> 165623.2
B30: Capacitaciones, seguridad industrial y ocupacional y publicaciones del PROYECTO | C30: =F30/$D$8 -> 0.018708304 | F30: =0.2*F9*G8 -> 993739.2 | H30: =+$D$8*C30 -> 993739.2 | I30: =+H30/$G8 -> 165623.2
B31: Pólizas | C31: =F31/$D$8 -> #REF! | E31: Ver hoja PÓLIZAS | F31: =#REF! -> #REF! | H31: =+$D$8*C31 -> #REF! | I31: =+H31/$G8 -> #REF!
B32: Subtotal 3 | C32: =SUM(C23:C31) -> #REF!
A34: 4 | B34: Costos Impuestos
B35: Impuesto del 4/1000 (50%) | C35: =(F35/$D$8)/2 -> 0.0048889888 | D35: 4e-05 | F35: =($F$8/1.19)*4/1000 -> 519382.18 | H35: =+$D$8*C35 -> 259691.09
B36: Estampilla PRODESARROLLO (6/1000) | C36: =F36/$D$8 -> 0.014666966 | D36: 6e-05 | F36: =($F$8/1.19)*6/1000 -> 779073.28 | H36: =+$D$8*C36 -> 779073.28
B37: Estampilla para el Bienestar del Adulto Mayor (2%) | C37: =F37/$D$8 -> 0.048889888 | D37: 0.02 | F37: =($F$8/1.19)*2/100 -> 2596910.9 | H37: =+$D$8*C37 -> 2596910.9
B38: Estampilla Pro Hospitalaria (1%) | C38: =F38/$D$8 -> 0.024444944 | D38: 0.01 | F38: =($F$8/1.19)*1/100 -> 1298455.5 | H38: =+$D$8*C38 -> 1298455.5
B39: Estampilla Politécnico Colombiano Jaime Isaza Cadavid 4/1000 | C39: =F39/$D$8 -> 0.0097779776 | D39: 4e-05 | F39: =($F$8/1.19)*4/1000 -> 519382.18 | H39: =+$D$8*C39 -> 519382.18
B40: Estampilla Prodesarrollo Institución Educativa de Envigado 4/1000 | C40: =F40/$D$8 -> 0.0097779776 | D40: 4e-05 | F40: =($F$8/1.19)*4/1000 -> 519382.18
B41: Subtotal 4 | C41: =SUM(C35:C40) -> 0.11244674 | F41: =SUM(F36:F39) -> 5193821.8
A43: 5 | B43: Honorarios ó Utilidad (10% de (1+2+3+4)) | C43: =(C7+C20+C32+C41)*0.1 -> #REF! | H43: =+$D$8*C43 -> #REF! | I43: =+H43/$G8 -> #REF!
...
