Workbook

Sheet Anexo Listado Salud y Hoteleria
A2: HOTELERIA | B2: 20
A3: COCINA. | B3: 1 | C3: ELKIS PADILLA
A4: COORDINACION DE SERVICIOS HOTELEROS | B4: 4 | C4: GLORIA DIAZ GUTIERREZ, LISBETH VARGAS CANTILLO, JUAN CARLOS BERMUDEZ TORRES, DORLIN AMARIS VALDES
A5: GESTION PARA ESTABLECIMIENTOS DE ALIMENTOS Y BEBIDAS | B5: 3 | C5: JAIME MARTINEZ
A6: INFORMATICA: MICROSOFT WORD, EXCEL E INTERNET | B6: 1 | C6: VIVIANA MARCELA ECHEVERRIA MENDEZ
A7: Institucional de Integralidad de la Formación - Derechos Humanos y Fundamentales en el Trabajo | B7: 1 | C7: ARNALDO CARO (REEMPLAZO PROTECCION ESPECIAL)
A8: Institucional de la Enseñanza de Idiomas - Ingles Presencial | B8: 2 | C8: JULIANA MENDEZ
A9: Institucional de Pedagogía - Emprendimiento | B9: 1 | C9: LO DEJO ABIERTO
A10: PASTELERIA. | B10: 1 | C10: MAYRA PERTUZ. JOSE GOMEZ PASARIA A PANADERIA CON POBLACIONES ESPECIALES
A11: SERVICIO AEROPORTUARIO A PASAJEROS | B11: 1 | C11: ANTONIO ACOSTA
A12: SERVICIO DE RECEPCION HOTELERA | B12: 3 | C12: NORMA PATRICIA GUTIERREZ FERRER, WALESKA ZUCCHINNI OSORIO
A13: SERVICIO DE RESTAURANTE Y BAR | B13: 1 | C13: RODRIGO CASTRO OLMOS
A14: SISTEMA DE GESTION DE LA SEGURIDAD Y SALUD EN EL TRABAJO SG-SST | B14: 1 | C14: YILIBETH
A16: SALUD | B16: 42
A17: APOYO ADMINISTRATIVO EN SALUD. | B17: 6 | C17: MARIA BLANCO (SEGUIMIENTO EP) MARIA SALINAS, GIOVANA DEL CARMEN BARRAZA OSORIO,EDNA MARGARITA BARRAZA MANOTAS.
A18: ATENCION INTEGRAL A LA PRIMERA INFANCIA. | B18: 2 | C18: YURAIMA ESCORCIA / ZAHARE ABIANTUN (PROTECCION) REEMPLAZA A YARLEY ANAYA
A19: COSMETOLOGIA Y ESTETICA INTEGRAL. | B19: 1 | C19: GUICELA MARIA CABARCAS MENDOZA
A20: ENFERMERIA. | B20: 15 | C20: JANINE ALGARIN,PATRICIA ESTHER OLACIREGUI OSPINA, JUDY MARTINEZ FLOREZ,LUZMILA ROSA ANGULO LAMADRID,KATIA MERCEDES GONZALEZ SANDOVAL,LUDDY MERCEDES CALVO OJEDA,BRIGITTE DEL CARMEN PRIETO BARROS,EILEEN PAOLA SARMIENTO TORRES, WENDY LORAINE PEREZ HOYOS,LIZETH MARIA MUÑOZ ALTAMAR,DELSY NICOLASA AMAYA PADILLA,FELICIDAD MARIA PEREZ PEREZ,CLARIT ELENA CASTILLO FERNANDEZ,JANETH PATRICIA BALMASEDA LAMADRID,MARTA NIETO REEMPLAZA A YOLIMA PALOMO OROZCO POR PROTECCION )
A21: Institucional de la Enseñanza de Idiomas - Ingles Presencial | B21: 3 | C21: , GUILLERMO ARIAS,PAULA CARRILLO
A22: Institucional de Pedagogía - Actividad Física y Hábitos de Vida Saludables | B22: 1 | C22: NELSON DE JESUS AGRESOTT MUÑOZ
A23: REGENCIA DE FARMACIA | B23: 7 | C23: CARMEN MARIA DELAHOZ HOYER,JANICE DEL CARMEN NIEBLES SOLANO,OSCAR JAVIER ALFORD MUÑOZ,OSIRIS DEL SOCORRO VILLARREAL ACOSTA,SINDY JACQUELINE ESCORCIA RODRIGUEZ,GABRIEL DE JESUS MAIGUEL RUA,CARLOS MARIO RODRIGUEZ RODRIGUEZ
A24: SALUD ORAL | B24: 1 | C24: YAMILE SANTIAGO
A25: SERVICIOS FARMACEUTICOS | B25: 3 | C25: EVELIS ESTHER RODRÍGUEZ PEREZ,FERNANDO RAFAEL GUEVARA HERRERA,JAIRO ENRIQUE VERGARA BALMACEDA
A26: SISTEMA DE GESTION DE LA SEGURIDAD Y SALUD EN EL TRABAJO SG-SST | B26: 1 | C26: SANDRA MARTINEZ
A27: SOPORTE VITAL BASICO | B27: 2 | C27: MAURICIO EMILIO RINCON MEDINA, MARINELLA MARIA LOPEZ SILGADO

Sheet Comercialización 
A1: No | B1: PROGRAMA DE FORMACIÓN | C1: COMPETENCIA | D1: PERFIL DEL INSTRUCTOR | E1: VALIDACIÓN (QUE APAREZCA, VALORES, NUMERO DE INSTRUCTORES) | F1: OBJETO CONTRACTUAL | G1: No de personas a contratar | H1: Fechas Previstas para la Contratación | J1: Plazo Previsto para la Contratación | O1: VALIDACIÓN FECHAS | P1: costo honorarios mes (Pesos) | Q1: Valor un instructor | R1: Valor total programa | S1: Deduccion Semana de Confraternidad- Alistamiento (3 al 15 de julio) | T1: Total Contratacion | W1: Contratistas
H2: Inicio | I2: Terminación | J2: Meses | K2: Días
H3: (D-M-A) | I3: (D-M-A)
A4: 1 | B4: NEGOCIACIÓN INTERNACIONAL | C4: COORDINAR EL TRANSPORTE SEGÚN MEDIOS Y MODOS. | D4: "Requisitos academicos: El Programa Requiere De Un Equipo De Instructores Técnicos, Integrado Por Tecnólogo En Negociación Internacional. Tecnólogos Y/O Profesionales En Programas De Formación Relacionados Con Los Procesos De Gestión Logística En La Cadena De Abastecimiento, O Con Énfasis En Planeación De Las Actividades Del Mercadeo, Tales Comoingeniero Industrial, Ingeniería De Mercados, Logística, O Alimentos, Administradores De Empresas, Contabilidad, Finanzas Y Ciencias Afines, Preferiblemente Con Especialización En Logística O Comercio Internacional O Negocios Internacionales Y Ciencias Afines. Experiencia Laboral Con Experiencia Laboral En El Desarrollo De Actividades Relacionadas Con Gestión Logística, Mínimo De Veinticuatro (24) Meses" | E4: OK | F4: 8-9302-321 Instructor: Prestar Servicios Personales Carácter Temporal Para La Formación Profesional Integral, En FORMACION REGULAR TITULADA Y COMPLEMENTARIAPara el Programa Formación NEGOCIACIÓN INTERNACIONAL | G4: 2 | H4: 44949 | I4: 45199 | J4: 8 | K4: 8 | P4: 3800000 | Q4: =ROUND(((P4*J4)+(P4/30)*K4),0) -> 31413333 | R4: =+Q4*G4 -> 62826666 | S4: =((P4/30)*13)*G4 -> 3293333.3 | T4: =R4-S4 -> 59533333 | W4: CARLOS PINTO CORZO ALFREDO JOSE FERNANDEZ MENDOZA
A5: 2 | B5: OPERACIONES COMERCIALES | C5: INTERACTUAR CON CLIENTES DE ACUERDO CON SUS NECESIDADES Y CON LAS POLÍTICAS Y ESTRATEGIA DE SERVICIO DE LA ORGANIZACIÓN. | D5: "Requisitos academicos: El Programa Requiere De Un Equipo De Instructores Técnicos, Integrado Por: Técnico En Operaciones Comerciales. Tecnólogos Y/O Profesionales En Programas De Formación Relacionados Con Procesos De Preparar LaExhibición De Productos Y Servicios, Teniendo En Cuenta Sus Características Y El Estilo De Exhibición, Y/OOperaciones Comerciales, Tales Comoeconomía, Administración De Empresas, Mercadeo, Logística,Ingeniería Industrial Y Ciencias Afines. Experiencia Laboral En El Caso De Los TécnicosCon Experiencia Laboral En El Desarrollo De Actividades Relacionadas ConOperaciones Comerciales, Mínimo De Treinta Y Seis (36) MesesEn El Caso De Los Tecnólogos Y/O ProfesionalesCon Experiencia Laboral En El Desarrollo DeActividades Relacionadas Con Operaciones Comerciales, Mínimo De Veinticuatro (24) Meses" | E5: OK | F5: 8-9302-898 Instructor: Prestar Servicios Personales Carácter Temporal Para La Formación Profesional Integral, En FORMACION REGULAR TITULADA Y COMPLEMENTARIAPara el Programa Formación OPERACIONES COMERCIALES | G5: 4 | H5: 44949 | I5: 45107 | J5: 5 | K5: 8 | P5: 3800000 | Q5: =ROUND(((P5*J5)+(P5/30)*K5),0) -> 20013333 | R5: =+Q5*G5 -> 80053332 | S5: 0 | T5: =R5-S5 -> 80053332 | W5: IVÁN YESID CÁRDENAS VÁSQUEZ LUZ ELENA BERRIO MARTINEZ LUIS EDUARDO URREGO CRUZ VACANTE (RONALD RAMIRO JIMENEZ NUÑEZ)
A6: 3 | B6: NEGOCIACIÓN INTERNACIONAL | C6: OPERAR LOS PROCESOS DE IMPORTACIÓN Y EXPORTACIÓN SEGÚN NORMAS Y POLÍTICAS INTERNAS Y EXTERNAS. | D6: "Requisitos academicos: El Programa Requiere De Un Equipo De Instructores Técnicos, Integrado Por Tecnólogo En Negociación Internacional. Tecnólogos Y/O Profesionales En Programas De Formación Relacionados Con Los Procesos De Gestión Logística En La Cadena De Abastecimiento, O Con Énfasis En Planeación De Las Actividades Del Mercadeo, Tales Comoingeniero Industrial, Ingeniería De Mercados, Logística, O Alimentos, Administradores De Empresas, Contabilidad, Finanzas Y Ciencias Afines, Preferiblemente Con Especialización En Logística O Comercio Internacional O Negocios Internacionales Y Ciencias Afines. Experiencia Laboral Con Experiencia Laboral En El Desarrollo De Actividades Relacionadas Con Gestión Logística, Mínimo De Veinticuatro (24) Meses" | E6: OK | F6: 8-9302-353 Instructor: Prestar Servicios Personales Carácter Temporal Para La Formación Profesional Integral, En FORMACION REGULAR TITULADA Y COMPLEMENTARIAPara el Programa Formación NEGOCIACIÓN INTERNACIONAL | G6: 3 | H6: 44949 | I6: 45107 | J6: 5 | K6: 8 | P6: 3800000 | Q6: =ROUND(((P6*J6)+(P6/30)*K6),0) -> 20013333 | R6: =+Q6*G6 -> 60039999 | S6: 0 | T6: =R6-S6 -> 60039999 | W6: JONN WILIAM CARDENAS RODRIGUEZ EVELYN FANDIÑO REDONDO MILTON SAUL FONTALVO MADRID
A7: 4 | B7: Institucional de Pedagogía - Matemáticas | C7: Matemáticas | D7: Título de Tecnólogo en núcleos básicos de conocimiento de: Educación; (SOLO TITULOS SENA). o Título Profesional universitario en núcleos básicos de conocimiento de: Educación; o Matemáticas, Estadística y Afines; o Física. (Ver anexo N.B.C). Tarjeta Profesional en los Casos Exigidos por la Ley. Tecnólogo: Treinta (30) meses de experiencia distribuida así: Dieciocho (18) meses de experiencia laboral relacionada con el desempeño en el área y doce (12) meses en docencia o instrucción o instrucción, para Profesional: Veinticuatro (24) meses de experiencia distribuida así: Doce (12) meses de experiencia laboral relacionada con el desempeño en el área y doce (12) meses en docencia o instrucción. | E7: OK | F7: 8-9302-361 Instructor: Prestar Servicios Personales Carácter Temporal Para La Formación Profesional Integral, En FORMACION REGULAR TITULADA Y COMPLEMENTARIAPara el Programa Formación ASESORIA COMERCIAL | G7: 1 | H7: 44949 | I7: 45107 | J7: 5 | K7: 8 | P7: 3800000 | Q7: =ROUND(((P7*J7)+(P7/30)*K7),0) -> 20013333 | R7: =+Q7*G7 -> 20013333 | S7: 0 | T7: =R7-S7 -> 20013333 | W7: JORGE IVAN ORELLANO REBOLLEDO
A8: 5 | B8: ASESORIA COMERCIAL | C8: Utilizar herramientas informáticas de acuerdo con las necesidades de manejo de información | D8: "Requisitos académicos: alternativa 1 tecnólogo en núcleos básicos de conocimiento deingeniería de sistemas, telemática y afines. Alternativa 2 profesional universitario en núcleos básicos de conocimiento deeducación; o ingeniería de sistemas, telemática y afines; o ingeniería electrónica, telecomunicaciones y afines; o administración experiencia laboral: alternativa 1treinta (30) meses de experiencia relacionada distribuida asídieciocho (18) meses de experiencia relacionada con el ejercicio de edumática en la formación profesional y doce (12) meses en docenciaalternativa 2veinticuatro (24) meses de experiencia relacionada distribuida asídoce (12) meses de experiencia relacionada con el ejercicio de edumática en la formación profesional y doce (12) meses en docencia" | E8: OK | F8: 8-9302-362 Instructor: Prestar Servicios Personales Carácter Temporal Para La Formación Profesional Integral, En FORMACION REGULAR TITULADA Y COMPLEMENTARIAPara el Programa Formación ASESORIA COMERCIAL | G8: 2 | H8: 44949 | I8: 45107 | J8: 5 | K8: 8 | P8: 3800000 | Q8: =ROUND(((P8*J8)+(P8/30)*K8),0) -> 20013333 | R8: =+Q8*G8 -> 40026666 | S8: 0 | T8: =R8-S8 -> 40026666 | W8: HAROLD ROBERTO NEIRA MOLINA DORISMEL PEREZ MORENO EMIL ANTONIO HERNANDEZ CRESPO
A9: 6 | B9: APLICACION DE MEDIDAS DE CONTROL PARA LA INOCUIDAD DE ALIMENTOS | C9: CONTROLAR PUNTOS DE CONTROL CRITICOS EN LOS PROCESOS DE PRODUCCIÓN SEGÚN LEGISLACION VIGENTE | D9: "Requisitos académicos: alternativa1. Título profesional en disciplina académica del núcleo básico de conocimiento en ingeniería agroindustrial, alimentos y afines. Alternativa 2. Título de tecnólogo en disciplina académica del núcleo básico de conocimiento en ingeniería agroindustrial, alimentos y afines experiencia laboral: alternativa 1: diez y ocho (18) meses de experienciade los cuales doce (12) meses estarán relacionados con el ejercicio de la profesión u oficio objeto de la formación profesional y seis (6) meses en labores de docencia alternativa 2: veinticuatro (24) meses de experiencia de los cuales diez y ocho (18) meses estarán relacionados con el ejercicio de la profesión u oficio objeto de la formación profesional y seis (6) meses en labores de docencia | E9: OK | F9: 8-9302-358 Instructor: Prestar Servicios Personales Carácter Temporal Para La Formación Profesional Integral, En FORMACION REGULAR TITULADA Y COMPLEMENTARIAPara el Programa Formación OPERACIONES COMERCIALES | G9: 1 | H9: 44949 | I9: 45107 | J9: 5 | K9: 8 | P9: 3800000 | Q9: =ROUND(((P9*J9)+(P9/30)*K9),0) -> 20013333 | R9: =+Q9*G9 -> 20013333 | S9: 0 | T9: =R9-S9 -> 20013333 | W9: KONNYE PATRICIA PUERTA ROMERO
A10: 7 | B10: GESTIÓN DE MERCADOS | C10: DESARROLLAR LOS CANALES DE DISTRIBUCIÓN A PARTIR DEL MERCADO, IDIOSINCRASIA, CULTURA Y NECESIDAD DE LOS CLIENTES. | D10: "Requisitos academicos: El Programa Requiere De Un Equipo De Instructores Técnicos, Conformado Por: Profesional Universitario O Tecnólogo En Administración De Empresas, Contaduría Y/O Ciencias Afines. Profesional Universitario O Tecnólogo En Mercadología; Mercadeo Y Publicidad; Mercadeo Publicidad Y Ventas; Mercadotecnia. Profesional O Tecnólogo En Programas De Formación Relacionados Con Los Procesos De Gestión Logística En La Cadena De Abastecimiento. Experiencia Laboral ¿Mínimo 24 (Meses) Con El Ejercicio De La Profesión U Oficio Objeto De La Formación Profesional Y Un Año En Labores De Docencia En Mercadeo" | E10: OK | F10: 8-9302-318 Instructor: Prestar Servicios Personales Carácter Temporal Para La Formación Profesional Integral, En FORMACION REGULAR TITULADA Y COMPLEMENTARIAPara el Programa Formación GESTIÓN DE MERCADOS | G10: 7 | H10: 44949 | I10: 45107 | J10: 5 | K10: 8 | P10: 3800000 | Q10: =ROUND(((P10*J10)+(P10/30)*K10),0) -> 20013333 | R10: =+Q10*G10 -> 140093331 | S10: 0 | T10: =R10-S10 -> 140093331 | W10: FREDDY GARCIA CONSUEGRA ALFREDO ENRIQUE COBOS PALACIO NATAN JOSE NADER BARBOSA GIOVANNI DELACRUZ GALEZO LEIDI LORENA DOMINGUEZ ACOSTA WALBERTO ANTONIO DELAHOZ ZAPATA JULIO ENRIQUE VALLE ROBLES
A11: 8 | B11: OPERACION DE SERVICIOS EN CONTACT CENTER Y BPO | C11: Utilizar herramientas informáticas de acuerdo con las necesidades de manejo de información | D11: "Requisitos académicos: alternativa 1 tecnólogo en núcleos básicos de conocimiento deingeniería de sistemas, telemática y afines. Alternativa 2 profesional universitario en núcleos básicos de conocimiento deeducación; o ingeniería de sistemas, telemática y afines; o ingeniería electrónica, telecomunicaciones y afines; o administración experiencia laboral: alternativa 1treinta (30) meses de experiencia relacionada distribuida asídieciocho (18) meses de experiencia relacionada con el ejercicio de edumática en la formación profesional y doce (12) meses en docenciaalternativa 2veinticuatro (24) meses de experiencia relacionada distribuida asídoce (12) meses de experiencia relacionada con el ejercicio de edumática en la formación profesional y doce (12) meses en docencia" | E11: OK | F11: 8-9302-349 Instructor: Prestar Servicios Personales Carácter Temporal Para La Formación Profesional Integral, En FORMACION REGULAR TITULADA Y COMPLEMENTARIAPara el Programa Formación OPERACION DE SERVICIOS EN CONTACT CENTER Y BPO | G11: 2 | H11: 44949 | I11: 45199 | J11: 8 | K11: 8 | P11: 3800000 | Q11: =ROUND(((P11*J11)+(P11/30)*K11),0) -> 31413333 | R11: =+Q11*G11 -> 62826666 | S11: =((P11/30)*13)*G11 -> 3293333.3 | T11: =R11-S11 -> 59533333 | W11: JORGE ISAAC TROCHA MARIOTIS NELSON EFRAIN MIRANDA BROCHERO
A12: 9 | B12: OPERACION DE SERVICIOS EN CONTACT CENTER Y BPO | C12: Atender requerimientos de los clientes de acuerdo con procedimiento técnico y normativa de procesos de negocios | D12: "Requisitos académicos: alternativa 1 título de tecnólogo en el núcleo básico de conocimiento deadministración; o economía; o ingeniería industrial y afines. Estos tecnólogos deben estar asociados a los programas de formación que impartirá en su desempeño y se citan los títulos obtenidos, núcleos básicos de conocimiento y áreas de conocimientotecnólogos en mercadeo, gestión de mercados, gestión empresarial, gestión administrativa. Alternativa 2. Requisitos académicos título profesional universitario en disciplina académica del núcleo básico de conocimiento enadministración, economía o ingeniería industrial y afines. Estas profesiones deben estar asociadas a los programas de formación que impartirá en su desempeño y se citan los títulos obtenidos, núcleos básicos de conocimiento y áreas de conocimientocomunicación social, periodismo y afines, economía, ingeniería industrial, ingeniería de mercados, administración de empresas. Experiencia laboral: alternativa 1treinta (30) meses de experiencia relacionada distribuida asídieciocho (18) meses de experiencia relacionados con el desarrollo de labores de gestión y/o administración de las operaciones de contact center o bpo doce (12) meses en docenciaalternativa 2veinticuatro (24) meses de experiencia relacionada distribuida asídoce (12) meses de experiencia relacionada con relacionados con el desarrollo de labores de gestión y/o administración de las operaciones de contact center o bpo y doce (12) meses en docencia" | E12: OK | F12: 8-9302-342 Instructor: Prestar Servicios Personales Carácter Temporal Para La Formación Profesional Integral, En FORMACION REGULAR TITULADA Y COMPLEMENTARIAPara el Programa Formación OPERACION DE SERVICIOS EN CONTACT CENTER Y BPO | G12: 3 | H12: 44949 | I12: 45199 | J12: 8 | K12: 8 | P12: 3800000 | Q12: =ROUND(((P12*J12)+(P12/30)*K12),0) -> 31413333 | R12: =+Q12*G12 -> 94239999 | S12: =((P12/30)*13)*G12 -> 4940000 | T12: =R12-S12 -> 89299999 | W12: STERLANDY CLARISS POLO MERLANO JUAN CARLOS DIAZ CERRA XAVIER ENRIQUE MENDEZ PALMA
A13: 10 | B13: Institucional de Integralidad de la Formación - Interacción Consigo Mismo, con los demás, con la Naturaleza y con la Trascendencia | C13: Interacción Consigo Mismo, con los demás, con la Naturaleza y con la Trascendencia | D13: "Requisitos academicos:Profesional en los núcleos de conocimiento de Antropología, artes liberales, o Filosofía, teología y afines, o Educación, o Sociología, trabajo social y afine, o Psicología, o Administración Experiencia laboral Veinticuatro (24) meses de experiencia distribuida así: Doce (12) meses de experiencia laboral relacionada con el desempeño en el área y doce (12) meses en docencia o instrucción Tarjeta Profesional en los Casos Exigidos por la Ley | E13: OK | F13: 8-9302-319 Instructor: Prestar Servicios Personales Carácter Temporal Para La Formación Profesional Integral, En FORMACION REGULAR TITULADA Y COMPLEMENTARIAPara el Programa Formación GESTIÓN DE MERCADOS | G13: 1 | H13: 44949 | I13: 45107 | J13: 5 | K13: 8 | P13: 3800000 | Q13: =ROUND(((P13*J13)+(P13/30)*K13),0) -> 20013333 | R13: =+Q13*G13 -> 20013333 | S13: 0 | T13: =R13-S13 -> 20013333 | W13: RONALD VERA BARBOSA
A14: 11 | B14: GESTIÓN DE MERCADOS | C14: PLANEAR ACTIVIDADES DE MERCADEO QUE RESPONDAN A LAS NECESIDADES Y EXPECTATIVAS DE LOS CLIENTES Y A LOS OBJETIVOS DE LA EMPRESA. | D14: "Requisitos academicos: El Programa Requiere De Un Equipo De Instructores Técnicos, Conformado Por: Profesional Universitario O Tecnólogo En Administración De Empresas, Contaduría Y/O Ciencias Afines. Profesional Universitario O Tecnólogo En Mercadología; Mercadeo Y Publicidad; Mercadeo Publicidad Y Ventas; Mercadotecnia. Profesional O Tecnólogo En Programas De Formación Relacionados Con Los Procesos De Gestión Logística En La Cadena De Abastecimiento. Experiencia Laboral ¿Mínimo 24 (Meses) Con El Ejercicio De La Profesión U Oficio Objeto De La Formación Profesional Y Un Año En Labores De Docencia En Mercadeo" | E14: OK | F14: 8-9302-372 Instructor: Prestar Servicios Personales Carácter Temporal Para La Formación Profesional Integral, En FORMACION REGULAR TITULADA Y COMPLEMENTARIAPara el Programa Formación GESTIÓN DE MERCADOS | G14: 7 | H14: 44949 | I14: 45199 | J14: 8 | K14: 8 | P14: 3800000 | Q14: =ROUND(((P14*J14)+(P14/30)*K14),0) -> 31413333 | R14: =+Q14*G14 -> 219893331 | S14: =((P14/30)*13)*G14 -> 11526667 | T14: =R14-S14 -> 2.0836666e+08 | W14: MARIA DEL PILAR RODRIGUEZ GARCIA LUZ KARIME DADUL GUZMAN ANDRES ESTRADA ECHEVERRY GERMAN ANTONIO VELASQUEZ VARGAS OLGA ROSA BORJAS DIART MANUEL JOAQUIN ESQUIVIA CORPAS DIEGO MAURICIO DUARTE REY
A15: 12 | B15: GESTIÓN DE MERCADOS | C15: PLANEAR ACTIVIDADES DE MERCADEO QUE RESPONDAN A LAS NECESIDADES Y EXPECTATIVAS DE LOS CLIENTES Y A LOS OBJETIVOS DE LA EMPRESA. | D15: "Requisitos academicos: El Programa Requiere De Un Equipo De Instructores Técnicos, Conformado Por: Profesional Universitario O Tecnólogo En Administración De Empresas, Contaduría Y/O Ciencias Afines. Profesional Universitario O Tecnólogo En Mercadología; Mercadeo Y Publicidad; Mercadeo Publicidad Y Ventas; Mercadotecnia. Profesional O Tecnólogo En Programas De Formación Relacionados Con Los Procesos De Gestión Logística En La Cadena De Abastecimiento. Experiencia Laboral ¿Mínimo 24 (Meses) Con El Ejercicio De La Profesión U Oficio Objeto De La Formación Profesional Y Un Año En Labores De Docencia En Mercadeo" | E15: OK | F15: 8-9302-372 Instructor: Prestar Servicios Personales Carácter Temporal Para La Formación Profesional Integral, En FORMACION REGULAR TITULADA Y COMPLEMENTARIAPara el Programa Formación GESTIÓN DE MERCADOS | G15: 4 | H15: 44949 | I15: 45199 | J15: 8 | K15: 8 | P15: 3800000 | Q15: =ROUND(((P15*J15)+(P15/30)*K15),0) -> 31413333 | R15: =+Q15*G15 -> 125653332 | S15: 0 | T15: =R15-S15 -> 125653332 | W15: JHON JAIRO GARCERANT PEREZ LULIMA MARIA VELASQUEZ PATIÑO CLAUDIA PATRICIA PARRA MARTINEZ VICTORIA EUGENIA BAENA MARTINEZ | X15: Instructores de Seguimiento a Etapa Productiva
A16: 13 | B16: GESTIÓN DE MERCADOS | C16: PLANEAR ACTIVIDADES DE MERCADEO QUE RESPONDAN A LAS NECESIDADES Y EXPECTATIVAS DE LOS CLIENTES Y A LOS OBJETIVOS DE LA EMPRESA. | D16: "Requisitos academicos: El Programa Requiere De Un Equipo De Instructores Técnicos, Conformado Por: Profesional Universitario O Tecnólogo En Administración De Empresas, Contaduría Y/O Ciencias Afines. Profesional Universitario O Tecnólogo En Mercadología; Mercadeo Y Publicidad; Mercadeo Publicidad Y Ventas; Mercadotecnia. Profesional O Tecnólogo En Programas De Formación Relacionados Con Los Procesos De Gestión Logística En La Cadena De Abastecimiento. Experiencia Laboral ¿Mínimo 24 (Meses) Con El Ejercicio De La Profesión U Oficio Objeto De La Formación Profesional Y Un Año En Labores De Docencia En Mercadeo" | E16: OK | F16: 8-9302-372 Instructor: Prestar Servicios Personales Carácter Temporal Para La Formación Profesional Integral, En FORMACION REGULAR TITULADA Y COMPLEMENTARIAPara el Programa Formación GESTIÓN DE MERCADOS | G16: 3 | H16: 44949 | I16: 45107 | J16: 5 | K16: 8 | P16: 3800000 | Q16: =ROUND(((P16*J16)+(P16/30)*K16),0) -> 20013333 | R16: =+Q16*G16 -> 60039999 | S16: 0 | T16: =R16-S16 -> 60039999 | W16: ELY JOHANNA FRANCO VILLANUEVA PRIMO ANGEL ROBLES MAYORAL MAGALI ESTHER ANDRADE RIVALDO
A17: 14 | B17: GESTIÓN DE MERCADOS | C17: COMPRENDER TEXTOS EN INGLÉS EN FORMA ESCRITA Y AUDITIVA | D17: "Opción 1: Título profesional universitario en cualquier núcleo básico de conocimiento. Nivel de lengua certificado* de mínimo B2 de acuerdo con el MCER en cada una de las 4 habilidades de dominio de lengua (Comprensión oral, Comprensión escrita, Producción oral, Producción escrita). Veinticuatro (24) meses de experiencia en la instrucción/docencia de la lengua extranjera a impartir. Opción 2: Título tecnólogo en cualquier núcleo básico de conocimiento. Nivel de lengua certificado* de mínimo B2 de acuerdo con el MCER en cada una de las 4 habilidades de dominio de lengua (Comprensión oral, Comprensión escrita, Producción oral, Producción escrita). Treinta (30) meses de experiencia en la instrucción/docencia de la lengua extranjera a impartir.Los instructores para programas de formación complementaria virtual, incluyendo bilingüismo, deberán acreditar capacitación relacionada con tutoría virtual, no inferior a 40 horas, además de cumplir los requisitos del perfil establecido en los diseños curriculares de cada programa como perfiles de instructor (en el caso de bilingüismo, el perfil está definido en el numeral 8 de la presente circular). Los instructores que se contraten para orientar programas de formación titulada virtual o titulada a distancia, deberán acreditar capacitación relacionada con tutoría virtual, no inferior a 40 horas; tener experiencia certificada de mínimo seis (6) meses como tutor virtual, además de cumplir los requisitos del perfil establecido en los diseños curriculares de cada programa." | E17: OK | F17: 8-9302-373 Instructor: Prestar Servicios Personales Carácter Temporal Para La Formación Profesional Integral, En FORMACION REGULAR TITULADA Y COMPLEMENTARIAPara el Programa Formación GESTIÓN DE MERCADOS | G17: 8 | H17: 44949 | I17: 45199 | J17: 8 | K17: 8 | P17: 3800000 | Q17: =ROUND(((P17*J17)+(P17/30)*K17),0) -> 31413333 | R17: =+Q17*G17 -> 251306664 | S17: =((P17/30)*13)*G17 -> 13173333 | T17: =R17-S17 -> 2.3813333e+08 | W17: GLORIA AMPARO TOBO JAIMES YESENIA DEL CARMEN BARROS LLAMAS JONATHAN LEONARDO GUTIERREZ ACEVEDO PAOLA ISABEL MENDOZA SOLANO ARMANDO SOLANO RODRIGUEZ JONATHAN ENRIQUE PIZARRO POLO HEIDY PATRICIA OJEDA CIENFUEGOS VACANTE (¿ALVARO CEBALLOS CASTILLA?)
A18: 14 | B18: GESTIÓN DE MERCADOS | C18: COMPRENDER TEXTOS EN INGLÉS EN FORMA ESCRITA Y AUDITIVA | D18: "Opción 1: Título profesional universitario en cualquier núcleo básico de conocimiento. Nivel de lengua certificado* de mínimo B2 de acuerdo con el MCER en cada una de las 4 habilidades de dominio de lengua (Comprensión oral, Comprensión escrita, Producción oral, Producción escrita). Veinticuatro (24) meses de experiencia en la instrucción/docencia de la lengua extranjera a impartir. Opción 2: Título tecnólogo en cualquier núcleo básico de conocimiento. Nivel de lengua certificado* de mínimo B2 de acuerdo con el MCER en cada una de las 4 habilidades de dominio de lengua (Comprensión oral, Comprensión escrita, Producción oral, Producción escrita). Treinta (30) meses de experiencia en la instrucción/docencia de la lengua extranjera a impartir.Los instructores para programas de formación complementaria virtual, incluyendo bilingüismo, deberán acreditar capacitación relacionada con tutoría virtual, no inferior a 40 horas, además de cumplir los requisitos del perfil establecido en los diseños curriculares de cada programa como perfiles de instructor (en el caso de bilingüismo, el perfil está definido en el numeral 8 de la presente circular). Los instructores que se contraten para orientar programas de formación titulada virtual o titulada a distancia, deberán acreditar capacitación relacionada con tutoría virtual, no inferior a 40 horas; tener experiencia certificada de mínimo seis (6) meses como tutor virtual, además de cumplir los requisitos del perfil establecido en los diseños curriculares de cada programa." | E18: OK | G18: 1 | H18: 44949 | I18: 45107 | J18: 5 | K18: 8 | P18: 3800000 | Q18: =ROUND(((P18*J18)+(P18/30)*K18),0) -> 20013333 | R18: =+Q18*G18 -> 20013333 | T18: =R18-S18 -> 20013333 | W18: VACANTE
A19: 15 | B19: Institucional de Integralidad de la Formación - Interacción Consigo Mismo, con los demás, con la Naturaleza y con la Trascendencia | C19: Interacción Consigo Mismo, con los demás, con la Naturaleza y con la Trascendencia | D19: "Requisitos academicos:Profesional en los núcleos de conocimiento de Antropología, artes liberales, o Filosofía, teología y afines, o Educación, o Sociología, trabajo social y afine, o Psicología, o Administración Experiencia laboral Veinticuatro (24) meses de experiencia distribuida así: Doce (12) meses de experiencia laboral relacionada con el desempeño en el área y doce (12) meses en docencia o instrucción Tarjeta Profesional en los Casos Exigidos por la Ley | E19: OK | F19: 8-9302-363 Instructor: Prestar Servicios Personales Carácter Temporal Para La Formación Profesional Integral, En FORMACION REGULAR TITULADA Y COMPLEMENTARIAPara el Programa Formación ASESORIA COMERCIAL | G19: 2 | H19: 44949 | I19: 45107 | J19: 5 | K19: 8 | P19: 3800000 | Q19: =ROUND(((P19*J19)+(P19/30)*K19),0) -> 20013333 | R19: =+Q19*G19 -> 40026666 | S19: 0 | T19: =R19-S19 -> 40026666 | W19: SILVIA GLORIA RODRIGUEZ CASTRILLON ALBERTO ENRIQUE CANDANOZA HENRIQUEZ
A20: 16 | B20: OPERACIONES COMERCIALES EN RETAIL | C20: Atender clientes de acuerdo con procedimiento de servicio y normativa | D20: "Requisitos académicos: alternativa 1 título de tecnólogo en el núcleo básico de conocimiento deadministración; o economía; o ingeniería industrial y afines. Estos tecnólogos deben estar asociados a los programas de formación que impartirá en su desempeño y se citan los títulos obtenidos, núcleos básicos de conocimiento y áreas de conocimientotecnólogos en mercadeo, gestión de mercados, gestión empresarial, gestión administrativa. Alternativa 2. Título profesional universitario en disciplina académica del núcleo básico de conocimiento enadministración, economía o ingeniería industrial y afines. Estas profesiones deben estar asociadas a los programas de formación que impartirá en su desempeño y se citan los títulos obtenidos, núcleos básicos de conocimiento y áreas de conocimientoingeniero de mercados, administración de empresas, mercadólogo, profesional en mercadeo y publicidad. Experiencia laboral: alternativa 1treinta (30) meses de experiencia relacionada distribuida asídieciocho (18) meses de experiencia relacionada con el ejercicio de ventas y doce (12) meses en docenciaalternativa 2veinticuatro (24) meses de experiencia relacionada distribuida asídoce (12) meses de experiencia relacionada con el ejercicio de ventas y doce (12) meses en docencia" | E20: OK | F20: 8-9302-320 Instructor: Prestar Servicios Personales Carácter Temporal Para La Formación Profesional Integral, En FORMACION REGULAR TITULADA Y COMPLEMENTARIAPara el Programa Formación OPERACIONES COMERCIALES EN RETAIL | G20: 1 | H20: 44949 | I20: 45107 | J20: 5 | K20: 8 | P20: 3800000 | Q20: =ROUND(((P20*J20)+(P20/30)*K20),0) -> 20013333 | R20: =+Q20*G20 -> 20013333 | S20: 0 | T20: =R20-S20 -> 20013333 | W20: ALEXANDER PADILLA SIERRA
A21: 17 | B21: INFORMACION Y SERVICIO AL CLIENTE | C21: EVALUAR LOS NIVELES DE SATISFACCIÓN DE CLIENTES Y USUARIOS EN EL CONTACT CENTER, SEGÚN ESTÁNDARES ESTABLECIDOS | D21: Requisitos académicos: profesional en administración comercial y de sistemas, y áreas relacionadas con la administración, mercadeo y ventas, formación pedagógica básica. Experiencia laboral: doce (12) meses de experiencia laboral en áreas administrativas o comerciales veinticuatro (24) de experiencia docencia | E21: OK | F21: 8-9302-352 Instructor: Prestar Servicios Personales Carácter Temporal Para La Formación Profesional Integral, En FORMACION REGULAR TITULADA Y COMPLEMENTARIAPara el Programa Formación INFORMACION Y SERVICIO AL CLIENTE | G21: 2 | H21: 44949 | I21: 45107 | J21: 5 | K21: 8 | P21: 2850000 | Q21: =ROUND(((P21*J21)+(P21/30)*K21),0) -> 15010000 | R21: =+Q21*G21 -> 30020000 | S21: 0 | T21: =R21-S21 -> 30020000 | W21: VILMA YAMILE CASTILLO PATIÑO VACANTE
A22: 18 | B22: OPERACION DE SERVICIOS EN CONTACT CENTER Y BPO | C22: GENERAR HÁBITOS SALUDABLES DE VIDA MEDIANTE LA APLICACIÓN DE PROGRAMAS DE ACTIVIDAD FÍSICA EN LOS CONTEXTOS PRODUCTIVOS Y SOCIALES. | D22: "Requisitos académicos: Licenciado en educación física. Tecnólogo en el núcleo básico de conocimiento dedeportes, educación física y recreación alternativa, Profesional en ciencias del deporte. Título profesional universitario el núcleo básico de conocimiento dedeportes, educación física y recreación; o educación física y afines; o educación, Tecnólogo en actividad física o entrenamiento deportivo con especialización tecnológica relacionada con el área de conocimiento. Experiencia laboral: Opción 1: treinta (30) meses de experiencia relacionada distribuida así dieciocho (18) meses de experiencia relacionada con el ejercicio de cultura física y doce (12) meses en docencia, Opción 2: veinticuatro (24) meses de experiencia relacionada distribuida asídoce (12) meses de experiencia relacionada con el ejercicio de la cultura física y doce (12) meses en docencia, adicionalmente certificar cursos de formación en pedagogía de mínimo 40 horas o presentar certificación de competencia laboral vigente en orientación de procesos formativos presenciales. " | E22: OK | F22: 8-9302-343 Instructor: Prestar Servicios Personales Carácter Temporal Para La Formación Profesional Integral, En FORMACION REGULAR TITULADA Y COMPLEMENTARIAPara el Programa Formación OPERACION DE SERVICIOS EN CONTACT CENTER Y BPO | G22: 1 | H22: 44949 | I22: 45107 | J22: 5 | K22: 8 | P22: 2850000 | Q22: =ROUND(((P22*J22)+(P22/30)*K22),0) -> 15010000 | R22: =+Q22*G22 -> 15010000 | S22: 0 | T22: =R22-S22 -> 15010000 | W22: VACANTE
A23: 19 | B23: Institucional de Integralidad de la Formación - Derechos Humanos y Fundamentales en el Trabajo | C23: Derechos Humanos y Fundamentales en el Trabajo | D23: "Requisitos académicos: Opción 1 Certificado de Aptitud Profesional en todas las Ocupaciones del nivel 2, o 3, o 4 opción 2 Nivel Técnico en cualquiera de los núcleos básicos de conocimiento opción 3 Nivel Tecnólogo en cualquiera de los núcleos básicos de conocimiento opción 4 Titulo Profesional en cualquiera de los núcleos básicos de conocimiento y Tarjeta Profesional en los casos estipulados por Ley. Experiencia laboral Opción 1 Cuarenta y Ocho (48) meses de experiencia distribuida así: Treinta y seis (36) meses de experiencia laboral relacionada con el desempeño en el área DERECHOS HUMANOS Y FUNDAMENTALES EN EL TRABAJO, doce (12) meses en docencia o instrucción Opción 2 Cuarenta y dos (42) meses de experiencia distribuida así: Treinta (30) meses de experiencia laboral relacionada con el desempeño en el área de DERECHOS HUMANOS Y FUNDAMENTALES EN EL TRABAJO, doce (12) meses en docencia o instrucción Opción 3 Treinta (30) meses de experiencia distribuida así: Dieciocho (18) meses de experiencia laboral relacionada con el desempeño en el área de DERECHOS HUMANOS Y FUNDAMENTALES EN EL TRABAJO, doce (12) meses en docencia o instrucción Opción 4 Veinticuatro (24) meses de experiencia distribuida así: Doce (12) meses de experiencia laboral relacionada con el desempeño en el área de DERECHOS HUMANOS Y FUNDAMENTALES EN EL TRABAJO, doce (12) meses en docencia o instrucción | E23: OK | F23: 8-9302-348 Instructor: Prestar Servicios Personales Carácter Temporal Para La Formación Profesional Integral, En FORMACION REGULAR TITULADA Y COMPLEMENTARIAPara el Programa Formación OPERACION DE SERVICIOS EN CONTACT CENTER Y BPO | G23: 1 | H23: 44949 | I23: 45107 | J23: 5 | K23: 8 | P23: 2850000 | Q23: =ROUND(((P23*J23)+(P23/30)*K23),0) -> 15010000 | R23: =+Q23*G23 -> 15010000 | S23: 0 | T23: =R23-S23 -> 15010000 | W23: DAINY ISABEL HERNANDEZ GONZALEZ
A24: 20 | B24: DIRECCIÓN DE VENTAS | C24: COORDINAR LA ACCIÓN DE VENTAS DE ACUERDO CON LOS OBJETIVOS DE VENTAS Y EL PLAN DE MERCADEO. | D24: Requisitos académicos: el programa requiere de un equipo de instructores técnicos, integrado por tecnólogo en dirección de ventas. Tecnólogos y/o profesionales en programas de formación relacionados con mercadeo, publicidad, administración comercial, coordinación y administración de la fuerza de ventas, administración de canales de distribución, tales comomercadeo, economía, administración de empresas, administración y finanzas, otras ciencias económicas y administrativas, ingeniería industrial, ingeniería comercial, comunicación social y ciencias afines. Experiencia laboral: con experiencia laboral en el desarrollo de actividades relacionadas con dirección comercial, o con venta de productos y servicios, estructuración de la fuerza de ventas, mercadeo y publicidad, gestión de superficies, realización de eventos comerciales, manejo de eventos, mínimo de veinticuatro (24) meses | E24: OK | F24: 8-9302-364 Instructor: Prestar Servicios Personales Carácter Temporal Para La Formación Profesional Integral, En FORMACION REGULAR TITULADA Y COMPLEMENTARIAPara el Programa Formación DIRECCIÓN DE VENTAS | G24: 7 | H24: 44949 | I24: 45199 | J24: 8 | K24: 8 | P24: 3800000 | Q24: =ROUND(((P24*J24)+(P24/30)*K24),0) -> 31413333 | R24: =+Q24*G24 -> 219893331 | S24: =((P24/30)*13)*G24 -> 11526667 | T24: =R24-S24 -> 2.0836666e+08 | W24: MARGARITA MERCEDES WONG MIRANDA YOVANNA SUJEIS DIAZ VILLADIEGO LUCY STELLA GONZALEZ VELILLA BELQUIS POLO OLIVERO MARLON GRANADOS NIEBLES GLORIA INES PINO DELRISCO STEFANY SARMIENTO SARMIENTO
A25: 21 | B25: DIRECCIÓN DE VENTAS | C25: COORDINAR LA ACCIÓN DE VENTAS DE ACUERDO CON LOS OBJETIVOS DE VENTAS Y EL PLAN DE MERCADEO. | D25: Requisitos académicos: el programa requiere de un equipo de instructores técnicos, integrado por tecnólogo en dirección de ventas. Tecnólogos y/o profesionales en programas de formación relacionados con mercadeo, publicidad, administración comercial, coordinación y administración de la fuerza de ventas, administración de canales de distribución, tales comomercadeo, economía, administración de empresas, administración y finanzas, otras ciencias económicas y administrativas, ingeniería industrial, ingeniería comercial, comunicación social y ciencias afines. Experiencia laboral: con experiencia laboral en el desarrollo de actividades relacionadas con dirección comercial, o con venta de productos y servicios, estructuración de la fuerza de ventas, mercadeo y publicidad, gestión de superficies, realización de eventos comerciales, manejo de eventos, mínimo de veinticuatro (24) meses | E25: OK | F25: 8-9302-364 Instructor: Prestar Servicios Personales Carácter Temporal Para La Formación Profesional Integral, En FORMACION REGULAR TITULADA Y COMPLEMENTARIAPara el Programa Formación DIRECCIÓN DE VENTAS | G25: 5 | H25: 44949 | I25: 45199 | J25: 8 | K25: 8 | P25: 3800000 | Q25: =ROUND(((P25*J25)+(P25/30)*K25),0) -> 31413333 | R25: =+Q25*G25 -> 157066665 | S25: 0 | T25: =R25-S25 -> 157066665 | W25: MARCO MEDINA MOLINA YURLEIDIS DEL CARMEN BLANCO PARDO ADRIANA LUCIA MOLINA ALDANA LUIS EDUARDO MOLINARES SILVERA DIANA MARIA PULGARIN OSSA | X25: Instructores de Seguimiento a Etapa Productiva
A26: 22 | B26: DIRECCIÓN DE VENTAS | C26: CONTABILIZAR LOS RECURSOS DE OPERACIÓN, INVERSIÓN Y FINANCIACIÓN DE ACUERDO CON LAS NORMAS Y POLÍTICAS ORGANIZACIONALES | D26: Requisitos académicos: el programa requiere de un equipo de instructores técnicos, integrado por tecnólogo en dirección de ventas. Tecnólogos y/o profesionales en programas de formación relacionados con mercadeo, publicidad, administración comercial, coordinación y administración de la fuerza de ventas, administración de canales de distribución, tales comomercadeo, economía, administración de empresas, administración y finanzas, otras ciencias económicas y administrativas, ingeniería industrial, ingeniería comercial, comunicación social y ciencias afines. Experiencia laboral: con experiencia laboral en el desarrollo de actividades relacionadas con dirección comercial, o con venta de productos y servicios, estructuración de la fuerza de ventas, mercadeo y publicidad, gestión de superficies, realización de eventos comerciales, manejo de eventos, mínimo de veinticuatro (24) meses | E26: OK | F26: 8-9302-365 Instructor: Prestar Servicios Personales Carácter Temporal Para La Formación Profesional Integral, En FORMACION REGULAR TITULADA Y COMPLEMENTARIAPara el Programa Formación DIRECCIÓN DE VENTAS | G26: 4 | H26: 44949 | I26: 45107 | J26: 5 | K26: 8 | P26: 3800000 | Q26: =ROUND(((P26*J26)+(P26/30)*K26),0) -> 20013333 | R26: =+Q26*G26 -> 80053332 | T26: =R26-S26 -> 80053332 | W26: FABIO ANDRES RODRIGUEZ VARGAS JAIRO ANTONIO HENRIQUEZ FUENTES ASUNCION LUCIA RODRIGUEZ VITAL SARA LUZ CASTRO GUTIERREZ
A27: 23 | B27: DIRECCIÓN DE VENTAS | C27: CONTABILIZAR LOS RECURSOS DE OPERACIÓN, INVERSIÓN Y FINANCIACIÓN DE ACUERDO CON LAS NORMAS Y POLÍTICAS ORGANIZACIONALES | D27: Requisitos académicos: el programa requiere de un equipo de instructores técnicos, integrado por tecnólogo en dirección de ventas. Tecnólogos y/o profesionales en programas de formación relacionados con mercadeo, publicidad, administración comercial, coordinación y administración de la fuerza de ventas, administración de canales de distribución, tales comomercadeo, economía, administración de empresas, administración y finanzas, otras ciencias económicas y administrativas, ingeniería industrial, ingeniería comercial, comunicación social y ciencias afines. Experiencia laboral: con experiencia laboral en el desarrollo de actividades relacionadas con dirección comercial, o con venta de productos y servicios, estructuración de la fuerza de ventas, mercadeo y publicidad, gestión de superficies, realización de eventos comerciales, manejo de eventos, mínimo de veinticuatro (24) meses | E27: OK | F27: 8-9302-365 Instructor: Prestar Servicios Personales Carácter Temporal Para La Formación Profesional Integral, En FORMACION REGULAR TITULADA Y COMPLEMENTARIAPara el Programa Formación DIRECCIÓN DE VENTAS | G27: 1 | H27: 44949 | I27: 45199 | J27: 8 | K27: 8 | P27: 3800000 | Q27: =ROUND(((P27*J27)+(P27/30)*K27),0) -> 31413333 | R27: =+Q27*G27 -> 31413333 | S27: 0 | T27: =R27-S27 -> 31413333 | W27: CARLOS JULIO PAJARO (Instructores de Seguimiento a Etapa Productiva NO SE DESCUENTA)
A28: 24 | B28: DIRECCIÓN DE VENTAS | C28: PROMOVER LA INTERACCIÓN IDÓNEA CONSIGO MISMO, CON LOS DEMÁS Y CON LA NATURALEZA EN LOS CONTEXTOS LABORAL Y SOCIAL | D28: Requisitos Académicos: Para el desarrollo integral de esta competencia se requiere la participación de diferentes profesionales asociados a perfiles académicos relacionados con los resultados de aprendizajes específicos, así: - Opción 1: Certificación en formación basada en competencias laborales y/o en aprendizaje por proyectos o relacionadas. - Opción 2: Profesional que tenga competencias humanísticas y formación en Ciencias Humanas. - Opción 3: Profesional educación física, recreación y deportes. - Opción 4: Profesional ciencias de la salud ocupacional. - Experiencia Laboral: - Tener experiencia mínima en procesos de formación o actividades laborales de 2 años en el área de desarrollo humano con el enfoque basado en competencias laborales. - Competencias: - Gestionar procesos de desarrollo humano según las particularidades de los contextos sociales y productivos. - Interactuar idóneamente consigo mismo con los demás y con la naturaleza según los contextos sociales y productivos. - Promover el desarrollo de las actividades físicas que posibiliten el desempeño laboral seguro y eficaz, un estilo de vida saludable y el mejoramiento de la calidad de vida - Trabajar interdisciplinariamente en la planeación - ejecución y evaluación y mejoramiento del proceso de inducción. - Propiciar la integración y participación de los aprendices en el proceso de aprendizaje. - Orientar las actividades de aprendizaje para el logro de los resultados de aprendizaje del proceso de inducción motivando la actuación protagónica de los aprendices. - Integrar a los procesos de la inducción los recursos tecnológicos disponibles. | E28: OK | F28: 8-9302-366 Instructor: Prestar Servicios Personales Carácter Temporal Para La Formación Profesional Integral, En FORMACION REGULAR TITULADA Y COMPLEMENTARIAPara el Programa Formación DIRECCIÓN DE VENTAS | G28: 2 | H28: 44949 | I28: 45107 | J28: 5 | K28: 8 | P28: 3800000 | Q28: =ROUND(((P28*J28)+(P28/30)*K28),0) -> 20013333 | R28: =+Q28*G28 -> 40026666 | S28: 0 | T28: =R28-S28 -> 40026666 | W28: RICARDO ENRIQUE KLEVER JURADO KATERINE VIZCAINO GARCIA
G29: =SUM(G4:G28) -> 75 | T29: =SUM(T4:T28) -> 1.8778333e+09

Sheet Servicios Administrativos
A1: No | B1: PROGRAMA DE FORMACIÓN | C1: COMPETENCIA | D1: PERFIL DEL INSTRUCTOR | E1: VALIDACIÓN (QUE APAREZCA, VALORES, NUMERO DE INSTRUCTORES) | F1: OBJETO CONTRACTUAL | G1: No de personas a contratar | H1: Fechas Previstas para la Contratación | J1: Plazo Previsto para la Contratación | O1: VALIDACIÓN FECHAS | P1: costo honorarios mes (Pesos) | Q1: Valor un instructor | R1: Valor total programa | S1: Deduccion Semana de Confraternidad- Alistamiento (3 al 15 de julio) | T1: Total Contratacion | U1: Contratista | V1: Observaciones
H2: Inicio | I2: Terminación | J2: Meses | K2: Días
H3: (D-M-A) | I3: (D-M-A)
A4: 1 | B4: SERVICIOS Y OPERACIONES MICROFINANCIERAS | C4: Utilizar herramientas informáticas de acuerdo con las necesidades de manejo de información | D4: Requisitos academicos: - TECNÓLOGO O PROFESIONAL EN ÁREAS AFINES CON TECNOLOGÍAS DE LA INFORMACIÓN Y LA COMUNICACIÓN. Experiencia Laboral;- MÍNIMO, DIECIOCHO (18) MESES DE EXPERIENCIA LABORAL, DE LOS CUALES DOCE (12) MESES ESTARÁN RELACIONADOS CON EL EJERCICIO DE LA PROFESIÓN U OFICIO OBJETO DE LA FORMACIÓN PROFESIONAL Y SEIS (6) MESES EN LABORES DE DOCENCIA EN EL ÁREA. | F4: 8-9302-866 Instructor: Prestar Servicios Personales Carácter Temporal Para La Formación Profesional Integral, En FORMACION REGULAR TITULADA Y COMPLEMENTARIAPara el Programa Formación SERVICIOS COMERCIALES Y FINANCIEROS Y SERVICIOS Y OPERACIONES MICROFINANCIERAS | G4: 1 | H4: 44949 | I4: 45107 | J4: 5 | K4: 8 | P4: 3800000 | Q4: =ROUND(((P4*J4)+(P4/30)*K4),0) -> 20013333 | R4: =+Q4*G4 -> 20013333 | T4: =R4-S4 -> 20013333 | U4: ANGEL ALVAREZ HERNANDEZ | V4: CONVOCATORIA 18030
A5: =1+A4 -> 2 | B5: SERVICIOS Y OPERACIONES MICROFINANCIERAS | C5: INTERACTUAR EN LENGUA INGLESA DE FORMA ORAL Y ESCRITA DENTRO DE CONTEXTOS SOCIALES Y LABORALES SEGÚN LOS CRITERIOS ESTABLECIDOS POR EL MARCO COMÚN EUROPEO DE REFERENCIA PARA LAS LENGUAS. | D5: "Opción 1: Título profesional universitario en cualquier núcleo básico de conocimiento. Nivel de lengua certificado* de mínimo B2 de acuerdo con el MCER en cada una de las 4 habilidades de dominio de lengua (Comprensión oral, Comprensión escrita, Producción oral, Producción escrita). Veinticuatro (24) meses de experiencia en la instrucción/docencia de la lengua extranjera a impartir. Opción 2: Título tecnólogo en cualquier núcleo básico de conocimiento. Nivel de lengua certificado* de mínimo B2 de acuerdo con el MCER en cada una de las 4 habilidades de dominio de lengua (Comprensión oral, Comprensión escrita, Producción oral, Producción escrita). Treinta (30) meses de experiencia en la instrucción/docencia de la lengua extranjera a impartir.Los instructores para programas de formación complementaria virtual, incluyendo bilingüismo, deberán acreditar capacitación relacionada con tutoría virtual, no inferior a 40 horas, además de cumplir los requisitos del perfil establecido en los diseños curriculares de cada programa como perfiles de instructor (en el caso de bilingüismo, el perfil está definido en el numeral 8 de la presente circular). Los instructores que se contraten para orientar programas de formación titulada virtual o titulada a distancia, deberán acreditar capacitación relacionada con tutoría virtual, no inferior a 40 horas; tener experiencia certificada de mínimo seis (6) meses como tutor virtual, además de cumplir los requisitos del perfil establecido en los diseños curriculares de cada programa." | F5: 8-9302-867 Instructor: Prestar Servicios Personales Carácter Temporal Para La Formación Profesional Integral, En FORMACION REGULAR TITULADA Y COMPLEMENTARIAPara el Programa Formación ASESORÍA COMERCIAL Y OPERACIONES DE ENTIDADES FINANCIERAS | G5: 1 | H5: 44949 | I5: 45199 | J5: 8 | K5: 8 | P5: 3800000 | Q5: =ROUND(((P5*J5)+(P5/30)*K5),0) -> 31413333 | R5: =+Q5*G5 -> 31413333 | S5: =((P5/30)*13)*G5 -> 1646666.7 | T5: =R5-S5 -> 29766666 | U5: MARIA FERNANDA BUSTOS | V5: CONVOCATORIA 18012
A6: 3 | B6: GESTION CONTABLE Y DE INFORMACION FINANCIERA | C6: Elaborar declaraciones tributarias de acuerdo con guía técnica y normativa fiscal | D6: "Requisitos académicos: El programa requiere de un equipo de instructores para orientar la competencia conformado por profesionales de las siguientes áreas: alternativa 1: titulo profesional universitario en el núcleo básico de conocimiento de: -contaduría pública -tarjeta profesional en los casos exigidos por la ley alternativa 2: título de tecnólogo en el núcleo básico de conocimiento de contaduría pública. Experiencia laboral: Alternativa 1: veinticuatro (24) meses de experiencia relacionada distribuida así: doce (12) meses de experiencia relacionada con el ejercicio de contabilidad y doce (12) meses en docencia y con el programa de formación alternativa 2: treinta (30) meses de experiencia relacionada distribuida así: dieciocho (18) meses de experiencia relacionada con el ejercicio de contabilidad y doce (12) meses en docencia y con el programa de formación" | F6: 8-9302-532 Instructor: Prestar Servicios Personales Carácter Temporal Para La Formación Profesional Integral, En FORMACION REGULAR TITULADA Y COMPLEMENTARIAPara el Programa Formación GESTION CONTABLE Y DE INFORMACION FINANCIERA | G6: 2 | H6: 44949 | I6: 45107 | J6: 5 | K6: 8 | P6: 3800000 | Q6: =ROUND(((P6*J6)+(P6/30)*K6),0) -> 20013333 | R6: =+Q6*G6 -> 40026666 | T6: =R6-S6 -> 40026666 | U6: ESTERLINA MEJIA, JAIME POSADA | V6: CONVOCATORIA 17923 | X6: AGREGADA
A7: =1+A6 -> 4 | B7: GESTION CONTABLE Y DE INFORMACION FINANCIERA | C7: Elaborar declaraciones tributarias de acuerdo con guía técnica y normativa fiscal | D7: "Requisitos académicos: El programa requiere de un equipo de instructores para orientar la competencia conformado por profesionales de las siguientes áreas: alternativa 1: titulo profesional universitario en el núcleo básico de conocimiento de: -contaduría pública -tarjeta profesional en los casos exigidos por la ley alternativa 2: título de tecnólogo en el núcleo básico de conocimiento de contaduría pública. Experiencia laboral: Alternativa 1: veinticuatro (24) meses de experiencia relacionada distribuida así: doce (12) meses de experiencia relacionada con el ejercicio de contabilidad y doce (12) meses en docencia y con el programa de formación alternativa 2: treinta (30) meses de experiencia relacionada distribuida así: dieciocho (18) meses de experiencia relacionada con el ejercicio de contabilidad y doce (12) meses en docencia y con el programa de formación" | F7: 8-9302-532 Instructor: Prestar Servicios Personales Carácter Temporal Para La Formación Profesional Integral, En FORMACION REGULAR TITULADA Y COMPLEMENTARIAPara el Programa Formación GESTION CONTABLE Y DE INFORMACION FINANCIERA | G7: 15 | H7: 44949 | I7: 45199 | J7: 8 | K7: 8 | P7: 3800000 | Q7: =ROUND(((P7*J7)+(P7/30)*K7),0) -> 31413333 | R7: =+Q7*G7 -> 471199995 | S7: =((P7/30)*13)*G7 -> 24700000 | T7: =R7-S7 -> 446499995 | U7: MAURICIO BONETH, CARLOS MADIEDO, ERICK PALACIOS, FABIAN CASTRO, MARLY ROA, JUAN JOSE PERTUZ, MARLY ROA, CAROL GOMEZ, GIOVANY PALMA, JAVIER JULIO, JESUS RODRIGUEZ, EUFEMIA PARRA, MERCEDES BIBANQUEZ, HOWARD PACHECO, GLADYS PEREZ, CESAR SALAS | V7: CONVOCATORIA 17923 nota: JOHON ORDOÑEZ, manifiesta Linda Pichon que su desempeño fue deficiente en 2022
A8: =1+A7 -> 5 | B8: CONTABILIZACION DE OPERACIONES COMERCIALES Y FINANCIERAS. | C8: Reconocer recursos financieros de acuerdo con metodología y normativa | D8: "Requisitos académicos: alternativa 1: el programa requiere de un equipo de instructores para orientar la competencia conformado por profesionales de las siguientes áreas: título profesional universitario en el núcleo básico de conocimiento de a. contaduría públicapreferiblemente con: oespecialización en tributaria, finanzas, costos, auditoria, tesorería y estándares internacionales (niifnic) o diplomado en estándares internacionales (niifnic) y manejo de paquete ofimática, excel, software contable, financiero y de nómina. Ocertificación de competencias laborales en normas técnicas y pedagógicas. Otarjeta profesional en los casos exigidos por la ley b. economista y administrador de empresaspreferiblemente con: oactualización en niif y nic, (normas internaciones de información financiera y de contabilidad), o diplomado en estándares internacionales (niifnic) y manejo de excel, software contable, financiero y de nómina. Otarjeta profesional en los casos exigidos por la ley alternativa 2: a. título de tecnólogo en el núcleo básico de conocimiento de contaduría pública; tecnólogo en contabilidad y finanzas o cuatro años de estudio aprobados en contaduría pública. Opreferiblemente con actualización en niif y nic, (normas internaciones de información financiera y de contabilidad), o diplomado en estándares internacionales (niifnic) y manejo de excel, software contable, financiero y de nómina. Experiencia laboral: alternativa 1 veinticuatro (24) meses de experiencia después de obtener título profesionalde los cuales doce (12) meses estarán relacionados con el ejercicio de la profesión u oficio objeto de la formación profesional y doce (12) meses en labores de docencia y con el programa de formación alternativa 2: treinta (30) meses de experiencia después de obtener el título o certificación de estudiosde los cuales dieciocho (18) meses, estarán relacionados con el ejercicio de la profesión u oficio objeto de la formación profesional y doce (12) meses en labores de docencia y con el programa de formación" | F8: 8-9302-956 Instructor: Prestar Servicios Personales Carácter Temporal Para La Formación Profesional Integral, En FORMACION REGULAR TITULADA Y COMPLEMENTARIAPara el Programa Formación GESTION CONTABLE Y FINANCIERA | G8: 1 | H8: 44949 | I8: 45107 | J8: 5 | K8: 8 | P8: 3800000 | Q8: =ROUND(((P8*J8)+(P8/30)*K8),0) -> 20013333 | R8: =+Q8*G8 -> 20013333 | T8: =R8-S8 -> 20013333 | U8: CLAUDIA CAPDEVILLA CARABALLO | V8: CONVOCATORIA 17897
A9: =1+A8 -> 6 | B9: SEGURIDAD DE INSTALACIONES | C9: CONTROLAR ACCESOS DE ACUERDO CON NORMATIVA DE SEGURIDAD PRIVADA | D9: "Requisitos académicos: Requisitos académicos alternativa no. 1 -formación profesional en áreas de seguridad, profesionales en derecho; administración, ingenierías industrial, sst, oficial de las ffaa, profesional en ciencias militares, administrador policial, especialista en gestión del riesgo, personal de organismos de seguridad del estado; policía nacional; con conocimiento y experticia en seguridad alternativa no. 2 -tecnólogo en salud ocupacional, suboficial de las ffaa y policía nacional; personal de organismos de seguridad del estado; policía nacional ; con conocimientos y experticia en seguridad Experiencia laboral: Requisitos de experiencia laboral alternativa 1: veinticuatro (24) meses de experiencia: de los cuales dieciocho (18) meses estarán relacionados con el ejercicio de la profesión u oficio objeto de la formación profesional y seis (6) meses en labores de docencia alternativa 2: treinta y seis (36) meses de experiencia: de los cuales veinticuatro (24) meses estarán relacionados con el ejercicio de la profesión u oficio objeto de la formación profesional y doce (12) meses en labores de docencia" | F9: 8-9302-294 Instructor: Prestar Servicios Personales Carácter Temporal Para La Formación Profesional Integral, En FORMACION REGULAR TITULADA Y COMPLEMENTARIAPara el Programa Formación SEGURIDAD DE INSTALACIONES | G9: 1 | H9: 44949 | I9: 45107 | J9: 5 | K9: 8 | P9: 3800000 | Q9: =ROUND(((P9*J9)+(P9/30)*K9),0) -> 20013333 | R9: =+Q9*G9 -> 20013333 | T9: =R9-S9 -> 20013333 | U9: JAIME VANEGAS | V9: CONVOCATORIA 17891
A10: =1+A9 -> 7 | B10: GESTIÓN BANCARIA Y DE ENTIDADES FINANCIERAS | C10: DAR ASESORÍA COMERCIAL Y FINANCIERA QUE CONDUZCA A LA SATISFACCIÓN DE LAS EXPECTATIVAS Y NECESIDADES REALES DEL CLIENTE. | D10: "Requisitos academicos: El Programa Requiere De Un Equipo De Instructores, Conformado Por Profesionales Con Titulo De Pregrado EnCiencias Económicas O AfinesIngeniería Industrial O Financiera O Afines Experiencia Laboral Veinticuatro (24) Meses De ExperienciaDe Los Cuales Dieciocho (18) Meses Estarán Relacionados Con El Ejercicio De La Profesión U Oficio Objeto De La Formación Profesional Y Preferiblemente Con Seis (6) Meses En Labores De Docencia" | F10: 8-9302-571 Instructor: Prestar Servicios Personales Carácter Temporal Para La Formación Profesional Integral, En FORMACION REGULAR TITULADA Y COMPLEMENTARIAPara el Programa Formación GESTIÓN BANCARIA Y DE ENTIDADES FINANCIERAS | G10: 7 | H10: 44949 | I10: 45199 | J10: 8 | K10: 8 | P10: 3800000 | Q10: =ROUND(((P10*J10)+(P10/30)*K10),0) -> 31413333 | R10: =+Q10*G10 -> 219893331 | S10: =((P10/30)*13)*G10 -> 11526667 | T10: =R10-S10 -> 2.0836666e+08 | U10: LISSETTE ORTIZ, EMERITA DONADO, FREDY RIAÑO, ARISTOFANES RAMOS, MARCHELO MARTINEZ, JAVIER RAMIREZ, JAVIER MORALES | V10: CONVOCATORIA 17879
A11: =1+A10 -> 8 | B11: NOMINA Y PRESTACIONES SOCIALES . | C11: Generar nómina de acuerdo con normativa | D11: Requisitos académicos: requisitos académicos alternativa 1profesional en ciencias económicas, administrativas y contables, preferiblemente con certificación en competencias laborales especificas alternativa 2tecnólogo en gestión de talento humano, con certificación en competencias laborales específicas experiencia laboral: requisitos de experiencia laboral alternativa 1veinticuatro (24) meses de experienciade los cuales dieciocho (18) meses estarán relacionados con el ejercicio de la profesión u oficio objeto de la formación profesional y seis (6) meses en labores de docencia relacionada alternativa 2treinta y seis (36) meses de experienciade los cuales veinticuatro (24) meses estarán relacionados con el ejercicio de la profesión u oficio objeto de la formación profesional y doce (12) meses en labores de docencia relacionada | F11: 8-9302-945 Instructor: Prestar Servicios Personales Carácter Temporal Para La Formación Profesional Integral, En FORMACION REGULAR TITULADA Y COMPLEMENTARIAPara el Programa Formación NOMINA Y PRESTACIONES SOCIALES . | G11: 1 | H11: 44949 | I11: 45107 | J11: 5 | K11: 8 | P11: 3800000 | Q11: =ROUND(((P11*J11)+(P11/30)*K11),0) -> 20013333 | R11: =+Q11*G11 -> 20013333 | T11: =R11-S11 -> 20013333 | U11: JAIME BARRIOS BARRIOS | V11: CONVOCATORIA 17872
A12: =1+A11 -> 9 | B12: GESTIÓN DEL TALENTO HUMANO | C12: ESTRUCTURAR CARGOS Y COMPETENCIAS SEGÚN DIRECCIONAMIENTO ESTRATÉGICO Y NORMATIVIDAD VIGENTE. | D12: "Requisitos academicos: El Programa Requiere De Un Equipo De Instructores Técnicos, Conformado Por Profesionales Formados En Alguna De Las Siguientes Áreas Ciencias Económicas O AfinesFormación Profesional En Áreas De Administración Empresarial, Pública, O Negocios, Psicología, Sociología, Comunicacoón Social Y Áreas De La Salud Ingeniería Industrial O AfinesAlternativa 1. Título De Tecnólogo O Cuatro (4) Años Estudios Universitarios Enciencias Económicas, Ingeniería Industrial, Admininsitración Pública, De Empresas O Negocios, Psicología O Áreas Afines, Comunicación Social, Sociología Y Ciencias De La Salud. Experiencia Laboral Preferiblemente Con Especialización En Gerencia Del Talento Humano, Salud Ocupacional O Áreas AfinesAlternativa 1Veinticuatro (24) Meses De ExperienciaDe Los Cuales Dieciocho (18) Meses Estarán Relacionados Con El Ejercicio De La Profesión U Oficio Objeto De La Formación Profesional Y Seis (6) Meses En Labores De DocenciaAlternativa 2Treinta Y Seis (36) Meses De ExperienciaDe Los Cuales Treinta (30) Meses Estarán Relacionados Con El Ejercicio De La Profesión U Oficio Objeto De La Formación Profesional Y Seis (6) Meses En Labores De Docencia" | F12: 8-9302-585 Instructor: Prestar Servicios Personales Carácter Temporal Para La Formación Profesional Integral, En FORMACION REGULAR TITULADA Y COMPLEMENTARIAPara el Programa Formación GESTIÓN DEL TALENTO HUMANO | G12: 15 | H12: 44949 | I12: 45199 | J12: 8 | K12: 8 | P12: 3800000 | Q12: =ROUND(((P12*J12)+(P12/30)*K12),0) -> 31413333 | R12: =+Q12*G12 -> 471199995 | S12: =((P12/30)*13)*G12 -> 24700000 | T12: =R12-S12 -> 446499995 | U12: EDWIN ARRIETA, JOSIRA ANGULO, JUAN CARLOS LEON, ADRIANA ALEAN LOPEZ, TATIANA ARRIETA, SANDRA BILBAO, YULEIDY MEDINA, LISETH ARROYO, DIEGO DIAZ, CARLOS SILVA, KEVIN CABRERA, SANDRA MARTES, CLELY BEDOYA, NATALIA MECK, ADRIANA MARTINEZ FARFAN | V12: CONVOCATORIA 17858
