Workbook
Name _: #REF!
Name _: #REF!
Name _1: #REF!
Name _1: #REF!
Name _12as: #REF!
Name _12as: #REF!
Name _14: #REF!
Name _14: #REF!
Name _2_: #REF!
Name _2_: #REF!
Name _a: #REF!
Name _a: #REF!
Name _ACT21: [4]ACTA21!$A$6:$U$37
Name _AFC1: [5]INV!$A$25:$D$28
Name _AFC3: [5]INV!$F$25:$I$28
Name _AFC5: [5]INV!$K$25:$N$28
Name _altavista: #REF!
Name _altavista: #REF!
Name _area_s: #REF!
Name _area_s: #REF!
Name _bbbb: #REF!
Name _bbbb: #REF!
Name _BGC1: [5]INV!$A$5:$D$8
Name _BGC3: [5]INV!$F$5:$I$8
Name _BGC5: [5]INV!$K$5:$N$8
Name _CAC1: [5]INV!$A$19:$D$22
Name _CAC3: [5]INV!$F$19:$I$22
Name _CAC5: [5]INV!$K$19:$N$22
Name _calculo: #REF!
Name _calculo: #REF!
Name _Cod1: #REF!
Name _Cod1: #REF!
Name _Cod1: #REF!
Name _Cod1: #REF!
Name _Cod1: #REF!
Name _Cod1: #REF!
Name _Cod1: #REF!
Name _Cod11: #REF!
Name _Cod11: #REF!
Name _da3: #REF!
Name _da3: #REF!
Name _hola2: #REF!
Name _hola2: #REF!
Name _imp23: #REF!
Name _imp23: #REF!
Name _MA2: #REF!
Name _MA2: #REF!
Name _MA2: #REF!
Name _MA2: #REF!
Name _MA2: #REF!
Name _MA2: #REF!
Name _MA2: #REF!
Name _Pa1: '[9]Paral. 1'!$E$1:$E$65536
Name _Pa1: '[9]Paral. 1'!$E$1:$E$65536
Name _Pa1: '[9]Paral. 1'!$E$1:$E$65536
Name _Pa1: '[9]Paral. 1'!$E$1:$E$65536
Name _Pa1: '[10]Paral. 1'!$E$1:$E$65536
Name _Pa1: '[9]Paral. 1'!$E$1:$E$65536
Name _Pa1: '[11]Paral. 1'!$E$1:$E$65536
Name _Pa1: '[12]Paral. 1'!$E$1:$E$65536

Sheet NOTAS
B5: LOS PROPONENTES DEBEN PASAR LOS FORMULARIOS EN EXCEL | C5: EN PDF, UNO DEBE PASAR LA INFORMACIÓN Y SE PUEDEN COMETER ERRORES

Sheet DATOS PROCESO
A2: SECRETARÍA DE SEGURIDAD Y CONVIVENCIA
A3: LICITACIÓN PÚBLICA N° No. 70007405 DE 2023
A5: OBJETO: ADECUACIONES EN LA UNIDAD DE REACCIÓN INMEDIATA DE LA FISCALÍA
A7: Formulario No. 1
A8: CONTRATOS EN EJECUCIÓN PARA LA EXPERIENCIA
A10: CONTRATO NO. (1) | B10: OBJETO DEL CONTRATO | C10: CONTRATANTE | D10: FORMA DE EJECUCIÓN (2) | E10: % DE PARTICIPACION | F10: VALOR COP (3) | G10: PLAZO (MESES) (4) | H10: FECHA INICIO (dd/mm/aaaa) | I10: SUSPENSIONES (5)
I11: SUSPENSIONES (5) SELECCIONAR SI o NO | J11: SUSPENSIONES (5) FECHA INICIO (dd/mm/aaaa) | K11: SUSPENSIONES (5) FECHA TERMINACIÓN (dd/mm/aaaa)
I13: SI
I14: NO
A17: Formulario No. 1.1
A18: EXPERIENCIA DEL PROPONENTE PARA LA Cr
A21: CONTRATO No. (1) | B21: CONTRATANTE | C21: OBJETO DEL CONTRATO | D21: FORMA DE EJECUCIÓN | E21: % DE PARTICIPACIÓN | F21: VALOR DEL CONTRATO (3)
F22: VALOR CONTRATO EN PESOS | G22: VALOR CONTRATO EN SMMLV
D24: I
D25: C
D26: UT
A30: Formulario No. 1.2
A31: CAPACIDAD TÉCNICA - Cr
A33: No. | B33: Nombre del socio y/o profesional de la arquitectura, ingeniería o geologia | C33: Marcar con una X | E33: Profesión | F33: No. Matricula profesional | G33: Numero y año del contrato laboral o de prestación de servicios profesionales | H33: Vigencia del Contrato
C34: Socio | D34: Empleado
A41: Formulario No. 2
A42: EXPERIENCIA DEL PROPONENTE
A44: No. Del contrato en el RUP (No. Consecutivo o No. de Orden) (1) | B44: CONTRATO No. (2) | C44: OBJETO DEL CONTRATO | D44: AREA (metros cuadrados) | E44: Niveles o numero de pisos(7) | F44: GRUPO DE USO (Según NSR-10) | G44: CONTRATANTE | H44: FECHA DE INICIACIÓN (mes - año) | I44: FECHA DE TERMINACIÓN (3) (mes - año) | J44: FORMA DE EJECUCIÓN (4) | K44: VALOR DEL CONTRATO (5) | M44: CLASIFICACIÓN (6)
K45: VALOR DEL CONTRATO (5) EN PESOS (COP) | L45: VALOR DEL CONTRATO (5) EN SMMLV
A53: OBJETO: ADECUACIONES EN LA UNIDAD DE REACCIÓN INMEDIATA DE LA FISCALÍA
A55: SECRETARÍA DE SEGURIDAD Y CONVIVENCIA
A56: LICITACIÓN PÚBLICA N° No. 70007405 DE 2023
A57: FORMULARIO No.3 PROPUESTA ECONÓMICA
A58: FORMULARIO DE CANTIDADES DE OBRA Y PRECIOS UNITARIOS
A62: Formulario No. 4
A63: ANÁLISIS DE PRECIOS UNITARIOS
A70: MANO DE OBRA CALIFICADA
A71: FORMULARIO 5
A72: Recurso Humano | B72: Salario
A75: Formulario No. 6
A76: INFORMACIÓN FINANCIERA EXTRANJEROS
A84: Formulario No. 7
A85: FACTOR PRESTACIONAL (Prestaciones Sociales, Aportes Seguridad Social y Parafiscales)
A90: FORMULARIO 8
A91: FORMULARIO DE INVERSIÓN AMBIENTAL
...

Sheet Formulario 1
A2: ='DATOS PROCESO'!$A$2 -> SECRETARÍA DE SEGURIDAD Y CONVIVENCIA
A3: ='DATOS PROCESO'!$A$3 -> LICITACIÓN PÚBLICA N° No. 70007405 DE 2023
A5: ='DATOS PROCESO'!$A$5 -> OBJETO: ADECUACIONES EN LA UNIDAD DE REACCIÓN INMEDIATA DE LA FISCALÍA
A7: ='DATOS PROCESO'!A7 -> Formulario No. 1
A8: ='DATOS PROCESO'!A8 -> CONTRATOS EN EJECUCIÓN PARA LA EXPERIENCIA
J10: ='DATOS PROCESO'!I10 -> SUSPENSIONES (5)
A11: Columna1 | B11: Columna2 | C11: Columna3 | D11: Columna4 | E11: Columna5 | F11: Columna6 | G11: Columna7 | H11: Columna8 | I11: Columna9 | J11: Columna10 | K11: Columna11 | L11: Columna12
A12: ='DATOS PROCESO'!A10 -> CONTRATO NO. (1) | B12: ='DATOS PROCESO'!B10 -> OBJETO DEL CONTRATO | C12: ='DATOS PROCESO'!C10 -> CONTRATANTE | D12: ='DATOS PROCESO'!D10 -> FORMA DE EJECUCIÓN (2) | E12: ='DATOS PROCESO'!E10 -> % DE PARTICIPACION | F12: ='DATOS PROCESO'!F10 -> VALOR COP (3) | G12: VALOR PONDERADO (Según el % de participación) | H12: ='DATOS PROCESO'!G10 -> PLAZO (MESES) (4) | I12: ='DATOS PROCESO'!H10 -> FECHA INICIO (dd/mm/aaaa) | J12: ='DATOS PROCESO'!I11 -> SUSPENSIONES (5) SELECCIONAR SI o NO | K12: ='DATOS PROCESO'!J11 -> SUSPENSIONES (5) FECHA INICIO (dd/mm/aaaa) | L12: ='DATOS PROCESO'!K11 -> SUSPENSIONES (5) FECHA TERMINACIÓN (dd/mm/aaaa)
G13: =F13*E13 -> 0
G14: =F14*E14 -> 0
G15: =F15*E15 -> 0
G16: =F16*E16 -> 0
G17: =F17*E17 -> 0
G18: =F18*E18 -> 0
G19: =F19*E19 -> 0
G20: =F20*E20 -> 0
G21: =F21*E21 -> 0
G22: =F22*E22 -> 0
G23: =F23*E23 -> 0
G24: =F24*E24 -> 0
... G27: =F27*E27 -> 0
D28: TOTALES | F28: =SUM(F13:F27) -> 0 | G28: =SUM(G13:G27) -> 0
A29: Nota 1:
A30: (1) Contratos de obras civiles en ejecución, incluyendo los suspendidos y aquellos que no tengan acta de inicio.
A31: (2) Indicar si el contrato se ejecuta en forma Individual (I), en Consorcio (C) o Unión Temporal (UT). | H31: Nota 2:
A32: (3) Valor total del contrato expresado en moneda legal colombiana. | H32: SI EL PROPONENTE NO TIENE CONTRATOS EN EJECUCIÓN, EN ESTE FORMULARIO DEBE DEJAR CONSTANCIA EXPRESA DE ESA CIRCUNSTANCIA
A33: (4) Plazo total de contrato incluyendo las ampliaciones.
A34: (5) Si el contrato presenta mas de una suspensión deberán informarlas todas, Si a la fecha de cierre del presente proceso en contrato se encuentra suspendido no diligenciar la "Fecha de Terminación".
A37: El formulario debe ser diligenciado en su totalidad. En todo caso la evaluación se efectuara conforme lo dispuesto en el pliego.
A38: Para el caso de proponentes plurales se debe entregar formulario por cada uno de los integrantes
A41: Nombre del Proponente Individual o Integrante del Consorcio:
A45: Firma representante legal del Oferente | E45: Firma del auditor o revisor fiscal
A46: Nombre: | E46: Nombre:
A47: Cargo: | E47: Cargo:
A48: Documento de Identidad: | E48: Documento de Identidad:

Sheet Formulario 1.1
A2: ='DATOS PROCESO'!A2 -> SECRETARÍA DE SEGURIDAD Y CONVIVENCIA
A3: ='DATOS PROCESO'!A3 -> LICITACIÓN PÚBLICA N° No. 70007405 DE 2023
A5: ='DATOS PROCESO'!A5 -> OBJETO: ADECUACIONES EN LA UNIDAD DE REACCIÓN INMEDIATA DE LA FISCALÍA
A7: ='DATOS PROCESO'!A17 -> Formulario No. 1.1
A8: ='DATOS PROCESO'!A18 -> EXPERIENCIA DEL PROPONENTE PARA LA Cr
F11: ='DATOS PROCESO'!F21 -> VALOR DEL CONTRATO (3)
A12: Columna1 | B12: Columna2 | C12: Columna3 | D12: Columna4 | E12: Columna5 | F12: Columna6 | G12: Columna7
A13: ='DATOS PROCESO'!A21 -> CONTRATO No. (1) | B13: ='DATOS PROCESO'!B21 -> CONTRATANTE | C13: ='DATOS PROCESO'!C21 -> OBJETO DEL CONTRATO | D13: ='DATOS PROCESO'!D21 -> FORMA DE EJECUCIÓN | E13: ='DATOS PROCESO'!E21 -> % DE PARTICIPACIÓN | F13: ='DATOS PROCESO'!F22 -> VALOR CONTRATO EN PESOS | G13: ='DATOS PROCESO'!G22 -> VALOR CONTRATO EN SMMLV
E24: TOTAL | F24: =SUM(F14:F23) -> 0 | G24: =SUM(G14:G23) -> 0
A26: (1) Contratos relacionados con la actividad de la construcción - Segmento 72 Clasificador UNSPSC | D26: SALARIO MÍNIMO MENSUAL LEGAL (SMMLV)
D27: Año | E27: Valor | F27: Año | G27: Valor
A28: (2) Indicar si el contrato se ejecuta en forma Individual (I), en Consorcio (C) o Unión Temporal (UT). | D28: 1997 | E28: 172005 | F28: 2010 | G28: 515000
D29: 1998 | E29: 203826 | F29: 2011 | G29: 535600
A30: (3) Valor total del contrato, en Pesos (COP) y SMMLV a la fecha de TERMINACIÓN del contrato | D30: 1999 | E30: 236438 | F30: 2012 | G30: 566700
D31: 2000 | E31: 260106 | F31: 2013 | G31: 589500
D32: 2001 | E32: 286000 | F32: 2014 | G32: 616000
D33: 2002 | E33: 309000 | F33: 2015 | G33: 644350
A34: El formulario debe ser diligenciado en su totalidad. En todo caso la evaluación se efectuara conforme lo dispuesto en el pliego. | D34: 2003 | E34: 332000 | F34: 2016 | G34: 689454
D35: 2004 | E35: 358000 | F35: 2017 | G35: 737717
A36: Para el caso de proponentes plurales se debe entregar formulario por cada uno de los integrantes. | D36: 2005 | E36: 381500 | F36: 2018 | G36: 781242
D37: 2006 | E37: 408000 | F37: 2019 | G37: 828116
D38: 2007 | E38: 433700 | F38: 2020 | G38: 877802
D39: 2008 | E39: 461500 | F39: 2021 | G39: 908526
D40: 2009 | E40: 496900 | F40: 2022 | G40: 1000000
A44: Firma representante legal del Oferente | D44: Firma del auditor o revisor fiscal
A45: Nombre: | D45: Nombre:
A46: Cargo: | D46: Cargo:
A47: Documento de Identidad: | D47: Documento de Identidad:

Sheet Formulario 1.2
A2: ='DATOS PROCESO'!$A$2 -> SECRETARÍA DE SEGURIDAD Y CONVIVENCIA
A3: ='DATOS PROCESO'!$A$3 -> LICITACIÓN PÚBLICA N° No. 70007405 DE 2023
A5: ='DATOS PROCESO'!$A$5 -> OBJETO: ADECUACIONES EN LA UNIDAD DE REACCIÓN INMEDIATA DE LA FISCALÍA
A7: ='DATOS PROCESO'!A30 -> Formulario No. 1.2
A8: ='DATOS PROCESO'!A31 -> CAPACIDAD TÉCNICA - Cr
A10: ='DATOS PROCESO'!A33 -> No. | B10: ='DATOS PROCESO'!B33 -> Nombre del socio y/o profesional de la arquitectura, ingeniería o geologia | C10: ='DATOS PROCESO'!C33 -> Marcar con una X | E10: ='DATOS PROCESO'!E33 -> Profesión | F10: ='DATOS PROCESO'!F33 -> No. Matricula profesional | G10: ='DATOS PROCESO'!G33 -> Numero y año del contrato laboral o de prestación de servicios profesionales | H10: ='DATOS PROCESO'!H33 -> Vigencia del Contrato
C11: ='DATOS PROCESO'!C34 -> Socio | D11: ='DATOS PROCESO'!D34 -> Empleado
A27: Para el caso de proponentes plurales se debe entregar formulario por cada uno de los integrantes.
A32: Nombre del Proponente Individual o Integrante del Consorcio:
A37: Firma representante legal del Oferente | F37: Firma del auditor o revisor fiscal
A38: Nombre: | F38: Nombre:
A39: Cargo: | F39: Cargo:
A40: Documento de Identidad: | F40: Documento de Identidad:

Sheet Formulario 2
A2: ='DATOS PROCESO'!A2 -> SECRETARÍA DE SEGURIDAD Y CONVIVENCIA
A4: ='DATOS PROCESO'!A3 -> LICITACIÓN PÚBLICA N° No. 70007405 DE 2023
A6: ='DATOS PROCESO'!A5 -> OBJETO: ADECUACIONES EN LA UNIDAD DE REACCIÓN INMEDIATA DE LA FISCALÍA
A8: ='DATOS PROCESO'!A41 -> Formulario No. 2
A9: ='DATOS PROCESO'!A42 -> EXPERIENCIA DEL PROPONENTE
K11: ='DATOS PROCESO'!K44 -> VALOR DEL CONTRATO (5)
A12: Columna1 | B12: Columna2 | C12: Columna3 | D12: Columna4 | E12: Columna5 | F12: Columna6 | G12: Columna7 | H12: Columna8 | I12: Columna9 | J12: Columna10 | K12: Columna11 | L12: Columna12 | M12: Columna13
A13: ='DATOS PROCESO'!A44 -> No. Del contrato en el RUP (No. Consecutivo o No. de Orden) (1) | B13: ='DATOS PROCESO'!B44 -> CONTRATO No. (2) | C13: ='DATOS PROCESO'!C44 -> OBJETO DEL CONTRATO | D13: ='DATOS PROCESO'!D44 -> AREA (metros cuadrados) | E13: ='DATOS PROCESO'!E44 -> Niveles o numero de pisos(7) | F13: ='DATOS PROCESO'!F44 -> GRUPO DE USO (Según NSR-10) | G13: ='DATOS PROCESO'!G44 -> CONTRATANTE | H13: ='DATOS PROCESO'!H44 -> FECHA DE INICIACIÓN (mes - año) | ... J13: ='DATOS PROCESO'!J44 -> FORMA DE EJECUCIÓN (4) | K13: ='DATOS PROCESO'!K45 -> VALOR DEL CONTRATO (5) EN PESOS (COP) | L13: ='DATOS PROCESO'!L45 -> VALOR DEL CONTRATO (5) EN SMMLV | M13: ='DATOS PROCESO'!M44 -> CLASIFICACIÓN (6)
J29: TOTALES | K29: =SUM(K14:K28) -> 0 | L29: =SUM(L14:L28) -> 0
A31: (1) Posición o ubicación del contrato, según el orden en que son relacionados los contratos reportados en el aparte EXPERIENCIA del RUP. En el caso de formas asociativas indicar a cual de los asociados pertenece el contrato relacionado.
A33: (2) Contratos terminados y registrados en el RUP.
A34: (3) Fecha de terminación.
A35: (4) Indicar si el contrato se ejecutó en forma Individual (I), en Consorcio (C) o Unión Temporal (UT).
A36: (5) Valor total del contrato, en Pesos (COP) y SMMLV a la fecha de TERMINACIÓN del contrato.
A37: (6) Indicar las clasificaciones del contrato en el RUP según los códigos del Clasificador de Bienes y Servicios de las Naciones Unidas para estandarizar productos y servicios (UNSPSC), DEBE corresponder con las exigidas en el PLIEGO.
A38: (7) Indicar le numero de niveles o pisos de la edificacion (Solo palica para los oferentes que se presentenal lote II)
A39: El formulario debe ser diligenciado en su totalidad. En todo caso la evaluación se efectuara conforme lo dispuesto en el pliego.
A41: Los contratos relacionados deben estar debidamente certificados
A43: SALARIO MÍNIMO MENSUAL LEGAL (SMMLV)
A44: Año | B44: Valor | C44: Año | D44: Valor
A45: 1997 | B45: 172005 | C45: 2010 | D45: 515000
A46: 1998 | B46: 203826 | C46: 2011 | D46: 535600
A47: 1999 | B47: 236438 | C47: 2012 | D47: 566700
A48: 2000 | B48: 260106 | C48: 2013 | D48: 589500
A49: 2001 | B49: 286000 | C49: 2014 | D49: 616000
A50: 2002 | B50: 309000 | C50: 2015 | D50: 644350
A51: 2003 | B51: 332000 | C51: 2016 | D51: 689454
A52: 2004 | B52: 358000 | C52: 2017 | D52: 737717
A53: 2005 | B53: 381500 | C53: 2018 | D53: 781242
A54: 2006 | B54: 408000 | C54: 2019 | D54: 828116
A55: 2007 | B55: 433700 | C55: 2020 | D55: 877802
A56: 2008 | B56: 461500 | C56: 2021 | D56: 908526
A57: 2009 | B57: 496900 | C57: 2022 | D57: 1000000
A59: Nombre del Proponente:
H60: Firma representante legal

Sheet Formulario 3
A1: ='DATOS PROCESO'!A53 -> OBJETO: ADECUACIONES EN LA UNIDAD DE REACCIÓN INMEDIATA DE LA FISCALÍA
A3: ='DATOS PROCESO'!A55 -> SECRETARÍA DE SEGURIDAD Y CONVIVENCIA
A4: ='DATOS PROCESO'!A56 -> LICITACIÓN PÚBLICA N° No. 70007405 DE 2023
A5: ='DATOS PROCESO'!A57 -> FORMULARIO No.3 PROPUESTA ECONÓMICA
A6: ='DATOS PROCESO'!A58 -> FORMULARIO DE CANTIDADES DE OBRA Y PRECIOS UNITARIOS
A7: ITEM | B7: DESCRIPCION | C7: UNIDAD | D7: CANTIDAD | E7: PRECIOUNITARIO | F7: SUBTOTAL
A8: 1.0 | B8: UNIDAD DE REACCIÓN INMEDIATA - URI
A9: 1.1 | B9: PRELIMINARES
A10: 1.1.1 | B10: LOCALIZACIÓN, TRAZADO Y REPLANTEO. Se utilizará personal experto con equipo de precisión. Se hará con la frecuencia que lo indique la interventoría. Incluye demarcación con pintura, línea de trazado, corte de piso, libretas y planos. | C10: día | D10: 3 | F10: =ROUND(D10*E10,0) -> 0
A11: 1.2 | B11: RETIROS Y DEMOLICIONES
A12: 1.2.1 | B12: DEMOLICIÓN MAMPOSTERÍA EN LADRILLO O BLOQUES con espesores entre 10 a 20cm, incluye cargue, transporte y botada de escombros en botaderos oficiales, demolición de revoques y enchapes aplicados en el muro a demoler e instalaciones embebidas, además recuperación de los materiales aprovechables o su transporte hasta el sitio que lo indique la interventoría; se debe de utilizar cortadora para garantizar que los filetes de la demolición queden ortogonales. | C12: m2 | D12: 1595.1 | F12: =ROUND(D12*E12,0) -> 0
A13: 1.2.2 | B13: DEMOLICIÓN banca en concreto, incluye cargue, transporte y botada de escombros en botaderos oficiales, demolición de revoques y enchapes, además recuperación de los materiales aprovechables o su transporte hasta el sitio que lo indique la interventoría; se debe de utilizar cortadora para garantizar que los filetes de la demolición queden ortogonales. | C13: m2 | D13: 11.5 | F13: =ROUND(D13*E13,0) -> 0
A14: 1.2.3 | B14: DEMOLICIÓN meson en concreto (L=6 a 8m), incluye cargue, transporte y botada de escombros en botaderos oficiales, demolición de revoques y enchapes, además recuperación de los materiales aprovechables o su transporte hasta el sitio que lo indique la interventoría; se debe de utilizar cortadora para garantizar que los filetes de la demolición queden ortogonales. | C14: m2 | D14: 1 | F14: =ROUND(D14*E14,0) -> 0
A15: 1.2.4 | B15: RETIRO puertas, ventanas y rejas, metálicas, en aluminio, en madera. Incluye el retiro, cargue, transporte, botada de escombros en botaderos oficiales y recuperación de los materiales aprovechables y su transporte hasta la bodega o el sitio que lo indique la interventoría. | C15: un | D15: 61 | F15: =ROUND(D15*E15,0) -> 0
A16: 1.2.5 | B16: RETIRO DE APARATOS SANITARIOS, incluye el cargue, transporte, botada o recuperación de aparatos sanitarios, lavamanos, lavaderos, orinales. Incluye botada en botaderos oficiales y la recuperación de los materiales aprovechables y/o su transporte hasta la bodega o el sitio que indique la interventoría. | C16: un | D16: 43 | F16: =ROUND(D16*E16,0) -> 0
A17: 1.2.6 | B17: RETIRO Divisiones. Incluye el retiro, cargue, transporte, botada en botaderos oficiales y recuperación de los materiales aprovechables y su transporte hasta la bodega o el sitio que lo indique la interventoría. | C17: un | D17: 687.3 | F17: =ROUND(D17*E17,0) -> 0
A18: 1.3 | B18: MUROS
A19: 1.3.1 | B19: Suministro, transporte y colocación de placa en fibrocemento o equivalente de e= 8 mm (dos cara), estructura en perfiles de acero galvanizado cal 20 con separación entre parales de 40.6cm, con refuerzo en área vertical cada 3.66 m de altura, tornillos autoperforantes de cabeza extra plana de ½" y 1", junta perdida con cinta de 2" en fibra de vidrio y masilla. Incluye esquineros y tapas y todos los demás elementos necesarios para su correcta instalación y funcionamiento. El acabado en pintura acrílica para exteriores, se pagará en su ítem respectivo. Según detalle y diseño. | C19: m2 | D19: 1053.4 | F19: =ROUND(D19*E19,0) -> 0
A20: 1.3.2 | B20: Construcción de MAMPOSTERÍA EN LADRILLO PARA REVOCAR O ENCHAPAR una cara o dos caras, DE 15 x 20 x 40 cm. ESPESOR DE 15 cm. Incluye el suministro y transporte del ladrillo, el mortero de pega 1:4 espesor max=0.01 m y todos los demás elementos necesarios para su correcta construcción y funcionamiento. | C20: m2 | D20: 635.7 | F20: =ROUND(D20*E20,0) -> 0
A21: 1.3.3 | B21: Construcción de DINTELES DE 0.15 X 0.20 m. en concreto 21 Mpa. Este elemento va revocado o enchapado en el mismo material de la mampostería, el acabado se pagará en el ítem respectivo. Incluye suministro, transporte y colocación del concreto, formaleta, protección, curado y todos los elementos necesarios para su correcta ejecución. No incluye refuerzo. | C21: ml | D21: 17.7 | F21: =ROUND(D21*E21,0) -> 0
A22: 1.4 | B22: REVOQUES/ENCHAPES/PINTURA
A23: 1.4.1 | B23: Colocación de REVOQUE con mortero 1:4 EN MUROS. Incluye suministro y transporte de los materiales, ranuras, filetes y todos los demás elementos necesarios para su correcta construcción. | C23: m2 | D23: 1125 | F23: =ROUND(D23*E23,0) -> 0
A24: 1.4.2 | B24: Colocación de ESTUCO ACRÍLICO PROFESIONAL, SOBRE MUROS REVOCADOS, 3 manos mínimo, o las que sean necesarias para obtener una superficie pareja y homogénea. Incluye suministro y transporte de los materiales, ranuras, filetes, dilataciones y todos los elementos necesarios para su correcta aplicación y funcionamiento. | C24: m2 | D24: 2821.5 | F24: =ROUND(D24*E24,0) -> 0
A25: 1.4.3 | B25: Aplicación de PINTURA ACRÍLICA en muros para exteriores (hidrorepelente) tipo koraza o equivalente de primera calidad que cumpla con la Norma NTC 1335, con sellante para poros tipo Sellamax de Pintuco o su equivalente, 3 manos o las que sean necesarias para obtener una superficie pareja y homogénea, a satisfacción de la interventoría. Incluye suministro y transporte de los materiales, preparada y adecuación de la superficie a intervenir. Color a definir aprobado por la interventoría. | C25: m2 | D25: 2923.7 | F25: =ROUND(D25*E25,0) -> 0
A26: 1.4.4 | B26: Colocación de ENCHAPE CERÁMICO PARED BLANCO DE 30 x 60 cm. Incluye suministro y transporte de los materiales, mortero adhesivo para enchapes tipo pegacor o equivalente, lechada preparada (boquilla) tipo concolor de sumicol o equivalente del mismo color del enchape, moldura PVC remates toro acolillada y todos los elementos necesarios para su correcta instalación y funcionamiento. | C26: m2 | D26: 398 | F26: =ROUND(D26*E26,0) -> 0
A27: 1.4.5 | B27: Suministro, transporte y colocación de cielo falso en drywall. Incluye, placa yeso 1/2", masillado, perfilería de aluminio para soporte con distancia de 61 cm, chazos, cintas, ángulos, cortes, andamios, canes y todo los demás elementos necesario para su correcta instalación y funcionamiento. | C27: m2 | D27: 115.3 | F27: =ROUND(D27*E27,0) -> 0
A28: 1.4.6 | B28: Aplicación de PINTURA ACRÍLICA en CIELOS tipo koraza o equivalente de primera calidad que cumpla con la Norma NTC 1335, con sellante para poros tipo Sellamax de Pintuco o su equivalente, 3 manos o las que sean necesarias para obtener una superficie pareja y homogénea, a satisfacción de la interventoría. Incluye suministro y transporte de los materiales, preparada y adecuación de la superficie a intervenir. Color a definir aprobado por la interventoría. | C28: m2 | D28: 115.3 | F28: =ROUND(D28*E28,0) -> 0
A29: 1.4.7 | B29: Aplicación de PINTURA EPOXIPOLIAMIDA EN MUROS (dos componentes proporción 1:3, no tóxica) tipo epoxiconstrucción de pintuco o equivalente, de primera calidad, semimate, sobre estuco plástico, 2 a 3 manos o las necesarias para lograr una superficie pareja a satisfacción de la interventoría, color blanco. | C29: m2 | D29: 289.5 | F29: =ROUND(D29*E29,0) -> 0
A30: 1.5 | B30: PISOS
A31: 1.5.1 | B31: Construcción de PISO EN CONCRETO PULIDO DE 21 Mpa, con un ESPESOR DE 8cm, modulado 1,0m x 1,0m. Incluye suministro y transporte de los materiales, formaletas, acabado con helicóptero, marcación de dilataciones con cortadora y todo lo necesario para su correcta ejecución y funcionamiento. El refuerzo y entresuelo serán pagados en el ítem correspondiente. | C31: m2 | D31: 503.4 | F31: =ROUND(D31*E31,0) -> 0
A32: 1.5.2 | B32: Colocación de ENCHAPE CERÁMICO PARED GRIS DE 30 x 60 cm. Incluye suministro y transporte de los materiales, mortero adhesivo para enchapes tipo pegacor o equivalente, lechada preparada (boquilla) tipo concolor de sumicol o equivalente del mismo color del enchape, moldura PVC remates toro acolillada y todos los elementos necesarios para su correcta instalación y funcionamiento. | C32: m2 | D32: 95.5 | F32: =ROUND(D32*E32,0) -> 0
A33: 1.5.3 | B33: Colocación de PISO EN VINILO TIPO TARALAY INITIAL CONFORT o equivalente, con un revestimiento de suelo en PVC isofónico multicapa, armado no cargado, grupo T de abrasión, sobre subcapa de espuma de alta densidad en rollos de 2m de ancho x 25m de largo, con una resistencia al punzonamiento/ aislamiento acústico de 0,13 mm / 18 dB con tratamiento fotoreticulado antisuciedad PROTECSOL, con tratamiento fungistático y bacteriostático en todas sus capas de tipo a SANASOL. antiestático- clase 1, con un espesor total 3,80 mm. Incluye suministro, transporte y colocación de una capa de mortero de nivelación 1:4 de 6cm de espesor, piso en vinilo, zócalo en vinilo 10 cm sobre la pared, Perfil media caña Ref. # 167 Roppe, Perfil Reductor Ref # 168 Roppe para bocapuertas y todos los demás elementos necesarios para su correcta colocación y funcionamiento según diseño y especificaciones del proveedor. | C33: m2 | D33: 554.7 | F33: =ROUND(D33*E33,0) -> 0
A34: 1.5.4 | B34: Construcción de PISO EN BALDOSA BLANCA DE GRANO BLANCO DANTA No.1-2 DE 30 x 30 cm., de primera calidad aprobada por la interventoría que cumpla la norma NTC 2849. Incluye concreto de pega y nivelación 1:3:2 de cemento, arena de concreto, agregado de 3/8" a 1/2" y aditivo plastificante en un espesor de 5 cm, suministro y transporte de la baldosa, varilla de dilatación en PVC de 5 mm x 37mm en cuadrículas de 2,10m x 2,10m., lechada del mismo color de la baldosa, destroncada, pulida, brillada y encerada en el sitio con cera polimérica, protección de muros, puertas y desagües. Cargue, transporte y botada de material sobrante (cachaza) en botaderos oficiales. La interventoría entregará el diseño en tapetes o franjas combinando los colores (máximo dos colores). Los ensayos que se requieran serán por cuenta del contratista y las muestras se escogerán del material puesto en obra. | C34: m2 | D34: 63.4 | F34: =ROUND(D34*E34,0) -> 0
A35: 1.5.5 | B35: Colocación de Piso en alfombra modular alta resistencia simulación madera gris alta resistencia, referencia living local, Incluye pegante sintético y todos los demás elementos necesarios para su correcta instalación y funcionamiento según diseño y especificaciones del proveedor. | C35: m2 | D35: 97.7 | F35: =ROUND(D35*E35,0) -> 0
A36: 1.5.6 | B36: Construcción de FAJAS Y BOCAPUERTAS EN GRANO PULIDO No. 1-2, cualquier tipo de grano, fondo y grano similar al del piso, ANCHO DE 15-20 cm. Y UN ESPESOR DE 1.5 cm., de primera calidad muestras aprobadas por la interventoría, que cumpla la norma NTC 2849. Incluye concreto de pega y nivelación 1:3:2 de cemento, arena de concreto, agregado de 3/8" a 1/2" y aditivo plastificante en un espesor de 5 cm, cemento color, grano 1-2, varilla de dilatación en PVC de 5 mm x 37mm. A lo largo de la faja y en ambos lados o donde se requiera, cortes, pulida y brillada, protección de muros, puertas y desagües y todo lo necesario para su correcta instalación y funcionamiento. La capa de desgaste no debe ser menor a 12 mm después de pulida. | C36: ml | D36: 20 | F36: =ROUND(D36*E36,0) -> 0
A37: 1.5.7 | B37: Construcción de ZÓCALO MEDIACAÑA EN CONCRETO A LA VISTA DE 21 Mpa., con COLOR BLANCO e impermeabilización integral, con un DESARROLLO DE 0,30 m. y una ALTURA DE 0,20 m. Incluye suministro, transporte y colocación del concreto, pigmentos blanco de Nuviola o equivalente calidad al 8% del peso del cemento para garantizar color parejo y uniforme, impermeabilización integral tipo Sika o equivalente, plastocrete DM o equivalente, dilataciones y todos los demás elementos necesarios para su correcta construcción. | C37: ml | D37: 318.4 | F37: =ROUND(D37*E37,0) -> 0
A38: 1.5.8 | B38: Construcción de ZÓCALO RECTO EN BALDOSA DE GRANO de 0,07 a 0,10m de altura, de la misma especificación de la baldosa de piso, con aristas biseladas. Incluye suministro y transporte de los materiales, pegante de capa delgada tipo pegacor o equivalente, lechada del mismo color de la baldosa, remates, y todos los elementos necesarios para su correcta construcción. | C38: ml | D38: 27.6 | F38: =ROUND(D38*E38,0) -> 0
A39: 1.5.9 | B39: Colocación de ZÓCALO EN PORCELANATO color BEIGE con las mismas características del piso, de 0.08x0.60 m para ZONA ROPAS. Incluye suministro y transporte de los materiales, pegante para PORCELANATO lechada con Boquilla para PORCELANATO, remates, cortes con máquina y todo lo necesario para su correcta instalación. El mortero de nivelación se pagara por su respectivo item | C39: ml | D39: 23.4 | F39: =ROUND(D39*E39,0) -> 0
A40: 1.5.10 | B40: Construcción de PISO EN MORTERO 1:5 de NIVELACIÓN, espesor de 0.05m. Incluye suministro y transporte de los materiales y todo lo necesario para su correcta construcción y funcionamiento. | C40: m2 | D40: 652.4 | F40: =ROUND(D40*E40,0) -> 0
A41: 1.5.11 | B41: TRATAMIENTO DE SUPERFICIE de baldosa EXISTENTE. Incluye Resanada, repulida y brillo de piso en baldosa o marmol y todo lo necesario para su correcta construcción y funcionamiento. | C41: m2 | D41: 417.4 | F41: =ROUND(D41*E41,0) -> 0
...

Sheet formulario 4
A6: ='DATOS PROCESO'!A2:K2 -> SECRETARÍA DE SEGURIDAD Y CONVIVENCIA
A8: ='DATOS PROCESO'!A3:K3 -> LICITACIÓN PÚBLICA N° No. 70007405 DE 2023
A9: ='DATOS PROCESO'!A5:K5 -> OBJETO: ADECUACIONES EN LA UNIDAD DE REACCIÓN INMEDIATA DE LA FISCALÍA
A11: FORMULARIO No.4
A12: INFORMACIÓN SOBRE MULTAS Y SANCIONES
A15: No. | B15: CONTRATO | C15: RESOLUCION MULTA | D15: FECHA EJECUTORIADA LA MULTA | E15: RESOLUCION SANCIÓN | F15: FECHA EJECUTORIADA LA SANCIÓN
A29: Nombre del Proponente: | D29: Firma representante legal

Sheet Formulario 5
A2: ='DATOS PROCESO'!A2 -> SECRETARÍA DE SEGURIDAD Y CONVIVENCIA
A3: ='DATOS PROCESO'!A3 -> LICITACIÓN PÚBLICA N° No. 70007405 DE 2023
A5: ='DATOS PROCESO'!A5 -> OBJETO: ADECUACIONES EN LA UNIDAD DE REACCIÓN INMEDIATA DE LA FISCALÍA
A7: Formulario No. 5
A8: ='DATOS PROCESO'!A63 -> ANÁLISIS DE PRECIOS UNITARIOS
A10: PROYECTO:
A12: DESCRIPCION DEL ÍTEM: | E12: ITEM:
E13: UNIDAD:
A15: I. EQUIPO
A16: Descripción | C16: Tipo | D16: Tarifa/Hora | E16: Rendimiento | F16: Valor Unit.
D21: Sub-Total | F21: =SUM(F17:F20) -> 0
A22: II. MATERIALES EN OBRA
A23: Descripción | C23: Unidad | D23: Precio Unit. | E23: Cantidad | F23: Valor Unit.
D28: Sub-Total | F28: =SUM(F24:F27) -> 0
A29: III. TRANSPORTES
A30: Material | B30: Vol., peso o cant. | C30: Distancia | D30: m3-km | E30: Tarifa | F30: Valor Unit.
D34: Sub-Total | F34: =SUM(F31:F33) -> 0
A35: IV. MANO DE OBRA
A36: Trabajador | C36: Jornal | D36: Prestaciones | E36: Rendimiento | F36: Valor Unit.
D41: Sub-Total | F41: =SUM(F37:F40) -> 0
D43: Total Costo Directo | F43: =SUM(F21,F28,F34,F41) -> 0
A44: V. COSTOS INDIRECTOS
A45: Descripción | E45: Porcentaje | F45: Valor Total
A46: ADMINISTRACION
A47: UTILIDAD
D48: Sub-Total | F48: =SUM(F46:F47) -> 0
B50: PRECIO UNITARIO TOTAL (aproximado al peso) | F50: =SUM(F43,F48) -> 0

Sheet formulario 6
A2: ='DATOS PROCESO'!A2:K2 -> SECRETARÍA DE SEGURIDAD Y CONVIVENCIA
A4: ='DATOS PROCESO'!A3:K3 -> LICITACIÓN PÚBLICA N° No. 70007405 DE 2023
A5: ='DATOS PROCESO'!A5:K5 -> OBJETO: ADECUACIONES EN LA UNIDAD DE REACCIÓN INMEDIATA DE LA FISCALÍA
A7: FORMULARIO No.6
A8: CONSTANCIA DE COMPROMISO PERSONAL
A9: NOTA: Este formulario se debe diligenciar por cada uno de los integrantes del equipo de trabajo propuesto, independiente de si se trata de criterio habilitante o criterio de calidad
A11: Nombre :
A12: Cédula:
A13: Cargo:
A14: Título Universitario:
A15: No.Tarjeta Profesional
A16: Fecha Expedición Tarjeta Profesional
A17: Postgrados
A18: Teléfono:
A19: Email:
A20: EXPERIENCIA. 1. Relacionar los contratos o proyectos con los que acredita el cumplimiento de los requisitos establecidos en el pliego para la evaluación de la experiencia. 2. Se deben relacionar los contratos establecidos en el pliego de condiciones para acreditar las condiciones de experiencia profesional.
A21: No. | B21: ENTIDAD CONTRATANTE | C21: ENTIDAD CONTRATISTA | D21: CONTRATO O PROYECTO
A27: Con la suscripción del presente documento, me comprometo a prestar mis servicios en el cargo arriba indicado, al proponente:_________________________ , Dentro del proceso de contratación N°_______ de ___________ cuyo objeto es ___________________________________
A28: Así mismo autorizo al proponente a presentar y utilizar mi hoja de vida en este proceso.
A31: FIRMA
A32: CEDULA
A34: *Si para diligenciar este documento requiere varias hojas por favor firmar todas.

Sheet Formulario 7
A2: ='DATOS PROCESO'!A2 -> SECRETARÍA DE SEGURIDAD Y CONVIVENCIA
A3: ='DATOS PROCESO'!A3 -> LICITACIÓN PÚBLICA N° No. 70007405 DE 2023
A5: ='DATOS PROCESO'!A70 -> MANO DE OBRA CALIFICADA
A6: FORMULARIO 7
A7: ='DATOS PROCESO'!A72 -> Recurso Humano | B7: ='DATOS PROCESO'!B72 -> Salario
A8: Director profesional en Arquitectura o Arquitecto Constructor o Ingeniería Civil. (*)
A9: Residente profesional en Arquitectura o Arquitecto Constructor o Ingeniería Civil. (*)
A10: Tecnólogo en Obras Civiles auxiliar residente
A11: Profesional Seguridad y Salud en el trabajo -SST
A12: Otro Profesional residente en Seguridad y Salud en el Trabajo – SST
A13: Tecnólogo Residente en Seguridad y Salud en el Trabajo – SST
A14: Otro Profesional
A15: Maestro de obra
A16: Almacenista
A18: Nombre del Proponente:
A21: Firma representante legal

Sheet Formulario 8
A2: ='DATOS PROCESO'!A2 -> SECRETARÍA DE SEGURIDAD Y CONVIVENCIA
A3: ='DATOS PROCESO'!A3 -> LICITACIÓN PÚBLICA N° No. 70007405 DE 2023
A5: ='DATOS PROCESO'!A5 -> OBJETO: ADECUACIONES EN LA UNIDAD DE REACCIÓN INMEDIATA DE LA FISCALÍA
A7: ='DATOS PROCESO'!A90:H90 -> FORMULARIO 8
A8: ='DATOS PROCESO'!A76 -> INFORMACIÓN FINANCIERA EXTRANJEROS
A10: INFORMACIÓN FINANCIERA CON LA ÚLTIMA FECHA DE CORTE DEL PAÍS CORRESPONDIENTE
A12: Oferente:
A14: Resumen de cuentas de Balance General y Estado de Resultados que sean necesarias para verificar los requisitos habilitantes de capacidad financiera y organizacional
B16: Oferente singular | C16: Consorcio o Unión Temporal
A17: Cuenta | B17: (Valores en pesos colombianos) | C17: Integrante N.1 (Valores en pesos colombianos) | D17: Integrante N.2 (Valores en pesos colombianos) | E17: Integrante N.3 (Valores en pesos colombianos)
A18: BALANCE GENERAL
A19: Efectivo
A20: Activo Corriente
A21: Activo Total
A22: Pasivo Corriente
A23: Pasivo Total
A24: Patrimonio
A25: ESTADO DE RESULTADOS
A26: Utilidad Operacional
A27: Gastos de Intereses
A28: Mayor ingreso operacional en los últimos cinco (5) años anteriores a la fecha de corte
A34: FIRMA REPRESENTANTE LEGAL | C34: FIRMA REVISOR FISCAL
C35: T.P
A38: FIRMA CONTADOR
A39: T.P

Sheet Formulario 9
A2: ='DATOS PROCESO'!A2 -> SECRETARÍA DE SEGURIDAD Y CONVIVENCIA
A3: ='DATOS PROCESO'!A3 -> LICITACIÓN PÚBLICA N° No. 70007405 DE 2023
A5: ='DATOS PROCESO'!A5 -> OBJETO: ADECUACIONES EN LA UNIDAD DE REACCIÓN INMEDIATA DE LA FISCALÍA
A7: Formulario No. 9
A8: ='DATOS PROCESO'!A85 -> FACTOR PRESTACIONAL (Prestaciones Sociales, Aportes Seguridad Social y Parafiscales)
A10: 1 | B10: SALARIO BÁSICO | D10: 1160000
A12: 1.1 | B12: Salario | D12: 1
A13: 2 | B13: PRESTACIONES SOCIALES
A14: 2.1 | B14: Prima Anual | D14: 0.0833
A15: 2.2 | B15: Cesantías anual | D15: 0.0833
A16: 2.3 | B16: Interés a las cesantías | D16: 0.01
A17: 2.4 | B17: Vacaciones | D17: 0.0417
A18: 2.5 | B18: Salud
A19: 2.6 | B19: Pension | D19: 0.12
A20: 2.7 | B20: Subsidio familiar | D20: 0.04
A21: 2.8 | B21: SENA
A22: 2.9 | B22: ICBF
A23: 2.10 | B23: ARL (Escoger el nivel en la siguiente celda) | C23: V | D23: =+IFERROR(VLOOKUP(C23,Tabla23[#All],2,FALSE),"") -> 0.0696
B24: Dotación | D24: 0.0541
B25: Auxilio de transporte | D25: =102853/D10 -> 0.088666379
B26: Subtotal 2 - Prestaciones Sociales | D26: =SUM(D12:D25) -> 1.5906664
B28: FACTOR PRESTACIONAL | D28: =+ROUND(D26,2) -> 1.59
A31: Diligenciar los los item 2.5, 2.8 y 2.9 de acuerdo con la característica tributaria, respecto de SI es Responsable o NO de los Parafiscales de SENA, ICBF y de SALUD (Art. 114 - 1 ESTATUTO TRIBUTARIO)
A33: El factor prestacional indicado debe ser el mismo utilizado en el calculo del AU
A36: Nombre del Proponente:
C37: Firma representante legal
A47: Clase de riesgo | B47: Valor Inicial
A48: I | B48: 0.00522
A49: II | B49: 0.01044
A50: III | B50: 0.02436
A51: IV | B51: 0.0435
A52: V | B52: 0.0696
