Workbook
Name DEPENDENCIAS: Listas!$B$2:$B$16
Name METEVA: Listas!$D$2:$D$6
Name RESULTADO: Listas!$C$2:$C$4

Sheet RESUMEN
B1: INSTITUTO NACIONAL DE VÍAS
B2: DIRECCIÓN GENERAL
B3: DIRECCIÓN DE CONTRATACIÓN
B4: DIRECCIÓN TÉCNICA - SUBDIRECCIÓN DE PREVENCIÓN Y ATENCIÓN DE EMERGENCIAS
B5: SELECCIÓN ABREVIADA DE MENOR CUANTÍA SA-MC-DT-CAL-009-2019
B7: OBJETO: CONSTRUCCION OBRAS DE SEÑALIZACION PARA LA SEGURIDAD VIAL EN VIAS A CARGO DEL INVIAS EN JURISDICCION DE LA DIRECCIÓN TERRITORIAL CALDAS. (VIAS CON DISPOSITIVOS CONTROL Y SEÑALIZACION- SISTEMA CONTENCION VEHICULARCOMPLEMENTARIAS-ZONAS ESCOLARES).
B10: CUADRO No. 1
B11: RESULTADO FINAL DEL PROCESO DE EVALUACIÓN
B12: CONSECUTIVO | C12: PROPONENTE NÚMERO | D12: NOMBRE PROPONENTE | E12: CALIFICACIÓN OBTENIDA | F12: PUNTAJES OTORGADOS A LOS SIGUIENTES CRITERIOS:
F13: Apoyo a la industria nacional | G13: Factor de Calidad
B15: 1 | C15: 1 | D15: =[1]Hoja1!B10 -> JUAN BERNARDO CAÑON PARRA | E15: ADMISIBLE | F15: 100 | G15: 100
B16: 2 | C16: 2 | D16: =[1]Hoja1!B11 -> LESATH SAS | E16: RECHAZO | I16: =IF(H16="","",IF(H16=10,25,IF(H16=5,35,50)))
B17: 3 | C17: 3 | D17: =[1]Hoja1!B12 -> RAUL EDUARDO GALINDO GARCIA | E17: ADMISIBLE | F17: 100 | G17: 100 | I17: =IF(H17="","",IF(H17=10,25,IF(H17=5,35,50)))
B18: 4 | C18: 4 | D18: =[1]Hoja1!B13 -> JORGE EIVAR TULCAN LOSADA | E18: ADMISIBLE | F18: 100 | G18: 100 | I18: =IF(H18="","",IF(H18=10,25,IF(H18=5,35,50)))
B19: 5 | C19: 5 | D19: =[1]Hoja1!B14 -> CONSORCIO SEDILAS 19 | E19: ADMISIBLE | F19: 100 | G19: 100 | I19: =IF(H19="","",IF(H19=10,25,IF(H19=5,35,50)))
B20: 6 | C20: 6 | D20: =[1]Hoja1!B15 -> CLAUDIA MARIA FERRERO SERRANO | E20: ADMISIBLE | F20: 100 | G20: 100 | I20: =IF(H20="","",IF(H20=10,25,IF(H20=5,35,50)))
B21: 7 | C21: 7 | I21: =IF(H21="","",IF(H21=10,25,IF(H21=5,35,50)))
B22: 8 | C22: 8 | I22: =IF(H22="","",IF(H22=10,25,IF(H22=5,35,50)))
B23: 9 | C23: 9 | I23: =IF(H23="","",IF(H23=10,25,IF(H23=5,35,50)))
B24: 10 | C24: 10
B116: TOTALES | D116: ADMISIBLE | E116: =COUNTIF($E$15:$E$114,D116) -> 5
D117: NO ADMISIBLE | E117: =COUNTIF($E$15:$E$114,D117) -> 0
D118: RECHAZO | E118: =COUNTIF($E$15:$E$114,D118) -> 1
D119: TOTAL | E119: =SUM(E116:E118) -> 6

Sheet VR-PROP
B1: =RESUMEN!B1 -> INSTITUTO NACIONAL DE VÍAS
B2: =RESUMEN!B2 -> DIRECCIÓN GENERAL
B3: =RESUMEN!B3 -> DIRECCIÓN DE CONTRATACIÓN
B4: =RESUMEN!B4 -> DIRECCIÓN TÉCNICA - SUBDIRECCIÓN DE PREVENCIÓN Y ATENCIÓN DE EMERGENCIAS
B5: =RESUMEN!B5 -> SELECCIÓN ABREVIADA DE MENOR CUANTÍA SA-MC-DT-CAL-009-2019
B7: =RESUMEN!B7 -> OBJETO: CONSTRUCCION OBRAS DE SEÑALIZACION PARA LA SEGURIDAD VIAL EN VIAS A CARGO DEL INVIAS EN JURISDICCION DE LA DIRECCIÓN TERRITORIAL CALDAS. (VIAS CON DISPOSITIVOS CONTROL Y SEÑALIZACION- SISTEMA CONTENCION VEHICULARCOMPLEMENTARIAS-ZONAS ESCOLARES).
B9: CUADRO No. 2 - VERIFICACIÓN DE LAS PROPUESTAS ECONÓNICAS
I10: =RESUMEN!$E$15 -> ADMISIBLE | L10: =RESUMEN!$E$16 -> RECHAZO | O10: =RESUMEN!$E$17 -> ADMISIBLE | R10: =RESUMEN!$E$18 -> ADMISIBLE | U10: =RESUMEN!$E$19 -> ADMISIBLE | X10: =RESUMEN!$E$20 -> ADMISIBLE | AA10: =RESUMEN!$E$21 -> 0 | AD10: =RESUMEN!$E$22 -> 0 | AG10: =RESUMEN!$E$23 -> 0 | AJ10: =RESUMEN!$E$24 -> 0 | AM10: =RESUMEN!$E$25 -> 0 | AP10: =RESUMEN!$E$26 -> 0 | AS10: =RESUMEN!$E$27 -> 0 | AV10: =RESUMEN!$E$28 -> 0 | AY10: =RESUMEN!$E$29 -> 0 | BB10: =RESUMEN!$E$30 -> 0 | BE10: =RESUMEN!$E$31 -> 0 | BH10: =RESUMEN!$E$32 -> 0 | BK10: =RESUMEN!$E$33 -> 0 | BN10: =RESUMEN!$E$34 -> 0 | BQ10: =RESUMEN!$E$35 -> 0 | BT10: =RESUMEN!$E$36 -> 0 | BW10: =RESUMEN!$E$37 -> 0 | BZ10: =RESUMEN!$E$38 -> 0 | CC10: =RESUMEN!$E$39 -> 0 | CF10: =RESUMEN!$E$40 -> 0 | CI10: =RESUMEN!$E$41 -> 0 | CL10: =RESUMEN!$E$42 -> 0 | CO10: =RESUMEN!$E$43 -> 0 | CR10: =RESUMEN!$E$44 -> 0 | CU10: =RESUMEN!$E$45 -> 0 | CX10: =RESUMEN!$E$46 -> 0 | DA10: =RESUMEN!$E$47 -> 0 | DD10: =RESUMEN!$E$48 -> 0 | DG10: =RESUMEN!$E$49 -> 0 | DJ10: =RESUMEN!$E$50 -> 0 | DM10: =RESUMEN!$E$51 -> 0 | DP10: =RESUMEN!$E$52 -> 0 | DS10: =RESUMEN!$E$53 -> 0 | DV10: =RESUMEN!$E$54 -> 0 | DY10: =RESUMEN!$E$55 -> 0 | EB10: =RESUMEN!$E$56 -> 0 | EE10: =RESUMEN!$E$57 -> 0 | EH10: =RESUMEN!$E$58 -> 0 | EK10: =RESUMEN!$E$59 -> 0 | EN10: =RESUMEN!$E$60 -> 0 | EQ10: =RESUMEN!$E$61 -> 0 | ET10: =RESUMEN!$E$62 -> 0 | EW10: =RESUMEN!$E$63 -> 0 | EZ10: =RESUMEN!$E$64 -> 0 | FC10: =RESUMEN!$E$65 -> 0 | FF10: =RESUMEN!$E$66 -> 0 | FI10: =RESUMEN!$E$67 -> 0 | FL10: =RESUMEN!$E$68 -> 0 | FO10: =RESUMEN!$E$69 -> 0 | FR10: =RESUMEN!$E$70 -> 0 | FU10: =RESUMEN!$E$71 -> 0 | FX10: =RESUMEN!$E$72 -> 0 | GA10: =RESUMEN!$E$73 -> 0 | GD10: =RESUMEN!$E$74 -> 0 | GG10: =RESUMEN!$E$75 -> 0 | GJ10: =RESUMEN!$E$76 -> 0 | GM10: =RESUMEN!$E$77 -> 0 | GP10: =RESUMEN!$E$78 -> 0 | GS10: =RESUMEN!$E$79 -> 0 | GV10: =RESUMEN!$E$80 -> 0 | GY10: =RESUMEN!$E$81 -> 0 | HB10: =RESUMEN!$E$82 -> 0 | HE10: =RESUMEN!$E$83 -> 0 | HH10: =RESUMEN!$E$84 -> 0 | HK10: =RESUMEN!$E$85 -> 0 | HN10: =RESUMEN!$E$86 -> 0 | HQ10: =RESUMEN!$E$87 -> 0 | HT10: =RESUMEN!$E$88 -> 0 | HW10: =RESUMEN!$E$89 -> 0 | HZ10: =RESUMEN!$E$90 -> 0 | IC10: =RESUMEN!$E$91 -> 0 | IF10: =RESUMEN!$E$92 -> 0 | II10: =RESUMEN!$E$93 -> 0 | IL10: =RESUMEN!$E$94 -> 0 | IO10: =RESUMEN!$E$95 -> 0 | IR10: =RESUMEN!$E$96 -> 0 | IU10: =RESUMEN!$E$97 -> 0 | IX10: =RESUMEN!$E$98 -> 0 | JA10: =RESUMEN!$E$99 -> 0 | JD10: =RESUMEN!$E$100 -> 0 | JG10: =RESUMEN!$E$101 -> 0 | JJ10: =RESUMEN!$E$102 -> 0 | JM10: =RESUMEN!$E$103 -> 0 | JP10: =RESUMEN!$E$104 -> 0 | JS10: =RESUMEN!$E$105 -> 0 | JV10: =RESUMEN!$E$106 -> 0 | JY10: =RESUMEN!$E$107 -> 0 | KB10: =RESUMEN!$E$108 -> 0 | KE10: =RESUMEN!$E$109 -> 0 | KH10: =RESUMEN!$E$110 -> 0 | KK10: =RESUMEN!$E$111 -> 0 | KN10: =RESUMEN!$E$112 -> 0 | KQ10: =RESUMEN!$E$113 -> 0 | KT10: =RESUMEN!$E$114 -> 0
I11: =RESUMEN!$C$15 -> 1 | L11: =RESUMEN!$C$16 -> 2 | O11: =RESUMEN!$C$17 -> 3 | R11: =RESUMEN!$C$18 -> 4 | U11: =RESUMEN!$C$19 -> 5 | X11: =RESUMEN!$C$20 -> 6 | AA11: =RESUMEN!$C$21 -> 7 | AD11: =RESUMEN!$C$22 -> 8 | AG11: =RESUMEN!$C$23 -> 9 | AJ11: =RESUMEN!$C$24 -> 10 | AM11: =RESUMEN!$C$25 -> 0 | AP11: =RESUMEN!$C$26 -> 0 | AS11: =RESUMEN!$C$27 -> 0 | AV11: =RESUMEN!$C$28 -> 0 | AY11: =RESUMEN!$C$29 -> 0 | BB11: =RESUMEN!$C$30 -> 0 | BE11: =RESUMEN!$C$31 -> 0 | BH11: =RESUMEN!$C$32 -> 0 | BK11: =RESUMEN!$C$33 -> 0 | BN11: =RESUMEN!$C$34 -> 0 | BQ11: =RESUMEN!$C$35 -> 0 | BT11: =RESUMEN!$C$36 -> 0 | BW11: =RESUMEN!$C$37 -> 0 | BZ11: =RESUMEN!$C$38 -> 0 | CC11: =RESUMEN!$C$39 -> 0 | CF11: =RESUMEN!$C$40 -> 0 | CI11: =RESUMEN!$C$41 -> 0 | CL11: =RESUMEN!$C$42 -> 0 | CO11: =RESUMEN!$C$43 -> 0 | CR11: =RESUMEN!$C$44 -> 0 | CU11: =RESUMEN!$C$45 -> 0 | CX11: =RESUMEN!$C$46 -> 0 | DA11: =RESUMEN!$C$47 -> 0 | DD11: =RESUMEN!$C$48 -> 0 | DG11: =RESUMEN!$C$49 -> 0 | DJ11: =RESUMEN!$C$50 -> 0 | DM11: =RESUMEN!$C$51 -> 0 | DP11: =RESUMEN!$C$52 -> 0 | DS11: =RESUMEN!$C$53 -> 0 | DV11: =RESUMEN!$C$54 -> 0 | DY11: =RESUMEN!$C$55 -> 0 | EB11: =RESUMEN!$C$56 -> 0 | EE11: =RESUMEN!$C$57 -> 0 | EH11: =RESUMEN!$C$58 -> 0 | EK11: =RESUMEN!$C$59 -> 0 | EN11: =RESUMEN!$C$60 -> 0 | EQ11: =RESUMEN!$C61 -> 0 | ET11: =RESUMEN!$C$62 -> 0 | EW11: =RESUMEN!$C$63 -> 0 | EZ11: =RESUMEN!$C$64 -> 0 | FC11: =RESUMEN!$C$65 -> 0 | FF11: =RESUMEN!$C$66 -> 0 | FI11: =RESUMEN!$C$67 -> 0 | FL11: =RESUMEN!$C$68 -> 0 | FO11: =RESUMEN!$C$69 -> 0 | FR11: =RESUMEN!$C$70 -> 0 | FU11: =RESUMEN!$C$71 -> 0 | FX11: =RESUMEN!$C$72 -> 0 | GA11: =RESUMEN!$C$73 -> 0 | GD11: =RESUMEN!$C$74 -> 0 | GG11: =RESUMEN!$C$75 -> 0 | GJ11: =RESUMEN!$C$76 -> 0 | GM11: =RESUMEN!$C$77 -> 0 | GP11: =RESUMEN!$C$78 -> 0 | GS11: =RESUMEN!$C$79 -> 0 | GV11: =RESUMEN!$C$80 -> 0 | GY11: =RESUMEN!$C$81 -> 0 | HB11: =RESUMEN!$C$82 -> 0 | HE11: =RESUMEN!$C$83 -> 0 | HH11: =RESUMEN!$C$84 -> 0 | HK11: =RESUMEN!$C$85 -> 0 | HN11: =RESUMEN!$C$86 -> 0 | HQ11: =RESUMEN!$C$87 -> 0 | HT11: =RESUMEN!$C$88 -> 0 | HW11: =RESUMEN!$C$89 -> 0 | HZ11: =RESUMEN!$C$90 -> 0 | IC11: =RESUMEN!$C$91 -> 0 | IF11: =RESUMEN!$C$92 -> 0 | II11: =RESUMEN!$C$93 -> 0 | IL11: =RESUMEN!$C$94 -> 0 | IO11: =RESUMEN!$C$95 -> 0 | IR11: =RESUMEN!$C$96 -> 0 | IU11: =RESUMEN!$C$97 -> 0 | IX11: =RESUMEN!$C$98 -> 0 | JA11: =RESUMEN!$C$99 -> 0 | JD11: =RESUMEN!$C$100 -> 0 | JG11: =RESUMEN!$C$101 -> 0 | JJ11: =RESUMEN!$C$102 -> 0 | JM11: =RESUMEN!$C$103 -> 0 | JP11: =RESUMEN!$C$104 -> 0 | JS11: =RESUMEN!$C$105 -> 0 | JV11: =RESUMEN!$C$106 -> 0 | JY11: =RESUMEN!$C$107 -> 0 | KB11: =RESUMEN!$C$108 -> 0 | KE11: =RESUMEN!$C$109 -> 0 | KH11: =RESUMEN!$C$110 -> 0 | KK11: =RESUMEN!$C$111 -> 0 | KN11: =RESUMEN!$C$112 -> 0 | KQ11: =RESUMEN!$C$113 -> 0 | KT11: =RESUMEN!$C$114 -> 0
B12: PRESUPUESTO OFICIAL | I12: =RESUMEN!$D$15 -> JUAN BERNARDO CAÑON PARRA | L12: =RESUMEN!$D$16 -> LESATH SAS | O12: =RESUMEN!$D$17 -> RAUL EDUARDO GALINDO GARCIA | R12: =RESUMEN!$D$18 -> JORGE EIVAR TULCAN LOSADA | U12: =RESUMEN!$D$19 -> CONSORCIO SEDILAS 19 | X12: =RESUMEN!$D$20 -> CLAUDIA MARIA FERRERO SERRANO | AA12: =RESUMEN!$D$21 -> 0 | AD12: =RESUMEN!$D$22 -> 0 | AG12: =RESUMEN!$D$23 -> 0 | AJ12: =RESUMEN!$D$24 -> 0 | AM12: =RESUMEN!$D$25 -> 0 | AP12: =RESUMEN!$D$26 -> 0 | AS12: =RESUMEN!$D$27 -> 0 | AV12: =RESUMEN!$D$28 -> 0 | AY12: =RESUMEN!$D$29 -> 0 | BB12: =RESUMEN!$D$30 -> 0 | BE12: =RESUMEN!$D$31 -> 0 | BH12: =RESUMEN!$D$32 -> 0 | BK12: =RESUMEN!$D$33 -> 0 | BN12: =RESUMEN!$D$34 -> 0 | BQ12: =RESUMEN!$D$35 -> 0 | BT12: =RESUMEN!$D$36 -> 0 | BW12: =RESUMEN!$D$37 -> 0 | BZ12: =RESUMEN!$D$38 -> 0 | CC12: =RESUMEN!$D$39 -> 0 | CF12: =RESUMEN!$D$40 -> 0 | CI12: =RESUMEN!$D$41 -> 0 | CL12: =RESUMEN!$D$42 -> 0 | CO12: =RESUMEN!$D$43 -> 0 | CR12: =RESUMEN!$D$44 -> 0 | CU12: =RESUMEN!$D$45 -> 0 | CX12: =RESUMEN!$D$46 -> 0 | DA12: =RESUMEN!$D$47 -> 0 | DD12: =RESUMEN!$D$48 -> 0 | DG12: =RESUMEN!$D$49 -> 0 | DJ12: =RESUMEN!$D$50 -> 0 | DM12: =RESUMEN!$D$51 -> 0 | DP12: =RESUMEN!$D$52 -> 0 | DS12: =RESUMEN!$D$53 -> 0 | DV12: =RESUMEN!$D$54 -> 0 | DY12: =RESUMEN!$D$55 -> 0 | EB12: =RESUMEN!$D$56 -> 0 | EE12: =RESUMEN!$D$57 -> 0 | EH12: =RESUMEN!$D$58 -> 0 | EK12: =RESUMEN!$D$59 -> 0 | EN12: =RESUMEN!$D$60 -> 0 | EQ12: =RESUMEN!$D$61 -> 0 | ET12: =RESUMEN!$D$62 -> 0 | EW12: =RESUMEN!$D$63 -> 0 | EZ12: =RESUMEN!$D$64 -> 0 | FC12: =RESUMEN!$D$65 -> 0 | FF12: =RESUMEN!$D$66 -> 0 | FI12: =RESUMEN!$D$67 -> 0 | FL12: =RESUMEN!$D$68 -> 0 | FO12: =RESUMEN!$D$69 -> 0 | FR12: =RESUMEN!$D$70 -> 0 | FU12: =RESUMEN!$D$71 -> 0 | FX12: =RESUMEN!$D$72 -> 0 | GA12: =RESUMEN!$D$73 -> 0 | GD12: =RESUMEN!$D$74 -> 0 | GG12: =RESUMEN!$D$75 -> 0 | GJ12: =RESUMEN!$D$76 -> 0 | GM12: =RESUMEN!$D$77 -> 0 | GP12: =RESUMEN!$D$78 -> 0 | GS12: =RESUMEN!$D$79 -> 0 | GV12: =RESUMEN!$D$80 -> 0 | GY12: =RESUMEN!$D$81 -> 0 | HB12: =RESUMEN!$D$82 -> 0 | HE12: =RESUMEN!$D$83 -> 0 | HH12: =RESUMEN!$D$84 -> 0 | HK12: =RESUMEN!$D$85 -> 0 | HN12: =RESUMEN!$D$86 -> 0 | HQ12: =RESUMEN!$D$87 -> 0 | HT12: =RESUMEN!$D$88 -> 0 | HW12: =RESUMEN!$D$89 -> 0 | HZ12: =RESUMEN!$D$90 -> 0 | IC12: =RESUMEN!$D$91 -> 0 | IF12: =RESUMEN!$D$92 -> 0 | II12: =RESUMEN!$D$93 -> 0 | IL12: =RESUMEN!$D$94 -> 0 | IO12: =RESUMEN!$D$95 -> 0 | IR12: =RESUMEN!$D$96 -> 0 | IU12: =RESUMEN!$D$97 -> 0 | IX12: =RESUMEN!$D$98 -> 0 | JA12: =RESUMEN!$D$99 -> 0 | JD12: =RESUMEN!$D$100 -> 0 | JG12: =RESUMEN!$D$101 -> 0 | JJ12: =RESUMEN!$D$102 -> 0 | JM12: =RESUMEN!$D$103 -> 0 | JP12: =RESUMEN!$D$104 -> 0 | JS12: =RESUMEN!$D$105 -> 0 | JV12: =RESUMEN!$D$106 -> 0 | JY12: =RESUMEN!$D$107 -> 0 | KB12: =RESUMEN!$D$108 -> 0 | KE12: =RESUMEN!$D$109 -> 0 | KH12: =RESUMEN!$D$110 -> 0 | KK12: =RESUMEN!$D$111 -> 0 | KN12: =RESUMEN!$D$112 -> 0 | KQ12: =RESUMEN!$D$113 -> 0 | KT12: =RESUMEN!$D$114 -> 0
B13: No. | C13: Ítem Pago | D13: DESCRIPCION | E13: UNIDAD | F13: CANTIDAD | G13: P/UNIT | H13: VR PARCIAL (1) | I13: P/UNIT | J13: VR PARCIAL | K13: PU vs PO | L13: P/UNIT | M13: VR PARCIAL | N13: PU vs PO | O13: P/UNIT | P13: VR PARCIAL | Q13: PU vs PO | R13: P/UNIT | S13: VR PARCIAL | T13: PU vs PO | U13: P/UNIT | V13: VR PARCIAL | W13: PU vs PO | X13: P/UNIT | Y13: VR PARCIAL | Z13: PU vs PO | AA13: P/UNIT | AB13: VR PARCIAL | AC13: PU vs PO | AD13: P/UNIT | AE13: VR PARCIAL | AF13: PU vs PO | AG13: P/UNIT | AH13: VR PARCIAL | AI13: PU vs PO | AJ13: P/UNIT | AK13: VR PARCIAL | AL13: PU vs PO | AM13: P/UNIT | AN13: VR PARCIAL | AO13: PU vs PO | AP13: P/UNIT | AQ13: VR PARCIAL | AR13: PU vs PO | AS13: P/UNIT | AT13: VR PARCIAL | AU13: PU vs PO | AV13: P/UNIT | AW13: VR PARCIAL | AX13: PU vs PO | AY13: P/UNIT | AZ13: VR PARCIAL | BA13: PU vs PO | BB13: P/UNIT | BC13: VR PARCIAL | BD13: PU vs PO | BE13: P/UNIT | BF13: VR PARCIAL | BG13: PU vs PO | BH13: P/UNIT | BI13: VR PARCIAL | BJ13: PU vs PO | BK13: P/UNIT | BL13: VR PARCIAL | BM13: PU vs PO | BN13: P/UNIT | BO13: VR PARCIAL | BP13: PU vs PO | BQ13: P/UNIT | BR13: VR PARCIAL | BS13: PU vs PO | BT13: P/UNIT | BU13: VR PARCIAL | BV13: PU vs PO | BW13: P/UNIT | BX13: VR PARCIAL | BY13: PU vs PO | BZ13: P/UNIT | CA13: VR PARCIAL | CB13: PU vs PO | CC13: P/UNIT | CD13: VR PARCIAL | CE13: PU vs PO | CF13: P/UNIT | CG13: VR PARCIAL | CH13: PU vs PO | CI13: P/UNIT | CJ13: VR PARCIAL | CK13: PU vs PO | CL13: P/UNIT | CM13: VR PARCIAL | CN13: PU vs PO | CO13: P/UNIT | CP13: VR PARCIAL | CQ13: PU vs PO | CR13: P/UNIT | CS13: VR PARCIAL | CT13: PU vs PO | CU13: P/UNIT | CV13: VR PARCIAL | CW13: PU vs PO | CX13: P/UNIT | CY13: VR PARCIAL | CZ13: PU vs PO | DA13: P/UNIT | DB13: VR PARCIAL | DC13: PU vs PO | DD13: P/UNIT | DE13: VR PARCIAL | DF13: PU vs PO | DG13: P/UNIT | DH13: VR PARCIAL | DI13: PU vs PO | DJ13: P/UNIT | DK13: VR PARCIAL | DL13: PU vs PO | DM13: P/UNIT | DN13: VR PARCIAL | DO13: PU vs PO | DP13: P/UNIT | DQ13: VR PARCIAL | DR13: PU vs PO | DS13: P/UNIT | DT13: VR PARCIAL | DU13: PU vs PO | DV13: P/UNIT | DW13: VR PARCIAL | DX13: PU vs PO | DY13: P/UNIT | DZ13: VR PARCIAL | EA13: PU vs PO | EB13: P/UNIT | EC13: VR PARCIAL | ED13: PU vs PO | EE13: P/UNIT | EF13: VR PARCIAL | EG13: PU vs PO | EH13: P/UNIT | EI13: VR PARCIAL | EJ13: PU vs PO | EK13: P/UNIT | EL13: VR PARCIAL | EM13: PU vs PO | EN13: P/UNIT | EO13: VR PARCIAL | EP13: PU vs PO | EQ13: P/UNIT | ER13: VR PARCIAL | ES13: PU vs PO | ET13: P/UNIT | EU13: VR PARCIAL | EV13: PU vs PO | EW13: P/UNIT | EX13: VR PARCIAL | EY13: PU vs PO | EZ13: P/UNIT | FA13: VR PARCIAL | FB13: PU vs PO | FC13: P/UNIT | FD13: VR PARCIAL | FE13: PU vs PO | FF13: P/UNIT | FG13: VR PARCIAL | FH13: PU vs PO | FI13: P/UNIT | FJ13: VR PARCIAL | FK13: PU vs PO | FL13: P/UNIT | FM13: VR PARCIAL | FN13: PU vs PO | FO13: P/UNIT | FP13: VR PARCIAL | FQ13: PU vs PO | FR13: P/UNIT | FS13: VR PARCIAL | FT13: PU vs PO | FU13: P/UNIT | FV13: VR PARCIAL | FW13: PU vs PO | FX13: P/UNIT | FY13: VR PARCIAL | FZ13: PU vs PO | GA13: P/UNIT | GB13: VR PARCIAL | GC13: PU vs PO | GD13: P/UNIT | GE13: VR PARCIAL | GF13: PU vs PO | GG13: P/UNIT | GH13: VR PARCIAL | GI13: PU vs PO | GJ13: P/UNIT | GK13: VR PARCIAL | GL13: PU vs PO | GM13: P/UNIT | GN13: VR PARCIAL | GO13: PU vs PO | GP13: P/UNIT | GQ13: VR PARCIAL | GR13: PU vs PO | GS13: P/UNIT | GT13: VR PARCIAL | GU13: PU vs PO | GV13: P/UNIT | GW13: VR PARCIAL | GX13: PU vs PO | GY13: P/UNIT | GZ13: VR PARCIAL | HA13: PU vs PO | HB13: P/UNIT | HC13: VR PARCIAL | HD13: PU vs PO | HE13: P/UNIT | HF13: VR PARCIAL | HG13: PU vs PO | HH13: P/UNIT | HI13: VR PARCIAL | HJ13: PU vs PO | HK13: P/UNIT | HL13: VR PARCIAL | HM13: PU vs PO | HN13: P/UNIT | HO13: VR PARCIAL | HP13: PU vs PO | HQ13: P/UNIT | HR13: VR PARCIAL | HS13: PU vs PO | HT13: P/UNIT | HU13: VR PARCIAL | HV13: PU vs PO | HW13: P/UNIT | HX13: VR PARCIAL | HY13: PU vs PO | HZ13: P/UNIT | IA13: VR PARCIAL | IB13: PU vs PO | IC13: P/UNIT | ID13: VR PARCIAL | IE13: PU vs PO | IF13: P/UNIT | IG13: VR PARCIAL | IH13: PU vs PO | II13: P/UNIT | IJ13: VR PARCIAL | IK13: PU vs PO | IL13: P/UNIT | IM13: VR PARCIAL | IN13: PU vs PO | IO13: P/UNIT | IP13: VR PARCIAL | IQ13: PU vs PO | IR13: P/UNIT | IS13: VR PARCIAL | IT13: PU vs PO | IU13: P/UNIT | IV13: VR PARCIAL | IW13: PU vs PO | IX13: P/UNIT | IY13: VR PARCIAL | IZ13: PU vs PO | JA13: P/UNIT | JB13: VR PARCIAL | JC13: PU vs PO | JD13: P/UNIT | JE13: VR PARCIAL | JF13: PU vs PO | JG13: P/UNIT | JH13: VR PARCIAL | JI13: PU vs PO | JJ13: P/UNIT | JK13: VR PARCIAL | JL13: PU vs PO | JM13: P/UNIT | JN13: VR PARCIAL | JO13: PU vs PO | JP13: P/UNIT | JQ13: VR PARCIAL | JR13: PU vs PO | JS13: P/UNIT | JT13: VR PARCIAL | JU13: PU vs PO | JV13: P/UNIT | JW13: VR PARCIAL | JX13: PU vs PO | JY13: P/UNIT | JZ13: VR PARCIAL | KA13: PU vs PO | KB13: P/UNIT | KC13: VR PARCIAL | KD13: PU vs PO | KE13: P/UNIT | KF13: VR PARCIAL | KG13: PU vs PO | KH13: P/UNIT | KI13: VR PARCIAL | KJ13: PU vs PO | KK13: P/UNIT | KL13: VR PARCIAL | KM13: PU vs PO | KN13: P/UNIT | KO13: VR PARCIAL | KP13: PU vs PO | KQ13: P/UNIT | KR13: VR PARCIAL | KS13: PU vs PO | KT13: P/UNIT | KU13: VR PARCIAL | KV13: PU vs PO
AN14: =SUM(AN15:AN21) -> 0 | AQ14: =SUM(AQ15:AQ21) -> 0 | AT14: =SUM(AT15:AT21) -> 0 | AW14: =SUM(AW15:AW21) -> 0 | AZ14: =SUM(AZ15:AZ21) -> 0 | BC14: =SUM(BC15:BC21) -> 0 | BF14: =SUM(BF15:BF21) -> 0 | BI14: =SUM(BI15:BI21) -> 0 | BL14: =SUM(BL15:BL21) -> 0 | BO14: =SUM(BO15:BO21) -> 0 | BR14: =SUM(BR15:BR21) -> 0 | BU14: =SUM(BU15:BU21) -> 0 | BX14: =SUM(BX15:BX21) -> 0 | CA14: =SUM(CA15:CA21) -> 0 | CD14: =SUM(CD15:CD21) -> 0 | CG14: =SUM(CG15:CG21) -> 0 | CJ14: =SUM(CJ15:CJ21) -> 0 | CM14: =SUM(CM15:CM21) -> 0 | CP14: =SUM(CP15:CP21) -> 0 | CS14: =SUM(CS15:CS21) -> 0 | CV14: =SUM(CV15:CV21) -> 0 | CY14: =SUM(CY15:CY21) -> 0 | DB14: =SUM(DB15:DB21) -> 0 | DE14: =SUM(DE15:DE21) -> 0 | DH14: =SUM(DH15:DH21) -> 0 | DK14: =SUM(DK15:DK21) -> 0 | DN14: =SUM(DN15:DN21) -> 0 | DQ14: =SUM(DQ15:DQ21) -> 0 | DT14: =SUM(DT15:DT21) -> 0 | DW14: =SUM(DW15:DW21) -> 0 | DZ14: =SUM(DZ15:DZ21) -> 0 | EC14: =SUM(EC15:EC21) -> 0 | EF14: =SUM(EF15:EF21) -> 0 | EI14: =SUM(EI15:EI21) -> 0 | EL14: =SUM(EL15:EL21) -> 0 | EO14: =SUM(EO15:EO21) -> 0 | ER14: =SUM(ER15:ER21) -> 0 | EU14: =SUM(EU15:EU21) -> 0 | EX14: =SUM(EX15:EX21) -> 0 | FA14: =SUM(FA15:FA21) -> 0 | FD14: =SUM(FD15:FD21) -> 0 | FG14: =SUM(FG15:FG21) -> 0 | FJ14: =SUM(FJ15:FJ21) -> 0 | FM14: =SUM(FM15:FM21) -> 0 | FP14: =SUM(FP15:FP21) -> 0 | FS14: =SUM(FS15:FS21) -> 0 | FV14: =SUM(FV15:FV21) -> 0 | FY14: =SUM(FY15:FY21) -> 0 | GB14: =SUM(GB15:GB21) -> 0 | GE14: =SUM(GE15:GE21) -> 0 | GH14: =SUM(GH15:GH21) -> 0 | GK14: =SUM(GK15:GK21) -> 0 | GN14: =SUM(GN15:GN21) -> 0 | GQ14: =SUM(GQ15:GQ21) -> 0 | GT14: =SUM(GT15:GT21) -> 0 | GW14: =SUM(GW15:GW21) -> 0 | GZ14: =SUM(GZ15:GZ21) -> 0 | HC14: =SUM(HC15:HC21) -> 0 | HF14: =SUM(HF15:HF21) -> 0 | HI14: =SUM(HI15:HI21) -> 0 | HL14: =SUM(HL15:HL21) -> 0 | HO14: =SUM(HO15:HO21) -> 0 | HR14: =SUM(HR15:HR21) -> 0 | HU14: =SUM(HU15:HU21) -> 0 | HX14: =SUM(HX15:HX21) -> 0 | IA14: =SUM(IA15:IA21) -> 0 | ID14: =SUM(ID15:ID21) -> 0 | IG14: =SUM(IG15:IG21) -> 0 | IJ14: =SUM(IJ15:IJ21) -> 0 | IM14: =SUM(IM15:IM21) -> 0 | IP14: =SUM(IP15:IP21) -> 0 | IS14: =SUM(IS15:IS21) -> 0 | IV14: =SUM(IV15:IV21) -> 0 | IY14: =SUM(IY15:IY21) -> 0 | JB14: =SUM(JB15:JB21) -> 0 | JE14: =SUM(JE15:JE21) -> 0 | JH14: =SUM(JH15:JH21) -> 0 | JK14: =SUM(JK15:JK21) -> 0 | JN14: =SUM(JN15:JN21) -> 0 | JQ14: =SUM(JQ15:JQ21) -> 0 | JT14: =SUM(JT15:JT21) -> 0 | JW14: =SUM(JW15:JW21) -> 0 | JZ14: =SUM(JZ15:JZ21) -> 0 | KC14: =SUM(KC15:KC21) -> 0 | KF14: =SUM(KF15:KF21) -> 0 | KI14: =SUM(KI15:KI21) -> 0 | KL14: =SUM(KL15:KL21) -> 0 | KO14: =SUM(KO15:KO21) -> 0 | KR14: =SUM(KR15:KR21) -> 0 | KU14: =SUM(KU15:KU21) -> 0
B15: 1 | C15: SV-02 | D15: SUMINISTRO E INSTALACIÓN DE SEÑAL VERTICAL SP, SR Y SI 75 CM X 75 CM | E15: UNIDAD | F15: ='[2]PRESUPUESTO OFICIAL'!I15 -> 54 | G15: 381134 | H15: =+F15*G15 -> 20581236 | I15: 377358 | J15: =ROUND($F15*ROUND(I15,0),0) -> 20377332 | K15: =+IF(I15>0,IF(I15>$G15,"NO VÁLIDA","VÁLIDA"),"NO VÁLIDA") -> VÁLIDA | M15: =ROUND($F15*ROUND(L15,0),0) -> 0 | N15: =+IF(L15>0,IF(L15>$G15,"NO VÁLIDA","VÁLIDA"),"NO VÁLIDA") -> NO VÁLIDA | O15: 368112 | P15: =ROUND($F15*ROUND(O15,0),0) -> 19878048 | Q15: =+IF(O15>0,IF(O15>$G15,"NO VÁLIDA","VÁLIDA"),"NO VÁLIDA") -> VÁLIDA | R15: 371038 | S15: =ROUND($F15*ROUND(R15,0),0) -> 20036052 | T15: =+IF(R15>0,IF(R15>$G15,"NO VÁLIDA","VÁLIDA"),"NO VÁLIDA") -> VÁLIDA | U15: 381134 | V15: =ROUND($F15*ROUND(U15,0),0) -> 20581236 | W15: =+IF(U15>0,IF(U15>$G15,"NO VÁLIDA","VÁLIDA"),"NO VÁLIDA") -> VÁLIDA | X15: 350000 | Y15: =ROUND($F15*ROUND(X15,0),0) -> 18900000 | Z15: =+IF(X15>0,IF(X15>$G15,"NO VÁLIDA","VÁLIDA"),"NO VÁLIDA") -> VÁLIDA | AA15: 324846 | AB15: =ROUND($F15*ROUND(AA15,0),0) -> 17541684 | AC15: =+IF(AA15>0,IF(AA15>$G15,"NO VÁLIDA","VÁLIDA"),"NO VÁLIDA") -> VÁLIDA | AE15: =ROUND($F15*ROUND(AD15,0),0) -> 0 | AF15: =+IF(AD15>0,IF(AD15>$G15,"NO VÁLIDA","VÁLIDA"),"NO VÁLIDA") -> NO VÁLIDA | AH15: =ROUND($F15*ROUND(AG15,0),0) -> 0 | AI15: =+IF(AG15>0,IF(AG15>$G15,"NO VÁLIDA","VÁLIDA"),"NO VÁLIDA") -> NO VÁLIDA | AK15: =ROUND($F15*ROUND(AJ15,0),0) -> 0 | AL15: =+IF(AJ15>0,IF(AJ15>$G15,"NO VÁLIDA","VÁLIDA"),"NO VÁLIDA") -> NO VÁLIDA | AN15: =ROUND($F15*ROUND(AM15,0),0) -> 0 | AO15: =+IF(AM15>0,IF(AM15>$G15,"NO VÁLIDA","VÁLIDA"),"NO VÁLIDA") -> NO VÁLIDA | AQ15: =ROUND($F15*ROUND(AP15,0),0) -> 0 | AR15: =+IF(AP15>0,IF(AP15>$G15,"NO VÁLIDA","VÁLIDA"),"NO VÁLIDA") -> NO VÁLIDA | AT15: =ROUND($F15*ROUND(AS15,0),0) -> 0 | AU15: =+IF(AS15>0,IF(AS15>$G15,"NO VÁLIDA","VÁLIDA"),"NO VÁLIDA") -> NO VÁLIDA | AW15: =ROUND($F15*ROUND(AV15,0),0) -> 0 | AX15: =+IF(AV15>0,IF(AV15>$G15,"NO VÁLIDA","VÁLIDA"),"NO VÁLIDA") -> NO VÁLIDA | AZ15: =ROUND($F15*ROUND(AY15,0),0) -> 0 | BA15: =+IF(AY15>0,IF(AY15>$G15,"NO VÁLIDA","VÁLIDA"),"NO VÁLIDA") -> NO VÁLIDA | BC15: =ROUND($F15*ROUND(BB15,0),0) -> 0 | BD15: =+IF(BB15>0,IF(BB15>$G15,"NO VÁLIDA","VÁLIDA"),"NO VÁLIDA") -> NO VÁLIDA | BF15: =ROUND($F15*ROUND(BE15,0),0) -> 0 | BG15: =+IF(BE15>0,IF(BE15>$G15,"NO VÁLIDA","VÁLIDA"),"NO VÁLIDA") -> NO VÁLIDA | BI15: =ROUND($F15*ROUND(BH15,0),0) -> 0 | BJ15: =+IF(BH15>0,IF(BH15>$G15,"NO VÁLIDA","VÁLIDA"),"NO VÁLIDA") -> NO VÁLIDA | BL15: =ROUND($F15*ROUND(BK15,0),0) -> 0 | BM15: =+IF(BK15>0,IF(BK15>$G15,"NO VÁLIDA","VÁLIDA"),"NO VÁLIDA") -> NO VÁLIDA | BO15: =ROUND($F15*ROUND(BN15,0),0) -> 0 | BP15: =+IF(BN15>0,IF(BN15>$G15,"NO VÁLIDA","VÁLIDA"),"NO VÁLIDA") -> NO VÁLIDA | BR15: =ROUND($F15*ROUND(BQ15,0),0) -> 0 | BS15: =+IF(BQ15>0,IF(BQ15>$G15,"NO VÁLIDA","VÁLIDA"),"NO VÁLIDA") -> NO VÁLIDA | BU15: =ROUND($F15*ROUND(BT15,0),0) -> 0 | BV15: =+IF(BT15>0,IF(BT15>$G15,"NO VÁLIDA","VÁLIDA"),"NO VÁLIDA") -> NO VÁLIDA | BX15: =ROUND($F15*ROUND(BW15,0),0) -> 0 | BY15: =+IF(BW15>0,IF(BW15>$G15,"NO VÁLIDA","VÁLIDA"),"NO VÁLIDA") -> NO VÁLIDA | CA15: =ROUND($F15*ROUND(BZ15,0),0) -> 0 | CB15: =+IF(BZ15>0,IF(BZ15>$G15,"NO VÁLIDA","VÁLIDA"),"NO VÁLIDA") -> NO VÁLIDA | CD15: =ROUND($F15*ROUND(CC15,0),0) -> 0 | CE15: =+IF(CC15>0,IF(CC15>$G15,"NO VÁLIDA","VÁLIDA"),"NO VÁLIDA") -> NO VÁLIDA | CG15: =ROUND($F15*ROUND(CF15,0),0) -> 0 | CH15: =+IF(CF15>0,IF(CF15>$G15,"NO VÁLIDA","VÁLIDA"),"NO VÁLIDA") -> NO VÁLIDA | CJ15: =ROUND($F15*ROUND(CI15,0),0) -> 0 | CK15: =+IF(CI15>0,IF(CI15>$G15,"NO VÁLIDA","VÁLIDA"),"NO VÁLIDA") -> NO VÁLIDA | CM15: =ROUND($F15*ROUND(CL15,0),0) -> 0 | CN15: =+IF(CL15>0,IF(CL15>$G15,"NO VÁLIDA","VÁLIDA"),"NO VÁLIDA") -> NO VÁLIDA | CP15: =ROUND($F15*ROUND(CO15,0),0) -> 0 | CQ15: =+IF(CO15>0,IF(CO15>$G15,"NO VÁLIDA","VÁLIDA"),"NO VÁLIDA") -> NO VÁLIDA | CS15: =ROUND($F15*ROUND(CR15,0),0) -> 0 | CT15: =+IF(CR15>0,IF(CR15>$G15,"NO VÁLIDA","VÁLIDA"),"NO VÁLIDA") -> NO VÁLIDA | CV15: =ROUND($F15*ROUND(CU15,0),0) -> 0 | CW15: =+IF(CU15>0,IF(CU15>$G15,"NO VÁLIDA","VÁLIDA"),"NO VÁLIDA") -> NO VÁLIDA | CY15: =ROUND($F15*ROUND(CX15,0),0) -> 0 | CZ15: =+IF(CX15>0,IF(CX15>$G15,"NO VÁLIDA","VÁLIDA"),"NO VÁLIDA") -> NO VÁLIDA | DB15: =ROUND($F15*ROUND(DA15,0),0) -> 0 | DC15: =+IF(DA15>0,IF(DA15>$G15,"NO VÁLIDA","VÁLIDA"),"NO VÁLIDA") -> NO VÁLIDA | DE15: =ROUND($F15*ROUND(DD15,0),0) -> 0 | DF15: =+IF(DD15>0,IF(DD15>$G15,"NO VÁLIDA","VÁLIDA"),"NO VÁLIDA") -> NO VÁLIDA | DH15: =ROUND($F15*ROUND(DG15,0),0) -> 0 | DI15: =+IF(DG15>0,IF(DG15>$G15,"NO VÁLIDA","VÁLIDA"),"NO VÁLIDA") -> NO VÁLIDA | DK15: =ROUND($F15*ROUND(DJ15,0),0) -> 0 | DL15: =+IF(DJ15>0,IF(DJ15>$G15,"NO VÁLIDA","VÁLIDA"),"NO VÁLIDA") -> NO VÁLIDA | DN15: =ROUND($F15*ROUND(DM15,0),0) -> 0 | DO15: =+IF(DM15>0,IF(DM15>$G15,"NO VÁLIDA","VÁLIDA"),"NO VÁLIDA") -> NO VÁLIDA | DQ15: =ROUND($F15*ROUND(DP15,0),0) -> 0 | DR15: =+IF(DP15>0,IF(DP15>$G15,"NO VÁLIDA","VÁLIDA"),"NO VÁLIDA") -> NO VÁLIDA | DT15: =ROUND($F15*ROUND(DS15,0),0) -> 0 | DU15: =+IF(DS15>0,IF(DS15>$G15,"NO VÁLIDA","VÁLIDA"),"NO VÁLIDA") -> NO VÁLIDA | DW15: =ROUND($F15*ROUND(DV15,0),0) -> 0 | DX15: =+IF(DV15>0,IF(DV15>$G15,"NO VÁLIDA","VÁLIDA"),"NO VÁLIDA") -> NO VÁLIDA | DZ15: =ROUND($F15*ROUND(DY15,0),0) -> 0 | EA15: =+IF(DY15>0,IF(DY15>$G15,"NO VÁLIDA","VÁLIDA"),"NO VÁLIDA") -> NO VÁLIDA | EC15: =ROUND($F15*ROUND(EB15,0),0) -> 0 | ED15: =+IF(EB15>0,IF(EB15>$G15,"NO VÁLIDA","VÁLIDA"),"NO VÁLIDA") -> NO VÁLIDA | EF15: =ROUND($F15*ROUND(EE15,0),0) -> 0 | EG15: =+IF(EE15>0,IF(EE15>$G15,"NO VÁLIDA","VÁLIDA"),"NO VÁLIDA") -> NO VÁLIDA | EI15: =ROUND($F15*ROUND(EH15,0),0) -> 0 | EJ15: =+IF(EH15>0,IF(EH15>$G15,"NO VÁLIDA","VÁLIDA"),"NO VÁLIDA") -> NO VÁLIDA | EL15: =ROUND($F15*ROUND(EK15,0),0) -> 0 | EM15: =+IF(EK15>0,IF(EK15>$G15,"NO VÁLIDA","VÁLIDA"),"NO VÁLIDA") -> NO VÁLIDA | EO15: =ROUND($F15*ROUND(EN15,0),0) -> 0 | EP15: =+IF(EN15>0,IF(EN15>$G15,"NO VÁLIDA","VÁLIDA"),"NO VÁLIDA") -> NO VÁLIDA | ER15: =ROUND($F15*ROUND(EQ15,0),0) -> 0 | ES15: =+IF(EQ15>0,IF(EQ15>$G15,"NO VÁLIDA","VÁLIDA"),"NO VÁLIDA") -> NO VÁLIDA | EU15: =ROUND($F15*ROUND(ET15,0),0) -> 0 | EV15: =+IF(ET15>0,IF(ET15>$G15,"NO VÁLIDA","VÁLIDA"),"NO VÁLIDA") -> NO VÁLIDA | EX15: =ROUND($F15*ROUND(EW15,0),0) -> 0 | EY15: =+IF(EW15>0,IF(EW15>$G15,"NO VÁLIDA","VÁLIDA"),"NO VÁLIDA") -> NO VÁLIDA | FA15: =ROUND($F15*ROUND(EZ15,0),0) -> 0 | FB15: =+IF(EZ15>0,IF(EZ15>$G15,"NO VÁLIDA","VÁLIDA"),"NO VÁLIDA") -> NO VÁLIDA | FD15: =ROUND($F15*ROUND(FC15,0),0) -> 0 | FE15: =+IF(FC15>0,IF(FC15>$G15,"NO VÁLIDA","VÁLIDA"),"NO VÁLIDA") -> NO VÁLIDA | FG15: =ROUND($F15*ROUND(FF15,0),0) -> 0 | FH15: =+IF(FF15>0,IF(FF15>$G15,"NO VÁLIDA","VÁLIDA"),"NO VÁLIDA") -> NO VÁLIDA | FJ15: =ROUND($F15*ROUND(FI15,0),0) -> 0 | FK15: =+IF(FI15>0,IF(FI15>$G15,"NO VÁLIDA","VÁLIDA"),"NO VÁLIDA") -> NO VÁLIDA | FM15: =ROUND($F15*ROUND(FL15,0),0) -> 0 | FN15: =+IF(FL15>0,IF(FL15>$G15,"NO VÁLIDA","VÁLIDA"),"NO VÁLIDA") -> NO VÁLIDA | FP15: =ROUND($F15*ROUND(FO15,0),0) -> 0 | FQ15: =+IF(FO15>0,IF(FO15>$G15,"NO VÁLIDA","VÁLIDA"),"NO VÁLIDA") -> NO VÁLIDA | FS15: =ROUND($F15*ROUND(FR15,0),0) -> 0 | FT15: =+IF(FR15>0,IF(FR15>$G15,"NO VÁLIDA","VÁLIDA"),"NO VÁLIDA") -> NO VÁLIDA | FV15: =ROUND($F15*ROUND(FU15,0),0) -> 0 | FW15: =+IF(FU15>0,IF(FU15>$G15,"NO VÁLIDA","VÁLIDA"),"NO VÁLIDA") -> NO VÁLIDA | FY15: =ROUND($F15*ROUND(FX15,0),0) -> 0 | FZ15: =+IF(FX15>0,IF(FX15>$G15,"NO VÁLIDA","VÁLIDA"),"NO VÁLIDA") -> NO VÁLIDA | GB15: =ROUND($F15*ROUND(GA15,0),0) -> 0 | GC15: =+IF(GA15>0,IF(GA15>$G15,"NO VÁLIDA","VÁLIDA"),"NO VÁLIDA") -> NO VÁLIDA | GE15: =ROUND($F15*ROUND(GD15,0),0) -> 0 | GF15: =+IF(GD15>0,IF(GD15>$G15,"NO VÁLIDA","VÁLIDA"),"NO VÁLIDA") -> NO VÁLIDA | GH15: =ROUND($F15*ROUND(GG15,0),0) -> 0 | GI15: =+IF(GG15>0,IF(GG15>$G15,"NO VÁLIDA","VÁLIDA"),"NO VÁLIDA") -> NO VÁLIDA | GK15: =ROUND($F15*ROUND(GJ15,0),0) -> 0 | GL15: =+IF(GJ15>0,IF(GJ15>$G15,"NO VÁLIDA","VÁLIDA"),"NO VÁLIDA") -> NO VÁLIDA | GN15: =ROUND($F15*ROUND(GM15,0),0) -> 0 | GO15: =+IF(GM15>0,IF(GM15>$G15,"NO VÁLIDA","VÁLIDA"),"NO VÁLIDA") -> NO VÁLIDA | GQ15: =ROUND($F15*ROUND(GP15,0),0) -> 0 | GR15: =+IF(GP15>0,IF(GP15>$G15,"NO VÁLIDA","VÁLIDA"),"NO VÁLIDA") -> NO VÁLIDA | GT15: =ROUND($F15*ROUND(GS15,0),0) -> 0 | GU15: =+IF(GS15>0,IF(GS15>$G15,"NO VÁLIDA","VÁLIDA"),"NO VÁLIDA") -> NO VÁLIDA | GW15: =ROUND($F15*ROUND(GV15,0),0) -> 0 | GX15: =+IF(GV15>0,IF(GV15>$G15,"NO VÁLIDA","VÁLIDA"),"NO VÁLIDA") -> NO VÁLIDA | GZ15: =ROUND($F15*ROUND(GY15,0),0) -> 0 | HA15: =+IF(GY15>0,IF(GY15>$G15,"NO VÁLIDA","VÁLIDA"),"NO VÁLIDA") -> NO VÁLIDA | HC15: =ROUND($F15*ROUND(HB15,0),0) -> 0 | HD15: =+IF(HB15>0,IF(HB15>$G15,"NO VÁLIDA","VÁLIDA"),"NO VÁLIDA") -> NO VÁLIDA | HF15: =ROUND($F15*ROUND(HE15,0),0) -> 0 | HG15: =+IF(HE15>0,IF(HE15>$G15,"NO VÁLIDA","VÁLIDA"),"NO VÁLIDA") -> NO VÁLIDA | HI15: =ROUND($F15*ROUND(HH15,0),0) -> 0 | HJ15: =+IF(HH15>0,IF(HH15>$G15,"NO VÁLIDA","VÁLIDA"),"NO VÁLIDA") -> NO VÁLIDA | HL15: =ROUND($F15*ROUND(HK15,0),0) -> 0 | HM15: =+IF(HK15>0,IF(HK15>$G15,"NO VÁLIDA","VÁLIDA"),"NO VÁLIDA") -> NO VÁLIDA | HO15: =ROUND($F15*ROUND(HN15,0),0) -> 0 | HP15: =+IF(HN15>0,IF(HN15>$G15,"NO VÁLIDA","VÁLIDA"),"NO VÁLIDA") -> NO VÁLIDA | HR15: =ROUND($F15*ROUND(HQ15,0),0) -> 0 | HS15: =+IF(HQ15>0,IF(HQ15>$G15,"NO VÁLIDA","VÁLIDA"),"NO VÁLIDA") -> NO VÁLIDA | HU15: =ROUND($F15*ROUND(HT15,0),0) -> 0 | HV15: =+IF(HT15>0,IF(HT15>$G15,"NO VÁLIDA","VÁLIDA"),"NO VÁLIDA") -> NO VÁLIDA | HX15: =ROUND($F15*ROUND(HW15,0),0) -> 0 | HY15: =+IF(HW15>0,IF(HW15>$G15,"NO VÁLIDA","VÁLIDA"),"NO VÁLIDA") -> NO VÁLIDA | IA15: =ROUND($F15*ROUND(HZ15,0),0) -> 0 | IB15: =+IF(HZ15>0,IF(HZ15>$G15,"NO VÁLIDA","VÁLIDA"),"NO VÁLIDA") -> NO VÁLIDA | ID15: =ROUND($F15*ROUND(IC15,0),0) -> 0 | IE15: =+IF(IC15>0,IF(IC15>$G15,"NO VÁLIDA","VÁLIDA"),"NO VÁLIDA") -> NO VÁLIDA | IG15: =ROUND($F15*ROUND(IF15,0),0) -> 0 | IH15: =+IF(IF15>0,IF(IF15>$G15,"NO VÁLIDA","VÁLIDA"),"NO VÁLIDA") -> NO VÁLIDA | IJ15: =ROUND($F15*ROUND(II15,0),0) -> 0 | IK15: =+IF(II15>0,IF(II15>$G15,"NO VÁLIDA","VÁLIDA"),"NO VÁLIDA") -> NO VÁLIDA | IM15: =ROUND($F15*ROUND(IL15,0),0) -> 0 | IN15: =+IF(IL15>0,IF(IL15>$G15,"NO VÁLIDA","VÁLIDA"),"NO VÁLIDA") -> NO VÁLIDA | IP15: =ROUND($F15*ROUND(IO15,0),0) -> 0 | IQ15: =+IF(IO15>0,IF(IO15>$G15,"NO VÁLIDA","VÁLIDA"),"NO VÁLIDA") -> NO VÁLIDA | IS15: =ROUND($F15*ROUND(IR15,0),0) -> 0 | IT15: =+IF(IR15>0,IF(IR15>$G15,"NO VÁLIDA","VÁLIDA"),"NO VÁLIDA") -> NO VÁLIDA | IV15: =ROUND($F15*ROUND(IU15,0),0) -> 0 | IW15: =+IF(IU15>0,IF(IU15>$G15,"NO VÁLIDA","VÁLIDA"),"NO VÁLIDA") -> NO VÁLIDA | IY15: =ROUND($F15*ROUND(IX15,0),0) -> 0 | IZ15: =+IF(IX15>0,IF(IX15>$G15,"NO VÁLIDA","VÁLIDA"),"NO VÁLIDA") -> NO VÁLIDA | JB15: =ROUND($F15*ROUND(JA15,0),0) -> 0 | JC15: =+IF(JA15>0,IF(JA15>$G15,"NO VÁLIDA","VÁLIDA"),"NO VÁLIDA") -> NO VÁLIDA | JE15: =ROUND($F15*ROUND(JD15,0),0) -> 0 | JF15: =+IF(JD15>0,IF(JD15>$G15,"NO VÁLIDA","VÁLIDA"),"NO VÁLIDA") -> NO VÁLIDA | JH15: =ROUND($F15*ROUND(JG15,0),0) -> 0 | JI15: =+IF(JG15>0,IF(JG15>$G15,"NO VÁLIDA","VÁLIDA"),"NO VÁLIDA") -> NO VÁLIDA | JK15: =ROUND($F15*ROUND(JJ15,0),0) -> 0 | JL15: =+IF(JJ15>0,IF(JJ15>$G15,"NO VÁLIDA","VÁLIDA"),"NO VÁLIDA") -> NO VÁLIDA | JN15: =ROUND($F15*ROUND(JM15,0),0) -> 0 | JO15: =+IF(JM15>0,IF(JM15>$G15,"NO VÁLIDA","VÁLIDA"),"NO VÁLIDA") -> NO VÁLIDA | JQ15: =ROUND($F15*ROUND(JP15,0),0) -> 0 | JR15: =+IF(JP15>0,IF(JP15>$G15,"NO VÁLIDA","VÁLIDA"),"NO VÁLIDA") -> NO VÁLIDA | JT15: =ROUND($F15*ROUND(JS15,0),0) -> 0 | JU15: =+IF(JS15>0,IF(JS15>$G15,"NO VÁLIDA","VÁLIDA"),"NO VÁLIDA") -> NO VÁLIDA | JW15: =ROUND($F15*ROUND(JV15,0),0) -> 0 | JX15: =+IF(JV15>0,IF(JV15>$G15,"NO VÁLIDA","VÁLIDA"),"NO VÁLIDA") -> NO VÁLIDA | JZ15: =ROUND($F15*ROUND(JY15,0),0) -> 0 | KA15: =+IF(JY15>0,IF(JY15>$G15,"NO VÁLIDA","VÁLIDA"),"NO VÁLIDA") -> NO VÁLIDA | KC15: =ROUND($F15*ROUND(KB15,0),0) -> 0 | KD15: =+IF(KB15>0,IF(KB15>$G15,"NO VÁLIDA","VÁLIDA"),"NO VÁLIDA") -> NO VÁLIDA | KF15: =ROUND($F15*ROUND(KE15,0),0) -> 0 | KG15: =+IF(KE15>0,IF(KE15>$G15,"NO VÁLIDA","VÁLIDA"),"NO VÁLIDA") -> NO VÁLIDA | KI15: =ROUND($F15*ROUND(KH15,0),0) -> 0 | KJ15: =+IF(KH15>0,IF(KH15>$G15,"NO VÁLIDA","VÁLIDA"),"NO VÁLIDA") -> NO VÁLIDA | KL15: =ROUND($F15*ROUND(KK15,0),0) -> 0 | KM15: =+IF(KK15>0,IF(KK15>$G15,"NO VÁLIDA","VÁLIDA"),"NO VÁLIDA") -> NO VÁLIDA | KO15: =ROUND($F15*ROUND(KN15,0),0) -> 0 | KP15: =+IF(KN15>0,IF(KN15>$G15,"NO VÁLIDA","VÁLIDA"),"NO VÁLIDA") -> NO VÁLIDA | KR15: =ROUND($F15*ROUND(KQ15,0),0) -> 0 | KS15: =+IF(KQ15>0,IF(KQ15>$G15,"NO VÁLIDA","VÁLIDA"),"NO VÁLIDA") -> NO VÁLIDA | KU15: =ROUND($F15*ROUND(KT15,0),0) -> 0 | KV15: =+IF(KT15>0,IF(KT15>$G15,"NO VÁLIDA","VÁLIDA"),"NO VÁLIDA") -> NO VÁLIDA
B16: 2 | C16: SV-07 | D16: MARCAS VIALES CON PINTURA EN FRIO ACRÍLICA PURA BASE AGUA | E16: M2 | F16: ='[2]PRESUPUESTO OFICIAL'!I16 -> 1958 | G16: 24376 | H16: =+F16*G16 -> 47728208 | I16: 23591 | J16: =ROUND($F16*ROUND(I16,0),0) -> 46191178 | K16: =+IF(I16>0,IF(I16>$G16,"NO VÁLIDA","VÁLIDA"),"NO VÁLIDA") -> VÁLIDA | M16: =ROUND($F16*ROUND(L16,0),0) -> 0 | N16: =+IF(L16>0,IF(L16>$G16,"NO VÁLIDA","VÁLIDA"),"NO VÁLIDA") -> NO VÁLIDA | O16: 24006 | P16: =ROUND($F16*ROUND(O16,0),0) -> 47003748 | Q16: =+IF(O16>0,IF(O16>$G16,"NO VÁLIDA","VÁLIDA"),"NO VÁLIDA") -> VÁLIDA | R16: 22899 | S16: =ROUND($F16*ROUND(R16,0),0) -> 44836242 | T16: =+IF(R16>0,IF(R16>$G16,"NO VÁLIDA","VÁLIDA"),"NO VÁLIDA") -> VÁLIDA | U16: 22825 | V16: =ROUND($F16*ROUND(U16,0),0) -> 44691350 | W16: =+IF(U16>0,IF(U16>$G16,"NO VÁLIDA","VÁLIDA"),"NO VÁLIDA") -> VÁLIDA | X16: 23000 | Y16: =ROUND($F16*ROUND(X16,0),0) -> 45034000 | Z16: =+IF(X16>0,IF(X16>$G16,"NO VÁLIDA","VÁLIDA"),"NO VÁLIDA") -> VÁLIDA | AA16: 15318 | AB16: =ROUND($F16*ROUND(AA16,0),0) -> 29992644 | AC16: =+IF(AA16>0,IF(AA16>$G16,"NO VÁLIDA","VÁLIDA"),"NO VÁLIDA") -> VÁLIDA | AE16: =ROUND($F16*ROUND(AD16,0),0) -> 0 | AF16: =+IF(AD16>0,IF(AD16>$G16,"NO VÁLIDA","VÁLIDA"),"NO VÁLIDA") -> NO VÁLIDA | AH16: =ROUND($F16*ROUND(AG16,0),0) -> 0 | AI16: =+IF(AG16>0,IF(AG16>$G16,"NO VÁLIDA","VÁLIDA"),"NO VÁLIDA") -> NO VÁLIDA | AK16: =ROUND($F16*ROUND(AJ16,0),0) -> 0 | AL16: =+IF(AJ16>0,IF(AJ16>$G16,"NO VÁLIDA","VÁLIDA"),"NO VÁLIDA") -> NO VÁLIDA
B17: 3 | C17: SV-12 | D17: LÍNEA DEMARCACION EN PINTURA ACRILICA CON MICROESFERAS | E17: M | F17: ='[2]PRESUPUESTO OFICIAL'!I17 -> 15000 | G17: 2081 | H17: =+F17*G17 -> 31215000 | I17: 2077 | J17: =ROUND($F17*ROUND(I17,0),0) -> 31155000 | K17: =+IF(I17>0,IF(I17>$G17,"NO VÁLIDA","VÁLIDA"),"NO VÁLIDA") -> VÁLIDA | M17: =ROUND($F17*ROUND(L17,0),0) -> 0 | N17: =+IF(L17>0,IF(L17>$G17,"NO VÁLIDA","VÁLIDA"),"NO VÁLIDA") -> NO VÁLIDA | O17: 2081 | P17: =ROUND($F17*ROUND(O17,0),0) -> 31215000 | Q17: =+IF(O17>0,IF(O17>$G17,"NO VÁLIDA","VÁLIDA"),"NO VÁLIDA") -> VÁLIDA | R17: 2078 | S17: =ROUND($F17*ROUND(R17,0),0) -> 31170000 | T17: =+IF(R17>0,IF(R17>$G17,"NO VÁLIDA","VÁLIDA"),"NO VÁLIDA") -> VÁLIDA | U17: 1978 | V17: =ROUND($F17*ROUND(U17,0),0) -> 29670000 | W17: =+IF(U17>0,IF(U17>$G17,"NO VÁLIDA","VÁLIDA"),"NO VÁLIDA") -> VÁLIDA | X17: 1800 | Y17: =ROUND($F17*ROUND(X17,0),0) -> 27000000 | Z17: =+IF(X17>0,IF(X17>$G17,"NO VÁLIDA","VÁLIDA"),"NO VÁLIDA") -> VÁLIDA | AA17: 1550 | AB17: =ROUND($F17*ROUND(AA17,0),0) -> 23250000 | AC17: =+IF(AA17>0,IF(AA17>$G17,"NO VÁLIDA","VÁLIDA"),"NO VÁLIDA") -> VÁLIDA | AE17: =ROUND($F17*ROUND(AD17,0),0) -> 0 | AF17: =+IF(AD17>0,IF(AD17>$G17,"NO VÁLIDA","VÁLIDA"),"NO VÁLIDA") -> NO VÁLIDA | AH17: =ROUND($F17*ROUND(AG17,0),0) -> 0 | AI17: =+IF(AG17>0,IF(AG17>$G17,"NO VÁLIDA","VÁLIDA"),"NO VÁLIDA") -> NO VÁLIDA | AK17: =ROUND($F17*ROUND(AJ17,0),0) -> 0 | AL17: =+IF(AJ17>0,IF(AJ17>$G17,"NO VÁLIDA","VÁLIDA"),"NO VÁLIDA") -> NO VÁLIDA
B18: 4 | C18: SV-19 | D18: SUMINISTRO E INSTALACIÓN DE SEÑAL VERTICAL SP-47B | E18: UNIDAD | F18: ='[2]PRESUPUESTO OFICIAL'!I18 -> 12 | G18: 413244 | H18: =+F18*G18 -> 4958928 | I18: 410651 | J18: =ROUND($F18*ROUND(I18,0),0) -> 4927812 | K18: =+IF(I18>0,IF(I18>$G18,"NO VÁLIDA","VÁLIDA"),"NO VÁLIDA") -> VÁLIDA | M18: =ROUND($F18*ROUND(L18,0),0) -> 0 | N18: =+IF(L18>0,IF(L18>$G18,"NO VÁLIDA","VÁLIDA"),"NO VÁLIDA") -> NO VÁLIDA | O18: 413244 | P18: =ROUND($F18*ROUND(O18,0),0) -> 4958928 | Q18: =+IF(O18>0,IF(O18>$G18,"NO VÁLIDA","VÁLIDA"),"NO VÁLIDA") -> VÁLIDA | R18: 406387 | S18: =ROUND($F18*ROUND(R18,0),0) -> 4876644 | T18: =+IF(R18>0,IF(R18>$G18,"NO VÁLIDA","VÁLIDA"),"NO VÁLIDA") -> VÁLIDA | U18: 413244 | V18: =ROUND($F18*ROUND(U18,0),0) -> 4958928 | W18: =+IF(U18>0,IF(U18>$G18,"NO VÁLIDA","VÁLIDA"),"NO VÁLIDA") -> VÁLIDA | X18: 403000 | Y18: =ROUND($F18*ROUND(X18,0),0) -> 4836000 | Z18: =+IF(X18>0,IF(X18>$G18,"NO VÁLIDA","VÁLIDA"),"NO VÁLIDA") -> VÁLIDA | AA18: 381227 | AB18: =ROUND($F18*ROUND(AA18,0),0) -> 4574724 | AC18: =+IF(AA18>0,IF(AA18>$G18,"NO VÁLIDA","VÁLIDA"),"NO VÁLIDA") -> VÁLIDA | AE18: =ROUND($F18*ROUND(AD18,0),0) -> 0 | AF18: =+IF(AD18>0,IF(AD18>$G18,"NO VÁLIDA","VÁLIDA"),"NO VÁLIDA") -> NO VÁLIDA | AH18: =ROUND($F18*ROUND(AG18,0),0) -> 0 | AI18: =+IF(AG18>0,IF(AG18>$G18,"NO VÁLIDA","VÁLIDA"),"NO VÁLIDA") -> NO VÁLIDA | AK18: =ROUND($F18*ROUND(AJ18,0),0) -> 0 | AL18: =+IF(AJ18>0,IF(AJ18>$G18,"NO VÁLIDA","VÁLIDA"),"NO VÁLIDA") -> NO VÁLIDA
B19: 5 | C19: SV-20 | D19: SUMINISTRO E INSTALACIÓN DE SEÑAL VERTICAL SP-47C | E19: UNIDAD | F19: ='[2]PRESUPUESTO OFICIAL'!I19 -> 12 | G19: 407053 | H19: =+F19*G19 -> 4884636 | I19: 404522 | J19: =ROUND($F19*ROUND(I19,0),0) -> 4854264 | K19: =+IF(I19>0,IF(I19>$G19,"NO VÁLIDA","VÁLIDA"),"NO VÁLIDA") -> VÁLIDA | M19: =ROUND($F19*ROUND(L19,0),0) -> 0 | N19: =+IF(L19>0,IF(L19>$G19,"NO VÁLIDA","VÁLIDA"),"NO VÁLIDA") -> NO VÁLIDA | O19: 407053 | P19: =ROUND($F19*ROUND(O19,0),0) -> 4884636 | Q19: =+IF(O19>0,IF(O19>$G19,"NO VÁLIDA","VÁLIDA"),"NO VÁLIDA") -> VÁLIDA | R19: 400196 | S19: =ROUND($F19*ROUND(R19,0),0) -> 4802352 | T19: =+IF(R19>0,IF(R19>$G19,"NO VÁLIDA","VÁLIDA"),"NO VÁLIDA") -> VÁLIDA | U19: 407053 | V19: =ROUND($F19*ROUND(U19,0),0) -> 4884636 | W19: =+IF(U19>0,IF(U19>$G19,"NO VÁLIDA","VÁLIDA"),"NO VÁLIDA") -> VÁLIDA | X19: 402000 | Y19: =ROUND($F19*ROUND(X19,0),0) -> 4824000 | Z19: =+IF(X19>0,IF(X19>$G19,"NO VÁLIDA","VÁLIDA"),"NO VÁLIDA") -> VÁLIDA | AA19: 366345 | AB19: =ROUND($F19*ROUND(AA19,0),0) -> 4396140 | AC19: =+IF(AA19>0,IF(AA19>$G19,"NO VÁLIDA","VÁLIDA"),"NO VÁLIDA") -> VÁLIDA | AE19: =ROUND($F19*ROUND(AD19,0),0) -> 0 | AF19: =+IF(AD19>0,IF(AD19>$G19,"NO VÁLIDA","VÁLIDA"),"NO VÁLIDA") -> NO VÁLIDA | AH19: =ROUND($F19*ROUND(AG19,0),0) -> 0 | AI19: =+IF(AG19>0,IF(AG19>$G19,"NO VÁLIDA","VÁLIDA"),"NO VÁLIDA") -> NO VÁLIDA | AK19: =ROUND($F19*ROUND(AJ19,0),0) -> 0 | AL19: =+IF(AJ19>0,IF(AJ19>$G19,"NO VÁLIDA","VÁLIDA"),"NO VÁLIDA") -> NO VÁLIDA
AN20: =ROUND($F20*ROUND(AM20,0),0) -> 0 | AO20: =+IF(AM20>0,IF(AM20>$G20,"NO VÁLIDA","VÁLIDA"),"NO VÁLIDA") -> NO VÁLIDA | AQ20: =ROUND($F20*ROUND(AP20,0),0) -> 0 | AR20: =+IF(AP20>0,IF(AP20>$G20,"NO VÁLIDA","VÁLIDA"),"NO VÁLIDA") -> NO VÁLIDA | AT20: =ROUND($F20*ROUND(AS20,0),0) -> 0 | AU20: =+IF(AS20>0,IF(AS20>$G20,"NO VÁLIDA","VÁLIDA"),"NO VÁLIDA") -> NO VÁLIDA | AW20: =ROUND($F20*ROUND(AV20,0),0) -> 0 | AX20: =+IF(AV20>0,IF(AV20>$G20,"NO VÁLIDA","VÁLIDA"),"NO VÁLIDA") -> NO VÁLIDA | AZ20: =ROUND($F20*ROUND(AY20,0),0) -> 0 | BA20: =+IF(AY20>0,IF(AY20>$G20,"NO VÁLIDA","VÁLIDA"),"NO VÁLIDA") -> NO VÁLIDA | BC20: =ROUND($F20*ROUND(BB20,0),0) -> 0 | BD20: =+IF(BB20>0,IF(BB20>$G20,"NO VÁLIDA","VÁLIDA"),"NO VÁLIDA") -> NO VÁLIDA | BF20: =ROUND($F20*ROUND(BE20,0),0) -> 0 | BG20: =+IF(BE20>0,IF(BE20>$G20,"NO VÁLIDA","VÁLIDA"),"NO VÁLIDA") -> NO VÁLIDA | BI20: =ROUND($F20*ROUND(BH20,0),0) -> 0 | BJ20: =+IF(BH20>0,IF(BH20>$G20,"NO VÁLIDA","VÁLIDA"),"NO VÁLIDA") -> NO VÁLIDA | BL20: =ROUND($F20*ROUND(BK20,0),0) -> 0 | BM20: =+IF(BK20>0,IF(BK20>$G20,"NO VÁLIDA","VÁLIDA"),"NO VÁLIDA") -> NO VÁLIDA | BO20: =ROUND($F20*ROUND(BN20,0),0) -> 0 | BP20: =+IF(BN20>0,IF(BN20>$G20,"NO VÁLIDA","VÁLIDA"),"NO VÁLIDA") -> NO VÁLIDA | BR20: =ROUND($F20*ROUND(BQ20,0),0) -> 0 | BS20: =+IF(BQ20>0,IF(BQ20>$G20,"NO VÁLIDA","VÁLIDA"),"NO VÁLIDA") -> NO VÁLIDA | BU20: =ROUND($F20*ROUND(BT20,0),0) -> 0 | BV20: =+IF(BT20>0,IF(BT20>$G20,"NO VÁLIDA","VÁLIDA"),"NO VÁLIDA") -> NO VÁLIDA | BX20: =ROUND($F20*ROUND(BW20,0),0) -> 0 | BY20: =+IF(BW20>0,IF(BW20>$G20,"NO VÁLIDA","VÁLIDA"),"NO VÁLIDA") -> NO VÁLIDA | CA20: =ROUND($F20*ROUND(BZ20,0),0) -> 0 | CB20: =+IF(BZ20>0,IF(BZ20>$G20,"NO VÁLIDA","VÁLIDA"),"NO VÁLIDA") -> NO VÁLIDA | CD20: =ROUND($F20*ROUND(CC20,0),0) -> 0 | CE20: =+IF(CC20>0,IF(CC20>$G20,"NO VÁLIDA","VÁLIDA"),"NO VÁLIDA") -> NO VÁLIDA | CG20: =ROUND($F20*ROUND(CF20,0),0) -> 0 | CH20: =+IF(CF20>0,IF(CF20>$G20,"NO VÁLIDA","VÁLIDA"),"NO VÁLIDA") -> NO VÁLIDA | CJ20: =ROUND($F20*ROUND(CI20,0),0) -> 0 | CK20: =+IF(CI20>0,IF(CI20>$G20,"NO VÁLIDA","VÁLIDA"),"NO VÁLIDA") -> NO VÁLIDA | CM20: =ROUND($F20*ROUND(CL20,0),0) -> 0 | CN20: =+IF(CL20>0,IF(CL20>$G20,"NO VÁLIDA","VÁLIDA"),"NO VÁLIDA") -> NO VÁLIDA | CP20: =ROUND($F20*ROUND(CO20,0),0) -> 0 | CQ20: =+IF(CO20>0,IF(CO20>$G20,"NO VÁLIDA","VÁLIDA"),"NO VÁLIDA") -> NO VÁLIDA | CS20: =ROUND($F20*ROUND(CR20,0),0) -> 0 | CT20: =+IF(CR20>0,IF(CR20>$G20,"NO VÁLIDA","VÁLIDA"),"NO VÁLIDA") -> NO VÁLIDA | CV20: =ROUND($F20*ROUND(CU20,0),0) -> 0 | CW20: =+IF(CU20>0,IF(CU20>$G20,"NO VÁLIDA","VÁLIDA"),"NO VÁLIDA") -> NO VÁLIDA | CY20: =ROUND($F20*ROUND(CX20,0),0) -> 0 | CZ20: =+IF(CX20>0,IF(CX20>$G20,"NO VÁLIDA","VÁLIDA"),"NO VÁLIDA") -> NO VÁLIDA | DB20: =ROUND($F20*ROUND(DA20,0),0) -> 0 | DC20: =+IF(DA20>0,IF(DA20>$G20,"NO VÁLIDA","VÁLIDA"),"NO VÁLIDA") -> NO VÁLIDA | DE20: =ROUND($F20*ROUND(DD20,0),0) -> 0 | DF20: =+IF(DD20>0,IF(DD20>$G20,"NO VÁLIDA","VÁLIDA"),"NO VÁLIDA") -> NO VÁLIDA | DH20: =ROUND($F20*ROUND(DG20,0),0) -> 0 | DI20: =+IF(DG20>0,IF(DG20>$G20,"NO VÁLIDA","VÁLIDA"),"NO VÁLIDA") -> NO VÁLIDA | DK20: =ROUND($F20*ROUND(DJ20,0),0) -> 0 | DL20: =+IF(DJ20>0,IF(DJ20>$G20,"NO VÁLIDA","VÁLIDA"),"NO VÁLIDA") -> NO VÁLIDA | DN20: =ROUND($F20*ROUND(DM20,0),0) -> 0 | DO20: =+IF(DM20>0,IF(DM20>$G20,"NO VÁLIDA","VÁLIDA"),"NO VÁLIDA") -> NO VÁLIDA | DQ20: =ROUND($F20*ROUND(DP20,0),0) -> 0 | DR20: =+IF(DP20>0,IF(DP20>$G20,"NO VÁLIDA","VÁLIDA"),"NO VÁLIDA") -> NO VÁLIDA | DT20: =ROUND($F20*ROUND(DS20,0),0) -> 0 | DU20: =+IF(DS20>0,IF(DS20>$G20,"NO VÁLIDA","VÁLIDA"),"NO VÁLIDA") -> NO VÁLIDA | DW20: =ROUND($F20*ROUND(DV20,0),0) -> 0 | DX20: =+IF(DV20>0,IF(DV20>$G20,"NO VÁLIDA","VÁLIDA"),"NO VÁLIDA") -> NO VÁLIDA | DZ20: =ROUND($F20*ROUND(DY20,0),0) -> 0 | EA20: =+IF(DY20>0,IF(DY20>$G20,"NO VÁLIDA","VÁLIDA"),"NO VÁLIDA") -> NO VÁLIDA | EC20: =ROUND($F20*ROUND(EB20,0),0) -> 0 | ED20: =+IF(EB20>0,IF(EB20>$G20,"NO VÁLIDA","VÁLIDA"),"NO VÁLIDA") -> NO VÁLIDA | EF20: =ROUND($F20*ROUND(EE20,0),0) -> 0 | EG20: =+IF(EE20>0,IF(EE20>$G20,"NO VÁLIDA","VÁLIDA"),"NO VÁLIDA") -> NO VÁLIDA | EI20: =ROUND($F20*ROUND(EH20,0),0) -> 0 | EJ20: =+IF(EH20>0,IF(EH20>$G20,"NO VÁLIDA","VÁLIDA"),"NO VÁLIDA") -> NO VÁLIDA | EL20: =ROUND($F20*ROUND(EK20,0),0) -> 0 | EM20: =+IF(EK20>0,IF(EK20>$G20,"NO VÁLIDA","VÁLIDA"),"NO VÁLIDA") -> NO VÁLIDA | EO20: =ROUND($F20*ROUND(EN20,0),0) -> 0 | EP20: =+IF(EN20>0,IF(EN20>$G20,"NO VÁLIDA","VÁLIDA"),"NO VÁLIDA") -> NO VÁLIDA | ER20: =ROUND($F20*ROUND(EQ20,0),0) -> 0 | ES20: =+IF(EQ20>0,IF(EQ20>$G20,"NO VÁLIDA","VÁLIDA"),"NO VÁLIDA") -> NO VÁLIDA | EU20: =ROUND($F20*ROUND(ET20,0),0) -> 0 | EV20: =+IF(ET20>0,IF(ET20>$G20,"NO VÁLIDA","VÁLIDA"),"NO VÁLIDA") -> NO VÁLIDA | EX20: =ROUND($F20*ROUND(EW20,0),0) -> 0 | EY20: =+IF(EW20>0,IF(EW20>$G20,"NO VÁLIDA","VÁLIDA"),"NO VÁLIDA") -> NO VÁLIDA | FA20: =ROUND($F20*ROUND(EZ20,0),0) -> 0 | FB20: =+IF(EZ20>0,IF(EZ20>$G20,"NO VÁLIDA","VÁLIDA"),"NO VÁLIDA") -> NO VÁLIDA | FD20: =ROUND($F20*ROUND(FC20,0),0) -> 0 | FE20: =+IF(FC20>0,IF(FC20>$G20,"NO VÁLIDA","VÁLIDA"),"NO VÁLIDA") -> NO VÁLIDA | FG20: =ROUND($F20*ROUND(FF20,0),0) -> 0 | FH20: =+IF(FF20>0,IF(FF20>$G20,"NO VÁLIDA","VÁLIDA"),"NO VÁLIDA") -> NO VÁLIDA | FJ20: =ROUND($F20*ROUND(FI20,0),0) -> 0 | FK20: =+IF(FI20>0,IF(FI20>$G20,"NO VÁLIDA","VÁLIDA"),"NO VÁLIDA") -> NO VÁLIDA | FM20: =ROUND($F20*ROUND(FL20,0),0) -> 0 | FN20: =+IF(FL20>0,IF(FL20>$G20,"NO VÁLIDA","VÁLIDA"),"NO VÁLIDA") -> NO VÁLIDA | FP20: =ROUND($F20*ROUND(FO20,0),0) -> 0 | FQ20: =+IF(FO20>0,IF(FO20>$G20,"NO VÁLIDA","VÁLIDA"),"NO VÁLIDA") -> NO VÁLIDA | FS20: =ROUND($F20*ROUND(FR20,0),0) -> 0 | FT20: =+IF(FR20>0,IF(FR20>$G20,"NO VÁLIDA","VÁLIDA"),"NO VÁLIDA") -> NO VÁLIDA | FV20: =ROUND($F20*ROUND(FU20,0),0) -> 0 | FW20: =+IF(FU20>0,IF(FU20>$G20,"NO VÁLIDA","VÁLIDA"),"NO VÁLIDA") -> NO VÁLIDA | FY20: =ROUND($F20*ROUND(FX20,0),0) -> 0 | FZ20: =+IF(FX20>0,IF(FX20>$G20,"NO VÁLIDA","VÁLIDA"),"NO VÁLIDA") -> NO VÁLIDA | GB20: =ROUND($F20*ROUND(GA20,0),0) -> 0 | GC20: =+IF(GA20>0,IF(GA20>$G20,"NO VÁLIDA","VÁLIDA"),"NO VÁLIDA") -> NO VÁLIDA | GE20: =ROUND($F20*ROUND(GD20,0),0) -> 0 | GF20: =+IF(GD20>0,IF(GD20>$G20,"NO VÁLIDA","VÁLIDA"),"NO VÁLIDA") -> NO VÁLIDA | GH20: =ROUND($F20*ROUND(GG20,0),0) -> 0 | GI20: =+IF(GG20>0,IF(GG20>$G20,"NO VÁLIDA","VÁLIDA"),"NO VÁLIDA") -> NO VÁLIDA | GK20: =ROUND($F20*ROUND(GJ20,0),0) -> 0 | GL20: =+IF(GJ20>0,IF(GJ20>$G20,"NO VÁLIDA","VÁLIDA"),"NO VÁLIDA") -> NO VÁLIDA | GN20: =ROUND($F20*ROUND(GM20,0),0) -> 0 | GO20: =+IF(GM20>0,IF(GM20>$G20,"NO VÁLIDA","VÁLIDA"),"NO VÁLIDA") -> NO VÁLIDA | GQ20: =ROUND($F20*ROUND(GP20,0),0) -> 0 | GR20: =+IF(GP20>0,IF(GP20>$G20,"NO VÁLIDA","VÁLIDA"),"NO VÁLIDA") -> NO VÁLIDA | GT20: =ROUND($F20*ROUND(GS20,0),0) -> 0 | GU20: =+IF(GS20>0,IF(GS20>$G20,"NO VÁLIDA","VÁLIDA"),"NO VÁLIDA") -> NO VÁLIDA | GW20: =ROUND($F20*ROUND(GV20,0),0) -> 0 | GX20: =+IF(GV20>0,IF(GV20>$G20,"NO VÁLIDA","VÁLIDA"),"NO VÁLIDA") -> NO VÁLIDA | GZ20: =ROUND($F20*ROUND(GY20,0),0) -> 0 | HA20: =+IF(GY20>0,IF(GY20>$G20,"NO VÁLIDA","VÁLIDA"),"NO VÁLIDA") -> NO VÁLIDA | HC20: =ROUND($F20*ROUND(HB20,0),0) -> 0 | HD20: =+IF(HB20>0,IF(HB20>$G20,"NO VÁLIDA","VÁLIDA"),"NO VÁLIDA") -> NO VÁLIDA | HF20: =ROUND($F20*ROUND(HE20,0),0) -> 0 | HG20: =+IF(HE20>0,IF(HE20>$G20,"NO VÁLIDA","VÁLIDA"),"NO VÁLIDA") -> NO VÁLIDA | HI20: =ROUND($F20*ROUND(HH20,0),0) -> 0 | HJ20: =+IF(HH20>0,IF(HH20>$G20,"NO VÁLIDA","VÁLIDA"),"NO VÁLIDA") -> NO VÁLIDA | HL20: =ROUND($F20*ROUND(HK20,0),0) -> 0 | HM20: =+IF(HK20>0,IF(HK20>$G20,"NO VÁLIDA","VÁLIDA"),"NO VÁLIDA") -> NO VÁLIDA | HO20: =ROUND($F20*ROUND(HN20,0),0) -> 0 | HP20: =+IF(HN20>0,IF(HN20>$G20,"NO VÁLIDA","VÁLIDA"),"NO VÁLIDA") -> NO VÁLIDA | HR20: =ROUND($F20*ROUND(HQ20,0),0) -> 0 | HS20: =+IF(HQ20>0,IF(HQ20>$G20,"NO VÁLIDA","VÁLIDA"),"NO VÁLIDA") -> NO VÁLIDA | HU20: =ROUND($F20*ROUND(HT20,0),0) -> 0 | HV20: =+IF(HT20>0,IF(HT20>$G20,"NO VÁLIDA","VÁLIDA"),"NO VÁLIDA") -> NO VÁLIDA | HX20: =ROUND($F20*ROUND(HW20,0),0) -> 0 | HY20: =+IF(HW20>0,IF(HW20>$G20,"NO VÁLIDA","VÁLIDA"),"NO VÁLIDA") -> NO VÁLIDA | IA20: =ROUND($F20*ROUND(HZ20,0),0) -> 0 | IB20: =+IF(HZ20>0,IF(HZ20>$G20,"NO VÁLIDA","VÁLIDA"),"NO VÁLIDA") -> NO VÁLIDA | ID20: =ROUND($F20*ROUND(IC20,0),0) -> 0 | IE20: =+IF(IC20>0,IF(IC20>$G20,"NO VÁLIDA","VÁLIDA"),"NO VÁLIDA") -> NO VÁLIDA | IG20: =ROUND($F20*ROUND(IF20,0),0) -> 0 | IH20: =+IF(IF20>0,IF(IF20>$G20,"NO VÁLIDA","VÁLIDA"),"NO VÁLIDA") -> NO VÁLIDA | IJ20: =ROUND($F20*ROUND(II20,0),0) -> 0 | IK20: =+IF(II20>0,IF(II20>$G20,"NO VÁLIDA","VÁLIDA"),"NO VÁLIDA") -> NO VÁLIDA | IM20: =ROUND($F20*ROUND(IL20,0),0) -> 0 | IN20: =+IF(IL20>0,IF(IL20>$G20,"NO VÁLIDA","VÁLIDA"),"NO VÁLIDA") -> NO VÁLIDA | IP20: =ROUND($F20*ROUND(IO20,0),0) -> 0 | IQ20: =+IF(IO20>0,IF(IO20>$G20,"NO VÁLIDA","VÁLIDA"),"NO VÁLIDA") -> NO VÁLIDA | IS20: =ROUND($F20*ROUND(IR20,0),0) -> 0 | IT20: =+IF(IR20>0,IF(IR20>$G20,"NO VÁLIDA","VÁLIDA"),"NO VÁLIDA") -> NO VÁLIDA | IV20: =ROUND($F20*ROUND(IU20,0),0) -> 0 | IW20: =+IF(IU20>0,IF(IU20>$G20,"NO VÁLIDA","VÁLIDA"),"NO VÁLIDA") -> NO VÁLIDA | IY20: =ROUND($F20*ROUND(IX20,0),0) -> 0 | IZ20: =+IF(IX20>0,IF(IX20>$G20,"NO VÁLIDA","VÁLIDA"),"NO VÁLIDA") -> NO VÁLIDA | JB20: =ROUND($F20*ROUND(JA20,0),0) -> 0 | JC20: =+IF(JA20>0,IF(JA20>$G20,"NO VÁLIDA","VÁLIDA"),"NO VÁLIDA") -> NO VÁLIDA | JE20: =ROUND($F20*ROUND(JD20,0),0) -> 0 | JF20: =+IF(JD20>0,IF(JD20>$G20,"NO VÁLIDA","VÁLIDA"),"NO VÁLIDA") -> NO VÁLIDA | JH20: =ROUND($F20*ROUND(JG20,0),0) -> 0 | JI20: =+IF(JG20>0,IF(JG20>$G20,"NO VÁLIDA","VÁLIDA"),"NO VÁLIDA") -> NO VÁLIDA | JK20: =ROUND($F20*ROUND(JJ20,0),0) -> 0 | JL20: =+IF(JJ20>0,IF(JJ20>$G20,"NO VÁLIDA","VÁLIDA"),"NO VÁLIDA") -> NO VÁLIDA | JN20: =ROUND($F20*ROUND(JM20,0),0) -> 0 | JO20: =+IF(JM20>0,IF(JM20>$G20,"NO VÁLIDA","VÁLIDA"),"NO VÁLIDA") -> NO VÁLIDA | JQ20: =ROUND($F20*ROUND(JP20,0),0) -> 0 | JR20: =+IF(JP20>0,IF(JP20>$G20,"NO VÁLIDA","VÁLIDA"),"NO VÁLIDA") -> NO VÁLIDA | JT20: =ROUND($F20*ROUND(JS20,0),0) -> 0 | JU20: =+IF(JS20>0,IF(JS20>$G20,"NO VÁLIDA","VÁLIDA"),"NO VÁLIDA") -> NO VÁLIDA | JW20: =ROUND($F20*ROUND(JV20,0),0) -> 0 | JX20: =+IF(JV20>0,IF(JV20>$G20,"NO VÁLIDA","VÁLIDA"),"NO VÁLIDA") -> NO VÁLIDA | JZ20: =ROUND($F20*ROUND(JY20,0),0) -> 0 | KA20: =+IF(JY20>0,IF(JY20>$G20,"NO VÁLIDA","VÁLIDA"),"NO VÁLIDA") -> NO VÁLIDA | KC20: =ROUND($F20*ROUND(KB20,0),0) -> 0 | KD20: =+IF(KB20>0,IF(KB20>$G20,"NO VÁLIDA","VÁLIDA"),"NO VÁLIDA") -> NO VÁLIDA | KF20: =ROUND($F20*ROUND(KE20,0),0) -> 0 | KG20: =+IF(KE20>0,IF(KE20>$G20,"NO VÁLIDA","VÁLIDA"),"NO VÁLIDA") -> NO VÁLIDA | KI20: =ROUND($F20*ROUND(KH20,0),0) -> 0 | KJ20: =+IF(KH20>0,IF(KH20>$G20,"NO VÁLIDA","VÁLIDA"),"NO VÁLIDA") -> NO VÁLIDA | KL20: =ROUND($F20*ROUND(KK20,0),0) -> 0 | KM20: =+IF(KK20>0,IF(KK20>$G20,"NO VÁLIDA","VÁLIDA"),"NO VÁLIDA") -> NO VÁLIDA | KO20: =ROUND($F20*ROUND(KN20,0),0) -> 0 | KP20: =+IF(KN20>0,IF(KN20>$G20,"NO VÁLIDA","VÁLIDA"),"NO VÁLIDA") -> NO VÁLIDA | KR20: =ROUND($F20*ROUND(KQ20,0),0) -> 0 | KS20: =+IF(KQ20>0,IF(KQ20>$G20,"NO VÁLIDA","VÁLIDA"),"NO VÁLIDA") -> NO VÁLIDA | KU20: =ROUND($F20*ROUND(KT20,0),0) -> 0 | KV20: =+IF(KT20>0,IF(KT20>$G20,"NO VÁLIDA","VÁLIDA"),"NO VÁLIDA") -> NO VÁLIDA
AN21: =ROUND($F21*ROUND(AM21,0),0) -> 0 | AO21: =+IF(AM21>0,IF(AM21>$G21,"NO VÁLIDA","VÁLIDA"),"NO VÁLIDA") -> NO VÁLIDA | AQ21: =ROUND($F21*ROUND(AP21,0),0) -> 0 | AR21: =+IF(AP21>0,IF(AP21>$G21,"NO VÁLIDA","VÁLIDA"),"NO VÁLIDA") -> NO VÁLIDA | AT21: =ROUND($F21*ROUND(AS21,0),0) -> 0 | AU21: =+IF(AS21>0,IF(AS21>$G21,"NO VÁLIDA","VÁLIDA"),"NO VÁLIDA") -> NO VÁLIDA | AW21: =ROUND($F21*ROUND(AV21,0),0) -> 0 | AX21: =+IF(AV21>0,IF(AV21>$G21,"NO VÁLIDA","VÁLIDA"),"NO VÁLIDA") -> NO VÁLIDA | AZ21: =ROUND($F21*ROUND(AY21,0),0) -> 0 | BA21: =+IF(AY21>0,IF(AY21>$G21,"NO VÁLIDA","VÁLIDA"),"NO VÁLIDA") -> NO VÁLIDA | BC21: =ROUND($F21*ROUND(BB21,0),0) -> 0 | BD21: =+IF(BB21>0,IF(BB21>$G21,"NO VÁLIDA","VÁLIDA"),"NO VÁLIDA") -> NO VÁLIDA | BF21: =ROUND($F21*ROUND(BE21,0),0) -> 0 | BG21: =+IF(BE21>0,IF(BE21>$G21,"NO VÁLIDA","VÁLIDA"),"NO VÁLIDA") -> NO VÁLIDA | BI21: =ROUND($F21*ROUND(BH21,0),0) -> 0 | BJ21: =+IF(BH21>0,IF(BH21>$G21,"NO VÁLIDA","VÁLIDA"),"NO VÁLIDA") -> NO VÁLIDA | BL21: =ROUND($F21*ROUND(BK21,0),0) -> 0 | BM21: =+IF(BK21>0,IF(BK21>$G21,"NO VÁLIDA","VÁLIDA"),"NO VÁLIDA") -> NO VÁLIDA | BO21: =ROUND($F21*ROUND(BN21,0),0) -> 0 | BP21: =+IF(BN21>0,IF(BN21>$G21,"NO VÁLIDA","VÁLIDA"),"NO VÁLIDA") -> NO VÁLIDA | BR21: =ROUND($F21*ROUND(BQ21,0),0) -> 0 | BS21: =+IF(BQ21>0,IF(BQ21>$G21,"NO VÁLIDA","VÁLIDA"),"NO VÁLIDA") -> NO VÁLIDA | BU21: =ROUND($F21*ROUND(BT21,0),0) -> 0 | BV21: =+IF(BT21>0,IF(BT21>$G21,"NO VÁLIDA","VÁLIDA"),"NO VÁLIDA") -> NO VÁLIDA | BX21: =ROUND($F21*ROUND(BW21,0),0) -> 0 | BY21: =+IF(BW21>0,IF(BW21>$G21,"NO VÁLIDA","VÁLIDA"),"NO VÁLIDA") -> NO VÁLIDA | CA21: =ROUND($F21*ROUND(BZ21,0),0) -> 0 | CB21: =+IF(BZ21>0,IF(BZ21>$G21,"NO VÁLIDA","VÁLIDA"),"NO VÁLIDA") -> NO VÁLIDA | CD21: =ROUND($F21*ROUND(CC21,0),0) -> 0 | CE21: =+IF(CC21>0,IF(CC21>$G21,"NO VÁLIDA","VÁLIDA"),"NO VÁLIDA") -> NO VÁLIDA | CG21: =ROUND($F21*ROUND(CF21,0),0) -> 0 | CH21: =+IF(CF21>0,IF(CF21>$G21,"NO VÁLIDA","VÁLIDA"),"NO VÁLIDA") -> NO VÁLIDA | CJ21: =ROUND($F21*ROUND(CI21,0),0) -> 0 | CK21: =+IF(CI21>0,IF(CI21>$G21,"NO VÁLIDA","VÁLIDA"),"NO VÁLIDA") -> NO VÁLIDA | CM21: =ROUND($F21*ROUND(CL21,0),0) -> 0 | CN21: =+IF(CL21>0,IF(CL21>$G21,"NO VÁLIDA","VÁLIDA"),"NO VÁLIDA") -> NO VÁLIDA | CP21: =ROUND($F21*ROUND(CO21,0),0) -> 0 | CQ21: =+IF(CO21>0,IF(CO21>$G21,"NO VÁLIDA","VÁLIDA"),"NO VÁLIDA") -> NO VÁLIDA | CS21: =ROUND($F21*ROUND(CR21,0),0) -> 0 | CT21: =+IF(CR21>0,IF(CR21>$G21,"NO VÁLIDA","VÁLIDA"),"NO VÁLIDA") -> NO VÁLIDA | CV21: =ROUND($F21*ROUND(CU21,0),0) -> 0 | CW21: =+IF(CU21>0,IF(CU21>$G21,"NO VÁLIDA","VÁLIDA"),"NO VÁLIDA") -> NO VÁLIDA | CY21: =ROUND($F21*ROUND(CX21,0),0) -> 0 | CZ21: =+IF(CX21>0,IF(CX21>$G21,"NO VÁLIDA","VÁLIDA"),"NO VÁLIDA") -> NO VÁLIDA | DB21: =ROUND($F21*ROUND(DA21,0),0) -> 0 | DC21: =+IF(DA21>0,IF(DA21>$G21,"NO VÁLIDA","VÁLIDA"),"NO VÁLIDA") -> NO VÁLIDA | DE21: =ROUND($F21*ROUND(DD21,0),0) -> 0 | DF21: =+IF(DD21>0,IF(DD21>$G21,"NO VÁLIDA","VÁLIDA"),"NO VÁLIDA") -> NO VÁLIDA | DH21: =ROUND($F21*ROUND(DG21,0),0) -> 0 | DI21: =+IF(DG21>0,IF(DG21>$G21,"NO VÁLIDA","VÁLIDA"),"NO VÁLIDA") -> NO VÁLIDA | DK21: =ROUND($F21*ROUND(DJ21,0),0) -> 0 | DL21: =+IF(DJ21>0,IF(DJ21>$G21,"NO VÁLIDA","VÁLIDA"),"NO VÁLIDA") -> NO VÁLIDA | DN21: =ROUND($F21*ROUND(DM21,0),0) -> 0 | DO21: =+IF(DM21>0,IF(DM21>$G21,"NO VÁLIDA","VÁLIDA"),"NO VÁLIDA") -> NO VÁLIDA | DQ21: =ROUND($F21*ROUND(DP21,0),0) -> 0 | DR21: =+IF(DP21>0,IF(DP21>$G21,"NO VÁLIDA","VÁLIDA"),"NO VÁLIDA") -> NO VÁLIDA | DT21: =ROUND($F21*ROUND(DS21,0),0) -> 0 | DU21: =+IF(DS21>0,IF(DS21>$G21,"NO VÁLIDA","VÁLIDA"),"NO VÁLIDA") -> NO VÁLIDA | DW21: =ROUND($F21*ROUND(DV21,0),0) -> 0 | DX21: =+IF(DV21>0,IF(DV21>$G21,"NO VÁLIDA","VÁLIDA"),"NO VÁLIDA") -> NO VÁLIDA | DZ21: =ROUND($F21*ROUND(DY21,0),0) -> 0 | EA21: =+IF(DY21>0,IF(DY21>$G21,"NO VÁLIDA","VÁLIDA"),"NO VÁLIDA") -> NO VÁLIDA | EC21: =ROUND($F21*ROUND(EB21,0),0) -> 0 | ED21: =+IF(EB21>0,IF(EB21>$G21,"NO VÁLIDA","VÁLIDA"),"NO VÁLIDA") -> NO VÁLIDA | EF21: =ROUND($F21*ROUND(EE21,0),0) -> 0 | EG21: =+IF(EE21>0,IF(EE21>$G21,"NO VÁLIDA","VÁLIDA"),"NO VÁLIDA") -> NO VÁLIDA | EI21: =ROUND($F21*ROUND(EH21,0),0) -> 0 | EJ21: =+IF(EH21>0,IF(EH21>$G21,"NO VÁLIDA","VÁLIDA"),"NO VÁLIDA") -> NO VÁLIDA | EL21: =ROUND($F21*ROUND(EK21,0),0) -> 0 | EM21: =+IF(EK21>0,IF(EK21>$G21,"NO VÁLIDA","VÁLIDA"),"NO VÁLIDA") -> NO VÁLIDA | EO21: =ROUND($F21*ROUND(EN21,0),0) -> 0 | EP21: =+IF(EN21>0,IF(EN21>$G21,"NO VÁLIDA","VÁLIDA"),"NO VÁLIDA") -> NO VÁLIDA | ER21: =ROUND($F21*ROUND(EQ21,0),0) -> 0 | ES21: =+IF(EQ21>0,IF(EQ21>$G21,"NO VÁLIDA","VÁLIDA"),"NO VÁLIDA") -> NO VÁLIDA | EU21: =ROUND($F21*ROUND(ET21,0),0) -> 0 | EV21: =+IF(ET21>0,IF(ET21>$G21,"NO VÁLIDA","VÁLIDA"),"NO VÁLIDA") -> NO VÁLIDA | EX21: =ROUND($F21*ROUND(EW21,0),0) -> 0 | EY21: =+IF(EW21>0,IF(EW21>$G21,"NO VÁLIDA","VÁLIDA"),"NO VÁLIDA") -> NO VÁLIDA | FA21: =ROUND($F21*ROUND(EZ21,0),0) -> 0 | FB21: =+IF(EZ21>0,IF(EZ21>$G21,"NO VÁLIDA","VÁLIDA"),"NO VÁLIDA") -> NO VÁLIDA | FD21: =ROUND($F21*ROUND(FC21,0),0) -> 0 | FE21: =+IF(FC21>0,IF(FC21>$G21,"NO VÁLIDA","VÁLIDA"),"NO VÁLIDA") -> NO VÁLIDA | FG21: =ROUND($F21*ROUND(FF21,0),0) -> 0 | FH21: =+IF(FF21>0,IF(FF21>$G21,"NO VÁLIDA","VÁLIDA"),"NO VÁLIDA") -> NO VÁLIDA | FJ21: =ROUND($F21*ROUND(FI21,0),0) -> 0 | FK21: =+IF(FI21>0,IF(FI21>$G21,"NO VÁLIDA","VÁLIDA"),"NO VÁLIDA") -> NO VÁLIDA | FM21: =ROUND($F21*ROUND(FL21,0),0) -> 0 | FN21: =+IF(FL21>0,IF(FL21>$G21,"NO VÁLIDA","VÁLIDA"),"NO VÁLIDA") -> NO VÁLIDA | FP21: =ROUND($F21*ROUND(FO21,0),0) -> 0 | FQ21: =+IF(FO21>0,IF(FO21>$G21,"NO VÁLIDA","VÁLIDA"),"NO VÁLIDA") -> NO VÁLIDA | FS21: =ROUND($F21*ROUND(FR21,0),0) -> 0 | FT21: =+IF(FR21>0,IF(FR21>$G21,"NO VÁLIDA","VÁLIDA"),"NO VÁLIDA") -> NO VÁLIDA | FV21: =ROUND($F21*ROUND(FU21,0),0) -> 0 | FW21: =+IF(FU21>0,IF(FU21>$G21,"NO VÁLIDA","VÁLIDA"),"NO VÁLIDA") -> NO VÁLIDA | FY21: =ROUND($F21*ROUND(FX21,0),0) -> 0 | FZ21: =+IF(FX21>0,IF(FX21>$G21,"NO VÁLIDA","VÁLIDA"),"NO VÁLIDA") -> NO VÁLIDA | GB21: =ROUND($F21*ROUND(GA21,0),0) -> 0 | GC21: =+IF(GA21>0,IF(GA21>$G21,"NO VÁLIDA","VÁLIDA"),"NO VÁLIDA") -> NO VÁLIDA | GE21: =ROUND($F21*ROUND(GD21,0),0) -> 0 | GF21: =+IF(GD21>0,IF(GD21>$G21,"NO VÁLIDA","VÁLIDA"),"NO VÁLIDA") -> NO VÁLIDA | GH21: =ROUND($F21*ROUND(GG21,0),0) -> 0 | GI21: =+IF(GG21>0,IF(GG21>$G21,"NO VÁLIDA","VÁLIDA"),"NO VÁLIDA") -> NO VÁLIDA | GK21: =ROUND($F21*ROUND(GJ21,0),0) -> 0 | GL21: =+IF(GJ21>0,IF(GJ21>$G21,"NO VÁLIDA","VÁLIDA"),"NO VÁLIDA") -> NO VÁLIDA | GN21: =ROUND($F21*ROUND(GM21,0),0) -> 0 | GO21: =+IF(GM21>0,IF(GM21>$G21,"NO VÁLIDA","VÁLIDA"),"NO VÁLIDA") -> NO VÁLIDA | GQ21: =ROUND($F21*ROUND(GP21,0),0) -> 0 | GR21: =+IF(GP21>0,IF(GP21>$G21,"NO VÁLIDA","VÁLIDA"),"NO VÁLIDA") -> NO VÁLIDA | GT21: =ROUND($F21*ROUND(GS21,0),0) -> 0 | GU21: =+IF(GS21>0,IF(GS21>$G21,"NO VÁLIDA","VÁLIDA"),"NO VÁLIDA") -> NO VÁLIDA | GW21: =ROUND($F21*ROUND(GV21,0),0) -> 0 | GX21: =+IF(GV21>0,IF(GV21>$G21,"NO VÁLIDA","VÁLIDA"),"NO VÁLIDA") -> NO VÁLIDA | GZ21: =ROUND($F21*ROUND(GY21,0),0) -> 0 | HA21: =+IF(GY21>0,IF(GY21>$G21,"NO VÁLIDA","VÁLIDA"),"NO VÁLIDA") -> NO VÁLIDA | HC21: =ROUND($F21*ROUND(HB21,0),0) -> 0 | HD21: =+IF(HB21>0,IF(HB21>$G21,"NO VÁLIDA","VÁLIDA"),"NO VÁLIDA") -> NO VÁLIDA | HF21: =ROUND($F21*ROUND(HE21,0),0) -> 0 | HG21: =+IF(HE21>0,IF(HE21>$G21,"NO VÁLIDA","VÁLIDA"),"NO VÁLIDA") -> NO VÁLIDA | HI21: =ROUND($F21*ROUND(HH21,0),0) -> 0 | HJ21: =+IF(HH21>0,IF(HH21>$G21,"NO VÁLIDA","VÁLIDA"),"NO VÁLIDA") -> NO VÁLIDA | HL21: =ROUND($F21*ROUND(HK21,0),0) -> 0 | HM21: =+IF(HK21>0,IF(HK21>$G21,"NO VÁLIDA","VÁLIDA"),"NO VÁLIDA") -> NO VÁLIDA | HO21: =ROUND($F21*ROUND(HN21,0),0) -> 0 | HP21: =+IF(HN21>0,IF(HN21>$G21,"NO VÁLIDA","VÁLIDA"),"NO VÁLIDA") -> NO VÁLIDA | HR21: =ROUND($F21*ROUND(HQ21,0),0) -> 0 | HS21: =+IF(HQ21>0,IF(HQ21>$G21,"NO VÁLIDA","VÁLIDA"),"NO VÁLIDA") -> NO VÁLIDA | HU21: =ROUND($F21*ROUND(HT21,0),0) -> 0 | HV21: =+IF(HT21>0,IF(HT21>$G21,"NO VÁLIDA","VÁLIDA"),"NO VÁLIDA") -> NO VÁLIDA | HX21: =ROUND($F21*ROUND(HW21,0),0) -> 0 | HY21: =+IF(HW21>0,IF(HW21>$G21,"NO VÁLIDA","VÁLIDA"),"NO VÁLIDA") -> NO VÁLIDA | IA21: =ROUND($F21*ROUND(HZ21,0),0) -> 0 | IB21: =+IF(HZ21>0,IF(HZ21>$G21,"NO VÁLIDA","VÁLIDA"),"NO VÁLIDA") -> NO VÁLIDA | ID21: =ROUND($F21*ROUND(IC21,0),0) -> 0 | IE21: =+IF(IC21>0,IF(IC21>$G21,"NO VÁLIDA","VÁLIDA"),"NO VÁLIDA") -> NO VÁLIDA | IG21: =ROUND($F21*ROUND(IF21,0),0) -> 0 | IH21: =+IF(IF21>0,IF(IF21>$G21,"NO VÁLIDA","VÁLIDA"),"NO VÁLIDA") -> NO VÁLIDA | IJ21: =ROUND($F21*ROUND(II21,0),0) -> 0 | IK21: =+IF(II21>0,IF(II21>$G21,"NO VÁLIDA","VÁLIDA"),"NO VÁLIDA") -> NO VÁLIDA | IM21: =ROUND($F21*ROUND(IL21,0),0) -> 0 | IN21: =+IF(IL21>0,IF(IL21>$G21,"NO VÁLIDA","VÁLIDA"),"NO VÁLIDA") -> NO VÁLIDA | IP21: =ROUND($F21*ROUND(IO21,0),0) -> 0 | IQ21: =+IF(IO21>0,IF(IO21>$G21,"NO VÁLIDA","VÁLIDA"),"NO VÁLIDA") -> NO VÁLIDA | IS21: =ROUND($F21*ROUND(IR21,0),0) -> 0 | IT21: =+IF(IR21>0,IF(IR21>$G21,"NO VÁLIDA","VÁLIDA"),"NO VÁLIDA") -> NO VÁLIDA | IV21: =ROUND($F21*ROUND(IU21,0),0) -> 0 | IW21: =+IF(IU21>0,IF(IU21>$G21,"NO VÁLIDA","VÁLIDA"),"NO VÁLIDA") -> NO VÁLIDA | IY21: =ROUND($F21*ROUND(IX21,0),0) -> 0 | IZ21: =+IF(IX21>0,IF(IX21>$G21,"NO VÁLIDA","VÁLIDA"),"NO VÁLIDA") -> NO VÁLIDA | JB21: =ROUND($F21*ROUND(JA21,0),0) -> 0 | JC21: =+IF(JA21>0,IF(JA21>$G21,"NO VÁLIDA","VÁLIDA"),"NO VÁLIDA") -> NO VÁLIDA | JE21: =ROUND($F21*ROUND(JD21,0),0) -> 0 | JF21: =+IF(JD21>0,IF(JD21>$G21,"NO VÁLIDA","VÁLIDA"),"NO VÁLIDA") -> NO VÁLIDA | JH21: =ROUND($F21*ROUND(JG21,0),0) -> 0 | JI21: =+IF(JG21>0,IF(JG21>$G21,"NO VÁLIDA","VÁLIDA"),"NO VÁLIDA") -> NO VÁLIDA | JK21: =ROUND($F21*ROUND(JJ21,0),0) -> 0 | JL21: =+IF(JJ21>0,IF(JJ21>$G21,"NO VÁLIDA","VÁLIDA"),"NO VÁLIDA") -> NO VÁLIDA | JN21: =ROUND($F21*ROUND(JM21,0),0) -> 0 | JO21: =+IF(JM21>0,IF(JM21>$G21,"NO VÁLIDA","VÁLIDA"),"NO VÁLIDA") -> NO VÁLIDA | JQ21: =ROUND($F21*ROUND(JP21,0),0) -> 0 | JR21: =+IF(JP21>0,IF(JP21>$G21,"NO VÁLIDA","VÁLIDA"),"NO VÁLIDA") -> NO VÁLIDA | JT21: =ROUND($F21*ROUND(JS21,0),0) -> 0 | JU21: =+IF(JS21>0,IF(JS21>$G21,"NO VÁLIDA","VÁLIDA"),"NO VÁLIDA") -> NO VÁLIDA | JW21: =ROUND($F21*ROUND(JV21,0),0) -> 0 | JX21: =+IF(JV21>0,IF(JV21>$G21,"NO VÁLIDA","VÁLIDA"),"NO VÁLIDA") -> NO VÁLIDA | JZ21: =ROUND($F21*ROUND(JY21,0),0) -> 0 | KA21: =+IF(JY21>0,IF(JY21>$G21,"NO VÁLIDA","VÁLIDA"),"NO VÁLIDA") -> NO VÁLIDA | KC21: =ROUND($F21*ROUND(KB21,0),0) -> 0 | KD21: =+IF(KB21>0,IF(KB21>$G21,"NO VÁLIDA","VÁLIDA"),"NO VÁLIDA") -> NO VÁLIDA | KF21: =ROUND($F21*ROUND(KE21,0),0) -> 0 | KG21: =+IF(KE21>0,IF(KE21>$G21,"NO VÁLIDA","VÁLIDA"),"NO VÁLIDA") -> NO VÁLIDA | KI21: =ROUND($F21*ROUND(KH21,0),0) -> 0 | KJ21: =+IF(KH21>0,IF(KH21>$G21,"NO VÁLIDA","VÁLIDA"),"NO VÁLIDA") -> NO VÁLIDA | KL21: =ROUND($F21*ROUND(KK21,0),0) -> 0 | KM21: =+IF(KK21>0,IF(KK21>$G21,"NO VÁLIDA","VÁLIDA"),"NO VÁLIDA") -> NO VÁLIDA | KO21: =ROUND($F21*ROUND(KN21,0),0) -> 0 | KP21: =+IF(KN21>0,IF(KN21>$G21,"NO VÁLIDA","VÁLIDA"),"NO VÁLIDA") -> NO VÁLIDA | KR21: =ROUND($F21*ROUND(KQ21,0),0) -> 0 | KS21: =+IF(KQ21>0,IF(KQ21>$G21,"NO VÁLIDA","VÁLIDA"),"NO VÁLIDA") -> NO VÁLIDA | KU21: =ROUND($F21*ROUND(KT21,0),0) -> 0 | KV21: =+IF(KT21>0,IF(KT21>$G21,"NO VÁLIDA","VÁLIDA"),"NO VÁLIDA") -> NO VÁLIDA
