Workbook

Sheet Hoja1
B1: SMART MEDICO ODONTOLOGICO S.A.S
B6: Bogotá, enero 25 de 2023
D7: REF. COTIZACION
B8: Señores:
B9: E.S.E HOSPITAL NUESTRA SEÑORA DEL CARMEN DE TABIO
B10: Att. Dra. Isabel Rocio Garzon
B12: Cordialmente damos respuesta a su solicitud de cotización.
B13: PRODUCTO | C13: ESPECIFICACION | D13: MARCA | E13: CANTIDAD | F13: VALOR UNITARIO | G13: TOTAL SIN IVA | H13: IVA | I13: Total Iva incluido
B14: ACEITE QUIRUSPRAY | C14: FRASCO X 200 ML | D14: QUIRUDENT | E14: 1 | F14: 33000 | G14: =E14*F14 -> 33000 | H14: 0.19 | I14: =G14*H14+G14 -> 39270
B15: AGUJA LARGA CALIBRE 27 | C15: CAJA X 100 UNDS. | D15: CK JET | E15: 1 | F15: 28800 | G15: =E15*F15 -> 28800 | H15: 0.19 | I15: =G15*H15+G15 -> 34272
B16: ALGODÓN ODONTOLOGICO TORUNDAS | C16: PAQUETE X 1000 | D16: NEW STETIC | E16: 1 | F16: 26000 | G16: =E16*F16 -> 26000 | H16: 0 | I16: =G16*H16+G16 -> 26000
B17: ANESTESIA LIDOCAINA NEWCAINA 2% X 50 CARP | C17: CAJA X 50 CARPULES | D17: NEW STETIC | E17: 1 | F17: 65500 | G17: =E17*F17 -> 65500 | H17: 0 | I17: =G17*H17+G17 -> 65500
B18: ANESTESIA EN SPRAY | C18: FRASCO X 80 ML | D18: ROPSONH | E18: 1 | F18: 102000 | G18: =E18*F18 -> 102000 | H18: 0 | I18: =G18*H18+G18 -> 102000
B19: APLICADORES ADHESIVO (MICROBRUSH) | C19: TARRO X 100 UNDS. | D19: NACIONAL | E19: 1 | F19: 11800 | G19: =E19*F19 -> 11800 | H19: 0.19 | I19: =G19*H19+G19 -> 14042
B20: BATA ODONTOLOGICA | C20: UNIDAD | D20: NACIONAL | E20: 1 | F20: 9800 | G20: =E20*F20 -> 9800 | H20: 0.19 | I20: =G20*H20+G20 -> 11662
B21: BOLSA ESTERILIZAR 9 X 26 | C21: CAJA X 200 UNDS. | D21: NATURAL | E21: 1 | F21: 32800 | G21: =E21*F21 -> 32800 | H21: 0 | I21: =G21*H21+G21 -> 32800
B22: BOLSA ESTERILIZAR 19X33 CUBETA | C22: CAJA X 200 UNDS. | D22: NATURAL | E22: 1 | F22: 79800 | G22: =E22*F22 -> 79800 | H22: 0 | I22: =G22*H22+G22 -> 79800
B23: BOLSAS ESTERILIZAR LIMAS | C23: CAJA X 200 UNDS. | D23: NATURAL | E23: 1 | F23: 18500 | G23: =E23*F23 -> 18500 | H23: 0 | I23: =G23*H23+G23 -> 18500
B24: CAJA DE ANESTESIA SIN VASO CONSTRICTOR | C24: CAJA X 50 CARPULES | D24: NEW STETIC | E24: 1 | F24: 78000 | G24: =E24*F24 -> 78000 | H24: 0 | I24: =G24*H24+G24 -> 78000
B25: CAJA LIJAS PARA PULIR RESINA | C25: CAJA X100 UNDS. | D25: MICRODONT | E25: 1 | F25: 28800 | G25: =E25*F25 -> 28800 | H25: 0.19 | I25: =G25*H25+G25 -> 34272
... B53: INTEGRADOR QUIMICO INTEGRON CLASE V | C53: BOLSA X 200 TIRILLAS | D53: TERRAGENE | E53: 1 | F53: 148000 | G53: =E53*F53 -> 148000 | H53: 0.19 | I53: =G53*H53+G53 -> 176120
G55: SUBTOTAL | H55: =SUM(G14:G53) -> 3483700
G56: TOTAL | H56: =SUM(I14:I53) -> 3905538
B58: *
B60: Cordialmente,
B64: Clara Ines Leon M.
B65: SMART MEDICO ODONTOLOGICO S.A.S
B66: TEL. 3152239323

Sheet Hoja2
A1: =Hoja1!#REF!*Hoja1!#REF! -> #REF!
A2: =Hoja1!#REF!*Hoja1!#REF! -> #REF!
A3: =Hoja1!#REF!*Hoja1!#REF! -> #REF!
A4: =Hoja1!#REF!*Hoja1!#REF! -> #REF!
A5: =Hoja1!#REF!*Hoja1!#REF! -> #REF!
A6: =Hoja1!G14*Hoja1!H14 -> 6270
A7: =Hoja1!#REF!*Hoja1!#REF! -> #REF!
A8: =Hoja1!#REF!*Hoja1!#REF! -> #REF!
A9: =Hoja1!#REF!*Hoja1!#REF! -> #REF!
A10: =Hoja1!#REF!*Hoja1!#REF! -> #REF!
A11: =Hoja1!#REF!*Hoja1!#REF! -> #REF!
A12: =Hoja1!#REF!*Hoja1!#REF! -> #REF!
A13: =Hoja1!#REF!*Hoja1!#REF! -> #REF!
A14: =Hoja1!#REF!*Hoja1!#REF! -> #REF!
A15: =Hoja1!#REF!*Hoja1!#REF! -> #REF!
A16: =Hoja1!#REF!*Hoja1!#REF! -> #REF!
A17: =Hoja1!#REF!*Hoja1!#REF! -> #REF!
A18: =Hoja1!#REF!*Hoja1!#REF! -> #REF!
... A67: =Hoja1!#REF!*Hoja1!#REF! -> #REF!
A68: =Hoja1!G97*Hoja1!H97 -> 0
A69: =Hoja1!G98*Hoja1!H98 -> 0
A70: =Hoja1!G99*Hoja1!H99 -> 0
A71: =Hoja1!G100*Hoja1!H100 -> 0
A72: =Hoja1!G101*Hoja1!H101 -> 0
A73: =Hoja1!G102*Hoja1!H102 -> 0
A74: =Hoja1!G103*Hoja1!H103 -> 0
A75: =Hoja1!G104*Hoja1!H104 -> 0
A76: =Hoja1!G105*Hoja1!H105 -> 0
A77: =Hoja1!G106*Hoja1!H106 -> 0
A78: =Hoja1!G107*Hoja1!H107 -> 0
A79: =Hoja1!G108*Hoja1!H108 -> 0
... A319: =Hoja1!G348*Hoja1!H348 -> 0
