Workbook

Sheet RES. PERSONAL NAL (MINNAL)
B2: =+'LOTE BOG PERSONAL (MINNAL)'!H16 -> 72609657
A4: PERSONAL | B4: CANTIDAD
A5: Operario de aseo | B5: =+'LOTE BOG PERSONAL (MINNAL)'!C7 -> 17
A6: Operario de cafetería | B6: =+'LOTE BOG PERSONAL (MINNAL)'!C8 -> 10
A7: Operario de mantenimiento/Con curso de alturas | B7: =+'LOTE BOG PERSONAL (MINNAL)'!C9 -> 1
A8: Operario auxiliar de mantenimiento | B8: =+'LOTE BOG PERSONAL (MINNAL)'!C10 -> 1
A9: Coordinador de tiempo completo | B9: =+'LOTE BOG PERSONAL (MINNAL)'!C11 -> 1
A10: Jardinero capacitado par trabaj en alturas nivel avanzado | B10: =+'LOTE BOG PERSONAL (MINNAL)'!C12 -> 0
A11: Operario de mantenimiento capacitado para trabajo en alturas nvel avanzado | B11: =+'LOTE BOG PERSONAL (MINNAL)'!C13 -> 2
A12: Operario auxiliar capacitado para trabajo en alturas nivel básico. | B12: =+'LOTE BOG PERSONAL (MINNAL)'!C14 -> 0
A13: Coordinador de trabajo en alturas nivel avanzado | B13: =+'LOTE BOG PERSONAL (MINNAL)'!C15 -> 1
A14: TOTAL | B14: =SUM(B5:B13) -> 33

Sheet LOTE BOG PERSONAL (MINNAL)
B3: BOGOTÁ
B4: PERSONAL | J4: SEDES
B5: Perfil del operario que requiere la sede | C5: Total requerido | D5: Días de trabajo | E5: Horario | F5: Observaciones | G5: Valor unitario | H5: Costo total | J5: 1 | K5: 3 | L5: 4 | M5: 6 | N5: 7 | O5: 8 | P5: 10
B6: Tiempo completo | J6: Palacio Echverri y Santa Clara | K6: Museo Santa Clara | L6: Casa Abadía | M6: Museo Independencia | N6: Casa museo Quinta Bolivar | O6: Biblioteca Nacional | P6: Museo Colonial
B7: Operario de aseo | C7: =SUM(J7:P7) -> 17 | D7: Lunes a sábado | E7: 6:00 - 15:30 | F7: SABADOS DE DE 6AM 11:30 - PARA ALGUNOS OPERARIOS SE TRABAJARÁ EL DOMINGO DE MANERA HABITIUAL, COMPENSANDO EL DESCANSO ENTRE SEMANA, EN LAS SEDES 2,3,6,7,9, 10 y 11 | G7: =1896804*1.16 -> 2200292.6 | H7: =G7*C7 -> 37404975 | J7: 6 | K7: 1 | L7: 1 | M7: 1 | N7: 2 | O7: 5 | P7: 1
B8: Operario de cafetería | C8: =SUM(J8:P8) -> 10 | D8: Lunes a sábado | E8: 6:00 - 15:30 | F8: SABADOS DE DE 6AM 11:30 - PARA ALGUNOS OPERARIOS SE TRABAJARÁ EL DOMINGO DE MANERA HABITIUAL, COMPENSANDO EL DESCANSO ENTRE SEMANA, EN LAS SEDES 2,3,6,7, 9, 10 y 11 | G8: =1896804*1.16 -> 2200292.6 | H8: =G8*C8 -> 22002926 | J8: 4 | K8: 0 | L8: 1 | M8: 1 | N8: 1 | O8: 2 | P8: 1
B9: Operario de mantenimiento/Con curso de alturas | C9: =SUM(J9:P9) -> 1 | D9: Lunes a viernes | E9: 7:00 - 17:30 | G9: =1896804*1.16 -> 2200292.6 | H9: =G9*C9 -> 2200292.6 | J9: 1 | K9: 0 | L9: 0 | M9: 0 | N9: 0 | O9: 0 | P9: 0
B10: Operario auxiliar | C10: =SUM(J10:P10) -> 1 | D10: Lunes a viernes | E10: 6:00 - 15:30 | G10: =1896804*1.16 -> 2200292.6 | H10: =G10*C10 -> 2200292.6 | K10: 0 | L10: 0 | M10: 0 | N10: 0 | O10: 1 | P10: 0
B11: Coordinador de tiempo completo | C11: =SUM(J11:P11) -> 1 | D11: Lunes a sábado | E11: 6:00 - 15:30 | G11: =1896804*1.16 -> 2200292.6 | H11: =G11*C11 -> 2200292.6 | J11: 1 | K11: 0 | L11: 0 | M11: 0 | N11: 0 | O11: 0 | P11: 0
B12: Jardinero capacitado par trabaj en alturas nivel avanzado | C12: =SUM(J12:P12) -> 0 | D12: Lunes a sábado | E12: 7:00 - 17:30 | G12: =1896804*1.16 -> 2200292.6 | H12: =G12*C12 -> 0 | J12: 0 | K12: 0 | L12: 0 | M12: 0 | N12: 0 | O12: 0 | P12: 0
B13: Operario de mantenimiento capacitado para trabajo en alturas nvel avanzado | C13: =SUM(J13:P13) -> 2 | D13: Lunes a viernes | E13: 7:00 - 17:30 | G13: =1896804*1.16 -> 2200292.6 | H13: =G13*C13 -> 4400585.3 | J13: 1 | K13: 0 | L13: 0 | M13: 0 | N13: 0 | O13: 1 | P13: 0
B14: Operario auxiliar capacitado para trabajo en alturas nivel básico. | C14: =SUM(J14:P14) -> 0 | D14: Lunes a viernes | E14: 7:00 - 17:30 | G14: =1896804*1.16 -> 2200292.6 | H14: =G14*C14 -> 0 | J14: 0 | K14: 0 | L14: 0 | M14: 0 | N14: 0 | O14: 0 | P14: 0
B15: Coordinador de trabajo en alturas nivel avanzado | C15: =SUM(J15:P15) -> 1 | D15: Lunes a viernes | E15: 7:00 - 17:30 | G15: =1896804*1.16 -> 2200292.6 | H15: =G15*C15 -> 2200292.6 | J15: 1 | K15: 0 | L15: 0 | M15: 0 | N15: 0 | O15: 0 | P15: 0
B16: TOTAL | C16: =SUM(C7:C15) -> 33 | H16: =SUM(H7:H15) -> 72609657 | J16: =SUM(J7:J15) -> 14 | K16: =SUM(K7:K15) -> 1 | L16: =SUM(L7:L15) -> 2 | M16: =SUM(M7:M15) -> 2 | N16: =SUM(N7:N15) -> 3 | O16: =SUM(O7:O15) -> 9 | P16: =SUM(P7:P15) -> 2
