Workbook
Name \a: #REF!
Name \a: #REF!
Name \a: #REF!
Name \a: #REF!
Name \a: #REF!
Name \a: #REF!
Name \a: #REF!
Name \a: #REF!
Name \a: #REF!
Name \a: #REF!
Name \a: #REF!
Name \a: #REF!
Name \a: #REF!
Name \a: #REF!
Name \a: #REF!
Name \a: #REF!
Name \a: #REF!
Name \a: #REF!
Name \b: #REF!
Name \b: #REF!
Name \b: #REF!
Name \b: #REF!
Name \b: #REF!
Name \b: #REF!
Name \b: #REF!
Name \b: #REF!
Name \b: #REF!
Name \b: #REF!
Name \b: #REF!
Name \b: #REF!
Name \b: #REF!
Name \b: #REF!
Name \b: #REF!
Name \b: #REF!
Name \b: #REF!
Name \b: #REF!
Name \q: #REF!
Name \q: #REF!
Name \q: #REF!
Name \q: #REF!
Name \q: #REF!
Name \q: #REF!
Name \q: #REF!
Name \q: #REF!
Name \q: #REF!
Name \q: #REF!
Name \q: #REF!
Name \q: #REF!
Name \q: #REF!
Name \q: #REF!
Name \q: #REF!
Name \q: #REF!
Name \q: #REF!
Name \q: #REF!
Name _______________EST1: #REF!
Name _______________EST1: #REF!
Name _______________EST1: #REF!
Name _______________EST1: #REF!
Name _______________EST1: #REF!
Name _______________EST1: #REF!

Sheet 2.0
C2: MUNICIPIO DE HELICONIA
C3: SECRETARIA DE PLANEACION E INFRAESTRUCTURA FISISCA
C4: CONTRATO DE OBRA No. 1000-10-06-153-2021
B5: ACTIVIDAD | C5: =+#REF! -> #REF! | H5: MEMORIAS ACTA No. 01
B6: ITEM | C6: 1 | D6: UNIDAD | E6: m3 | F6: FECHA : | G6: 44576
B7: MEDIDA DE OBRA
B9: Localización | E9: Cantidad | F9: L (m) | G9: A (m) | H9: H (m) | I9: Volumen (m3)
C10: Inicial | D10: Final
B11: Tramo #1 (Viga R) | C11: =+#REF! -> #REF! | D11: =+#REF! -> #REF! | E11: =+ROUNDUP(((D11-C11)/2.8)+1,0) -> #REF! | F11: 3.9 | G11: 0.2 | I11: =+E11*F11*G11*H11 -> #REF!
B12: Tramo #2 (Viga R) | C12: =+#REF! -> #REF! | D12: =+#REF! -> #REF! | E12: =+ROUNDUP(((D12-C12)/2.8)+1,0) -> #REF! | F12: 3.9 | G12: 0.2 | I12: =+E12*F12*G12*H12 -> #REF!
B20: CANTIDAD TOTAL A COBRAR | I20: =SUM(I11:I19) -> #REF!
B21: ACUMULADO ANTERIOR | D21: CANTIDA A PAGAR | G21: ACUMULADO A LA FECHA
B23: REGISTRO FOTOGRAFICO
C29: Residente de Obra | F29: Residente de Interventoria
C30: Matricula No. | F30: Matricula No.

Sheet 4.0
C2: MUNICIPIO DE HELICONIA
C3: SECRETARIA DE PLANEACION E INFRAESTRUCTURA FISISCA
C4: CONTRATO DE OBRA No. 1000-10-06-153-2021
B5: ACTIVIDAD | C5: =+#REF! -> #REF! | H5: MEMORIAS ACTA No. 01
B6: ITEM | C6: 3 | D6: UNIDAD | E6: m3 | F6: FECHA : | G6: =+#REF! -> #REF!
B7: MEDIDA DE OBRA
B9: Localización | E9: Cantidad | F9: L (m) | G9: A (m) | H9: H (m) | I9: Volumen (m3)
C10: Inicial | D10: Final
B11: Tramo #2 calzada | C11: 380 | D11: 390 | E11: 1 | F11: =+D11-C11 -> 10 | G11: 3.9 | I11: =+E11*F11*G11*H11 -> 0
B38: CANTIDAD TOTAL A COBRAR | I38: =SUM(I11:I37) -> 0
B39: ACUMULADO ANTERIOR | D39: CANTIDA A PAGAR | G39: ACUMULADO A LA FECHA
B40: 0 | D40: =+I38 -> 0 | G40: =+D40 -> 0
B41: REGISTRO FOTOGRAFICO
C62: Residente de Obra | F62: Residente de Interventoria
C63: Matricula No. | F63: Matricula No.

Sheet 5.0
C2: MUNICIPIO DE HELICONIA
C3: SECRETARIA DE PLANEACION E INFRAESTRUCTURA FISISCA
C4: CONTRATO DE OBRA No. 1000-10-06-153-2021
B5: ACTIVIDAD | C5: =+#REF! -> #REF! | H5: MEMORIAS ACTA No. 01
B6: ITEM | C6: 4 | D6: UNIDAD | E6: m3 | F6: FECHA : | G6: =+'4.0'!G6 -> #REF!
B7: MEDIDA DE OBRA
B9: Localización | E9: Cantidad | F9: L (m) | G9: A (m) | H9: H (m) | I9: Volumen (m3)
C10: Inicial | D10: Final
B11: Rampa Aprox. | E11: 2 | F11: 5 | G11: =+#REF! -> #REF! | I11: =+E11*F11*G11*H11 -> #REF!
B12: Empalme placa huella y vía existente | E12: 1 | G12: 7.93 | I12: =+E12*G12*H12 -> 0
B13: Tramo #1 calzada | C13: =+#REF! -> #REF! | D13: =+#REF! -> #REF! | E13: 1 | F13: =+D13-C13 -> #REF! | G13: 1.8 | I13: =+E13*F13*G13*H13 -> #REF!
B14: Tramo #2 calzada | C14: =+#REF! -> #REF! | D14: =+#REF! -> #REF! | E14: 1 | F14: =+D14-C14 -> #REF! | G14: 1.8 | I14: =+E14*F14*G14*H14 -> #REF!
B15: sobre ancho | C15: 365 | D15: 370 | E15: 1 | F15: =+D15-C15 -> 5 | G15: 1.09 | I15: =+E15*F15*G15*H15 -> 0
B16: sobre ancho | C16: 370 | D16: 380 | E16: 1 | F16: =+D16-C16 -> 10 | G16: 0.515 | I16: =+E16*F16*G16*H16 -> 0
B17: sobre ancho | C17: 430 | D17: 440 | E17: 1 | F17: =+D17-C17 -> 10 | G17: 0.325 | I17: =+E17*F17*G17*H17 -> 0
B18: sobre ancho | C18: 440 | D18: 450 | E18: 1 | F18: =+D18-C18 -> 10 | G18: 0.555 | I18: =+E18*F18*G18*H18 -> 0
B19: sobre ancho | C19: 450 | D19: 460 | E19: 1 | F19: =+D19-C19 -> 10 | G19: 0.97 | I19: =+E19*F19*G19*H19 -> 0
B20: sobre ancho | C20: 460 | D20: 470 | E20: 1 | F20: =+D20-C20 -> 10 | G20: 0.88 | I20: =+E20*F20*G20*H20 -> 0
B21: sobre ancho | C21: 470 | D21: 480 | E21: 1 | F21: =+D21-C21 -> 10 | G21: 0.65 | I21: =+E21*F21*G21*H21 -> 0
B22: sobre ancho | C22: 540 | D22: 550 | E22: 1 | F22: =+D22-C22 -> 10 | G22: 0.205 | I22: =+E22*F22*G22*H22 -> 0
B23: sobre ancho | C23: 550 | D23: 560 | E23: 1 | F23: =+D23-C23 -> 10 | G23: 0.48 | I23: =+E23*F23*G23*H23 -> 0
B24: sobre ancho | C24: 560 | D24: 570 | E24: 1 | F24: =+D24-C24 -> 10 | G24: 0.675 | I24: =+E24*F24*G24*H24 -> 0
B25: sobre ancho | C25: 570 | D25: 580 | E25: 1 | F25: =+D25-C25 -> 10 | G25: 0.685 | I25: =+E25*F25*G25*H25 -> 0
B26: sobre ancho | C26: 580 | D26: 590 | E26: 1 | F26: =+D26-C26 -> 10 | G26: 0.385 | I26: =+E26*F26*G26*H26 -> 0
... B38: sobre ancho | C38: 830 | D38: 840 | E38: 1 | F38: =+D38-C38 -> 10 | G38: 0.24 | I38: =+E38*F38*G38*H38 -> 0
C40: - Concreto Viga Riostras (257Und)*(0,20m)*(0,15m)*(1,8m)
B41: CANTIDAD TOTAL A COBRAR | I41: =SUM(I11:I40) -> #REF!
B42: ACUMULADO ANTERIOR | D42: CANTIDA A PAGAR | G42: ACUMULADO A LA FECHA
B43: 0 | D43: =+I41 -> #REF! | G43: =+B43+D43 -> #REF!
B44: REGISTRO FOTOGRAFICO
C50: Residente de Obra | F50: Residente de Interventoria
C51: Matricula No. | F51: Matricula No.

Sheet 6.0
C2: MUNICIPIO DE HELICONIA
C3: SECRETARIA DE PLANEACION E INFRAESTRUCTURA FISISCA
C4: CONTRATO DE OBRA No. 1000-10-06-153-2021
B5: ACTIVIDAD | C5: =+#REF! -> #REF! | H5: MEMORIAS ACTA No. 01
B6: ITEM | C6: 5 | D6: UNIDAD | E6: m3 | F6: FECHA : | G6: =+'5.0'!G6 -> #REF!
B7: MEDIDA DE OBRA
B9: Localización | E9: Cantidad | F9: L (m) | G9: A (m) | H9: H (m) | I9: Volumen (m3)
C10: Inicial | D10: Final
B11: Tramo #1 (Viga R) | C11: =+#REF! -> #REF! | D11: =+#REF! -> #REF! | E11: =+(ROUNDUP(((D11-C11)/2.8)+1,0)) -> #REF! | F11: 4 | G11: 0.2 | I11: =+E11*F11*G11*H11 -> #REF!
B12: Tramo #2 (Viga R) | C12: =+#REF! -> #REF! | D12: =+#REF! -> #REF! | E12: =+(ROUNDUP(((D12-C12)/2.8)+1,0)) -> #REF! | F12: 4 | G12: 0.2 | I12: =+E12*F12*G12*H12 -> #REF!
B13: sobre ancho | C13: 365 | D13: 380 | E13: =+(ROUNDUP(((D13-C13)/2.8)+1,0)) -> 7 | F13: 0.75 | G13: 0.2 | I13: =+E13*F13*G13*H13 -> 0
B14: sobre ancho | C14: 430 | D14: 480 | E14: =+(ROUNDUP(((D14-C14)/2.8)+1,0)) -> 19 | F14: 0.6 | G14: 0.2 | I14: =+E14*F14*G14*H14 -> 0
B15: sobre ancho | C15: 540 | D15: 590 | E15: =+(ROUNDUP(((D15-C15)/2.8)+1,0)) -> 19 | F15: 0.4 | G15: 0.2 | I15: =+E15*F15*G15*H15 -> 0
B16: sobre ancho | C16: 610 | D16: 680 | E16: =+(ROUNDUP(((D16-C16)/2.8)+1,0)) -> 26 | F16: 1.45 | G16: 0.2 | I16: =+E16*F16*G16*H16 -> 0
B17: sobre ancho | C17: 790 | D17: 840 | E17: =+(ROUNDUP(((D17-C17)/2.8)+1,0)) -> 19 | F17: 0.25 | G17: 0.2 | I17: =+E17*F17*G17*H17 -> 0
B21: CANTIDAD TOTAL A COBRAR | I21: =SUM(I11:I20) -> #REF!
B22: ACUMULADO ANTERIOR | D22: CANTIDA A PAGAR | G22: ACUMULADO A LA FECHA
B23: 0 | D23: =+I21 -> #REF! | G23: =+B23+D23 -> #REF!
B24: REGISTRO FOTOGRAFICO
C30: Residente de Obra | F30: Residente de Interventoria
C31: Matricula No. | F31: Matricula No.

Sheet 7.0
C2: MUNICIPIO DE HELICONIA
C3: SECRETARIA DE PLANEACION E INFRAESTRUCTURA FISISCA
C4: CONTRATO DE OBRA No. 1000-10-06-153-2021
B5: ACTIVIDAD | C5: =+#REF! -> #REF! | H5: MEMORIAS ACTA No. 01
B6: ITEM | C6: 6 | D6: UNIDAD | E6: m3 | F6: FECHA : | G6: =+'6.0'!G6 -> #REF!
B7: MEDIDA DE OBRA
B9: Localización | E9: Cantidad | F9: L (m) | G9: A (m) | H9: H (m) | I9: Volumen (m3)
C10: Inicial | D10: Final
B11: Tramo #1 (Cunetas) | C11: =+#REF! -> #REF! | D11: =+#REF! -> #REF! | E11: 1 | F11: =+D11-C11 -> #REF! | G11: 0.6 | I11: =+E11*F11*G11*H11 -> #REF!
B12: Tramo #1 (Bordillos) | C12: =+#REF! -> #REF! | D12: =+#REF! -> #REF! | E12: 2 | F12: =+D12-C12 -> #REF! | G12: 0.15 | I12: =+E12*F12*G12*H12 -> #REF!
B14: Tramo #2 (Cunetas) | C14: =+#REF! -> #REF! | D14: =+#REF! -> #REF! | E14: 1 | F14: =+D14-C14 -> #REF! | G14: 0.6 | I14: =+E14*F14*G14*H14 -> #REF!
B15: Tramo #2 (Bordillos) | C15: =+#REF! -> #REF! | D15: =+#REF! -> #REF! | E15: 2 | F15: =+D15-C15 -> #REF! | G15: 0.15 | I15: =+E15*F15*G15*H15 -> #REF!
C20: - Concreto Viga Riostras (257Und)*(0,60m)*(0,2m)*(0,15m)
B21: CANTIDAD TOTAL A COBRAR | I21: =SUM(I11:I20) -> #REF!
B22: ACUMULADO ANTERIOR | D22: CANTIDA A PAGAR | G22: ACUMULADO A LA FECHA
B23: 0 | D23: =+I21 -> #REF! | G23: =+B23+D23 -> #REF!
B24: REGISTRO FOTOGRAFICO
C30: Residente de Obra | F30: Residente de Interventoria
C31: Matricula No. | F31: Matricula No.

Sheet 8.0
C2: MUNICIPIO DE HELICONIA
C3: SECRETARIA DE PLANEACION E INFRAESTRUCTURA FISISCA
C4: CONTRATO DE OBRA No. 1000-10-06-153-2021
B5: ACTIVIDAD | C5: =+#REF! -> #REF! | H5: MEMORIAS ACTA No. 01
B6: ITEM | C6: 7 | D6: UNIDAD | E6: m3 | F6: FECHA : | G6: =+'7.0'!G6 -> #REF!
B7: MEDIDA DE OBRA
B9: Localización | E9: Cantidad | F9: L (m) | G9: A (m) | H9: H (m) | I9: Volumen (m3)
C10: Inicial | D10: Final
B11: Tramo #1 calzada | C11: =+#REF! -> #REF! | D11: =+#REF! -> #REF! | E11: 1 | F11: =+D11-C11 -> #REF! | G11: 0.9 | I11: =+E11*F11*G11*H11 -> #REF!
B12: Tramo #2 calzada | C12: =+#REF! -> #REF! | D12: =+#REF! -> #REF! | E12: 1 | F12: =+D12-C12 -> #REF! | G12: 0.9 | I12: =+E12*F12*G12*H12 -> #REF!
C20: - Concreto Viga Riostras (257Und)*(0,20m)*(0,15m)*(0,9m)
B21: CANTIDAD TOTAL A COBRAR | I21: =SUM(I11:I20) -> #REF!
B22: ACUMULADO ANTERIOR | D22: CANTIDA A PAGAR | G22: ACUMULADO A LA FECHA
B23: 0 | D23: =+I21 -> #REF! | G23: =+B23+D23 -> #REF!
B24: REGISTRO FOTOGRAFICO
C30: Residente de Obra | F30: Residente de Interventoria
C31: Matricula No. | F31: Matricula No.

Sheet 9.0
C2: MUNICIPIO DE HELICONIA
C3: SECRETARIA DE PLANEACION E INFRAESTRUCTURA FISISCA
C4: CONTRATO DE OBRA No. 1000-10-06-153-2021
B5: ACTIVIDAD | C5: =+#REF! -> #REF! | I5: MEMORIAS ACTA No. 01
B6: ITEM | C6: 8 | D6: UNIDAD | E6: kg | F6: FECHA : | G6: =+'8.0'!G6 -> #REF!
B7: MEDIDA DE OBRA
B9: Localización | E9: Acero Longitudinal | H9: Acero Transversal
B10: Ubicación | C10: Inicial | D10: Final | E10: L (m) | F10: Cantidad | G10: No. 3 | H10: L (m) | I10: Cantidad | J10: No. 3
B11: Vigas R. tramo #1 | C11: =+#REF! -> #REF! | D11: =+#REF! -> #REF! | E11: 4.9 | F11: =+(INT((D11-C11)/2.8))*4 -> #REF! | G11: =+E11*F11 -> #REF! | H11: 1 | I11: =+(INT((D11-C11)/2.8))*#REF!/0.25 -> #REF! | J11: =+H11*I11 -> #REF!
B12: Vigas R. tramo #2 | C12: =+#REF! -> #REF! | D12: =+#REF! -> #REF! | E12: 4.9 | F12: =+(INT((D12-C12)/2.8))*4 -> #REF! | G12: =+E12*F12 -> #REF! | H12: 1 | I12: =+(INT((D12-C12)/2.8))*#REF!/0.25 -> #REF! | J12: =+H12*I12 -> #REF!
B13: Rieles tramo #1 | C13: =+#REF! -> #REF! | D13: =+#REF! -> #REF! | E13: =+D13-C13 -> #REF! | F13: 13 | G13: =+F13*E13 -> #REF! | H13: 2 | I13: =+(INT((D13-C13)/3))*#REF!/0.25 -> #REF! | J13: =+H13*I13 -> #REF!
B14: Rieles tramo #2 | C14: =+#REF! -> #REF! | D14: =+#REF! -> #REF! | E14: =+D14-C14 -> #REF! | F14: 13 | G14: =+F14*E14 -> #REF! | H14: 2 | I14: =+(INT((D14-C14)/3))*#REF!/0.25 -> #REF! | J14: =+H14*I14 -> #REF!
B15: Rieles tramo #1 | C15: Traslapo | E15: 1.2 | F15: =+(E13/6)*F13 -> #REF! | G15: =+E15*F15 -> #REF!
B16: Rieles tramo #2 | C16: Traslapo | E16: 1.2 | F16: =+(E14/6)*F14 -> #REF! | G16: =+E16*F16 -> #REF!
B17: Cunetas tramo #1 | C17: =+#REF! -> #REF! | D17: =+#REF! -> #REF! | E17: =+D17-C17 -> #REF! | F17: 4 | G17: =+E17*F17 -> #REF! | H17: 0.7 | I17: =+(INT((E17*2)/0.2)) -> #REF! | J17: =+H17*I17 -> #REF!
B18: Cunetas tramo #2 | C18: =+#REF! -> #REF! | D18: =+#REF! -> #REF! | E18: =+D18-C18 -> #REF! | F18: 4 | G18: =+E18*F18 -> #REF! | H18: 0.7 | I18: =+(INT((E18*2)/0.2)) -> #REF! | J18: =+H18*I18 -> #REF!
B19: Cunetas tramo #1 | C19: Traslapo | E19: 1.2 | F19: =+(E18/6)*F18 -> #REF! | G19: =+E19*F19 -> #REF!
B20: Cunetas tramo #2 | C20: Traslapo | E20: 1.2 | F20: =+(E19/6)*F19 -> #REF! | G20: =+E20*F20 -> #REF!
B21: Bordillos tramo #1 | C21: =+#REF! -> #REF! | D21: =+#REF! -> #REF! | E21: =+E17 -> #REF! | F21: 2 | G21: =+F21*E21 -> #REF! | H21: 0.6 | I21: =+(INT((E17*2)/0.2)) -> #REF! | J21: =+H21*I21 -> #REF!
B22: Bordillos tramo #2 | C22: =+#REF! -> #REF! | D22: =+#REF! -> #REF! | E22: =+E18 -> #REF! | F22: 2 | G22: =+F22*E22 -> #REF! | H22: 0.6 | I22: =+(INT((E18*2)/0.2)) -> #REF! | J22: =+H22*I22 -> #REF!
B23: Rampa Aprox. | C23: =+D23-5 -> #REF! | D23: =+#REF! -> #REF! | E23: =+D23-C23 -> #REF! | F23: =+(#REF!/0.2+1) -> #REF! | G23: =+E23*F23 -> #REF! | H23: =+#REF! -> #REF! | I23: =+(E23/0.2+1) -> #REF! | J23: =+H23*I23*2 -> #REF!
C24: =+#REF! -> #REF! | D24: =+C24+5 -> #REF! | E24: =+D24-C24 -> #REF! | F24: =+(#REF!/0.2+1) -> #REF! | G24: =+E24*F24 -> #REF! | H24: =+#REF! -> #REF! | I24: =+(E24/0.2+1) -> #REF! | J24: =+H24*I24*2 -> #REF!
B25: sobre ancho | C25: 365 | D25: 370 | E25: =+D25-C25 -> 5 | F25: =+ROUNDUP(#REF!/0.2+1,0) -> #REF! | G25: =+E25*F25 -> #REF! | H25: =+#REF! -> #REF! | I25: =+(E25/0.2)+1 -> 26 | J25: =+H25*I25 -> #REF!
B26: sobre ancho | C26: 370 | D26: 380 | E26: =+D26-C26 -> 10 | F26: =+ROUNDUP(#REF!/0.2+1,0) -> #REF! | G26: =+E26*F26 -> #REF! | H26: =+#REF! -> #REF! | I26: =+(E26/0.2)+1 -> 51 | J26: =+H26*I26 -> #REF!
B27: sobre ancho | C27: 430 | D27: 440 | E27: =+D27-C27 -> 10 | F27: =+ROUNDUP(#REF!/0.2+1,0) -> #REF! | G27: =+E27*F27 -> #REF! | H27: =+#REF! -> #REF! | I27: =+(E27/0.2)+1 -> 51 | J27: =+H27*I27 -> #REF!
B28: sobre ancho | C28: 440 | D28: 450 | E28: =+D28-C28 -> 10 | F28: =+ROUNDUP(#REF!/0.2+1,0) -> #REF! | G28: =+E28*F28 -> #REF! | H28: =+#REF! -> #REF! | I28: =+(E28/0.2)+1 -> 51 | J28: =+H28*I28 -> #REF!
B29: sobre ancho | C29: 450 | D29: 460 | E29: =+D29-C29 -> 10 | F29: =+ROUNDUP(#REF!/0.2+1,0) -> #REF! | G29: =+E29*F29 -> #REF! | H29: =+#REF! -> #REF! | I29: =+(E29/0.2)+1 -> 51 | J29: =+H29*I29 -> #REF!
B30: sobre ancho | C30: 460 | D30: 470 | E30: =+D30-C30 -> 10 | F30: =+ROUNDUP(#REF!/0.2+1,0) -> #REF! | G30: =+E30*F30 -> #REF! | H30: =+#REF! -> #REF! | I30: =+(E30/0.2)+1 -> 51 | J30: =+H30*I30 -> #REF!
B31: sobre ancho | C31: 470 | D31: 480 | E31: =+D31-C31 -> 10 | F31: =+ROUNDUP(#REF!/0.2+1,0) -> #REF! | G31: =+E31*F31 -> #REF! | H31: =+#REF! -> #REF! | I31: =+(E31/0.2)+1 -> 51 | J31: =+H31*I31 -> #REF!
B32: sobre ancho | C32: 540 | D32: 550 | E32: =+D32-C32 -> 10 | F32: =+ROUNDUP(#REF!/0.2+1,0) -> #REF! | G32: =+E32*F32 -> #REF! | H32: =+#REF! -> #REF! | I32: =+(E32/0.2)+1 -> 51 | J32: =+H32*I32 -> #REF!
B33: sobre ancho | C33: 550 | D33: 560 | E33: =+D33-C33 -> 10 | F33: =+ROUNDUP(#REF!/0.2+1,0) -> #REF! | G33: =+E33*F33 -> #REF! | H33: =+#REF! -> #REF! | I33: =+(E33/0.2)+1 -> 51 | J33: =+H33*I33 -> #REF!
B34: sobre ancho | C34: 560 | D34: 570 | E34: =+D34-C34 -> 10 | F34: =+ROUNDUP(#REF!/0.2+1,0) -> #REF! | G34: =+E34*F34 -> #REF! | H34: =+#REF! -> #REF! | I34: =+(E34/0.2)+1 -> 51 | J34: =+H34*I34 -> #REF!
B35: sobre ancho | C35: 570 | D35: 580 | E35: =+D35-C35 -> 10 | F35: =+ROUNDUP(#REF!/0.2+1,0) -> #REF! | G35: =+E35*F35 -> #REF! | H35: =+#REF! -> #REF! | I35: =+(E35/0.2)+1 -> 51 | J35: =+H35*I35 -> #REF!
B36: sobre ancho | C36: 580 | D36: 590 | E36: =+D36-C36 -> 10 | F36: =+ROUNDUP(#REF!/0.2+1,0) -> #REF! | G36: =+E36*F36 -> #REF! | H36: =+#REF! -> #REF! | I36: =+(E36/0.2)+1 -> 51 | J36: =+H36*I36 -> #REF!
... B48: sobre ancho | C48: 830 | D48: 840 | E48: =+D48-C48 -> 10 | F48: =+ROUNDUP(#REF!/0.2+1,0) -> #REF! | G48: =+E48*F48 -> #REF! | H48: =+#REF! -> #REF! | I48: =+(E48/0.2)+1 -> 51 | J48: =+H48*I48 -> #REF!
E50: Totales | H50: Totales
E51: Peso ml (Kg) | G51: 0.56 | H51: Peso ml (Kg) | J51: 0.56
E52: Peso Total (Kg) | G52: =+G50*G51 -> 0 | H52: Peso Total (Kg) | J52: =+J50*J51 -> 0
B53: CANTIDAD TOTAL A COBRAR | J53: =+G52+J52 -> 0
B54: ACUMULADO ANTERIOR | E54: CANTIDA A PAGAR | H54: ACUMULADO A LA FECHA
...

Sheet 10.0
C2: MUNICIPIO DE HELICONIA
C3: SECRETARIA DE PLANEACION E INFRAESTRUCTURA FISISCA
C4: CONTRATO DE OBRA No. 1000-10-06-153-2021
B5: ACTIVIDAD | C5: =+#REF! -> #REF! | H5: MEMORIAS ACTA No. 01
B6: ITEM | C6: 9 | D6: UNIDAD | E6: m3 | F6: FECHA : | G6: =+'8.0'!G6 -> #REF!
B7: MEDIDA DE OBRA
B9: Localización | E9: Cantidad | F9: L (m) | G9: A (m) | H9: H (m) | I9: Volumen (m3)
C10: Inicial | D10: Final
B11: Obra Drenaje 1 0+840 | E11: 1 | F11: 7 | G11: 2 | I11: =+E11*F11*G11*H11 -> 0
B12: Obra Drenaje 2 0+910 | E12: 1 | F12: 7 | G12: 2 | I12: =+E12*F12*G12*H12 -> 0
B13: Obra Drenaje 3 0+997 | E13: 1 | F13: 7 | G13: 2 | I13: =+E13*F13*G13*H13 -> 0
B21: CANTIDAD TOTAL A COBRAR | I21: =SUM(I11:I20) -> 0
B22: ACUMULADO ANTERIOR | D22: CANTIDA A PAGAR | G22: ACUMULADO A LA FECHA
B23: 0 | D23: =+I21 -> 0 | G23: =+B23+D23 -> 0
B24: REGISTRO FOTOGRAFICO
C30: Residente de Obra | F30: Residente de Interventoria
C31: Matricula No. | F31: Matricula No.

Sheet 11.0
C2: MUNICIPIO DE HELICONIA
C3: SECRETARIA DE PLANEACION E INFRAESTRUCTURA FISISCA
C4: CONTRATO DE OBRA No. 1000-10-06-153-2021
B5: ACTIVIDAD | C5: =+#REF! -> #REF! | H5: MEMORIAS ACTA No. 01
B6: ITEM | C6: 10 | D6: UNIDAD | E6: m3 | F6: FECHA : | G6: =+'10.0'!G6 -> #REF!
B7: MEDIDA DE OBRA
B9: Localización | E9: Cantidad | F9: L (m) | G9: A (m) | H9: H (m) | I9: Volumen (m3)
C10: Inicial | D10: Final
B11: =+'10.0'!B11 -> Obra Drenaje 1 0+840 | E11: 1 | F11: 7 | G11: 2 | I11: =+F11*G11*H11 -> 0
B12: =+'10.0'!B12 -> Obra Drenaje 2 0+910 | E12: 1 | F12: 7 | G12: 2 | I12: =+F12*G12*H12 -> 0
B13: =+'10.0'!B13 -> Obra Drenaje 3 0+997 | E13: 1 | F13: 7 | G13: 2 | I13: =+F13*G13*H13 -> 0
B20: CANTIDAD TOTAL A COBRAR | I20: =SUM(I11:I19) -> 0
B21: ACUMULADO ANTERIOR | D21: CANTIDA A PAGAR | G21: ACUMULADO A LA FECHA
B22: 0 | D22: =+I20 -> 0 | G22: =+B22+D22 -> 0
B23: REGISTRO FOTOGRAFICO
C29: Residente de Obra | F29: Residente de Interventoria
C30: Matricula No. | F30: Matricula No.

Sheet 12.0
C2: MUNICIPIO DE HELICONIA
C3: SECRETARIA DE PLANEACION E INFRAESTRUCTURA FISISCA
C4: CONTRATO DE OBRA No. 1000-10-06-153-2021
B5: ACTIVIDAD | C5: =+#REF! -> #REF! | H5: MEMORIAS ACTA No. 01
B6: ITEM | C6: 11 | D6: UNIDAD | E6: ml | F6: FECHA : | G6: =+'11.0'!G6 -> #REF!
B7: MEDIDA DE OBRA
B9: Localización | E9: Cantidad | F9: L (m) | G9: A (m) | H9: H (m) | I9: Volumen (m3)
C10: Inicial | D10: Final
B11: =+'11.0'!B11 -> Obra Drenaje 1 0+840 | C11: 840 | D11: 840 | E11: 1 | F11: 4 | G11: 1 | I11: =+E11*F11*G11*H11 -> 0
B12: =+'11.0'!B12 -> Obra Drenaje 2 0+910 | C12: 910 | D12: 910 | E12: 1 | F12: =+F11 -> 4 | G12: 1 | I12: =+E12*F12*G12*H12 -> 0
B13: =+'11.0'!B13 -> Obra Drenaje 3 0+997 | C13: 997 | D13: 997 | E13: 1 | F13: =+F12 -> 4 | G13: 1 | I13: =+E13*F13*G13*H13 -> 0
B17: CANTIDAD TOTAL A COBRAR | I17: =SUM(I11:I16) -> 0
B18: ACUMULADO ANTERIOR | D18: CANTIDA A PAGAR | G18: ACUMULADO A LA FECHA
B19: 0 | D19: =+I17 -> 0 | G19: =+B19+D19 -> 0
B20: REGISTRO FOTOGRAFICO
C26: Residente de Obra | F26: Residente de Interventoria
C27: Matricula No. | F27: Matricula No.

Sheet 13.0
C2: MUNICIPIO DE HELICONIA
C3: SECRETARIA DE PLANEACION E INFRAESTRUCTURA FISISCA
C4: CONTRATO DE OBRA No. 1000-10-06-153-2021
B5: ACTIVIDAD | C5: =+#REF! -> #REF! | H5: MEMORIAS ACTA No. 01
B6: ITEM | C6: 12 | D6: UNIDAD | E6: m3 | F6: FECHA : | G6: =+'12.0'!G6 -> #REF!
B7: MEDIDA DE OBRA
B9: Localización | E9: Cantidad | F9: L (m) | G9: A (m) | H9: H (m) | I9: Volumen (m3)
C10: Inicial | D10: Final
B11: =+'10.0'!B11 -> Obra Drenaje 1 0+840 | E11: 1 | F11: 0.08 | G11: 4
B12: =+'10.0'!B12 -> Obra Drenaje 2 0+910 | E12: 1 | F12: 0.08 | G12: 4
B13: =+'10.0'!B13 -> Obra Drenaje 3 0+997 | E13: 1 | F13: 0.08 | G13: 4
B21: CANTIDAD TOTAL A COBRAR | I21: =SUM(I11:I20) -> 0
B22: ACUMULADO ANTERIOR | D22: CANTIDA A PAGAR | G22: ACUMULADO A LA FECHA
B23: 0 | D23: =+I21 -> 0 | G23: =+B23+D23 -> 0
B24: REGISTRO FOTOGRAFICO
C30: Residente de Obra | F30: Residente de Interventoria
C31: Matricula No. | F31: Matricula No.

Sheet 14.0
C2: MUNICIPIO DE HELICONIA
C3: SECRETARIA DE PLANEACION E INFRAESTRUCTURA FISISCA
C4: CONTRATO DE OBRA No. 1000-10-06-153-2021
B5: ACTIVIDAD | C5: =+#REF! -> #REF! | H5: MEMORIAS ACTA No. 01
B6: ITEM | C6: 13 | D6: UNIDAD | E6: m3 | F6: FECHA : | G6: =+'13.0'!G6 -> #REF!
B7: MEDIDA DE OBRA
B9: Localización | E9: Cantidad | F9: L (m) | G9: A (m) | H9: H (m) | I9: Volumen (m3)
C10: Inicial | D10: Final
B11: =+'10.0'!B11 -> Obra Drenaje 1 0+840 | E11: 1 | F11: 16 | G11: 0.2 | I11: =+E11*F11*G11*H11 -> 0
B12: =+'10.0'!B12 -> Obra Drenaje 2 0+910 | E12: 1 | F12: 16 | G12: 0.2 | I12: =+E12*F12*G12*H12 -> 0
B13: =+'10.0'!B13 -> Obra Drenaje 3 0+997 | E13: 1 | F13: 16 | G13: 0.2 | I13: =+E13*F13*G13*H13 -> 0
B21: CANTIDAD TOTAL A COBRAR | I21: =SUM(I11:I20) -> 0
B22: ACUMULADO ANTERIOR | D22: CANTIDA A PAGAR | G22: ACUMULADO A LA FECHA
B23: 0 | D23: =+I21 -> 0 | G23: =+B23+D23 -> 0
B24: REGISTRO FOTOGRAFICO
C30: Residente de Obra | F30: Residente de Interventoria
C31: Matricula No. | F31: Matricula No.

Sheet 15.0
C2: MUNICIPIO DE HELICONIA
C3: SECRETARIA DE PLANEACION E INFRAESTRUCTURA FISISCA
C4: CONTRATO DE OBRA No. 1000-10-06-153-2021
B5: ACTIVIDAD | D5: =+#REF! -> #REF! | J5: MEMORIAS ACTA No. 01
B6: ITEM | D6: 14 | E6: UND | F6: Kg | G6: FECHA: | H6: =+'14.0'!G6 -> #REF!
B7: MEDIDA DE OBRA
B8: REFURZO HORIZONTAL ALETAS Y MURO
B9: ITEM | C9: No. Ø | D9: Kg / ml | E9: Long (m) | F9: Cantidad | G9: Peso Kg
B10: LADO INTERNO ALETAS | C10: 3 | D10: 0.56 | E10: 1.94 | F10: 3 | G10: =+D10*E10*F10 -> 3.2592
C11: 3 | D11: 0.56 | E11: 2.25 | F11: 2 | G11: =+D11*E11*F11 -> 2.52
C12: 3 | D12: 0.56 | E12: 4.87 | F12: 2 | G12: =+D12*E12*F12 -> 5.4544
C13: 3 | D13: 0.56 | E13: 5.79 | F13: 3 | G13: =+D13*E13*F13 -> 9.7272
C14: 3 | D14: 0.56 | E14: 5.08 | F14: 6 | G14: =+D14*E14*F14 -> 17.0688
B15: LADO EXTERNO ALETAS | C15: 3 | D15: 0.56 | E15: 2.3 | F15: 2 | G15: =+D15*E15*F15 -> 2.576
C16: 3 | D16: 0.56 | E16: 5.02 | F16: 2 | G16: =+D16*E16*F16 -> 5.6224
C17: 3 | D17: 0.56 | E17: 5.9 | F17: 3 | G17: =+D17*E17*F17 -> 9.912
C18: 3 | D18: 0.56 | E18: 5.22 | F18: 6 | G18: =+D18*E18*F18 -> 17.5392
B19: MURO | C19: 4 | D19: 1 | E19: 3.45 | F19: 10 | G19: =+D19*E19*F19 -> 34.5
C20: 4 | D20: 1 | E20: 1.6 | F20: 10 | G20: =+D20*E20*F20 -> 16
E21: SUBTOTAL | G21: =SUM(G10:G20) -> 124.1792
B22: REFUERZO PLACA DESCOLE
B23: ITEM | C23: No. Ø | D23: Kg / ml | E23: Long (m) | F23: Cantidad | G23: Peso Kg
B24: ACERO SUPERIOR (SUP) E INTERIOR (INF) | C24: 4 (SUP) | D24: 1 | E24: 3.04 | F24: 3 | G24: =+D24*E24*F24 -> 9.12
C25: 4 (INF) | D25: 1 | E25: 3.04 | F25: 3 | G25: =+D25*E25*F25 -> 9.12
C26: 4 (SUP) | D26: 1 | E26: 3.48 | F26: 3 | G26: =+D26*E26*F26 -> 10.44
C27: 4 (INF) | D27: 1 | E27: 3.48 | F27: 3 | G27: =+D27*E27*F27 -> 10.44
C28: 4 (SUP) | D28: 1 | E28: 3.92 | F28: 2 | G28: =+D28*E28*F28 -> 7.84
C29: 4 (INF) | D29: 1 | E29: 3.92 | F29: 2 | G29: =+D29*E29*F29 -> 7.84
C30: 4 (SUP) | D30: 1 | E30: 4.36 | F30: 3 | G30: =+D30*E30*F30 -> 13.08
C31: 4 (INF) | D31: 1 | E31: 4.36 | F31: 3 | G31: =+D31*E31*F31 -> 13.08
C32: 4 (SUP) | D32: 1 | E32: 5.4 | F32: 5 | G32: =+D32*E32*F32 -> 27
C33: 4 (INF) | D33: 1 | E33: 5.4 | F33: 5 | G33: =+D33*E33*F33 -> 27
C34: 4 (SUP) | D34: 1 | E34: 1.1 | F34: 3 | G34: =+D34*E34*F34 -> 3.3
C35: 4 (SUP) | D35: 1 | E35: 1.5 | F35: 3 | G35: =+D35*E35*F35 -> 4.5
C36: 4 (SUP) | D36: 1 | E36: 1.7 | F36: 3 | G36: =+D36*E36*F36 -> 5.1
... C43: 4 (INF) | D43: 1 | E43: 2.54 | F43: 15 | G43: =+D43*E43*F43 -> 38.1
E44: SUBTOTAL | G44: =SUM(G24:G43) -> 249.56
B45: REFUERZO VERTICAL ALETAS Y MURO
B46: ITEM | C46: No. Ø | D46: Kg / ml | E46: Long (m) | F46: Cantidad | G46: Peso Kg
C47: 4 | D47: 1 | E47: 3.2 | F47: 6 | G47: =+D47*E47*F47 -> 19.2
...

Sheet 16.0
C2: MUNICIPIO DE HELICONIA
C3: SECRETARIA DE PLANEACION E INFRAESTRUCTURA FISISCA
C4: CONTRATO DE OBRA No. 1000-10-06-153-2021
B5: ACTIVIDAD | C5: =+#REF! -> #REF! | H5: MEMORIAS ACTA No. 01
B6: ITEM | C6: 15 | D6: UNIDAD | E6: m3 | F6: FECHA : | G6: =+'15.0'!H6 -> #REF!
B7: MEDIDA DE OBRA
B9: Localización | E9: Cantidad | F9: L (m) | G9: A (m) | H9: H (m) | I9: Volumen (m3)
C10: Inicial | D10: Final
B11: =+'10.0'!B11 -> Obra Drenaje 1 0+840 | E11: 1 | F11: 4 | G11: 2 | I11: =+F11*G11*H11 -> 0
B12: =+'10.0'!B12 -> Obra Drenaje 2 0+910 | E12: 1 | F12: 4 | G12: 2 | I12: =+F12*G12*H12 -> 0
B13: =+'10.0'!B13 -> Obra Drenaje 3 0+997 | E13: 1 | F13: 4 | G13: 2 | I13: =+F13*G13*H13 -> 0
B21: CANTIDAD TOTAL A COBRAR | I21: =SUM(I11:I20) -> 0
B22: ACUMULADO ANTERIOR | D22: CANTIDA A PAGAR | G22: ACUMULADO A LA FECHA
B23: 0 | D23: 0 | G23: 0
B24: REGISTRO FOTOGRAFICO
C30: Residente de Obra | F30: Residente de Interventoria

Sheet 17.0
C2: MUNICIPIO DE HELICONIA
C3: SECRETARIA DE PLANEACION E INFRAESTRUCTURA FISISCA
C4: CONTRATO DE OBRA No. 1000-10-06-153-2021
B5: ACTIVIDAD | C5: =+#REF! -> #REF! | H5: MEMORIAS ACTA No. 01
B6: ITEM | C6: 16 | D6: UNIDAD | E6: m3 | F6: FECHA : | G6: =+'15.0'!H6 -> #REF!
B7: MEDIDA DE OBRA
B9: Localización | E9: Cantidad | F9: L (m) | G9: A (m) | H9: H (m) | I9: Volumen (m3)
C10: Inicial | D10: Final
B11: =+'10.0'!B11 -> Obra Drenaje 1 0+840 | E11: 1 | F11: 4 | G11: 2 | I11: =+F11*G11*H11 -> 0
B12: =+'10.0'!B12 -> Obra Drenaje 2 0+910 | E12: 1 | F12: 4 | G12: 2 | I12: =+F12*G12*H12 -> 0
B13: =+'10.0'!B13 -> Obra Drenaje 3 0+997 | E13: 1 | F13: 4 | G13: 2 | I13: =+F13*G13*H13 -> 0
B21: CANTIDAD TOTAL A COBRAR | I21: =SUM(I11:I20) -> 0
B22: ACUMULADO ANTERIOR | D22: CANTIDA A PAGAR | G22: ACUMULADO A LA FECHA
B23: 0 | D23: 0 | G23: 0
B24: REGISTRO FOTOGRAFICO
C30: Residente de Obra | F30: Residente de Interventoria

Sheet PPTO
B4: No. | C4: ITEM | D4: Condiciones Contractuales | E4: UND | F4: Presupuesto inicial | I4: ACTA 1
F5: CANT. | G5: VL. UNIT | H5: VL .TOTAL | I5: CANTIDAD | J5: VL .TOTAL
B7: I. PAVIMENTO RIGIDO
B8: 1 | D8: Excavaciones varias en material común en seco a mano prof. 0 - 2 m | E8: m3 | F8: 615.28 | H8: =F8*G8 -> 0 | J8: =+ROUND(I8*G8,0) -> 0
B9: 2 | D9: Conformación de la calzada existente | E9: m2 | F9: 396.67 | J9: =+ROUND(I9*G9,0) -> 0 | L9: pinos
B10: 3 | D10: Concreto clase D (210kg/cm2 ó 3000PSI) tope llanta y poceta | E10: m3 | F10: 5.86 | J10: =+ROUND(I10*G10,0) -> 0
B11: 4 | D11: llenos compactado | E11: m3 | F11: 119
B12: 5 | D12: extarccion de raices de pinos | E12: gl | F12: 2
B13: 6 | D13: Concreto Ciclópeo (Concreto Clase D f'c = 21 MPa 60% concreto - 40% agregado ciclópeo). | E13: m3 | F13: 27.84
B14: 7 | D14: material granular de la zona | E14: m3 | F14: 59.5
B15: 8 | D15: Acero de refuerzo de FY = 4.200 Kg/cm 2 (60.000 PSI). | E15: kg | F15: 43.12 | J15: =+ROUND(I15*G15,0) -> 0
B16: 9 | D16: tubería novafort 18" | E16: ml | F16: 6 | J16: =+ROUND(I16*G16,0) -> 0
B17: SUB-TOTAL BÁSICO DE OBRA | H17: =SUM(H8:H16) -> 0 | J17: =SUM(J8:J16) -> 0
H18: =H17*0.25 -> 0 | J18: =J17*0.25 -> 0
H19: =(H17+H18)*0.04 -> 0 | J19: =(J17+J18)*0.25 -> 0
D20: TOTAL COSTO DE OBRAS | H20: =H17+H18 -> 0 | J20: =J17+J19 -> 0
B21: Valor en letras Acta 1:
C27: Firma: | G27: Firma:
C28: Nombre: ALEXANDER MUÑOZ ARANGO | G28: Nombre: EDWIN ALEXANDER CUESTAS USUGA
C29: Empresa: GIROCCIDENTE S.A.S | G29: Empresa: MUNICIPIO DE GIRALDO
C30: Cargo: GERENTE GENERAL | G30: Cargo: SECRETARIO DE PLANEACION E INFRAESTRUCTURA

Sheet 1
B5: ACTIVIDAD | H5: MEMORIAS
B6: ITEM | C6: =PPTO!C8 -> 0 | D6: UNIDAD | E6: =PPTO!E8 -> m3 | F6: FECHA :
B7: MEDIDA DE OBRA
B9: Localización | E9: Cantidad | F9: L (m) | G9: A (m) | H9: H (m) | I9: Vol (m3)
C10: Inicial | D10: Final
B11: VÍA | C11: 0 | D11: 0.0068 | F11: 68 | G11: =(5.5+5.2+5.2+5.2+6.1+5.5+6.2+6.9+6.9+6+5.7+5.6)/12 -> 5.8333333 | H11: =(1+1.4+1.4+1+1+1.9+2.2+2.3+2.2+1.4+1.1+0.1)/12 -> 1.4166667 | I11: =F11*G11*H11 -> 561.94444
B12: REVERSADERO | C12: 0 | D12: 0.0011 | F12: 7.4 | G12: 10.5 | H12: 1 | I12: =((F12*G12)/2)*(H12) -> 38.85
B13: EXACAVACION TUBERIA | C13: 0.0064 | D13: 0.0064 | F13: 6 | G13: 1.5 | H13: 1.1 | I13: =F13*G13*H13 -> 9.9
B14: EXACAVACION MURO | C14: 0.006 | D14: 0.0068 | F14: 8.5 | G14: 1.8 | H14: 0.3 | I14: =F14*G14*H14 -> 4.59
B21: CANTIDAD TOTAL A COBRAR | I21: =SUM(I11:I20) -> 615.28444

Sheet 2
B5: ACTIVIDAD | C5: CONFORMACION CALZADA EXISTENTE | H5: MEMORIAS
B6: ITEM | C6: 300.1 | D6: UNIDAD | E6: m2 | F6: FECHA :
B7: MEDIDA DE OBRA
B9: Localización | E9: Cantidad | F9: L (m) | G9: A (m) | H9: H (m) | I9: Area (m2)
C10: Inicial | D10: Final
C11: K0+000 | D11: K0+068 | F11: 68 | G11: =(5.5+5.2+5.2+5.2+6.1+5.5+6.2+6.9+6.9+6+5.7+5.6)/12 -> 5.8333333 | I11: =F11*G11 -> 396.66667
B17: CANTIDAD TOTAL A COBRAR | I17: =SUM(I11:I16) -> 396.66667
B25: Firma: | F25: Firma:
B26: Nombre: ALEXANDER MUÑOZ ARANGO | F26: Nombre: EDWIN ALEXANDER CUESTAS USUGA
B27: Empresa: GIROCCIDENTE S.A.S | F27: Empresa: MUNICIPIO DE GIRALDO
B28: Cargo: GERENTE GENERAL | F28: Cargo: SECRETARIO DE PLANEACION E INFRAESTRUCTURA

Sheet 3
B5: ACTIVIDAD | C5: =[47]PPTO!D12 -> Concreto clase D (210kg/cm2 ó 3000PSI) LOSAS DE CONCRETO | H5: MEMORIAS
B6: ITEM | C6: =[47]PPTO!C12 -> 500.1 | D6: UNIDAD | E6: m3 | F6: FECHA :
B7: MEDIDA DE OBRA
B9: Localización | E9: Cantidad | F9: L (m) | G9: A (m) | H9: H (m) | I9: Volumen (m3)
C10: Inicial | D10: Final
B11: Tramo P. rigido (tope llanta) | C11: 52 | D11: 0.0068 | F11: 16 | G11: 0.3 | H11: 0.8 | I11: =F11*G11*H11 -> 3.84
B12: Tramo P. rigido (poceta) | C12: 0.0064 | D12: 0.0064 | F12: =4*1.15 -> 4.6 | G12: 0.2 | H12: 2.2 | I12: =+F12*G12*H12 -> 2.024
B25: CANTIDAD TOTAL A COBRAR | I25: =SUM(I11:I17) -> 5.864
B30: Firma: | F30: Firma:
B31: Nombre: ALEXANDER MUÑOZ ARANGO | F31: Nombre: EDWIN ALEXANDER CUESTAS USUGA
B32: Empresa: GIROCCIDENTE S.A.S | F32: Empresa: MUNICIPIO DE GIRALDO
B33: Cargo: GERENTE GENERAL | F33: Cargo: SECRETARIO DE PLANEACION E INFRAESTRUCTURA

Sheet 4
B5: ACTIVIDAD | C5: =+PPTO!D11 -> llenos compactado | H5: MEMORIAS
B6: ITEM | C6: =[47]PPTO!C13 -> 630.7 | D6: UNIDAD | E6: =[47]PPTO!E13 -> m3 | F6: FECHA :
B7: MEDIDA DE OBRA
B9: Localización | E9: Cantidad | F9: L (m) | G9: A (m) | H9: H (m) | I9: Volumen (m3)
C10: Inicial | D10: Final
B12: LLENO MURO Y POCETA | C12: 0.006 | D12: 0.0068 | F12: 8.5 | G12: 5.6 | H12: 2.5 | I12: =F12*G12*H12 -> 119
B24: CANTIDAD TOTAL A COBRAR | I24: =SUM(I11:I23) -> 119
B31: Firma: | F31: Firma:
B32: Nombre: ALEXANDER MUÑOZ ARANGO | F32: Nombre: EDWIN ALEXANDER CUESTAS USUGA
B33: Empresa: GIROCCIDENTE S.A.S | F33: Empresa: MUNICIPIO DE GIRALDO
B34: Cargo: GERENTE GENERAL | F34: Cargo: SECRETARIO DE PLANEACION E INFRAESTRUCTURA

Sheet 5
B4: ACTIVIDAD | C4: =+PPTO!D12 -> extarccion de raices de pinos | H4: MEMORIAS
B5: ITEM | C5: =PPTO!C15 -> 0 | D5: UNIDAD | E5: =PPTO!#REF! -> #REF! | F5: FECHA :
B6: MEDIDA DE OBRA
B8: Localización | E8: Cantidad | F8: W(Kg) | G8: L(m) | H8: H (m) | I8: gl
C9: Inicial | D9: Final
C10: 0.0011 | D10: 0.0011 | E10: 2 | I10: =E10 -> 2
B19: CANTIDAD TOTAL A COBRAR | I19: =SUM(I10:I18) -> 2

Sheet 6
B5: ACTIVIDAD | C5: =+PPTO!D13 -> Concreto Ciclópeo (Concreto Clase D f'c = 21 MPa 60% concreto - 40% agregado ciclópeo). | H5: MEMORIAS
B6: ITEM | C6: =PPTO!C16 -> 0 | D6: UNIDAD | E6: =PPTO!E16 -> ml | F6: FECHA :
B7: MEDIDA DE OBRA
B9: Localización | E9: Cantidad m3/ml | F9: L (m) | G9: A (m) | H9: H (m) | I9: Vol (m3)
C10: Inicial | D10: Final
B11: muro gravedad | C11: 0.006 | D11: 0.0068 | E11: 3.11 | F11: 8.5 | I11: =E11*F11 -> 26.435
B12: llave tuberia | C12: 0.0064 | D12: 0.0064 | F12: 5.6 | G12: 0.5 | H12: 0.5 | I12: =F12*G12*H12 -> 1.4
B21: CANTIDAD TOTAL A COBRAR | I21: =SUM(I11:I20) -> 27.835

Sheet 7
B4: ACTIVIDAD | C4: =+PPTO!D14 -> material granular de la zona | H4: MEMORIAS
B5: ITEM | C5: =PPTO!C15 -> 0 | D5: UNIDAD | E5: =PPTO!E15 -> kg | F5: FECHA :
B6: MEDIDA DE OBRA
B8: Localización | E8: Cantidad | F8: L (m) | G8: A (m) | H8: H (m) | I8: Vol (m3)
C9: Inicial | D9: Final
B10: via nueva | C10: 0 | D10: 0.0068 | F10: 68 | G10: =(5.5+5.2+5.2+5.2+6.1+5.5+6.2+6.9+6.9+6+5.7+5.6)/12 -> 5.8333333 | H10: 0.15 | I10: =F10*G10*H10 -> 59.5
B20: CANTIDAD TOTAL A COBRAR | I20: =SUM(I10:I19) -> 59.5

Sheet 8
B4: ACTIVIDAD | C4: =+PPTO!D15 -> Acero de refuerzo de FY = 4.200 Kg/cm 2 (60.000 PSI). | H4: MEMORIAS
B5: ITEM | C5: =PPTO!C15 -> 0 | D5: UNIDAD | E5: =PPTO!E15 -> kg | F5: FECHA :
B6: MEDIDA DE OBRA
B8: Localización | E8: Cantidad | F8: L (m) | G8: kg/Ml | H8: H (m) | I8: kg
C9: Inicial | D9: Final
B10: flejes | C10: 52 | D10: 0.0068 | E10: 3/8" | F10: =1.6*23 -> 36.8 | G10: 0.56 | I10: =F10*G10 -> 20.608
B11: largo | C11: 52 | D11: 0.0068 | E11: 3/8" | F11: =6.7*6 -> 40.2 | G11: 0.56 | I11: =F11*G11 -> 22.512
B20: CANTIDAD TOTAL A COBRAR | I20: =SUM(I10:I19) -> 43.12

Sheet 9
B9: ACTIVIDAD | C9: =+PPTO!D16 -> tubería novafort 18" | H9: MEMORIAS
B10: ITEM | C10: =PPTO!C20 -> 0 | D10: UNIDAD | E10: =PPTO!E20 -> 0 | F10: FECHA :
B11: MEDIDA DE OBRA
B13: Localización | E13: Cantidad | F13: L (m) | G13: A (m) | H13: H (m) | I13: ml
C14: Inicial | D14: Final
C15: 0.0064 | D15: 0.0064 | F15: 6 | I15: =F15 -> 6
B25: CANTIDAD TOTAL A COBRAR | I25: =SUM(I15:I24) -> 6
