Workbook

Sheet PERFILES PERSONAL-EYD
A2: Numero Perfil | B2: Tipo Proyecto | C2: CARGO | D2: PERFIL [No incluir filas ni columnas nuevas ya que esta formulado), diligenciar únicamente las columnas C,E,F,G con la información solicitada] | E2: PROFESION [Especificar la profesión y confirmar el titulo requerido con el MEN en la pagina https://hecaa.mineducacion.gov.co/consultaspublicas/programas] | F2: POSGRADO [Especificar el área del conocimiento del posgrado sin especificar particularidades como (Especialización, Maestría o Doctorado) y confirmar que existan programas de posgrados que apliquen al área solicitada en el MEN, en la pagina https://hecaa.mineducacion.gov.co/consultaspublicas/programas] | G2: EXP. ESPECIFICA Se recomienda enfocar la Experiencia Especifica, a partir de la Experiencia descrita en el personal Clave o definirla desde su concepto por las necesidades del proyecto.
A3: Personal Clave Debe ser aprobado por comité para Consultoría | H3: Fuente
A4: DIRECTOR
A5: 1 | B5: VIAS | C5: DIRECTOR DE CONSULTORÍA | D5: =CONCATENATE("PROFESION: ",E5,". Con título de POSGRADO en el área de: ",F5,". Con EXPERIENCIA ESPECIFICA: ",G5) -> PROFESION: Arquitecto o Ingeniero Civil o Ingeniero en Transportes y Vías o Ingeniero Topográfico, con tarjeta profesional vigente. Con título de POSGRADO en el área de: Gerencia de Proyectos o Gerencia de Construcción o posgrados afines al área de la ingeniería civil y la arquitectura. Con EXPERIENCIA ESPECIFICA: Como Director o Coordinador o Gerente en proyectos de Estudios y diseños o Interventoría de Estudios y Diseños o de obra para la construcción o rehabilitación o adecuación o ampliación o mejoramiento o Mantenimiento de Infraestructura vial Urbana o sistemas BRT para trafico automotor. | E5: Arquitecto o Ingeniero Civil o Ingeniero en Transportes y Vías o Ingeniero Topográfico, con tarjeta profesional vigente | F5: Gerencia de Proyectos o Gerencia de Construcción o posgrados afines al área de la ingeniería civil y la arquitectura | G5: Como Director o Coordinador o Gerente en proyectos de Estudios y diseños o Interventoría de Estudios y Diseños o de obra para la construcción o rehabilitación o adecuación o ampliación o mejoramiento o Mantenimiento de Infraestructura vial Urbana o sistemas BRT para trafico automotor. | H5: Comité 22 de 2020
A6: =A5+1 -> 2 | B6: ESPACIO PÚBLICO | C6: DIRECTOR DE CONSULTORÍA | D6: =CONCATENATE("PROFESION: ",E6,". Con título de POSGRADO en el área de: ",F6,". Con EXPERIENCIA ESPECIFICA: ",G6) -> PROFESION: Arquitecto o Ingeniero Civil o Ingeniero en Transportes y Vías o Ingeniero Topográfico, con tarjeta profesional vigente. Con título de POSGRADO en el área de: Gerencia de Proyectos o Gerencia de Construcción o posgrados afines al área de la ingeniería civil y la arquitectura. Con EXPERIENCIA ESPECIFICA: Como Director o Coordinador o Gerente en proyectos de Estudios y diseños o Interventoría de Estudios y Diseños para Construcción o Rehabilitación o Adecuación, o Ampliación o Mejoramiento o Mantenimiento de infraestructura Vial Urbana o de proyectos de Espacio Público (plazas, vías peatonales, andenes, controles ambientales de las vías arterias, alamedas y ciclorutas y red de transporte no motorizado) o sistemas BRT para tráfico automotor | E6: Arquitecto o Ingeniero Civil o Ingeniero en Transportes y Vías o Ingeniero Topográfico, con tarjeta profesional vigente | F6: Gerencia de Proyectos o Gerencia de Construcción o posgrados afines al área de la ingeniería civil y la arquitectura | G6: Como Director o Coordinador o Gerente en proyectos de Estudios y diseños o Interventoría de Estudios y Diseños para Construcción o Rehabilitación o Adecuación, o Ampliación o Mejoramiento o Mantenimiento de infraestructura Vial Urbana o de proyectos de Espacio Público (plazas, vías peatonales, andenes, controles ambientales de las vías arterias, alamedas y ciclorutas y red de transporte no motorizado) o sistemas BRT para tráfico automotor | H6: homologado al aprobado en Comité 22 de 2020
A7: =A6+1 -> 3 | B7: PUENTES | C7: DIRECTOR DE CONSULTORÍA | D7: =CONCATENATE("PROFESION: ",E7,". Con título de POSGRADO en el área de: ",F7,". Con EXPERIENCIA ESPECIFICA: ",G7) -> PROFESION: Arquitecto o Ingeniero Civil o Ingeniero en Transportes y Vías o Ingeniero Topográfico, con tarjeta profesional vigente. Con título de POSGRADO en el área de: Gerencia de Proyectos o Gerencia de Construcción o posgrados afines al área de la ingeniería civil y la arquitectura. Con EXPERIENCIA ESPECIFICA: Como Director o Coordinador o Gerente en proyectos de Estudios y diseños o Interventoría de Estudios y Diseños para la Construcción o Reforzamiento estructural de puentes vehiculares, peatonales o intersecciones a desnivel. | E7: Arquitecto o Ingeniero Civil o Ingeniero en Transportes y Vías o Ingeniero Topográfico, con tarjeta profesional vigente | F7: Gerencia de Proyectos o Gerencia de Construcción o posgrados afines al área de la ingeniería civil y la arquitectura | G7: Como Director o Coordinador o Gerente en proyectos de Estudios y diseños o Interventoría de Estudios y Diseños para la Construcción o Reforzamiento estructural de puentes vehiculares, peatonales o intersecciones a desnivel. | H7: homologado al aprobado en Comité 22 de 2020
A8: =A7+1 -> 4 | B8: ESTACIONES TM | C8: DIRECTOR DE CONSULTORÍA | D8: =CONCATENATE("PROFESION: ",E8,". Con título de POSGRADO en el área de: ",F8,". Con EXPERIENCIA ESPECIFICA: ",G8) -> PROFESION: Arquitecto o Ingeniero Civil o Ingeniero en Transportes y Vías o Ingeniero Topográfico, con tarjeta profesional vigente. Con título de POSGRADO en el área de: Gerencia de Proyectos o Gerencia de Construcción o posgrados afines al área de la ingeniería civil. Con EXPERIENCIA ESPECIFICA: Como Director o Coordinador o Gerente en proyectos de Estudios y diseños o Interventoría de Estudios y Diseños para la Construcción o Rehabilitación o Adecuación, o Ampliación o Mejoramiento o Mantenimiento de infraestructura Vial Urbana o BRT y de obras para la Construcción o Rehabilitación o Adecuación o Ampliación o Mantenimiento de estructuras metálicas con un área mayor a XXXX m2 | E8: Arquitecto o Ingeniero Civil o Ingeniero en Transportes y Vías o Ingeniero Topográfico, con tarjeta profesional vigente | F8: Gerencia de Proyectos o Gerencia de Construcción o posgrados afines al área de la ingeniería civil | G8: Como Director o Coordinador o Gerente en proyectos de Estudios y diseños o Interventoría de Estudios y Diseños para la Construcción o Rehabilitación o Adecuación, o Ampliación o Mejoramiento o Mantenimiento de infraestructura Vial Urbana o BRT y de obras para la Construcción o Rehabilitación o Adecuación o Ampliación o Mantenimiento de estructuras metálicas con un área mayor a XXXX m2 | H8: Estaciones G5
A9: =A8+1 -> 5 | B9: CABLE | C9: DIRECTOR DE CONSULTORÍA | D9: =CONCATENATE("PROFESION: ",E9,". Con título de POSGRADO en el área de: ",F9,". Con EXPERIENCIA ESPECIFICA: ",G9) -> PROFESION: Ingeniero Civil, Arquitecto, Ingeniero de Transporte y Vías, Ingeniero Electromecánico o Ingeniero Mecánico o Ingeniero Eléctrico o áreas afines a la Ingeniería Civil con tarjeta profesional vigente. Con título de POSGRADO en el área de: N/A. Con EXPERIENCIA ESPECIFICA: Como Director o Gerente en proyectos de Estudios y Diseños o Interventoría de Estudios y Diseños o Construcción o Interventoría de Construcción de proyectos de infraestructura vial o de transporte. Debe certificar experiencia como Director o Gerente en los proyectos antes mencionados en máximo tres contratos cuya sumatoria del valor de obra sea superior a COP $250.000.000.000 millones de pesos | E9: Ingeniero Civil, Arquitecto, Ingeniero de Transporte y Vías, Ingeniero Electromecánico o Ingeniero Mecánico o Ingeniero Eléctrico o áreas afines a la Ingeniería Civil con tarjeta profesional vigente | F9: N/A | G9: Como Director o Gerente en proyectos de Estudios y Diseños o Interventoría de Estudios y Diseños o Construcción o Interventoría de Construcción de proyectos de infraestructura vial o de transporte. Debe certificar experiencia como Director o Gerente en los proyectos antes mencionados en máximo tres contratos cuya sumatoria del valor de obra sea superior a COP $250.000.000.000 millones de pesos | H9: Anexo de personal de FAC EYD CABLE CENTRO HISTÓRICO
A10: =A9+1 -> 6 | B10: FERREO | C10: DIRECTOR DE CONSULTORÍA | D10: =CONCATENATE("PROFESION: ",E10,". Con título de POSGRADO en el área de: ",F10,". Con EXPERIENCIA ESPECIFICA: ",G10) -> PROFESION: Arquitecto o Ingeniero Civil o Ingeniero de Transporte y Vías o Ingeniero Topográfico, ingeniero ferroviario, o profesiones afines, con tarjeta profesional vigente.. Con título de POSGRADO en el área de: En Gerencia de Proyectos o posgrados afines al área de la ingeniería civil o la arquitectura o ferroviaria. Con EXPERIENCIA ESPECIFICA: Director o Coordinador o Gerente de estudios de prefactibilidad o factibilidad o estudios y diseños o interventoría de estudios de proyectos ferroviarios para pasajeros, o en proyectos de transporte para sistema BRT. Debe certificar la participación en, al menos un proyecto, como Director o Coordinador o Gerente de estudios de prefactibilidad o factibilidad o estudios y diseños o interventoría de estudios de proyectos ferroviarios para pasajeros. | E10: Arquitecto o Ingeniero Civil o Ingeniero de Transporte y Vías o Ingeniero Topográfico, ingeniero ferroviario, o profesiones afines, con tarjeta profesional vigente. | F10: En Gerencia de Proyectos o posgrados afines al área de la ingeniería civil o la arquitectura o ferroviaria | G10: Director o Coordinador o Gerente de estudios de prefactibilidad o factibilidad o estudios y diseños o interventoría de estudios de proyectos ferroviarios para pasajeros, o en proyectos de transporte para sistema BRT. Debe certificar la participación en, al menos un proyecto, como Director o Coordinador o Gerente de estudios de prefactibilidad o factibilidad o estudios y diseños o interventoría de estudios de proyectos ferroviarios para pasajeros. | H10: De Corredor Férreo del SUR
A11: =A10+1 -> 7 | B11: TALUDES | C11: DIRECTOR DE CONSULTORÍA | D11: =CONCATENATE("PROFESION: ",E11,". Con título de POSGRADO en el área de: ",F11,". Con EXPERIENCIA ESPECIFICA: ",G11) -> PROFESION: Ingeniero Civil o Ingeniero de Transporte y Vías con tarjeta profesional vigente.. Con título de POSGRADO en el área de: Vías o Gerencia de Proyectos o Gerencia de Construcción.. Con EXPERIENCIA ESPECIFICA: Como director o gerente en proyectos de Estudios y Diseños o Interventoría de Estudios y Diseños para la construcción o rehabilitación o adecuación o ampliación o mejoramiento o mantenimiento de proyectos de estabilización de taludes o de contención de taludes. | E11: Ingeniero Civil o Ingeniero de Transporte y Vías con tarjeta profesional vigente. | F11: Vías o Gerencia de Proyectos o Gerencia de Construcción. | G11: Como director o gerente en proyectos de Estudios y Diseños o Interventoría de Estudios y Diseños para la construcción o rehabilitación o adecuación o ampliación o mejoramiento o mantenimiento de proyectos de estabilización de taludes o de contención de taludes. | H11: De Estabilización de taludes la Calera
A12: COORDINADOR
A13: =A11+1 -> 8 | B13: VIAS | C13: COORDINADOR DE CONSULTORÍA | D13: =CONCATENATE("PROFESION: ",E13,". Con título de POSGRADO en el área de: ",F13,". Con EXPERIENCIA ESPECIFICA: ",G13) -> PROFESION: Arquitecto o Ingeniero Civil o Ingeniero en Transportes y Vías o Ingeniero Topográfico, con tarjeta profesional vigente. Con título de POSGRADO en el área de: Gerencia de Proyectos o Gerencia de Construcción o posgrados afines al área de la ingeniería civil y la arquitectura.. Con EXPERIENCIA ESPECIFICA: Experiencia específica como Director o Coordinador o residente en proyectos de Estudios y diseños o Interventoría de Estudios y Diseños para la construcción o rehabilitación o adecuación o ampliación o mejoramiento o Mantenimiento de Infraestructura vial Urbana o sistemas BRT para trafico automotor. | E13: Arquitecto o Ingeniero Civil o Ingeniero en Transportes y Vías o Ingeniero Topográfico, con tarjeta profesional vigente | F13: Gerencia de Proyectos o Gerencia de Construcción o posgrados afines al área de la ingeniería civil y la arquitectura. | G13: Experiencia específica como Director o Coordinador o residente en proyectos de Estudios y diseños o Interventoría de Estudios y Diseños para la construcción o rehabilitación o adecuación o ampliación o mejoramiento o Mantenimiento de Infraestructura vial Urbana o sistemas BRT para trafico automotor. | H13: Comité 22 de 2020
A14: =A13+1 -> 9 | B14: ESPACIO PÚBLICO | C14: COORDINADOR DE CONSULTORÍA | D14: =CONCATENATE("PROFESION: ",E14,". Con título de POSGRADO en el área de: ",F14,". Con EXPERIENCIA ESPECIFICA: ",G14) -> PROFESION: Arquitecto o Ingeniero Civil o Ingeniero en Transportes y Vías o Ingeniero Topográfico, con tarjeta profesional vigente. Con título de POSGRADO en el área de: Gerencia de Proyectos o Gerencia de Construcción o posgrados afines al área de la ingeniería civil y la arquitectura.. Con EXPERIENCIA ESPECIFICA: Como director o coordinador o gerente en proyectos de Estudios y Diseños o Interventoría de Estudios y Diseños o de obra para la Construcción o Rehabilitación o Adecuación o Ampliación o Mejoramiento o Mantenimiento de infraestructura vial urbana o de proyectos de Espacio Público (plazas, vías peatonales, andenes, controles ambientales de las vías arterias, alamedas y ciclorutas y red de transporte no motorizado) o sistemas BRT para tráfico automotor. | E14: Arquitecto o Ingeniero Civil o Ingeniero en Transportes y Vías o Ingeniero Topográfico, con tarjeta profesional vigente | F14: Gerencia de Proyectos o Gerencia de Construcción o posgrados afines al área de la ingeniería civil y la arquitectura. | G14: Como director o coordinador o gerente en proyectos de Estudios y Diseños o Interventoría de Estudios y Diseños o de obra para la Construcción o Rehabilitación o Adecuación o Ampliación o Mejoramiento o Mantenimiento de infraestructura vial urbana o de proyectos de Espacio Público (plazas, vías peatonales, andenes, controles ambientales de las vías arterias, alamedas y ciclorutas y red de transporte no motorizado) o sistemas BRT para tráfico automotor. | H14: Del anexo de personal de EYD Av Leon Trabuchi
A15: =A14+1 -> 10 | B15: PUENTES | C15: COORDINADOR DE CONSULTORÍA | D15: =CONCATENATE("PROFESION: ",E15,". Con título de POSGRADO en el área de: ",F15,". Con EXPERIENCIA ESPECIFICA: ",G15) -> PROFESION: Arquitecto o Ingeniero Civil o Ingeniero en Transportes y Vías o Ingeniero Topográfico, con tarjeta profesional vigente. Con título de POSGRADO en el área de: Gerencia de Proyectos o Gerencia de Construcción o posgrados afines al área de la ingeniería civil y la arquitectura. Con EXPERIENCIA ESPECIFICA: Director o Coordinador o Gerente en proyectos de Estudios y diseños o Interventoría de Estudios y Diseños para Construcción o Rehabilitación o Adecuación, o Ampliación o Mejoramiento o Mantenimiento de infraestructura Vial Urbana o de proyectos de Espacio Público (plazas, vías peatonales, andenes, controles ambientales de las vías arterias, alamedas y ciclorutas y red de transporte no motorizado) o sistemas BRT para tráfico automotor | E15: Arquitecto o Ingeniero Civil o Ingeniero en Transportes y Vías o Ingeniero Topográfico, con tarjeta profesional vigente | F15: Gerencia de Proyectos o Gerencia de Construcción o posgrados afines al área de la ingeniería civil y la arquitectura | G15: Director o Coordinador o Gerente en proyectos de Estudios y diseños o Interventoría de Estudios y Diseños para Construcción o Rehabilitación o Adecuación, o Ampliación o Mejoramiento o Mantenimiento de infraestructura Vial Urbana o de proyectos de Espacio Público (plazas, vías peatonales, andenes, controles ambientales de las vías arterias, alamedas y ciclorutas y red de transporte no motorizado) o sistemas BRT para tráfico automotor | H15: homologado al aprobado en Comité 22 de 2020
A16: =A15+1 -> 11 | B16: ESTACIONES TM | C16: COORDINADOR DE CONSULTORÍA | D16: =CONCATENATE("PROFESION: ",E16,". Con título de POSGRADO en el área de: ",F16,". Con EXPERIENCIA ESPECIFICA: ",G16) -> PROFESION: Arquitecto o Ingeniero Civil o Ingeniero en Transportes y Vías o Ingeniero Topográfico, con tarjeta profesional vigente.. Con título de POSGRADO en el área de: N/A. Con EXPERIENCIA ESPECIFICA: Director o Coordinador o Residente en proyectos de Estudios y diseños o Interventoría de Estudios y Diseños para la Construcción o Rehabilitación o Adecuación, o Ampliación o Mejoramiento o Mantenimiento de infraestructura Vial Urbana o BRT y de obras para la Construcción o Rehabilitación o Adecuación o Ampliación o Mantenimiento de estructuras metálicas con un área mayor a XXX m2 | E16: Arquitecto o Ingeniero Civil o Ingeniero en Transportes y Vías o Ingeniero Topográfico, con tarjeta profesional vigente. | F16: N/A | G16: Director o Coordinador o Residente en proyectos de Estudios y diseños o Interventoría de Estudios y Diseños para la Construcción o Rehabilitación o Adecuación, o Ampliación o Mejoramiento o Mantenimiento de infraestructura Vial Urbana o BRT y de obras para la Construcción o Rehabilitación o Adecuación o Ampliación o Mantenimiento de estructuras metálicas con un área mayor a XXX m2 | H16: Estaciones G5
A17: =A16+1 -> 12 | B17: CABLE | C17: COORDINADOR DE CONSULTORÍA | D17: =CONCATENATE("PROFESION: ",E17,". Con título de POSGRADO en el área de: ",F17,". Con EXPERIENCIA ESPECIFICA: ",G17) -> PROFESION: Ingeniero Civil, Arquitecto, Ingeniero de Transporte y Vías, Ingeniero Electromecánico o Ingeniero Mecánico o Ingeniero Eléctrico o áreas afines a la Ingeniería Civil con tarjeta profesional vigente.. Con título de POSGRADO en el área de: N/A. Con EXPERIENCIA ESPECIFICA: Como Director o Gerente o coordinador o supervisor en proyectos de Estudios y Diseños o Interventoría de Estudios y Diseños o Construcción o Interventoría de Construcción de proyectos de infraestructura vial o de transporte. Debe certificar experiencia como Director o Gerente o coordinador o supervisor en los proyectos antes mencionados en máximo tres contratos cuya sumatoria del valor de obra sea superior a COP $150,000,000,000 millones de pesos. | E17: Ingeniero Civil, Arquitecto, Ingeniero de Transporte y Vías, Ingeniero Electromecánico o Ingeniero Mecánico o Ingeniero Eléctrico o áreas afines a la Ingeniería Civil con tarjeta profesional vigente. | F17: N/A | G17: Como Director o Gerente o coordinador o supervisor en proyectos de Estudios y Diseños o Interventoría de Estudios y Diseños o Construcción o Interventoría de Construcción de proyectos de infraestructura vial o de transporte. Debe certificar experiencia como Director o Gerente o coordinador o supervisor en los proyectos antes mencionados en máximo tres contratos cuya sumatoria del valor de obra sea superior a COP $150,000,000,000 millones de pesos. | H17: Anexo de personal de FAC EYD CABLE CENTRO HISTÓRICO
A18: =A17+1 -> 13 | B18: FERREO | C18: COORDINADOR DE CONSULTORÍA | D18: =CONCATENATE("PROFESION: ",E18,". Con título de POSGRADO en el área de: ",F18,". Con EXPERIENCIA ESPECIFICA: ",G18) -> PROFESION: Arquitecto o Ingeniero Civil o Ingeniero de Transporte y Vías o Ingeniero Topográfico, ingeniero ferroviario, o profesiones afines, con tarjeta profesional vigente.. Con título de POSGRADO en el área de: En Gerencia de Proyectos o posgrados afines al área de la ingeniería civil o la arquitectura o ferroviaria. Con EXPERIENCIA ESPECIFICA: Director o Coordinador o Gerente de estudios de prefactibilidad o factibilidad o estudios y diseños o interventoría de estudios de proyectos ferroviarios para pasajeros, o en proyectos de transporte para sistema BRT. Debe certificar la participación en, al menos un proyecto, como Director o Coordinador o Gerente de estudios de prefactibilidad o factibilidad o estudios y diseños o interventoría de estudios de proyectos ferroviarios para pasajeros. | E18: Arquitecto o Ingeniero Civil o Ingeniero de Transporte y Vías o Ingeniero Topográfico, ingeniero ferroviario, o profesiones afines, con tarjeta profesional vigente. | F18: En Gerencia de Proyectos o posgrados afines al área de la ingeniería civil o la arquitectura o ferroviaria | G18: Director o Coordinador o Gerente de estudios de prefactibilidad o factibilidad o estudios y diseños o interventoría de estudios de proyectos ferroviarios para pasajeros, o en proyectos de transporte para sistema BRT. Debe certificar la participación en, al menos un proyecto, como Director o Coordinador o Gerente de estudios de prefactibilidad o factibilidad o estudios y diseños o interventoría de estudios de proyectos ferroviarios para pasajeros. | H18: De Corredor Férreo del SUR
A19: =A18+1 -> 14 | B19: TALUDES | C19: COORDINADOR DE CONSULTORÍA | D19: =CONCATENATE("PROFESION: ",E19,". Con título de POSGRADO en el área de: ",F19,". Con EXPERIENCIA ESPECIFICA: ",G19) -> PROFESION: Ingeniero Civil o Ingeniero de Transporte y Vías con tarjeta profesional vigente.. Con título de POSGRADO en el área de: Vías o Gerencia de Proyectos o Gerencia de Construcción.. Con EXPERIENCIA ESPECIFICA: Como director o gerente en proyectos de Estudios y Diseños o Interventoría de Estudios y Diseños para la construcción o rehabilitación o adecuación o ampliación o mejoramiento o mantenimiento de proyectos de estabilización de taludes o de contención de taludes. | E19: Ingeniero Civil o Ingeniero de Transporte y Vías con tarjeta profesional vigente. | F19: Vías o Gerencia de Proyectos o Gerencia de Construcción. | G19: Como director o gerente en proyectos de Estudios y Diseños o Interventoría de Estudios y Diseños para la construcción o rehabilitación o adecuación o ampliación o mejoramiento o mantenimiento de proyectos de estabilización de taludes o de contención de taludes. | H19: De Estabilización de taludes la Calera
A20: RESIDENTE
A21: 179 | B21: VIAS | C21: RESIDENTE DE OBRA | D21: =CONCATENATE("PROFESION: ",E21,". Con título de POSGRADO en el área de: ",F21,". Con EXPERIENCIA ESPECIFICA: ",G21) -> PROFESION: Arquitecto o Ingeniero Civil o Ingeniero en Transportes y Vías o Ingeniero Topográfico, con tarjeta profesional vigente. Con título de POSGRADO en el área de: NA. Con EXPERIENCIA ESPECIFICA: Experiencia específica como Director o Coordinador o residente en proyectos de Estudios y diseños o Interventoría de Estudios y Diseños para la construcción o rehabilitación o adecuación o ampliación o mejoramiento o Mantenimiento de Infraestructura vial Urbana o sistemas BRT para trafico automotor. | E21: Arquitecto o Ingeniero Civil o Ingeniero en Transportes y Vías o Ingeniero Topográfico, con tarjeta profesional vigente | F21: NA | G21: Experiencia específica como Director o Coordinador o residente en proyectos de Estudios y diseños o Interventoría de Estudios y Diseños para la construcción o rehabilitación o adecuación o ampliación o mejoramiento o Mantenimiento de Infraestructura vial Urbana o sistemas BRT para trafico automotor. | H21: Comité 22 de 2020
A22: ESPECIALISTAS CLAVES
A23: =A19+1 -> 15 | B23: VIAS | C23: ESPECIALISTA EN DISEÑO GEOMÉTRICO | D23: =CONCATENATE("PROFESION: ",E23,". Con título de POSGRADO en el área de: ",F23,". Con EXPERIENCIA ESPECIFICA: ",G23) -> PROFESION: Ingeniero Civil, Ingeniero de Transporte y Vías, con tarjeta profesional vigente. . Con título de POSGRADO en el área de: Énfasis en temas afines con el diseño geométrico de vías.. Con EXPERIENCIA ESPECIFICA: En proyectos de Estudios y Diseños o Interventoría de Estudios y Diseños para la construcción o rehabilitación o adecuación o ampliación o mejoramiento o mantenimiento de Infraestructura vial Urbana o sistemas BRT para tráfico automotor, como Especialista en Diseño Geométrico | E23: Ingeniero Civil, Ingeniero de Transporte y Vías, con tarjeta profesional vigente. | F23: Énfasis en temas afines con el diseño geométrico de vías. | G23: En proyectos de Estudios y Diseños o Interventoría de Estudios y Diseños para la construcción o rehabilitación o adecuación o ampliación o mejoramiento o mantenimiento de Infraestructura vial Urbana o sistemas BRT para tráfico automotor, como Especialista en Diseño Geométrico | H23: De EYD Av Villas
A24: =+A23+1 -> 16 | B24: ESPACIO PÚBLICO | C24: ESPECIALISTA EN URBANISMO Y ESPACIO PÚBLICO | D24: =CONCATENATE("PROFESION: ",E24,". Con título de POSGRADO en el área de: ",F24,". Con EXPERIENCIA ESPECIFICA: ",G24) -> PROFESION: Arquitecto, con tarjeta profesional vigente. Con título de POSGRADO en el área de: Urbanismo y/o Diseño Urbano y/o Arquitectura. Con EXPERIENCIA ESPECIFICA: En proyectos de Estudios y Diseños o Interventoría de Estudios y Diseños para la Construcción o Rehabilitación o Adecuación o Ampliación o Mejoramiento o Mantenimiento de infraestructura vial urbana o de proyectos de Espacio Público (plazas, vías peatonales, andenes, controles ambientales de las vías arterias, alamedas y ciclorutas y red de transporte no motorizado) o sistemas BRT para tráfico automotor, como ESPECIALISTA EN URBANISMO O DISEÑO URBANO. | E24: Arquitecto, con tarjeta profesional vigente | F24: Urbanismo y/o Diseño Urbano y/o Arquitectura | G24: En proyectos de Estudios y Diseños o Interventoría de Estudios y Diseños para la Construcción o Rehabilitación o Adecuación o Ampliación o Mejoramiento o Mantenimiento de infraestructura vial urbana o de proyectos de Espacio Público (plazas, vías peatonales, andenes, controles ambientales de las vías arterias, alamedas y ciclorutas y red de transporte no motorizado) o sistemas BRT para tráfico automotor, como ESPECIALISTA EN URBANISMO O DISEÑO URBANO. | H24: De EYD Leon trabuchi
A25: =+A24+1 -> 17 | B25: PUENTES | C25: ESPECIALISTA EN ESTRUCTURAS | D25: =CONCATENATE("PROFESION: ",E25,". Con título de POSGRADO en el área de: ",F25,". Con EXPERIENCIA ESPECIFICA: ",G25) -> PROFESION: Ingeniero Civil, con tarjeta profesional vigente. Con título de POSGRADO en el área de: Estructuras. Con EXPERIENCIA ESPECIFICA: En proyectos de Estudios y Diseños o Interventoría de Estudios y Diseños para la Construcción o Reforzamiento estructural de puentes vehiculares, peatonales o intersecciones a desnivel, como ESPECIALISTA EN ESTRUCTURAS | E25: Ingeniero Civil, con tarjeta profesional vigente | F25: Estructuras | G25: En proyectos de Estudios y Diseños o Interventoría de Estudios y Diseños para la Construcción o Reforzamiento estructural de puentes vehiculares, peatonales o intersecciones a desnivel, como ESPECIALISTA EN ESTRUCTURAS | H25: De mixto Puente calle 174
A26: =+A25+1 -> 18 | B26: ESTACIONES TM | C26: ESPECIALISTA EN ESTRUCTURAS | D26: =CONCATENATE("PROFESION: ",E26,". Con título de POSGRADO en el área de: ",F26,". Con EXPERIENCIA ESPECIFICA: ",G26) -> PROFESION: Ingeniero Civil con tarjeta profesional vigente. Con título de POSGRADO en el área de: Estructuras. Con EXPERIENCIA ESPECIFICA: En proyectos de Estudios y diseños o Interventoría de Estudios y Diseños para la Construcción o Rehabilitación o Adecuación o Ampliación o Mantenimiento de estructuras metálicas con un área mayor a XXXXm2, como Especialista en Estructuras | E26: Ingeniero Civil con tarjeta profesional vigente | F26: Estructuras | G26: En proyectos de Estudios y diseños o Interventoría de Estudios y Diseños para la Construcción o Rehabilitación o Adecuación o Ampliación o Mantenimiento de estructuras metálicas con un área mayor a XXXXm2, como Especialista en Estructuras | H26: De Estaciones G5
A27: =+A26+1 -> 19 | B27: TALUDES | C27: ESPECIALISTA EN GEOTECNIA | D27: =CONCATENATE("PROFESION: ",E27,". Con título de POSGRADO en el área de: ",F27,". Con EXPERIENCIA ESPECIFICA: ",G27) -> PROFESION: Ingeniero Civil o Ingeniero de Transporte y Vías, con tarjeta profesional vigente. Con título de POSGRADO en el área de: Geotecnia. Con EXPERIENCIA ESPECIFICA: En proyectos de Estudios y Diseños para la Construcción o Reforzamiento estructural de elementos de contención | E27: Ingeniero Civil o Ingeniero de Transporte y Vías, con tarjeta profesional vigente | F27: Geotecnia | G27: En proyectos de Estudios y Diseños para la Construcción o Reforzamiento estructural de elementos de contención | H27: De Estabilización de taludes la Calera
A28: =+A27+1 -> 20 | B28: CABLE | C28: ESPECIALISTA ELECTROMECANICO | D28: =CONCATENATE("PROFESION: ",E28,". Con título de POSGRADO en el área de: ",F28,". Con EXPERIENCIA ESPECIFICA: ",G28) -> PROFESION: Ingeniero mecánico, Ingeniero electrónico, Ingeniero electromecánico o Ingeniero mecatrónico o Ingeniero Eléctrico, o áreas afines a la Ingeniería Eléctrica.. Con título de POSGRADO en el área de: N/A. Con EXPERIENCIA ESPECIFICA: En proyectos de diseño o interventoría de diseño o construcción o interventoría de construcción o montaje o puesta en marcha de sistemas de sistemas de transporte por cable aéreo, como Especialista Electromecánico . Debe certificar experiencia como especialista Electromecánico en proyectos de diseño o interventoría de diseño o construcción o interventoría de construcción o montaje o puesta en marcha en proyectos de sistemas de transporte por cable aéreo en mínimo dos contratos y por lo menos uno de ellos con capacidad superior a 2000 pasajeros-hora-sentido. | E28: Ingeniero mecánico, Ingeniero electrónico, Ingeniero electromecánico o Ingeniero mecatrónico o Ingeniero Eléctrico, o áreas afines a la Ingeniería Eléctrica. | F28: N/A | G28: En proyectos de diseño o interventoría de diseño o construcción o interventoría de construcción o montaje o puesta en marcha de sistemas de sistemas de transporte por cable aéreo, como Especialista Electromecánico . Debe certificar experiencia como especialista Electromecánico en proyectos de diseño o interventoría de diseño o construcción o interventoría de construcción o montaje o puesta en marcha en proyectos de sistemas de transporte por cable aéreo en mínimo dos contratos y por lo menos uno de ellos con capacidad superior a 2000 pasajeros-hora-sentido. | H28: Anexo de personal de FAC EYD CABLE San Cristóbal
A29: =+A28+1 -> 21 | B29: FERREO | C29: ESPECIALISTA EN INGENIERIA FERRROVIARIA | D29: =CONCATENATE("PROFESION: ",E29,". Con título de POSGRADO en el área de: ",F29,". Con EXPERIENCIA ESPECIFICA: ",G29) -> PROFESION: Ingenieros Civiles o Mecánicos o Eléctricos, Ingeniería Mecatrónicas o Industriales o Ingenieros de Vías y Transporte o ingenierías afines. Con título de POSGRADO en el área de: En ingeniería ferroviaria o sistemas ferroviarios y tracción eléctrica o en Construcción, Mantenimiento y Explotación de Metros, Tranvías y Ferrocarriles Urbanos o Mantenimiento ferroviario o Construcción y Mantenimiento de Infraestructuras e Instalaciones de Líneas Ferroviarias o postgrados afines. Con EXPERIENCIA ESPECIFICA: En proyectos de estudios de prefactibilidad o factibilidad o estudios y diseños o interventoría de estudios de proyectos ferroviarios para pasajeros. Al menos un contrato debe acreditar la experiencia a nivel internacional, como especialista en ingeniera ferroviaria | E29: Ingenieros Civiles o Mecánicos o Eléctricos, Ingeniería Mecatrónicas o Industriales o Ingenieros de Vías y Transporte o ingenierías afines | F29: En ingeniería ferroviaria o sistemas ferroviarios y tracción eléctrica o en Construcción, Mantenimiento y Explotación de Metros, Tranvías y Ferrocarriles Urbanos o Mantenimiento ferroviario o Construcción y Mantenimiento de Infraestructuras e Instalaciones de Líneas Ferroviarias o postgrados afines | G29: En proyectos de estudios de prefactibilidad o factibilidad o estudios y diseños o interventoría de estudios de proyectos ferroviarios para pasajeros. Al menos un contrato debe acreditar la experiencia a nivel internacional, como especialista en ingeniera ferroviaria | H29: De Corredor Férreo del SUR
A30: =+A29+1 -> 22 | B30: GENERAL | C30: ESPECIALISTA EN REDES HIDROSANITARIAS | D30: =CONCATENATE("PROFESION: ",E30,". Con título de POSGRADO en el área de: ",F30,". Con EXPERIENCIA ESPECIFICA: ",G30) -> PROFESION: Ingeniero Civil, Ingeniero Sanitario, Ingeniero Hidráulico, Ingeniero en Recursos Hídricos, Ingeniero Ambiental con tarjeta profesional vigente.. Con título de POSGRADO en el área de: Hidráulica, Recursos Hidráulicos, Recursos Hídricos, Saneamiento Ambiental o similar. Con EXPERIENCIA ESPECIFICA: En proyectos de Estudios y Diseños o Interventoría de Estudios y Diseños para la Construcción o Rehabilitación o Adecuación o Ampliación o Mejoramiento o Mantenimiento de infraestructura vial urbana o de proyectos de Espacio Público (plazas, vías peatonales, andenes, controles ambientales de las vías arterias, alamedas y ciclorutas y red de transporte no motorizado) o sistemas BRT para tráfico automotor, como ESPECIALISTA EN REDES HIDROSANITARIAS. | E30: Ingeniero Civil, Ingeniero Sanitario, Ingeniero Hidráulico, Ingeniero en Recursos Hídricos, Ingeniero Ambiental con tarjeta profesional vigente. | F30: Hidráulica, Recursos Hidráulicos, Recursos Hídricos, Saneamiento Ambiental o similar | G30: En proyectos de Estudios y Diseños o Interventoría de Estudios y Diseños para la Construcción o Rehabilitación o Adecuación o Ampliación o Mejoramiento o Mantenimiento de infraestructura vial urbana o de proyectos de Espacio Público (plazas, vías peatonales, andenes, controles ambientales de las vías arterias, alamedas y ciclorutas y red de transporte no motorizado) o sistemas BRT para tráfico automotor, como ESPECIALISTA EN REDES HIDROSANITARIAS. | H30: De EYD Leon trabuchi
A31: LEGAL
A32: =A30+1 -> 23 | B32: INTV | C32: ESPECIALISTA LEGAL | D32: =CONCATENATE("PROFESION: ",E32,". Con título de POSGRADO en el área de: ",F32,". Con EXPERIENCIA ESPECIFICA: ",G32) -> PROFESION: Abogado, con tarjeta profesional vigente. Con título de POSGRADO en el área de: En temas relacionados con derecho administrativo, contratación estatal, derecho público y/o gestión pública.. Con EXPERIENCIA ESPECIFICA: En actividades de asesoría contractual en contratos de infraestructura vial y/o de transporte. | E32: Abogado, con tarjeta profesional vigente | F32: En temas relacionados con derecho administrativo, contratación estatal, derecho público y/o gestión pública. | G32: En actividades de asesoría contractual en contratos de infraestructura vial y/o de transporte. | H32: De INTV EYD Av Villas
A33: FINANCIERO
A34: =A32+1 -> 24 | B34: INTV | C34: ESPECIALISTA FINANCIERO | D34: =CONCATENATE("PROFESION: ",E34,". Con título de POSGRADO en el área de: ",F34,". Con EXPERIENCIA ESPECIFICA: ",G34) -> PROFESION: Economista, Administrador de Empresas, Ingeniero Industrial, Administrador Financiero.. Con título de POSGRADO en el área de: Ciencias económicas y administrativas, finanzas y afines.. Con EXPERIENCIA ESPECIFICA: En revisión y aprobación de pagos y seguimiento financiero a contratos de infraestructura vial y/o de transporte | E34: Economista, Administrador de Empresas, Ingeniero Industrial, Administrador Financiero. | F34: Ciencias económicas y administrativas, finanzas y afines. | G34: En revisión y aprobación de pagos y seguimiento financiero a contratos de infraestructura vial y/o de transporte | H34: De INTV EYD Av Villas
A35: CONTABLE
A36: =A34+1 -> 25 | B36: INTV | C36: PROFESIONAL CONTABLE | D36: =CONCATENATE("PROFESION: ",E36,". Con título de POSGRADO en el área de: ",F36,". Con EXPERIENCIA ESPECIFICA: ",G36) -> PROFESION: Contaduría pública. Con título de POSGRADO en el área de: N/A. Con EXPERIENCIA ESPECIFICA: Administrativa y contable o revisoría fiscal o tributaria en proyectos de estructuración y/o interventoría y/o construcción y/o mantenimiento y/o concesiones en infraestructura de transporte y/o banca de inversiones y/o Mercado de Capitales y/o Project Finance para proyectos públicos. | E36: Contaduría pública | F36: N/A | G36: Administrativa y contable o revisoría fiscal o tributaria en proyectos de estructuración y/o interventoría y/o construcción y/o mantenimiento y/o concesiones en infraestructura de transporte y/o banca de inversiones y/o Mercado de Capitales y/o Project Finance para proyectos públicos. | H36: De INTV EYD Av Villas
A37: PERSONAL ADICIONAL AL CLAVE
A38: TOPOGRAFÍA
A39: =A36+1 -> 26 | B39: VIAS | C39: Ingeniero Catastral o Topográfico | D39: =CONCATENATE("PROFESION: ",E39,". Con título de POSGRADO en el área de: ",F39,". Con EXPERIENCIA ESPECIFICA: ",G39) -> PROFESION: Ingeniero Topográfico o Ingeniero Catastral y Geodesta con tarjeta profesional vigente.. Con título de POSGRADO en el área de: N/A. Con EXPERIENCIA ESPECIFICA: ESPECIALISTA EN TOPOGRAFÍA O INGENIERO TOPOGRÁFICO O COORDINADOR DE TOPOGRAFÍA en control de obra civil, o Interventoría para la Construcción o Rehabilitación o Adecuación, o Ampliación o Mejoramiento o Mantenimiento de infraestructura Vial Urbana para tráfico automotor o sistema BRT o vías nacionales de primer orden, o en proyectos de Espacio Público (plazas, vías peatonales, andenes, controles ambientales de las vías arterias, alamedas y ciclorutas y red de transporte no motorizado). | E39: Ingeniero Topográfico o Ingeniero Catastral y Geodesta con tarjeta profesional vigente. | F39: N/A | G39: ESPECIALISTA EN TOPOGRAFÍA O INGENIERO TOPOGRÁFICO O COORDINADOR DE TOPOGRAFÍA en control de obra civil, o Interventoría para la Construcción o Rehabilitación o Adecuación, o Ampliación o Mejoramiento o Mantenimiento de infraestructura Vial Urbana para tráfico automotor o sistema BRT o vías nacionales de primer orden, o en proyectos de Espacio Público (plazas, vías peatonales, andenes, controles ambientales de las vías arterias, alamedas y ciclorutas y red de transporte no motorizado).
A40: =A39+1 -> 27 | D40: =CONCATENATE("PROFESION: ",E40,". Con título de POSGRADO en el área de: ",F40,". Con EXPERIENCIA ESPECIFICA: ",G40) -> PROFESION: . Con título de POSGRADO en el área de: . Con EXPERIENCIA ESPECIFICA:
A41: =A40+1 -> 28 | D41: =CONCATENATE("PROFESION: ",E41,". Con título de POSGRADO en el área de: ",F41,". Con EXPERIENCIA ESPECIFICA: ",G41) -> PROFESION: . Con título de POSGRADO en el área de: . Con EXPERIENCIA ESPECIFICA:
...

Sheet FORMULARIO 1-PPTO OFICIAL
E3: FORMULARIO 1
E4: =+'PROPUESTA ECONÓMICA'!E4 -> IDU-LP-SGI-022-2022
E5: =+'PROPUESTA ECONÓMICA'!E5 -> CONSTRUCCIÓN PARA LA ADECUACIÓN DE LA CALLE 13 AL SISTEMA DE TRANSPORTE PÚBLICO MASIVO, CALZADAS DE TRÁFICO MIXTO, NUEVAS CICLORRUTAS Y ESPACIO PÚBLICO, DESDE EL LÍMITE OCCIDENTAL DEL DISTRITO HASTA LA CONEXIÓN CON LA INTERSECCIÓN DE PUENTE ARANDA INCLUIDAS LAS DEMÁS OBRAS COMPLEMENTARIAS EN BOGOTÁ, D.C. - LOTE 3
C9: VALORES PRESUPUESTO OFICIAL ESTIMADO
C10: ETAPA DE OBRA
C11: Nº | D11: ÍTEM DE PAGO | E11: ESPECIFICACIONES | G11: DESCRIPCIÓN | H11: UND. | I11: CANTIDAD | J11: VALOR UNITARIO CON AIU | K11: VALOR TOTAL
E12: GENERAL | F12: PARTICULAR
E13: GENERAL | F13: PARTICULAR
D14: 3 | G14: SUDS Y PAISAJISMO
G15: TURNO DIURNO
G16: SUDS
G17: EXCAVACIONES Y RELLENOS
C18: 4390 | D18: 3.102 | G18: EXCAVACIÓN MANUAL EN MATERIAL COMÚN (INCL CARGUE, TRANSPORTE Y DISPOSICION FINAL) | H18: M3 | I18: 1465 | J18: 99302 | K18: 145477430
G19: SUSTRATO DE SOPORTE
C20: 5708 | D20: 3.103 | G20: RELLENO EN ARENA DE RIO. INCLUYE TRANSPORTE, SUMINISTRO, EXTENDIDO MANUAL Y COMPACTACION. | H20: M3 | I20: 253 | J20: 203829 | K20: 51568737
C21: 8790 | D21: 3.104 | G21: PIEDRA PÓMEZ (Incluye suministro, transporte y extendido manual) | H21: M3 | I21: 46 | J21: 2233785 | K21: 102754110
C22: 8789 | D22: 3.105 | G22: ABONO ORGÁNICO COMPOST (Incluye suministro, transporte y extendido manual) | H22: M3 | I22: 92 | J22: 11484853 | K22: 1056606476
C23: 3018 | D23: 3.106 | G23: RELLENO EN TIERRA NEGRA PARA EMPRADIZACION (SUMINISTRO Y EXTENDIDO) | H23: M3 | I23: 69 | J23: 76547 | K23: 5281743
G24: CAPA FILTRANTE
C25: 5708 | D25: 3.107 | G25: RELLENO EN ARENA DE RIO. INCLUYE TRANSPORTE, SUMINISTRO, EXTENDIDO MANUAL Y COMPACTACION. | H25: M3 | I25: 191 | J25: 203829 | K25: 38931339
G26: CAPA DE DRENAJE
C27: 5412 | D27: 3.108 | G27: RELLENO EN TRITURADO DE 3/4`` (INCLUYE TRANSPORTE, SUMINISTRO, EXTENDIDO MANUAL Y COLOCACIÓN) | H27: M3 | I27: 230 | J27: 143408 | K27: 32983840
G28: COBERTURA VEGETAL PARA SIEMBRA CÉSPED
C29: 4798 | D29: 3.109 | G29: CHICALA H=1.5MT (INCLUYE SIEMBRA, CAJA, TIERRA, ABONO, TUTOR, TRANSPORTE Y DISPOSICIÓN FINAL DE ESCOMBROS 28 KM). SUMINISTRO Y PLANTACION. | H29: UN | I29: 64 | J29: 188711 | K29: 12077504
C30: 4888 | D30: 3.11 | G30: YARUMO H= 1.5M (INCLUYE SIEMBRA, CAJA, TIERRA NEGRA, ABONO Y TUTOR. INCLUYE TRANSPORTE Y DISPOSICIÓN FINAL DE ESCOMBROS EN SITIO AUTORIZADO (DISTANCIA DE TRANSPORTE 28 KM). SUMINISTRO Y PLANTACION. | H30: UN | I30: 106 | J30: 228617 | K30: 24233402
C31: 7644 | D31: 3.111 | G31: JARDINERÍA DE PORTE ALTO. INCLUYE SUMINISTRO, SIEMBRA, TIERRA NEGRA Y ABONO. EN BOLSA DE 26" DE ALTURA DE 50CM A 80CM | H31: M2 | I31: 560 | J31: 494083 | K31: 276686480
G32: VEGETACIÓN Y PAISAJISMO
C33: 4800 | D33: 3.112 | G33: JAZMIN CHINO H=1.5MT (INCLUYE SIEMBRA, CAJA, TIERRA, ABONO, TUTOR, TRANSPORTE Y DISPOSICIÓN FINAL DE ESCOMBROS 28KM. SUMINISTRO Y PLANTACION. | H33: UN | I33: 35 | J33: 218943 | K33: 7663005
C34: 8094 | D34: 3.113 | G34: PINO ROMERON H=1.5M (INCLUYE EXCAVACIÓN MANUAL, SIEMBRA, CAJA, TIERRA, ABONO, TUTOR, TRANSPORTE Y DISPOSICIÓN FINAL DE ESCOMBROS EN SITIO AUTORIZADO A 28 KM). SUMINISTRO Y PLANTACIÓN. | H34: UN | I34: 35 | J34: 375029 | K34: 13126015
C35: 5036 | D35: 3.114 | G35: GUAYACAN H=1.5MT (INCLUYE TIERRA, ABONO, TUTOR, TRANSPORTE Y DISPOSICIÓN FINAL DE ESCOMBROS A 28 KM). SUMINISTRO Y PLANTACION. | H35: UN | I35: 35 | J35: 238896 | K35: 8361360
C36: 4884 | D36: 3.115 | G36: NOGAL H= 1.5M (INCLUYE SIEMBRA, CAJA, TIERRA NEGRA, ABONO Y TUTOR. INCLUYE TRANSPORTE Y DISPOSICIÓN FINAL DE ESCOMBROS EN SITIO AUTORIZADO (DISTANCIA DE TRANSPORTE 28 KM). SUMINISTRO Y PLANTACION. | H36: UN | I36: 35 | J36: 226683 | K36: 7933905
C37: 7047 | D37: 3.116 | G37: LIQUIDAMBAR H=2.5M (INCLUYE EXCAVACIÓN MANUAL, SIEMBRA, CAJA, TIERRA, ABONO, TUTOR, TRANSPORTE Y DISPOSICIÓN FINAL DE ESCOMBROS EN SITIO AUTORIZADO A 28 KM). SUMINISTRO Y PLANTACION. | H37: UN | I37: 35 | J37: 446012 | K37: 15610420
C38: 4798 | D38: 3.117 | G38: CHICALA H=1.5MT (INCLUYE SIEMBRA, CAJA, TIERRA, ABONO, TUTOR, TRANSPORTE Y DISPOSICIÓN FINAL DE ESCOMBROS 28 KM). SUMINISTRO Y PLANTACION. | H38: UN | I38: 35 | J38: 188711 | K38: 6604885
C39: 5045 | D39: 3.118 | G39: FALSO PIMIENTO H=1.3M (INCLUYE SIEMBRA, TIERRA, ABONO Y TUTOR) INCLUYE TRANSPORTE Y DISPOSICIÓN FINAL DE ESCOMBROS EN SITIO AUTORIZADO A 28 KM). SUMINISTRO Y PLANTACION. | H39: UN | I39: 35 | J39: 226199 | K39: 7916965
C40: 5038 | D40: 3.119 | G40: CARBONERO H=1.5MT (INCLUYE TIERRA, ABONO, TUTOR, TRANSPORTE Y DISPOSICIÓN FINAL DE ESCOMBROS A 28 KM). SUMINISTRO Y PLANTACION. | H40: UN | I40: 35 | J40: 230431 | K40: 8065085
C41: 7379 | D41: 3.12 | G41: PALMA DE CERA (INCLUYE SIEMBRA Y TIERRA NEGRA, TRANSPORTE Y DISPOSICIÓN FINAL DE ESCOMBROS EN SITIO AUTORIZADO). DISTANCIA DE TRANSPORTE 28 KM. SUMINISTRO Y PLANTACIÓN | H41: UN | I41: 35 | J41: 437940 | K41: 15327900
C42: 5032 | D42: 3.121 | G42: FUCCIA H=1.3MT (INCLUYE TIERRA, ABONO, TUTOR, TRANSPORTE Y DISPOSICIÓN FINAL DE ESCOMBROS A 28 KM). SUMINISTRO Y PLANTACION. | H42: UN | I42: 35 | J42: 225594 | K42: 7895790
C43: 4797 | D43: 3.122 | G43: EUCALIPTO POMARROSO H=1.5MT (INCLUYE SIEMBRA, CAJA, TIERRA, ABONO, TUTOR, TRANSPORTE Y DISPOSICIÓN FINA DE ESCOMBROS A 21 KM). SUMINISTRO Y PLANTACION. | H43: UN | I43: 35 | J43: 221741 | K43: 7760935
C44: 4886 | D44: 3.123 | G44: CAUCHO SABANERO H= 1.5M (INCLUYE SIEMBRA, CAJA, TIERRA NEGRA, ABONO Y TUTOR. INCLUYE TRANSPORTE Y DISPOSICIÓN FINAL DE ESCOMBROS EN SITIO AUTORIZADO (DISTANCIA DE TRANSPORTE 28 KM). SUMINISTRO Y PLANTACION. | H44: UN | I44: 35 | J44: 225594 | K44: 7895790
... C53: 8535 | D53: 3.132 | G53: TRATAMIENTO INTEGRAL DE ÁRBOLES MAYORES A 5M. (INCLUYE RIEGO, FERTILIZACIÓN EDÁFICA, MANO DE OBRA, PODA GENERAL Y RADICULAR). | H53: UN | I53: 215 | J53: 318285 | K53: 68431275
...

Sheet PROPUESTA ECONÓMICA
E3: FORMULARIO 1
E4: IDU-LP-SGI-022-2022
E5: CONSTRUCCIÓN PARA LA ADECUACIÓN DE LA CALLE 13 AL SISTEMA DE TRANSPORTE PÚBLICO MASIVO, CALZADAS DE TRÁFICO MIXTO, NUEVAS CICLORRUTAS Y ESPACIO PÚBLICO, DESDE EL LÍMITE OCCIDENTAL DEL DISTRITO HASTA LA CONEXIÓN CON LA INTERSECCIÓN DE PUENTE ARANDA INCLUIDAS LAS DEMÁS OBRAS COMPLEMENTARIAS EN BOGOTÁ, D.C. - LOTE 3
C8: VALORES PRESUPUESTO OFICIAL ESTIMADO | N8: PROPUESTA ECONÓMICA
C9: Nº | D9: ÍTEM DE PAGO | E9: ESPECIFICACIONES | G9: DESCRIPCIÓN | H9: UND. | I9: CANTIDAD | J9: VALOR UNITARIO CON AIU | K9: VALOR TOTAL | N9: VALOR UNITARIO CON AIU OFERTADO | O9: VALOR UNITARIO CON AIU CORREGIDO | P9: VALOR UNITARIO CON AIU CORREGIDO x CANTIDAD | Q9: VERIFICACIÓN
E10: GENERAL | F10: PARTICULAR
D11: 3 | G11: SUDS Y PAISAJISMO
G12: TURNO DIURNO
G13: SUDS
G14: EXCAVACIONES Y RELLENOS
C15: 4390 | D15: 3.102 | G15: EXCAVACIÓN MANUAL EN MATERIAL COMÚN (INCL CARGUE, TRANSPORTE Y DISPOSICION FINAL) | H15: M3 | I15: 1465 | J15: 99302 | K15: 145477430 | O15: =ROUND((+N15),0) -> 0 | P15: =ROUND((+O15*$I15),0) -> 0 | Q15: =IF(OR(P15<=0,P15>$K15),"ERROR","OK") -> ERROR
G16: SUSTRATO DE SOPORTE
C17: 5708 | D17: 3.103 | G17: RELLENO EN ARENA DE RIO. INCLUYE TRANSPORTE, SUMINISTRO, EXTENDIDO MANUAL Y COMPACTACION. | H17: M3 | I17: 253 | J17: 203829 | K17: 51568737 | O17: =ROUND((+N17),0) -> 0 | P17: =ROUND((+O17*$I17),0) -> 0 | Q17: =IF(OR(P17<=0,P17>$K17),"ERROR","OK") -> ERROR
C18: 8790 | D18: 3.104 | G18: PIEDRA PÓMEZ (Incluye suministro, transporte y extendido manual) | H18: M3 | I18: 46 | J18: 2233785 | K18: 102754110 | O18: =ROUND((+N18),0) -> 0 | P18: =ROUND((+O18*$I18),0) -> 0 | Q18: =IF(OR(P18<=0,P18>$K18),"ERROR","OK") -> ERROR
C19: 8789 | D19: 3.105 | G19: ABONO ORGÁNICO COMPOST (Incluye suministro, transporte y extendido manual) | H19: M3 | I19: 92 | J19: 11484853 | K19: 1056606476 | O19: =ROUND((+N19),0) -> 0 | P19: =ROUND((+O19*$I19),0) -> 0 | Q19: =IF(OR(P19<=0,P19>$K19),"ERROR","OK") -> ERROR
C20: 3018 | D20: 3.106 | G20: RELLENO EN TIERRA NEGRA PARA EMPRADIZACION (SUMINISTRO Y EXTENDIDO) | H20: M3 | I20: 69 | J20: 76547 | K20: 5281743 | O20: =ROUND((+N20),0) -> 0 | P20: =ROUND((+O20*$I20),0) -> 0 | Q20: =IF(OR(P20<=0,P20>$K20),"ERROR","OK") -> ERROR
G21: CAPA FILTRANTE
C22: 5708 | D22: 3.107 | G22: RELLENO EN ARENA DE RIO. INCLUYE TRANSPORTE, SUMINISTRO, EXTENDIDO MANUAL Y COMPACTACION. | H22: M3 | I22: 191 | J22: 203829 | K22: 38931339 | O22: =ROUND((+N22),0) -> 0 | P22: =ROUND((+O22*$I22),0) -> 0 | Q22: =IF(OR(P22<=0,P22>$K22),"ERROR","OK") -> ERROR
G23: CAPA DE DRENAJE
C24: 5412 | D24: 3.108 | G24: RELLENO EN TRITURADO DE 3/4`` (INCLUYE TRANSPORTE, SUMINISTRO, EXTENDIDO MANUAL Y COLOCACIÓN) | H24: M3 | I24: 230 | J24: 143408 | K24: 32983840 | O24: =ROUND((+N24),0) -> 0 | P24: =ROUND((+O24*$I24),0) -> 0 | Q24: =IF(OR(P24<=0,P24>$K24),"ERROR","OK") -> ERROR
G25: COBERTURA VEGETAL PARA SIEMBRA CÉSPED
C26: 4798 | D26: 3.109 | G26: CHICALA H=1.5MT (INCLUYE SIEMBRA, CAJA, TIERRA, ABONO, TUTOR, TRANSPORTE Y DISPOSICIÓN FINAL DE ESCOMBROS 28 KM). SUMINISTRO Y PLANTACION. | H26: UN | I26: 64 | J26: 188711 | K26: 12077504 | O26: =ROUND((+N26),0) -> 0 | P26: =ROUND((+O26*$I26),0) -> 0 | Q26: =IF(OR(P26<=0,P26>$K26),"ERROR","OK") -> ERROR
C27: 4888 | D27: 3.11 | G27: YARUMO H= 1.5M (INCLUYE SIEMBRA, CAJA, TIERRA NEGRA, ABONO Y TUTOR. INCLUYE TRANSPORTE Y DISPOSICIÓN FINAL DE ESCOMBROS EN SITIO AUTORIZADO (DISTANCIA DE TRANSPORTE 28 KM). SUMINISTRO Y PLANTACION. | H27: UN | I27: 106 | J27: 228617 | K27: 24233402 | O27: =ROUND((+N27),0) -> 0 | P27: =ROUND((+O27*$I27),0) -> 0 | Q27: =IF(OR(P27<=0,P27>$K27),"ERROR","OK") -> ERROR
C28: 7644 | D28: 3.111 | G28: JARDINERÍA DE PORTE ALTO. INCLUYE SUMINISTRO, SIEMBRA, TIERRA NEGRA Y ABONO. EN BOLSA DE 26" DE ALTURA DE 50CM A 80CM | H28: M2 | I28: 560 | J28: 494083 | K28: 276686480 | O28: =ROUND((+N28),0) -> 0 | P28: =ROUND((+O28*$I28),0) -> 0 | Q28: =IF(OR(P28<=0,P28>$K28),"ERROR","OK") -> ERROR
G29: VEGETACIÓN Y PAISAJISMO
C30: 4800 | D30: 3.112 | G30: JAZMIN CHINO H=1.5MT (INCLUYE SIEMBRA, CAJA, TIERRA, ABONO, TUTOR, TRANSPORTE Y DISPOSICIÓN FINAL DE ESCOMBROS 28KM. SUMINISTRO Y PLANTACION. | H30: UN | I30: 35 | J30: 218943 | K30: 7663005 | O30: =ROUND((+N30),0) -> 0 | P30: =ROUND((+O30*$I30),0) -> 0 | Q30: =IF(OR(P30<=0,P30>$K30),"ERROR","OK") -> ERROR
C31: 8094 | D31: 3.113 | G31: PINO ROMERON H=1.5M (INCLUYE EXCAVACIÓN MANUAL, SIEMBRA, CAJA, TIERRA, ABONO, TUTOR, TRANSPORTE Y DISPOSICIÓN FINAL DE ESCOMBROS EN SITIO AUTORIZADO A 28 KM). SUMINISTRO Y PLANTACIÓN. | H31: UN | I31: 35 | J31: 375029 | K31: 13126015 | O31: =ROUND((+N31),0) -> 0 | P31: =ROUND((+O31*$I31),0) -> 0 | Q31: =IF(OR(P31<=0,P31>$K31),"ERROR","OK") -> ERROR
C32: 5036 | D32: 3.114 | G32: GUAYACAN H=1.5MT (INCLUYE TIERRA, ABONO, TUTOR, TRANSPORTE Y DISPOSICIÓN FINAL DE ESCOMBROS A 28 KM). SUMINISTRO Y PLANTACION. | H32: UN | I32: 35 | J32: 238896 | K32: 8361360 | O32: =ROUND((+N32),0) -> 0 | P32: =ROUND((+O32*$I32),0) -> 0 | Q32: =IF(OR(P32<=0,P32>$K32),"ERROR","OK") -> ERROR
C33: 4884 | D33: 3.115 | G33: NOGAL H= 1.5M (INCLUYE SIEMBRA, CAJA, TIERRA NEGRA, ABONO Y TUTOR. INCLUYE TRANSPORTE Y DISPOSICIÓN FINAL DE ESCOMBROS EN SITIO AUTORIZADO (DISTANCIA DE TRANSPORTE 28 KM). SUMINISTRO Y PLANTACION. | H33: UN | I33: 35 | J33: 226683 | K33: 7933905 | O33: =ROUND((+N33),0) -> 0 | P33: =ROUND((+O33*$I33),0) -> 0 | Q33: =IF(OR(P33<=0,P33>$K33),"ERROR","OK") -> ERROR
C34: 7047 | D34: 3.116 | G34: LIQUIDAMBAR H=2.5M (INCLUYE EXCAVACIÓN MANUAL, SIEMBRA, CAJA, TIERRA, ABONO, TUTOR, TRANSPORTE Y DISPOSICIÓN FINAL DE ESCOMBROS EN SITIO AUTORIZADO A 28 KM). SUMINISTRO Y PLANTACION. | H34: UN | I34: 35 | J34: 446012 | K34: 15610420 | O34: =ROUND((+N34),0) -> 0 | P34: =ROUND((+O34*$I34),0) -> 0 | Q34: =IF(OR(P34<=0,P34>$K34),"ERROR","OK") -> ERROR
C35: 4798 | D35: 3.117 | G35: CHICALA H=1.5MT (INCLUYE SIEMBRA, CAJA, TIERRA, ABONO, TUTOR, TRANSPORTE Y DISPOSICIÓN FINAL DE ESCOMBROS 28 KM). SUMINISTRO Y PLANTACION. | H35: UN | I35: 35 | J35: 188711 | K35: 6604885 | O35: =ROUND((+N35),0) -> 0 | P35: =ROUND((+O35*$I35),0) -> 0 | Q35: =IF(OR(P35<=0,P35>$K35),"ERROR","OK") -> ERROR
C36: 5045 | D36: 3.118 | G36: FALSO PIMIENTO H=1.3M (INCLUYE SIEMBRA, TIERRA, ABONO Y TUTOR) INCLUYE TRANSPORTE Y DISPOSICIÓN FINAL DE ESCOMBROS EN SITIO AUTORIZADO A 28 KM). SUMINISTRO Y PLANTACION. | H36: UN | I36: 35 | J36: 226199 | K36: 7916965 | O36: =ROUND((+N36),0) -> 0 | P36: =ROUND((+O36*$I36),0) -> 0 | Q36: =IF(OR(P36<=0,P36>$K36),"ERROR","OK") -> ERROR
C37: 5038 | D37: 3.119 | G37: CARBONERO H=1.5MT (INCLUYE TIERRA, ABONO, TUTOR, TRANSPORTE Y DISPOSICIÓN FINAL DE ESCOMBROS A 28 KM). SUMINISTRO Y PLANTACION. | H37: UN | I37: 35 | J37: 230431 | K37: 8065085 | O37: =ROUND((+N37),0) -> 0 | P37: =ROUND((+O37*$I37),0) -> 0 | Q37: =IF(OR(P37<=0,P37>$K37),"ERROR","OK") -> ERROR
C38: 7379 | D38: 3.12 | G38: PALMA DE CERA (INCLUYE SIEMBRA Y TIERRA NEGRA, TRANSPORTE Y DISPOSICIÓN FINAL DE ESCOMBROS EN SITIO AUTORIZADO). DISTANCIA DE TRANSPORTE 28 KM. SUMINISTRO Y PLANTACIÓN | H38: UN | I38: 35 | J38: 437940 | K38: 15327900 | O38: =ROUND((+N38),0) -> 0 | P38: =ROUND((+O38*$I38),0) -> 0 | Q38: =IF(OR(P38<=0,P38>$K38),"ERROR","OK") -> ERROR
C39: 5032 | D39: 3.121 | G39: FUCCIA H=1.3MT (INCLUYE TIERRA, ABONO, TUTOR, TRANSPORTE Y DISPOSICIÓN FINAL DE ESCOMBROS A 28 KM). SUMINISTRO Y PLANTACION. | H39: UN | I39: 35 | J39: 225594 | K39: 7895790 | O39: =ROUND((+N39),0) -> 0 | P39: =ROUND((+O39*$I39),0) -> 0 | Q39: =IF(OR(P39<=0,P39>$K39),"ERROR","OK") -> ERROR
C40: 4797 | D40: 3.122 | G40: EUCALIPTO POMARROSO H=1.5MT (INCLUYE SIEMBRA, CAJA, TIERRA, ABONO, TUTOR, TRANSPORTE Y DISPOSICIÓN FINA DE ESCOMBROS A 21 KM). SUMINISTRO Y PLANTACION. | H40: UN | I40: 35 | J40: 221741 | K40: 7760935 | O40: =ROUND((+N40),0) -> 0 | P40: =ROUND((+O40*$I40),0) -> 0 | Q40: =IF(OR(P40<=0,P40>$K40),"ERROR","OK") -> ERROR
C41: 4886 | D41: 3.123 | G41: CAUCHO SABANERO H= 1.5M (INCLUYE SIEMBRA, CAJA, TIERRA NEGRA, ABONO Y TUTOR. INCLUYE TRANSPORTE Y DISPOSICIÓN FINAL DE ESCOMBROS EN SITIO AUTORIZADO (DISTANCIA DE TRANSPORTE 28 KM). SUMINISTRO Y PLANTACION. | H41: UN | I41: 35 | J41: 225594 | K41: 7895790 | O41: =ROUND((+N41),0) -> 0 | P41: =ROUND((+O41*$I41),0) -> 0 | Q41: =IF(OR(P41<=0,P41>$K41),"ERROR","OK") -> ERROR
... C50: 8535 | D50: 3.132 | G50: TRATAMIENTO INTEGRAL DE ÁRBOLES MAYORES A 5M. (INCLUYE RIEGO, FERTILIZACIÓN EDÁFICA, MANO DE OBRA, PODA GENERAL Y RADICULAR). | H50: UN | I50: 215 | J50: 318285 | K50: 68431275 | O50: =ROUND((+N50),0) -> 0 | P50: =ROUND((+O50*$I50),0) -> 0 | Q50: =IF(OR(P50<=0,P50>$K50),"ERROR","OK") -> ERROR
G51: TUBERÍAS Y ACCESORIOS
C52: 4144 | D52: 3.133 | G52: TUBERIA PVC SANITARIA D=6" TIPO U.S. (INCLUYE SUMINISTRO E INSTALACIÓN) | H52: ML | I52: 758 | J52: 92443 | K52: 70071794 | O52: =ROUND((+N52),0) -> 0 | P52: =ROUND((+O52*$I52),0) -> 0 | Q52: =IF(OR(P52<=0,P52>$K52),"ERROR","OK") -> ERROR
...

Sheet INDICAR CÓDIGO DEL ITEM DE PAGO
B2: Código | C2: CCE-EICP-FM-14 | D2: Versión | E2: 2
B4: [La entidad podrá utilizar este formato para la presentación de los análisis de precios unitarios del contratista en la oportunidad prevista en el numeral 8.1. del Documento Base]
C7: [NOMBRE DE LA ENTIDAD]
K8: VERSIÓN
C9: [NÚMERO DEL PROCESO]
K10: PÁGINA | L10: 1 | M10: DE | N10: 1
C12: ANALISIS DE PRECIOS UNITARIOS
K14: FECHA | L14: DD | M14: MM | N14: AA
B16: ÍTEMS DE LA PROPUESTA ECONÓMICA | H16: ÍTEMS NO PREVISTOS
B20: DATOS ESPECÍFICOS
B22: ÍTEM | C22: DESCRIPCIÓN | L22: UNIDAD | N22: CANTIDAD
B24: I. EQUIPO
B27: DESCRIPCIÓN | G27: MARCA | I27: TIPO | K27: TARIFA/HORA | L27: RENDIMIENTO | N27: Vr. UNITARIO
B31: SUBTOTAL $
B32: II. MATERIALES
B35: DESCRIPCIÓN | J35: UNIDAD | K35: CANTIDAD | L35: PRECIO UNIT. | N35: Vr. UNITARIO
B38: SUBTOTAL $ | N38: 0
B39: III. TRANSPORTES
B42: MATERIAL | I42: VOL. o PESO | J42: DISTANCIA | K42: M3 o Ton/Km | L42: TARIFA | N42: Vr. UNITARIO
B45: SUBTOTAL $
B46: IV. MANO DE OBRA
B49: TRABAJADOR | I49: JORNAL | J49: PRESTACIONES | K49: JORNAL TOTAL | L49: RENDIMIENTO | N49: Vr. UNITARIO
B54: SUBTOTAL $
B56: TOTAL COSTO DIRECTO $
B57: V. COSTOS INDIRECTOS
B60: Descripción | K60: Porcentaje | L60: Valor Total
B61: ADMINISTRACION
B62: IMPREVISTOS
B63: UTILIDAD
B64: SUBTOTAL $
B66: Precio Unitario Total Aproximado al peso $
G70: Firma
G71: Nombre:
G72: Representante Legal del Contratista o su Apoderado
G73: Matricula No. :
B75: OBSERVACIONES INTERVENTORÍA
B79: APROBACIÓN POR INTERVENTORÍA
B80: Nota 1: Cuando se trate de Análisis de precios unitarios correspondientes a ítems de la propuesta económica aprobada, el Interventor aprueba el desglose de los componentes manteniendo el mismo precio unitario de cada ítem, cumpliendo con las especificaciones de construcción vigentes para el proyecto.
B82: Nota 2: Cuando se trate de Análisis de precios unitarios de ítems no previstos, el Interventor aprueba el desglose y precio unitario de cada ítem no previsto, exigiendo la aplicación de los costos correspondientes a insumos y tarifas de la propuesta económica inicial cuando estén contemplados, cumpliendo con las especificaciones de construcción vigente para el proyecto.
G85: Firma
...
