Workbook
Name _______AFC1: [3]INV!$A$25:$D$28
Name _______AFC3: [3]INV!$F$25:$I$28
Name _______AFC5: [3]INV!$K$25:$N$28
Name _______BGC1: [3]INV!$A$5:$D$8
Name _______BGC3: [3]INV!$F$5:$I$8
Name _______BGC5: [3]INV!$K$5:$N$8
Name _______CAC1: [3]INV!$A$19:$D$22
Name _______CAC3: [3]INV!$F$19:$I$22
Name _______CAC5: [3]INV!$K$19:$N$22
Name _______SBC1: [3]INV!$A$12:$D$15
Name _______SBC3: [3]INV!$F$12:$I$15
Name _______SBC5: [3]INV!$K$12:$N$15
Name ______AFC1: [3]INV!$A$25:$D$28
Name ______AFC3: [3]INV!$F$25:$I$28
Name ______AFC5: [3]INV!$K$25:$N$28
Name ______BGC1: [3]INV!$A$5:$D$8
Name ______BGC3: [3]INV!$F$5:$I$8
Name ______BGC5: [3]INV!$K$5:$N$8
Name ______CAC1: [3]INV!$A$19:$D$22
Name ______CAC3: [3]INV!$F$19:$I$22
Name ______CAC5: [3]INV!$K$19:$N$22
Name ______SBC1: [3]INV!$A$12:$D$15
Name ______SBC3: [3]INV!$F$12:$I$15
Name ______SBC5: [3]INV!$K$12:$N$15
Name _____AFC1: [3]INV!$A$25:$D$28
Name _____AFC3: [3]INV!$F$25:$I$28
Name _____AFC5: [3]INV!$K$25:$N$28
Name _____BGC1: [3]INV!$A$5:$D$8
Name _____BGC3: [3]INV!$F$5:$I$8
Name _____BGC5: [3]INV!$K$5:$N$8
Name _____CAC1: [3]INV!$A$19:$D$22
Name _____CAC3: [3]INV!$F$19:$I$22
Name _____CAC5: [3]INV!$K$19:$N$22
Name _____SBC1: [3]INV!$A$12:$D$15
Name _____SBC3: [3]INV!$F$12:$I$15
Name _____SBC5: [3]INV!$K$12:$N$15
Name ____AFC1: [3]INV!$A$25:$D$28
Name ____AFC3: [3]INV!$F$25:$I$28
Name ____AFC5: [3]INV!$K$25:$N$28
Name ____BGC1: [3]INV!$A$5:$D$8
Name ____BGC3: [3]INV!$F$5:$I$8
Name ____BGC5: [3]INV!$K$5:$N$8
Name ____CAC1: [3]INV!$A$19:$D$22
Name ____CAC3: [3]INV!$F$19:$I$22
Name ____CAC5: [3]INV!$K$19:$N$22
Name ____SBC1: [3]INV!$A$12:$D$15
Name ____SBC3: [3]INV!$F$12:$I$15
Name ____SBC5: [3]INV!$K$12:$N$15
Name ___ACT1: #REF!
Name ___ACT1: #REF!
Name ___ACT1: #REF!
Name ___ACT2: #REF!
Name ___ACT2: #REF!
Name ___ACT2: #REF!
Name ___AFC1: [3]INV!$A$25:$D$28
Name ___AFC3: [3]INV!$F$25:$I$28
Name ___AFC5: [3]INV!$K$25:$N$28
Name ___BGC1: [3]INV!$A$5:$D$8
Name ___BGC3: [3]INV!$F$5:$I$8
Name ___BGC5: [3]INV!$K$5:$N$8

Sheet AU 4 meses
D3: COSTO DIRECTO | H3: ='PRESUPUESTO CALLE 58 SUR'!F86 -> 9.1233765e+08 | J3: PLAZO
D4: ADMINISTRACIÓN | G4: =H4/H3 -> 0.3175393 | H4: =J85 -> 2.8970306e+08 | J4: 4 MESES
D5: UTILIDAD | G5: 0.05 | H5: =ROUND(H3*G5,0) -> 45616883 | J5: 4
D6: VALOR TOTAL | H6: =ROUND(H3+H4+H5,2) -> 1.2476576e+09
D7: REPOSICIÓN DE COBERTURA EXISTENTE - QUEBRADA SIN NOMBRE Carrera 45A Calles 78 Sur y 82 Sur MUNICIPIO DE SABANETA
B9: DISCRIMINACION AU
B10: Item | C10: Descripción | D10: Unidad | E10: Cantidad | F10: valor unitario | G10: Factor prestacional | H10: Dedicación | I10: Meses | J10: V/Parcial
B11: 1 | C11: Personal Profesional y Técnico
B12: 1.1 | C12: Director de Obra | D12: un | E12: 1 | F12: 6500000 | G12: 1.58 | H12: 1 | I12: =J5 -> 4 | J12: =E12*F12*G12*H12*I12 -> 41080000
B13: 1.2 | C13: Tecnico Obras Civiles | D13: un | E13: 0 | F13: 2500000 | G13: 1.58 | H13: 1 | I13: =$I$12 -> 4 | J13: =E13*F13*G13*H13*I13 -> 0
B14: 1.3 | C14: Residente Social | D14: un | E14: 0 | F14: 4000000 | G14: 1.58 | H14: 1 | I14: =$I$12 -> 4 | J14: =E14*F14*G14*H14*I14 -> 0
B15: 1.4 | C15: Tecnologo en Seguridad Industrial y Salud Ocupal | D15: un | E15: 1 | F15: 1700000 | G15: 1.58 | H15: 1 | I15: =$I$12 -> 4 | J15: =E15*F15*G15*H15*I15 -> 10744000
B16: 1.5 | C16: Ingeniero Civil (especialización Estructural) Asesor | D16: un | E16: 0 | F16: 6500000 | G16: 1 | H16: 0.25 | I16: =$I$12 -> 4 | J16: =E16*F16*G16*H16*I16 -> 0
B17: 1.6 | C17: Auxiliar de Residencia | D17: un | E17: 1 | F17: 2500000 | G17: =G13 -> 1.58 | H17: 1 | I17: =$I$12 -> 4 | J17: =E17*F17*G17*H17*I17 -> 15800000
B18: 1.7 | C18: Ingeniero Electrico | D18: un | E18: 0 | F18: 5000000 | G18: 1.58 | H18: 0.25 | I18: =$I$12 -> 4 | J18: =E18*F18*G18*H18*I18 -> 0
B19: 1.8 | C19: Ingeniero Sanitario | D19: un | E19: 0 | F19: 6000000 | G19: 1 | H19: 0.25 | I19: =$I$12 -> 4 | J19: =E19*F19*G19*H19*I19 -> 0
B20: 1.9 | C20: Arqueólogo | D20: un | E20: 0 | F20: 8000000 | G20: 1 | H20: 0.25 | I20: =$I$12 -> 4 | J20: =E20*F20*G20*H20*I20 -> 0
B21: 1.1 | C21: Tecnólogo Socio - Ambiental | D21: un | E21: 0.5 | F21: 3800000 | G21: 1.58 | H21: 1 | I21: =$I$12 -> 4 | J21: =E21*F21*G21*H21*I21 -> 12008000
B22: 2 | C22: Personal Operativo
B23: 2.1 | C23: Maestro de Obra (Encargado) | D23: un | E23: 1 | F23: 2000000 | G23: 1.58 | H23: 1 | I23: =I13 -> 4 | J23: =E23*F23*G23*H23*I23 -> 12640000
B24: 2.2 | C24: Almacenista | D24: un | E24: 1 | F24: 1550000 | G24: =$G$25 -> 1.73 | H24: 1 | I24: =I14 -> 4 | J24: =E24*F24*G24*H24*I24 -> 10726000
B25: 2.3 | C25: Auxiliar Almacenista | D25: un | E25: 0 | F25: 1014980 | G25: 1.73 | H25: 1 | I25: =I15 -> 4 | J25: =E25*F25*G25*H25*I25 -> 0
B26: 2.4 | C26: Ayudantes por Administración | D26: un | E26: 1 | F26: =F25 -> 1014980 | G26: =$G$25 -> 1.73 | H26: 1 | I26: =I16 -> 4 | J26: =E26*F26*G26*H26*I26 -> 7023661.6
B27: 3 | C27: Personal Administrativo
B28: 3.1 | C28: Director de Poryectos | D28: un | F28: 8000000 | G28: 1.58 | H28: 0.1 | I28: =I18 -> 4 | J28: =+E28*F28*G28*H28*I28 -> 0
B29: 3.2 | C29: Coordinador Proyectos | D29: un | F29: 3500000 | G29: 1.58 | H29: 0.1 | I29: =I19 -> 4 | J29: =+E29*F29*G29*H29*I29 -> 0
B30: 3.3 | C30: Secretaria | D30: un | F30: =F25 -> 1014980 | G30: =G28 -> 1.58 | H30: 0.1 | I30: =I20 -> 4 | J30: =+E30*F30*G30*H30*I30 -> 0
B31: 3.4 | C31: Asesor Jurìdico | D31: un | F31: 2000000 | G31: 1.58 | H31: 0.1 | I31: =I21 -> 4 | J31: =+E31*F31*G31*H31*I31 -> 0
B32: 3.5 | C32: Contador | D32: un | F32: 2500000 | G32: 1.58 | H32: 0.1 | I32: =I12 -> 4 | J32: =+E32*F32*G32*H32*I32 -> 0
B33: 3.6 | C33: Auxiliar Contable | D33: un | F33: 1500000 | G33: =G30 -> 1.58 | H33: 0.1 | I33: =I23 -> 4 | J33: =+E33*F33*G33*H33*I33 -> 0
B34: 3.7 | C34: Coordinador de Compras | D34: un | F34: 1500000 | G34: =G30 -> 1.58 | H34: 0.1 | I34: =I24 -> 4 | J34: =+E34*F34*G34*H34*I34 -> 0
B35: 3.8 | C35: Auxiliar de compras | D35: un | F35: 1400000 | G35: =G34 -> 1.58 | H35: 0.1 | I35: =I25 -> 4 | J35: =+E35*F35*G35*H35*I35 -> 0
B36: 3.9 | C36: Administrador | D36: un | F36: 3000000 | G36: 1.58 | H36: 0.1 | I36: =I26 -> 4 | J36: =+E36*F36*G36*H36*I36 -> 0
B37: 3.1 | C37: Mensajero | D37: un | F37: 1014980 | G37: =G33 -> 1.58 | H37: 0.1 | I37: =I12 -> 4 | J37: =+E37*F37*G37*H37*I37 -> 0
B38: 3.11 | C38: Desarrollo Humano | D38: un | F38: 1500000 | G38: 1.58 | H38: 0.1 | I38: =I12 -> 4 | J38: =+E38*F38*G38*H38*I38 -> 0
B39: 3.12 | C39: Administración Central | D39: un | E39: 1 | F39: 5000000 | G39: 1 | H39: 1 | I39: 1 | J39: =E39*F39*I39*G39*H39 -> 5000000
B40: 4 | C40: Celaduría 24 horas
B41: 4.1 | C41: Celaduría 24 horas | D41: mes | E41: 1 | F41: 9980000 | G41: 1 | H41: 1 | I41: =I12 -> 4 | J41: =E41*F41*H41*I41 -> 39920000
B42: 4.2 | C42: Celaduría Nocturna | D42: mes | E42: 0 | F42: 9800000 | G42: 1 | H42: 1 | I42: =I13 -> 4 | J42: =E42*F42*H42*I42 -> 0
B43: 5 | C43: Inversión SocioAmbiental
...

Sheet PRESUPUESTO CALLE 58 SUR
A1: RECUPERACIÓN BANCA VÍA CALLE 58 SUR, CARRERA 38, MUNICIPIO DE SABANETA - ANTIOQUIA.
A2: PRESUPUESTO DE OBRA
A4: ÍTEM | B4: DESCRIPCIÓN | C4: UNIDAD | D4: CANTIDAD | E4: VR. UNITARIO | F4: VALOR TOTAL
A5: 1 | B5: OBRAS DE MITIGACIÓN - PROVISIONALES
A6: 1.1 | B6: Rocería y limpieza, Incluye cargue, transporte y botada de material en botaderos oficiales o donde indique la interventoría, hasta cualquier altura de la vegetación, incluye desenraice de árboles hasta la altura de la vegetación y de diámetro inferiores a 10 cm. La rocería se realizará a ras de piso. Se utilizará guadaña o machete. | C6: m2 | D6: 656 | E6: =APU!F48 -> 9116 | F6: =ROUND(D6*E6,2) -> 5980096
A7: 1.2 | B7: DEMOLICIÓN DE SUMIDEROS de cualquier tipo y material existentes. Incluye: Cargue, transporte y botada de escombros, recuperación de los materiales aprovechables o su transporte hasta el sitio que lo indique la interventoría. | C7: un | D7: 3 | E7: =APU!F96 -> 315915 | F7: =ROUND(D7*E7,2) -> 947745
A8: 1.3 | B8: DEMOLICIÓN PAVIMENTO ASFÁLTICO (para brecha), cargue, transporte y botada de escombros, HASTA ESPESOR DE 4". Incluye corte con máquina de disco según trazado y compresor neumático con martillo, además recuperación de los materiales aprovechables o su transporte hasta el sitio que lo indique la interventoría. | C8: m2 | D8: 14.4 | E8: =APU!F144 -> 44858 | F8: =ROUND(D8*E8,2) -> 645955.2
A9: 1.4 | B9: EXCAVACIÓN MANUAL de material heterogéneo HASTA 3 m., bajo cualquier grado de humedad. Incluye: roca descompuesta, bolas de roca de volumen inferior a 0.35 m³., el cargue, transporte interno de las excavaciones en los sitios donde lo indique la interventoría y su medida será en el sitio. La botada y el entibado, se pagaran por su respectivo Ítem. | C9: m3 | D9: 77.52 | E9: =APU!F192 -> 57405 | F9: =ROUND(D9*E9,2) -> 4450035.6
A10: 1.5 | B10: LLENOS EN MATERIAL ESTABILIZADO CON CEMENTO CON MATERIAL TIPO SUB-BASE GRANULAR, compactados mecánicamente. Incluye material de préstamo, 2 sacos de cemento 50 kg por cada m3, transporte interno y todo lo necesario para su correcta compactación. Y su medida será en sitio ya compactado. | C10: m3 | D10: 53.7 | E10: =APU!F240 -> 299474 | F10: =ROUND(D10*E10,2) -> 16081754
A11: 1.6 | B11: Colocación de concreto de 14 Mpa para SOLADO, con un espesor DE 0.05 m. Incluye el suministro y el transporte del concreto y todos los demás elementos necesarios para su correcta construcción, incluye acarreo interno. | C11: m2 | D11: 2.88 | E11: =APU!F288 -> 50611 | F11: =ROUND(D11*E11,2) -> 145759.68
A12: 1.7 | B12: Colocación de CONCRETO CICLÓPEO de 21 Mpa y 40% de piedra con un diámetro entre 4" y 10". para REEMPLAZO. Incluye suministro y el transporte del concreto, mano de obra, protección y curado, para estructuras de acuerdo con las diferentes dimensiones establecidas en los planos y diseños y todo lo demás para el correcto proceso constructivo. | C12: m3 | D12: 23.04 | E12: =APU!F336 -> 684649 | F12: =ROUND(D12*E12,2) -> 15774313
A13: 1.8 | B13: Construcción de anclajes en concreto de 21 Mpa para tubería de pvc de acueducto o alcantarillado, incluye el suministro, transporte externo e interno y vaciado de concreto de 21 Mpa. Incluye colocación de formaletas, concreto y demás elementos que se requieren para construir estas estructuras. Incluye también la mano de obra, los equipos, herramientas necesarias para la correcta ejecución y funcionamiento de esta actividad. No incluye refuerzo. | C13: un | D13: 2 | E13: =APU!F384 -> 307759 | F13: =ROUND(D13*E13,2) -> 615518
A14: 1.9 | B14: Suministro, transporte e instalación de TUBERÍA PVC-NOVAFORT, con un DIÁMETRO DE 24". Incluye suministro y transporte de los materiales, bocas, accesorios, acondicionador de superficie y adhesivo Novafort y todos los elementos necesarios para su correcta instalación y funcionamiento. La excavación, encamado, atraques y los llenos se pagaran en su ítem respectivo. | C14: m | D14: 6.5 | E14: =APU!F432 -> 777739 | F14: =ROUND(D14*E14,2) -> 5055303.5
A15: 1.1 | B15: Suministro, transporte e instalación de TUBERÍA PVC-NOVAFORT, con un DIÁMETRO DE 250 mm. Incluye suministro y transporte de los materiales, bocas, accesorios, acondicionador de superficie y adhesivo Novafort y todos los elementos necesarios para su correcta instalación y funcionamiento. La excavación, encamado, atraques y los llenos se pagaran en su ítem respectivo. | C15: m | D15: 12 | E15: =APU!F480 -> 165381 | F15: =ROUND(D15*E15,2) -> 1984572
A16: 1.11 | B16: Suministro, transporte y colocación de TRITURADO de 3/4 " para construcción de CIMENTACIÓN DE TUBERÍA PVC NOVAFORT. Incluye transporte interno y todo lo necesario para su correcta instalación. | C16: m3 | D16: 21.96 | E16: =APU!F528 -> 241448 | F16: =ROUND(D16*E16,2) -> 5302198.1
A17: 1.12 | B17: Construcción de Emboquillada de tubería en pared para caja y/o muro, según especificaciones técnicas de EEPP de Medellín. Incluye suministro, transporte e instalación de los materiales y todo lo necesario para su correcta ejecución. | C17: un | D17: 3 | E17: =APU!F576 -> 147396 | F17: =ROUND(D17*E17,2) -> 442188
A18: 1.13 | B18: Construcción de POCETA PROVISIONAL de 1.40X1.40 x altura hasta 1.40 m., (medidas externas), muros de espesor de 25 cm., Losa de Fondo de espesor 30 cm., en concreto de 21Mpa. Incluye suministro, transporte e instalación de los materiales, formaleta, vibrado y todos los elementos necesarios para su correcta construcción y funcionamiento. Según diseño y especificaciones. La excavación, llenos, entresuelo y acero de refuerzo se pagarán en su ítem respectivo. | C18: un | D18: 1 | E18: =APU!F624 -> 2557821 | F18: =ROUND(D18*E18,2) -> 2557821
A19: 2 | B19: PRELIMINARES
A20: 2.1 | B20: LOCALIZACIÓN, TRAZADO Y REPLANTEO. Se utilizará personal experto con equipo de precisión. Se hará con la frecuencia que lo indique la interventoría. Incluye demarcación con pintura, línea de trazado, corte de piso, libretas y planos. | C20: día | D20: 5 | E20: =APU!F672 -> 756415 | F20: =ROUND(D20*E20,2) -> 3782075
A21: 2.2 | B21: Rocería y limpieza, Incluye cargue, transporte y botada de material en botaderos oficiales o donde indique la interventoría, hasta cualquier altura de la vegetación, incluye desenraice de árboles hasta la altura de la vegetación y de diámetro inferiores a 10 cm. La rocería se realizará a ras de piso. Se utilizará guadaña o machete. | C21: m2 | D21: 485.96 | E21: =APU!F720 -> 9116 | F21: =ROUND(D21*E21,2) -> 4430011.4
A22: 2.3 | B22: Instalación de CERRAMIENTO PROVISIONAL en malla naranja polietileno de alta densidad, estabilidad y resistencia, anticorrosivo, con estabilizados de rayos UV, con una altura de 1,20 m, balizas móviles base antideslizante cada 1,50 m. fijaciones con correas de amarre plásticas y cinta de peligro, Incluye: suministro, transporte, instalación, traslados y desmonte y todos los demás elementos necesarios para su correcta instalación y operación. | C22: m | D22: 15 | E22: =APU!F768 -> 28864 | F22: =ROUND(D22*E22,2) -> 432960
A23: 3 | B23: DEMOLICIONES
A24: 3.1 | B24: DEMOLICIÓN DE BORDILLOS O CUNETAS EN CONCRETO, manual o mecánicamente, de cualquier tamaño. Incluye retiro de refuerzo e instalaciones embebidas. La disposición final de los materiales provenientes de las demoliciones se deben realizar en sitios que cumplan con los requisitos exigidos por la autoridad ambiental. Incluye cargue transporte y botada. | C24: m | D24: 150 | E24: =APU!F816 -> 32644 | F24: =ROUND(D24*E24,2) -> 4896600
A25: 3.2 | B25: DEMOLICIÓN PAVIMENTO ASFÁLTICO, CUALQUIER ESPESOR. Incluye compresor neumático con martillo, además recuperación de los materiales aprovechables y/o su transporte hasta el sitio que lo indique la interventoría, y/o cargue transporte y botada, corte de pavimento con máquina. | C25: m2 | D25: 450 | E25: =APU!F864 -> 44858 | F25: =ROUND(D25*E25,2) -> 20186100
A26: 3.3 | B26: DEMOLICIÓN ESTRUCTURAS DE CONCRETO cargue, transporte y botada de escombros, manual o mecánicamente, de cualquier resistencia, reforzado o ciclópeo, y en cualquier clase de estructura. Incluye retiro de refuerzo y cualquier tipo de acabado (revoques y enchapes) o piso (en losas) e instalaciones embebidas, compresor neumático con martillo, además recuperación de los materiales aprovechables o su transporte hasta el sitio que lo indique la interventoría. | C26: m3 | D26: 7.2 | E26: =APU!F912 -> 331321 | F26: =ROUND(D26*E26,2) -> 2385511.2
A27: 4 | B27: MOVIMIENTO DE TIERRA Y LLENOS
A28: 4.1 | B28: EXCAVACIÓN MECÁNICA DE ROCA en Brechas con CUÑA HIDRÁULICA. Incluye perforaciones con taladro neumático rotopercutor de 2" de diámetro, desembombe, extracción del material de la brecha y acarreo interno y acopio donde lo indique la interventoría y todos los demás elementos necesarios para su correcta ejecución. SU MEDIDA SERA EN SITIO. NO INCLUYE BOTADA. | C28: m3 | D28: 20 | E28: =APU!F960 -> 471633 | F28: =ROUND(D28*E28,2) -> 9432660
A29: 4.2 | B29: EXCAVACIÓN MANUAL de material heterogéneo hasta 4.0 m de altura para filtros y fundaciones, bajo cualquier grado de humedad. Incluye: roca descompuesta, bolas de roca de volumen inferior a 0.35 m³., el cargue, transporte interno, a los sitios donde lo indique la interventoría y su medida será en el sitio. No incluye botada ni entibado. | C29: m3 | D29: 900 | E29: =APU!F1008 -> 62340 | F29: =ROUND(D29*E29,2) -> 56106000
A30: 4.3 | B30: EXCAVACIÓN MANUAL PARA PILOTES Ø= 0.40 m. En material heterogéneo (HASTA 2.0 m.). Incluye la extracción del material de los pilotes y acarreo interno de materiales, el cargue, transporte y botada del material proveniente de la excavación en botaderos oficiales o donde lo indique la interventoría Y SU MEDIDA SERA EN SITIO. | C30: m | D30: 69 | E30: =APU!F1056 -> 83046 | F30: =ROUND(D30*E30,2) -> 5730174
A31: 4.4 | B31: Construcción de APUNTALAMIENTO DE TALUDES Corte según diseño, con elementos metálicos y/o de madera, de altura hasta 2.5 m, bajo caulaquiere grado de humedad. Incluye suministro, transporte y colocación de elementos en madera,metálicos (tacos, formaleta), el cargue, transporte interno y externo y su medida será en el sitio, su forma de pago se hará por el área que se encuentre en contacto con la tierra. | C31: m2 | D31: 10 | E31: =APU!F1104 -> 64085 | F31: =ROUND(D31*E31,2) -> 640850
A32: 4.5 | B32: EXCAVACIÓN PARA PILAS DE 0,0 a 4,0 m de profundidad con DÍAMETRO EXTERIOR DE 1,40m, en material heterogéneo, con piedras de hasta 0.05 m³. Incluye anillos de revestimiento en concreto de 2.000 psi. con espesor de 10cm, pozo piloto de bombeo, formaleta en madera común, molinete, motobomba, extracción del material de la pila y acarreo interno y SOBREACARREO de materiales, cargue, transporte y botada del material proveniente de la excavación en botaderos oficiales o donde lo indique la interventoría y todo lo necesario para su correcta construcción. SU MEDIDA SERA EN SITIO. | C32: m | D32: =6*4 -> 24 | E32: =APU!F1152 -> 829214 | F32: =ROUND(D32*E32,2) -> 19901136
A33: 5 | B33: LLENOS
A34: 5.1 | B34: LLENOS EN ARENILLA Y/O MATERIAL DE PRESTAMO, compactados mecánicamente hasta obtener una densidad del 95% de la máxima obtenida en el ensayo del próctor modificado. Incluye transporte interno. Su medida será en sitio ya compactado. | C34: m3 | D34: 50 | E34: =APU!F1200 -> 172954 | F34: =ROUND(D34*E34,2) -> 8647700
A35: 5.2 | B35: LLENOS EN MATERIAL ESTABILIZADO CON CEMENTO CON MATERIAL TIPO SUB-BASE GRANULAR, compactados mecánicamente. Incluye material de préstamo, 2 sacos de cemento 50 kg por cada m3, transporte interno y todo lo necesario para su correcta compactación. Y su medida será en sitio ya compactado. | C35: m3 | D35: =11.38+14.4 -> 25.78 | E35: =E10 -> 299474 | F35: =ROUND(D35*E35,2) -> 7720439.7
A36: 6 | B36: CARGUE, RETIRO Y BOTADA DE MATERIAL SOBRANTE.
A37: 6.1 | B37: CARGUE MANUAL y/o MECÁNICO, TRANSPORTE Y BOTADA de material proveniente de las EXPLANACIONES, EXCAVACIONES Y VOLADURAS DE ROCA. Incluye transportes internos, paleros, derecho de botadero. Se debe hacer en botaderos oficiales autorizados por la entidad competente o hasta el sitio que indique la interventoría. Su medida será en sitio. | C37: m3 | D37: 250 | E37: =+CUADRILLAS!B103 -> 58198 | F37: =ROUND(D37*E37,2) -> 14549500
A38: 7 | B38: ACERO DE REFUERZO
A39: 7.1 | B39: Suministro, transporte e instalación de ACERO DE REFUERZO FIGURADO FY= 420 Mpa-60000 PSI, corrugado. Incluye transporte con descarga, transporte interno, alambre de amarre, certificados y todos los elementos necesarios para su correcta instalación, según diseño y recomendaciones estructurales. | C39: kg | D39: 22200 | E39: =APU!F1344 -> 9039 | F39: =ROUND(D39*E39,2) -> 200665800
A40: 8 | B40: CONCRETOS
A41: 8.1 | B41: Colocación de concreto de 14 Mpa para SOLADO, con un espesor DE 0.05 m. Incluye el suministro y el transporte del concreto y todos los demás elementos necesarios para su correcta construcción, incluye acarreo interno. | C41: m2 | D41: 70 | E41: =APU!F1392 -> 49794 | F41: =ROUND(D41*E41,2) -> 3485580
...

Sheet APU
B2: ANÁLISIS DE PRECIO UNITARIO
B3: DESCRIPCIÓN | E3: UNIDAD | F3: ÍTEM
B4: ='PRESUPUESTO CALLE 58 SUR'!B6 -> Rocería y limpieza, Incluye cargue, transporte y botada de material en botaderos oficiales o donde indique la interventoría, hasta cualquier altura de la vegetación, incluye desenraice de árboles hasta la altura de la vegetación y de diámetro inferiores a 10 cm. La rocería se realizará a ras de piso. Se utilizará guadaña o machete. | E4: ='PRESUPUESTO CALLE 58 SUR'!C6 -> m2 | F4: ='PRESUPUESTO CALLE 58 SUR'!A6 -> 1.1
B5: Descripción | C5: Unidad | D5: Cantidad | E5: V. Unt. | F5: V.Total
B6: Materiales
B7: =INSUMOS!B192 -> Lonas o costales de fibra de 50 kilos x un + transporte | C7: un | D7: 0.25 | E7: =INSUMOS!D192 -> 2083.3333 | F7: =D7*E7 -> 520.83333
F8: =D8*E8 -> 0
F9: =D9*E9 -> 0
F10: =D10*E10 -> 0
F11: =D11*E11 -> 0
F12: =D12*E12 -> 0
F13: =D13*E13 -> 0
F14: =D14*E14 -> 0
F15: =D15*E15 -> 0
F16: =D16*E16 -> 0
F17: =D17*E17 -> 0
F18: =D18*E18 -> 0
B19: Sub-Total Materiales | F19: =SUM(F7:F18) -> 520.83333
B20: Mano de Obra
B21: =CUADRILLAS!A79 -> Cuad. 1of + 1ay | C21: día | D21: 0.011911371 | E21: =CUADRILLAS!B79 -> 207851 | F21: =D21*E21 -> 2475.7903
F22: =D22*E22 -> 0
F23: =D23*E23 -> 0
F24: =D24*E24 -> 0
B25: Su-Total de Mano de Obra | F25: =SUM(F21:F24) -> 2475.7903
B26: Herramienta
B27: Herramienta menor | C27: (%)mo | D27: 0.05 | E27: =F25 -> 2475.7903 | F27: =D27*E27 -> 123.78951
B28: Sub-Total de Herramienta | F28: =SUM(F27) -> 123.78951
B29: Equipo
B30: =INSUMOS!B487 -> Guadañadora/ cortadora de cesped. Incluye combustible y transporte. | C30: día | D30: 0.005 | E30: =INSUMOS!D487 -> 35200 | F30: =D30*E30 -> 176
F31: =D31*E31 -> 0
F32: =D32*E32 -> 0
F33: =D33*E33 -> 0
F34: =D34*E34 -> 0
F35: =D35*E35 -> 0
F36: =D36*E36 -> 0
F37: =D37*E37 -> 0
F38: =D38*E38 -> 0
F39: =D39*E39 -> 0
F40: =D40*E40 -> 0
F41: =D41*E41 -> 0
...

Sheet PMT
A1: PRESUPUESTO PMT
A2: 1 | B2: Señales informativa Obra. Dimensiones y características según lo establecido por el Manual de Señalización Vial 2015 (*). | C2: un | D2: 3 | E2: 180000 | F2: =ROUND(D2*E2,0) -> 540000
A3: 2 | B3: Señales reglamentarias. Dimensiones y características según lo establecido por el Manual de Señalización Vial 2015 (*). | C3: un | D3: 3 | E3: 180000 | F3: =ROUND(D3*E3,0) -> 540000
A4: 3 | B4: Señales preventivas Obra. Dimensiones y características según lo establecido por el Manual de Señalización Vial 2015 (*). | C4: un | D4: 3 | E4: 180000 | F4: =ROUND(D4*E4,0) -> 540000
A5: 4 | B5: Paleta de pare y siga Dimensiones y características según lo establecido por el Manual de Señalización Vial 2015 | C5: un | D5: 2 | E5: 65000 | F5: =ROUND(D5*E5,0) -> 130000
A6: 5 | B6: Maletín (2,0 x 1,0 m) . (Alquiler) | C6: un | D6: 6 | E6: 85000 | F6: =ROUND(D6*E6,0) -> 510000
A7: 6 | B7: Balizas (1,4 m) | C7: un | D7: 0 | E7: 45000 | F7: =ROUND(D7*E7,0) -> 0
A8: 7 | B8: conos viales (90cm) | C8: un | D8: 5 | E8: 52000 | F8: =ROUND(D8*E8,0) -> 260000
A9: 8 | B9: Faro luminoso (flasher) | C9: un | D9: 0 | E9: 50000 | F9: =ROUND(D9*E9,0) -> 0
A10: 9 | B10: Barricadas con franjas reflectivas grado IV con 1,50m alto y 2,40m de ancho (alquiler) | C10: un | D10: 4 | E10: 65000 | F10: =ROUND(D10*E10,0) -> 260000
A11: 10 | B11: Malla plástica naranja (polietileno de alta densidad, rollo por 50 m, ancho 1,40 m) | C11: m | D11: 500 | E11: 2000 | F11: =ROUND(D11*E11,0) -> 1000000
A12: 11 | B12: Estructuración y Trámite de aprobación de PMT | C12: un | D12: 1 | E12: 3500000 | F12: =ROUND(D12*E12,0) -> 3500000
A13: 12 | B13: Auxiliar de tránsito, incluida dotación | C13: personas/mes | D13: 1 | E13: 1926595 | F13: =ROUND(D13*E13,0) -> 1926595
... A16: 15 | B16: Asesoria Especialista en movilidad | C16: personas-mes | D16: 0 | E16: 2100000 | F16: =ROUND(D16*E16,0) -> 0
A17: TOTAL PMT | F17: =+SUM(F2:F16) -> 10972443
A20: El valor todal presupuestado por CONCRETOS Y MEZCLAS S.A. por concepto de implementación del PLAN DE MANEJO DE TRÁNSITO, reflejada en sus respectivo anexo, es un valor estimado que será un gasto reembolsable demostrable acorde a la Estructuración finalmente aprobada por la Entidad Competente. Lo anterior, con la finalidad de ser ejecutados en la proporcion requerida y durante los tiempos en que se presentan las necesidades que cada uno de ellos busca satisfacer. Dichas actividades serán reconocidas a cargo de reeembolso de gastos.

Sheet CUADRILLAS
A1: ANALISIS DETALLADO DEL PORCENTAJE DE PRESTACIONES SOCIALES OPERATIVO | G1: Histórico del salario mínimo en Colombia desde 1.990
C2: =+B5*1.7233 -> 1925222.5
A3: SALARIO MENSUAL | B3: =H36 -> 1000000 | E3: 100 | G3: Año | H3: Salario mínimo | I3: Auxilio de transporte | K3: % INC. SALARIO | L3: % INC. SUB. TTE
A4: SUBSIDIO TRANSPORTE | B4: =I36 -> 117172 | G4: 1990 | H4: 41025 | I4: 3798 | J4: =H4+I4 -> 44823
A5: SALARIO TOTAL MENSUAL | B5: =B3+B4 -> 1117172 | G5: 1991 | H5: 51720 | I5: 4787 | J5: =H5+I5 -> 56507 | K5: =(H5-H4)/H4 -> 0.2606947 | L5: =(I5-I4)/I4 -> 0.26040021 | M5: 1
A6: JORNAL | B6: =B5/30 -> 37239.067 | G6: 1992 | H6: 65190 | I6: 6033 | J6: =H6+I6 -> 71223 | K6: =(H6-H5)/H5 -> 0.26044084 | L6: =(I6-I5)/I5 -> 0.26028828 | M6: 2
A7: TOTAL SALARIO ANUAL | B7: =B3*C7 -> 12166667 | C7: =365/30 -> 12.166667 | G7: 1993 | H7: 81520 | I7: 7542 | J7: =H7+I7 -> 89062 | K7: =(H7-H6)/H6 -> 0.25049854 | L7: =(I7-I6)/I6 -> 0.25012432 | M7: 3
A8: TOTAL SALARIO + TRANSPORTE ANUAL | B8: =B5*C7 -> 13592259 | G8: 1994 | H8: 89700 | I8: 8705 | J8: =H8+I8 -> 98405 | K8: =(H8-H7)/H7 -> 0.10034347 | L8: =(I8-I7)/I7 -> 0.15420313 | M8: 4
A9: PRESTACIONES | B9: BASE | C9: FACTOR | D9: VALOR | E9: % | G9: 1995 | H9: 118934 | I9: 10815 | J9: =H9+I9 -> 129749 | K9: =(H9-H8)/H8 -> 0.32590858 | L9: =(I9-I8)/I8 -> 0.24238943 | M9: 5
A10: CESANTIAS ANUAL | B10: =B8*C10 -> 1340606.4 | C10: =36/365 -> 0.098630137 | D10: =B10*C10 -> 132224.19 | E10: =B10/$B$7 -> 0.11018683 | G10: 1996 | H10: 142125 | I10: 13567 | J10: =H10+I10 -> 155692 | K10: =(H10-H9)/H9 -> 0.1949905 | L10: =(I10-I9)/I9 -> 0.2544614 | M10: 6
A11: INTERESES CESANTIAS | B11: =$B$10*C11 -> 160872.77 | C11: 0.12 | D11: =D10*C11 -> 15866.903 | E11: =B11/$B$7 -> 0.013222419 | G11: 1997 | H11: 172005 | I11: 17250 | J11: =H11+I11 -> 189255 | K11: =(H11-H10)/H10 -> 0.21023747 | L11: =(I11-I10)/I10 -> 0.27146753 | M11: 7
A12: VACACIONES - 15 DIAS | B12: =B3*C12 -> 500000 | C12: 0.5 | D12: =B3/30*15 -> 500000 | E12: =B12/$B$7 -> 0.04109589 | G12: 1998 | H12: 203825 | I12: 20700 | J12: =H12+I12 -> 224525 | K12: =(H12-H11)/H11 -> 0.18499462 | L12: =(I12-I11)/I11 -> 0.2 | M12: 8
A13: PRIMA - 30 DIAS | B13: =$B$4+$B$3 -> 1117172 | C13: 1 | D13: =B3+B4 -> 1117172 | E13: =D13/12/(B3+B4) -> 0.083333333 | G13: 1999 | H13: 236438 | I13: 24012 | J13: =H13+I13 -> 260450 | K13: =(H13-H12)/H12 -> 0.16000491 | L13: =(I13-I12)/I12 -> 0.16 | M13: 9
A14: OTROS COSTOS | G14: 2000 | H14: 260100 | I14: 26413 | J14: =H14+I14 -> 286513 | K14: =(H14-H13)/H13 -> 0.10007698 | L14: =(I14-I13)/I13 -> 0.099991671 | M14: 10
A15: Hidratación - Otros | E15: 0.01 | G15: 2001 | H15: 286000 | I15: 30000 | J15: =H15+I15 -> 316000 | K15: =(H15-H14)/H14 -> 0.099577086 | L15: =(I15-I14)/I14 -> 0.13580434 | M15: 11
A16: DOTACIÓN( 3 AL AÑO) | C16: =$B$4+$B$3 -> 1117172 | D16: =+(500000/12) -> 41666.667 | E16: 0.05 | G16: 2002 | H16: 309000 | I16: 34000 | J16: =H16+I16 -> 343000 | K16: =(H16-H15)/H15 -> 0.08041958 | L16: =(I16-I15)/I15 -> 0.13333333 | M16: 12
A17: EPP | E17: 0.06 | G17: 2003 | H17: 332000 | I17: 37500 | J17: =H17+I17 -> 369500 | K17: =(H17-H16)/H16 -> 0.074433657 | L17: =(I17-I16)/I16 -> 0.10294118 | M17: 13
A18: SEGURIDAD SOCIAL | G18: 2004 | H18: 358000 | I18: 41600 | J18: =H18+I18 -> 399600 | K18: =(H18-H17)/H17 -> 0.078313253 | L18: =(I18-I17)/I17 -> 0.10933333 | M18: 14
A19: PENSIONES ANUAL | B19: =B3 -> 1000000 | C19: 0.12 | D19: =B5*C19 -> 134060.64 | E19: =D19/B5 -> 0.12 | G19: 2005 | H19: 381500 | I19: 44500 | J19: =H19+I19 -> 426000 | K19: =(H19-H18)/H18 -> 0.065642458 | L19: =(I19-I18)/I18 -> 0.069711538 | M19: 15
A20: MEDICINA FAMILIAR-EPS | B20: =B3 -> 1000000 | C20: 0 | D20: =B5*C20 -> 0 | E20: 0.085 | G20: 2006 | H20: 408000 | I20: 47700 | J20: =H20+I20 -> 455700 | K20: =(H20-H19)/H19 -> 0.069462647 | L20: =(I20-I19)/I19 -> 0.071910112 | M20: 16
A21: RIESGOS PROFESIONALES | B21: =B3 -> 1000000 | C21: 0.0696 | D21: =B5*C21 -> 77755.171 | E21: =D21/B5 -> 0.0696 | G21: 2007 | H21: 433700 | I21: 50800 | J21: =H21+I21 -> 484500 | K21: =(H21-H20)/H20 -> 0.062990196 | L21: =(I21-I20)/I20 -> 0.064989518 | M21: 17
A22: OTROS APORTES | D22: EPP | G22: 2008 | H22: 461500 | I22: 55000 | J22: =H22+I22 -> 516500 | K22: =(H22-H21)/H21 -> 0.064099608 | L22: =(I22-I21)/I21 -> 0.082677165 | M22: 18
A23: AUTORENTA | E23: 0.01 | G23: 2009 | H23: 496900 | I23: 59300 | J23: =H23+I23 -> 556200 | K23: =(H23-H22)/H22 -> 0.076706392 | L23: =(I23-I22)/I22 -> 0.078181818 | M23: 19
A24: SENA SE (EXONERA artículo 65 de la Ley 1819 de 2016) | B24: =B3 -> 1000000 | D24: =B5*C24 -> 0 | E24: =D24/B5 -> 0 | G24: 2010 | H24: 515000 | I24: 61500 | J24: =H24+I24 -> 576500 | K24: =(H24-H23)/H23 -> 0.03642584 | L24: =(I24-I23)/I23 -> 0.037099494 | M24: 20
A25: ICBF SE (EXONERA artículo 65 de la Ley 1819 de 2016) | B25: =B3 -> 1000000 | D25: =B5*C25 -> 0 | E25: =D25/B5 -> 0 | G25: 2011 | H25: 535600 | I25: 63600 | J25: =H25+I25 -> 599200 | K25: =(H25-H24)/H24 -> 0.04 | L25: =(I25-I24)/I24 -> 0.034146341 | M25: 21
A26: SUBSIDIO FAMILIAR-CAJA DE COMPENSACIÓN | B26: =B3 -> 1000000 | C26: 0.04 | D26: =B5*C26 -> 44686.88 | E26: 0.04 | G26: 2012 | H26: 566700 | I26: 67800 | J26: =H26+I26 -> 634500 | K26: =(H26-H25)/H25 -> 0.058065721 | L26: =(I26-I25)/I25 -> 0.066037736 | M26: 22
A27: FIC (Fondo Nacional de Formación Profesional de la Industria de la Construcción) | B27: =B3/40*15 -> 375000 | C27: =B27/B7 -> 0.030821918 | D27: =B5*C27 -> 34433.384 | E27: =B27/B7 -> 0.030821918 | G27: 2013 | H27: 589500 | I27: 70500 | J27: =H27+I27 -> 660000 | K27: =(H27-H26)/H26 -> 0.040232927 | L27: =(I27-I26)/I26 -> 0.039823009 | M27: 23
D28: TOTAL | E28: =SUM(E10:E27) -> 0.72326039 | G28: 2014 | H28: 616000 | I28: 72000 | J28: =H28+I28 -> 688000 | K28: =(H28-H27)/H27 -> 0.04495335 | L28: =(I28-I27)/I27 -> 0.021276596 | M28: 24
G29: 2015 | H29: 644350 | I29: 73950 | J29: =H29+I29 -> 718300 | K29: =(H29-H28)/H28 -> 0.046022727 | L29: =(I29-I28)/I28 -> 0.027083333 | M29: 25
G30: 2016 | H30: 689455 | I30: 77700 | J30: =H30+I30 -> 767155 | K30: =(H30-H29)/H29 -> 0.070000776 | L30: =(I30-I29)/I29 -> 0.050709939 | M30: 26
B31: Salario Mensual | C31: Salario + Pret. + Aux Tte. | D31: Días Laborados | E31: Salario Día | G31: 2017 | H31: =H30*1.07 -> 737716.85 | I31: 83140 | J31: =H31+I31 -> 820856.85 | K31: 0.07 | L31: =(I31-I30)/I30 -> 0.07001287 | M31: 27
A32: Ayudante | B32: =B3 -> 1000000 | C32: =IF(B32<=$B$3*2,ROUND(B32*(1+$E$28)+$B$4,0),ROUND(B32*(1+$E$28),0)) -> 1840432 | D32: 26 | E32: =ROUND(C32/D32,0) -> 70786 | G32: 2018 | H32: 781242 | I32: 88211 | J32: =H32+I32 -> 869453 | K32: 0.059 | L32: 0.061 | M32: 28
A33: Ayudante Entendido | B33: =ROUND($B$3*1.05,0) -> 1050000 | C33: =IF(B33<=$B$3*2,ROUND(B33*(1+$E$28)+$B$4,0),ROUND(B33*(1+$E$28),0)) -> 1926595 | D33: 26 | E33: =ROUND(C33/D33,0) -> 74100 | G33: 2019 | H33: 828116 | I33: 97032 | J33: =H33+I33 -> 925148 | K33: =(H33-H32)/H32 -> 0.059999334 | L33: =(I33-I32)/I32 -> 0.099998866 | M33: 29
A34: Ayudante O. Blanca | B34: =ROUND($B$3*1.05,0) -> 1050000 | C34: =IF(B34<=$B$3*2,ROUND(B34*(1+$E$28)+$B$4,0),ROUND(B34*(1+$E$28),0)) -> 1926595 | D34: 26 | E34: =ROUND(C34/D34,0) -> 74100 | G34: 2020 | H34: 877803 | I34: 102854 | J34: =H34+I34 -> 980657 | K34: =(H34-H33)/H33 -> 0.060000048 | L34: =(I34-I33)/I33 -> 0.060000824 | M34: 30
A35: Ofical O. Negra | B35: =ROUND($B$3*2,0) -> 2000000 | C35: =IF(B35<=$B$3*2,ROUND(B35*(1+$E$28)+$B$4,0),ROUND(B35*(1+$E$28),0)) -> 3563693 | D35: 26 | E35: =ROUND(C35/D35,0) -> 137065 | G35: 2021 | H35: 908526 | I35: 106454 | J35: =H35+I35 -> 1014980 | K35: =(H35-H34)/H34 -> 0.03499988 | L35: =(I35-I34)/I34 -> 0.035001069 | M35: 31
A36: Oficial O. Blanca | B36: =ROUND(B35*1.05,0) -> 2100000 | C36: =IF(B36<=$B$3*2,ROUND(B36*(1+$E$28)+$B$4,0),ROUND(B36*(1+$E$28),0)) -> 3618847 | D36: 26 | E36: =ROUND(C36/D36,0) -> 139186 | G36: 2022 | H36: 1000000 | I36: 117172 | J36: =H36+I36 -> 1117172 | K36: =(H36-H35)/H35 -> 0.10068397 | L36: =(I36-I35)/I35 -> 0.10068198 | M36: 32
A37: Minero | B37: =+B36*1.24322 -> 2610762 | C37: =IF(B37<=$B$3*2,ROUND(B37*(1+$E$28)+$B$4,0),ROUND(B37*(1+$E$28),0)) -> 4499023 | D37: 26 | E37: =ROUND(C37/D37,0) -> 173039
A38: Pileros | B38: =+B36*1.24322 -> 2610762 | C38: =IF(B38<=$B$3*2,ROUND(B38*(1+$E$28)+$B$4,0),ROUND(B38*(1+$E$28),0)) -> 4499023 | D38: 26 | E38: =ROUND(C38/D38,0) -> 173039
A39: Topografo | B39: =B36*1.9 -> 3990000 | C39: =IF(B39<=$B$3*2,ROUND(B39*(1+$E$28)+$B$4,0),ROUND(B39*(1+$E$28),0)) -> 6875809 | D39: 26 | E39: =ROUND(C39/D39,0) -> 264454
A40: Soldador | B40: =ROUND($B$3*1.8,0) -> 1800000 | C40: =IF(B40<=$B$3*2,ROUND(B40*(1+$E$28)+$B$4,0),ROUND(B40*(1+$E$28),0)) -> 3219041 | D40: 26 | E40: =ROUND(C40/D40,0) -> 123809
...

Sheet INSUMOS
A1: TIPO | B1: DESCRIPCIÓN | C1: UNIDAD | D1: VALOR UNITARIO (incluye IVA) | E1: GERFOR | F1: 2022 | G1: cotización
A2: MATERIALES | B2: Tubaría NOVALOC x 6 metros, diámetro 45", incluye transporte a obra. | C2: m | D2: =ROUND(2571022+50000,0) -> 2621022 | G2: =+D2/6 -> 436837
A3: MATERIALES | B3: Tubaría NOVALOC x 6 metros, diámetro 48", incluye transporte a obra. | C3: m | D3: =3078292+50000 -> 3128292
A4: MATERIALES | B4: Tubaría NOVALOC x 6 metros, diámetro 51", incluye transporte a obra. | C4: m | D4: =3611689+50000 -> 3661689
A5: MATERIALES | B5: Tubaría NOVALOC x 6 metros, diámetro 54", incluye transporte a obra. | C5: m | D5: =3802162+50000 -> 3852162
A6: MATERIALES | B6: Tubaría NOVALOC x 6 metros, diámetro 57", incluye transporte a obra. | C6: m | D6: =3970392+50000 -> 4020392
A7: MATERIALES | B7: Tubaría NOVALOC x 6 metros, diámetro 60", incluye transporte a obra. | C7: m | D7: =4497322 -> 4497322 | G7: =2188047*1.19 -> 2603775.9
A8: MATERIALES | B8: Bisel NOVALOC diámetro 45" | C8: un | D8: 200454
A9: MATERIALES | B9: Bisel NOVALOC diámetro 48" | C9: un | D9: 200454
A10: MATERIALES | B10: Bisel NOVALOC diámetro 51" | C10: un | D10: 206558
A11: MATERIALES | B11: Bisel NOVALOC diámetro 54" | C11: un | D11: 208851
A12: MATERIALES | B12: Bisel NOVALOC diámetro 60" | C12: un | D12: 227889
A13: MATERIALES | B13: Accesorio alcantarillado corrugada doble pared Sello Corma diámetro 36" | C13: un | D13: 0 | E13: 194000
A14: MATERIALES | B14: Accesorio alcantarillado perfilado Sello Biselado diámetro 39" | C14: un | D14: 0 | E14: 74700
A15: MATERIALES | B15: Accesorio alcantarillado perfilado Sello Biselado diámetro 42" | C15: un | D15: 0 | E15: 80300
A16: MATERIALES | B16: Accesorio alcantarillado perfilado Sello Elastomérico diámetro 39" (unión-Campana) | C16: un | D16: 0 | E16: 150100
A17: MATERIALES | B17: Accesorio alcantarillado perfilado Sello Elastomérico diámetro 42" (unión-Campana) | C17: un | D17: 0 | E17: 168000
B18: Hidrosellos diámetro39" | C18: un | D18: 230634
A19: MATERIALES | B19: Hidrosellos diámetro 45" | C19: un | D19: 230635
A20: MATERIALES | B20: Hidrosellos diámetro 48" | C20: un | D20: 230635
A21: MATERIALES | B21: Hidrosellos diámetro 51" | C21: un | D21: 238169
A22: MATERIALES | B22: Hidrosellos diámetro 54" | C22: un | D22: 256712
A23: MATERIALES | B23: Hidrosellos diámetro 60" | C23: un | D23: 283372
A24: MATERIALES | B24: Unióm Perfilado diámetro 39" | C24: un | D24: 0 | E24: 1636000
A25: MATERIALES | B25: Unióm Perfilado diámetro 42" | C25: un | D25: 0 | E25: 2200000
A26: MATERIALES | B26: Uniones NOVALOC 45" | C26: un | D26: 849415
A27: MATERIALES | B27: Uniones NOVALOC 48" | C27: un | D27: 927035
A28: MATERIALES | B28: Uniones NOVALOC 51" | C28: un | D28: 1112617
A29: MATERIALES | B29: Uniones NOVALOC 54" | C29: un | D29: 1185314
A30: MATERIALES | B30: Uniones NOVALOC 57" | C30: un | D30: 1322443
A31: MATERIALES | B31: Uniones NOVALOC 60" | C31: un | D31: 1391920
A32: MATERIALES | B32: Soldadura PVC Barra 1/8 | C32: un | D32: 4058
A33: MATERIALES | B33: Tubería NOVAFORT x 6 metros, incluye transporte a obra, diámetro 110 mm | C33: m | D33: =132298/6+15000 -> 37049.667 | E33: =105540/6+15000 -> 32590
A34: MATERIALES | B34: Tubería NOVAFORT x 6 metros, incluye transporte a obra, diámetro 160 mm | C34: m | D34: =256007/6+15000 -> 57667.833 | E34: =204230/6+15000 -> 49038.333
A35: MATERIALES | B35: Tubería NOVAFORT x 6 metros, incluye transporte a obra, diámetro 200 mm | C35: m | D35: =365963/6+15000 -> 75993.833 | E35: =290000/6+15000 -> 63333.333
A36: MATERIALES | B36: Tubería NOVAFORT x 6 metros, incluye transporte a obra, diámetro 250 mm | C36: m | D36: =534506/6+15000 -> 104084.33 | E36: =70.8333333333333+15000 -> 15070.833
A37: MATERIALES | B37: Tubería NOVAFORT x 6 metros, incluye transporte a obra, diámetro 315 mm | C37: m | D37: =769122/6+15000 -> 143187 | E37: =613000/6+15000 -> 117166.67
A38: MATERIALES | B38: Tubería NOVAFORT x 6 metros, incluye transporte a obra, diámetro 355 mm | C38: m | D38: =1152632/6+30000 -> 222105.33 | E38: =152.666666666667+30000 -> 30152.667
A39: MATERIALES | B39: Tubería NOVAFORT x 6 metros, incluye transporte a obra, diámetro 400 mm | C39: m | D39: =1409793/6+30000 -> 264965.5 | E39: =1124500/6+30000 -> 217416.67
A40: MATERIALES | B40: Tubería NOVAFORT x 6 metros, incluye transporte a obra, diámetro 450 mm | C40: m | D40: =1820748/6+50000 -> 353458 | E40: =1420000/6+50000 -> 286666.67
...

Sheet SUBANALISIS
J1: =+H2*J3 -> 72000
A2: DESCRIPCION | B2: UND | C2: CANT | D2: DESP | E2: PRECIO | F2: SUBTOTAL | H2: 1800 | I2: PRECIO MATERIAL | J2: AREA METROPOLITANA | K2: CORREGIMIENTO | L2: COMUNAS
H3: DISTANCIA - Km | J3: 40 | K3: 55 | L3: 35
A4: MORTEROS | H4: BASE GRANULAR | I4: =37000*1.8*1.19 -> 79254 | J4: =I4+$J$3*$H$2 -> 151254 | K4: =ROUND(I4+$K$3*$H$2,0) -> 178254 | L4: =I4+$L$3*$H$2 -> 142254
H5: SUB-BASE GRANULAR | I5: =35000*1.8*1.19 -> 74970 | J5: =I5+$J$3*$H$2 -> 146970 | K5: =I5+$K$3*$H$2 -> 173970 | L5: =I5+$L$3*$H$2 -> 137970
A6: Mort.1:1 En obra | B6: m3 | F6: =F7+F8+F9*1.05+F10 -> 908384.55 | H6: ARENILLA | I6: 20000 | J6: =I6+$J$3*$H$2 -> 92000 | K6: =I6+$K$3*$H$2 -> 119000 | L6: =I6+$L$3*$H$2 -> 83000
A7: Arena de pega | B7: m3 | C7: 0.7 | D7: 5 | E7: =+J10 -> 141716.86 | F7: =C7*E7*1.05 -> 104161.9 | H7: Triturado 3/4"-3/8" | I7: =42000*1.62*1.19 -> 80967.6 | J7: =I7+$J$3*$H$2 -> 152967.6 | K7: =I7+$K$3*$H$2 -> 179967.6 | L7: =I7+$L$3*$H$2 -> 143967.6
A8: Cemento gris Nare (50 Kg) | B8: sac | C8: 18.501 | D8: 10 | E8: =J13 -> 35000 | F8: =C8*E8*1.1 -> 712288.5 | H8: Triturado 1" - 1/2" | I8: =93739*1.19 -> 111549.41 | J8: =I8+$J$3*$H$2 -> 183549.41 | K8: =I8+$K$3*$H$2 -> 210549.41 | L8: =I8+$L$3*$H$2 -> 174549.41
A9: M.de O.prepar.mezclas | B9: m3 | C9: 1 | D9: 0 | E9: =K18 -> 80254.429 | F9: =C9*E9 -> 80254.429 | H9: Arena para concreto | I9: =45000*1.652*1.19 -> 88464.6 | J9: =I9+$J$3*$H$2 -> 160464.6 | K9: =I9+$K$3*$H$2 -> 187464.6 | L9: =I9+$L$3*$H$2 -> 151464.6
A10: Concretadora 11/2 sacos electrica | B10: día | C10: 7 | D10: 0 | E10: =J39 -> 53669 | F10: =E10/C10 -> 7667 | H10: Arena para pega | I10: =31840*1.19*1.84 -> 69716.864 | J10: =I10+$J$3*$H$2 -> 141716.86 | K10: =I10+$K$3*$H$2 -> 168716.86 | L10: =I10+$L$3*$H$2 -> 132716.86
H11: Arena de revoque | I11: =31840*1.84*1.19 -> 69716.864 | J11: =I11+$J$3*$H$2 -> 141716.86 | K11: =I11+$K$3*$H$2 -> 168716.86 | L11: =I11+$L$3*$H$2 -> 132716.86
H12: Piedra entresuelo-gaviones y/o ciclópeo | I12: =60639*1.55*1.19 -> 111848.64 | J12: =I12+$J$3*$H$2 -> 183848.64 | K12: =I12+$K$3*$H$2 -> 210848.64 | L12: =I12+$L$3*$H$2 -> 174848.64
A13: Mort.1:2 En obra | B13: m3 | F13: =F14+F15+F16*1.05+F17 -> 705972.78 | H13: Cemento 50kg | I13: 35000 | J13: 35000 | K13: 35000 | L13: 35000
A14: Arena de pega | B14: m3 | C14: 0.97 | D14: 5 | E14: =J10 -> 141716.86 | F14: =C14*E14*1.05 -> 144338.63 | H14: Cal 10 Kg. | I14: 9500 | J14: 9500 | K14: 10500 | L14: 9500
A15: Cemento gris Nare (50 Kg) | B15: sac | C15: 12.2 | D15: 10 | E15: =J13 -> 35000 | F15: =C15*E15*1.1 -> 469700 | H15: PREPARACION DE CONCRETO O MORTERO | J15: Rendimiento-Día | K15: VALOR
A16: M.de O.prepar.mezclas | B16: m3 | C16: 1 | D16: 0 | E16: =K18 -> 80254.429 | F16: =C16*E16 -> 80254.429 | H16: Ofical O. Negra | I16: 137065 | J16: 7 | K16: =I16/J16 -> 19580.714
A17: Concretadora 11/2 sacos electrica | B17: día | C17: 7 | D17: 0 | E17: =J39 -> 53669 | F17: =E17/C17 -> 7667 | H17: 6 ayudantes | I17: 424716 | J17: 7 | K17: =I17/J17 -> 60673.714
H18: M.O. Preparación Concreto + báscula | K18: =(K17+K16+K20) -> 80254.429
A19: Mort.1:3 En obra | B19: m3 | F19: =F20+F21+F22*1.05+F23 -> 600629.1 | H19: Concretadora 11/2 saco. Alqu. Dia | I19: 53669 | J19: 0.66 | K19: =+I19*J19 -> 35421.54
A20: Arena de pega | B20: m3 | C20: 1.09 | D20: 5 | E20: =J10 -> 141716.86 | F20: =C20*E20*1.05 -> 162194.95 | H20: Báscula día | I20: 14000 | J20: 0 | K20: =I20*J20 -> 0
A21: Cemento gris Nare (50 Kg) | B21: sac | C21: 9 | D21: 10 | E21: =I13 -> 35000 | F21: =C21*E21*1.1 -> 346500
A22: M.de O.prepar.mezclas | B22: m3 | C22: 1 | D22: 0 | E22: =K18 -> 80254.429 | F22: =C22*E22 -> 80254.429 | H22: Mezcla Asfáltica Invías 5,7% (TON) | I22: 345200 | J22: =I22+$J$3*$H$2 -> 417200
A23: Concretadora 11/2 sacos electrica | B23: día | C23: 7 | D23: 0 | E23: =I19 -> 53669 | F23: =E23/C23 -> 7667
A25: Mort.1:4 En obra | B25: m3 | F25: =F26+F27+F28*1.05+F29 -> 537281.21 | H25: Concretadora 1.5 saco DIESEL | I25: =45100*1.19 -> 53669
A26: Arena de pega | B26: m3 | C26: 1.13 | D26: 5 | E26: =J10 -> 141716.86 | F26: =C26*E26*1.05 -> 168147.06
A27: Cemento gris Nare (50 Kg) | B27: sac | C27: 7.2 | D27: 10 | E27: =I13 -> 35000 | F27: =C27*E27*1.1 -> 277200
A28: M.de O.prepar.mezclas | B28: m3 | C28: 1 | D28: 0 | E28: =K18 -> 80254.429 | F28: =C28*E28 -> 80254.429 | J28: =+H2*40 -> 72000
A29: Concretadora 11/2 sacos electrica | B29: día | C29: 7 | D29: 0 | E29: =J39 -> 53669 | F29: =E29/C29 -> 7667 | H29: =950000/6 -> 158333.33 | J29: =+J3*H2 -> 72000
A31: Mort.1:5 En obra | B31: m3 | F31: =F32+F33+F34*1.05+F35 -> 498521.34
A32: Arena de pega | B32: m3 | C32: 1.18 | D32: 5 | E32: =J10 -> 141716.86 | F32: =C32*E32*1.05 -> 175587.19
A33: Cemento gris Nare (50 Kg) | B33: sac | C33: 6 | D33: 10 | E33: =I13 -> 35000 | F33: =C33*E33*1.1 -> 231000
A34: M.de O.prepar.mezclas | B34: m3 | C34: 1 | D34: 0 | E34: =K18 -> 80254.429 | F34: =C34*E34 -> 80254.429
A35: Concretadora 11/2 sacos electrica | B35: día | C35: 7 | D35: 0 | E35: =I19 -> 53669 | F35: =E35/C35 -> 7667
A37: Mort.1:6 En obra | B37: m3 | F37: =F38+F39+F40*1.05+F41 -> 470697.4
A38: Arena de pega | B38: m3 | C38: 1.2 | D38: 5 | E38: =J10 -> 141716.86 | F38: =C38*E38*1.05 -> 178563.25
A39: Cemento gris Nare (50 Kg) | B39: sac | C39: 5.2 | D39: 10 | E39: =I13 -> 35000 | F39: =C39*E39*1.1 -> 200200 | H39: Concretadora 11/2 saco. Alquiler dia | J39: 53669
A40: M.de O.prepar.mezclas | B40: m3 | C40: 1 | D40: 0 | E40: =K18 -> 80254.429 | F40: =C40*E40 -> 80254.429
A41: Concretadora 11/2 sacos electrica | B41: día | C41: 7 | D41: 0 | E41: =J39 -> 53669 | F41: =E41/C41 -> 7667 | H41: Triturado 3/4" | J41: conasfaltos/sta fe antioquia
H42: Triturado11/2" | J42: conasfaltos/sta fe antioquia
A43: Mort.1:7 En obra | B43: m3 | F43: =F44+F45+F46*1.05+F47 -> 439637.53 | H43: Arena para concreto | J43: conasfaltos/sta fe antioquia
...

Sheet CUADRO OFICIO
A1: ÍTEM | B1: DESCRIPCIÓN | C1: UNIDAD | D1: VR. UNITARIO INICIAL | E1: VR. UNITARIO REVISIÓN OOPP | F1: VR. UNITARIO CON SOPORTE | G1: OBSERVACIÓN
A3: 1.1 | B3: Rocería y limpieza, Incluye cargue, transporte y botada de material en botaderos oficiales o donde indique la interventoría, hasta cualquier altura de la vegetación, incluye desenraice de árboles hasta la altura de la vegetación y de diámetro inferiores a 10 cm. La rocería se realizará a ras de piso. Se utilizará guadaña o machete. | C3: m2 | D3: 13146 | E3: 9116 | F3: =APU!F48 -> 9116 | G3: Se acuerda con el precio propuesto
A4: 1.2 | B4: DEMOLICIÓN DE SUMIDEROS de cualquier tipo y material existentes. Incluye: Cargue, transporte y botada de escombros, recuperación de los materiales aprovechables o su transporte hasta el sitio que lo indique la interventoría. | C4: un | D4: 538311 | E4: 300676 | F4: =APU!F96 -> 315915 | G4: Se ajustan los valores de m.o y de material a botar, así como el precio de cargue, transporte y botada
A5: ='PRESUPUESTO CALLE 58 SUR'!A8 -> 1.3 | B5: ='PRESUPUESTO CALLE 58 SUR'!B8 -> DEMOLICIÓN PAVIMENTO ASFÁLTICO (para brecha), cargue, transporte y botada de escombros, HASTA ESPESOR DE 4". Incluye corte con máquina de disco según trazado y compresor neumático con martillo, además recuperación de los materiales aprovechables o su transporte hasta el sitio que lo indique la interventoría. | C5: ='PRESUPUESTO CALLE 58 SUR'!C8 -> m2 | D5: 51641 | E5: 44858 | F5: =APU!F144 -> 44858 | G5: Se acuerda con el precio propuesto 15/02/2023
A6: ='PRESUPUESTO CALLE 58 SUR'!A9 -> 1.4 | B6: ='PRESUPUESTO CALLE 58 SUR'!B9 -> EXCAVACIÓN MANUAL de material heterogéneo HASTA 3 m., bajo cualquier grado de humedad. Incluye: roca descompuesta, bolas de roca de volumen inferior a 0.35 m³., el cargue, transporte interno de las excavaciones en los sitios donde lo indique la interventoría y su medida será en el sitio. La botada y el entibado, se pagaran por su respectivo Ítem. | C6: ='PRESUPUESTO CALLE 58 SUR'!C9 -> m3 | D6: 58813 | E6: 57405 | F6: =APU!F192 -> 57405 | G6: Se acuerda con el precio propuesto 15/02/2023
A7: 1.5 | B7: LLENOS EN MATERIAL ESTABILIZADO CON CEMENTO CON MATERIAL TIPO SUB-BASE GRANULAR, compactados mecánicamente. Incluye material de préstamo, 2 sacos de cemento 50 kg por cada m3, transporte interno y todo lo necesario para su correcta compactación. Y su medida será en sitio ya compactado. | C7: m3 | D7: 330563 | E7: 299474 | F7: =APU!F240 -> 299474 | G7: El análisis presentado por parte de OOPP, contiene error en el precio de la Sub base, ya que, al parecer colocan el precio de Ton sin IVA incluido y no el precio por m3. Se corrige el error. Se anexa lista de precios de Procopal. 15/02/2023 Precio $299.474/m3. Precio acordado.
A8: 1.6 | B8: Colocación de concreto de 14 Mpa para SOLADO, con un espesor DE 0.05 m. Incluye el suministro y el transporte del concreto y todos los demás elementos necesarios para su correcta construcción, incluye acarreo interno. | C8: m2 | D8: 51145 | E8: 50611 | F8: 50611 | G8: Se acuerda con el precio propuesto.
A9: 1.7 | B9: Colocación de CONCRETO CICLÓPEO de 21 Mpa y 40% de piedra con un diámetro entre 4" y 10". para REEMPLAZO. Incluye suministro y el transporte del concreto, mano de obra, protección y curado, para estructuras de acuerdo con las diferentes dimensiones establecidas en los planos y diseños y todo lo demás para el correcto proceso constructivo. | C9: m3 | D9: 726271 | E9: 684649 | F9: =APU!F336 -> 684649 | G9: Se acepta la corrección realizada, pero se corrige el APU en materiales. Precio $684.649/m3
A10: 1.8 | B10: Construcción de anclajes en concreto de 21 Mpa para tubería de pvc de acueducto o alcantarillado, incluye el suministro, transporte externo e interno y vaciado de concreto de 21 Mpa. Incluye colocación de formaletas, concreto y demás elementos que se requieren para construir estas estructuras. Incluye también la mano de obra, los equipos, herramientas necesarias para la correcta ejecución y funcionamiento de esta actividad. No incluye refuerzo. | C10: un | D10: 338763 | E10: 312881 | F10: =APU!F384 -> 307759 | G10: Se acepta la nueva corrección realizada. 15/02/2023. Se comete error al variar la base de datos del contratista y no analizar el recurso de transporte de materiales a obra.
A11: ='PRESUPUESTO CALLE 58 SUR'!A16 -> 1.11 | B11: ='PRESUPUESTO CALLE 58 SUR'!B16 -> Suministro, transporte y colocación de TRITURADO de 3/4 " para construcción de CIMENTACIÓN DE TUBERÍA PVC NOVAFORT. Incluye transporte interno y todo lo necesario para su correcta instalación. | C11: ='PRESUPUESTO CALLE 58 SUR'!C16 -> m3 | D11: 242792 | E11: 238448 | F11: =APU!F528 -> 241448 | G11: Se acepta la corrección, ajustando el precio de los materiales según lista de precios adjunta. 158/02/2023. Precio $241.448/m3
A12: 1.12 | B12: Construcción de Emboquillada de tubería en pared para caja y/o muro, según especificaciones técnicas de EEPP de Medellín. Incluye suministro, transporte e instalación de los materiales y todo lo necesario para su correcta ejecución. | C12: un | D12: 210023 | E12: 168183 | F12: =APU!F576 -> 147396 | G12: Se acepta la Nueva Corrección, ajustando el precio de materiales según listado. corrección realizada.
A13: 1.13 | B13: Construcción de POCETA PROVISIONAL de 1.40X1.40 x altura hasta 1.40 m., (medidas externas), muros de espesor de 25 cm., Losa de Fondo de espesor 30 cm., en concreto de 21Mpa. Incluye suministro, transporte e instalación de los materiales, formaleta, vibrado y todos los elementos necesarios para su correcta construcción y funcionamiento. Según diseño y especificaciones. La excavación, llenos, entresuelo y acero de refuerzo se pagarán en su ítem respectivo. | C13: un | D13: 3331514 | E13: 2202159 | F13: =APU!F624 -> 2557821 | G13: Se acepta la Nueva Corrección, ajustando el precio de materiales según listado. corrección realizada, eliminando la formaleta MUF y aumentando Tabla común.
A14: 2.2 | B14: Rocería y limpieza, Incluye cargue, transporte y botada de material en botaderos oficiales o donde indique la interventoría, hasta cualquier altura de la vegetación, incluye desenraice de árboles hasta la altura de la vegetación y de diámetro inferiores a 10 cm. La rocería se realizará a ras de piso. Se utilizará guadaña o machete. | C14: m2 | D14: 13146 | E14: 9116 | F14: 9116 | G14: Se acuerda con el precio propuesto
A15: ='PRESUPUESTO CALLE 58 SUR'!A22 -> 2.3 | B15: ='PRESUPUESTO CALLE 58 SUR'!B22 -> Instalación de CERRAMIENTO PROVISIONAL en malla naranja polietileno de alta densidad, estabilidad y resistencia, anticorrosivo, con estabilizados de rayos UV, con una altura de 1,20 m, balizas móviles base antideslizante cada 1,50 m. fijaciones con correas de amarre plásticas y cinta de peligro, Incluye: suministro, transporte, instalación, traslados y desmonte y todos los demás elementos necesarios para su correcta instalación y operación. | C15: ='PRESUPUESTO CALLE 58 SUR'!C22 -> m | D15: 28996 | E15: 28864 | F15: =APU!F768 -> 28864 | G15: Se acuerda con el precio propuesto. Se ajusta valor materiales según lista de precios verificada.
A16: ='PRESUPUESTO CALLE 58 SUR'!A25 -> 3.2 | B16: ='PRESUPUESTO CALLE 58 SUR'!B25 -> DEMOLICIÓN PAVIMENTO ASFÁLTICO, CUALQUIER ESPESOR. Incluye compresor neumático con martillo, además recuperación de los materiales aprovechables y/o su transporte hasta el sitio que lo indique la interventoría, y/o cargue transporte y botada, corte de pavimento con máquina. | C16: ='PRESUPUESTO CALLE 58 SUR'!C25 -> m2 | D16: 51641 | E16: 44858 | F16: =APU!F864 -> 44858 | G16: Se acuerda con el precio propuesto. 15/02/2023
A17: 3.3 | B17: DEMOLICIÓN ESTRUCTURAS DE CONCRETO cargue, transporte y botada de escombros, manual o mecánicamente, de cualquier resistencia, reforzado o ciclópeo, y en cualquier clase de estructura. Incluye retiro de refuerzo y cualquier tipo de acabado (revoques y enchapes) o piso (en losas) e instalaciones embebidas, compresor neumático con martillo, además recuperación de los materiales aprovechables o su transporte hasta el sitio que lo indique la interventoría. | C17: m3 | D17: 477605 | E17: 331321 | F17: 331321 | G17: Se acuerda con el precio propuesto
A18: 4.5 | B18: EXCAVACIÓN PARA PILAS DE 0,0 a 4,0 m de profundidad con DÍAMETRO EXTERIOR DE 1,40m, en material heterogéneo, con piedras de hasta 0.05 m³. Incluye anillos de revestimiento en concreto de 21.0 Mpa. con espesor de 10cm, pozo piloto de bombeo, formaleta en madera común, molinete, motobomba, extracción del material de la pila y acarreo interno y SOBREACARREO de materiales, cargue, transporte y botada del material proveniente de la excavación en botaderos oficiales o donde lo indique la interventoría y todo lo necesario para su correcta construcción. SU MEDIDA SERA EN SITIO. | C18: m | D18: 1196061 | E18: 779289 | F18: =APU!F1152 -> 829214 | G18: Corrección 2 de 15/02/2023, se acepta la corrección, ajustando el precio de materiales acorde a la lista definitiva. $829.214/m
A19: 5.1 | B19: LLENOS EN ARENILLA Y/O MATERIAL DE PRESTAMO, compactados mecánicamente hasta obtener una densidad del 95% de la máxima obtenida en el ensayo del próctor modificado. Incluye transporte interno. Su medida será en sitio ya compactado. | C19: m3 | D19: 197142 | E19: 172954 | F19: =APU!F1200 -> 172954 | G19: Se acepta la corrección realizada. 15/02/2023
A20: 5.2 | B20: LLENOS EN MATERIAL ESTABILIZADO CON CEMENTO CON MATERIAL TIPO SUB-BASE GRANULAR, compactados mecánicamente. Incluye material de préstamo, 2 sacos de cemento 50 kg por cada m3, transporte interno y todo lo necesario para su correcta compactación. Y su medida será en sitio ya compactado. | C20: m3 | D20: 330563 | E20: 299474 | F20: =APU!F1248 -> 299474 | G20: Se acepta la corrección realizada. 15/02/2023
A21: 6.1 | B21: CARGUE MANUAL y/o MECÁNICO, TRANSPORTE Y BOTADA de material proveniente de las EXPLANACIONES, EXCAVACIONES Y VOLADURAS DE ROCA. Incluye transportes internos, paleros, derecho de botadero. Se debe hacer en botaderos oficiales autorizados por la entidad competente o hasta el sitio que indique la interventoría. Su medida será en sitio. | C21: m3 | D21: 144865 | E21: 58198 | F21: =APU!F1296 -> 58198 | G21: Se acepta la corrección realizada.
A22: ='PRESUPUESTO CALLE 58 SUR'!A42 -> 8.2 | B22: ='PRESUPUESTO CALLE 58 SUR'!B42 -> Colocación de concreto de 21 Mpa para PILOTES Ø= 40cm. HASTA 3.0 m. de profundidad. Incluye suministro y el transporte del concreto, mano de obra, vibrado, protección y curado, para estructuras de acuerdo con las diferentes dimensiones establecidas en los planos y diseños. No incluye refuerzo. | C22: ='PRESUPUESTO CALLE 58 SUR'!C42 -> m | D22: 135110 | E22: 117783 | F22: =APU!F1440 -> 131848 | G22: Se realizan los ajustes al análisis expuesto. Se acuerda nuevo precio de $131.848/m
A23: 8.3 | B23: Construcción de ZAPATA, en concreto de 21 MPa., de diferentes medidas, Impermeabilizado con Plastocrete DM de Sika o equivalente. Incluye suministro, transporte y colocación del concreto, formaleta, vibrado, protección para estructuras, armado y desarmado de toda la obra falsa necesaria para la correcta construcción, según diseño. El acero de refuerzo se pagará en su respectivo ítem. Incluye SOBREACARREO DE MATERIALES | C23: m3 | D23: 1211602 | E23: 1030234 | F23: =APU!F1488 -> 1074441 | G23: No se realizó corrección en el APU respectivo, se realizan de nuestra parte consideraciones para acercarnos al precio propuesto. Se realiza nueva corrección y se corrige error en cambio de base de datos. Precio $1.074.441/m3 - 15/02/2023
A24: 8.4 | B24: Construcción de MURO DE CONTENCIÓN en concreto de 21Mpa. a la vista, con un ESPESOR DE 0,35 m. Incluye suministro, transporte y colocación del concreto, impermeabilizante integral tipo plastocrete DM o equivalente, formaleta de primera calidad en súper T de 19 mm. para acabado a la vista por una cara, incluye suministro y transporte de los materiales, aristas biseladas, desmoldante, vibrado, protección y curado para estructuras y todos los demás elementos necesarios para su correcta construcción y funcionamiento, de acuerdo con las diferentes dimensiones establecidas en los planos, No incluye refuerzo. Según diseño. Incluye SOBREACARREO de materiales. | C24: m2 | D24: 631674 | E24: 543728 | F24: =APU!F1532 -> 582902 | G24: Corrección 2 de 15/02/2023, se acepta la corrección, ajustando el precio de materiales acorde a la lista definitiva. $582.902/m2 y corrogiendo error cambio base de datos.
A25: 8.5 | B25: Construcción de MURO DE CONTENCIÓN en concreto de 21Mpa. a la vista, con un ESPESOR DE 0,20 m. Incluye suministro, transporte y colocación del concreto, impermeabilizante integral tipo plastocrete DM o equivalente, formaleta de primera calidad en súper T de 19 mm. para acabado a la vista por una cara, incluye suministro y transporte de los materiales, aristas biseladas, desmoldante, vibrado, protección y curado para estructuras y todos los demás elementos necesarios para su correcta construcción y funcionamiento, de acuerdo con las diferentes dimensiones establecidas en los planos, No incluye refuerzo. Según diseño. Incluye SOBREACARREO de materiales. | C25: m2 | D25: 514279 | E25: 428434 | F25: =APU!F1577 -> 450819 | G25: Se ajusta valor a $450.819/m2, corrección al costo de materiales y a la base de datos. 15/02/2023
A26: 8.6 | B26: Construcción de MURO DE CONTENCIÓN en concreto de 21Mpa. a la vista, con un ESPESOR DE 0,25 m. Incluye suministro, transporte y colocación del concreto, impermeabilizante integral tipo plastocrete DM o equivalente, formaleta de primera calidad en súper T de 19 mm. para acabado a la vista por una cara, incluye suministro y transporte de los materiales, aristas biseladas, desmoldante, vibrado, protección y curado para estructuras y todos los demás elementos necesarios para su correcta construcción y funcionamiento, de acuerdo con las diferentes dimensiones establecidas en los planos, No incluye refuerzo. Según diseño. Incluye SOBREACARREO de materiales. | C26: m2 | D26: 571756 | E26: 477332 | F26: =APU!F1622 -> 505313 | G26: Se ajusta valor a $505.313/m2 y acuerda 15/02/2023.
A27: 8.7 | B27: Construcción de LOSA DE FONDO MACIZA en concreto PREPARADO EN OBRA de 21 MPa., con un ESPESOR DE 30 cm. Impermeabilizada con Plastocrete DM de Sika o equivalente y adicionado con FIBRA TIPO Nikon. Incluye suministro, transporte y colocación del concreto, formaleta, armado y desarmado de toda la obra falsa necesaria para la correcta construcción de la losa y todos los demás elementos necesarios para su correcto vaciado, según diseño. El acero de refuerzo se pagará en su respectivo ítem según diseño. INCLUYE MANEJO DE AGUAS. | C27: m2 | D27: 491047 | E27: 1362946 | F27: =+APU!G1667 -> 447965.1 | G27: Se pretende corregir el precio de algunos insumos como la fibra Nikon, pero en la corrección colocan el precio en almacén, sin contemplar el valor del transporte (ver INSUMOS). Se elimina el Súper T y no se coloca el sustituto, además, se pasa la unidad de medida de m2 a m3 y no se recalculan los insumos necesarios para la nueva unidad de medida propuesta. Se corrige el APU, se coloca tabla de madera común en vez de Súper T y se cambian los rendimientos a m3. Valor de $1.493.217/m3, equivalente a $447.965/m2
A28: 8.8 | B28: Construcción de MUROS LATERALES DE CANAL en concreto de 21 MPa., con un ESPESOR DE 25 cm, Impermeabilizado con Plastocrete DM de Sika o equivalente y adicionado con FIBRA SINTÉTICA DE REFUERZO. Incluye suministro, transporte y colocación del concreto, formaleta, armado y desarmado de toda la obra falsa necesaria para la correcta construcción de la losa y todos los demás elementos necesarios para su correcto vaciado, según diseño. El acero de refuerzo se pagará en su respectivo ítem según diseño. | C28: m2 | D28: 639795 | E28: 525771 | F28: =APU!F1712 -> 553752 | G28: Estos muros, además de ser de poco espesor (0.25), son de poca altura, por lo que el rendimiento es menos que en muros altos y por ende los insumos para la formaleta se ven castigados. Se ajusta el APU respectivo con las correcciones ya acordadas. Se propone como precio ajustado $553.752/m2. 15/02/2023
