Workbook
Name H427.: 'VERIFICACIÓN ARITMÉTICA'!$F$17

Sheet VERIFICACIÓN ARITMÉTICA
B2: FORMATO
B3: Presupuesto General de Obras - Costos Directos
D4: PROCESO | F4: VERSIÓN
D5: Proyectos | F5: 2
B6: ='[2]DATOS ENTRADA'!$C$2 -> FONDO DE DESARROLLO LOCAL DE LA CANDELARIA
B7: ='[2]DATOS ENTRADA'!$C$3 -> PLANEACION
B8: ='[2]DATOS ENTRADA'!$C$4 -> PROYECTO 1391
B9: =IF('[2]DATOS ENTRADA'!C5=0,"",'[2]DATOS ENTRADA'!C5)
B10: ='[2]DATOS ENTRADA'!B7 -> OBJETO DE LA LICITACIÓN: | D10: ='[2]DATOS ENTRADA'!C7 -> REALIZAR LA SEGUNDA FASE DEL PROYECTO DE PEATONALIZACION DE LA CALLE 10, EJECUTANDO A PRECIOS UNITARIOS FIJOS LA CONTINUACION DE LA CONSTRUCCIÓN DE LA CALLE 10 ENTRE LAS CARRERA 4 Y CARRRERA 5 Y CARRERA 6 Y CARRERA 7 EN LA LOCALIDAD DE LA CANDELARIA, EN BOGOTÁ D.C.
B11: PRESUPUESTO GENERAL DE OBRAS | I11: ='PROPUESTA ECONOMICA'!B8 -> 13 | L11: ='PROPUESTA ECONOMICA'!B9 -> 12 | O11: ='PROPUESTA ECONOMICA'!B10 -> 17 | R11: ='PROPUESTA ECONOMICA'!B11 -> 2 | U11: ='PROPUESTA ECONOMICA'!B12 -> 3 | X11: ='PROPUESTA ECONOMICA'!B13 -> 18 | AA11: ='PROPUESTA ECONOMICA'!B14 -> 6 | AD11: ='PROPUESTA ECONOMICA'!B15 -> 11 | AG11: ='PROPUESTA ECONOMICA'!B16 -> #N/A | AJ11: ='PROPUESTA ECONOMICA'!B17 -> 19 | AM11: ='PROPUESTA ECONOMICA'!B18 -> 7 | AP11: ='PROPUESTA ECONOMICA'!B19 -> 4 | AS11: ='PROPUESTA ECONOMICA'!B20 -> 14 | AV11: ='PROPUESTA ECONOMICA'!B21 -> 9 | AY11: ='PROPUESTA ECONOMICA'!B22 -> 4 | BB11: ='PROPUESTA ECONOMICA'!B23 -> 16 | BE11: ='PROPUESTA ECONOMICA'!B24 -> 10 | BH11: ='PROPUESTA ECONOMICA'!B25 -> 1 | BK11: ='PROPUESTA ECONOMICA'!B26 -> 15 | BN11: ='PROPUESTA ECONOMICA'!B27 -> 8
H12: ='[2]DATOS ENTRADA'!C11 -> 43539 | I12: ='PROPUESTA ECONOMICA'!C8 -> CONSORCIO LA PAZ | L12: ='PROPUESTA ECONOMICA'!C9 -> LYDCO INGENIERIA SAS 005 | O12: ='PROPUESTA ECONOMICA'!C10 -> GRD-FDLC-LP-005-2019 | R12: ='PROPUESTA ECONOMICA'!C11 -> CONSORCIO CONSTRUVALOR | U12: ='PROPUESTA ECONOMICA'!C12 -> CONSORCIO CANDELARIA005 -2019 FDLC -LP005-2019 | X12: ='PROPUESTA ECONOMICA'!C13 -> FDLC-LP-005-2019- CONSORCIO VIAS BOGOTA 2019 | AA12: ='PROPUESTA ECONOMICA'!C14 -> CONSORCIO VIAL CANDELARIA | AD12: ='PROPUESTA ECONOMICA'!C15 -> MSB FONDO LOCAL DE LA CANDELARIA | AG12: ='PROPUESTA ECONOMICA'!C16 -> FDLC-LP005-2019 CFD INGENIERIA | AJ12: ='PROPUESTA ECONOMICA'!C17 -> JEINCO FDLC -LP 005-2019 | AM12: ='PROPUESTA ECONOMICA'!C18 -> GAMMA INGENIEROS ARQUITECTOS | AP12: ='PROPUESTA ECONOMICA'!C19 -> ESPACIO PUBLICO CANDELARIA EEI SAS | AS12: ='PROPUESTA ECONOMICA'!C20 -> UT BOGOTA VIAL | AV12: ='PROPUESTA ECONOMICA'!C21 -> CANDELARIA BYP | AY12: ='PROPUESTA ECONOMICA'!C22 -> CON & CON | BB12: ='PROPUESTA ECONOMICA'!C23 -> CONSORCIO VMJ-R&E VIAS 2019 CALLE 10 | BE12: ='PROPUESTA ECONOMICA'!C24 -> UT ARCARO CANDELARIA | BH12: ='PROPUESTA ECONOMICA'!C25 -> UT BJ | BK12: ='PROPUESTA ECONOMICA'!C26 -> 005-2019 CONSORCIO INGENIERIAIV | BN12: ='PROPUESTA ECONOMICA'!C27 -> CONSORCIO DIR
B13: COD IDU | C13: ÍTEM | D13: DESCRIPCIÓN | E13: UNIDAD | F13: CANTIDAD | G13: VR. UNITARIO | H13: SUBTOTAL | I13: VALOR PROPUESTO | J13: VALOR PARCIAL FINAL | K13: CALIFICACIÓN | L13: VALOR PROPUESTO | M13: VALOR PARCIAL FINAL | N13: CALIFICACIÓN | O13: VALOR PROPUESTO | P13: VALOR PARCIAL FINAL | Q13: CALIFICACIÓN | R13: VALOR PROPUESTO | S13: VALOR PARCIAL FINAL | T13: CALIFICACIÓN | U13: VALOR PROPUESTO | V13: VALOR PARCIAL FINAL | W13: CALIFICACIÓN | X13: VALOR PROPUESTO | Y13: VALOR PARCIAL FINAL | Z13: CALIFICACIÓN | AA13: VALOR PROPUESTO | AB13: VALOR PARCIAL FINAL | AC13: CALIFICACIÓN | AD13: VALOR PROPUESTO | AE13: VALOR PARCIAL FINAL | AF13: CALIFICACIÓN | AG13: VALOR PROPUESTO | AH13: VALOR PARCIAL FINAL | AI13: CALIFICACIÓN | AJ13: VALOR PROPUESTO | AK13: VALOR PARCIAL FINAL | AL13: CALIFICACIÓN | AM13: VALOR PROPUESTO | AN13: VALOR PARCIAL FINAL | AO13: CALIFICACIÓN | AP13: VALOR PROPUESTO | AQ13: VALOR PARCIAL FINAL | AR13: CALIFICACIÓN | AS13: VALOR PROPUESTO | AT13: VALOR PARCIAL FINAL | AU13: CALIFICACIÓN | AV13: VALOR PROPUESTO | AW13: VALOR PARCIAL FINAL | AX13: CALIFICACIÓN | AY13: VALOR PROPUESTO | AZ13: VALOR PARCIAL FINAL | BA13: CALIFICACIÓN | BB13: VALOR PROPUESTO | BC13: VALOR PARCIAL FINAL | BD13: CALIFICACIÓN | BE13: VALOR PROPUESTO | BF13: VALOR PARCIAL FINAL | BG13: CALIFICACIÓN | BH13: VALOR PROPUESTO | BI13: VALOR PARCIAL FINAL | BJ13: CALIFICACIÓN | BK13: VALOR PROPUESTO | BL13: VALOR PARCIAL FINAL | BM13: CALIFICACIÓN | BN13: VALOR PROPUESTO | BO13: VALOR PARCIAL FINAL | BP13: CALIFICACIÓN
C14: 1 | D14: PRELIMINARES | H14: =SUM(H16:H32) -> 166975853 | J14: =SUM(J16:J32) -> 164372122 | K14: =IF(J14<=$H14,"VÁLIDA","NO VÁLIDA") -> VÁLIDA | M14: =SUM(M16:M32) -> 165139178 | N14: =IF(M14<=$H14,"VÁLIDA","NO VÁLIDA") -> VÁLIDA | P14: =SUM(P16:P32) -> 166975853 | Q14: =IF(P14<=$H14,"VÁLIDA","NO VÁLIDA") -> VÁLIDA | S14: =SUM(S16:S32) -> 164521629 | T14: =IF(S14<=$H14,"VÁLIDA","NO VÁLIDA") -> VÁLIDA | V14: =SUM(V16:V32) -> 166975853 | W14: =IF(V14<=$H14,"VÁLIDA","NO VÁLIDA") -> VÁLIDA | Y14: =SUM(Y16:Y32) -> 164298993 | Z14: =IF(Y14<=$H14,"VÁLIDA","NO VÁLIDA") -> VÁLIDA | AB14: =SUM(AB16:AB32) -> 165139178 | AC14: =IF(AB14<=$H14,"VÁLIDA","NO VÁLIDA") -> VÁLIDA | AE14: =SUM(AE16:AE32) -> 162080743 | AF14: =IF(AE14<=$H14,"VÁLIDA","NO VÁLIDA") -> VÁLIDA | AH14: =SUM(AH16:AH32) -> 0 | AI14: =IF(AH14<=$H14,"VÁLIDA","NO VÁLIDA") -> VÁLIDA | AK14: =SUM(AK16:AK32) -> 155288152 | AL14: =IF(AK14<=$H14,"VÁLIDA","NO VÁLIDA") -> VÁLIDA | AN14: =SUM(AN16:AN32) -> 166557404 | AO14: =IF(AN14<=$H14,"VÁLIDA","NO VÁLIDA") -> VÁLIDA | AQ14: =SUM(AQ16:AQ32) -> 166975853 | AR14: =IF(AQ14<=$H14,"VÁLIDA","NO VÁLIDA") -> VÁLIDA | AT14: =SUM(AT16:AT32) -> 163759800 | AU14: =IF(AT14<=$H14,"VÁLIDA","NO VÁLIDA") -> VÁLIDA | AW14: =SUM(AW16:AW32) -> 221879365 | AX14: =IF(AW14<=$H14,"VÁLIDA","NO VÁLIDA") -> NO VÁLIDA | AZ14: =SUM(AZ16:AZ32) -> 166975853 | BA14: =IF(AZ14<=$H14,"VÁLIDA","NO VÁLIDA") -> VÁLIDA | BC14: =SUM(BC16:BC32) -> 1.6011274e+08 | BD14: =IF(BC14<=$H14,"VÁLIDA","NO VÁLIDA") -> VÁLIDA | BF14: =SUM(BF16:BF32) -> 163370012 | BG14: =IF(BF14<=$H14,"VÁLIDA","NO VÁLIDA") -> VÁLIDA | BI14: =SUM(BI16:BI32) -> 1.6530609e+08 | BJ14: =IF(BI14<=$H14,"VÁLIDA","NO VÁLIDA") -> VÁLIDA | BL14: =SUM(BL16:BL32) -> 165640122 | BM14: =IF(BL14<=$H14,"VÁLIDA","NO VÁLIDA") -> VÁLIDA | BO14: =SUM(BO16:BO32) -> 163988119 | BP14: =IF(BO14<=$H14,"VÁLIDA","NO VÁLIDA") -> VÁLIDA
D15: TRAMO CL 10 KR 4 Y KR5 y kr 6 y kr7
B16: 3007 | C16: =C14+0.01 -> 1.01 | D16: =VLOOKUP(B16,[2]ITEMS!$B$2:$E$2466,2,FALSE) -> REPLANTEO GENERAL | E16: =VLOOKUP(B16,[2]ITEMS!$B$2:$E$2466,3,FALSE) -> M2 | F16: 1890 | G16: =VLOOKUP(B16,[2]ITEMS!$B$2:$E$2466,4,FALSE) -> 569 | H16: =F16*G16 -> 1075410 | I16: 560 | J16: =I16*$F16 -> 1058400 | K16: =IF(J16<=$H16,"VÁLIDA","NO VÁLIDA") -> VÁLIDA | L16: 563 | M16: =L16*$F16 -> 1064070 | N16: =IF(M16<=$H16,"VÁLIDA","NO VÁLIDA") -> VÁLIDA | O16: 569 | P16: =O16*$F16 -> 1075410 | Q16: =IF(P16<=$H16,"VÁLIDA","NO VÁLIDA") -> VÁLIDA | R16: 561 | S16: =R16*$F16 -> 1060290 | T16: =IF(S16<=$H16,"VÁLIDA","NO VÁLIDA") -> VÁLIDA | U16: 569 | V16: =U16*$F16 -> 1075410 | W16: =IF(V16<=$H16,"VÁLIDA","NO VÁLIDA") -> VÁLIDA | X16: 559 | Y16: =X16*$F16 -> 1056510 | Z16: =IF(Y16<=$H16,"VÁLIDA","NO VÁLIDA") -> VÁLIDA | AA16: 563 | AB16: =AA16*$F16 -> 1064070 | AC16: =IF(AB16<=$H16,"VÁLIDA","NO VÁLIDA") -> VÁLIDA | AD16: 569 | AE16: =AD16*$F16 -> 1075410 | AF16: =IF(AE16<=$H16,"VÁLIDA","NO VÁLIDA") -> VÁLIDA | AH16: =AG16*$F16 -> 0 | AI16: =IF(AH16<=$H16,"VÁLIDA","NO VÁLIDA") -> VÁLIDA | AJ16: 529 | AK16: =AJ16*$F16 -> 999810 | AL16: =IF(AK16<=$H16,"VÁLIDA","NO VÁLIDA") -> VÁLIDA | AM16: 568 | AN16: =AM16*$F16 -> 1073520 | AO16: =IF(AN16<=$H16,"VÁLIDA","NO VÁLIDA") -> VÁLIDA | AP16: 569 | AQ16: =AP16*$F16 -> 1075410 | AR16: =IF(AQ16<=$H16,"VÁLIDA","NO VÁLIDA") -> VÁLIDA | AS16: 560 | AT16: =AS16*$F16 -> 1058400 | AU16: =IF(AT16<=$H16,"VÁLIDA","NO VÁLIDA") -> VÁLIDA | AV16: 756 | AW16: =AV16*$F16 -> 1428840 | AX16: =IF(AW16<=$H16,"VÁLIDA","NO VÁLIDA") -> NO VÁLIDA | AY16: 569 | AZ16: =AY16*$F16 -> 1075410 | BA16: =IF(AZ16<=$H16,"VÁLIDA","NO VÁLIDA") -> VÁLIDA | BB16: 545.6127 | BC16: =BB16*$F16 -> 1031208 | BD16: =IF(BC16<=$H16,"VÁLIDA","NO VÁLIDA") -> VÁLIDA | BE16: 557 | BF16: =BE16*$F16 -> 1052730 | BG16: =IF(BF16<=$H16,"VÁLIDA","NO VÁLIDA") -> VÁLIDA | BH16: 563.31 | BI16: =BH16*$F16 -> 1064655.9 | BJ16: =IF(BI16<=$H16,"VÁLIDA","NO VÁLIDA") -> VÁLIDA | BK16: 564 | BL16: =BK16*$F16 -> 1065960 | BM16: =IF(BL16<=$H16,"VÁLIDA","NO VÁLIDA") -> VÁLIDA | BN16: 558 | BO16: =BN16*$F16 -> 1054620 | BP16: =IF(BO16<=$H16,"VÁLIDA","NO VÁLIDA") -> VÁLIDA
B17: 3021 | C17: =C16+0.01 -> 1.02 | D17: =VLOOKUP(B17,[2]ITEMS!$B$4:$E$2466,2,FALSE) -> DEMOLICION PAVIMENTO ASFALTICO (Espesor Variable. Incluye Cargue). No incluye transporte y disposición final de sobrantes. Rendimiento estimado para espesores max. 0.15m | E17: =VLOOKUP(B17,[2]ITEMS!$B$4:$E$2466,3,FALSE) -> M2 | F17: 10 | G17: =VLOOKUP(B17,[2]ITEMS!$B$4:$E$2466,4,FALSE) -> 5039 | H17: =F17*G17 -> 50390 | I17: 4960 | J17: =I17*$F17 -> 49600 | K17: =IF(J17<=$H17,"VÁLIDA","NO VÁLIDA") -> VÁLIDA | L17: 4984 | M17: =L17*$F17 -> 49840 | N17: =IF(M17<=$H17,"VÁLIDA","NO VÁLIDA") -> VÁLIDA | O17: 5039 | P17: =O17*$F17 -> 50390 | Q17: =IF(P17<=$H17,"VÁLIDA","NO VÁLIDA") -> VÁLIDA | R17: 4965 | S17: =R17*$F17 -> 49650 | T17: =IF(S17<=$H17,"VÁLIDA","NO VÁLIDA") -> VÁLIDA | U17: 5039 | V17: =U17*$F17 -> 50390 | W17: =IF(V17<=$H17,"VÁLIDA","NO VÁLIDA") -> VÁLIDA | X17: 4958 | Y17: =X17*$F17 -> 49580 | Z17: =IF(Y17<=$H17,"VÁLIDA","NO VÁLIDA") -> VÁLIDA | AA17: 4984 | AB17: =AA17*$F17 -> 49840 | AC17: =IF(AB17<=$H17,"VÁLIDA","NO VÁLIDA") -> VÁLIDA | AD17: 5039 | AE17: =AD17*$F17 -> 50390 | AF17: =IF(AE17<=$H17,"VÁLIDA","NO VÁLIDA") -> VÁLIDA | AH17: =AG17*$F17 -> 0 | AI17: =IF(AH17<=$H17,"VÁLIDA","NO VÁLIDA") -> VÁLIDA | AJ17: 4686 | AK17: =AJ17*$F17 -> 46860 | AL17: =IF(AK17<=$H17,"VÁLIDA","NO VÁLIDA") -> VÁLIDA | AM17: 5026 | AN17: =AM17*$F17 -> 50260 | AO17: =IF(AN17<=$H17,"VÁLIDA","NO VÁLIDA") -> VÁLIDA | AP17: 5039 | AQ17: =AP17*$F17 -> 50390 | AR17: =IF(AQ17<=$H17,"VÁLIDA","NO VÁLIDA") -> VÁLIDA | AS17: 4900 | AT17: =AS17*$F17 -> 49000 | AU17: =IF(AT17<=$H17,"VÁLIDA","NO VÁLIDA") -> VÁLIDA | AV17: 6696 | AW17: =AV17*$F17 -> 66960 | AX17: =IF(AW17<=$H17,"VÁLIDA","NO VÁLIDA") -> NO VÁLIDA | AY17: 5039 | AZ17: =AY17*$F17 -> 50390 | BA17: =IF(AZ17<=$H17,"VÁLIDA","NO VÁLIDA") -> VÁLIDA | BB17: 4831.8847 | BC17: =BB17*$F17 -> 48318.847 | BD17: =IF(BC17<=$H17,"VÁLIDA","NO VÁLIDA") -> VÁLIDA | BE17: 4930 | BF17: =BE17*$F17 -> 49300 | BG17: =IF(BF17<=$H17,"VÁLIDA","NO VÁLIDA") -> VÁLIDA | BH17: 4988.61 | BI17: =BH17*$F17 -> 49886.1 | BJ17: =IF(BI17<=$H17,"VÁLIDA","NO VÁLIDA") -> VÁLIDA | BK17: 4999 | BL17: =BK17*$F17 -> 49990 | BM17: =IF(BL17<=$H17,"VÁLIDA","NO VÁLIDA") -> VÁLIDA | BN17: 4949 | BO17: =BN17*$F17 -> 49490 | BP17: =IF(BO17<=$H17,"VÁLIDA","NO VÁLIDA") -> VÁLIDA
B18: 3022 | C18: =C17+0.01 -> 1.03 | D18: =VLOOKUP(B18,[2]ITEMS!$B$4:$E$2466,2,FALSE) -> DEMOLICION PISOS DE CONCRETO (incluye cargue). No incluye transporte y disposición final de sobrantes. Rendimiento estimado para espesores de 0.20m. | E18: =VLOOKUP(B18,[2]ITEMS!$B$4:$E$2466,3,FALSE) -> M3 | F18: 720 | G18: =VLOOKUP(B18,[2]ITEMS!$B$4:$E$2466,4,FALSE) -> 40211 | H18: =F18*G18 -> 28951920 | I18: 39584 | J18: =I18*$F18 -> 28500480 | K18: =IF(J18<=$H18,"VÁLIDA","NO VÁLIDA") -> VÁLIDA | L18: 39769 | M18: =L18*$F18 -> 28633680 | N18: =IF(M18<=$H18,"VÁLIDA","NO VÁLIDA") -> VÁLIDA | O18: 40211 | P18: =O18*$F18 -> 28951920 | Q18: =IF(P18<=$H18,"VÁLIDA","NO VÁLIDA") -> VÁLIDA | R18: 39620 | S18: =R18*$F18 -> 28526400 | T18: =IF(S18<=$H18,"VÁLIDA","NO VÁLIDA") -> VÁLIDA | U18: 40211 | V18: =U18*$F18 -> 28951920 | W18: =IF(V18<=$H18,"VÁLIDA","NO VÁLIDA") -> VÁLIDA | X18: 39567 | Y18: =X18*$F18 -> 28488240 | Z18: =IF(Y18<=$H18,"VÁLIDA","NO VÁLIDA") -> VÁLIDA | AA18: 39769 | AB18: =AA18*$F18 -> 28633680 | AC18: =IF(AB18<=$H18,"VÁLIDA","NO VÁLIDA") -> VÁLIDA | AD18: 39000 | AE18: =AD18*$F18 -> 28080000 | AF18: =IF(AE18<=$H18,"VÁLIDA","NO VÁLIDA") -> VÁLIDA | AH18: =AG18*$F18 -> 0 | AI18: =IF(AH18<=$H18,"VÁLIDA","NO VÁLIDA") -> VÁLIDA | AJ18: 37396 | AK18: =AJ18*$F18 -> 26925120 | AL18: =IF(AK18<=$H18,"VÁLIDA","NO VÁLIDA") -> VÁLIDA | AM18: 40110 | AN18: =AM18*$F18 -> 28879200 | AO18: =IF(AN18<=$H18,"VÁLIDA","NO VÁLIDA") -> VÁLIDA | AP18: 40211 | AQ18: =AP18*$F18 -> 28951920 | AR18: =IF(AQ18<=$H18,"VÁLIDA","NO VÁLIDA") -> VÁLIDA | AS18: 39300 | AT18: =AS18*$F18 -> 28296000 | AU18: =IF(AT18<=$H18,"VÁLIDA","NO VÁLIDA") -> VÁLIDA | AV18: 53433 | AW18: =AV18*$F18 -> 38471760 | AX18: =IF(AW18<=$H18,"VÁLIDA","NO VÁLIDA") -> NO VÁLIDA | AY18: 40211 | AZ18: =AY18*$F18 -> 28951920 | BA18: =IF(AZ18<=$H18,"VÁLIDA","NO VÁLIDA") -> VÁLIDA | BB18: 38558.229 | BC18: =BB18*$F18 -> 27761925 | BD18: =IF(BC18<=$H18,"VÁLIDA","NO VÁLIDA") -> VÁLIDA | BE18: 39342 | BF18: =BE18*$F18 -> 28326240 | BG18: =IF(BF18<=$H18,"VÁLIDA","NO VÁLIDA") -> VÁLIDA | BH18: 39808.89 | BI18: =BH18*$F18 -> 28662401 | BJ18: =IF(BI18<=$H18,"VÁLIDA","NO VÁLIDA") -> VÁLIDA | BK18: 39889 | BL18: =BK18*$F18 -> 28720080 | BM18: =IF(BL18<=$H18,"VÁLIDA","NO VÁLIDA") -> VÁLIDA | BN18: 39492 | BO18: =BN18*$F18 -> 28434240 | BP18: =IF(BO18<=$H18,"VÁLIDA","NO VÁLIDA") -> VÁLIDA
B19: 3155 | C19: =C18+0.01 -> 1.04 | D19: =VLOOKUP(B19,[2]ITEMS!$B$4:$E$2466,2,FALSE) -> DEMOLICION SUMIDERO EXISTENTE (Incluye Cargue) | E19: =VLOOKUP(B19,[2]ITEMS!$B$4:$E$2466,3,FALSE) -> UN | F19: 3 | G19: =VLOOKUP(B19,[2]ITEMS!$B$4:$E$2466,4,FALSE) -> 134789 | H19: =F19*G19 -> 404367 | I19: 132689 | J19: =I19*$F19 -> 398067 | K19: =IF(J19<=$H19,"VÁLIDA","NO VÁLIDA") -> VÁLIDA | L19: 133306 | M19: =L19*$F19 -> 399918 | N19: =IF(M19<=$H19,"VÁLIDA","NO VÁLIDA") -> VÁLIDA | O19: 134789 | P19: =O19*$F19 -> 404367 | Q19: =IF(P19<=$H19,"VÁLIDA","NO VÁLIDA") -> VÁLIDA | R19: 132808 | S19: =R19*$F19 -> 398424 | T19: =IF(S19<=$H19,"VÁLIDA","NO VÁLIDA") -> VÁLIDA | U19: 134789 | V19: =U19*$F19 -> 404367 | W19: =IF(V19<=$H19,"VÁLIDA","NO VÁLIDA") -> VÁLIDA | X19: 132632 | Y19: =X19*$F19 -> 397896 | Z19: =IF(Y19<=$H19,"VÁLIDA","NO VÁLIDA") -> VÁLIDA | AA19: 133306 | AB19: =AA19*$F19 -> 399918 | AC19: =IF(AB19<=$H19,"VÁLIDA","NO VÁLIDA") -> VÁLIDA | AD19: 134789 | AE19: =AD19*$F19 -> 404367 | AF19: =IF(AE19<=$H19,"VÁLIDA","NO VÁLIDA") -> VÁLIDA | AH19: =AG19*$F19 -> 0 | AI19: =IF(AH19<=$H19,"VÁLIDA","NO VÁLIDA") -> VÁLIDA | AJ19: 125354 | AK19: =AJ19*$F19 -> 376062 | AL19: =IF(AK19<=$H19,"VÁLIDA","NO VÁLIDA") -> VÁLIDA | AM19: 134452 | AN19: =AM19*$F19 -> 403356 | AO19: =IF(AN19<=$H19,"VÁLIDA","NO VÁLIDA") -> VÁLIDA | AP19: 134789 | AQ19: =AP19*$F19 -> 404367 | AR19: =IF(AQ19<=$H19,"VÁLIDA","NO VÁLIDA") -> VÁLIDA | AS19: 132000 | AT19: =AS19*$F19 -> 396000 | AU19: =IF(AT19<=$H19,"VÁLIDA","NO VÁLIDA") -> VÁLIDA | AV19: 179109 | AW19: =AV19*$F19 -> 537327 | AX19: =IF(AW19<=$H19,"VÁLIDA","NO VÁLIDA") -> NO VÁLIDA | AY19: 134789 | AZ19: =AY19*$F19 -> 404367 | BA19: =IF(AZ19<=$H19,"VÁLIDA","NO VÁLIDA") -> VÁLIDA | BB19: 129248.84 | BC19: =BB19*$F19 -> 387746.52 | BD19: =IF(BC19<=$H19,"VÁLIDA","NO VÁLIDA") -> VÁLIDA | BE19: 131878 | BF19: =BE19*$F19 -> 395634 | BG19: =IF(BF19<=$H19,"VÁLIDA","NO VÁLIDA") -> VÁLIDA | BH19: 133441.11 | BI19: =BH19*$F19 -> 400323.33 | BJ19: =IF(BI19<=$H19,"VÁLIDA","NO VÁLIDA") -> VÁLIDA | BK19: 133711 | BL19: =BK19*$F19 -> 401133 | BM19: =IF(BL19<=$H19,"VÁLIDA","NO VÁLIDA") -> VÁLIDA | BN19: 132381 | BO19: =BN19*$F19 -> 397143 | BP19: =IF(BO19<=$H19,"VÁLIDA","NO VÁLIDA") -> VÁLIDA
C20: =C19+0.01 -> 1.05 | D20: DEMOLICION PLACA SUPERIOR CAMARA T13 ETB (1,5X2,1X0,21) | E20: UN | F20: 3 | G20: 106677 | H20: =F20*G20 -> 320031 | I20: 105015 | J20: =I20*$F20 -> 315045 | K20: =IF(J20<=$H20,"VÁLIDA","NO VÁLIDA") -> VÁLIDA | L20: 105504 | M20: =L20*$F20 -> 316512 | N20: =IF(M20<=$H20,"VÁLIDA","NO VÁLIDA") -> VÁLIDA | O20: 106677 | P20: =O20*$F20 -> 320031 | Q20: =IF(P20<=$H20,"VÁLIDA","NO VÁLIDA") -> VÁLIDA | R20: 105109 | S20: =R20*$F20 -> 315327 | T20: =IF(S20<=$H20,"VÁLIDA","NO VÁLIDA") -> VÁLIDA | U20: 106677 | V20: =U20*$F20 -> 320031 | W20: =IF(V20<=$H20,"VÁLIDA","NO VÁLIDA") -> VÁLIDA | X20: 104970 | Y20: =X20*$F20 -> 314910 | Z20: =IF(Y20<=$H20,"VÁLIDA","NO VÁLIDA") -> VÁLIDA | AA20: 105504 | AB20: =AA20*$F20 -> 316512 | AC20: =IF(AB20<=$H20,"VÁLIDA","NO VÁLIDA") -> VÁLIDA | AD20: 106677 | AE20: =AD20*$F20 -> 320031 | AF20: =IF(AE20<=$H20,"VÁLIDA","NO VÁLIDA") -> VÁLIDA | AH20: =AG20*$F20 -> 0 | AI20: =IF(AH20<=$H20,"VÁLIDA","NO VÁLIDA") -> VÁLIDA | AJ20: 99210 | AK20: =AJ20*$F20 -> 297630 | AL20: =IF(AK20<=$H20,"VÁLIDA","NO VÁLIDA") -> VÁLIDA | AM20: 106410 | AN20: =AM20*$F20 -> 319230 | AO20: =IF(AN20<=$H20,"VÁLIDA","NO VÁLIDA") -> VÁLIDA | AP20: 106677 | AQ20: =AP20*$F20 -> 320031 | AR20: =IF(AQ20<=$H20,"VÁLIDA","NO VÁLIDA") -> VÁLIDA | AS20: 105000 | AT20: =AS20*$F20 -> 315000 | AU20: =IF(AT20<=$H20,"VÁLIDA","NO VÁLIDA") -> VÁLIDA | AV20: 141753 | AW20: =AV20*$F20 -> 425259 | AX20: =IF(AW20<=$H20,"VÁLIDA","NO VÁLIDA") -> NO VÁLIDA | AY20: 106677 | AZ20: =AY20*$F20 -> 320031 | BA20: =IF(AZ20<=$H20,"VÁLIDA","NO VÁLIDA") -> VÁLIDA | BB20: 102292.31 | BC20: =BB20*$F20 -> 306876.94 | BD20: =IF(BC20<=$H20,"VÁLIDA","NO VÁLIDA") -> VÁLIDA | BE20: 104373 | BF20: =BE20*$F20 -> 313119 | BG20: =IF(BF20<=$H20,"VÁLIDA","NO VÁLIDA") -> VÁLIDA | BH20: 105610.23 | BI20: =BH20*$F20 -> 316830.69 | BJ20: =IF(BI20<=$H20,"VÁLIDA","NO VÁLIDA") -> VÁLIDA | BK20: 105824 | BL20: =BK20*$F20 -> 317472 | BM20: =IF(BL20<=$H20,"VÁLIDA","NO VÁLIDA") -> VÁLIDA | BN20: 104771 | BO20: =BN20*$F20 -> 314313 | BP20: =IF(BO20<=$H20,"VÁLIDA","NO VÁLIDA") -> VÁLIDA
C21: =C20+0.01 -> 1.06 | D21: DEMOLICION MANUAL ANDEN EN CONCRETO e=0.10 M INCLUYE CARGUE Y RETIRO | E21: M2 | F21: 18 | G21: 18622 | H21: =F21*G21 -> 335196 | I21: 18332 | J21: =I21*$F21 -> 329976 | K21: =IF(J21<=$H21,"VÁLIDA","NO VÁLIDA") -> VÁLIDA | L21: 18417 | M21: =L21*$F21 -> 331506 | N21: =IF(M21<=$H21,"VÁLIDA","NO VÁLIDA") -> VÁLIDA | O21: 18622 | P21: =O21*$F21 -> 335196 | Q21: =IF(P21<=$H21,"VÁLIDA","NO VÁLIDA") -> VÁLIDA | R21: 18348 | S21: =R21*$F21 -> 330264 | T21: =IF(S21<=$H21,"VÁLIDA","NO VÁLIDA") -> VÁLIDA | U21: 18622 | V21: =U21*$F21 -> 335196 | W21: =IF(V21<=$H21,"VÁLIDA","NO VÁLIDA") -> VÁLIDA | X21: 18324 | Y21: =X21*$F21 -> 329832 | Z21: =IF(Y21<=$H21,"VÁLIDA","NO VÁLIDA") -> VÁLIDA | AA21: 18417 | AB21: =AA21*$F21 -> 331506 | AC21: =IF(AB21<=$H21,"VÁLIDA","NO VÁLIDA") -> VÁLIDA | AD21: 18622 | AE21: =AD21*$F21 -> 335196 | AF21: =IF(AE21<=$H21,"VÁLIDA","NO VÁLIDA") -> VÁLIDA | AH21: =AG21*$F21 -> 0 | AI21: =IF(AH21<=$H21,"VÁLIDA","NO VÁLIDA") -> VÁLIDA | AJ21: 17318 | AK21: =AJ21*$F21 -> 311724 | AL21: =IF(AK21<=$H21,"VÁLIDA","NO VÁLIDA") -> VÁLIDA | AM21: 18575 | AN21: =AM21*$F21 -> 334350 | AO21: =IF(AN21<=$H21,"VÁLIDA","NO VÁLIDA") -> VÁLIDA | AP21: 18622 | AQ21: =AP21*$F21 -> 335196 | AR21: =IF(AQ21<=$H21,"VÁLIDA","NO VÁLIDA") -> VÁLIDA | AS21: 18300 | AT21: =AS21*$F21 -> 329400 | AU21: =IF(AT21<=$H21,"VÁLIDA","NO VÁLIDA") -> VÁLIDA | AV21: 24746 | AW21: =AV21*$F21 -> 445428 | AX21: =IF(AW21<=$H21,"VÁLIDA","NO VÁLIDA") -> NO VÁLIDA | AY21: 18622 | AZ21: =AY21*$F21 -> 335196 | BA21: =IF(AZ21<=$H21,"VÁLIDA","NO VÁLIDA") -> VÁLIDA | BB21: 17856.59 | BC21: =BB21*$F21 -> 321418.62 | BD21: =IF(BC21<=$H21,"VÁLIDA","NO VÁLIDA") -> VÁLIDA | BE21: 18220 | BF21: =BE21*$F21 -> 327960 | BG21: =IF(BF21<=$H21,"VÁLIDA","NO VÁLIDA") -> VÁLIDA | BH21: 18435.78 | BI21: =BH21*$F21 -> 331844.04 | BJ21: =IF(BI21<=$H21,"VÁLIDA","NO VÁLIDA") -> VÁLIDA | BK21: 18473 | BL21: =BK21*$F21 -> 332514 | BM21: =IF(BL21<=$H21,"VÁLIDA","NO VÁLIDA") -> VÁLIDA | BN21: 18289 | BO21: =BN21*$F21 -> 329202 | BP21: =IF(BO21<=$H21,"VÁLIDA","NO VÁLIDA") -> VÁLIDA
B22: 3811 | C22: =C21+0.01 -> 1.07 | D22: =VLOOKUP(B22,[2]ITEMS!$B$4:$E$2466,2,FALSE) -> CORTE DE PAVIMENTO - INCLUYE EQUIPO: CORTADORA DE CONCRETO INCLUYE OPERARIO Y COMBUSTIBLE. INCLUYE DISCO DIAMANTADO ASFALTO-CONCRETO 350 mm, AGUA Y MANO DE OBRA | E22: =VLOOKUP(B22,[2]ITEMS!$B$4:$E$2466,3,FALSE) -> M | F22: 901 | G22: =VLOOKUP(B22,[2]ITEMS!$B$4:$E$2466,4,FALSE) -> 1643 | H22: =F22*G22 -> 1480343 | I22: 1617 | J22: =I22*$F22 -> 1456917 | K22: =IF(J22<=$H22,"VÁLIDA","NO VÁLIDA") -> VÁLIDA | L22: 1625 | M22: =L22*$F22 -> 1464125 | N22: =IF(M22<=$H22,"VÁLIDA","NO VÁLIDA") -> VÁLIDA | O22: 1643 | P22: =O22*$F22 -> 1480343 | Q22: =IF(P22<=$H22,"VÁLIDA","NO VÁLIDA") -> VÁLIDA | R22: 1619 | S22: =R22*$F22 -> 1458719 | T22: =IF(S22<=$H22,"VÁLIDA","NO VÁLIDA") -> VÁLIDA | U22: 1643 | V22: =U22*$F22 -> 1480343 | W22: =IF(V22<=$H22,"VÁLIDA","NO VÁLIDA") -> VÁLIDA | X22: 1616 | Y22: =X22*$F22 -> 1456016 | Z22: =IF(Y22<=$H22,"VÁLIDA","NO VÁLIDA") -> VÁLIDA | AA22: 1625 | AB22: =AA22*$F22 -> 1464125 | AC22: =IF(AB22<=$H22,"VÁLIDA","NO VÁLIDA") -> VÁLIDA | AD22: 1643 | AE22: =AD22*$F22 -> 1480343 | AF22: =IF(AE22<=$H22,"VÁLIDA","NO VÁLIDA") -> VÁLIDA | AH22: =AG22*$F22 -> 0 | AI22: =IF(AH22<=$H22,"VÁLIDA","NO VÁLIDA") -> VÁLIDA | AJ22: 1528 | AK22: =AJ22*$F22 -> 1376728 | AL22: =IF(AK22<=$H22,"VÁLIDA","NO VÁLIDA") -> VÁLIDA | AM22: 1639 | AN22: =AM22*$F22 -> 1476739 | AO22: =IF(AN22<=$H22,"VÁLIDA","NO VÁLIDA") -> VÁLIDA | AP22: 1643 | AQ22: =AP22*$F22 -> 1480343 | AR22: =IF(AQ22<=$H22,"VÁLIDA","NO VÁLIDA") -> VÁLIDA | AS22: 1600 | AT22: =AS22*$F22 -> 1441600 | AU22: =IF(AT22<=$H22,"VÁLIDA","NO VÁLIDA") -> VÁLIDA | AV22: 2183 | AW22: =AV22*$F22 -> 1966883 | AX22: =IF(AW22<=$H22,"VÁLIDA","NO VÁLIDA") -> NO VÁLIDA | AY22: 1643 | AZ22: =AY22*$F22 -> 1480343 | BA22: =IF(AZ22<=$H22,"VÁLIDA","NO VÁLIDA") -> VÁLIDA | BB22: 1575.4687 | BC22: =BB22*$F22 -> 1419497.3 | BD22: =IF(BC22<=$H22,"VÁLIDA","NO VÁLIDA") -> VÁLIDA | BE22: 1608 | BF22: =BE22*$F22 -> 1448808 | BG22: =IF(BF22<=$H22,"VÁLIDA","NO VÁLIDA") -> VÁLIDA | BH22: 1626.57 | BI22: =BH22*$F22 -> 1465539.6 | BJ22: =IF(BI22<=$H22,"VÁLIDA","NO VÁLIDA") -> VÁLIDA | BK22: 1630 | BL22: =BK22*$F22 -> 1468630 | BM22: =IF(BL22<=$H22,"VÁLIDA","NO VÁLIDA") -> VÁLIDA | BN22: 1613 | BO22: =BN22*$F22 -> 1453313 | BP22: =IF(BO22<=$H22,"VÁLIDA","NO VÁLIDA") -> VÁLIDA
B23: 4581 | C23: =C22+0.01 -> 1.08 | D23: =VLOOKUP(B23,[2]ITEMS!$B$4:$E$2466,2,FALSE) -> RETIRO DE ADOQUIN SOBRE MORTERO | E23: =VLOOKUP(B23,[2]ITEMS!$B$4:$E$2466,3,FALSE) -> M2 | F23: 1763 | G23: =VLOOKUP(B23,[2]ITEMS!$B$4:$E$2466,4,FALSE) -> 1903 | H23: =F23*G23 -> 3354989 | I23: 1873 | J23: =I23*$F23 -> 3302099 | K23: =IF(J23<=$H23,"VÁLIDA","NO VÁLIDA") -> VÁLIDA | L23: 1882 | M23: =L23*$F23 -> 3317966 | N23: =IF(M23<=$H23,"VÁLIDA","NO VÁLIDA") -> VÁLIDA | O23: 1903 | P23: =O23*$F23 -> 3354989 | Q23: =IF(P23<=$H23,"VÁLIDA","NO VÁLIDA") -> VÁLIDA | R23: 1875 | S23: =R23*$F23 -> 3305625 | T23: =IF(S23<=$H23,"VÁLIDA","NO VÁLIDA") -> VÁLIDA | U23: 1903 | V23: =U23*$F23 -> 3354989 | W23: =IF(V23<=$H23,"VÁLIDA","NO VÁLIDA") -> VÁLIDA | X23: 1872 | Y23: =X23*$F23 -> 3300336 | Z23: =IF(Y23<=$H23,"VÁLIDA","NO VÁLIDA") -> VÁLIDA | AA23: 1882 | AB23: =AA23*$F23 -> 3317966 | AC23: =IF(AB23<=$H23,"VÁLIDA","NO VÁLIDA") -> VÁLIDA | AD23: 1903 | AE23: =AD23*$F23 -> 3354989 | AF23: =IF(AE23<=$H23,"VÁLIDA","NO VÁLIDA") -> VÁLIDA | AH23: =AG23*$F23 -> 0 | AI23: =IF(AH23<=$H23,"VÁLIDA","NO VÁLIDA") -> VÁLIDA | AJ23: 1770 | AK23: =AJ23*$F23 -> 3120510 | AL23: =IF(AK23<=$H23,"VÁLIDA","NO VÁLIDA") -> VÁLIDA | AM23: 1898 | AN23: =AM23*$F23 -> 3346174 | AO23: =IF(AN23<=$H23,"VÁLIDA","NO VÁLIDA") -> VÁLIDA | AP23: 1903 | AQ23: =AP23*$F23 -> 3354989 | AR23: =IF(AQ23<=$H23,"VÁLIDA","NO VÁLIDA") -> VÁLIDA | AS23: 1800 | AT23: =AS23*$F23 -> 3173400 | AU23: =IF(AT23<=$H23,"VÁLIDA","NO VÁLIDA") -> VÁLIDA | AV23: 2529 | AW23: =AV23*$F23 -> 4458627 | AX23: =IF(AW23<=$H23,"VÁLIDA","NO VÁLIDA") -> NO VÁLIDA | AY23: 1903 | AZ23: =AY23*$F23 -> 3354989 | BA23: =IF(AZ23<=$H23,"VÁLIDA","NO VÁLIDA") -> VÁLIDA | BB23: 1824.782 | BC23: =BB23*$F23 -> 3217090.7 | BD23: =IF(BC23<=$H23,"VÁLIDA","NO VÁLIDA") -> VÁLIDA | BE23: 1862 | BF23: =BE23*$F23 -> 3282706 | BG23: =IF(BF23<=$H23,"VÁLIDA","NO VÁLIDA") -> VÁLIDA | BH23: 1883.97 | BI23: =BH23*$F23 -> 3321439.1 | BJ23: =IF(BI23<=$H23,"VÁLIDA","NO VÁLIDA") -> VÁLIDA | BK23: 1888 | BL23: =BK23*$F23 -> 3328544 | BM23: =IF(BL23<=$H23,"VÁLIDA","NO VÁLIDA") -> VÁLIDA | BN23: 1869 | BO23: =BN23*$F23 -> 3295047 | BP23: =IF(BO23<=$H23,"VÁLIDA","NO VÁLIDA") -> VÁLIDA
C24: =C23+0.01 -> 1.09 | D24: DEMOLICION DE ADOQUIN 6CM | E24: M2 | F24: 435 | G24: 6233 | H24: =F24*G24 -> 2711355 | I24: 6136 | J24: =I24*$F24 -> 2669160 | K24: =IF(J24<=$H24,"VÁLIDA","NO VÁLIDA") -> VÁLIDA | L24: 6164 | M24: =L24*$F24 -> 2681340 | N24: =IF(M24<=$H24,"VÁLIDA","NO VÁLIDA") -> VÁLIDA | O24: 6233 | P24: =O24*$F24 -> 2711355 | Q24: =IF(P24<=$H24,"VÁLIDA","NO VÁLIDA") -> VÁLIDA | R24: 6141 | S24: =R24*$F24 -> 2671335 | T24: =IF(S24<=$H24,"VÁLIDA","NO VÁLIDA") -> VÁLIDA | U24: 6233 | V24: =U24*$F24 -> 2711355 | W24: =IF(V24<=$H24,"VÁLIDA","NO VÁLIDA") -> VÁLIDA | X24: 6133 | Y24: =X24*$F24 -> 2667855 | Z24: =IF(Y24<=$H24,"VÁLIDA","NO VÁLIDA") -> VÁLIDA | AA24: 6164 | AB24: =AA24*$F24 -> 2681340 | AC24: =IF(AB24<=$H24,"VÁLIDA","NO VÁLIDA") -> VÁLIDA | AD24: 6233 | AE24: =AD24*$F24 -> 2711355 | AF24: =IF(AE24<=$H24,"VÁLIDA","NO VÁLIDA") -> VÁLIDA | AH24: =AG24*$F24 -> 0 | AI24: =IF(AH24<=$H24,"VÁLIDA","NO VÁLIDA") -> VÁLIDA | AJ24: 5797 | AK24: =AJ24*$F24 -> 2521695 | AL24: =IF(AK24<=$H24,"VÁLIDA","NO VÁLIDA") -> VÁLIDA | AM24: 6217 | AN24: =AM24*$F24 -> 2704395 | AO24: =IF(AN24<=$H24,"VÁLIDA","NO VÁLIDA") -> VÁLIDA | AP24: 6233 | AQ24: =AP24*$F24 -> 2711355 | AR24: =IF(AQ24<=$H24,"VÁLIDA","NO VÁLIDA") -> VÁLIDA | AS24: 6100 | AT24: =AS24*$F24 -> 2653500 | AU24: =IF(AT24<=$H24,"VÁLIDA","NO VÁLIDA") -> VÁLIDA | AV24: 8282 | AW24: =AV24*$F24 -> 3602670 | AX24: =IF(AW24<=$H24,"VÁLIDA","NO VÁLIDA") -> NO VÁLIDA | AY24: 6233 | AZ24: =AY24*$F24 -> 2711355 | BA24: =IF(AZ24<=$H24,"VÁLIDA","NO VÁLIDA") -> VÁLIDA | BB24: 5976.8084 | BC24: =BB24*$F24 -> 2599911.7 | BD24: =IF(BC24<=$H24,"VÁLIDA","NO VÁLIDA") -> VÁLIDA | BE24: 6098 | BF24: =BE24*$F24 -> 2652630 | BG24: =IF(BF24<=$H24,"VÁLIDA","NO VÁLIDA") -> VÁLIDA | BH24: 6170.67 | BI24: =BH24*$F24 -> 2684241.5 | BJ24: =IF(BI24<=$H24,"VÁLIDA","NO VÁLIDA") -> VÁLIDA | BK24: 6183 | BL24: =BK24*$F24 -> 2689605 | BM24: =IF(BL24<=$H24,"VÁLIDA","NO VÁLIDA") -> VÁLIDA | BN24: 6121 | BO24: =BN24*$F24 -> 2662635 | BP24: =IF(BO24<=$H24,"VÁLIDA","NO VÁLIDA") -> VÁLIDA
C25: =C24+0.01 -> 1.1 | D25: DEMOLICION DE MORTERO ESPESOR 4 CM | E25: M2 | F25: 132 | G25: 4489 | H25: =F25*G25 -> 592548 | I25: 4419 | J25: =I25*$F25 -> 583308 | K25: =IF(J25<=$H25,"VÁLIDA","NO VÁLIDA") -> VÁLIDA | L25: 4440 | M25: =L25*$F25 -> 586080 | N25: =IF(M25<=$H25,"VÁLIDA","NO VÁLIDA") -> VÁLIDA | O25: 4489 | P25: =O25*$F25 -> 592548 | Q25: =IF(P25<=$H25,"VÁLIDA","NO VÁLIDA") -> VÁLIDA | R25: 4423 | S25: =R25*$F25 -> 583836 | T25: =IF(S25<=$H25,"VÁLIDA","NO VÁLIDA") -> VÁLIDA | U25: 4489 | V25: =U25*$F25 -> 592548 | W25: =IF(V25<=$H25,"VÁLIDA","NO VÁLIDA") -> VÁLIDA | X25: 4417 | Y25: =X25*$F25 -> 583044 | Z25: =IF(Y25<=$H25,"VÁLIDA","NO VÁLIDA") -> VÁLIDA | AA25: 4440 | AB25: =AA25*$F25 -> 586080 | AC25: =IF(AB25<=$H25,"VÁLIDA","NO VÁLIDA") -> VÁLIDA | AD25: 4489 | AE25: =AD25*$F25 -> 592548 | AF25: =IF(AE25<=$H25,"VÁLIDA","NO VÁLIDA") -> VÁLIDA | AH25: =AG25*$F25 -> 0 | AI25: =IF(AH25<=$H25,"VÁLIDA","NO VÁLIDA") -> VÁLIDA | AJ25: 4175 | AK25: =AJ25*$F25 -> 551100 | AL25: =IF(AK25<=$H25,"VÁLIDA","NO VÁLIDA") -> VÁLIDA | AM25: 4478 | AN25: =AM25*$F25 -> 591096 | AO25: =IF(AN25<=$H25,"VÁLIDA","NO VÁLIDA") -> VÁLIDA | AP25: 4489 | AQ25: =AP25*$F25 -> 592548 | AR25: =IF(AQ25<=$H25,"VÁLIDA","NO VÁLIDA") -> VÁLIDA | AS25: 4400 | AT25: =AS25*$F25 -> 580800 | AU25: =IF(AT25<=$H25,"VÁLIDA","NO VÁLIDA") -> VÁLIDA | AV25: 5966 | AW25: =AV25*$F25 -> 787512 | AX25: =IF(AW25<=$H25,"VÁLIDA","NO VÁLIDA") -> NO VÁLIDA | AY25: 4489 | AZ25: =AY25*$F25 -> 592548 | BA25: =IF(AZ25<=$H25,"VÁLIDA","NO VÁLIDA") -> VÁLIDA | BB25: 4304.4911 | BC25: =BB25*$F25 -> 568192.82 | BD25: =IF(BC25<=$H25,"VÁLIDA","NO VÁLIDA") -> VÁLIDA | BE25: 4392 | BF25: =BE25*$F25 -> 579744 | BG25: =IF(BF25<=$H25,"VÁLIDA","NO VÁLIDA") -> VÁLIDA | BH25: 4444.11 | BI25: =BH25*$F25 -> 586622.52 | BJ25: =IF(BI25<=$H25,"VÁLIDA","NO VÁLIDA") -> VÁLIDA | BK25: 4453 | BL25: =BK25*$F25 -> 587796 | BM25: =IF(BL25<=$H25,"VÁLIDA","NO VÁLIDA") -> VÁLIDA | BN25: 4408 | BO25: =BN25*$F25 -> 581856 | BP25: =IF(BO25<=$H25,"VÁLIDA","NO VÁLIDA") -> VÁLIDA
B26: 4390 | C26: =C25+0.01 -> 1.11 | D26: =VLOOKUP(B26,[2]ITEMS!$B$4:$E$2466,2,FALSE) -> EXCAVACIÓN MANUAL EN MATERIAL COMÚN (INCL CARGUE, TRANSPORTE Y DISPOSICION FINAL) | E26: =VLOOKUP(B26,[2]ITEMS!$B$4:$E$2466,3,FALSE) -> M3 | F26: 1405 | G26: =VLOOKUP(B26,[2]ITEMS!$B$4:$E$2466,4,FALSE) -> 57807 | H26: =F26*G26 -> 81218835 | I26: 56906 | J26: =I26*$F26 -> 79952930 | K26: =IF(J26<=$H26,"VÁLIDA","NO VÁLIDA") -> VÁLIDA | L26: 57171 | M26: =L26*$F26 -> 80325255 | N26: =IF(M26<=$H26,"VÁLIDA","NO VÁLIDA") -> VÁLIDA | O26: 57807 | P26: =O26*$F26 -> 81218835 | Q26: =IF(P26<=$H26,"VÁLIDA","NO VÁLIDA") -> VÁLIDA | R26: 56957 | S26: =R26*$F26 -> 80024585 | T26: =IF(S26<=$H26,"VÁLIDA","NO VÁLIDA") -> VÁLIDA | U26: 57807 | V26: =U26*$F26 -> 81218835 | W26: =IF(V26<=$H26,"VÁLIDA","NO VÁLIDA") -> VÁLIDA | X26: 56882 | Y26: =X26*$F26 -> 79919210 | Z26: =IF(Y26<=$H26,"VÁLIDA","NO VÁLIDA") -> VÁLIDA | AA26: 57171 | AB26: =AA26*$F26 -> 80325255 | AC26: =IF(AB26<=$H26,"VÁLIDA","NO VÁLIDA") -> VÁLIDA | AD26: 55000 | AE26: =AD26*$F26 -> 77275000 | AF26: =IF(AE26<=$H26,"VÁLIDA","NO VÁLIDA") -> VÁLIDA | AH26: =AG26*$F26 -> 0 | AI26: =IF(AH26<=$H26,"VÁLIDA","NO VÁLIDA") -> VÁLIDA | AJ26: 53761 | AK26: =AJ26*$F26 -> 75534205 | AL26: =IF(AK26<=$H26,"VÁLIDA","NO VÁLIDA") -> VÁLIDA | AM26: 57662 | AN26: =AM26*$F26 -> 81015110 | AO26: =IF(AN26<=$H26,"VÁLIDA","NO VÁLIDA") -> VÁLIDA | AP26: 57807 | AQ26: =AP26*$F26 -> 81218835 | AR26: =IF(AQ26<=$H26,"VÁLIDA","NO VÁLIDA") -> VÁLIDA | AS26: 57000 | AT26: =AS26*$F26 -> 80085000 | AU26: =IF(AT26<=$H26,"VÁLIDA","NO VÁLIDA") -> VÁLIDA | AV26: 76814 | AW26: =AV26*$F26 -> 107923670 | AX26: =IF(AW26<=$H26,"VÁLIDA","NO VÁLIDA") -> NO VÁLIDA | AY26: 57807 | AZ26: =AY26*$F26 -> 81218835 | BA26: =IF(AZ26<=$H26,"VÁLIDA","NO VÁLIDA") -> VÁLIDA | BB26: 55430.99 | BC26: =BB26*$F26 -> 77880542 | BD26: =IF(BC26<=$H26,"VÁLIDA","NO VÁLIDA") -> VÁLIDA | BE26: 56558 | BF26: =BE26*$F26 -> 79463990 | BG26: =IF(BF26<=$H26,"VÁLIDA","NO VÁLIDA") -> VÁLIDA | BH26: 57228.93 | BI26: =BH26*$F26 -> 80406647 | BJ26: =IF(BI26<=$H26,"VÁLIDA","NO VÁLIDA") -> VÁLIDA | BK26: 57345 | BL26: =BK26*$F26 -> 80569725 | BM26: =IF(BL26<=$H26,"VÁLIDA","NO VÁLIDA") -> VÁLIDA | BN26: 56774 | BO26: =BN26*$F26 -> 79767470 | BP26: =IF(BO26<=$H26,"VÁLIDA","NO VÁLIDA") -> VÁLIDA
B27: 3012 | C27: =C26+0.01 -> 1.12 | D27: =VLOOKUP(B27,[2]ITEMS!$B$4:$E$2466,2,FALSE) -> DEMOLICION PISOS DE CONCRETO (Espesor variable. Incluye Cargue). No incluye transporte y disposición final de sobrantes. Rendimiento estimado para un espesor de 0.10m | E27: =VLOOKUP(B27,[2]ITEMS!$B$4:$E$2466,3,FALSE) -> M2 | F27: 1213 | G27: =VLOOKUP(B27,[2]ITEMS!$B$4:$E$2466,4,FALSE) -> 5430 | H27: =F27*G27 -> 6586590 | I27: 5345 | J27: =I27*$F27 -> 6483485 | K27: =IF(J27<=$H27,"VÁLIDA","NO VÁLIDA") -> VÁLIDA | L27: 5370 | M27: =L27*$F27 -> 6513810 | N27: =IF(M27<=$H27,"VÁLIDA","NO VÁLIDA") -> VÁLIDA | O27: 5430 | P27: =O27*$F27 -> 6586590 | Q27: =IF(P27<=$H27,"VÁLIDA","NO VÁLIDA") -> VÁLIDA | R27: 5350 | S27: =R27*$F27 -> 6489550 | T27: =IF(S27<=$H27,"VÁLIDA","NO VÁLIDA") -> VÁLIDA | U27: 5430 | V27: =U27*$F27 -> 6586590 | W27: =IF(V27<=$H27,"VÁLIDA","NO VÁLIDA") -> VÁLIDA | X27: 5343 | Y27: =X27*$F27 -> 6481059 | Z27: =IF(Y27<=$H27,"VÁLIDA","NO VÁLIDA") -> VÁLIDA | AA27: 5370 | AB27: =AA27*$F27 -> 6513810 | AC27: =IF(AB27<=$H27,"VÁLIDA","NO VÁLIDA") -> VÁLIDA | AD27: 5430 | AE27: =AD27*$F27 -> 6586590 | AF27: =IF(AE27<=$H27,"VÁLIDA","NO VÁLIDA") -> VÁLIDA | AH27: =AG27*$F27 -> 0 | AI27: =IF(AH27<=$H27,"VÁLIDA","NO VÁLIDA") -> VÁLIDA | AJ27: 5050 | AK27: =AJ27*$F27 -> 6125650 | AL27: =IF(AK27<=$H27,"VÁLIDA","NO VÁLIDA") -> VÁLIDA | AM27: 5416 | AN27: =AM27*$F27 -> 6569608 | AO27: =IF(AN27<=$H27,"VÁLIDA","NO VÁLIDA") -> VÁLIDA | AP27: 5430 | AQ27: =AP27*$F27 -> 6586590 | AR27: =IF(AQ27<=$H27,"VÁLIDA","NO VÁLIDA") -> VÁLIDA | AS27: 5300 | AT27: =AS27*$F27 -> 6428900 | AU27: =IF(AT27<=$H27,"VÁLIDA","NO VÁLIDA") -> VÁLIDA | AV27: 7216 | AW27: =AV27*$F27 -> 8753008 | AX27: =IF(AW27<=$H27,"VÁLIDA","NO VÁLIDA") -> NO VÁLIDA | AY27: 5430 | AZ27: =AY27*$F27 -> 6586590 | BA27: =IF(AZ27<=$H27,"VÁLIDA","NO VÁLIDA") -> VÁLIDA | BB27: 5206.8137 | BC27: =BB27*$F27 -> 6315865 | BD27: =IF(BC27<=$H27,"VÁLIDA","NO VÁLIDA") -> VÁLIDA | BE27: 5313 | BF27: =BE27*$F27 -> 6444669 | BG27: =IF(BF27<=$H27,"VÁLIDA","NO VÁLIDA") -> VÁLIDA | BH27: 5375.7 | BI27: =BH27*$F27 -> 6520724.1 | BJ27: =IF(BI27<=$H27,"VÁLIDA","NO VÁLIDA") -> VÁLIDA | BK27: 5387 | BL27: =BK27*$F27 -> 6534431 | BM27: =IF(BL27<=$H27,"VÁLIDA","NO VÁLIDA") -> VÁLIDA | BN27: 5333 | BO27: =BN27*$F27 -> 6468929 | BP27: =IF(BO27<=$H27,"VÁLIDA","NO VÁLIDA") -> VÁLIDA
B28: 4813 | C28: =C27+0.01 -> 1.13 | D28: =VLOOKUP(B28,[2]ITEMS!$B$4:$E$2466,2,FALSE) -> RETIRO DE BOLARDO EN CONCRETO TIPO M-60. INCLUYE REPARACION DEL SITIO CON CONCRETO DE 1500PSI HECHO EN OBRA (40x40x10CM) Y SUBBASE GRANULAR SBG_200 e=0.35. NO INCLUYE RETIRO DE ESCOMBROS. INCLUYE DEMOLICION Y EXCAVACION. | E28: =VLOOKUP(B28,[2]ITEMS!$B$4:$E$2466,3,FALSE) -> UN | F28: 4 | G28: =VLOOKUP(B28,[2]ITEMS!$B$4:$E$2466,4,FALSE) -> 17594 | H28: =F28*G28 -> 70376 | I28: 17320 | J28: =I28*$F28 -> 69280 | K28: =IF(J28<=$H28,"VÁLIDA","NO VÁLIDA") -> VÁLIDA | L28: 17400 | M28: =L28*$F28 -> 69600 | N28: =IF(M28<=$H28,"VÁLIDA","NO VÁLIDA") -> VÁLIDA | O28: 17594 | P28: =O28*$F28 -> 70376 | Q28: =IF(P28<=$H28,"VÁLIDA","NO VÁLIDA") -> VÁLIDA | R28: 17335 | S28: =R28*$F28 -> 69340 | T28: =IF(S28<=$H28,"VÁLIDA","NO VÁLIDA") -> VÁLIDA | U28: 17594 | V28: =U28*$F28 -> 70376 | W28: =IF(V28<=$H28,"VÁLIDA","NO VÁLIDA") -> VÁLIDA | X28: 17312 | Y28: =X28*$F28 -> 69248 | Z28: =IF(Y28<=$H28,"VÁLIDA","NO VÁLIDA") -> VÁLIDA | AA28: 17400 | AB28: =AA28*$F28 -> 69600 | AC28: =IF(AB28<=$H28,"VÁLIDA","NO VÁLIDA") -> VÁLIDA | AD28: 17594 | AE28: =AD28*$F28 -> 70376 | AF28: =IF(AE28<=$H28,"VÁLIDA","NO VÁLIDA") -> VÁLIDA | AH28: =AG28*$F28 -> 0 | AI28: =IF(AH28<=$H28,"VÁLIDA","NO VÁLIDA") -> VÁLIDA | AJ28: 16362 | AK28: =AJ28*$F28 -> 65448 | AL28: =IF(AK28<=$H28,"VÁLIDA","NO VÁLIDA") -> VÁLIDA | AM28: 17550 | AN28: =AM28*$F28 -> 70200 | AO28: =IF(AN28<=$H28,"VÁLIDA","NO VÁLIDA") -> VÁLIDA | AP28: 17594 | AQ28: =AP28*$F28 -> 70376 | AR28: =IF(AQ28<=$H28,"VÁLIDA","NO VÁLIDA") -> VÁLIDA | AS28: 17300 | AT28: =AS28*$F28 -> 69200 | AU28: =IF(AT28<=$H28,"VÁLIDA","NO VÁLIDA") -> VÁLIDA | AV28: 23379 | AW28: =AV28*$F28 -> 93516 | AX28: =IF(AW28<=$H28,"VÁLIDA","NO VÁLIDA") -> NO VÁLIDA | AY28: 17594 | AZ28: =AY28*$F28 -> 70376 | BA28: =IF(AZ28<=$H28,"VÁLIDA","NO VÁLIDA") -> VÁLIDA | BB28: 16870.843 | BC28: =BB28*$F28 -> 67483.374 | BD28: =IF(BC28<=$H28,"VÁLIDA","NO VÁLIDA") -> VÁLIDA | BE28: 17214 | BF28: =BE28*$F28 -> 68856 | BG28: =IF(BF28<=$H28,"VÁLIDA","NO VÁLIDA") -> VÁLIDA | BH28: 17418.06 | BI28: =BH28*$F28 -> 69672.24 | BJ28: =IF(BI28<=$H28,"VÁLIDA","NO VÁLIDA") -> VÁLIDA | BK28: 17453 | BL28: =BK28*$F28 -> 69812 | BM28: =IF(BL28<=$H28,"VÁLIDA","NO VÁLIDA") -> VÁLIDA | BN28: 17279 | BO28: =BN28*$F28 -> 69116 | BP28: =IF(BO28<=$H28,"VÁLIDA","NO VÁLIDA") -> VÁLIDA
C29: =C28+0.01 -> 1.14 | D29: DEMOLICION BORDILLO CON COMPRESOR + CARGUE + RETIRO) | E29: ML | F29: 469 | G29: 11115 | H29: =F29*G29 -> 5212935 | I29: 10942 | J29: =I29*$F29 -> 5131798 | K29: =IF(J29<=$H29,"VÁLIDA","NO VÁLIDA") -> VÁLIDA | L29: 10993 | M29: =L29*$F29 -> 5155717 | N29: =IF(M29<=$H29,"VÁLIDA","NO VÁLIDA") -> VÁLIDA | O29: 11115 | P29: =O29*$F29 -> 5212935 | Q29: =IF(P29<=$H29,"VÁLIDA","NO VÁLIDA") -> VÁLIDA | R29: 10952 | S29: =R29*$F29 -> 5136488 | T29: =IF(S29<=$H29,"VÁLIDA","NO VÁLIDA") -> VÁLIDA | U29: 11115 | V29: =U29*$F29 -> 5212935 | W29: =IF(V29<=$H29,"VÁLIDA","NO VÁLIDA") -> VÁLIDA | X29: 10937 | Y29: =X29*$F29 -> 5129453 | Z29: =IF(Y29<=$H29,"VÁLIDA","NO VÁLIDA") -> VÁLIDA | AA29: 10993 | AB29: =AA29*$F29 -> 5155717 | AC29: =IF(AB29<=$H29,"VÁLIDA","NO VÁLIDA") -> VÁLIDA | AD29: 11115 | AE29: =AD29*$F29 -> 5212935 | AF29: =IF(AE29<=$H29,"VÁLIDA","NO VÁLIDA") -> VÁLIDA | AH29: =AG29*$F29 -> 0 | AI29: =IF(AH29<=$H29,"VÁLIDA","NO VÁLIDA") -> VÁLIDA | AJ29: 10337 | AK29: =AJ29*$F29 -> 4848053 | AL29: =IF(AK29<=$H29,"VÁLIDA","NO VÁLIDA") -> VÁLIDA | AM29: 11087 | AN29: =AM29*$F29 -> 5199803 | AO29: =IF(AN29<=$H29,"VÁLIDA","NO VÁLIDA") -> VÁLIDA | AP29: 11115 | AQ29: =AP29*$F29 -> 5212935 | AR29: =IF(AQ29<=$H29,"VÁLIDA","NO VÁLIDA") -> VÁLIDA | AS29: 10900 | AT29: =AS29*$F29 -> 5112100 | AU29: =IF(AT29<=$H29,"VÁLIDA","NO VÁLIDA") -> VÁLIDA | AV29: 14769 | AW29: =AV29*$F29 -> 6926661 | AX29: =IF(AW29<=$H29,"VÁLIDA","NO VÁLIDA") -> NO VÁLIDA | AY29: 11115 | AZ29: =AY29*$F29 -> 5212935 | BA29: =IF(AZ29<=$H29,"VÁLIDA","NO VÁLIDA") -> VÁLIDA | BB29: 10658.146 | BC29: =BB29*$F29 -> 4998670.6 | BD29: =IF(BC29<=$H29,"VÁLIDA","NO VÁLIDA") -> VÁLIDA | BE29: 10875 | BF29: =BE29*$F29 -> 5100375 | BG29: =IF(BF29<=$H29,"VÁLIDA","NO VÁLIDA") -> VÁLIDA | BH29: 11003.85 | BI29: =BH29*$F29 -> 5160805.7 | BJ29: =IF(BI29<=$H29,"VÁLIDA","NO VÁLIDA") -> VÁLIDA | BK29: 11026 | BL29: =BK29*$F29 -> 5171194 | BM29: =IF(BL29<=$H29,"VÁLIDA","NO VÁLIDA") -> VÁLIDA | BN29: 10916 | BO29: =BN29*$F29 -> 5119604 | BP29: =IF(BO29<=$H29,"VÁLIDA","NO VÁLIDA") -> VÁLIDA
B30: 0 | C30: =C29+0.01 -> 1.15 | D30: VIGA DE CHOQUE EN CONCRETO DE 4000 PSI SECCION 45x30 NO INCLUYE REFUERZO | E30: ML | F30: 9 | G30: 97837 | H30: =F30*G30 -> 880533 | I30: 96313 | J30: =I30*$F30 -> 866817 | K30: =IF(J30<=$H30,"VÁLIDA","NO VÁLIDA") -> VÁLIDA | L30: 96761 | M30: =L30*$F30 -> 870849 | N30: =IF(M30<=$H30,"VÁLIDA","NO VÁLIDA") -> VÁLIDA | O30: 97837 | P30: =O30*$F30 -> 880533 | Q30: =IF(P30<=$H30,"VÁLIDA","NO VÁLIDA") -> VÁLIDA | R30: 96399 | S30: =R30*$F30 -> 867591 | T30: =IF(S30<=$H30,"VÁLIDA","NO VÁLIDA") -> VÁLIDA | U30: 97837 | V30: =U30*$F30 -> 880533 | W30: =IF(V30<=$H30,"VÁLIDA","NO VÁLIDA") -> VÁLIDA | X30: 96271 | Y30: =X30*$F30 -> 866439 | Z30: =IF(Y30<=$H30,"VÁLIDA","NO VÁLIDA") -> VÁLIDA | AA30: 96761 | AB30: =AA30*$F30 -> 870849 | AC30: =IF(AB30<=$H30,"VÁLIDA","NO VÁLIDA") -> VÁLIDA | AD30: 97837 | AE30: =AD30*$F30 -> 880533 | AF30: =IF(AE30<=$H30,"VÁLIDA","NO VÁLIDA") -> VÁLIDA | AH30: =AG30*$F30 -> 0 | AI30: =IF(AH30<=$H30,"VÁLIDA","NO VÁLIDA") -> VÁLIDA | AJ30: 90988 | AK30: =AJ30*$F30 -> 818892 | AL30: =IF(AK30<=$H30,"VÁLIDA","NO VÁLIDA") -> VÁLIDA | AM30: 97592 | AN30: =AM30*$F30 -> 878328 | AO30: =IF(AN30<=$H30,"VÁLIDA","NO VÁLIDA") -> VÁLIDA | AP30: 97837 | AQ30: =AP30*$F30 -> 880533 | AR30: =IF(AQ30<=$H30,"VÁLIDA","NO VÁLIDA") -> VÁLIDA | AS30: 96000 | AT30: =AS30*$F30 -> 864000 | AU30: =IF(AT30<=$H30,"VÁLIDA","NO VÁLIDA") -> VÁLIDA | AV30: 130006 | AW30: =AV30*$F30 -> 1170054 | AX30: =IF(AW30<=$H30,"VÁLIDA","NO VÁLIDA") -> NO VÁLIDA | AY30: 97837 | AZ30: =AY30*$F30 -> 880533 | BA30: =IF(AZ30<=$H30,"VÁLIDA","NO VÁLIDA") -> VÁLIDA | BB30: 93815.659 | BC30: =BB30*$F30 -> 844340.93 | BD30: =IF(BC30<=$H30,"VÁLIDA","NO VÁLIDA") -> VÁLIDA | BE30: 95724 | BF30: =BE30*$F30 -> 861516 | BG30: =IF(BF30<=$H30,"VÁLIDA","NO VÁLIDA") -> VÁLIDA | BH30: 96858.63 | BI30: =BH30*$F30 -> 871727.67 | BJ30: =IF(BI30<=$H30,"VÁLIDA","NO VÁLIDA") -> VÁLIDA | BK30: 97054 | BL30: =BK30*$F30 -> 873486 | BM30: =IF(BL30<=$H30,"VÁLIDA","NO VÁLIDA") -> VÁLIDA | BN30: 96089 | BO30: =BN30*$F30 -> 864801 | BP30: =IF(BO30<=$H30,"VÁLIDA","NO VÁLIDA") -> VÁLIDA
B31: 5642 | C31: =C30+0.01 -> 1.16 | D31: =VLOOKUP(B31,[2]ITEMS!$B$4:$E$2466,2,FALSE) -> PAÑETE LISO O RÚSTICO 1:4 PARA MUROS. LAVADO O RÚSTICO. (Incluye suministro e instalación) | E31: =VLOOKUP(B31,[2]ITEMS!$B$4:$E$2466,3,FALSE) -> M2 | F31: 100 | G31: =VLOOKUP(B31,[2]ITEMS!$B$4:$E$2466,4,FALSE) -> 13384 | H31: =F31*G31 -> 1338400 | I31: 13175 | J31: =I31*$F31 -> 1317500 | K31: =IF(J31<=$H31,"VÁLIDA","NO VÁLIDA") -> VÁLIDA | L31: 13237 | M31: =L31*$F31 -> 1323700 | N31: =IF(M31<=$H31,"VÁLIDA","NO VÁLIDA") -> VÁLIDA | O31: 13384 | P31: =O31*$F31 -> 1338400 | Q31: =IF(P31<=$H31,"VÁLIDA","NO VÁLIDA") -> VÁLIDA | R31: 13187 | S31: =R31*$F31 -> 1318700 | T31: =IF(S31<=$H31,"VÁLIDA","NO VÁLIDA") -> VÁLIDA | U31: 13384 | V31: =U31*$F31 -> 1338400 | W31: =IF(V31<=$H31,"VÁLIDA","NO VÁLIDA") -> VÁLIDA | X31: 13169 | Y31: =X31*$F31 -> 1316900 | Z31: =IF(Y31<=$H31,"VÁLIDA","NO VÁLIDA") -> VÁLIDA | AA31: 13237 | AB31: =AA31*$F31 -> 1323700 | AC31: =IF(AB31<=$H31,"VÁLIDA","NO VÁLIDA") -> VÁLIDA | AD31: 13384 | AE31: =AD31*$F31 -> 1338400 | AF31: =IF(AE31<=$H31,"VÁLIDA","NO VÁLIDA") -> VÁLIDA | AH31: =AG31*$F31 -> 0 | AI31: =IF(AH31<=$H31,"VÁLIDA","NO VÁLIDA") -> VÁLIDA | AJ31: 12447 | AK31: =AJ31*$F31 -> 1244700 | AL31: =IF(AK31<=$H31,"VÁLIDA","NO VÁLIDA") -> VÁLIDA | AM31: 13351 | AN31: =AM31*$F31 -> 1335100 | AO31: =IF(AN31<=$H31,"VÁLIDA","NO VÁLIDA") -> VÁLIDA | AP31: 13384 | AQ31: =AP31*$F31 -> 1338400 | AR31: =IF(AQ31<=$H31,"VÁLIDA","NO VÁLIDA") -> VÁLIDA | AS31: 13000 | AT31: =AS31*$F31 -> 1300000 | AU31: =IF(AT31<=$H31,"VÁLIDA","NO VÁLIDA") -> VÁLIDA | AV31: 17785 | AW31: =AV31*$F31 -> 1778500 | AX31: =IF(AW31<=$H31,"VÁLIDA","NO VÁLIDA") -> NO VÁLIDA | AY31: 13384 | AZ31: =AY31*$F31 -> 1338400 | BA31: =IF(AZ31<=$H31,"VÁLIDA","NO VÁLIDA") -> VÁLIDA | BB31: 12833.885 | BC31: =BB31*$F31 -> 1283388.5 | BD31: =IF(BC31<=$H31,"VÁLIDA","NO VÁLIDA") -> VÁLIDA | BE31: 13095 | BF31: =BE31*$F31 -> 1309500 | BG31: =IF(BF31<=$H31,"VÁLIDA","NO VÁLIDA") -> VÁLIDA | BH31: 13250.16 | BI31: =BH31*$F31 -> 1325016 | BJ31: =IF(BI31<=$H31,"VÁLIDA","NO VÁLIDA") -> VÁLIDA | BK31: 13277 | BL31: =BK31*$F31 -> 1327700 | BM31: =IF(BL31<=$H31,"VÁLIDA","NO VÁLIDA") -> VÁLIDA | BN31: 13144 | BO31: =BN31*$F31 -> 1314400 | BP31: =IF(BO31<=$H31,"VÁLIDA","NO VÁLIDA") -> VÁLIDA
B32: 3017 | C32: =C31+0.01 -> 1.17 | D32: =VLOOKUP(B32,[2]ITEMS!$B$4:$E$2466,2,FALSE) -> TRANSPORTE Y DISPOSICIÓN FINAL DE ESCOMBROS EN SITIO AUTORIZADO (distancia de transporte 21 Km). A distancia mayor del acarreo libre (90 m) en sitio autorizado por la entidad Ambiental competente. | E32: =VLOOKUP(B32,[2]ITEMS!$B$4:$E$2466,3,FALSE) -> M3 | F32: 1345 | G32: =VLOOKUP(B32,[2]ITEMS!$B$4:$E$2466,4,FALSE) -> 24083 | H32: =F32*G32 -> 32391635 | I32: 23708 | J32: =I32*$F32 -> 31887260 | K32: =IF(J32<=$H32,"VÁLIDA","NO VÁLIDA") -> VÁLIDA | L32: 23818 | M32: =L32*$F32 -> 32035210 | N32: =IF(M32<=$H32,"VÁLIDA","NO VÁLIDA") -> VÁLIDA | O32: 24083 | P32: =O32*$F32 -> 32391635 | Q32: =IF(P32<=$H32,"VÁLIDA","NO VÁLIDA") -> VÁLIDA | R32: 23729 | S32: =R32*$F32 -> 31915505 | T32: =IF(S32<=$H32,"VÁLIDA","NO VÁLIDA") -> VÁLIDA | U32: 24083 | V32: =U32*$F32 -> 32391635 | W32: =IF(V32<=$H32,"VÁLIDA","NO VÁLIDA") -> VÁLIDA | X32: 23697 | Y32: =X32*$F32 -> 31872465 | Z32: =IF(Y32<=$H32,"VÁLIDA","NO VÁLIDA") -> VÁLIDA | AA32: 23818 | AB32: =AA32*$F32 -> 32035210 | AC32: =IF(AB32<=$H32,"VÁLIDA","NO VÁLIDA") -> VÁLIDA | AD32: 24024 | AE32: =AD32*$F32 -> 32312280 | AF32: =IF(AE32<=$H32,"VÁLIDA","NO VÁLIDA") -> VÁLIDA | AH32: =AG32*$F32 -> 0 | AI32: =IF(AH32<=$H32,"VÁLIDA","NO VÁLIDA") -> VÁLIDA | AJ32: 22397 | AK32: =AJ32*$F32 -> 30123965 | AL32: =IF(AK32<=$H32,"VÁLIDA","NO VÁLIDA") -> VÁLIDA | AM32: 24023 | AN32: =AM32*$F32 -> 32310935 | AO32: =IF(AN32<=$H32,"VÁLIDA","NO VÁLIDA") -> VÁLIDA | AP32: 24083 | AQ32: =AP32*$F32 -> 32391635 | AR32: =IF(AQ32<=$H32,"VÁLIDA","NO VÁLIDA") -> VÁLIDA | AS32: 23500 | AT32: =AS32*$F32 -> 31607500 | AU32: =IF(AT32<=$H32,"VÁLIDA","NO VÁLIDA") -> VÁLIDA | AV32: 32002 | AW32: =AV32*$F32 -> 43042690 | AX32: =IF(AW32<=$H32,"VÁLIDA","NO VÁLIDA") -> NO VÁLIDA | AY32: 24083 | AZ32: =AY32*$F32 -> 32391635 | BA32: =IF(AZ32<=$H32,"VÁLIDA","NO VÁLIDA") -> VÁLIDA | BB32: 23093.13 | BC32: =BB32*$F32 -> 31060259 | BD32: =IF(BC32<=$H32,"VÁLIDA","NO VÁLIDA") -> VÁLIDA | BE32: 23563 | BF32: =BE32*$F32 -> 31692235 | BG32: =IF(BF32<=$H32,"VÁLIDA","NO VÁLIDA") -> VÁLIDA | BH32: 23842.17 | BI32: =BH32*$F32 -> 32067719 | BJ32: =IF(BI32<=$H32,"VÁLIDA","NO VÁLIDA") -> VÁLIDA | BK32: 23890 | BL32: =BK32*$F32 -> 32132050 | BM32: =IF(BL32<=$H32,"VÁLIDA","NO VÁLIDA") -> VÁLIDA | BN32: 23652 | BO32: =BN32*$F32 -> 31811940 | BP32: =IF(BO32<=$H32,"VÁLIDA","NO VÁLIDA") -> VÁLIDA
D33: RELLENOS | H33: =SUM(H34:H39) -> 31013088 | J33: =SUM(J34:J39) -> 30528830 | K33: =IF(J33<=$H33,"VÁLIDA","NO VÁLIDA") -> VÁLIDA | M33: =SUM(M34:M39) -> 30672720 | N33: =IF(M33<=$H33,"VÁLIDA","NO VÁLIDA") -> VÁLIDA | P33: =SUM(P34:P39) -> 31013088 | Q33: =IF(P33<=$H33,"VÁLIDA","NO VÁLIDA") -> VÁLIDA | S33: =SUM(S34:S39) -> 30556286 | T33: =IF(S33<=$H33,"VÁLIDA","NO VÁLIDA") -> VÁLIDA | V33: =SUM(V34:V39) -> 31013088 | W33: =IF(V33<=$H33,"VÁLIDA","NO VÁLIDA") -> VÁLIDA | Y33: =SUM(Y34:Y39) -> 30516666 | Z33: =IF(Y33<=$H33,"VÁLIDA","NO VÁLIDA") -> VÁLIDA | AB33: =SUM(AB34:AB39) -> 30672720 | AC33: =IF(AB33<=$H33,"VÁLIDA","NO VÁLIDA") -> VÁLIDA | AE33: =SUM(AE34:AE39) -> 31013088 | AF33: =IF(AE33<=$H33,"VÁLIDA","NO VÁLIDA") -> VÁLIDA | AH33: =SUM(AH34:AH39) -> 0 | AI33: =IF(AH33<=$H33,"VÁLIDA","NO VÁLIDA") -> VÁLIDA | AK33: =SUM(AK34:AK39) -> 28841751 | AL33: =IF(AK33<=$H33,"VÁLIDA","NO VÁLIDA") -> VÁLIDA | AN33: =SUM(AN34:AN39) -> 30935252 | AO33: =IF(AN33<=$H33,"VÁLIDA","NO VÁLIDA") -> VÁLIDA | AQ33: =SUM(AQ34:AQ39) -> 31013088 | AR33: =IF(AQ33<=$H33,"VÁLIDA","NO VÁLIDA") -> VÁLIDA | AT33: =SUM(AT34:AT39) -> 30421200 | AU33: =IF(AT33<=$H33,"VÁLIDA","NO VÁLIDA") -> VÁLIDA | AW33: =SUM(AW34:AW39) -> 41209641 | AX33: =IF(AW33<=$H33,"VÁLIDA","NO VÁLIDA") -> NO VÁLIDA | AZ33: =SUM(AZ34:AZ39) -> 31013088 | BA33: =IF(AZ33<=$H33,"VÁLIDA","NO VÁLIDA") -> VÁLIDA | BC33: =SUM(BC34:BC39) -> 29738374 | BD33: =IF(BC33<=$H33,"VÁLIDA","NO VÁLIDA") -> VÁLIDA | BF33: =SUM(BF34:BF39) -> 30343671 | BG33: =IF(BF33<=$H33,"VÁLIDA","NO VÁLIDA") -> VÁLIDA | BI33: =SUM(BI34:BI39) -> 30702957 | BJ33: =IF(BI33<=$H33,"VÁLIDA","NO VÁLIDA") -> VÁLIDA | BL33: =SUM(BL34:BL39) -> 30765054 | BM33: =IF(BL33<=$H33,"VÁLIDA","NO VÁLIDA") -> VÁLIDA | BO33: =SUM(BO34:BO39) -> 30457306 | BP33: =IF(BO33<=$H33,"VÁLIDA","NO VÁLIDA") -> VÁLIDA
B34: 3024 | C34: =C32+0.01 -> 1.18 | D34: =VLOOKUP(B34,[2]ITEMS!$B$4:$E$2466,2,FALSE) -> RELLENO PARA REDES EN ARENA DE PEÑA (Suministro, Extendido, Humedecimiento y Compactación) | E34: =VLOOKUP(B34,[2]ITEMS!$B$4:$E$2466,3,FALSE) -> M3 | F34: 127 | G34: =VLOOKUP(B34,[2]ITEMS!$B$4:$E$2466,4,FALSE) -> 91358 | H34: =F34*G34 -> 11602466 | I34: 89934 | J34: =I34*$F34 -> 11421618 | K34: =IF(J34<=$H34,"VÁLIDA","NO VÁLIDA") -> VÁLIDA | L34: 90353 | M34: =L34*$F34 -> 11474831 | N34: =IF(M34<=$H34,"VÁLIDA","NO VÁLIDA") -> VÁLIDA | O34: 91358 | P34: =O34*$F34 -> 11602466 | Q34: =IF(P34<=$H34,"VÁLIDA","NO VÁLIDA") -> VÁLIDA | R34: 90015 | S34: =R34*$F34 -> 11431905 | T34: =IF(S34<=$H34,"VÁLIDA","NO VÁLIDA") -> VÁLIDA | U34: 91358 | V34: =U34*$F34 -> 11602466 | W34: =IF(V34<=$H34,"VÁLIDA","NO VÁLIDA") -> VÁLIDA | X34: 89896 | Y34: =X34*$F34 -> 11416792 | Z34: =IF(Y34<=$H34,"VÁLIDA","NO VÁLIDA") -> VÁLIDA | AA34: 90353 | AB34: =AA34*$F34 -> 11474831 | AC34: =IF(AB34<=$H34,"VÁLIDA","NO VÁLIDA") -> VÁLIDA | AD34: 91358 | AE34: =AD34*$F34 -> 11602466 | AF34: =IF(AE34<=$H34,"VÁLIDA","NO VÁLIDA") -> VÁLIDA | AH34: =AG34*$F34 -> 0 | AI34: =IF(AH34<=$H34,"VÁLIDA","NO VÁLIDA") -> VÁLIDA | AJ34: 84963 | AK34: =AJ34*$F34 -> 10790301 | AL34: =IF(AK34<=$H34,"VÁLIDA","NO VÁLIDA") -> VÁLIDA | AM34: 91130 | AN34: =AM34*$F34 -> 11573510 | AO34: =IF(AN34<=$H34,"VÁLIDA","NO VÁLIDA") -> VÁLIDA | AP34: 91358 | AQ34: =AP34*$F34 -> 11602466 | AR34: =IF(AQ34<=$H34,"VÁLIDA","NO VÁLIDA") -> VÁLIDA | AS34: 90000 | AT34: =AS34*$F34 -> 11430000 | AU34: =IF(AT34<=$H34,"VÁLIDA","NO VÁLIDA") -> VÁLIDA | AV34: 121397.4 | AW34: =AV34*$F34 -> 15417470 | AX34: =IF(AW34<=$H34,"VÁLIDA","NO VÁLIDA") -> NO VÁLIDA | AY34: 91358 | AZ34: =AY34*$F34 -> 11602466 | BA34: =IF(AZ34<=$H34,"VÁLIDA","NO VÁLIDA") -> VÁLIDA | BB34: 87602.962 | BC34: =BB34*$F34 -> 11125576 | BD34: =IF(BC34<=$H34,"VÁLIDA","NO VÁLIDA") -> VÁLIDA | BE34: 89385 | BF34: =BE34*$F34 -> 11351895 | BG34: =IF(BF34<=$H34,"VÁLIDA","NO VÁLIDA") -> VÁLIDA | BH34: 90444.42 | BI34: =BH34*$F34 -> 11486441 | BJ34: =IF(BI34<=$H34,"VÁLIDA","NO VÁLIDA") -> VÁLIDA | BK34: 90627 | BL34: =BK34*$F34 -> 11509629 | BM34: =IF(BL34<=$H34,"VÁLIDA","NO VÁLIDA") -> VÁLIDA | BN34: 89726 | BO34: =BN34*$F34 -> 11395202 | BP34: =IF(BO34<=$H34,"VÁLIDA","NO VÁLIDA") -> VÁLIDA
B35: 2307 | C35: =C34+0.01 -> 1.19 | D35: ARENA DE PEÑA PARA INSTALACION TUBERIA DE REDES SUMINISTRO E INSTALACION | E35: M3 | F35: 255 | G35: 40401 | H35: =F35*G35 -> 10302255 | I35: 39771 | J35: =I35*$F35 -> 10141605 | K35: =IF(J35<=$H35,"VÁLIDA","NO VÁLIDA") -> VÁLIDA | L35: 39957 | M35: =L35*$F35 -> 10189035 | N35: =IF(M35<=$H35,"VÁLIDA","NO VÁLIDA") -> VÁLIDA | O35: 40401 | P35: =O35*$F35 -> 10302255 | Q35: =IF(P35<=$H35,"VÁLIDA","NO VÁLIDA") -> VÁLIDA | R35: 39807 | S35: =R35*$F35 -> 10150785 | T35: =IF(S35<=$H35,"VÁLIDA","NO VÁLIDA") -> VÁLIDA | U35: 40401 | V35: =U35*$F35 -> 10302255 | W35: =IF(V35<=$H35,"VÁLIDA","NO VÁLIDA") -> VÁLIDA | X35: 39754 | Y35: =X35*$F35 -> 10137270 | Z35: =IF(Y35<=$H35,"VÁLIDA","NO VÁLIDA") -> VÁLIDA | AA35: 39957 | AB35: =AA35*$F35 -> 10189035 | AC35: =IF(AB35<=$H35,"VÁLIDA","NO VÁLIDA") -> VÁLIDA | AD35: 40401 | AE35: =AD35*$F35 -> 10302255 | AF35: =IF(AE35<=$H35,"VÁLIDA","NO VÁLIDA") -> VÁLIDA | AH35: =AG35*$F35 -> 0 | AI35: =IF(AH35<=$H35,"VÁLIDA","NO VÁLIDA") -> VÁLIDA | AJ35: 37573 | AK35: =AJ35*$F35 -> 9581115 | AL35: =IF(AK35<=$H35,"VÁLIDA","NO VÁLIDA") -> VÁLIDA | AM35: 40300 | AN35: =AM35*$F35 -> 10276500 | AO35: =IF(AN35<=$H35,"VÁLIDA","NO VÁLIDA") -> VÁLIDA | AP35: 40401 | AQ35: =AP35*$F35 -> 10302255 | AR35: =IF(AQ35<=$H35,"VÁLIDA","NO VÁLIDA") -> VÁLIDA | AS35: 39500 | AT35: =AS35*$F35 -> 10072500 | AU35: =IF(AT35<=$H35,"VÁLIDA","NO VÁLIDA") -> VÁLIDA | AV35: 53685.45 | AW35: =AV35*$F35 -> 13689790 | AX35: =IF(AW35<=$H35,"VÁLIDA","NO VÁLIDA") -> NO VÁLIDA | AY35: 40401 | AZ35: =AY35*$F35 -> 10302255 | BA35: =IF(AZ35<=$H35,"VÁLIDA","NO VÁLIDA") -> VÁLIDA | BB35: 38740.42 | BC35: =BB35*$F35 -> 9878807 | BD35: =IF(BC35<=$H35,"VÁLIDA","NO VÁLIDA") -> VÁLIDA | BE35: 39528 | BF35: =BE35*$F35 -> 10079640 | BG35: =IF(BF35<=$H35,"VÁLIDA","NO VÁLIDA") -> VÁLIDA | BH35: 39996.99 | BI35: =BH35*$F35 -> 10199232 | BJ35: =IF(BI35<=$H35,"VÁLIDA","NO VÁLIDA") -> VÁLIDA | BK35: 40078 | BL35: =BK35*$F35 -> 10219890 | BM35: =IF(BL35<=$H35,"VÁLIDA","NO VÁLIDA") -> VÁLIDA | BN35: 39679 | BO35: =BN35*$F35 -> 10118145 | BP35: =IF(BO35<=$H35,"VÁLIDA","NO VÁLIDA") -> VÁLIDA
B36: 3052 | C36: =C34+0.01 -> 1.19 | D36: =VLOOKUP(B36,[2]ITEMS!$B$4:$E$2466,2,FALSE) -> RELLENO PARA REDES EN SUBBASE GRANULAR B-200 (Suministro, Extendido, Humedecimiento y Compactación) | E36: =VLOOKUP(B36,[2]ITEMS!$B$4:$E$2466,3,FALSE) -> M3 | F36: 89 | G36: =VLOOKUP(B36,[2]ITEMS!$B$4:$E$2466,4,FALSE) -> 63173 | H36: =F36*G36 -> 5622397 | I36: 62189 | J36: =I36*$F36 -> 5534821 | K36: =IF(J36<=$H36,"VÁLIDA","NO VÁLIDA") -> VÁLIDA | L36: 62478 | M36: =L36*$F36 -> 5560542 | N36: =IF(M36<=$H36,"VÁLIDA","NO VÁLIDA") -> VÁLIDA | O36: 63173 | P36: =O36*$F36 -> 5622397 | Q36: =IF(P36<=$H36,"VÁLIDA","NO VÁLIDA") -> VÁLIDA | R36: 62244 | S36: =R36*$F36 -> 5539716 | T36: =IF(S36<=$H36,"VÁLIDA","NO VÁLIDA") -> VÁLIDA | U36: 63173 | V36: =U36*$F36 -> 5622397 | W36: =IF(V36<=$H36,"VÁLIDA","NO VÁLIDA") -> VÁLIDA | X36: 62162 | Y36: =X36*$F36 -> 5532418 | Z36: =IF(Y36<=$H36,"VÁLIDA","NO VÁLIDA") -> VÁLIDA | AA36: 62478 | AB36: =AA36*$F36 -> 5560542 | AC36: =IF(AB36<=$H36,"VÁLIDA","NO VÁLIDA") -> VÁLIDA | AD36: 63173 | AE36: =AD36*$F36 -> 5622397 | AF36: =IF(AE36<=$H36,"VÁLIDA","NO VÁLIDA") -> VÁLIDA | AH36: =AG36*$F36 -> 0 | AI36: =IF(AH36<=$H36,"VÁLIDA","NO VÁLIDA") -> VÁLIDA | AJ36: 58751 | AK36: =AJ36*$F36 -> 5228839 | AL36: =IF(AK36<=$H36,"VÁLIDA","NO VÁLIDA") -> VÁLIDA | AM36: 63015 | AN36: =AM36*$F36 -> 5608335 | AO36: =IF(AN36<=$H36,"VÁLIDA","NO VÁLIDA") -> VÁLIDA | AP36: 63173 | AQ36: =AP36*$F36 -> 5622397 | AR36: =IF(AQ36<=$H36,"VÁLIDA","NO VÁLIDA") -> VÁLIDA | AS36: 61800 | AT36: =AS36*$F36 -> 5500200 | AU36: =IF(AT36<=$H36,"VÁLIDA","NO VÁLIDA") -> VÁLIDA | AV36: 83944.35 | AW36: =AV36*$F36 -> 7471047.2 | AX36: =IF(AW36<=$H36,"VÁLIDA","NO VÁLIDA") -> NO VÁLIDA | AY36: 63173 | AZ36: =AY36*$F36 -> 5622397 | BA36: =IF(AZ36<=$H36,"VÁLIDA","NO VÁLIDA") -> VÁLIDA | BB36: 60576.435 | BC36: =BB36*$F36 -> 5391302.7 | BD36: =IF(BC36<=$H36,"VÁLIDA","NO VÁLIDA") -> VÁLIDA | BE36: 61808 | BF36: =BE36*$F36 -> 5500912 | BG36: =IF(BF36<=$H36,"VÁLIDA","NO VÁLIDA") -> VÁLIDA | BH36: 62541.27 | BI36: =BH36*$F36 -> 5566173 | BJ36: =IF(BI36<=$H36,"VÁLIDA","NO VÁLIDA") -> VÁLIDA | BK36: 62668 | BL36: =BK36*$F36 -> 5577452 | BM36: =IF(BL36<=$H36,"VÁLIDA","NO VÁLIDA") -> VÁLIDA | BN36: 62044 | BO36: =BN36*$F36 -> 5521916 | BP36: =IF(BO36<=$H36,"VÁLIDA","NO VÁLIDA") -> VÁLIDA
B37: 3800 | C37: =C36+0.01 -> 1.2 | D37: =VLOOKUP(B37,[2]ITEMS!$B$4:$E$2466,2,FALSE) -> NIVELACION Y COMPACTACIÓN DE SUBRASANTE | E37: =VLOOKUP(B37,[2]ITEMS!$B$4:$E$2466,3,FALSE) -> M2 | F37: 1830 | G37: =VLOOKUP(B37,[2]ITEMS!$B$4:$E$2466,4,FALSE) -> 1125 | H37: =F37*G37 -> 2058750 | I37: 1107 | J37: =I37*$F37 -> 2025810 | K37: =IF(J37<=$H37,"VÁLIDA","NO VÁLIDA") -> VÁLIDA | L37: 1113 | M37: =L37*$F37 -> 2036790 | N37: =IF(M37<=$H37,"VÁLIDA","NO VÁLIDA") -> VÁLIDA | O37: 1125 | P37: =O37*$F37 -> 2058750 | Q37: =IF(P37<=$H37,"VÁLIDA","NO VÁLIDA") -> VÁLIDA | R37: 1108 | S37: =R37*$F37 -> 2027640 | T37: =IF(S37<=$H37,"VÁLIDA","NO VÁLIDA") -> VÁLIDA | U37: 1125 | V37: =U37*$F37 -> 2058750 | W37: =IF(V37<=$H37,"VÁLIDA","NO VÁLIDA") -> VÁLIDA | X37: 1107 | Y37: =X37*$F37 -> 2025810 | Z37: =IF(Y37<=$H37,"VÁLIDA","NO VÁLIDA") -> VÁLIDA | AA37: 1113 | AB37: =AA37*$F37 -> 2036790 | AC37: =IF(AB37<=$H37,"VÁLIDA","NO VÁLIDA") -> VÁLIDA | AD37: 1125 | AE37: =AD37*$F37 -> 2058750 | AF37: =IF(AE37<=$H37,"VÁLIDA","NO VÁLIDA") -> VÁLIDA | AH37: =AG37*$F37 -> 0 | AI37: =IF(AH37<=$H37,"VÁLIDA","NO VÁLIDA") -> VÁLIDA | AJ37: 1046 | AK37: =AJ37*$F37 -> 1914180 | AL37: =IF(AK37<=$H37,"VÁLIDA","NO VÁLIDA") -> VÁLIDA | AM37: 1122 | AN37: =AM37*$F37 -> 2053260 | AO37: =IF(AN37<=$H37,"VÁLIDA","NO VÁLIDA") -> VÁLIDA | AP37: 1125 | AQ37: =AP37*$F37 -> 2058750 | AR37: =IF(AQ37<=$H37,"VÁLIDA","NO VÁLIDA") -> VÁLIDA | AS37: 1100 | AT37: =AS37*$F37 -> 2013000 | AU37: =IF(AT37<=$H37,"VÁLIDA","NO VÁLIDA") -> VÁLIDA | AV37: 1494.45 | AW37: =AV37*$F37 -> 2734843.5 | AX37: =IF(AW37<=$H37,"VÁLIDA","NO VÁLIDA") -> NO VÁLIDA | AY37: 1125 | AZ37: =AY37*$F37 -> 2058750 | BA37: =IF(AZ37<=$H37,"VÁLIDA","NO VÁLIDA") -> VÁLIDA | BB37: 1078.7597 | BC37: =BB37*$F37 -> 1974130.3 | BD37: =IF(BC37<=$H37,"VÁLIDA","NO VÁLIDA") -> VÁLIDA | BE37: 1101 | BF37: =BE37*$F37 -> 2014830 | BG37: =IF(BF37<=$H37,"VÁLIDA","NO VÁLIDA") -> VÁLIDA | BH37: 1113.75 | BI37: =BH37*$F37 -> 2038162.5 | BJ37: =IF(BI37<=$H37,"VÁLIDA","NO VÁLIDA") -> VÁLIDA | BK37: 1116 | BL37: =BK37*$F37 -> 2042280 | BM37: =IF(BL37<=$H37,"VÁLIDA","NO VÁLIDA") -> VÁLIDA | BN37: 1104 | BO37: =BN37*$F37 -> 2020320 | BP37: =IF(BO37<=$H37,"VÁLIDA","NO VÁLIDA") -> VÁLIDA
D38: TRITURADO 1" SUMINISTRO E INSTALACION | E38: M3 | F38: 7 | G38: 47600 | H38: =F38*G38 -> 333200 | I38: 46858 | J38: =I38*$F38 -> 328006 | K38: =IF(J38<=$H38,"VÁLIDA","NO VÁLIDA") -> VÁLIDA | L38: 47076 | M38: =L38*$F38 -> 329532 | N38: =IF(M38<=$H38,"VÁLIDA","NO VÁLIDA") -> VÁLIDA | O38: 47600 | P38: =O38*$F38 -> 333200 | Q38: =IF(P38<=$H38,"VÁLIDA","NO VÁLIDA") -> VÁLIDA | R38: 46900 | S38: =R38*$F38 -> 328300 | T38: =IF(S38<=$H38,"VÁLIDA","NO VÁLIDA") -> VÁLIDA | U38: 47600 | V38: =U38*$F38 -> 333200 | W38: =IF(V38<=$H38,"VÁLIDA","NO VÁLIDA") -> VÁLIDA | X38: 46838 | Y38: =X38*$F38 -> 327866 | Z38: =IF(Y38<=$H38,"VÁLIDA","NO VÁLIDA") -> VÁLIDA | AA38: 47076 | AB38: =AA38*$F38 -> 329532 | AC38: =IF(AB38<=$H38,"VÁLIDA","NO VÁLIDA") -> VÁLIDA | AD38: 47600 | AE38: =AD38*$F38 -> 333200 | AF38: =IF(AE38<=$H38,"VÁLIDA","NO VÁLIDA") -> VÁLIDA | AH38: =AG38*$F38 -> 0 | AI38: =IF(AH38<=$H38,"VÁLIDA","NO VÁLIDA") -> VÁLIDA | AJ38: 44268 | AK38: =AJ38*$F38 -> 309876 | AL38: =IF(AK38<=$H38,"VÁLIDA","NO VÁLIDA") -> VÁLIDA | AM38: 47481 | AN38: =AM38*$F38 -> 332367 | AO38: =IF(AN38<=$H38,"VÁLIDA","NO VÁLIDA") -> VÁLIDA | AP38: 47600 | AQ38: =AP38*$F38 -> 333200 | AR38: =IF(AQ38<=$H38,"VÁLIDA","NO VÁLIDA") -> VÁLIDA | AS38: 46500 | AT38: =AS38*$F38 -> 325500 | AU38: =IF(AT38<=$H38,"VÁLIDA","NO VÁLIDA") -> VÁLIDA | AV38: 63251 | AW38: =AV38*$F38 -> 442757 | AX38: =IF(AW38<=$H38,"VÁLIDA","NO VÁLIDA") -> NO VÁLIDA | AY38: 47600 | AZ38: =AY38*$F38 -> 333200 | BA38: =IF(AZ38<=$H38,"VÁLIDA","NO VÁLIDA") -> VÁLIDA | BB38: 45643.523 | BC38: =BB38*$F38 -> 319504.66 | BD38: =IF(BC38<=$H38,"VÁLIDA","NO VÁLIDA") -> VÁLIDA | BE38: 46572 | BF38: =BE38*$F38 -> 326004 | BG38: =IF(BF38<=$H38,"VÁLIDA","NO VÁLIDA") -> VÁLIDA | BH38: 47124 | BI38: =BH38*$F38 -> 329868 | BJ38: =IF(BI38<=$H38,"VÁLIDA","NO VÁLIDA") -> VÁLIDA | BK38: 47219 | BL38: =BK38*$F38 -> 330533 | BM38: =IF(BL38<=$H38,"VÁLIDA","NO VÁLIDA") -> VÁLIDA | BN38: 46749 | BO38: =BN38*$F38 -> 327243 | BP38: =IF(BO38<=$H38,"VÁLIDA","NO VÁLIDA") -> VÁLIDA
B39: 4161 | C39: =C37+0.01 -> 1.21 | D39: =VLOOKUP(B39,[2]ITEMS!$B$4:$E$2466,2,FALSE) -> SUBBASE GRANULAR CLASE A (SBG_A) (Suministro, Extendido, Nivelación, Humedecimiento y Compactación con vibrocompactador) | E39: =VLOOKUP(B39,[2]ITEMS!$B$4:$E$2466,3,FALSE) -> M3 | F39: 10 | G39: =VLOOKUP(B39,[2]ITEMS!$B$4:$E$2466,4,FALSE) -> 109402 | H39: =F39*G39 -> 1094020 | I39: 107697 | J39: =I39*$F39 -> 1076970 | K39: =IF(J39<=$H39,"VÁLIDA","NO VÁLIDA") -> VÁLIDA | L39: 108199 | M39: =L39*$F39 -> 1081990 | N39: =IF(M39<=$H39,"VÁLIDA","NO VÁLIDA") -> VÁLIDA | O39: 109402 | P39: =O39*$F39 -> 1094020 | Q39: =IF(P39<=$H39,"VÁLIDA","NO VÁLIDA") -> VÁLIDA | R39: 107794 | S39: =R39*$F39 -> 1077940 | T39: =IF(S39<=$H39,"VÁLIDA","NO VÁLIDA") -> VÁLIDA | U39: 109402 | V39: =U39*$F39 -> 1094020 | W39: =IF(V39<=$H39,"VÁLIDA","NO VÁLIDA") -> VÁLIDA | X39: 107651 | Y39: =X39*$F39 -> 1076510 | Z39: =IF(Y39<=$H39,"VÁLIDA","NO VÁLIDA") -> VÁLIDA | AA39: 108199 | AB39: =AA39*$F39 -> 1081990 | AC39: =IF(AB39<=$H39,"VÁLIDA","NO VÁLIDA") -> VÁLIDA | AD39: 109402 | AE39: =AD39*$F39 -> 1094020 | AF39: =IF(AE39<=$H39,"VÁLIDA","NO VÁLIDA") -> VÁLIDA | AH39: =AG39*$F39 -> 0 | AI39: =IF(AH39<=$H39,"VÁLIDA","NO VÁLIDA") -> VÁLIDA | AJ39: 101744 | AK39: =AJ39*$F39 -> 1017440 | AL39: =IF(AK39<=$H39,"VÁLIDA","NO VÁLIDA") -> VÁLIDA | AM39: 109128 | AN39: =AM39*$F39 -> 1091280 | AO39: =IF(AN39<=$H39,"VÁLIDA","NO VÁLIDA") -> VÁLIDA | AP39: 109402 | AQ39: =AP39*$F39 -> 1094020 | AR39: =IF(AQ39<=$H39,"VÁLIDA","NO VÁLIDA") -> VÁLIDA | AS39: 108000 | AT39: =AS39*$F39 -> 1080000 | AU39: =IF(AT39<=$H39,"VÁLIDA","NO VÁLIDA") -> VÁLIDA | AV39: 145373.4 | AW39: =AV39*$F39 -> 1453734 | AX39: =IF(AW39<=$H39,"VÁLIDA","NO VÁLIDA") -> NO VÁLIDA | AY39: 109402 | AZ39: =AY39*$F39 -> 1094020 | BA39: =IF(AZ39<=$H39,"VÁLIDA","NO VÁLIDA") -> VÁLIDA | BB39: 104905.31 | BC39: =BB39*$F39 -> 1049053.1 | BD39: =IF(BC39<=$H39,"VÁLIDA","NO VÁLIDA") -> VÁLIDA | BE39: 107039 | BF39: =BE39*$F39 -> 1070390 | BG39: =IF(BF39<=$H39,"VÁLIDA","NO VÁLIDA") -> VÁLIDA | BH39: 108307.98 | BI39: =BH39*$F39 -> 1083079.8 | BJ39: =IF(BI39<=$H39,"VÁLIDA","NO VÁLIDA") -> VÁLIDA | BK39: 108527 | BL39: =BK39*$F39 -> 1085270 | BM39: =IF(BL39<=$H39,"VÁLIDA","NO VÁLIDA") -> VÁLIDA | BN39: 107448 | BO39: =BN39*$F39 -> 1074480 | BP39: =IF(BO39<=$H39,"VÁLIDA","NO VÁLIDA") -> VÁLIDA
