Workbook

Sheet C.S.
F1: GESTIÓN CONTRACTUAL | AB1: Código: IDPAC-GC-FT-30 Versión: 01 Página 1 de 1 Fecha: 25/02/2019
F2: CERTIFICADO DE SUPERVISIÓN - SECOP II
A4: I. INFORMACIÓN DE SUPERVISIÓN O INTERVENTORÍA
C6: FECHA DE EXPEDICIÓN | J6: DATOS DEL SUPERVISOR O INTERVENTOR | AA6: TELÉFONO Y/O EXTENSIÓN
C7: DÍA | E7: MES | G7: AÑO | J7: NOMBRE | M7: GIUSEPPE SALVATORE SCOPPETTA TORRES | AA7: 2417900 ext 1144
C8: 3 | E8: 5 | G8: 2019 | J8: CARGO | M8: GERENCIA DE INSTANCIAS Y MECANISMOS DE PARTICIPACIÓN
A11: II. INFORMACIÓN CONTRACTUAL
A12: NOMBRE O RAZÓN SOCIAL DEL CONTRATISTA | Y12: NIT O C.C. No.
G13: KELLY JOHANNA PAEZ CORTES | Z13: 1026258857
A15: TIPO DE CONTRATACIÓN: | I15: PRESTACIÓN DE SERVICIOS PERSONA NATURAL
J17: DD | K17: MM | L17: AAAA | R17: DD | S17: MM | T17: AAAA | V17: PLAZO DE EJECUCION INICIAL | AB17: FECHA DE TERMINACIÓN
A18: CONTRATO | D18: No. | E18: 394 | G18: CON FECHA | J18: 14 | K18: 2 | L18: 2019 | N18: FECHA DE INICIO | R18: 20 | S18: 2 | T18: 2019 | V18: 4 | W18: meses y | Y18: 0 | Z18: dias | AB18: 19 | AC18: 6 | AE18: 2019
J20: DD | K20: MM | L20: AAAA | R20: DD | S20: MM | T20: AAAA | V20: PLAZO DE EJECUCION
A21: PRORROGA | D21: No. | E21: 1 | G21: CON FECHA | N21: FECHA DE INICIO | V21: 00 MESES Y 00 DIAS
A22: PRORROGA | D22: No. | E22: 2 | G22: CON FECHA | N22: FECHA DE INICIO | V22: 00 MESES Y 00 DIAS
A23: PRORROGA | D23: No. | E23: 3 | G23: CON FECHA | N23: FECHA DE INICIO | V23: 00 MESES Y 00 DIAS
J24: DD | K24: MM | L24: AAAA
A25: ADICION | D25: No. | E25: 1 | G25: CON FECHA | N25: VALOR DE ADICION No. 1 | V25: 0
A26: ADICION | D26: No. | E26: 2 | G26: CON FECHA | N26: VALOR DE ADICION No. 2 | V26: 0
A27: ADICION | D27: No. | E27: 3 | G27: CON FECHA | N27: VALOR DE ADICION No. 3 | V27: 0
A29: PARA PRESTACION DE SERVICIOS | O29: FORMA Y CONDICIÓN DE PAGO
O30: El valor del presente contrato se cancelará de la siguiente manera: a. Fijos mensuales equivalentes a UN MILLÓN QUINIENTOS MIL PESOS M/CTE ($1.500.000) o proporcional por mes con corte al día 30 de cada mes, previa presentación de los formatos “Informe de ejecución contractual” y “Certificado de Supervisión o Interventoría” y el comprobante de pago de los aportes al Sistema de Seguridad Social en Salud, Pensión y ARL, en el porcentaje establecido por el Gobierno Nacional. PARÁGRAFO PRIMERO: El pago estará sujeto a la programación del PAC por parte de la Tesorería del IDPAC. PARÁGRAFO SEGUNDO: Como requisito para el primer pago, se exigirá la presentación al Supervisor del certificado correspondiente al examen pre–ocupacional exigido en la Cláusula Tercera del presente documento. PARAGRAFO TERCERO: Para efectos del pago en la forma señalada en la cláusula anterior, los valores serán consignados en la cuenta suministrada por EL CONTRATISTA de acuerdo con el formato del Sistema Automático de Pagos.
B31: PERIODO CERTIFICADO O FACTURADO
E32: DD | F32: MM | G32: AA | K32: DD | L32: MM | M32: AA
B33: DESDE | E33: 1 | F33: 4 | G33: 2019 | I33: HASTA | K33: 30 | L33: 4 | M33: 2019
E34: dd | F34: mm | G34: aa | K34: dd | L34: mm | M34: aa
A36: OBJETO CONTRACTUAL
A37: Prestar los servicios de apoyo a la gestión con autonomía técnica y administrativa en la promoción de procesos de movilización institucional y social de interés público sobre temas estratégicos, coyunturales o de interés para los ciudadanos del Distrito Capital, y contribuyan en la organización de campañas de conciencia ciudadana sobre el rescate de lo público y la defensa de la institucionalidad democrática en la localidad de San Cristóbal o en las que el supervisor le asigne.
A39: CERTIFICO BAJO MI ENTERA RESPONSABILIDAD QUE EL CONTRATISTA CUMPLIÓ A CABALIDAD CON EL OBJETO DEL CONTRATO EN LOS TÉRMINOS Y TIEMPO PACTADOS CON EL INSTITUTO DISTRITAL DE LA PARTICIPACION Y ACCION COMUNAL
A41: POR LO TANTO AUTORIZO EL PAGO POR VALOR DE: | L41: 1500000
Z43: DD | AA43: MM | AC43: AAAA
A44: MARQUE CON X SI FACTURA | L44: NUMERO DE FACTURA | V44: DE FECHA :
A46: EL CONTRATISTA PRESENTA LAS CONSTANCIAS DE PAGO DE APORTES AL SISTEMA DE SEGURIDAD SOCIAL CORRESPONDIENTES AL MONTO Y TIEMPO QUE CERTIFICO
A48: SALUD | C48: No. de planilla: | F48: 8490908564 | J48: VALOR: | L48: 0.125 | M48: 103600 | Q48: EPS | S48: NUEVA EPS | X48: PERIODO COTIZADO | AA48: MARZO
A49: PENSION | C49: No. de planilla: | F49: =+F48 -> 8490908564 | J49: VALOR: | L49: 0.16 | M49: 132500 | Q49: FONDO | S49: PORVENIR | X49: PERIODO COTIZADO | AA49: =+AA48 -> MARZO
A50: ARL | C50: No. de planilla: | F50: =+F49 -> 8490908564 | J50: VALOR: | L50: 0.00522 | M50: 4400 | Q50: ARL | S50: POSITIVA | X50: PERIODO COTIZADO | AA50: =+AA49 -> MARZO
F51: Para prestacion de servicios | I51: Base Salud | L51: 0.4 | M51: 828116
I52: Base Pension | L52: 0.4 | M52: 828116
I53: Base ARL | L53: 0.4 | M53: =+M51 -> 828116
A55: III. MODIFICACIONES AL CONTRATO
...

Sheet I.E.C.
F1: GESTIÓN CONTRACTUAL | U1: Código: IDPAC-GC-FT-31 Versión:01 Pagina 1 de 1 Fecha: 25/02/2019
F2: INFORME DE EJECUCIÓN CONTRACTUAL - SECOP II
A4: DATOS GENERALES DEL CONTRATO
A5: PERIODO DEL INFORME | F5: Del | G5: DIA | H5: MES | I5: AÑO | K5: Hasta | M5: DIA | N5: MES | O5: AÑO | R5: FECHA DEL INFORME | W5: DIA | X5: MES | Y5: AÑO
G6: 1 | H6: 4 | I6: =+C.S.!$G$33 -> 2019 | M6: =+C.S.!$K$33 -> 30 | N6: =+C.S.!$L$33 -> 4 | O6: =+C.S.!$M$33 -> 2019 | W6: =+C.S.!$C$8 -> 3 | X6: =+C.S.!$E$8 -> 5 | Y6: =+C.S.!$G$8 -> 2019
A7: CONTRATO No. | E7: =+C.S.!$E$18 -> 394 | G7: FECHA DE CONTRATO | K7: =+C.S.!$J$18 -> 14 | L7: =+C.S.!$K$18 -> 2 | M7: =+C.S.!$L$18 -> 2019 | N7: TIPO CONTRATO | R7: =+C.S.!I15 -> PRESTACIÓN DE SERVICIOS PERSONA NATURAL
A8: NOMBRE O RAZÓN SOCIAL DEL CONTRATISTA / COEJECUTOR / ASOCIADO | N8: =+C.S.!G13 -> KELLY JOHANNA PAEZ CORTES
A9: TIPO DE IDENTIFICACIÓN | G9: C.C. | I9: NUMERO | L9: =+C.S.!Z13 -> 1026258857 | Q9: FECHA DE INICIO | U9: FECHA DE TERMINACIÓN
Q10: =+C.S.!R18 -> 20 | R10: =+C.S.!S18 -> 2 | S10: =+C.S.!T18 -> 2019 | U10: =+C.S.!AB18 -> 19 | V10: =+C.S.!AC18 -> 6 | X10: =+C.S.!AE18 -> 2019
A11: OBJETO CONTRACTUAL
A12: =+C.S.!A37 -> Prestar los servicios de apoyo a la gestión con autonomía técnica y administrativa en la promoción de procesos de movilización institucional y social de interés público sobre temas estratégicos, coyunturales o de interés para los ciudadanos del Distrito Capital, y contribuyan en la organización de campañas de conciencia ciudadana sobre el rescate de lo público y la defensa de la institucionalidad democrática en la localidad de San Cristóbal o en las que el supervisor le asigne.
A13: PLAZO DE EJECUCIÓN INICIAL | H13: =+C.S.!V18 -> 4 | I13: Meses y | K13: =+C.S.!Y18 -> 0 | L13: Días | N13: FECHA DE INICIACIÓN | W13: =+C.S.!R18 -> 20 | X13: =+C.S.!S18 -> 2 | Y13: =+C.S.!T18 -> 2019
A14: PRORROGA | D14: No. | E14: DIA | F14: MES | G14: AÑO | I14: TIEMPO | L14: No. | M14: DIA | N14: MES | O14: AÑO | Q14: TIEMPO | S14: No. | T14: DIA | U14: MES | V14: AÑO | W14: TIEMPO
D15: 1 | E15: =+C.S.!J21 -> 0 | F15: =+C.S.!K21 -> 0 | G15: =+C.S.!L21 -> 0 | I15: =+C.S.!V21 -> 00 MESES Y 00 DIAS | L15: 2 | M15: =+C.S.!J22 -> 0 | N15: =+C.S.!K22 -> 0 | O15: =+C.S.!L22 -> 0 | Q15: =+C.S.!V22 -> 00 MESES Y 00 DIAS | S15: 3 | T15: =+C.S.!J23 -> 0 | U15: =+C.S.!K23 -> 0 | V15: =+C.S.!L23 -> 0 | W15: =+C.S.!V23 -> 00 MESES Y 00 DIAS
A16: ADICION | D16: No. | E16: DIA | F16: MES | G16: AÑO | I16: VALOR | L16: No. | M16: DIA | N16: MES | O16: AÑO | Q16: VALOR | S16: No. | T16: DIA | U16: MES | V16: AÑO | W16: VALOR
D17: 1 | E17: =+C.S.!J25 -> 0 | F17: =+C.S.!K25 -> 0 | G17: =+C.S.!L25 -> 0 | I17: =+C.S.!V25 -> 0 | L17: 2 | M17: =+C.S.!J26 -> 0 | N17: =+C.S.!K26 -> 0 | O17: =+C.S.!L26 -> 0 | Q17: =+C.S.!V26 -> 0 | S17: 3 | T17: =+C.S.!J27 -> 0 | U17: =+C.S.!K27 -> 0 | V17: =+C.S.!L27 -> 0 | W17: =+C.S.!V27 -> 0
A18: NOMBRE DEL INTERVENTOR Y/O SUPERVISOR | K18: =+C.S.!M7 -> GIUSEPPE SALVATORE SCOPPETTA TORRES
A19: OFICINA O DEPENDENCIA A LA CUAL PERTENECE | K19: =+C.S.!M8 -> GERENCIA DE INSTANCIAS Y MECANISMOS DE PARTICIPACIÓN
A20: DESCRIPCIÓN DE ACTIVIDADES DESARROLLADAS EN CUMPLIMIENTO DEL OBJETO CONTRATUAL
A21: No. | B21: OBLIGACIONES CONTRACTUALES | H21: ACTIVIDADES REALIZADAS Y/O PRODUCTOS ENTREGADOS | P21: SOPORTES (Describa las evidencias de las actividades realizadas y sitio de conservación de la información) | W21: PORCENTAJE (%) DE AVANCE FÍSICO DE LA OBLIGACIÓN
A22: 1 | B22: Apoyar procesos de movilización ciudadana que permitan a los ciudadanos intervenir en los asuntos públicos. | H22: 04 de abril- Nombre de la actividad: DÍA SIN CARRO- Se realiza caminata con funcionarios desde la plaza de Bolivar hasta el parque Nacional, en representación del día sin carro Distrital con el fin de dar ejemplo a la comunidad. 15/04/2019-Nombre Actividad: Apoyar a la Alcaldía local en la convocatoria para la rendición de cuentas- Se hace recorrido por los barrios Ricaurte, la pepita, el gran san, san Victorino entregando las invitaciones para la rendición de cuentas. 25/04/2019- Nombre Actividad: Entrega de invitaciones para Rendición de cuentas- Se hace recorrido por los barrios Restrepo entregando las invitaciones para la rendición de cuentas, y tomando registró de los ciudadanos. 26/04/2019- Nombre Actividad: Entrega de invitaciones Rendición de Cuentas- Se hace recorrido por los barrios Restrepo entregando las invitaciones para la rendición de cuentas, y tomando registró de los ciudadanos. | P22: informe de actividades | W22: =(C.S.!N72+C.S.!N73)/(C.S.!N69) -> 0.59166667
A23: 2 | B23: Prestar asistencia logística al IDPAC en los procesos de formación, información, comunicación y producción social de conocimiento en el Distrito Capital. | H23: 09/04/2019- Nombre Actividad: Donación libros Biblioteca Toros del Fucha- Se brinda apoyo en la organización de los libros donados, se trasladan cajas con libros y mesas. 24/04/2019- Nombre Actividad: Ciudades Aliadas al Orgullo LGBTI- Se traslada instrumental hacia el camión para ser transportado. 28/04/2019- Nombre Actividad: Asociación de padres de familia Fundación Pequeños Gigantes- Se apoya organizando mesas y sillas para la actividad. Fecha: 29/04/2019- Nombre Actividad: Ciudades Aliadas al Orgullo LGBTI.- Se recibe y se descarga instrumentaría del camión para ser guardada en bodega. Fecha: 30/04/2019- Nombre Actividad: Acompañamiento Entornos escolares - Se hace acompañamiento a la salida de los estudiantes del colegio Agustín Nieto Caballero | P23: informe de actividades | W23: =(C.S.!N72+C.S.!N73)/(C.S.!N69) -> 0.59166667
A24: 3 | B24: Sistematizar y consolidar información obtenida de los procesos de recolección de información en la localidad asignada | H24: 03/04/2019-Nombre Actividad: CLOPS-Se brinda apoyo llenado la lista con datos de los asistentes, por ser personas con diferentes tipos de discapacidad y se les dificulta la escritura. 05/04/2019- Nombre de la actividad: Feria de servicios-Se hace entrega de revista informativa a la comunidad, se realiza volanteo a los transeúntes. 07/04/2019- Actividad: DPAC VIVE TU BARRIO- Se brinda apoyo en la organización del evento, se trasladan silla mesas de la JAC al parque Guacamayas II Sector se hace entrega de volantes y revistas informativas a la comunidad, se hace acompañamiento a la subdirectora de la secretaria de desarrollo económico. 11/04/2019- Nombre Actividad: Reunión de equipo territorial- Reunión equipo territorial para presentar propuestas de articuladores. | P24: informe de actividades | W24: =(C.S.!N72+C.S.!N73)/(C.S.!N69) -> 0.59166667
A25: 4 | B25: Al finalizar la ejecución contractual entregar un informe final, cualitativo y cuantitativo de las actividades desarrolladas | H25: pendiente por realizar | P25: informe de actividades | W25: =(C.S.!N72+C.S.!N73)/(C.S.!N69) -> 0.59166667
A26: 5 | B26: Las demás que sean asignadas por el supervisor, de acuerdo con la naturaleza y el objeto del contrato. | H26: 10/04/2019- Nombre Actividad: Apoyo, acompañamiento- Se brinda apoyo y acompañamiento evento Banco de Acciones Comunales, donde el Presidente de la Republica y líderes comunales manifiestan sus expectativas de futuros proyectos. | P26: informe de actividades | W26: =(C.S.!N72+C.S.!N73)/(C.S.!N69) -> 0.59166667
A27: 6 | W27: =(C.S.!N72+C.S.!N73)/(C.S.!N69) -> 0.59166667
A28: 7 | W28: 0.0804
A29: * Incluir todas las filas que se requieran
A30: Nota: El supervisor del contrato entiende que con la Aceptación del presente formato resulta improcedente aplicar el incumplimiento que trata el artículo 86 de la ley 1474 de 2011 y demás que le modifiquen, en relación a las actividades aquí detalladas.
A31: CERTIFICACIÓN DE CUMPLIMIENTO
A32: El Interventor o Supervisor deja constancia de la aprobacion del presente informe mediante la plataforma del SECOP II que las actividades se cumplieron conforme a lo estipulado en el objeto, y que se adoptaron las observaciones y recomendaciones realizadas. Así mismo certifico que el contratista cumplió conforme a los requisitos de Ley con los aportes a seguridad social, a las entidades a las que esta obligado a aportar. Se anexan los Comprobantes de pago en ( 1 ) Folios

Sheet .
C1: Lista Desplegable | G1: Lista Desplegable | H1: Lista Desplegable
C2: ENERO | D2: SALDO POR CANCELAR | G2: ARRENDAMIENTO | H2: ARRENDAMIENTO DE BIENES MUEBLES
C3: FEBRERO | D3: SALDO POR LIBERAR | G3: COMODATO | H3: CONTRATO DE OBRA
C4: MARZO | G4: COMPRAVENTA | H4: CONSULTORÍA (INTERVENTORÍA)
C5: ABRIL | G5: CONCESION | H5: CONVENIO INTERADMINISTRATIVO
C6: MAYO | G6: CONSULTORÍA | H6: CONTRATO DE SEGUROS
C7: JUNIO | E7: Lista Desplegable | G7: CONTRATO DE COLABORACIÓN Y APOYO CELEBRADO CON ENTIDAD PRIVADA SIN ANIMO DE LUCRO | H7: PRESTACIÓN DE SERVICIOS PERSONA JURIDICA
A8: Lista Desplegable | C8: JULIO | E8: AHORROS | G8: CONVENIO DE ASOCIACIÓN | H8: PRESTACIÓN DE SERVICIOS PERSONA NATURAL
A9: 2018 | C9: AGOSTO | E9: CORRIENTE | G9: CONVENIO INTERADMINISTRATIVO | H9: OTRO TIPO DE NATURALEZA DE CONTRATOS
A10: 2019 | C10: SEPTIEMBRE | G10: COOPERACIÓN Y ASISTENCIA
A11: 2020 | C11: OCTUBRE | G11: ESTUDIOS Y DISEÑOS
C12: NOVIEMBRE | G12: INTERINSTITUCIONAL
C13: DICIEMBRE | G13: LEASING
G14: MANDATO
G15: MANTENIMIENTO
C16: Lista Desplegable | G16: OBRA
C17: CEDENTE | G17: PRESTACIÓN DE SERVICIOS PERSONA JURIDICA
C18: CESIONARIO | G18: PRESTACIÓN DE SERVICIOS PERSONA NATURAL
G19: SUMINISTRO
