Workbook
Name \0: #REF!
Name \00: #REF!
Name \a: #REF!
Name \AA: [1]LIQUIDACION!#REF!
Name \b: [2]STRSUMM0!#REF!
Name \bb: [2]STRSUMM0!#REF!
Name \E: #REF!
Name \EE: #REF!
Name \G: #REF!
Name \k: '[3]7422CW00'!#REF!
Name \l: [4]STRSUMM0!#REF!
Name \M: #REF!
Name \ñ: '[5]7422CW00'!#REF!
Name \P: #REF!
Name \R: #REF!
Name \s: #REF!
Name \V: #REF!
Name \X: [0]!ERR
Name \Z: [0]!ERR
Name _________AFC1: [6]INV!$A$25:$D$28
Name _________AFC3: [6]INV!$F$25:$I$28
Name _________AFC5: [6]INV!$K$25:$N$28
Name _________BGC1: [6]INV!$A$5:$D$8
Name _________BGC3: [6]INV!$F$5:$I$8
Name _________BGC5: [6]INV!$K$5:$N$8
Name _________CAC1: [6]INV!$A$19:$D$22
Name _________CAC3: [6]INV!$F$19:$I$22
Name _________CAC5: [6]INV!$K$19:$N$22
Name _________PJ50: #REF!
Name _________SBC1: [6]INV!$A$12:$D$15
Name _________SBC3: [6]INV!$F$12:$I$15
Name _________SBC5: [6]INV!$K$12:$N$15
Name ________AFC1: [6]INV!$A$25:$D$28
Name ________AFC3: [6]INV!$F$25:$I$28
Name ________AFC5: [6]INV!$K$25:$N$28
Name ________BGC1: [6]INV!$A$5:$D$8
Name ________BGC3: [6]INV!$F$5:$I$8
Name ________BGC5: [6]INV!$K$5:$N$8
Name ________CAC1: [6]INV!$A$19:$D$22
Name ________CAC3: [6]INV!$F$19:$I$22
Name ________CAC5: [6]INV!$K$19:$N$22
Name ________MA2: #REF!
Name ________PJ50: #REF!
Name ________SBC1: [6]INV!$A$12:$D$15
Name ________SBC3: [6]INV!$F$12:$I$15
Name ________SBC5: [6]INV!$K$12:$N$15
Name _______AFC1: [6]INV!$A$25:$D$28
Name _______AFC3: [6]INV!$F$25:$I$28
Name _______AFC5: [6]INV!$K$25:$N$28
Name _______BGC1: [6]INV!$A$5:$D$8
Name _______BGC3: [6]INV!$F$5:$I$8
Name _______BGC5: [6]INV!$K$5:$N$8
Name _______CAC1: [6]INV!$A$19:$D$22
Name _______CAC3: [6]INV!$F$19:$I$22
Name _______CAC5: [6]INV!$K$19:$N$22
Name _______MA2: #REF!
Name _______PJ50: #REF!
Name _______SBC1: [6]INV!$A$12:$D$15
Name _______SBC3: [6]INV!$F$12:$I$15
Name _______SBC5: [6]INV!$K$12:$N$15

Sheet PRESUPUESTO OFICIAL (Entidad)
C3: Formulario 1 - Propuesta económica - Documento tipo de selección abreviada de menor cuantía - versión 2
C4: Código | D4: CCE-EICP-FM-25 | E4: Versión | F4: 2
C6: FORMULARIO 1
C7: PRESUPUESTO OFICIAL
C8: [La entidad puede utilizar este formulario de detalle del presupuesto oficial para determinar las condiciones bajo las cuales los proponentes analizarán y presentarán su propuesta económica de forma detallada, sin perjuicio que la entidad pueda modificarlo o establecer la presentación de la oferta económica con un formulario distinto al indicado.]
C10: Adicionalmente, cuando el proceso de contratación es estructurado por precios unitarios, la Entidad debe aplicar las notas 1, 2 y 3 del presente formulario y las casillas de "Descripción", "Porcentaje" de la Administración, Imprevisto, Utilidad y total A.I.U. resaltadas en colo amarillo. Tratándose de otras modalidades de precio, la Entidad puede o no configurar los mismos aspectos.
C11: “MEJORAMIENTO DE VÍAS TERCIARIAS MEDIANTE LA CONSTRUCCION DE PLACA HUELLA EN SITIOS CRITICOS DEL MUNICIPIO PAICOL DEPARTAMENTO DEL HUILA"
C12: Nº | D12: ITEM DE PAGO | E12: ESPECIFICACIONES | G12: DESCRIPCION | H12: UND. | I12: CANTIDAD | J12: VALOR UNITARIO | K12: VALOR TOTAL
E13: GENERAL | F13: PARTICULAR
C14: 1. MUNICIPIO DE ACEVEDO
C15: PRELIMINARES
C16: 1 | D16: 1.1 | F16: 1P | G16: LOCALIZACION Y REPLANTEO | H16: ML | I16: 510 | J16: 4285 | K16: =I16*J16 -> 2185350
C17: Subtotal | K17: =K16 -> 2185350
C18: ESTRUCTURA DE PAVIMENTO PLACA HUELLA
C19: 2 | D19: 2.1 | E19: ESP. 210-13 INV | G19: EXCAVACIÓN MECÁNICA (EXPLANACIÓN). ESP. 210-13 INV. INCLUYE RETIRO DE MATERIAL PROVENIENTE DE LA EXCAVACIÓN A DISPOSICIÓN FINAL DEL MISMO. | H19: m3 | I19: 228 | J19: 60319 | K19: =I19*J19 -> 13752732
C20: 3 | D20: 2.2 | F20: 2P | G20: EXCAVACION MANUAL EN MATERIAL SECO (INCLUYE TRANSPORTE A SITIO AUTORIZADO.) | H20: m3 | I20: 58 | J20: 70105 | K20: =I20*J20 -> 4066090
C21: 4 | D21: 2.3 | E21: ESP. 320-13 INV. | G21: SUMINISTRO, INSTALACION, EXTENDIDA, NIVELACION, HUMEDECIMIENTO O AIREACION Y COMPACTACION DE SUBBASE GRANULAR CBR ≥ 40%. ESP. 320-13 INV. | H21: m3 | I21: 324 | J21: 165237 | K21: =I21*J21 -> 53536788
C22: 5 | D22: 2.4 | E22: ESP.640-13 INV. | G22: ACERO DE REFUERZO 4.200 KG/CM² (60.000 PSI) ESP.640-13 INV. PARA PLACAS, RIOSTRAS, CUNETAS, BORDILLOS Y DENTELLONES | H22: kg | I22: 21838 | J22: 9517 | K22: =I22*J22 -> 207832246
C23: 6 | D23: 2.5 | E23: ART. 630 INV | G23: SUMINISTRO E INSTALACIÓN DE CONCRETO NORMAL CLASE D - (F´C=210 KGF/CM2) O (3.000 PSI) PARA DENTELLONES- PLACAS - RIOSTRAS - CUNETAS - BORDILLO. | H23: m3 | I23: 385 | J23: 787016 | K23: =I23*J23 -> 303001160
C24: 7 | D24: 2.6 | E24: ESP. 630-13 INV. | G24: SUMINISTRO E INSTALACIÓN DE CONCRETO CICLÓPEO DE 210 KG/CM² (3.000 PSI) ESPESOR 0,15 M.60% CONCRETO NORMAL DE 210 KG/CM² (3.000 PSI) , 40% PIEDRA ESP. 630-13 INV. PARA HUELLAS. | H24: m3 | I24: 93 | J24: 524397 | K24: =I24*J24 -> 48768921
C25: Subtotal | K25: =SUM(K19:K24) -> 630957937
C26: OBRAS DE DRENAJE Y COMPLEMENTARIAS: ALCANTARILLAS (6)
C27: 8 | D27: 3.1 | E27: ESP. 630-13 INV. | G27: SUMINISTRO E INSTALACIÓN DE SOLADO DE LIMPIEZA EN CONCRETO NORMAL CLASE F- (F´C=140 KGF/CM2). PARA OBRAS DE ARTE. | H27: m3 | I27: 18 | J27: 613839 | K27: =I27*J27 -> 11049102
C28: 9 | D28: 3.2 | E28: ART. 630 INV | G28: SUMINISTRO E INSTALACIÓN DE CONCRETO NORMAL CLASE D- (F´C=210 KGF/CM2). PARA CONSTRUCCION DE CABEZOTES, MUROS, ENCOLES, DESCOLES Y PLACAS DE SOBREPISO DE ALCANTARILLAS. | H28: m3 | I28: 51 | J28: 787016 | K28: =I28*J28 -> 40137816
C29: 10 | D29: 3.3 | E29: ESP. 661-13 INV. | G29: SUMINISTRO E INTALACION DE TUBERIA EN CONCRETO F=36", L=1M. ESP. 661-13 INV. | H29: m | I29: 30 | J29: 544626 | K29: =I29*J29 -> 16338780
C30: 11 | D30: 3.4 | E30: ESP.640-13 INV. | G30: ACERO DE REFUERZO 4.200 KG/CM² (60.000 PSI) ESP.640-13 INV. PARA ALCANTARILLA, BOX, MUROS, INCLUYE TRANSPORTE | H30: Kg | I30: 3473 | J30: 9517 | K30: =I30*J30 -> 33052541
C31: 12 | D31: 3.5 | E31: ESP. 673-13 INV. | G31: SUMINISTRO E INSTALACION MATERIAL GRANULAR FILTRANTE. ESP. 673-13 INV. | H31: m3 | I31: 3 | J31: 201852 | K31: =I31*J31 -> 605556
C32: 13 | D32: 3.6 | E32: ESP. 220.1-13 INV. | G32: TERRAPLEN / MEJORAMIENTO CONFORMADO CON MATERIAL SELECCIONADO. ESP. 220.1-13 INV. | H32: m3 | I32: 42 | J32: 106688 | K32: =I32*J32 -> 4480896
C33: Subtotal | K33: =SUM(K27:K32) -> 105664691
C34: SUBTOTAL OBRAS | K34: =K33+K25+K17 -> 738807978 | O34: =K34*0.3 -> 2.2164239e+08
G36: PLAN DE MANEJO DE TRANSITO (PMT) | K36: 3264000 | O36: =5575822*4 -> 22303288
G37: PAGA | K37: 5575822 | O37: =3264000*4 -> 13056000
G38: VALOR TOTAL | K38: =K34+K36+K37 -> 747647800 | O38: =K38/3.9 -> 1.9170456e+08 | P38: 1753019089 | Q38: 1416031749 | R38: 881975305 | S38: 2171614366
C41: NOTA 1: Se debe tener en cuenta que el PRECIO UNITARIO incluye el valor de A.I.U. | H41: DESCRIPCION | K41: PORCENTAJE
C42: NOTA 2: Cuando la fracción decimal del peso sea igual o superior a 5 se aproximara por exceso al número entero siguiente del peso y cuando la fracción decimal del peso sea inferior a 5 se aproximará por defecto al número entero del peso. | H42: ADMINISTRACION | J42: 0.23
C43: NOTA 3: El A.I.U y su discriminación deben estar en porcentaje (%). | H43: IMPREVISTO | J43: 0.02 | O43: =K38-906000000 -> -158352200
H44: UTILIDAD | J44: 0.05
H45: TOTAL A.I.U | J45: 0.3
D46: ING. PABLO CESAR ARRIETA RAMIREZ - Apoyo Secretaria de Planeacion y Obras Publicas

Sheet Analisis AIU final
B1: =[34]DATOS!Q20 -> “MEJORAMIENTO DE VÍAS TERCIARIAS MEDIANTE LA CONSTRUCCION DE PLACA HUELLA EN SITIOS CRITICOS DEL MUNICIPIO PAICOL DEPARTAMENTO DEL HUILA"
F5: ='PRESUPUESTO OFICIAL (Entidad)'!K34 -> 738807978
A6: ANALISIS Y DESGLOSE DEL A.I.U
A7: ITEM | B7: DESCRIPCIÓN | C7: V. UNITARIO | D7: MESES | E7: % DEDICACIÓN | F7: VALOR TOTAL
A8: 1 | B8: ADMINISTRACIÓN
B9: PERSONAL
A10: 1.1 | B10: INGENIERO DIRECTOR DE OBRA | C10: 5000000 | D10: 3 | E10: 0.4 | F10: =+E10*D10*C10 -> 6000000
A11: 1.2 | B11: INGENIERO CIVIL RESIDENTE DE OBRA | C11: 3800000 | D11: 3 | E11: 1 | F11: =+E11*D11*C11 -> 11400000
A12: 1.3 | B12: ESPECIALISTA EN GEOTECNIA VIAL | C12: 5000000 | D12: 3 | E12: 0.1 | F12: =+E12*D12*C12 -> 1500000
A13: 1.5 | B13: INGENIERO INDUSTRIAL (SISOMA) | C13: 3800000 | D13: 3 | E13: 1 | F13: =+E13*D13*C13 -> 11400000
A14: 1.10 | B14: TOPOGRAFO | C14: 1800000 | D14: 3 | E14: 1 | F14: =+E14*D14*C14 -> 5400000
A15: 1.11 | B15: CADENERO | C15: 1160000 | D15: 3 | E15: 1 | F15: =+E15*D15*C15 -> 3480000
B16: SUB TOTAL COSTOS DE PERSONAL | F16: =SUM(F10:F15) -> 39180000
B17: FACTOR PRESTACIONAL | C17: PORCENTAJE | D17: VALOR
A18: 1.12 | B18: CESANTIAS | C18: 0.0833 | D18: =F16*C18 -> 3263694
A19: 1.13 | B19: INTERESES DE CESANTIAS | C19: 0.01 | D19: =F16*C19 -> 391800
A20: 1.14 | B20: PRIMA LEGAL | C20: 0.0833 | D20: =F16*C20 -> 3263694
A21: 1.15 | B21: VACACIONES | C21: 0.0416 | D21: =F16*C21 -> 1629888
B22: SUB TOTAL COSTOS DE PRESTACIONES | D22: =SUM(D18:F21) -> 8549076
B23: SEGURIDAD SOCIAL | C23: PORCENTAJE | D23: VALOR
A24: 1.16 | B24: Eps salud 12,5% Aporte patronal 8,5% | C24: 0.085 | D24: =C24*F16 -> 3330300
A25: 1.17 | B25: Pension 16%, Aporte patronal 12% | C25: 0.12 | D25: =C25*F16 -> 4701600
A26: 1.18 | B26: A.R.P | C26: 0.0696 | D26: =C26*F16 -> 2726928
A27: 1.19 | B27: Caja de compesación familiar | C27: 0.04 | D27: =C27*F16 -> 1567200
A28: 1.20 | B28: SENA | C28: 0.02 | D28: =C28*F16 -> 783600
A29: 1.21 | B29: I.C.B.F | C29: 0.03 | D29: =C29*F16 -> 1175400
A30: 1.22 | B30: Otros (subsidio de transporte 2%; Dotacion ( hasta 2 SMMLV) | C30: 0.015 | D30: =C30*F16 -> 587700
B31: SUB TOTAL COSTOS DE SEGURIDAD SOCIAL | D31: =SUM(D24:F30) -> 14872728
B32: OTROS GASTOS | C32: UNIDAD | D32: CANT | E32: VR. UNIT | F32: TOTAL
A33: 1.23 | B33: EQUIPO COMPLETO DE TOPOGRAFIA (INCLUYE TRANSITO, NIVEL, ESTACION Y ELEMENTOS COMPLEMENTARIOS) | C33: Mes | D33: 3 | E33: 1500000 | F33: =ROUND(D33*E33,0) -> 4500000
A34: 1.24 | B34: OFICINA, PAPELERÍA E INSUMOS DE OFICINA, ASEO | C34: Mes | D34: 3 | E34: 500000 | F34: =ROUND(D34*E34,0) -> 1500000
A35: 1.25 | B35: LABORATORIO DE SUELOS, CONCRETOS Y PAVIMENTOS (LIMITES, DENSIDADES:PROCTOR, GRANULOMETRIA, RESISTENCIA CONCRETO-FLEXION..ETC,) | C35: Mes | D35: 3 | E35: 1200000 | F35: =+E35*D35 -> 3600000
A36: 1.27 | B36: VALLA INFORMATIVA 2.0X2.0 MTS | C36: Und | D36: 1 | E36: 529816.94 | F36: =ROUND(D36*E36,0) -> 529817 | H36: =500000+H48 -> 499999.94
B37: SUB TOTAL OTROS GASTOS | F37: =SUM(F33:F36) -> 10129817
B38: GASTOS DE IMPUESTOS Y PUBLICACION | C38: PORCENTAJE | D38: VALOR
A39: 1.28 | B39: Estampilla Pro Cultura | C39: 0.015 | D39: =C39*'PRESUPUESTO OFICIAL (Entidad)'!K38 -> 11214717
A40: 1.29 | B40: Estampilla Adulto mayor | C40: 0.04 | D40: =C40*'PRESUPUESTO OFICIAL (Entidad)'!K38 -> 29905912
A41: 1.31 | B41: Estampilla Pro Deporte | C41: 0.02 | D41: =C41*'PRESUPUESTO OFICIAL (Entidad)'!K38 -> 14952956
A42: 1.33 | B42: IMPUESTO OBRA PUBLICA | C42: 0.05 | D42: =C42*'PRESUPUESTO OFICIAL (Entidad)'!K38 -> 37382390
B43: SUB TOTAL COSTOS DE IMPUESTOS Y PERFECCIONAMIENTO | D43: =SUM(D39:F42) -> 93455975
...

Sheet Cronograma
A1: CRONOGRAMA DE OBRAS Y FLUJO DE INVERSION PROGRAMADO
A3: =[34]DATOS!Q20 -> “MEJORAMIENTO DE VÍAS TERCIARIAS MEDIANTE LA CONSTRUCCION DE PLACA HUELLA EN SITIOS CRITICOS DEL MUNICIPIO PAICOL DEPARTAMENTO DEL HUILA"
A4: ALCALDIA MUNICIPAL
A5: PLAZO DE EJECUCION TOTAL | C5: TRES (03) MESES | J5: PLAZO DE EJECUCION FISICA DE OBRA: 07 MESES
A7: ITEM | B7: DESCRIPCION | C7: DURACION MESES | D7: MESES | AF7: VALOR TOTAL
D8: 1 | H8: 2 | L8: 3 | P8: 4 | T8: 5 | X8: 6 | AB8: 7
A9: PLACA HUELLA
A10: 1 | B10: PROCESO DE CONTRATACION | C10: 2
AF11: =SUM(D11:AE11) -> 0
A12: 2 | B12: ='[32]P. P.HUELLA (2)'!D10 -> PRELIMINARES | C12: 2
L13: ='[34]Presupuesto '!H10/1.3 -> 1681038.5 | AF13: =SUM(D13:AE13) -> 1681038.5
A14: 3 | B14: ='[32]P. P.HUELLA (2)'!D12 -> ESTRUCTURA DE PAVIMENTO PLACA HUELLA | C14: 9
P15: =('[34]Presupuesto '!H12)/1.3/2 -> 2.4267613e+08 | T15: =P15 -> 2.4267613e+08 | AF15: =SUM(D15:AE15) -> 4.8535226e+08
A16: 4 | B16: OBRAS DE DRENAJE Y COMPLEMENTARIAS: ALCANTARILLAS (6) | C16: 3
L17: =('[34]Presupuesto '!H19)/1.3 -> 81280532 | AF17: =SUM(D17:AE17) -> 81280532
A18: 5 | B18: LIQUIDACION FINANCIERA | C18: 2
A20: A.I.U 30%
D21: =SUM(D11:G19)*0.3 -> 0 | H21: =SUM(H11:K19)*0.3 -> 0 | L21: =SUM(L11:O19)*0.3 -> 24888471 | P21: =SUM(P11:S19)*0.3 -> 72802839 | T21: =SUM(T11:W19)*0.3 -> 72802839 | AF21: =ROUND(SUM(D21:AE21),0) -> 170494149
A22: IMPLEMENTACION DEL PAGA | D22: =(D11+D13+D15+D17+D19+D21)*0.02 -> 0 | H22: =(H11+H13+H15+H17+H19+H21)*0.02 -> 0 | L22: ='[34]Presupuesto '!H30/3 -> 1858607.3 | P22: =L22 -> 1858607.3 | T22: =P22 -> 1858607.3 | AF22: =ROUND(SUM(D22:AE22),0) -> 5575822
A23: IMPLEMENTACION DEL PMT | D23: =(D12+D14+D16+D18+D20+D22)*0.02 -> 0 | H23: =(H12+H14+H16+H18+H20+H22)*0.02 -> 0 | L23: ='[34]Presupuesto '!H31/3 -> 1088000 | P23: =L23 -> 1088000 | T23: =P23 -> 1088000 | AF23: =ROUND(SUM(D23:AE23),0) -> 3264000
A24: INVERSION MENSUAL PROGRAMADA | D24: =SUM(D10:G23) -> 0 | H24: =SUM(H10:K23) -> 0 | L24: =ROUND(SUM(L10:O23),0) -> 110796648 | P24: =SUM(P10:S23) -> 3.1842558e+08 | T24: =SUM(T10:W23) -> 3.1842558e+08 | AF24: =SUM(AF10:AF23,0) -> 7.476478e+08
A25: INVERSION MENSUAL PROGRAMADA ACUMULADA | D25: =+D24 -> 0 | H25: =+H24+D25 -> 0 | L25: =+L24+H25 -> 110796648 | P25: =+P24+L25 -> 4.2922222e+08 | T25: =+T24+P25 -> 7.476478e+08
A26: TOTALES
L27: 1 | P27: 2 | T27: 3 | AF27: TOTAL
A28: % Programado acumulado | L28: =+L25/AF24 -> 0.14819364 | P28: =+P25/AF24 -> 0.57409682 | T28: =+T25/AF24 -> 1
A29: elaboro
A31: Ing. PAULO CESAR ARRIETA RAMIREZ
A32: Apoyo Secretaria de Vias e Infraestructura - Gobernacion del Huila
C41: 0.17176983

Sheet acarreos
A3: OBJETO: “MEJORAMIENTO DE VÍAS TERCIARIAS MEDIANTE LA CONSTRUCCION DE PLACA HUELLA EN SITIOS CRITICOS DEL MUNICIPIO DE PAICOL DEPARTAMENTO DEL HUILA"
A4: CALCULO DE DISTANCIAS DE ACARREO DE MATERIAL DE SUB BASE, GRAVILLAS Y ARENAS
A5: SECRETARIA DE PLANEACION E INFRAESTRUCTURA
A6: PLANO DE REFERENCIA O ESQUEMA | B6: No. | C6: DESCRIPCION (VEREDA) | D6: Localizacion (Coordenadas) | E6: Long. Tramo (Km) | F6: Distancia hasta Plata de Mariales (KM) | H6: L x D | I6: Ponderacion Total (KM)
B7: A | C7: Municipio de Paicol (Planta Masseq) | I7: =SUM(H8:H14)/(E15) -> 19.588235
B8: 1 | C8: Vereda Peña Negra Tramo 1 | D8: 2°23'0.34"N 75°48'20.53"W | E8: 40 | F8: 23 | H8: =E8*F8 -> 920
B9: 2 | C9: Vereda Peña Negra Tramo 2 | D9: 2°22'54.51"N 75°48'23.42"W | E9: 40 | F9: 23 | H9: =E9*F9 -> 920
B10: 3 | C10: Vereda La Mesa (El Chaparro) | D10: 2°24'56.53"N 75°44'21.63"W | E10: 90 | F10: 18 | H10: =E10*F10 -> 1620
B11: 4 | C11: Vereda La Laja | D11: 2°23'55.55"N 75°45'21.69"W | E11: 80 | F11: 18 | H11: =E11*F11 -> 1440
B12: 5 | C12: Vereda Alto Granadillo | D12: 2°21'40.05"N 75°45'2.65"W | E12: 80 | F12: 23.6 | H12: =E12*F12 -> 1888
B13: 6 | C13: Vereda La Reforma | D13: 2°26'50.95"N 75°42'6.32"W | E13: 100 | F13: 16.9 | H13: =E13*F13 -> 1690
B14: 7 | C14: Vereda La Cumbre | D14: 2°23'16.60"N 75°47'16.20"W | E14: 80 | F14: 18.9 | H14: =E14*F14 -> 1512
C15: SUB TOTAL | E15: =SUM(E8:E14) -> 510
C16: PROMEDIO PONDERADO DEL MUNICIPIO EN KMS.
B17: *LAS DISTANCIAS FUERON TOMADAS UTILIZANDO LA HERRAMIENTA ARCGIS
A19: PABLO CESAR ARRIETA RAMIREZ
A20: Apoyo Tecnico Secretaria de Planeacion e Infraestructura
C23: =[140]DATOS!U61
C24: =[140]DATOS!U62

Sheet 1
A1: PROYECTO PLACA HUELLA MUNICIPIO DE PAICOL | C1: ANÁLISIS DE PRECIOS UNITARIOS
A2: ALCALDIA MUNICIPAL
A4: OBJETO: “MEJORAMIENTO DE VÍAS TERCIARIAS MEDIANTE LA CONSTRUCCION DE PLACA HUELLA EN SITIOS CRITICOS DEL MUNICIPIO PAICOL DEPARTAMENTO DEL HUILA" | D4: ITEM: LOCALIZACIÓN Y REPLANTEO. | I4: ITEM: LOCALIZACIÓN Y REPLANTEO.
C6: No. | D6: UNIDAD: | E6: m
C7: 1 | D7: ITEM DE PAGO: | E7: 1.1
A8: I. EQUIPO
A9: Descripción | C9: Tipo | D9: Tarifa/Hora | E9: Rendimiento | F9: Valor-Unit.
A10: HERRAMIENTA MENOR | E10: 0.1 | F10: 154.2
F13: Sub-Total | G13: 154
A14: II. MATERIALES
A15: Descripción | C15: Unidad | D15: Precio-Unit. | E15: Cantidad | F15: Valor-Unit.
A16: ALAMBRE NEGRO No. 18 | C16: Kg | D16: 7400 | E16: 0.01 | F16: 74
A17: DURMIENTE ORDINARIO 4*4 CM | C17: m | D17: 3000 | E17: 0.5 | F17: 1500
A18: PUNTILLA DE 1" | C18: lb | D18: 2600 | E18: 0.01 | F18: 26
F19: Sub-Total | G19: 1600
A20: III. TRANSPORTES
A21: Material | B21: Vol-peso ó Cant. | C21: Distancia | D21: Und.-Km | E21: Tarifa | F21: Valor-Unit.
C22: 0 | D22: 0 | F22: 0
F23: 0
F24: Sub-Total | G24: 0
A25: IV. MANO DE OBRA
A26: Trabajador | B26: Jornal | C26: Prestaciones | D26: Jornal Total | E26: Rendimiento | F26: Valor-Unit.
A27: CUADRILLA (2 obreros+1 oficial). | B27: 116698.92 | C27: 185 | D27: 215893 | E27: 140 | F27: 1542.0929 | H27: C21
F28: Sub-Total | G28: 1542
D30: Total Costo Directo | G30: 3296
D33: DESCRIPCION | F33: PORCENTAGE | G33: VR TOTAL
D34: ADMINISTRACION | F34: 0.23 | G34: 758.08
D35: IMPREVISTOS | F35: 0.02 | G35: 65.92
D36: UTILIDAD | F36: 0.05 | G36: 164.8
D37: PRECIO UNITARIO TOTAL APROXIMADO AL PESO | G37: 4285
A40: ELABORO: PABLO CESAR ARRIETA RAMIREZ
A41: Apoyo Secretaria de Planeacion e Infraestructura
A44: FECHA: Octubre de 2022

Sheet 2
A1: PROYECTO PLACA HUELLA MUNICIPIO DE PAICOL | C1: ANÁLISIS DE PRECIOS UNITARIOS
A2: ALCALDIA MUNICIPAL
A4: OBJETO: “MEJORAMIENTO DE VÍAS TERCIARIAS MEDIANTE LA CONSTRUCCION DE PLACA HUELLA EN SITIOS CRITICOS DEL MUNICIPIO PAICOL DEPARTAMENTO DEL HUILA" | D4: ITEM: EXCAVACIÓN MECÁNICA (EXPLANACIÓN). ESP. 210-13 INV. INCLUYE RETIRO DE MATERIAL PROVENIENTE DE LA EXCAVACIÓN A DISPOSICIÓN FINAL DEL MISMO. | I4: ITEM: EXCAVACIÓN MECÁNICA (EXPLANACIÓN). ESP. 210-13 INV. INCLUYE RETIRO DE MATERIAL PROVENIENTE DE LA EXCAVACIÓN A DISPOSICIÓN FINAL DEL MISMO.
C6: No. | D6: UNIDAD: | E6: m3
C7: 2 | D7: ITEM DE PAGO: | E7: 2.1
A8: I. EQUIPO
A9: Descripción | C9: Tipo | D9: Tarifa/Hora | E9: Rendimiento | F9: Valor-Unit.
A10: HERRAMIENTA MENOR | E10: 0.01 | F10: 8.566389
A11: Retroexcavadora sobre oruga, potencia 138 HP, balde de 1,5 m3. | D11: 168000 | E11: 35 | F11: 4800
F14: Sub-Total | G14: 4808.5664
A15: II. MATERIALES
A16: Descripción | C16: Unidad | D16: Precio-Unit. | E16: Cantidad | F16: Valor-Unit.
A17: Derechos de explotación y/o disposición de materiales | C17: M3 | D17: 6667 | E17: 1.3 | F17: 8667.1
F19: Sub-Total | G19: 8667.1
A20: III. TRANSPORTES
A21: Material | B21: Vol-peso ó Cant. | C21: Distancia | D21: Und.-Km | E21: Tarifa | F21: Valor-Unit.
A22: TRANSPORTE DE MATERIAL SOBRANTES PROVENIENTE DE LA EXCAVACIÓN | B22: 1.3 | C22: 20 | D22: 26 | E22: 1233.33 | F22: 32066.58
F24: Sub-Total | G24: 32066.58
A25: IV. MANO DE OBRA
A26: Trabajador | B26: Jornal | C26: Prestaciones | D26: Jornal Total | E26: Rendimiento | F26: Valor-Unit.
A27: CUADRILLA (1 obrero+1 oficial). | B27: 83348.65 | C27: 185 | D27: 154195 | E27: 180 | F27: 856.6389 | H27: C11
F28: Sub-Total | G28: 856.6389
D30: Total Costo Directo | G30: 46399
C33: DESCRIPCION | F33: PORCENTAGE | G33: VR TOTAL
C34: ADMINISTRACION | F34: 0.23 | G34: 10671.77
C35: IMPREVISTOS | F35: 0.02 | G35: 927.98
C36: UTILIDAD | F36: 0.05 | G36: 2319.95
C37: PRECIO UNITARIO TOTAL APROXIMADO AL PESO | G37: 60319
A40: ELABORO: PABLO CESAR ARRIETA RAMIREZ
A41: Apoyo Secretaria de Planeacion e Infraestructura
A44: FECHA: Octubre de 2022

Sheet 3
A1: PROYECTO PLACA HUELLA MUNICIPIO DE PAICOL | C1: ANÁLISIS DE PRECIOS UNITARIOS
A2: ALCALDIA MUNICIPAL
A4: OBJETO: “MEJORAMIENTO DE VÍAS TERCIARIAS MEDIANTE LA CONSTRUCCION DE PLACA HUELLA EN SITIOS CRITICOS DEL MUNICIPIO PAICOL DEPARTAMENTO DEL HUILA" | D4: ITEM: EXCAVACION MANUAL EN MATERIAL SECO (INCLUYE TRANSPORTE A SITIO AUTORIZADO.) | I4: ITEM: EXCAVACION MANUAL EN MATERIAL SECO (INCLUYE TRANSPORTE A SITIO AUTORIZADO.)
C6: No. | D6: UNIDAD: | E6: m3
C7: 3 | D7: ITEM DE PAGO: | E7: 2.2
A8: I. EQUIPO
A9: Descripción | C9: Tipo | D9: Tarifa/Hora | E9: Rendimiento | F9: Valor-Unit.
A10: HERRAMIENTA MENOR | E10: 0.1 | F10: 1199.4056
F14: Sub-Total | G14: 1199.4056
A15: II. MATERIALES
A16: Descripción | C16: Unidad | D16: Precio-Unit. | E16: Cantidad | F16: Valor-Unit.
A18: Derechos de explotación y/o disposición de materiales | C18: M3 | D18: 6667 | E18: 1.3 | F18: 8667.1
F21: Sub-Total | G21: 8667.1
A22: III. TRANSPORTES
A23: Material | B23: Vol-peso ó Cant. | C23: Distancia | D23: Und.-Km | E23: Tarifa | F23: Valor-Unit.
A24: TRANSPORTE DE MATERIAL SOBRANTES PROVENIENTE DE LA EXCAVACIÓN | B24: 1.3 | C24: 20 | D24: 26 | E24: 1233.33 | F24: 32066.58
F26: Sub-Total | G26: 32066.58
A27: IV. MANO DE OBRA
A28: Trabajador | B28: Jornal | C28: Prestaciones | D28: Jornal Total | E28: Rendimiento | F28: Valor-Unit.
A29: CUADRILLA (2 obreros+1 oficial). | B29: 116698.92 | C29: 185 | D29: 215893 | E29: 18 | F29: 11994.056 | H29: C21
F30: Sub-Total | G30: 11994.056
D32: Total Costo Directo | G32: 53927
C35: DESCRIPCION | F35: PORCENTAGE | G35: VR TOTAL
C36: ADMINISTRACION | F36: 0.23 | G36: 12403.21
C37: IMPREVISTOS | F37: 0.02 | G37: 1078.54
C38: UTILIDAD | F38: 0.05 | G38: 2696.35
C39: PRECIO UNITARIO TOTAL APROXIMADO AL PESO | G39: 70105
A42: ELABORO: PABLO CESAR ARRIETA RAMIREZ
A43: Apoyo Secretaria de Planeacion e Infraestructura
A46: FECHA: Octubre de 2022

Sheet 4
A1: PROYECTO PLACA HUELLA MUNICIPIO DE PAICOL | C1: ANÁLISIS DE PRECIOS UNITARIOS
A2: ALCALDIA MUNICIPAL
A4: OBJETO: “MEJORAMIENTO DE VÍAS TERCIARIAS MEDIANTE LA CONSTRUCCION DE PLACA HUELLA EN SITIOS CRITICOS DEL MUNICIPIO PAICOL DEPARTAMENTO DEL HUILA" | D4: ITEM: SUMINISTRO, INSTALACION, EXTENDIDA, NIVELACION, HUMEDECIMIENTO O AIREACION Y COMPACTACION DE SUBBASE GRANULAR CBR ≥ 40%. ESP. 320-13 INV. | J4: ITEM: SUMINISTRO, INSTALACION, EXTENDIDA, NIVELACION, HUMEDECIMIENTO O AIREACION Y COMPACTACION DE SUBBASE GRANULAR CBR ≥ 40%. ESP. 320-13 INV.
C6: No. | D6: UNIDAD: | E6: m3
C7: 4 | D7: ITEM DE PAGO: | E7: 2.3
A8: I. EQUIPO
A9: Descripción | C9: Tipo | D9: Tarifa/Hora | E9: Rendimiento | F9: Valor-Unit.
A10: Motoniveladora potencia 215 HP, ancho de cuchilla 4,27 m, peso 18 ton. | D10: 166000 | E10: 45 | F10: 3688.8889
A11: Vibrocompatador, potencia 153 HP, peso 10 Ton. | D11: 121000 | E11: 45 | F11: 2688.8889
A12: Carrotanque de agua(1000 Galones) | D12: 116000 | E12: 45 | F12: 2577.7778
A13: HERRAMIENTA MENOR | E13: 0.01 | F13: 6.1683715
F14: Sub-Total | G14: 8961.7239
A15: II. MATERIALES
A16: Descripción | C16: Unidad | D16: Precio-Unit. | E16: Cantidad | F16: Valor-Unit.
A17: SUB-BASE GRANULAR CBR 40%-ESP. 320-13. INVIAS. | C17: M3 | D17: 65000 | E17: 1.3 | F17: 84500
A18: AGUA | C18: Lt | D18: 40 | E18: 24 | F18: 960
F19: Sub-Total | G19: 85460
A20: III. TRANSPORTES
A21: Material | B21: Vol-peso ó Cant. | C21: Distancia | D21: Und.-Km | E21: Tarifa | F21: Valor-Unit.
A22: TRANSPORTE MATERIAL PETREO. | B22: 1.3 | C22: 20 | D22: 26 | E22: 1233.33 | F22: 32066.58
F23: 0
F24: Sub-Total | G24: 32066.58
A25: IV. MANO DE OBRA
A26: Trabajador | B26: Jornal | C26: Prestaciones | D26: Jornal Total | E26: Rendimiento | F26: Valor-Unit.
A27: CUADRILLA (2 obreros+1 oficial). | B27: 116698.92 | C27: 185 | D27: 215893 | E27: 350 | F27: 616.83715 | H27: C21
F28: Sub-Total | G28: 616.83715
D30: Total Costo Directo | G30: 127105 | I30: 11439450
C33: DESCRIPCION | F33: PORCENTAGE | G33: VR TOTAL
C34: ADMINISTRACION | F34: 0.23 | G34: 29234.15
C35: IMPREVISTOS | F35: 0.02 | G35: 2542.1
C36: UTILIDAD | F36: 0.05 | G36: 6355.25
C37: PRECIO UNITARIO TOTAL APROXIMADO AL PESO | G37: 165237
A40: ELABORO: PABLO CESAR ARRIETA RAMIREZ
A41: Apoyo Secretaria de Planeacion e Infraestructura
A44: FECHA: Octubre de 2022

Sheet 5
A1: PROYECTO PLACA HUELLA MUNICIPIO DE PAICOL | C1: ANÁLISIS DE PRECIOS UNITARIOS
A2: ALCALDIA MUNICIPAL
A4: OBJETO: “MEJORAMIENTO DE VÍAS TERCIARIAS MEDIANTE LA CONSTRUCCION DE PLACA HUELLA EN SITIOS CRITICOS DEL MUNICIPIO PAICOL DEPARTAMENTO DEL HUILA" | D4: ITEM: ACERO DE REFUERZO 4.200 KG/CM² (60.000 PSI) ESP.640-13 INV. PARA PLACAS, RIOSTRAS, CUNETAS, BORDILLOS Y DENTELLONES | I4: ITEM: ACERO DE REFUERZO 4.200 KG/CM² (60.000 PSI) ESP.640-13 INV. PARA PLACAS, RIOSTRAS, CUNETAS, BORDILLOS Y DENTELLONES
C6: No. | D6: UNIDAD: | E6: kg
C7: 5 | D7: ITEM DE PAGO: | E7: 2.4
A8: I. EQUIPO
A9: Descripción | C9: Tipo | D9: Tarifa/Hora | E9: Rendimiento | F9: Valor-Unit.
A10: HERRAMIENTA MENOR | E10: 0.05 | F10: 43.1786
F11: Sub-Total | G11: 43.1786
A12: II. MATERIALES
A13: Descripción | C13: Unidad | D13: Precio-Unit. | E13: Cantidad | F13: Valor-Unit.
A14: ACERO DE REFUERZO | C14: KG | D14: 6000 | E14: 1.05 | F14: 6300
A15: ALAMBRE NEGRO No. 18 | C15: Kg | D15: 7400 | E15: 0.0105 | F15: 77.7
F16: Sub-Total | G16: 6377.7
A17: III. TRANSPORTES
A18: Material | B18: Vol-peso ó Cant. | C18: Distancia | D18: Und.-Km | E18: Tarifa | F18: Valor-Unit.
A19: Transporte del acero desde el casco urbano | B19: 1.05 | C19: 9 | D19: 9.45 | E19: 3.9 | F19: 36.855
F20: 0
F21: Sub-Total | G21: 36.855 | K21: 6
A22: IV. MANO DE OBRA
A23: Trabajador | B23: Jornal | C23: Prestaciones | D23: Jornal Total | E23: Rendimiento | F23: Valor-Unit.
A24: CUADRILLA (2 obreros+1 oficial). | B24: 116698.92 | C24: 185 | D24: 215893 | E24: 250 | F24: 863.57201 | H24: C21
F25: Sub-Total | G25: 863.57201
D27: Total Costo Directo | G27: 7321
C30: DESCRIPCION | F30: PORCENTAGE | G30: VR TOTAL
C31: ADMINISTRACION | F31: 0.23 | G31: 1683.83
C32: IMPREVISTOS | F32: 0.02 | G32: 146.42 | I32: Diametro | J32: Long barra | K32: Peso por barra | L32: total | M32: precio kg
C33: UTILIDAD | F33: 0.05 | G33: 366.05 | I33: 1/2" | J33: 6 | K33: 1 | L33: 6 | M33: 5333.3333
C34: PRECIO UNITARIO TOTAL APROXIMADO AL PESO | G34: 9517 | I34: 3/8" | J34: 6 | K34: 0.56 | L34: 3.36 | M34: 5505.9524
I35: 5/8" | J35: 6 | K35: 1.55 | L35: 9.3 | M35: 5505.3763
L36: promedio | M36: 5448.2207
A37: ELABORO: PABLO CESAR ARRIETA RAMIREZ
A38: Apoyo Secretaria de Planeacion e Infraestructura
A41: FECHA: Octubre de 2022

Sheet 6
A1: PROYECTO PLACA HUELLA MUNICIPIO DE PAICOL | C1: ANÁLISIS DE PRECIOS UNITARIOS
A2: ALCALDIA MUNICIPAL
A4: OBJETO: “MEJORAMIENTO DE VÍAS TERCIARIAS MEDIANTE LA CONSTRUCCION DE PLACA HUELLA EN SITIOS CRITICOS DEL MUNICIPIO PAICOL DEPARTAMENTO DEL HUILA" | D4: ITEM: SUMINISTRO E INSTALACIÓN DE CONCRETO NORMAL CLASE D - (F´C=210 KGF/CM2) O (3.000 PSI) PARA DENTELLONES- PLACAS - RIOSTRAS - CUNETAS - BORDILLO. | I4: ITEM: SUMINISTRO E INSTALACIÓN DE CONCRETO NORMAL CLASE D - (F´C=210 KGF/CM2) O (3.000 PSI) PARA DENTELLONES- PLACAS - RIOSTRAS - CUNETAS - BORDILLO.
C6: No. | D6: UNIDAD: | E6: m3
C7: 6 | D7: ITEM DE PAGO: | E7: 2.5
A8: I. EQUIPO
A9: Descripción | C9: Tipo | D9: Tarifa/Hora | E9: Rendimiento | F9: Valor-Unit.
A10: HERRAMIENTA MENOR | E10: 0.05 | F10: 1982.7929
A11: Vibrador de concreto, Motor de 3 hp a 18.000 rpm Mangueras de 4 mt | D11: 6000 | E11: 3 | F11: 2000
F12: Sub-Total | G12: 3982.7929
A13: II. MATERIALES
A14: Descripción | C14: Unidad | D14: Precio-Unit. | E14: Cantidad | F14: Valor-Unit.
A15: SUBPRODUCTO: CONCRETO NORMAL CLASE D- (F´C=210 KGF/CM2). | C15: M3 | D15: 470414 | E15: 1.05 | F15: 493934.7
A16: Antisol Blanco | C16: Kg | D16: 7000 | E16: 1.3 | F16: 9100
A17: Formaleta (gaviones, juntas de bordillos, juntas de cunetas, muros, concretos clase D,E, F y G) | C17: m2 | D17: 4722.55 | E17: 4.6 | F17: 21723.73
F21: Sub-Total | G21: 524758.43 | I21: 52475.843
A22: III. TRANSPORTES
A23: Material | B23: Vol-peso ó Cant. | C23: Distancia | D23: Und.-Km | E23: Tarifa | F23: Valor-Unit.
A24: TRANSPORTE MATERIAL PETREO. | B24: 1.5 | C24: 20 | D24: 30 | E24: 1233.33 | F24: 36999.9
F25: 0
F26: Sub-Total | G26: 36999.9
A27: IV. MANO DE OBRA
A28: Trabajador | B28: Jornal | C28: Prestaciones | D28: Jornal Total | E28: Rendimiento | F28: Valor-Unit.
A29: CUADRILLA (3 obreros+1 oficial). | B29: 150049.19 | C29: 185 | D29: 277591 | E29: 7 | F29: 39655.858 | H29: C31
F30: Sub-Total | G30: 39655.858
D32: Total Costo Directo | G32: 605397
C35: DESCRIPCION | F35: PORCENTAGE | G35: VR TOTAL
C36: ADMINISTRACION | F36: 0.23 | G36: 139241.31
C37: IMPREVISTOS | F37: 0.02 | G37: 12107.94
C38: UTILIDAD | F38: 0.05 | G38: 30269.85
C39: PRECIO UNITARIO TOTAL APROXIMADO AL PESO | G39: 787016
A42: ELABORO: PABLO CESAR ARRIETA RAMIREZ
A43: Apoyo Secretaria de Planeacion e Infraestructura
A46: FECHA: Octubre de 2022

Sheet 7
A1: PROYECTO PLACA HUELLA MUNICIPIO DE PAICOL | C1: ANÁLISIS DE PRECIOS UNITARIOS
A2: ALCALDIA MUNICIPAL
A4: OBJETO: “MEJORAMIENTO DE VÍAS TERCIARIAS MEDIANTE LA CONSTRUCCION DE PLACA HUELLA EN SITIOS CRITICOS DEL MUNICIPIO PAICOL DEPARTAMENTO DEL HUILA" | D4: ITEM: SUMINISTRO E INSTALACIÓN DE CONCRETO CICLÓPEO DE 210 KG/CM² (3.000 PSI) ESPESOR 0,15 M.60% CONCRETO NORMAL DE 210 KG/CM² (3.000 PSI) , 40% PIEDRA ESP. 630-13 INV. PARA HUELLAS. | I4: ITEM: SUMINISTRO E INSTALACIÓN DE CONCRETO CICLÓPEO DE 210 KG/CM² (3.000 PSI) ESPESOR 0,15 M.60% CONCRETO NORMAL DE 210 KG/CM² (3.000 PSI) , 40% PIEDRA ESP. 630-13 INV.
C6: No. | D6: UNIDAD: | E6: m3
C7: 7 | D7: ITEM DE PAGO: | E7: 2.6
A8: I. EQUIPO
A9: Descripción | C9: Tipo | D9: Tarifa/Hora | E9: Rendimiento | F9: Valor-Unit.
A10: HERRAMIENTA MENOR | E10: 0.1 | F10: 3965.5858
F12: Sub-Total | G12: 3965.5858
A13: II. MATERIALES
A14: Descripción | C14: Unidad | D14: Precio-Unit. | E14: Cantidad | F14: Valor-Unit.
A15: SUBPRODUCTO: CONCRETO NORMAL CLASE D- (F´C=210 KGF/CM2). | C15: M3 | D15: 470414 | E15: 0.6 | F15: 282248.4
A16: PIEDRA ZONGA Y/O MEDIA ZONGA (6-10)PULG. | C16: M3 | D16: 80000 | E16: 0.4 | F16: 32000
A17: Formaleta (gaviones, juntas de bordillos, juntas de cunetas, muros, concretos clase D,E, F y G) | C17: m2 | D17: 4722.55 | E17: 2 | F17: 9445.1
A18: Agua para curado | C18: Kg | D18: 40 | E18: 100 | F18: 4000
F19: Sub-Total | G19: 327693.5
A20: III. TRANSPORTES
A21: Material | B21: Vol-peso ó Cant. | C21: Distancia | D21: Und.-Km | E21: Tarifa | F21: Valor-Unit.
A22: TRANSPORTE MATERIAL PIEDRA ZONGA Y/O MEDIA ZONGA. | B22: 0.4 | C22: 20 | D22: 8 | E22: 1233.33 | F22: 9866.64
A23: TRANSPORTE MATERIAL PETREO. | B23: 0.9 | C23: 20 | D23: 18 | E23: 1233.33 | F23: 22199.94
F24: Sub-Total | G24: 32066.58
A25: IV. MANO DE OBRA
A26: Trabajador | B26: Jornal | C26: Prestaciones | D26: Jornal Total | E26: Rendimiento | F26: Valor-Unit.
A27: CUADRILLA (3 obreros+1 oficial). | B27: 150049.19 | C27: 185 | D27: 277591 | E27: 7 | F27: 39655.858 | H27: C31
F28: Sub-Total | G28: 39655.858
D30: Total Costo Directo | G30: 403382
C33: DESCRIPCION | F33: PORCENTAGE | G33: VR TOTAL
C34: ADMINISTRACION | F34: 0.23 | G34: 92777.86
C35: IMPREVISTOS | F35: 0.02 | G35: 8067.64
C36: UTILIDAD | F36: 0.05 | G36: 20169.1
C37: PRECIO UNITARIO TOTAL APROXIMADO AL PESO | G37: 524397
A40: ELABORO: PABLO CESAR ARRIETA RAMIREZ
A41: Apoyo Secretaria de Planeacion e Infraestructura
A44: FECHA: Octubre de 2022

Sheet 8
A1: PROYECTO PLACA HUELLA MUNICIPIO DE PAICOL | C1: ANÁLISIS DE PRECIOS UNITARIOS
A2: ALCALDIA MUNICIPAL
A4: OBJETO: “MEJORAMIENTO DE VÍAS TERCIARIAS MEDIANTE LA CONSTRUCCION DE PLACA HUELLA EN SITIOS CRITICOS DEL MUNICIPIO PAICOL DEPARTAMENTO DEL HUILA" | D4: ITEM: SUMINISTRO E INSTALACIÓN DE SOLADO DE LIMPIEZA EN CONCRETO NORMAL CLASE F- (F´C=140 KGF/CM2). PARA OBRAS DE ARTE. | I4: ITEM: SUMINISTRO E INSTALACIÓN DE SOLADO DE LIMPIEZA EN CONCRETO NORMAL CLASE F- (F´C=140 KGF/CM2).
C6: No. | D6: UNIDAD: | E6: m3
C7: 8 | D7: ITEM DE PAGO: | E7: 3.1
A8: I. EQUIPO
A9: Descripción | C9: Tipo | D9: Tarifa/Hora | E9: Rendimiento | F9: Valor-Unit.
A10: HERRAMINETA MENOR(%) | E10: 0.1 | F10: 3469.8875
F12: Sub-Total | G12: 3469.8875 | I12: 20
A13: II. MATERIALES
A14: Descripción | C14: Unidad | D14: Precio-Unit. | E14: Cantidad | F14: Valor-Unit.
A15: subproducto: concreto normal clase f- (f´c=140 kgf/cm2). | C15: M3 | D15: 376910 | E15: 1.05 | F15: 395755.5 | I15: ,48 m3 de concret
A16: agua curado | C16: LITRO | D16: 40 | E16: 50 | F16: 2000 | I16: 0.192
J17: 1 | K17: litro | L17: 0.001 | M17: m3
F18: Sub-Total | G18: 397755.5 | J18: 192 | L18: 0.192
A19: III. TRANSPORTES
A20: Material | B20: Vol-peso ó Cant. | C20: Distancia | D20: Und.-Km | E20: Tarifa | F20: Valor-Unit.
A21: TRANSPORTE MATERIAL PETREO. | B21: 1.47 | C21: 20 | D21: 29.4 | E21: 1233.33 | F21: 36259.902
F22: 0
F23: Sub-Total | G23: 36259.902
A24: IV. MANO DE OBRA
A25: Trabajador | B25: Jornal | C25: Prestaciones | D25: Jornal Total | E25: Rendimiento | F25: Valor-Unit.
A26: CUADRILLA (3 obreros+1 oficial). | B26: 150049.19 | C26: 185 | D26: 277591 | E26: 8 | F26: 34698.875 | H26: C31 | I26: 600
F27: Sub-Total | G27: 34698.875
D29: Total Costo Directo | G29: 472184
C32: DESCRIPCION | F32: PORCENTAGE | G32: VR TOTAL
C33: ADMINISTRACION | F33: 0.23 | G33: 108602.32
C34: IMPREVISTOS | F34: 0.02 | G34: 9443.68
C35: UTILIDAD | F35: 0.05 | G35: 23609.2
C36: PRECIO UNITARIO TOTAL APROXIMADO AL PESO | G36: 613839
A39: ELABORO: PABLO CESAR ARRIETA RAMIREZ
A40: Apoyo Secretaria de Planeacion e Infraestructura
A43: FECHA: Octubre de 2022

Sheet 9
A1: PROYECTO PLACA HUELLA MUNICIPIO DE PAICOL | C1: ANÁLISIS DE PRECIOS UNITARIOS
A2: ALCALDIA MUNICIPAL
A4: OBJETO: “MEJORAMIENTO DE VÍAS TERCIARIAS MEDIANTE LA CONSTRUCCION DE PLACA HUELLA EN SITIOS CRITICOS DEL MUNICIPIO PAICOL DEPARTAMENTO DEL HUILA" | D4: ITEM: SUMINISTRO E INSTALACIÓN DE CONCRETO NORMAL CLASE D- (F´C=210 KGF/CM2). PARA CONSTRUCCION DE ENCOLES, DESCOLES Y PLACAS DE SOBREPISO DE ALCANTARILLAS. | I4: ITEM: SUMINISTRO E INSTALACIÓN DE CONCRETO NORMAL CLASE D- (F´C=210 KGF/CM2). PARA CONSTRUCCION DE ENCOLES, DESCOLES Y PLACAS DE SOBREPISO DE ALCANTARILLAS.
C6: No. | D6: UNIDAD: | E6: m3
C7: 9 | D7: ITEM DE PAGO: | E7: 3.2
A8: I. EQUIPO
A9: Descripción | C9: Tipo | D9: Tarifa/Hora | E9: Rendimiento | F9: Valor-Unit.
A10: HERRAMIENTA MENOR | E10: 0.05 | F10: 1982.7929
A11: Vibrador de concreto, Motor de 3 hp a 18.000 rpm Mangueras de 4 mt | D11: 6000 | E11: 3 | F11: 2000
F12: Sub-Total | G12: 3982.7929
A13: II. MATERIALES
A14: Descripción | C14: Unidad | D14: Precio-Unit. | E14: Cantidad | F14: Valor-Unit.
A15: SUBPRODUCTO: CONCRETO NORMAL CLASE D- (F´C=210 KGF/CM2). | C15: M3 | D15: 470414 | E15: 1.05 | F15: 493934.7
A16: Antisol Blanco | C16: Kg | D16: 7000 | E16: 1.3 | F16: 9100
A17: Formaleta (gaviones, juntas de bordillos, juntas de cunetas, muros, concretos clase D,E, F y G) | C17: m2 | D17: 4722.55 | E17: 4.6 | F17: 21723.73
F21: Sub-Total | G21: 524758.43 | I21: 52475.843
A22: III. TRANSPORTES
A23: Material | B23: Vol-peso ó Cant. | C23: Distancia | D23: Und.-Km | E23: Tarifa | F23: Valor-Unit.
A24: TRANSPORTE MATERIAL PETREO. | B24: 1.5 | C24: 20 | D24: 30 | E24: 1233.33 | F24: 36999.9
F26: Sub-Total | G26: 36999.9
A27: IV. MANO DE OBRA
A28: Trabajador | B28: Jornal | C28: Prestaciones | D28: Jornal Total | E28: Rendimiento | F28: Valor-Unit.
A29: CUADRILLA (3 obreros+1 oficial). | B29: 150049.19 | C29: 185 | D29: 277591 | E29: 7 | F29: 39655.858 | H29: C31
F30: Sub-Total | G30: 39655.858
D32: Total Costo Directo | G32: 605397
C35: DESCRIPCION | F35: PORCENTAGE | G35: VR TOTAL
C36: ADMINISTRACION | F36: 0.23 | G36: 139241.31
C37: IMPREVISTOS | F37: 0.02 | G37: 12107.94
C38: UTILIDAD | F38: 0.05 | G38: 30269.85
C39: PRECIO UNITARIO TOTAL APROXIMADO AL PESO | G39: 787016
A42: ELABORO: PABLO CESAR ARRIETA RAMIREZ
A43: Apoyo Secretaria de Planeacion e Infraestructura
A46: FECHA: Octubre de 2022

Sheet 10
A1: PROYECTO PLACA HUELLA MUNICIPIO DE PAICOL | C1: ANÁLISIS DE PRECIOS UNITARIOS
A2: ALCALDIA MUNICIPAL
A4: OBJETO: “MEJORAMIENTO DE VÍAS TERCIARIAS MEDIANTE LA CONSTRUCCION DE PLACA HUELLA EN SITIOS CRITICOS DEL MUNICIPIO PAICOL DEPARTAMENTO DEL HUILA" | D4: ITEM: SUMINISTRO E INTALACION DE TUBERIA EN CONCRETO F=36", L=1M. ESP. 661-13 INV. | I4: ITEM: SUMINISTRO E INTALACION DE TUBERIA EN CONCRETO F=36", L=1M. ESP. 661-13 INV.
C6: No. | D6: UNIDAD: | E6: m
C7: 10 | D7: ITEM DE PAGO: | E7: 3.3
A8: I. EQUIPO
A9: Descripción | C9: Tipo | D9: Tarifa/Hora | E9: Rendimiento | F9: Valor-Unit.
A10: HERRAMIENTA MENOR | E10: 0.1 | F10: 1156.6292
A11: RETROEXCAVADORA DE LLANTAS | D11: 113000 | E11: 3 | F11: 37666.667
F13: Sub-Total | G13: 38823.296
A14: II. MATERIALES
A15: Descripción | C15: Unidad | D15: Precio-Unit. | E15: Cantidad | F15: Valor-Unit.
A16: TUBO EN CONCRETO REFORZADO 36" EN CONCRETO F'c=28 Mpa. Especificación AASHTO M-170M y NTC 401. | C16: ML | D16: 280000 | E16: 1 | F16: 280000
A17: SUBPRODUCTO: CONCRETO NORMAL CLASE F - ( F'C=140 KGF/CM2). PARA ATRAQUE. | C17: M3 | D17: 376910 | E17: 0.06 | F17: 22614.6
A18: SUBPRODUCTO : MORTERO RELACION 1:3.PARA JUNTAS. | C18: M3 | D18: 449068 | E18: 0.06 | F18: 26944.08
F19: Sub-Total | G19: 329558.68
A20: III. TRANSPORTES
A21: Material | B21: Vol-peso ó Cant. | C21: Distancia | D21: Und.-Km | E21: Tarifa | F21: Valor-Unit.
A22: Transporte de tubo | B22: 825 | C22: 9 | D22: 7425 | E22: 3.9 | F22: 28957.5 | I22: =B22*C22*E22 -> 28957.5
A23: TRANSPORTE MATERIAL PETREO. | B23: 0.12 | C23: =KMATERIAL -> 20 | D23: 8.1384 | E23: 1233.33 | F23: 10037.333
F24: Sub-Total | G24: 38994.833 | I24: 10037.333
A25: IV. MANO DE OBRA
A26: Trabajador | B26: Jornal | C26: Prestaciones | D26: Jornal Total | E26: Rendimiento | F26: Valor-Unit.
A27: CUADRILLA (3 obreros+1 oficial). | B27: 150049.19 | C27: 185 | D27: 277591 | E27: 24 | F27: 11566.292 | H27: C31
F28: Sub-Total | G28: 11566.292
D30: Total Costo Directo | G30: 418943
C33: DESCRIPCION | F33: PORCENTAGE | G33: VR TOTAL
C34: ADMINISTRACION | F34: 0.23 | G34: 96356.89
C35: IMPREVISTOS | F35: 0.02 | G35: 8378.86
C36: UTILIDAD | F36: 0.05 | G36: 20947.15
C37: PRECIO UNITARIO TOTAL APROXIMADO AL PESO | G37: 544626 | I37: 544626
A40: ELABORO: PABLO CESAR ARRIETA RAMIREZ
A41: Apoyo Secretaria de Planeacion e Infraestructura
A44: FECHA: Octubre de 2022

Sheet 11
A1: PROYECTO PLACA HUELLA MUNICIPIO DE PAICOL | C1: ANÁLISIS DE PRECIOS UNITARIOS
A2: ALCALDIA MUNICIPAL
A4: OBJETO: “MEJORAMIENTO DE VÍAS TERCIARIAS MEDIANTE LA CONSTRUCCION DE PLACA HUELLA EN SITIOS CRITICOS DEL MUNICIPIO PAICOL DEPARTAMENTO DEL HUILA" | D4: ITEM: ACERO DE REFUERZO 4.200 KG/CM² (60.000 PSI) ESP.640-13 INV. PARA ALCANTARILLA, BOX, MUROS. | I4: ITEM: ACERO DE REFUERZO 4.200 KG/CM² (60.000 PSI) ESP.640-13 INV. PARA ALCANTARILLA, BOX, MUROS.
C6: No. | D6: UNIDAD: | E6: Kg
C7: 11 | D7: ITEM DE PAGO: | E7: 3.4
A8: I. EQUIPO
A9: Descripción | C9: Tipo | D9: Tarifa/Hora | E9: Rendimiento | F9: Valor-Unit.
A10: HERRAMIENTA MENOR | E10: 0.05 | F10: 43.1786
F11: Sub-Total | G11: 43.1786
A12: II. MATERIALES
A13: Descripción | C13: Unidad | D13: Precio-Unit. | E13: Cantidad | F13: Valor-Unit.
A14: ACERO DE REFUERZO | C14: KG | D14: 6000 | E14: 1.05 | F14: 6300
A15: ALAMBRE NEGRO No. 18 | C15: Kg | D15: 7400 | E15: 0.0105 | F15: 77.7
F16: Sub-Total | G16: 6377.7
A17: III. TRANSPORTES
A18: Material | B18: Vol-peso ó Cant. | C18: Distancia | D18: Und.-Km | E18: Tarifa | F18: Valor-Unit.
A19: Transporte del acero desde el casco urbano | B19: 1.05 | C19: 9 | D19: 9.45 | E19: 3.9 | F19: 36.855
F20: 0
F21: Sub-Total | G21: 36.855
A22: IV. MANO DE OBRA
A23: Trabajador | B23: Jornal | C23: Prestaciones | D23: Jornal Total | E23: Rendimiento | F23: Valor-Unit.
A24: CUADRILLA (2 obreros+1 oficial). | B24: 116698.92 | C24: 185 | D24: 215893 | E24: 250 | F24: 863.57201 | H24: C21
F25: Sub-Total | G25: 863.57201
D27: Total Costo Directo | G27: 7321
C30: DESCRIPCION | F30: PORCENTAGE | G30: VR TOTAL
C31: ADMINISTRACION | F31: 0.23 | G31: 1683.83
C32: IMPREVISTOS | F32: 0.02 | G32: 146.42
C33: UTILIDAD | F33: 0.05 | G33: 366.05
C34: PRECIO UNITARIO TOTAL APROXIMADO AL PESO | G34: 9517
A37: ELABORO: PABLO CESAR ARRIETA RAMIREZ
A38: Apoyo Secretaria de Planeacion e Infraestructura
A41: FECHA: Octubre de 2022

Sheet 12
A1: PROYECTO PLACA HUELLA MUNICIPIO DE PAICOL | C1: ANÁLISIS DE PRECIOS UNITARIOS
A2: ALCALDIA MUNICIPAL
A4: OBJETO: “MEJORAMIENTO DE VÍAS TERCIARIAS MEDIANTE LA CONSTRUCCION DE PLACA HUELLA EN SITIOS CRITICOS DEL MUNICIPIO PAICOL DEPARTAMENTO DEL HUILA" | D4: ITEM: SUMINISTRO E INSTALACION MATERIAL GRANULAR FILTRANTE. ESP. 673-13 INV. | I4: ITEM: SUMINISTRO E INSTALACION MATERIAL GRANULAR FILTRANTE. ESP. 673-13 INV.
C6: No. | D6: UNIDAD: | E6: m3
C7: 12 | D7: ITEM DE PAGO: | E7: 3.5
A8: I. EQUIPO
A9: Descripción | C9: Tipo | D9: Tarifa/Hora | E9: Rendimiento | F9: Valor-Unit.
A10: HERRAMIENTA MENOR | E10: 0.1 | F10: 555.18201
F12: Sub-Total | G12: 555.18201
A13: II. MATERIALES | J13: A | K13: H | L13: L | M13: M3
A14: Descripción | C14: Unidad | D14: Precio-Unit. | E14: Cantidad | F14: Valor-Unit. | J14: 0.4 | K14: 0.6 | L14: 4 | M14: 0.96
A15: GEOTEXTIL N.T. 2500 Ó SIMILAR.ESP. 673-13 INV. | C15: M2 | D15: 5100 | E15: 8 | F15: 40800
A16: TUBERIA PERFORADA 4" | C16: m | D16: 2174.4203 | E16: 4 | F16: 8697.681 | K16: 2 | L16: 8
A17: MATERIAL GRANULAR DRENANTE ENTRE 3" Y 3/4" | C17: M3 | D17: 75000 | E17: 1 | F17: 75000
F18: Sub-Total | G18: 124497.68
A19: III. TRANSPORTES
A20: Material | B20: Vol-peso ó Cant. | C20: Distancia | D20: Und.-Km | E20: Tarifa | F20: Valor-Unit.
A21: TRANSPORTE MATERIAL GRANULAR | B21: 1 | C21: 20 | D21: 20 | E21: 1233.33 | F21: 24666.6
F22: 0
F23: Sub-Total | G23: 24666.6 | I23: QUEDO CON EL TRANSPORTE
A24: IV. MANO DE OBRA
A25: Trabajador | B25: Jornal | C25: Prestaciones | D25: Jornal Total | E25: Rendimiento | F25: Valor-Unit.
A26: CUADRILLA (3 obreros+1 oficial). | B26: 150049.19 | C26: 185 | D26: 277591 | E26: 50 | F26: 5551.8201 | H26: C31
F27: Sub-Total | G27: 5551.8201
J28: 16034
D29: Total Costo Directo | G29: 155271 | I29: 160924 | J29: 5653
C32: DESCRIPCION | F32: PORCENTAGE | G32: VR TOTAL
C33: ADMINISTRACION | F33: 0.23 | G33: 35712.33
C34: IMPREVISTOS | F34: 0.02 | G34: 3105.42
C35: UTILIDAD | F35: 0.05 | G35: 7763.55
C36: PRECIO UNITARIO TOTAL APROXIMADO AL PESO | G36: 201852
A39: ELABORO: PABLO CESAR ARRIETA RAMIREZ
A40: Apoyo Secretaria de Planeacion e Infraestructura
A43: FECHA: Octubre de 2022

Sheet 13
A1: PROYECTO PLACA HUELLA MUNICIPIO DE PAICOL | C1: ANÁLISIS DE PRECIOS UNITARIOS
A2: ALCALDIA MUNICIPAL
A4: OBJETO: “MEJORAMIENTO DE VÍAS TERCIARIAS MEDIANTE LA CONSTRUCCION DE PLACA HUELLA EN SITIOS CRITICOS DEL MUNICIPIO PAICOL DEPARTAMENTO DEL HUILA" | D4: ITEM: TERRAPLEN / MEJORAMIENTO CONFORMADO CON MATERIAL SELECCIONADO. ESP. 220.1-13 INV. | I4: ITEM: RELLENOS CONFORMADO CON MATERIAL SELECCIONADO. ESP. 220.1-13 INV.
C6: No. | D6: UNIDAD: | E6: m3
C7: 13 | D7: ITEM DE PAGO: | E7: 3.6
A8: I. EQUIPO
A9: Descripción | C9: Tipo | D9: Tarifa/Hora | E9: Rendimiento | F9: Valor-Unit.
A10: HERRAMIENTA MENOR | E10: 0.05 | F10: 107.9465
A11: Vibrocompatador, potencia 153 HP, peso 10 Ton. | D11: 121000 | E11: 50 | F11: 2420 | J11: 121975 | K11: 50 | M11: 2439.5
A12: Motoniveladora potencia 215 HP, ancho de cuchilla 4,27 m, peso 18 ton. | D12: 166000 | E12: 50 | F12: 3320
A13: Carrotanque de agua(1000 Galones) | D13: 116000 | E13: 50 | F13: 2320
F14: Sub-Total | G14: 8167.9465
A15: II. MATERIALES
A16: Descripción | C16: Unidad | D16: Precio-Unit. | E16: Cantidad | F16: Valor-Unit.
A17: MATERIAL GRANULAR CLASIFICADO COMO SELECCIONADO. ESP. 220-13 INV. | C17: M3 | D17: 29750 | E17: 1.3 | F17: 38675
A18: Agua | C18: Lt | D18: 40 | E18: 25 | F18: 1000
F23: Sub-Total | G23: 39675
A24: III. TRANSPORTES
A25: Material | B25: Vol-peso ó Cant. | C25: Distancia | D25: Und.-Km | E25: Tarifa | F25: Valor-Unit.
A26: TRANSPORTE MATERIAL PÉTREO. ACARREO | B26: 1.3 | C26: 20 | D26: 26 | E26: 1233.33 | F26: 32066.58
F27: 0
F28: Sub-Total | G28: 32066.58
A29: IV. MANO DE OBRA
A30: Trabajador | B30: Jornal | C30: Prestaciones | D30: Jornal Total | E30: Rendimiento | F30: Valor-Unit.
A31: CUADRILLA (2 obreros+1 oficial). | B31: 116698.92 | C31: 185 | D31: 215893 | E31: 100 | F31: 2158.93 | H31: C21
F32: Sub-Total | G32: 2158.93
D34: Total Costo Directo | G34: 82068
C37: DESCRIPCION | F37: PORCENTAGE | G37: VR TOTAL
C38: ADMINISTRACION | F38: 0.23 | G38: 18875.64
C39: IMPREVISTOS | F39: 0.02 | G39: 1641.36
C40: UTILIDAD | F40: 0.05 | G40: 4103.4
C41: PRECIO UNITARIO TOTAL APROXIMADO AL PESO | G41: 106688
A44: ELABORO: PABLO CESAR ARRIETA RAMIREZ
A45: Apoyo Secretaria de Planeacion e Infraestructura
A48: FECHA: Octubre de 2022
