Workbook
Name \0: #REF!
Name \00: #REF!
Name \a: #REF!
Name \AA: [1]LIQUIDACION!#REF!
Name \b: [2]STRSUMM0!#REF!
Name \bb: [2]STRSUMM0!#REF!
Name \E: #REF!
Name \EE: #REF!
Name \G: #REF!
Name \k: '[3]7422CW00'!#REF!
Name \l: [4]STRSUMM0!#REF!
Name \M: #REF!
Name \ñ: '[5]7422CW00'!#REF!
Name \P: #REF!
Name \R: #REF!
Name \s: #REF!
Name \V: #REF!
Name \X: [0]!ERR
Name \Z: [0]!ERR
Name _________AFC1: [6]INV!$A$25:$D$28
Name _________AFC3: [6]INV!$F$25:$I$28
Name _________AFC5: [6]INV!$K$25:$N$28
Name _________BGC1: [6]INV!$A$5:$D$8
Name _________BGC3: [6]INV!$F$5:$I$8
Name _________BGC5: [6]INV!$K$5:$N$8
Name _________CAC1: [6]INV!$A$19:$D$22
Name _________CAC3: [6]INV!$F$19:$I$22
Name _________CAC5: [6]INV!$K$19:$N$22
Name _________PJ50: #REF!
Name _________SBC1: [6]INV!$A$12:$D$15
Name _________SBC3: [6]INV!$F$12:$I$15
Name _________SBC5: [6]INV!$K$12:$N$15
Name ________AFC1: [6]INV!$A$25:$D$28
Name ________AFC3: [6]INV!$F$25:$I$28
Name ________AFC5: [6]INV!$K$25:$N$28
Name ________BGC1: [6]INV!$A$5:$D$8
Name ________BGC3: [6]INV!$F$5:$I$8
Name ________BGC5: [6]INV!$K$5:$N$8
Name ________CAC1: [6]INV!$A$19:$D$22
Name ________CAC3: [6]INV!$F$19:$I$22
Name ________CAC5: [6]INV!$K$19:$N$22
Name ________MA2: #REF!
Name ________PJ50: #REF!
Name ________SBC1: [6]INV!$A$12:$D$15
Name ________SBC3: [6]INV!$F$12:$I$15
Name ________SBC5: [6]INV!$K$12:$N$15
Name _______AFC1: [6]INV!$A$25:$D$28
Name _______AFC3: [6]INV!$F$25:$I$28
Name _______AFC5: [6]INV!$K$25:$N$28
Name _______BGC1: [6]INV!$A$5:$D$8
Name _______BGC3: [6]INV!$F$5:$I$8
Name _______BGC5: [6]INV!$K$5:$N$8
Name _______CAC1: [6]INV!$A$19:$D$22
Name _______CAC3: [6]INV!$F$19:$I$22
Name _______CAC5: [6]INV!$K$19:$N$22
Name _______MA2: #REF!
Name _______PJ50: #REF!
Name _______SBC1: [6]INV!$A$12:$D$15
Name _______SBC3: [6]INV!$F$12:$I$15
Name _______SBC5: [6]INV!$K$12:$N$15

Sheet PRESUPUESTO OFICIAL (Entidad)
C3: Formulario 1 - Propuesta económica - Documento tipo de selección abreviada de menor cuantía - versión 2
C4: Código | D4: CCE-EICP-FM-25 | E4: Versión | F4: 2
C6: FORMULARIO 1
C7: PRESUPUESTO OFICIAL
C8: [La entidad puede utilizar este formulario de detalle del presupuesto oficial para determinar las condiciones bajo las cuales los proponentes analizarán y presentarán su propuesta económica de forma detallada, sin perjuicio que la entidad pueda modificarlo o establecer la presentación de la oferta económica con un formulario distinto al indicado.]
C10: Adicionalmente, cuando el proceso de contratación es estructurado por precios unitarios, la Entidad debe aplicar las notas 1, 2 y 3 del presente formulario y las casillas de "Descripción", "Porcentaje" de la Administración, Imprevisto, Utilidad y total A.I.U. resaltadas en colo amarillo. Tratándose de otras modalidades de precio, la Entidad puede o no configurar los mismos aspectos.
C11: =[33]DATOS!Q20 -> “MEJORAMIENTO DE VÍAS TERCIARIAS MEDIANTE LA CONSTRUCCION DE PLACA HUELLA EN SITIOS CRITICOS DE LOS MUNICIPIOS DE GARZON, EL PITAL, EL AGRADO Y PAICOL DEPARTAMENTO DEL HUILA"
C12: Nº | D12: ITEM DE PAGO | E12: ESPECIFICACIONES | G12: DESCRIPCION | H12: UND. | I12: CANTIDAD | J12: VALOR UNITARIO | K12: VALOR TOTAL
E13: GENERAL | F13: PARTICULAR
C14: 1. MUNICIPIO DE GARZON
C15: PRELIMINARES
C16: 1 | D16: 1.1 | E16: 1P | G16: LOCALIZACION Y REPLANTEO | H16: ML | I16: 920 | J16: 4285 | K16: =I16*J16 -> 3942200
C17: Subtotal | K17: =K16 -> 3942200
C18: ESTRUCTURA DE PAVIMENTO PLACA HUELLA
C19: 2 | D19: 2.1 | F19: ESP 210-13 INV. | G19: EXCAVACIÓN MECÁNICA (EXPLANACIÓN). ESP. 210-13 INV. INCLUYE RETIRO DE MATERIAL PROVENIENTE DE LA EXCAVACIÓN A DISPOSICIÓN FINAL DEL MISMO. | H19: M3 | I19: 226 | J19: 29054 | K19: =I19*J19 -> 6566204
C20: 3 | D20: 2.2 | E20: 2P | G20: EXCAVACION MANUAL EN MATERIAL SECO (INCLUYE TRANSPORTE A SITIO AUTORIZADO.) | H20: M3 | I20: 101 | J20: 38840 | K20: =I20*J20 -> 3922840
C21: 4 | D21: 2.3 | F21: ESP 320-13 INV. | G21: SUMINISTRO, INSTALACION, EXTENDIDA, NIVELACION, HUMEDECIMIENTO O AIREACION Y COMPACTACION DE SUBBASE GRANULAR CBR ≥ 40%. ESP. 320-13 INV. | H21: M3 | I21: 584 | J21: 287174 | K21: =I21*J21 -> 167709616
C22: 5 | D22: 2.4 | F22: ESP 640-13 INV. | G22: ACERO DE REFUERZO 4.200 KG/CM² (60.000 PSI) ESP.640-13 INV. PARA PLACAS, RIOSTRAS, CUNETAS, BORDILLOS Y DENTELLONES | H22: KG | I22: 39394 | J22: 8432 | K22: =I22*J22 -> 332170208
C23: 6 | D23: 2.5 | E23: 4P | G23: SUMINISTRO E INSTALACIÓN DE CONCRETO NORMAL CLASE D - (F´C=210 KGF/CM2) O (3.000 PSI) PARA DENTELLONES- PLACAS - RIOSTRAS - CUNETAS - BORDILLO. | H23: M3 | I23: 686 | J23: 877374 | K23: =I23*J23 -> 601878564
C24: 7 | D24: 2.6 | F24: ESP 630-13 INV. | G24: SUMINISTRO E INSTALACIÓN DE CONCRETO CICLÓPEO DE 210 KG/CM² (3.000 PSI) ESPESOR 0,15 M.60% CONCRETO NORMAL DE 210 KG/CM² (3.000 PSI) , 40% PIEDRA ESP. 630-13 INV. PARA HUELLAS. | H24: M3 | I24: 168 | J24: 623325 | K24: =I24*J24 -> 104718600
C25: Subtotal | K25: =SUM(K19:K24) -> 1216966032
C26: OBRAS DE DRENAJE Y COMPLEMENTARIAS: ALCANTARILLAS (8)
C27: 8 | D27: 3.1 | E27: 5P | G27: SUMINISTRO E INSTALACIÓN DE SOLADO DE LIMPIEZA EN CONCRETO NORMAL CLASE F- (F´C=140 KGF/CM2). PARA OBRAS DE ARTE. | H27: M3 | I27: 24 | J27: 754313 | K27: =I27*J27 -> 18103512
C28: 9 | D28: 3.2 | E28: 6P | G28: SUMINISTRO E INSTALACIÓN DE CONCRETO NORMAL CLASE D- (F´C=210 KGF/CM2). PARA CONSTRUCCION DE CABEZOTES, MUROS, ENCOLES, DESCOLES Y PLACAS DE SOBREPISO DE ALCANTARILLAS. | H28: M3 | I28: 67 | J28: 877374 | K28: =I28*J28 -> 58784058
C29: 10 | D29: 3.3 | F29: ESP. 661-13 INV. | G29: SUMINISTRO E INTALACION DE TUBERIA EN CONCRETO F=36", L=1M. ESP. 661-13 INV. | H29: M | I29: 40 | J29: 544454 | K29: =I29*J29 -> 21778160
C30: 11 | D30: 3.4 | F30: ESP.640-13 INV. | G30: ACERO DE REFUERZO 4.200 KG/CM² (60.000 PSI) ESP.640-13 INV. PARA ALCANTARILLA, BOX, MUROS. | H30: KG | I30: 4631 | J30: 8432 | K30: =I30*J30 -> 39048592
C31: 12 | D31: 3.5 | F31: ESP. 673-13 INV. | G31: SUMINISTRO E INSTALACION MATERIAL GRANULAR FILTRANTE. ESP. 673-13 INV. | H31: M3 | I31: 96 | J31: 334910 | K31: =I31*J31 -> 32151360
C32: 13 | D32: 3.6 | F32: ESP. 220.1-13 INV. | G32: TERRAPLEN / MEJORAMIENTO CONFORMADO CON MATERIAL SELECCIONADO. ESP. 220.1-13 INV. | H32: M3 | I32: 56 | J32: 245526 | K32: =I32*J32 -> 13749456
C33: Subtotal | K33: =SUM(K27:K32) -> 183615138
C34: 2. MUNICIPIO DE EL PITAL
C35: PRELIMINARES
C36: 14 | D36: 1.1 | E36: 1P | G36: LOCALIZACION Y REPLANTEO | H36: ML | I36: 1800 | J36: 4285 | K36: =ROUND(I36*J36,0) -> 7713000
C37: Subtotal | K37: =K36 -> 7713000
C38: ESTRUCTURA DE PAVIMENTO PLACA HUELLA
C39: 15 | D39: 2.1 | F39: ESP 210-13 INV. | G39: EXCAVACIÓN MECÁNICA (EXPLANACIÓN). ESP. 210-13 INV. INCLUYE RETIRO DE MATERIAL PROVENIENTE DE LA EXCAVACIÓN A DISPOSICIÓN FINAL DEL MISMO. | H39: M3 | I39: 344 | J39: 29054 | K39: =ROUND(I39*J39,0) -> 9994576
C40: 16 | D40: 2.2 | E40: 2P | G40: EXCAVACION MANUAL EN MATERIAL SECO (INCLUYE TRANSPORTE A SITIO AUTORIZADO.) | H40: M3 | I40: 197 | J40: 38840 | K40: =ROUND(I40*J40,0) -> 7651480
C41: 17 | D41: 2.3 | F41: ESP 320-13 INV. | G41: SUMINISTRO, INSTALACION, EXTENDIDA, NIVELACION, HUMEDECIMIENTO O AIREACION Y COMPACTACION DE SUBBASE GRANULAR CBR ≥ 40%. ESP. 320-13 INV. | H41: M3 | I41: 1143 | J41: 261182 | K41: =ROUND(I41*J41,0) -> 298531026
C42: 18 | D42: 2.4 | F42: ESP 640-13 INV. | G42: ACERO DE REFUERZO 4.200 KG/CM² (60.000 PSI) ESP.640-13 INV. PARA PLACAS, RIOSTRAS, CUNETAS, BORDILLOS Y DENTELLONES | H42: KG | I42: 77074 | J42: 8411 | K42: =ROUND(I42*J42,0) -> 648269414
C43: 19 | D43: 2.5 | E43: 4P | G43: SUMINISTRO E INSTALACIÓN DE CONCRETO NORMAL CLASE D - (F´C=210 KGF/CM2) O (3.000 PSI) PARA DENTELLONES- PLACAS - RIOSTRAS - CUNETAS - BORDILLO. | H43: M3 | I43: 1343 | J43: 847384 | K43: =ROUND(I43*J43,0) -> 1138036712
C44: 20 | D44: 2.6 | F44: ESP 630-13 INV. | G44: SUMINISTRO E INSTALACIÓN DE CONCRETO CICLÓPEO DE 210 KG/CM² (3.000 PSI) ESPESOR 0,15 M.60% CONCRETO NORMAL DE 210 KG/CM² (3.000 PSI) , 40% PIEDRA ESP. 630-13 INV. PARA HUELLAS. | H44: M3 | I44: 329 | J44: 597333 | K44: =ROUND(I44*J44,0) -> 196522557
...

Sheet Analisis AIU final
B1: =[33]DATOS!Q20 -> “MEJORAMIENTO DE VÍAS TERCIARIAS MEDIANTE LA CONSTRUCCION DE PLACA HUELLA EN SITIOS CRITICOS DE LOS MUNICIPIOS DE GARZON, EL PITAL, EL AGRADO Y PAICOL DEPARTAMENTO DEL HUILA"
F5: 4.72128e+09
A6: ANALISIS Y DESGLOSE DEL A.I.U
A7: ITEM | B7: DESCRIPCIÓN | C7: V. UNITARIO | D7: MESES | E7: % DEDICACIÓN | F7: VALOR TOTAL
A8: 1 | B8: ADMINISTRACIÓN
B9: PERSONAL
A10: 1.1 | B10: INGENIERO DIRECTOR DE OBRA (Prog. Gerencia de proyectos) | C10: 4500000 | D10: 10 | E10: 0.3 | F10: =+E10*D10*C10 -> 13500000
A11: 1.2 | B11: INGENIERO CIVIL RESIDENTE DE OBRA | C11: 3500000 | D11: 10 | E11: 1 | F11: =+E11*D11*C11 -> 35000000
A12: 1.3 | B12: ESPECIALISTA EN GEOTECNIA VIAL | C12: 3800000 | D12: 10 | E12: 0.2 | F12: =+E12*D12*C12 -> 7600000
A13: 1.4 | B13: ESPECIALISTA EN ESTRUCTURAS | C13: 3800000 | D13: 10 | E13: 0.15 | F13: =+E13*D13*C13 -> 5700000
A14: 1.5 | B14: INGENIERO INDUSTRIAL (SISOMA) | C14: 3200000 | D14: 10 | E14: 1 | F14: =+E14*D14*C14 -> 32000000
A15: 1.6 | B15: INGENIERO AMBIENTAL | C15: 2500000 | D15: 10 | E15: 0.5 | F15: =+E15*D15*C15 -> 12500000
A16: 1.7 | B16: INSPECTOR DE OBRA | C16: 1500000 | D16: 10 | E16: 1 | F16: =+E16*D16*C16 -> 15000000
A17: 1.8 | B17: INSPECTOR DE OBRA | C17: 1500000 | D17: 10 | E17: 1 | F17: =+E17*D17*C17 -> 15000000
A18: 1.9 | B18: CELADOR ALMACENISTA | C18: 1160000 | D18: 10 | E18: 1 | F18: =+E18*D18*C18 -> 11600000
A19: 1.10 | B19: CONDUCTOR | C19: 1160000 | D19: 10 | E19: 1 | F19: =+E19*D19*C19 -> 11600000
A20: 1.11 | B20: TOPOGRAFO (control permanente de niveles y alineamiento) | C20: 1800000 | D20: 10 | E20: 1 | F20: =+E20*D20*C20 -> 18000000
A21: 1.12 | B21: CADENERO (control permanente de niveles y alineamiento) | C21: 1160000 | D21: 10 | E21: 1 | F21: =+E21*D21*C21 -> 11600000
... A23: 1.14 | B23: CONTROLADORES DE TRANSITO (PALETEROS) | C23: 1160000 | D23: 10 | E23: 1 | F23: =+E23*D23*C23 -> 11600000
B24: SUB TOTAL COSTOS DE PERSONAL | F24: =SUM(F10:F23) -> 212300000
B25: FACTOR PRESTACIONAL | C25: PORCENTAJE | D25: VALOR
A26: 1.12 | B26: CESANTIAS | C26: 0.0833 | D26: =F24*C26 -> 17684590
A27: 1.13 | B27: INTERESES DE CESANTIAS | C27: 0.01 | D27: =F24*C27 -> 2123000
A28: 1.14 | B28: PRIMA LEGAL | C28: 0.0833 | D28: =F24*C28 -> 17684590
A29: 1.15 | B29: VACACIONES | C29: 0.0416 | D29: =F24*C29 -> 8831680
B30: SUB TOTAL COSTOS DE PRESTACIONES | D30: =SUM(D26:F29) -> 46323860
B31: SEGURIDAD SOCIAL | C31: PORCENTAJE | D31: VALOR
A32: 1.16 | B32: Eps salud 12,5% Aporte patronal 8,5% | C32: 0.085 | D32: =C32*F24 -> 18045500
A33: 1.17 | B33: Pension 16%, Aporte patronal 12% | C33: 0.12 | D33: =C33*F24 -> 25476000
A34: 1.18 | B34: A.R.P | C34: 0.0696 | D34: =C34*F24 -> 14776080
A35: 1.19 | B35: Caja de compesación familiar | C35: 0.04 | D35: =C35*F24 -> 8492000
A36: 1.20 | B36: SENA | C36: 0.02 | D36: =C36*F24 -> 4246000
A37: 1.21 | B37: I.C.B.F | C37: 0.03 | D37: =C37*F24 -> 6369000
A38: 1.22 | B38: Otros (subsidio de transporte 0,6%; Dotacion 0,46% hasta 2 SMMLV) | C38: 0.0106 | D38: =C38*(F16+F18+F19+F20+F21+F22+F23) -> 964600
B39: SUB TOTAL COSTOS DE SEGURIDAD SOCIAL | D39: =SUM(D32:F38) -> 78369180
B40: OTROS GASTOS | C40: UNIDAD | D40: CANT | E40: VR. UNIT | F40: TOTAL
A41: 1.23 | B41: EQUIPO COMPLETO DE TOPOGRAFIA (INCLUYE TRANSITO, NIVEL, ESTACION Y ELEMENTOS COMPLEMENTARIOS) | C41: Mes | D41: 10 | E41: 1500000 | F41: =ROUND(D41*E41,0) -> 15000000
A42: 1.24 | B42: OFICINA, PAPELERÍA E INSUMOS DE OFICINA, ASEO | C42: Mes | D42: 10 | E42: 600000 | F42: =ROUND(D42*E42,0) -> 6000000
A43: 1.25 | B43: LABORATORIO DE SUELOS, CONCRETOS Y PAVIMENTOS (LIMITES, DENSIDADES:PROCTOR, GRANULOMETRIA, RESISTENCIA CONCRETO-FLEXION..ETC,) | C43: Mes | D43: 10 | E43: =E50/10 -> 1241600 | F43: =+E43*D43 -> 12416000
A44: 1.25.1 | B44: TIPO ENSAYO | C44: CANT. | D44: V. UNIT | E44: TOTAL
...

Sheet Inter
A2: =+[33]DATOS!Q18 -> PROYECTO PLACA HUELLA MUNICIPIOS DE GARZON, PITAL, AGRADO Y PAICOL
A3: =+[33]DATOS!Q19 -> DEPARTAMENTO DEL HUILA
A5: PRESUPUESTO OFICIAL DE INTERVENTORIA
A7: ="OBJETO: "&[33]DATOS!Q20 -> OBJETO: “MEJORAMIENTO DE VÍAS TERCIARIAS MEDIANTE LA CONSTRUCCION DE PLACA HUELLA EN SITIOS CRITICOS DE LOS MUNICIPIOS DE GARZON, EL PITAL, EL AGRADO Y PAICOL DEPARTAMENTO DEL HUILA"
A8: CANT | B8: CARGO / OFICIO | C8: SUELDO Y/O JORNAL MENSUAL | D8: Dedicación (Hombre-Mes) | E8: FACTOR MULTIPLICADOR | F8: DURACION TOTAL (Mes) | G8: VALOR PARCIAL
B9: PERSONAL PROFESIONAL
A10: 1 | B10: Director de interventoría | C10: 4500000 | D10: 0.5 | E10: 2 | F10: 10 | G10: =ROUND((C10*D10*F10*A10*E10),0) -> 45000000 | J10: ='[33]P. P.HUELLA (2)'!H34 -> 3.4719215e+08
A11: 1 | B11: Ingeniero Civil Residente de interventoría | C11: 3500000 | D11: 1 | E11: 2 | F11: 10 | G11: =ROUND((C11*D11*F11*A11*E11),0) -> 70000000
A12: 1 | B12: ESPECIALISTA EN ESTRUCTURAS | C12: 3800000 | D12: 0.2 | E12: 2 | F12: 10 | G12: =ROUND((C12*D12*F12*A12*E12),0) -> 15200000
A13: 1 | B13: ESPECIALISTA EN VIAS | C13: 3800000 | D13: 0.2 | E13: 2 | F13: 10 | G13: =ROUND((C13*D13*F13*A13*E13),0) -> 15200000
A14: 1 | B14: INGENIERO AMBIENTAL | C14: 2500000 | D14: 0.5 | E14: 2 | F14: 10 | G14: =ROUND((C14*D14*F14*A14*E14),0) -> 25000000
A15: 1 | B15: Tecnologo SISO | C15: 1800000 | D15: 1 | E15: 2 | F15: 10 | G15: =ROUND((C15*D15*F15*A15*E15),0) -> 36000000
A16: 1 | B16: Inspector de Interventoria 1 | C16: 1500000 | D16: 1 | E16: 2 | F16: 10 | G16: =ROUND((C16*D16*F16*A16*E16),0) -> 30000000
A17: 1 | B17: Inspector de Interventoria 2 | C17: 1500000 | D17: 1 | E17: 2 | F17: 10 | G17: =ROUND((C17*D17*F17*A17*E17),0) -> 30000000
B18: PERSONAL TECNICO Y ADMINISTRATIVO
A19: 1 | B19: Topografo | C19: 1800000 | D19: 0.6 | E19: 2 | F19: 10 | G19: =ROUND((C19*D19*F19*A19*E19),0) -> 21600000
A20: 1 | B20: Cadenero 1 | C20: 1160000 | D20: 0.6 | E20: 2 | F20: 10 | G20: =ROUND((C20*D20*F20*A20*E20),0) -> 13920000
B21: TOTAL COSTOS DE PERSONAL | G21: =SUM(G10:G20) -> 301920000
A22: OTROS COSTOS DIRECTOS
A23: CANT | B23: CONCEPTO | C23: UNIDAD | D23: COSTO ($) | F23: CANTIDAD | G23: VALOR PARCIAL ($)
A24: 1 | B24: EQUIPO COMPLETO DE TOPOGRAFIA (INCLUYE TRANSITO, NIVEL, ESTACION Y ELEMENTOS COMPLEMENTARIOS) | C24: Mes | D24: 1400000 | F24: 10 | G24: =ROUND((A24*D24*F24),0) -> 14000000
A25: 1 | B25: LABORATORIO DE SUELOS, CONCRETOS Y PAVIMENTOS (LIMITES, DENSIDADES:PROTOR, GRANULOMETRIA, RESISTENCIA CONCRETO-FLEXION..ETC,) | C25: Mes | D25: 2020645.9 | F25: 10 | G25: =ROUND((A25*D25*F25),0) -> 20206459 | L25: =+#REF! -> #REF! | M25: =+L25-L26 -> #REF!
A26: 1 | B26: ALQUILER DE VEHICULO - CAMIONETA >2000 CC. PICK-UP Ó SIMILAR (INCLUYE CONDUCTOR Y COMBUSTIBLE) | C26: Mes | D26: 3000000 | F26: 10 | G26: =ROUND((A26*D26*F26),0) -> 30000000 | J26: =J28/10+(2000000) -> 2000000 | L26: =+K26*J26 -> 0
B27: SUB TOTAL OTROS COSTOS | G27: =SUM(G24:G26) -> 64206459
B28: COSTO DIRECTO INTERVENTORIA | G28: =G21+G27 -> 366126459 | I28: =I30/1.19 -> 3.6612646e+08 | J28: =I28-G28 -> -0.17647058
B29: IVA = 19% | G29: =ROUND((G28*0.19),0) -> 69564027
B30: COSTO TOTAL | G30: =G28+G29 -> 435690486 | I30: ='[33]PRESUPUESTO OFICIAL (Entidad)'!K99 -> 435690486 | J30: =I30-G30 -> 0
J32: ='[33]P. P.HUELLA'!#REF! -> #REF!
J33: 990936240
B36: =+[33]DATOS!$Q$60 -> ELABORO: PABLO CESAR ARRIETA RAMIREZ
B37: =+[33]DATOS!$Q$61 -> Apoyo Secretaria de Vias Departamental | D37: =[33]DATOS!U61
B38: =+[33]DATOS!$Q$62 | D38: =[33]DATOS!U62

Sheet FM
A1: =+[33]DATOS!Q18 -> PROYECTO PLACA HUELLA MUNICIPIOS DE GARZON, PITAL, AGRADO Y PAICOL
A2: =+[33]DATOS!Q19 -> DEPARTAMENTO DEL HUILA
A3: ANEXO FACTOR MULTIPLICADOR
A5: ="OBJETO: "&[33]DATOS!Q20 -> OBJETO: “MEJORAMIENTO DE VÍAS TERCIARIAS MEDIANTE LA CONSTRUCCION DE PLACA HUELLA EN SITIOS CRITICOS DE LOS MUNICIPIOS DE GARZON, EL PITAL, EL AGRADO Y PAICOL DEPARTAMENTO DEL HUILA"
A8: ITEM | B8: DESCRIPCION | E8: %
A9: A | B9: SALARIO | E9: 1
A10: B | B10: PRESTACIONES SOCIALES | E10: =SUM(E11:E14) -> 0.20915967
B11: Cesantías (A/12) | E11: 0.08333
B12: Intereses sobre cesantía | E12: 0.000833
B13: Prima de servicios anual (A/12) | E13: 0.08333
B14: Vacaciones (15/360) | E14: 0.041666667
A15: C | B15: SISTEMA DE SEGURIDAD SOCIAL INTEGRAL | E15: =SUM(E16:E22) -> 0.3706
B16: Salud | E16: 0.085
B17: Pension | E17: 0.12
B18: A. R. P. (RIESGO 5). | E18: 0.0696 | F18: que No sobrepase el limite de 4salarios min | L18: =+[33]MO!E7*4 -> 4000000
B19: Subsidio Familiar. | E19: 0.04
B20: I.C.B.F. | E20: 0.03
B21: SENA. | E21: 0.02
B22: Dotación ( Hasta 2 SMMLV). | E22: 0.006
A23: D | B23: COSTOS DE PERFECCIONAMIENTO (ESTAMPILLAS Y POLIZAS) | E23: =(SUM(E24:E28)) -> 0.065
B24: Estampilla Prodesarrollo Departamental. | E24: 0.02
B25: Estampilla ProCultura. | E25: 0.015
B26: Estampilla Prodeporte | E26: 0.015
B27: Estampilla Prodesarrollo de la Universidad Surcolombiana | E27: 0.005
B28: Polizas | E28: 0.01
A29: E | B29: OTROS IMPUESTOS | E29: =SUM(E30:E30) -> 0.01
B30: Impuesto bancario y costos financieros. | E30: 0.01
A31: F | B31: GASTOS OFICINA DEL CONSULTOR | E31: =+E32+E34+E35+E36+E33 -> 0.217
B32: Alquiler oficina, incluye dotación y pago servicios públicos | E32: 0.075
B33: Personal técnico no facturable | E33: 0.06
B34: Edición y elaboración de informes | E34: 0.027
B35: Fotocopias. | E35: 0.015
B36: Gastos de viaje y viáticos | E36: 0.04
B37: IMPREVISTOS | E37: 0.01
A38: G | B38: HONORARIOS (UTILIDAD) | E38: 0.12
B39: SUBTOTAL | E39: =E38+E29+E23+E15+E10+E9+E31+E37 -> 2.0017597
B40: FACTOR MULTIPLICADOR ESTIMADO - FM | E40: 2
A43: =+[33]DATOS!$Q$60 -> ELABORO: PABLO CESAR ARRIETA RAMIREZ
A44: =+[33]DATOS!$Q$61 -> Apoyo Secretaria de Vias Departamental | C44: =[33]DATOS!U61
A45: =+[33]DATOS!$Q$62 | C45: =[33]DATOS!U62
...

Sheet Cronograma
A1: CRONOGRAMA DE OBRAS Y FLUJO DE INVERSION PROGRAMADO
A3: =[33]DATOS!Q20 -> “MEJORAMIENTO DE VÍAS TERCIARIAS MEDIANTE LA CONSTRUCCION DE PLACA HUELLA EN SITIOS CRITICOS DE LOS MUNICIPIOS DE GARZON, EL PITAL, EL AGRADO Y PAICOL DEPARTAMENTO DEL HUILA"
A4: GOBERNACION DEL HUILA
A5: PLAZO DE EJECUCION TOTAL | C5: CATORCE (14) MESES | J5: PLAZO DE EJECUCION FISICA DE OBRA: 10 MESES
AB6: 5
A7: ITEM | B7: DESCRIPCION | C7: DURACION MESES | D7: MESES | BH7: VALOR TOTAL
D8: 1 | H8: 2 | L8: 3 | P8: 4 | T8: 5 | X8: 6 | AB8: 7 | AF8: 8 | AJ8: 9 | AN8: 10 | AR8: 11 | AV8: 12 | AZ8: 13 | BD8: 14
A9: PLACA HUELLA
A10: 1 | B10: PROCESO DE CONTRATACION | C10: 2
BH11: =SUM(D11:BG11) -> 0
B12: MUNICIPIO DE GARZON
A13: 2 | B13: ='[32]P. P.HUELLA (2)'!D10 -> PRELIMINARES | C13: 1
L14: =(('[33]PRESUPUESTO OFICIAL (Entidad)'!K17/1.3)) -> 3032461.5 | BH14: =SUM(D14:BG14) -> 3032461.5 | BL14: =BH14*1.3 -> 3942200
A15: 3 | B15: ='[32]P. P.HUELLA (2)'!D12 -> ESTRUCTURA DE PAVIMENTO PLACA HUELLA | C15: 2 | BL15: =BH15*1.3 -> 0
L16: =(('[33]PRESUPUESTO OFICIAL (Entidad)'!K25/3)/1.3)*0.6 -> 1.8722554e+08 | P16: =L16 -> 1.8722554e+08 | T16: =L16 -> 1.8722554e+08 | AZ16: =(('[33]PRESUPUESTO OFICIAL (Entidad)'!K25)/1.3)*0.4 -> 3.7445109e+08 | BH16: =SUM(D16:BG16) -> 9.3612772e+08 | BL16: =BH16*1.3 -> 1216966032
A17: 4 | B17: OBRAS DE DRENAJE Y COMPLEMENTARIAS: ALCANTARILLAS (15) | C17: 2 | BL17: =BH17*1.3 -> 0
P18: =(('[33]PRESUPUESTO OFICIAL (Entidad)'!K33/1.3)/2)*0.6 -> 42372724 | T18: =P18 -> 42372724 | AZ18: =(('[33]PRESUPUESTO OFICIAL (Entidad)'!K33/1.3))*0.4 -> 56496966 | BH18: =SUM(D18:BG18) -> 1.4124241e+08 | BL18: =BH18*1.3 -> 1.8361514e+08
B19: MUNICIPIO DE EL PITAL | BL19: =BH19*1.3 -> 0
B20: PRELIMINARES | C20: 1 | BL20: =BH20*1.3 -> 0
X21: ='[33]PRESUPUESTO OFICIAL (Entidad)'!K37/1.3 -> 5933076.9 | BH21: =SUM(D21:BG21) -> 5933076.9 | BL21: =BH21*1.3 -> 7713000
B22: ESTRUCTURA DE PAVIMENTO PLACA HUELLA | C22: 2 | BL22: =BH22*1.3 -> 0
X23: =('[33]PRESUPUESTO OFICIAL (Entidad)'!K45/3)/1.3 -> 5.8948866e+08 | AB23: =X23 -> 5.8948866e+08 | AF23: =AB23 -> 5.8948866e+08 | BH23: =SUM(D23:BG23) -> 1.768466e+09 | BL23: =BH23*1.3 -> 2299005765
B24: OBRAS DE DRENAJE Y COMPLEMENTARIAS: ALCANTARILLAS (15) | C24: 2 | BL24: =BH24*1.3 -> 0
AB25: =(('[33]PRESUPUESTO OFICIAL (Entidad)'!K53/1.3)/2) -> 1.2296287e+08 | AF25: =AB25 -> 1.2296287e+08 | BH25: =SUM(D25:BG25) -> 2.4592573e+08 | BL25: =BH25*1.3 -> 319703451
B26: MUNICIPIO DE EL AGRADO | BL26: =BH26*1.3 -> 0
B27: PRELIMINARES | C27: 1 | BL27: =BH27*1.3 -> 0
AJ28: ='[33]PRESUPUESTO OFICIAL (Entidad)'!K57/1.3 -> 2966538.5 | BH28: =SUM(D28:BG28) -> 2966538.5 | BL28: =BH28*1.3 -> 3856500
B29: ESTRUCTURA DE PAVIMENTO PLACA HUELLA | C29: 2 | BL29: =BH29*1.3 -> 0
AJ30: =('[33]PRESUPUESTO OFICIAL (Entidad)'!K65/2)/1.3 -> 4.4846829e+08 | AN30: =AJ30 -> 4.4846829e+08 | BH30: =SUM(D30:BG30) -> 8.9693657e+08 | BL30: =BH30*1.3 -> 1166017542
B31: OBRAS DE DRENAJE Y COMPLEMENTARIAS: ALCANTARILLAS (15) | C31: 2 | BL31: =BH31*1.3 -> 0
AN32: =(('[33]PRESUPUESTO OFICIAL (Entidad)'!K73/1.3)/1) -> 1.3063251e+08 | BH32: =SUM(D32:BG32) -> 1.3063251e+08 | BL32: =BH32*1.3 -> 169822260
B33: MUNICIPIO DE PAICOL | BL33: =BH33*1.3 -> 0
B34: PRELIMINARES | C34: 1 | BL34: =BH34*1.3 -> 0
AR35: ='[33]PRESUPUESTO OFICIAL (Entidad)'!K77/1.3 -> 1977692.3 | BH35: =SUM(D35:BG35) -> 1977692.3 | BL35: =BH35*1.3 -> 2571000
B36: ESTRUCTURA DE PAVIMENTO PLACA HUELLA | C36: 2 | BL36: =BH36*1.3 -> 0
AR37: =('[33]PRESUPUESTO OFICIAL (Entidad)'!K85/2)/1.3 -> 2.5073379e+08 | AV37: =AR37 -> 2.5073379e+08 | BH37: =SUM(D37:BG37) -> 5.0146759e+08 | BL37: =BH37*1.3 -> 651907866
B38: OBRAS DE DRENAJE Y COMPLEMENTARIAS: ALCANTARILLAS (15) | C38: 2 | BL38: =BH38*1.3 -> 0
AV39: =(('[33]PRESUPUESTO OFICIAL (Entidad)'!K93/1.3)/1) -> 86571739 | BH39: =SUM(D39:BG39) -> 86571739 | BL39: =BH39*1.3 -> 112543261
A40: 6 | B40: LIQUIDACION FINANCIERA | C40: 2
BL41: =SUM(BH10:BH39) -> 4.72128e+09
...

Sheet 1
A1: PROYECTO PLACA HUELLA MUNICIPIO DE GARZON | C1: ANÁLISIS DE PRECIOS UNITARIOS
A2: DEPARTAMENTO DEL HUILA
A4: OBJETO: “MEJORAMIENTO DE VÍAS TERCIARIAS MEDIANTE LA CONSTRUCCION DE PLACA HUELLA EN SITIOS CRITICOS DE LOS MUNICIPIOS DE GARZON, PITAL, AGRADO Y PAICOL DEPARTAMENTO DEL HUILA" | D4: ITEM: LOCALIZACIÓN Y REPLANTEO. | I4: ITEM: LOCALIZACIÓN Y REPLANTEO.
C6: No. | D6: UNIDAD: | E6: m
C7: 1 | D7: ITEM DE PAGO: | E7: 1.1
A8: I. EQUIPO
A9: Descripción | C9: Tipo | D9: Tarifa/Hora | E9: Rendimiento | F9: Valor-Unit.
A10: HERRAMIENTA MENOR | E10: 0.1 | F10: 154.2
F13: Sub-Total | G13: 154
A14: II. MATERIALES
A15: Descripción | C15: Unidad | D15: Precio-Unit. | E15: Cantidad | F15: Valor-Unit.
A16: ALAMBRE NEGRO No. 18 | C16: Kg | D16: 7400 | E16: 0.01 | F16: 74
A17: DURMIENTE ORDINARIO 4*4 CM | C17: m | D17: 3000 | E17: 0.5 | F17: 1500
A18: PUNTILLA DE 1" | C18: lb | D18: 2600 | E18: 0.01 | F18: 26
F19: Sub-Total | G19: 1600
A20: III. TRANSPORTES
A21: Material | B21: Vol-peso ó Cant. | C21: Distancia | D21: Und.-Km | E21: Tarifa | F21: Valor-Unit.
C22: 0 | D22: 0 | F22: 0
F23: 0
F24: Sub-Total | G24: 0
A25: IV. MANO DE OBRA
A26: Trabajador | B26: Jornal | C26: Prestaciones | D26: Jornal Total | E26: Rendimiento | F26: Valor-Unit.
A27: CUADRILLA (2 obreros+1 oficial). | B27: 116698.92 | C27: 185 | D27: 215893 | E27: 140 | F27: 1542.0929 | H27: C21
F28: Sub-Total | G28: 1542
D30: Total Costo Directo | G30: 3296
D33: DESCRIPCION | F33: PORCENTAGE | G33: VR TOTAL
D34: ADMINISTRACION | F34: 0.23 | G34: 758.08
D35: IMPREVISTOS | F35: 0.02 | G35: 65.92
D36: UTILIDAD | F36: 0.05 | G36: 164.8
D37: PRECIO UNITARIO TOTAL APROXIMADO AL PESO | G37: 4285
A40: ELABORO: PABLO CESAR ARRIETA RAMIREZ
A41: Apoyo Secretaria de Vias Departamental
A44: FECHA: Octubre de 2022

Sheet 2
A1: PROYECTO PLACA HUELLA MUNICIPIO DE GARZON | C1: ANÁLISIS DE PRECIOS UNITARIOS
A2: DEPARTAMENTO DEL HUILA
A4: OBJETO: “MEJORAMIENTO DE VÍAS TERCIARIAS MEDIANTE LA CONSTRUCCION DE PLACA HUELLA EN SITIOS CRITICOS DE LOS MUNICIPIOS DE GARZON, PITAL, AGRADO Y PAICOL DEPARTAMENTO DEL HUILA" | D4: ITEM: EXCAVACIÓN MECÁNICA (EXPLANACIÓN). ESP. 210-13 INV. INCLUYE RETIRO DE MATERIAL PROVENIENTE DE LA EXCAVACIÓN A DISPOSICIÓN FINAL DEL MISMO. | I4: ITEM: EXCAVACIÓN MECÁNICA (EXPLANACIÓN). ESP. 210-13 INV. INCLUYE RETIRO DE MATERIAL PROVENIENTE DE LA EXCAVACIÓN A DISPOSICIÓN FINAL DEL MISMO.
C6: No. | D6: UNIDAD: | E6: m3
C7: 2 | D7: ITEM DE PAGO: | E7: 2.1
A8: I. EQUIPO
A9: Descripción | C9: Tipo | D9: Tarifa/Hora | E9: Rendimiento | F9: Valor-Unit.
A10: HERRAMIENTA MENOR | E10: 0.01 | F10: 8.566389
A11: Retroexcavadora sobre oruga, potencia 138 HP, balde de 1,5 m3. | D11: 168000 | E11: 35 | F11: 4800
F14: Sub-Total | G14: 4808.5664
A15: II. MATERIALES
A16: Descripción | C16: Unidad | D16: Precio-Unit. | E16: Cantidad | F16: Valor-Unit.
A17: Derechos de explotación y/o disposición de materiales | C17: M3 | D17: 6667 | E17: 1.3 | F17: 8667.1
F19: Sub-Total | G19: 8667.1
A20: III. TRANSPORTES
A21: Material | B21: Vol-peso ó Cant. | C21: Distancia | D21: Und.-Km | E21: Tarifa | F21: Valor-Unit.
A22: TRANSPORTE DE MATERIAL SOBRANTES PROVENIENTE DE LA EXCAVACIÓN | B22: 1.3 | C22: 5 | D22: 6.5 | E22: 1233.33 | F22: 8016.645
F24: Sub-Total | G24: 8016.645
A25: IV. MANO DE OBRA
A26: Trabajador | B26: Jornal | C26: Prestaciones | D26: Jornal Total | E26: Rendimiento | F26: Valor-Unit.
A27: CUADRILLA (1 obrero+1 oficial). | B27: 83348.65 | C27: 185 | D27: 154195 | E27: 180 | F27: 856.6389 | H27: C11
F28: Sub-Total | G28: 856.6389
D30: Total Costo Directo | G30: 22349
C33: DESCRIPCION | F33: PORCENTAGE | G33: VR TOTAL
C34: ADMINISTRACION | F34: 0.23 | G34: 5140.27
C35: IMPREVISTOS | F35: 0.02 | G35: 446.98
C36: UTILIDAD | F36: 0.05 | G36: 1117.45
C37: PRECIO UNITARIO TOTAL APROXIMADO AL PESO | G37: 29054
A40: ELABORO: PABLO CESAR ARRIETA RAMIREZ
A41: Apoyo Secretaria de Vias Departamental
A44: FECHA: Octubre de 2022

Sheet 3
A1: PROYECTO PLACA HUELLA MUNICIPIO DE GARZON | C1: ANÁLISIS DE PRECIOS UNITARIOS
A2: DEPARTAMENTO DEL HUILA
A4: OBJETO: “MEJORAMIENTO DE VÍAS TERCIARIAS MEDIANTE LA CONSTRUCCION DE PLACA HUELLA EN SITIOS CRITICOS DE LOS MUNICIPIOS DE GARZON, PITAL, AGRADO Y PAICOL DEPARTAMENTO DEL HUILA" | D4: ITEM: EXCAVACION MANUAL EN MATERIAL SECO (INCLUYE TRANSPORTE A SITIO AUTORIZADO.) | I4: ITEM: EXCAVACION MANUAL EN MATERIAL SECO (INCLUYE TRANSPORTE A SITIO AUTORIZADO.)
C6: No. | D6: UNIDAD: | E6: m3
C7: 3 | D7: ITEM DE PAGO: | E7: 2.2
A8: I. EQUIPO
A9: Descripción | C9: Tipo | D9: Tarifa/Hora | E9: Rendimiento | F9: Valor-Unit.
A10: HERRAMIENTA MENOR | E10: 0.1 | F10: 1199.4056
F14: Sub-Total | G14: 1199.4056
A15: II. MATERIALES
A16: Descripción | C16: Unidad | D16: Precio-Unit. | E16: Cantidad | F16: Valor-Unit.
A18: Derechos de explotación y/o disposición de materiales | C18: M3 | D18: 6667 | E18: 1.3 | F18: 8667.1
F21: Sub-Total | G21: 8667.1
A22: III. TRANSPORTES
A23: Material | B23: Vol-peso ó Cant. | C23: Distancia | D23: Und.-Km | E23: Tarifa | F23: Valor-Unit.
A24: TRANSPORTE DE MATERIAL SOBRANTES PROVENIENTE DE LA EXCAVACIÓN | B24: 1.3 | C24: 5 | D24: 6.5 | E24: 1233.33 | F24: 8016.645
F26: Sub-Total | G26: 8016.645
A27: IV. MANO DE OBRA
A28: Trabajador | B28: Jornal | C28: Prestaciones | D28: Jornal Total | E28: Rendimiento | F28: Valor-Unit.
A29: CUADRILLA (2 obreros+1 oficial). | B29: 116698.92 | C29: 185 | D29: 215893 | E29: 18 | F29: 11994.056 | H29: C21
F30: Sub-Total | G30: 11994.056
D32: Total Costo Directo | G32: 29877
C35: DESCRIPCION | F35: PORCENTAGE | G35: VR TOTAL
C36: ADMINISTRACION | F36: 0.23 | G36: 6871.71
C37: IMPREVISTOS | F37: 0.02 | G37: 597.54
C38: UTILIDAD | F38: 0.05 | G38: 1493.85
C39: PRECIO UNITARIO TOTAL APROXIMADO AL PESO | G39: 38840
A42: ELABORO: PABLO CESAR ARRIETA RAMIREZ
A43: Apoyo Secretaria de Vias Departamental
A46: FECHA: Octubre de 2022

Sheet 4
A1: PROYECTO PLACA HUELLA MUNICIPIO DE GARZON | C1: ANÁLISIS DE PRECIOS UNITARIOS
A2: DEPARTAMENTO DEL HUILA
A4: OBJETO: “MEJORAMIENTO DE VÍAS TERCIARIAS MEDIANTE LA CONSTRUCCION DE PLACA HUELLA EN SITIOS CRITICOS DE LOS MUNICIPIOS DE GARZON, PITAL, AGRADO Y PAICOL DEPARTAMENTO DEL HUILA" | D4: ITEM: SUMINISTRO, INSTALACION, EXTENDIDA, NIVELACION, HUMEDECIMIENTO O AIREACION Y COMPACTACION DE SUBBASE GRANULAR CBR ≥ 40%. ESP. 320-13 INV. | J4: ITEM: SUMINISTRO, INSTALACION, EXTENDIDA, NIVELACION, HUMEDECIMIENTO O AIREACION Y COMPACTACION DE SUBBASE GRANULAR CBR ≥ 40%. ESP. 320-13 INV.
C6: No. | D6: UNIDAD: | E6: m3
C7: 4 | D7: ITEM DE PAGO: | E7: 2.3
A8: I. EQUIPO
A9: Descripción | C9: Tipo | D9: Tarifa/Hora | E9: Rendimiento | F9: Valor-Unit.
A10: Motoniveladora potencia 215 HP, ancho de cuchilla 4,27 m, peso 18 ton. | D10: 166000 | E10: 45 | F10: 3688.8889
A11: Vibrocompatador, potencia 153 HP, peso 10 Ton. | D11: 121000 | E11: 45 | F11: 2688.8889
A12: Carrotanque de agua(1000 Galones) | D12: 116000 | E12: 45 | F12: 2577.7778
A13: HERRAMIENTA MENOR | E13: 0.01 | F13: 6.1683715
F14: Sub-Total | G14: 8961.7239
A15: II. MATERIALES
A16: Descripción | C16: Unidad | D16: Precio-Unit. | E16: Cantidad | F16: Valor-Unit.
A17: SUB-BASE GRANULAR CBR 40%-ESP. 320-13. INVIAS. | C17: M3 | D17: 55000 | E17: 1.3 | F17: 71500
A18: AGUA | C18: Lt | D18: 40 | E18: 24 | F18: 960
F19: Sub-Total | G19: 72460
A20: III. TRANSPORTES
A21: Material | B21: Vol-peso ó Cant. | C21: Distancia | D21: Und.-Km | E21: Tarifa | F21: Valor-Unit.
A22: TRANSPORTE MATERIAL PETREO. | B22: 1.3 | C22: 86.61 | D22: 112.593 | E22: 1233.33 | F22: 138864.32
F23: 0
F24: Sub-Total | G24: 138864.32
A25: IV. MANO DE OBRA
A26: Trabajador | B26: Jornal | C26: Prestaciones | D26: Jornal Total | E26: Rendimiento | F26: Valor-Unit.
A27: CUADRILLA (2 obreros+1 oficial). | B27: 116698.92 | C27: 185 | D27: 215893 | E27: 350 | F27: 616.83715 | H27: C21
F28: Sub-Total | G28: 616.83715
D30: Total Costo Directo | G30: 220903 | I30: 19881270
C33: DESCRIPCION | F33: PORCENTAGE | G33: VR TOTAL
C34: ADMINISTRACION | F34: 0.23 | G34: 50807.69
C35: IMPREVISTOS | F35: 0.02 | G35: 4418.06
C36: UTILIDAD | F36: 0.05 | G36: 11045.15
C37: PRECIO UNITARIO TOTAL APROXIMADO AL PESO | G37: 287174
A40: ELABORO: PABLO CESAR ARRIETA RAMIREZ
A41: Apoyo Secretaria de Vias Departamental
A44: FECHA: Octubre de 2022

Sheet 5
A1: PROYECTO PLACA HUELLA MUNICIPIO DE GARZON | C1: ANÁLISIS DE PRECIOS UNITARIOS
A2: DEPARTAMENTO DEL HUILA
A4: OBJETO: “MEJORAMIENTO DE VÍAS TERCIARIAS MEDIANTE LA CONSTRUCCION DE PLACA HUELLA EN SITIOS CRITICOS DE LOS MUNICIPIOS DE GARZON, PITAL, AGRADO Y PAICOL DEPARTAMENTO DEL HUILA" | D4: ITEM: ACERO DE REFUERZO 4.200 KG/CM² (60.000 PSI) ESP.640-13 INV. PARA PLACAS, RIOSTRAS, CUNETAS, BORDILLOS Y DENTELLONES | I4: ITEM: ACERO DE REFUERZO 4.200 KG/CM² (60.000 PSI) ESP.640-13 INV. PARA PLACAS, RIOSTRAS, CUNETAS, BORDILLOS Y DENTELLONES
C6: No. | D6: UNIDAD: | E6: kg
C7: 5 | D7: ITEM DE PAGO: | E7: 2.4
A8: I. EQUIPO
A9: Descripción | C9: Tipo | D9: Tarifa/Hora | E9: Rendimiento | F9: Valor-Unit.
A10: HERRAMIENTA MENOR | E10: 0.05 | F10: 43.1786
F11: Sub-Total | G11: 43.1786
A12: II. MATERIALES
A13: Descripción | C13: Unidad | D13: Precio-Unit. | E13: Cantidad | F13: Valor-Unit.
A14: ACERO DE REFUERZO | C14: KG | D14: 5200 | E14: 1.05 | F14: 5460
A15: ALAMBRE NEGRO No. 18 | C15: Kg | D15: 7400 | E15: 0.0105 | F15: 77.7
F16: Sub-Total | G16: 5537.7
A17: III. TRANSPORTES
A18: Material | B18: Vol-peso ó Cant. | C18: Distancia | D18: Und.-Km | E18: Tarifa | F18: Valor-Unit.
A19: Transporte del acero desde el casco urbano | B19: 1.05 | C19: 19.71 | D19: 20.6955 | E19: 2 | F19: 41.391
F20: 0
F21: Sub-Total | G21: 41.391 | K21: 6
A22: IV. MANO DE OBRA
A23: Trabajador | B23: Jornal | C23: Prestaciones | D23: Jornal Total | E23: Rendimiento | F23: Valor-Unit.
A24: CUADRILLA (2 obreros+1 oficial). | B24: 116698.92 | C24: 185 | D24: 215893 | E24: 250 | F24: 863.57201 | H24: C21
F25: Sub-Total | G25: 863.57201
D27: Total Costo Directo | G27: 6486
C30: DESCRIPCION | F30: PORCENTAGE | G30: VR TOTAL
C31: ADMINISTRACION | F31: 0.23 | G31: 1491.78
C32: IMPREVISTOS | F32: 0.02 | G32: 129.72 | I32: Diametro | J32: Long barra | K32: Peso por barra | L32: total | M32: precio kg
C33: UTILIDAD | F33: 0.05 | G33: 324.3 | I33: 1/2" | J33: 6 | K33: 1 | L33: 6 | M33: 5333.3333
C34: PRECIO UNITARIO TOTAL APROXIMADO AL PESO | G34: 8432 | I34: 3/8" | J34: 6 | K34: 0.56 | L34: 3.36 | M34: 5505.9524
I35: 5/8" | J35: 6 | K35: 1.55 | L35: 9.3 | M35: 5505.3763
L36: promedio | M36: 5448.2207
A37: ELABORO: PABLO CESAR ARRIETA RAMIREZ
A38: Apoyo Secretaria de Vias Departamental
A41: FECHA: Octubre de 2022

Sheet 6
A1: PROYECTO PLACA HUELLA MUNICIPIO DE GARZON | C1: ANÁLISIS DE PRECIOS UNITARIOS
A2: DEPARTAMENTO DEL HUILA
A4: OBJETO: “MEJORAMIENTO DE VÍAS TERCIARIAS MEDIANTE LA CONSTRUCCION DE PLACA HUELLA EN SITIOS CRITICOS DE LOS MUNICIPIOS DE GARZON, PITAL, AGRADO Y PAICOL DEPARTAMENTO DEL HUILA" | D4: ITEM: SUMINISTRO E INSTALACIÓN DE CONCRETO NORMAL CLASE D - (F´C=210 KGF/CM2) O (3.000 PSI) PARA DENTELLONES- PLACAS - RIOSTRAS - CUNETAS - BORDILLO. | I4: ITEM: SUMINISTRO E INSTALACIÓN DE CONCRETO NORMAL CLASE D - (F´C=210 KGF/CM2) O (3.000 PSI) PARA DENTELLONES- PLACAS - RIOSTRAS - CUNETAS - BORDILLO.
C6: No. | D6: UNIDAD: | E6: m3
C7: 6 | D7: ITEM DE PAGO: | E7: 2.5
A8: I. EQUIPO
A9: Descripción | C9: Tipo | D9: Tarifa/Hora | E9: Rendimiento | F9: Valor-Unit.
A10: HERRAMIENTA MENOR | E10: 0.05 | F10: 1982.7929
A11: Vibrador de concreto, Motor de 3 hp a 18.000 rpm Mangueras de 4 mt | D11: 6000 | E11: 3 | F11: 2000
F12: Sub-Total | G12: 3982.7929
A13: II. MATERIALES
A14: Descripción | C14: Unidad | D14: Precio-Unit. | E14: Cantidad | F14: Valor-Unit.
A15: SUBPRODUCTO: CONCRETO NORMAL CLASE D- (F´C=210 KGF/CM2). | C15: M3 | D15: 419250 | E15: 1.05 | F15: 440212.5
A16: Antisol Blanco | C16: Kg | D16: 7000 | E16: 1.3 | F16: 9100
A17: Formaleta (gaviones, juntas de bordillos, juntas de cunetas, muros, concretos clase D,E, F y G) | C17: m2 | D17: 4722.55 | E17: 4.6 | F17: 21723.73
F21: Sub-Total | G21: 471036.23 | I21: 47103.623
A22: III. TRANSPORTES
A23: Material | B23: Vol-peso ó Cant. | C23: Distancia | D23: Und.-Km | E23: Tarifa | F23: Valor-Unit.
A24: TRANSPORTE MATERIAL PETREO. | B24: 1.5 | C24: 86.61 | D24: 129.915 | E24: 1233.33 | F24: 160228.07
F25: 0
F26: Sub-Total | G26: 160228.07
A27: IV. MANO DE OBRA
A28: Trabajador | B28: Jornal | C28: Prestaciones | D28: Jornal Total | E28: Rendimiento | F28: Valor-Unit.
A29: CUADRILLA (3 obreros+1 oficial). | B29: 150049.19 | C29: 185 | D29: 277591 | E29: 7 | F29: 39655.858 | H29: C31
F30: Sub-Total | G30: 39655.858
D32: Total Costo Directo | G32: 674903
C35: DESCRIPCION | F35: PORCENTAGE | G35: VR TOTAL
C36: ADMINISTRACION | F36: 0.23 | G36: 155227.69
C37: IMPREVISTOS | F37: 0.02 | G37: 13498.06
C38: UTILIDAD | F38: 0.05 | G38: 33745.15
C39: PRECIO UNITARIO TOTAL APROXIMADO AL PESO | G39: 877374
A42: ELABORO: PABLO CESAR ARRIETA RAMIREZ
A43: Apoyo Secretaria de Vias Departamental
A46: FECHA: Octubre de 2022

Sheet 7
A1: PROYECTO PLACA HUELLA MUNICIPIO DE GARZON | C1: ANÁLISIS DE PRECIOS UNITARIOS
A2: DEPARTAMENTO DEL HUILA
A4: OBJETO: “MEJORAMIENTO DE VÍAS TERCIARIAS MEDIANTE LA CONSTRUCCION DE PLACA HUELLA EN SITIOS CRITICOS DE LOS MUNICIPIOS DE GARZON, PITAL, AGRADO Y PAICOL DEPARTAMENTO DEL HUILA" | D4: ITEM: SUMINISTRO E INSTALACIÓN DE CONCRETO CICLÓPEO DE 210 KG/CM² (3.000 PSI) ESPESOR 0,15 M.60% CONCRETO NORMAL DE 210 KG/CM² (3.000 PSI) , 40% PIEDRA ESP. 630-13 INV. PARA HUELLAS. | I4: ITEM: SUMINISTRO E INSTALACIÓN DE CONCRETO CICLÓPEO DE 210 KG/CM² (3.000 PSI) ESPESOR 0,15 M.60% CONCRETO NORMAL DE 210 KG/CM² (3.000 PSI) , 40% PIEDRA ESP. 630-13 INV.
C6: No. | D6: UNIDAD: | E6: m3
C7: 7 | D7: ITEM DE PAGO: | E7: 2.6
A8: I. EQUIPO
A9: Descripción | C9: Tipo | D9: Tarifa/Hora | E9: Rendimiento | F9: Valor-Unit.
A10: HERRAMIENTA MENOR | E10: 0.1 | F10: 3965.5858
F12: Sub-Total | G12: 3965.5858
A13: II. MATERIALES
A14: Descripción | C14: Unidad | D14: Precio-Unit. | E14: Cantidad | F14: Valor-Unit.
A15: SUBPRODUCTO: CONCRETO NORMAL CLASE D- (F´C=210 KGF/CM2). | C15: M3 | D15: 419250 | E15: 0.6 | F15: 251550
A16: PIEDRA ZONGA Y/O MEDIA ZONGA (6-10)PULG. | C16: M3 | D16: 80000 | E16: 0.4 | F16: 32000
A17: Formaleta (gaviones, juntas de bordillos, juntas de cunetas, muros, concretos clase D,E, F y G) | C17: m2 | D17: 4722.55 | E17: 2 | F17: 9445.1
A18: Agua para curado | C18: Kg | D18: 40 | E18: 100 | F18: 4000
F19: Sub-Total | G19: 296995.1
A20: III. TRANSPORTES
A21: Material | B21: Vol-peso ó Cant. | C21: Distancia | D21: Und.-Km | E21: Tarifa | F21: Valor-Unit.
A22: TRANSPORTE MATERIAL PIEDRA ZONGA Y/O MEDIA ZONGA. | B22: 0.4 | C22: 86.61 | D22: 34.644 | E22: 1233.33 | F22: 42727.485
A23: TRANSPORTE MATERIAL PETREO. | B23: 0.9 | C23: 86.61 | D23: 77.949 | E23: 1233.33 | F23: 96136.84
F24: Sub-Total | G24: 138864.32
A25: IV. MANO DE OBRA
A26: Trabajador | B26: Jornal | C26: Prestaciones | D26: Jornal Total | E26: Rendimiento | F26: Valor-Unit.
A27: CUADRILLA (3 obreros+1 oficial). | B27: 150049.19 | C27: 185 | D27: 277591 | E27: 7 | F27: 39655.858 | H27: C31
F28: Sub-Total | G28: 39655.858
D30: Total Costo Directo | G30: 479481
C33: DESCRIPCION | F33: PORCENTAGE | G33: VR TOTAL
C34: ADMINISTRACION | F34: 0.23 | G34: 110280.63
C35: IMPREVISTOS | F35: 0.02 | G35: 9589.62
C36: UTILIDAD | F36: 0.05 | G36: 23974.05
C37: PRECIO UNITARIO TOTAL APROXIMADO AL PESO | G37: 623325
A40: ELABORO: PABLO CESAR ARRIETA RAMIREZ
A41: Apoyo Secretaria de Vias Departamental
A44: FECHA: Octubre de 2022

Sheet 8
A1: PROYECTO PLACA HUELLA MUNICIPIO DE GARZON | C1: ANÁLISIS DE PRECIOS UNITARIOS
A2: DEPARTAMENTO DEL HUILA
A4: OBJETO: “MEJORAMIENTO DE VÍAS TERCIARIAS MEDIANTE LA CONSTRUCCION DE PLACA HUELLA EN SITIOS CRITICOS DE LOS MUNICIPIOS DE GARZON, PITAL, AGRADO Y PAICOL DEPARTAMENTO DEL HUILA" | D4: ITEM: SUMINISTRO E INSTALACIÓN DE SOLADO DE LIMPIEZA EN CONCRETO NORMAL CLASE F- (F´C=140 KGF/CM2). PARA OBRAS DE ARTE. | I4: ITEM: SUMINISTRO E INSTALACIÓN DE SOLADO DE LIMPIEZA EN CONCRETO NORMAL CLASE F- (F´C=140 KGF/CM2).
C6: No. | D6: UNIDAD: | E6: m3
C7: 8 | D7: ITEM DE PAGO: | E7: 3.1
A8: I. EQUIPO
A9: Descripción | C9: Tipo | D9: Tarifa/Hora | E9: Rendimiento | F9: Valor-Unit.
A10: HERRAMINETA MENOR(%) | E10: 0.1 | F10: 3469.8875
F12: Sub-Total | G12: 3469.8875 | I12: 20
A13: II. MATERIALES
A14: Descripción | C14: Unidad | D14: Precio-Unit. | E14: Cantidad | F14: Valor-Unit.
A15: subproducto: concreto normal clase f- (f´c=140 kgf/cm2). | C15: M3 | D15: 364808 | E15: 1.05 | F15: 383048.4 | I15: ,48 m3 de concret
A16: agua curado | C16: LITRO | D16: 40 | E16: 50 | F16: 2000 | I16: 0.192
J17: 1 | K17: litro | L17: 0.001 | M17: m3
F18: Sub-Total | G18: 385048.4 | J18: 192 | L18: 0.192
A19: III. TRANSPORTES
A20: Material | B20: Vol-peso ó Cant. | C20: Distancia | D20: Und.-Km | E20: Tarifa | F20: Valor-Unit.
A21: TRANSPORTE MATERIAL PETREO. | B21: 1.47 | C21: 86.61 | D21: 127.3167 | E21: 1233.33 | F21: 157023.51
F22: 0
F23: Sub-Total | G23: 157023.51
A24: IV. MANO DE OBRA
A25: Trabajador | B25: Jornal | C25: Prestaciones | D25: Jornal Total | E25: Rendimiento | F25: Valor-Unit.
A26: CUADRILLA (3 obreros+1 oficial). | B26: 150049.19 | C26: 185 | D26: 277591 | E26: 8 | F26: 34698.875 | H26: C31 | I26: 600
F27: Sub-Total | G27: 34698.875
D29: Total Costo Directo | G29: 580241
C32: DESCRIPCION | F32: PORCENTAGE | G32: VR TOTAL
C33: ADMINISTRACION | F33: 0.23 | G33: 133455.43
C34: IMPREVISTOS | F34: 0.02 | G34: 11604.82
C35: UTILIDAD | F35: 0.05 | G35: 29012.05
C36: PRECIO UNITARIO TOTAL APROXIMADO AL PESO | G36: 754313
A39: ELABORO: PABLO CESAR ARRIETA RAMIREZ
A40: Apoyo Secretaria de Vias Departamental
A43: FECHA: Octubre de 2022

Sheet 9
A1: PROYECTO PLACA HUELLA MUNICIPIO DE GARZON | C1: ANÁLISIS DE PRECIOS UNITARIOS
A2: DEPARTAMENTO DEL HUILA
A4: OBJETO: “MEJORAMIENTO DE VÍAS TERCIARIAS MEDIANTE LA CONSTRUCCION DE PLACA HUELLA EN SITIOS CRITICOS DE LOS MUNICIPIOS DE GARZON, PITAL, AGRADO Y PAICOL DEPARTAMENTO DEL HUILA" | D4: ITEM: SUMINISTRO E INSTALACIÓN DE CONCRETO NORMAL CLASE D- (F´C=210 KGF/CM2). PARA CONSTRUCCION DE ENCOLES, DESCOLES Y PLACAS DE SOBREPISO DE ALCANTARILLAS. | I4: ITEM: SUMINISTRO E INSTALACIÓN DE CONCRETO NORMAL CLASE D- (F´C=210 KGF/CM2). PARA CONSTRUCCION DE ENCOLES, DESCOLES Y PLACAS DE SOBREPISO DE ALCANTARILLAS.
C6: No. | D6: UNIDAD: | E6: m3
C7: 9 | D7: ITEM DE PAGO: | E7: 3.2
A8: I. EQUIPO
A9: Descripción | C9: Tipo | D9: Tarifa/Hora | E9: Rendimiento | F9: Valor-Unit.
A10: HERRAMIENTA MENOR | E10: 0.05 | F10: 1982.7929
A11: Vibrador de concreto, Motor de 3 hp a 18.000 rpm Mangueras de 4 mt | D11: 6000 | E11: 3 | F11: 2000
F12: Sub-Total | G12: 3982.7929
A13: II. MATERIALES
A14: Descripción | C14: Unidad | D14: Precio-Unit. | E14: Cantidad | F14: Valor-Unit.
A15: SUBPRODUCTO: CONCRETO NORMAL CLASE D- (F´C=210 KGF/CM2). | C15: M3 | D15: 419250 | E15: 1.05 | F15: 440212.5
A16: Antisol Blanco | C16: Kg | D16: 7000 | E16: 1.3 | F16: 9100
A17: Formaleta (gaviones, juntas de bordillos, juntas de cunetas, muros, concretos clase D,E, F y G) | C17: m2 | D17: 4722.55 | E17: 4.6 | F17: 21723.73
F21: Sub-Total | G21: 471036.23 | I21: 47103.623
A22: III. TRANSPORTES
A23: Material | B23: Vol-peso ó Cant. | C23: Distancia | D23: Und.-Km | E23: Tarifa | F23: Valor-Unit.
A24: TRANSPORTE MATERIAL PETREO. | B24: 1.5 | C24: 86.61 | D24: 129.915 | E24: 1233.33 | F24: 160228.07
F26: Sub-Total | G26: 160228.07
A27: IV. MANO DE OBRA
A28: Trabajador | B28: Jornal | C28: Prestaciones | D28: Jornal Total | E28: Rendimiento | F28: Valor-Unit.
A29: CUADRILLA (3 obreros+1 oficial). | B29: 150049.19 | C29: 185 | D29: 277591 | E29: 7 | F29: 39655.858 | H29: C31
F30: Sub-Total | G30: 39655.858
D32: Total Costo Directo | G32: 674903
C35: DESCRIPCION | F35: PORCENTAGE | G35: VR TOTAL
C36: ADMINISTRACION | F36: 0.23 | G36: 155227.69
C37: IMPREVISTOS | F37: 0.02 | G37: 13498.06
C38: UTILIDAD | F38: 0.05 | G38: 33745.15
C39: PRECIO UNITARIO TOTAL APROXIMADO AL PESO | G39: 877374
A42: ELABORO: PABLO CESAR ARRIETA RAMIREZ
A43: Apoyo Secretaria de Vias Departamental
A46: FECHA: Octubre de 2022

Sheet 10
A1: PROYECTO PLACA HUELLA MUNICIPIO DE GARZON | C1: ANÁLISIS DE PRECIOS UNITARIOS
A2: DEPARTAMENTO DEL HUILA
A4: OBJETO: “MEJORAMIENTO DE VÍAS TERCIARIAS MEDIANTE LA CONSTRUCCION DE PLACA HUELLA EN SITIOS CRITICOS DE LOS MUNICIPIOS DE GARZON, PITAL, AGRADO Y PAICOL DEPARTAMENTO DEL HUILA" | D4: ITEM: SUMINISTRO E INTALACION DE TUBERIA EN CONCRETO F=36", L=1M. ESP. 661-13 INV. | I4: ITEM: SUMINISTRO E INTALACION DE TUBERIA EN CONCRETO F=36", L=1M. ESP. 661-13 INV.
C6: No. | D6: UNIDAD: | E6: m
C7: 10 | D7: ITEM DE PAGO: | E7: 3.3
A8: I. EQUIPO
A9: Descripción | C9: Tipo | D9: Tarifa/Hora | E9: Rendimiento | F9: Valor-Unit.
A10: HERRAMIENTA MENOR | E10: 0.1 | F10: 1156.6292
A11: RETROEXCAVADORA DE LLANTAS | D11: 113000 | E11: 3 | F11: 37666.667
F13: Sub-Total | G13: 38823.296
A14: II. MATERIALES
A15: Descripción | C15: Unidad | D15: Precio-Unit. | E15: Cantidad | F15: Valor-Unit.
A16: TUBO EN CONCRETO REFORZADO 36" EN CONCRETO F'c=28 Mpa. Especificación AASHTO M-170M y NTC 401. | C16: ML | D16: 280000 | E16: 1 | F16: 280000
A17: SUBPRODUCTO: CONCRETO NORMAL CLASE F - ( F'C=140 KGF/CM2). PARA ATRAQUE. | C17: M3 | D17: 364808 | E17: 0.06 | F17: 21888.48
A18: SUBPRODUCTO : MORTERO RELACION 1:3.PARA JUNTAS. | C18: M3 | D18: 399568 | E18: 0.06 | F18: 23974.08
F19: Sub-Total | G19: 325862.56
A20: III. TRANSPORTES
A21: Material | B21: Vol-peso ó Cant. | C21: Distancia | D21: Und.-Km | E21: Tarifa | F21: Valor-Unit.
A22: Transporte de tubo | B22: 825 | C22: 19.71 | D22: 16260.75 | E22: 2 | F22: 32521.5
A23: TRANSPORTE MATERIAL PETREO. | B23: 0.12 | C23: 67.82 | D23: 8.1384 | E23: 1233.33 | F23: 10037.333
F24: Sub-Total | G24: 42558.833
A25: IV. MANO DE OBRA
A26: Trabajador | B26: Jornal | C26: Prestaciones | D26: Jornal Total | E26: Rendimiento | F26: Valor-Unit.
A27: CUADRILLA (3 obreros+1 oficial). | B27: 150049.19 | C27: 185 | D27: 277591 | E27: 24 | F27: 11566.292 | H27: C31
F28: Sub-Total | G28: 11566.292
D30: Total Costo Directo | G30: 418811
C33: DESCRIPCION | F33: PORCENTAGE | G33: VR TOTAL
C34: ADMINISTRACION | F34: 0.23 | G34: 96326.53
C35: IMPREVISTOS | F35: 0.02 | G35: 8376.22
C36: UTILIDAD | F36: 0.05 | G36: 20940.55
C37: PRECIO UNITARIO TOTAL APROXIMADO AL PESO | G37: 544454
A40: ELABORO: PABLO CESAR ARRIETA RAMIREZ
A41: Apoyo Secretaria de Vias Departamental
A44: FECHA: Octubre de 2022

Sheet 11
A1: PROYECTO PLACA HUELLA MUNICIPIO DE GARZON | C1: ANÁLISIS DE PRECIOS UNITARIOS
A2: DEPARTAMENTO DEL HUILA
A4: OBJETO: “MEJORAMIENTO DE VÍAS TERCIARIAS MEDIANTE LA CONSTRUCCION DE PLACA HUELLA EN SITIOS CRITICOS DE LOS MUNICIPIOS DE GARZON, PITAL, AGRADO Y PAICOL DEPARTAMENTO DEL HUILA" | D4: ITEM: ACERO DE REFUERZO 4.200 KG/CM² (60.000 PSI) ESP.640-13 INV. PARA ALCANTARILLA, BOX, MUROS. | I4: ITEM: ACERO DE REFUERZO 4.200 KG/CM² (60.000 PSI) ESP.640-13 INV. PARA ALCANTARILLA, BOX, MUROS.
C6: No. | D6: UNIDAD: | E6: Kg
C7: 11 | D7: ITEM DE PAGO: | E7: 3.4
A8: I. EQUIPO
A9: Descripción | C9: Tipo | D9: Tarifa/Hora | E9: Rendimiento | F9: Valor-Unit.
A10: HERRAMIENTA MENOR | E10: 0.05 | F10: 43.1786
F11: Sub-Total | G11: 43.1786
A12: II. MATERIALES
A13: Descripción | C13: Unidad | D13: Precio-Unit. | E13: Cantidad | F13: Valor-Unit.
A14: ACERO DE REFUERZO | C14: KG | D14: 5200 | E14: 1.05 | F14: 5460
A15: ALAMBRE NEGRO No. 18 | C15: Kg | D15: 7400 | E15: 0.0105 | F15: 77.7
F16: Sub-Total | G16: 5537.7
A17: III. TRANSPORTES
A18: Material | B18: Vol-peso ó Cant. | C18: Distancia | D18: Und.-Km | E18: Tarifa | F18: Valor-Unit.
A19: Transporte del acero desde el casco urbano | B19: 1.05 | C19: 19.71 | D19: 20.6955 | E19: 2 | F19: 41.391
F20: 0
F21: Sub-Total | G21: 41.391
A22: IV. MANO DE OBRA
A23: Trabajador | B23: Jornal | C23: Prestaciones | D23: Jornal Total | E23: Rendimiento | F23: Valor-Unit.
A24: CUADRILLA (2 obreros+1 oficial). | B24: 116698.92 | C24: 185 | D24: 215893 | E24: 250 | F24: 863.57201 | H24: C21
F25: Sub-Total | G25: 863.57201
D27: Total Costo Directo | G27: 6486
C30: DESCRIPCION | F30: PORCENTAGE | G30: VR TOTAL
C31: ADMINISTRACION | F31: 0.23 | G31: 1491.78
C32: IMPREVISTOS | F32: 0.02 | G32: 129.72
C33: UTILIDAD | F33: 0.05 | G33: 324.3
C34: PRECIO UNITARIO TOTAL APROXIMADO AL PESO | G34: 8432
A37: ELABORO: PABLO CESAR ARRIETA RAMIREZ
A38: Apoyo Secretaria de Vias Departamental
A41: FECHA: Octubre de 2022

Sheet 12
A1: PROYECTO PLACA HUELLA MUNICIPIO DE GARZON | C1: ANÁLISIS DE PRECIOS UNITARIOS
A2: DEPARTAMENTO DEL HUILA
A4: OBJETO: “MEJORAMIENTO DE VÍAS TERCIARIAS MEDIANTE LA CONSTRUCCION DE PLACA HUELLA EN SITIOS CRITICOS DE LOS MUNICIPIOS DE GARZON, PITAL, AGRADO Y PAICOL DEPARTAMENTO DEL HUILA" | D4: ITEM: SUMINISTRO E INSTALACION MATERIAL GRANULAR FILTRANTE. ESP. 673-13 INV. | I4: ITEM: SUMINISTRO E INSTALACION MATERIAL GRANULAR FILTRANTE. ESP. 673-13 INV.
C6: No. | D6: UNIDAD: | E6: m3
C7: 12 | D7: ITEM DE PAGO: | E7: 3.5
A8: I. EQUIPO
A9: Descripción | C9: Tipo | D9: Tarifa/Hora | E9: Rendimiento | F9: Valor-Unit.
A10: HERRAMIENTA MENOR | E10: 0.1 | F10: 555.18201
F12: Sub-Total | G12: 555.18201
A13: II. MATERIALES | J13: A | K13: H | L13: L | M13: M3
A14: Descripción | C14: Unidad | D14: Precio-Unit. | E14: Cantidad | F14: Valor-Unit. | J14: 0.4 | K14: 0.6 | L14: 4 | M14: 0.96
A15: GEOTEXTIL N.T. 2500 Ó SIMILAR.ESP. 673-13 INV. | C15: M2 | D15: 5100 | E15: 8 | F15: 40800
A16: TUBERIA PERFORADA 4" | C16: m | D16: 2174.4203 | E16: 4 | F16: 8697.681 | K16: 2 | L16: 8
A17: MATERIAL GRANULAR DRENANTE ENTRE 3" Y 3/4" | C17: M3 | D17: 95200 | E17: 1 | F17: 95200
F18: Sub-Total | G18: 144697.68
A19: III. TRANSPORTES
A20: Material | B20: Vol-peso ó Cant. | C20: Distancia | D20: Und.-Km | E20: Tarifa | F20: Valor-Unit.
A21: TRANSPORTE MATERIAL GRANULAR | B21: 1 | C21: 86.61 | D21: 86.61 | E21: 1233.33 | F21: 106818.71
F22: 0
F23: Sub-Total | G23: 106818.71 | I23: QUEDO CON EL TRANSPORTE
A24: IV. MANO DE OBRA
A25: Trabajador | B25: Jornal | C25: Prestaciones | D25: Jornal Total | E25: Rendimiento | F25: Valor-Unit.
A26: CUADRILLA (3 obreros+1 oficial). | B26: 150049.19 | C26: 185 | D26: 277591 | E26: 50 | F26: 5551.8201 | H26: C31
F27: Sub-Total | G27: 5551.8201
J28: 16034
D29: Total Costo Directo | G29: 257623 | I29: 160924 | J29: -96699
C32: DESCRIPCION | F32: PORCENTAGE | G32: VR TOTAL
C33: ADMINISTRACION | F33: 0.23 | G33: 59253.29
C34: IMPREVISTOS | F34: 0.02 | G34: 5152.46
C35: UTILIDAD | F35: 0.05 | G35: 12881.15
C36: PRECIO UNITARIO TOTAL APROXIMADO AL PESO | G36: 334910
A39: ELABORO: PABLO CESAR ARRIETA RAMIREZ
A40: Apoyo Secretaria de Vias Departamental
A43: FECHA: Octubre de 2022

Sheet 13
A1: PROYECTO PLACA HUELLA MUNICIPIO DE GARZON | C1: ANÁLISIS DE PRECIOS UNITARIOS
A2: DEPARTAMENTO DEL HUILA
A4: OBJETO: “MEJORAMIENTO DE VÍAS TERCIARIAS MEDIANTE LA CONSTRUCCION DE PLACA HUELLA EN SITIOS CRITICOS DE LOS MUNICIPIOS DE GARZON, PITAL, AGRADO Y PAICOL DEPARTAMENTO DEL HUILA" | D4: ITEM: TERRAPLEN / MEJORAMIENTO CONFORMADO CON MATERIAL SELECCIONADO. ESP. 220.1-13 INV. | I4: ITEM: RELLENOS CONFORMADO CON MATERIAL SELECCIONADO. ESP. 220.1-13 INV.
C6: No. | D6: UNIDAD: | E6: m3
C7: 13 | D7: ITEM DE PAGO: | E7: 3.6
A8: I. EQUIPO
A9: Descripción | C9: Tipo | D9: Tarifa/Hora | E9: Rendimiento | F9: Valor-Unit.
A10: HERRAMIENTA MENOR | E10: 0.05 | F10: 107.9465
A11: Vibrocompatador, potencia 153 HP, peso 10 Ton. | D11: 121000 | E11: 50 | F11: 2420 | J11: 121975 | K11: 50 | M11: 2439.5
A12: Motoniveladora potencia 215 HP, ancho de cuchilla 4,27 m, peso 18 ton. | D12: 166000 | E12: 50 | F12: 3320
A13: Carrotanque de agua(1000 Galones) | D13: 116000 | E13: 50 | F13: 2320
F14: Sub-Total | G14: 8167.9465
A15: II. MATERIALES
A16: Descripción | C16: Unidad | D16: Precio-Unit. | E16: Cantidad | F16: Valor-Unit.
A17: MATERIAL GRANULAR CLASIFICADO COMO SELECCIONADO. ESP. 220-13 INV. | C17: M3 | D17: 29750 | E17: 1.3 | F17: 38675
A18: Agua | C18: Lt | D18: 40 | E18: 25 | F18: 1000
F23: Sub-Total | G23: 39675
A24: III. TRANSPORTES
A25: Material | B25: Vol-peso ó Cant. | C25: Distancia | D25: Und.-Km | E25: Tarifa | F25: Valor-Unit.
A26: TRANSPORTE MATERIAL PÉTREO. ACARREO | B26: 1.3 | C26: 86.61 | D26: 112.593 | E26: 1233.33 | F26: 138864.32
F27: 0
F28: Sub-Total | G28: 138864.32
A29: IV. MANO DE OBRA
A30: Trabajador | B30: Jornal | C30: Prestaciones | D30: Jornal Total | E30: Rendimiento | F30: Valor-Unit.
A31: CUADRILLA (2 obreros+1 oficial). | B31: 116698.92 | C31: 185 | D31: 215893 | E31: 100 | F31: 2158.93 | H31: C21
F32: Sub-Total | G32: 2158.93
D34: Total Costo Directo | G34: 188866
C37: DESCRIPCION | F37: PORCENTAGE | G37: VR TOTAL
C38: ADMINISTRACION | F38: 0.23 | G38: 43439.18
C39: IMPREVISTOS | F39: 0.02 | G39: 3777.32
C40: UTILIDAD | F40: 0.05 | G40: 9443.3
C41: PRECIO UNITARIO TOTAL APROXIMADO AL PESO | G41: 245526
A44: ELABORO: PABLO CESAR ARRIETA RAMIREZ
A45: Apoyo Secretaria de Vias Departamental
A48: FECHA: Octubre de 2022

Sheet 14
A1: PROYECTO PLACA HUELLA MUNICIPIO DE EL PITAL | C1: ANÁLISIS DE PRECIOS UNITARIOS
A2: DEPARTAMENTO DEL HUILA
A4: OBJETO: “MEJORAMIENTO DE VÍAS TERCIARIAS MEDIANTE LA CONSTRUCCION DE PLACA HUELLA EN SITIOS CRITICOS DE LOS MUNICIPIOS DE GARZON, EL PITAL, EL AGRADO Y PAICOL DEPARTAMENTO DEL HUILA" | D4: ITEM: LOCALIZACIÓN Y REPLANTEO. | I4: ITEM: LOCALIZACIÓN Y REPLANTEO.
C6: No. | D6: UNIDAD: | E6: m
C7: 14 | D7: ITEM DE PAGO: | E7: 1.1
A8: I. EQUIPO
A9: Descripción | C9: Tipo | D9: Tarifa/Hora | E9: Rendimiento | F9: Valor-Unit.
A10: HERRAMIENTA MENOR | E10: 0.1 | F10: 154.2
F13: Sub-Total | G13: 154
A14: II. MATERIALES
A15: Descripción | C15: Unidad | D15: Precio-Unit. | E15: Cantidad | F15: Valor-Unit.
A16: ALAMBRE NEGRO No. 18 | C16: Kg | D16: 7400 | E16: 0.01 | F16: 74
A17: DURMIENTE ORDINARIO 4*4 CM | C17: m | D17: 3000 | E17: 0.5 | F17: 1500
A18: PUNTILLA DE 1" | C18: lb | D18: 2600 | E18: 0.01 | F18: 26
F19: Sub-Total | G19: 1600
A20: III. TRANSPORTES
A21: Material | B21: Vol-peso ó Cant. | C21: Distancia | D21: Und.-Km | E21: Tarifa | F21: Valor-Unit.
C22: 0 | D22: 0 | F22: 0
F23: 0
F24: Sub-Total | G24: 0
A25: IV. MANO DE OBRA
A26: Trabajador | B26: Jornal | C26: Prestaciones | D26: Jornal Total | E26: Rendimiento | F26: Valor-Unit.
A27: CUADRILLA (2 obreros+1 oficial). | B27: 116698.92 | C27: 185 | D27: 215893 | E27: 140 | F27: 1542.0929 | H27: C21
F28: Sub-Total | G28: 1542
D30: Total Costo Directo | G30: 3296
D33: DESCRIPCION | F33: PORCENTAGE | G33: VR TOTAL
D34: ADMINISTRACION | F34: 0.23 | G34: 758.08
D35: IMPREVISTOS | F35: 0.02 | G35: 65.92
D36: UTILIDAD | F36: 0.05 | G36: 164.8
D37: PRECIO UNITARIO TOTAL APROXIMADO AL PESO | G37: 4285
A40: ELABORO: PABLO CESAR ARRIETA RAMIREZ
A41: Apoyo Secretaria de Vias Departamental
A44: FECHA: Agosto de 2022

Sheet 15
A1: PROYECTO PLACA HUELLA MUNICIPIO DE EL PITAL | C1: ANÁLISIS DE PRECIOS UNITARIOS
A2: DEPARTAMENTO DEL HUILA
A4: OBJETO: “MEJORAMIENTO DE VÍAS TERCIARIAS MEDIANTE LA CONSTRUCCION DE PLACA HUELLA EN SITIOS CRITICOS DE LOS MUNICIPIOS DE GARZON, EL PITAL, EL AGRADO Y PAICOL DEPARTAMENTO DEL HUILA" | D4: ITEM: EXCAVACIÓN MECÁNICA (EXPLANACIÓN). ESP. 210-13 INV. INCLUYE RETIRO DE MATERIAL PROVENIENTE DE LA EXCAVACIÓN A DISPOSICIÓN FINAL DEL MISMO. | I4: ITEM: EXCAVACIÓN MECÁNICA (EXPLANACIÓN). ESP. 210-13 INV. INCLUYE RETIRO DE MATERIAL PROVENIENTE DE LA EXCAVACIÓN A DISPOSICIÓN FINAL DEL MISMO.
C6: No. | D6: UNIDAD: | E6: m3
C7: 15 | D7: ITEM DE PAGO: | E7: 2.1
A8: I. EQUIPO
A9: Descripción | C9: Tipo | D9: Tarifa/Hora | E9: Rendimiento | F9: Valor-Unit.
A10: HERRAMIENTA MENOR | E10: 0.01 | F10: 8.566389
A11: Retroexcavadora sobre oruga, potencia 138 HP, balde de 1,5 m3. | D11: 168000 | E11: 35 | F11: 4800
F14: Sub-Total | G14: 4808.5664
A15: II. MATERIALES
A16: Descripción | C16: Unidad | D16: Precio-Unit. | E16: Cantidad | F16: Valor-Unit.
A17: Derechos de explotación y/o disposición de materiales | C17: M3 | D17: 6667 | E17: 1.3 | F17: 8667.1
F19: Sub-Total | G19: 8667.1
A20: III. TRANSPORTES
A21: Material | B21: Vol-peso ó Cant. | C21: Distancia | D21: Und.-Km | E21: Tarifa | F21: Valor-Unit.
A22: TRANSPORTE DE MATERIAL SOBRANTES PROVENIENTE DE LA EXCAVACIÓN | B22: 1.3 | C22: 5 | D22: 6.5 | E22: 1233.33 | F22: 8016.645
F24: Sub-Total | G24: 8016.645
A25: IV. MANO DE OBRA
A26: Trabajador | B26: Jornal | C26: Prestaciones | D26: Jornal Total | E26: Rendimiento | F26: Valor-Unit.
A27: CUADRILLA (1 obrero+1 oficial). | B27: 83348.65 | C27: 185 | D27: 154195 | E27: 180 | F27: 856.6389 | H27: C11
F28: Sub-Total | G28: 856.6389
D30: Total Costo Directo | G30: 22349
C33: DESCRIPCION | F33: PORCENTAGE | G33: VR TOTAL
C34: ADMINISTRACION | F34: 0.23 | G34: 5140.27
C35: IMPREVISTOS | F35: 0.02 | G35: 446.98
C36: UTILIDAD | F36: 0.05 | G36: 1117.45
C37: PRECIO UNITARIO TOTAL APROXIMADO AL PESO | G37: 29054
A40: ELABORO: PABLO CESAR ARRIETA RAMIREZ
A41: Apoyo Secretaria de Vias Departamental
A44: FECHA: Agosto de 2022

Sheet 16
A1: PROYECTO PLACA HUELLA MUNICIPIO DE EL PITAL | C1: ANÁLISIS DE PRECIOS UNITARIOS
A2: DEPARTAMENTO DEL HUILA
A4: OBJETO: “MEJORAMIENTO DE VÍAS TERCIARIAS MEDIANTE LA CONSTRUCCION DE PLACA HUELLA EN SITIOS CRITICOS DE LOS MUNICIPIOS DE GARZON, EL PITAL, EL AGRADO Y PAICOL DEPARTAMENTO DEL HUILA" | D4: ITEM: EXCAVACION MANUAL EN MATERIAL SECO (INCLUYE TRANSPORTE A SITIO AUTORIZADO.) | I4: ITEM: EXCAVACION MANUAL EN MATERIAL SECO (INCLUYE TRANSPORTE A SITIO AUTORIZADO.)
C6: No. | D6: UNIDAD: | E6: m3
C7: 16 | D7: ITEM DE PAGO: | E7: 2.2
A8: I. EQUIPO
A9: Descripción | C9: Tipo | D9: Tarifa/Hora | E9: Rendimiento | F9: Valor-Unit.
A10: HERRAMIENTA MENOR | E10: 0.1 | F10: 1199.4056
F14: Sub-Total | G14: 1199.4056
A15: II. MATERIALES
A16: Descripción | C16: Unidad | D16: Precio-Unit. | E16: Cantidad | F16: Valor-Unit.
A18: Derechos de explotación y/o disposición de materiales | C18: M3 | D18: 6667 | E18: 1.3 | F18: 8667.1
F21: Sub-Total | G21: 8667.1
A22: III. TRANSPORTES
A23: Material | B23: Vol-peso ó Cant. | C23: Distancia | D23: Und.-Km | E23: Tarifa | F23: Valor-Unit.
A24: TRANSPORTE DE MATERIAL SOBRANTES PROVENIENTE DE LA EXCAVACIÓN | B24: 1.3 | C24: 5 | D24: 6.5 | E24: 1233.33 | F24: 8016.645
F26: Sub-Total | G26: 8016.645
A27: IV. MANO DE OBRA
A28: Trabajador | B28: Jornal | C28: Prestaciones | D28: Jornal Total | E28: Rendimiento | F28: Valor-Unit.
A29: CUADRILLA (2 obreros+1 oficial). | B29: 116698.92 | C29: 185 | D29: 215893 | E29: 18 | F29: 11994.056 | H29: C21
F30: Sub-Total | G30: 11994.056
D32: Total Costo Directo | G32: 29877
C35: DESCRIPCION | F35: PORCENTAGE | G35: VR TOTAL
C36: ADMINISTRACION | F36: 0.23 | G36: 6871.71
C37: IMPREVISTOS | F37: 0.02 | G37: 597.54
C38: UTILIDAD | F38: 0.05 | G38: 1493.85
C39: PRECIO UNITARIO TOTAL APROXIMADO AL PESO | G39: 38840
A42: ELABORO: PABLO CESAR ARRIETA RAMIREZ
A43: Apoyo Secretaria de Vias Departamental
A46: FECHA: Agosto de 2022

Sheet 17
A1: PROYECTO PLACA HUELLA MUNICIPIO DE EL PITAL | C1: ANÁLISIS DE PRECIOS UNITARIOS
A2: DEPARTAMENTO DEL HUILA
A4: OBJETO: “MEJORAMIENTO DE VÍAS TERCIARIAS MEDIANTE LA CONSTRUCCION DE PLACA HUELLA EN SITIOS CRITICOS DE LOS MUNICIPIOS DE GARZON, EL PITAL, EL AGRADO Y PAICOL DEPARTAMENTO DEL HUILA" | D4: ITEM: SUMINISTRO, INSTALACION, EXTENDIDA, NIVELACION, HUMEDECIMIENTO O AIREACION Y COMPACTACION DE SUBBASE GRANULAR CBR ≥ 40%. ESP. 320-13 INV. | J4: ITEM: SUMINISTRO, INSTALACION, EXTENDIDA, NIVELACION, HUMEDECIMIENTO O AIREACION Y COMPACTACION DE SUBBASE GRANULAR CBR ≥ 40%. ESP. 320-13 INV.
C6: No. | D6: UNIDAD: | E6: m3
C7: 17 | D7: ITEM DE PAGO: | E7: 2.3
A8: I. EQUIPO
A9: Descripción | C9: Tipo | D9: Tarifa/Hora | E9: Rendimiento | F9: Valor-Unit.
A10: Motoniveladora potencia 215 HP, ancho de cuchilla 4,27 m, peso 18 ton. | D10: 166000 | E10: 45 | F10: 3688.8889
A11: Vibrocompatador, potencia 153 HP, peso 10 Ton. | D11: 121000 | E11: 45 | F11: 2688.8889
A12: Carrotanque de agua(1000 Galones) | D12: 116000 | E12: 45 | F12: 2577.7778
A13: HERRAMIENTA MENOR | E13: 0.01 | F13: 6.1683715
F14: Sub-Total | G14: 8961.7239
A15: II. MATERIALES
A16: Descripción | C16: Unidad | D16: Precio-Unit. | E16: Cantidad | F16: Valor-Unit.
A17: SUB-BASE GRANULAR CBR 40%-ESP. 320-13. INVIAS. | C17: M3 | D17: 55000 | E17: 1.3 | F17: 71500
A18: AGUA | C18: Lt | D18: 40 | E18: 24 | F18: 960
F19: Sub-Total | G19: 72460
A20: III. TRANSPORTES
A21: Material | B21: Vol-peso ó Cant. | C21: Distancia | D21: Und.-Km | E21: Tarifa | F21: Valor-Unit.
A22: TRANSPORTE MATERIAL PETREO. | B22: 1.3 | C22: 74.14 | D22: 96.382 | E22: 1233.33 | F22: 118870.81
F23: 0
F24: Sub-Total | G24: 118870.81
A25: IV. MANO DE OBRA
A26: Trabajador | B26: Jornal | C26: Prestaciones | D26: Jornal Total | E26: Rendimiento | F26: Valor-Unit.
A27: CUADRILLA (2 obreros+1 oficial). | B27: 116698.92 | C27: 185 | D27: 215893 | E27: 350 | F27: 616.83715 | H27: C21
F28: Sub-Total | G28: 616.83715
D30: Total Costo Directo | G30: 200909 | I30: 18081810
C33: DESCRIPCION | F33: PORCENTAGE | G33: VR TOTAL
C34: ADMINISTRACION | F34: 0.23 | G34: 46209.07
C35: IMPREVISTOS | F35: 0.02 | G35: 4018.18
C36: UTILIDAD | F36: 0.05 | G36: 10045.45
C37: PRECIO UNITARIO TOTAL APROXIMADO AL PESO | G37: 261182
A40: ELABORO: PABLO CESAR ARRIETA RAMIREZ
A41: Apoyo Secretaria de Vias Departamental
A44: FECHA: Agosto de 2022

Sheet 18
A1: PROYECTO PLACA HUELLA MUNICIPIO DE EL PITAL | C1: ANÁLISIS DE PRECIOS UNITARIOS
A2: DEPARTAMENTO DEL HUILA
A4: OBJETO: “MEJORAMIENTO DE VÍAS TERCIARIAS MEDIANTE LA CONSTRUCCION DE PLACA HUELLA EN SITIOS CRITICOS DE LOS MUNICIPIOS DE GARZON, EL PITAL, EL AGRADO Y PAICOL DEPARTAMENTO DEL HUILA" | D4: ITEM: ACERO DE REFUERZO 4.200 KG/CM² (60.000 PSI) ESP.640-13 INV. PARA PLACAS, RIOSTRAS, CUNETAS, BORDILLOS Y DENTELLONES | I4: ITEM: ACERO DE REFUERZO 4.200 KG/CM² (60.000 PSI) ESP.640-13 INV. PARA PLACAS, RIOSTRAS, CUNETAS, BORDILLOS Y DENTELLONES
C6: No. | D6: UNIDAD: | E6: kg
C7: 18 | D7: ITEM DE PAGO: | E7: 2.4
A8: I. EQUIPO
A9: Descripción | C9: Tipo | D9: Tarifa/Hora | E9: Rendimiento | F9: Valor-Unit.
A10: HERRAMIENTA MENOR | E10: 0.05 | F10: 43.1786
F11: Sub-Total | G11: 43.1786
A12: II. MATERIALES
A13: Descripción | C13: Unidad | D13: Precio-Unit. | E13: Cantidad | F13: Valor-Unit.
A14: ACERO DE REFUERZO | C14: KG | D14: 5200 | E14: 1.05 | F14: 5460
A15: ALAMBRE NEGRO No. 18 | C15: Kg | D15: 7400 | E15: 0.0105 | F15: 77.7
F16: Sub-Total | G16: 5537.7
A17: III. TRANSPORTES
A18: Material | B18: Vol-peso ó Cant. | C18: Distancia | D18: Und.-Km | E18: Tarifa | F18: Valor-Unit.
