Workbook
Name PRINT_AREA: #N/A
Name PRINT_AREA_MI: #N/A
Name PRINT_TITLES: #N/A
Name PRINT_TITLES_MI: #N/A

Sheet CONSOLIDADO PONDERABLES
A1: FONDO DE DESARROLLO LOCAL DE ENGATIVÁ
A2: CONCURSO DE MÉRITOS ABIERTO FDLE-CMA-275-2023
A4: CONSOLIDADO EVALUACIÓN DEFINITIVA
B8: FACTORES PONDERABLES / PUNTAJE FINAL | C8: HABILITADO FINANCIERO | D8: HABILITADO JURIDICO | E8: HABILITADO TÉCNICO | F8: HABILITADO | G8: PROMEDIO DE EXPERIENCIA DEL PROPONENTE | H8: DIFERENCIA ABSOLUTA CON LA MEDIA GEOMÉTRICA | I8: EXPERIENCIA DEL PROPONENTE (67,5 PUNTOS) | J8: EQUIPO DE TRABAJO (PERSONAL CLAVE EVALUABLE) (10 PUNTOS) | K8: FACTOR SOSTENIBILIDAD (1 PUNTO) | L8: APOYO A LA INDUSTRIA NACIONAL(20 PUNTOS) | M8: PUNTAJE ADICIONAL PROPUESTAS CON TRABAJADORES CON DISCAPACIDAD (1 PUNTO) | N8: EMPRESAS Y EMPRENDIMIENTOS DE MUJERES (0,25) | O8: CRITERIOS DIFERENCIALES PARA MIPYME (0,25) | P8: PUNTAJE TOTAL | Q8: OBSERVACIONES
A9: 1 | B9: CONSORCIO INTERCOV | C9: CUMPLE | D9: CUMPLE | E9: =IF(G9="","NO CUMPLE","CUMPLE") -> NO CUMPLE | F9: =IF(AND(C9="CUMPLE",D9="CUMPLE",E9="CUMPLE"),"HABILITADO","NO HABILITADO") -> NO HABILITADO | G9: =+'EXPERIENCIA DEL PROPONENTE'!O13 | Q9: NO PRESENTA CERTIFICADO DE VINCULACION DE DISCAPACITADOS NO SUBSANABLE
A10: 2 | B10: INTERCONSULTORES 2023 | C10: CUMPLE | D10: CUMPLE | E10: =IF(G10="","NO CUMPLE","CUMPLE") -> NO CUMPLE | F10: =IF(AND(C10="CUMPLE",D10="CUMPLE",E10="CUMPLE"),"HABILITADO","NO HABILITADO") -> NO HABILITADO | G10: =+'EXPERIENCIA DEL PROPONENTE'!O18
A11: 3 | B11: CONSULTORES ESPECIALIZADOS Y ASOCIADOS DE SANTANDER SAS | C11: CUMPLE | D11: CUMPLE | E11: =IF(G11="","NO CUMPLE","CUMPLE") -> NO CUMPLE | F11: =IF(AND(C11="CUMPLE",D11="CUMPLE",E11="CUMPLE"),"HABILITADO","NO HABILITADO") -> NO HABILITADO | G11: =+'EXPERIENCIA DEL PROPONENTE'!O23
A12: 4 | B12: CONSORCIO OPH-AIH | C12: CUMPLE | D12: CUMPLE | E12: =IF(G12="","NO CUMPLE","CUMPLE") -> NO CUMPLE | F12: =IF(AND(C12="CUMPLE",D12="CUMPLE",E12="CUMPLE"),"HABILITADO","NO HABILITADO") -> NO HABILITADO
A13: 5 | B13: C INGESA | C13: CUMPLE | D13: CUMPLE | E13: =IF(G13="","NO CUMPLE","CUMPLE") -> NO CUMPLE | F13: =IF(AND(C13="CUMPLE",D13="CUMPLE",E13="CUMPLE"),"HABILITADO","NO HABILITADO") -> NO HABILITADO
A14: 6 | B14: CONSORCIO DIN ISUTECH | C14: CUMPLE | D14: NO CUMPLE | E14: =IF(G14="","NO CUMPLE","CUMPLE") -> NO CUMPLE | F14: =IF(AND(C14="CUMPLE",D14="CUMPLE",E14="CUMPLE"),"HABILITADO","NO HABILITADO") -> NO HABILITADO | G14: =+'EXPERIENCIA DEL PROPONENTE'!O39 | Q14: EMPRENDIMIENTO Y EMPRESAS DE MUJERES. NO PRESENTA CERTIFICACION EXPEDIDA POR REPRESENTANTE LEGAL Y REVISOR FISCAL
A15: 7 | B15: CONSORCIO SANTA MARIA IP | C15: CUMPLE | D15: CUMPLE | E15: =IF(G15="","NO CUMPLE","CUMPLE") -> NO CUMPLE | F15: =IF(AND(C15="CUMPLE",D15="CUMPLE",E15="CUMPLE"),"HABILITADO","NO HABILITADO") -> NO HABILITADO | G15: =+'EXPERIENCIA DEL PROPONENTE'!O46 | Q15: EMPRENDIMIENTO Y EMPRESAS DE MUJERES. NO PRESENTA CERTIFICACION EXPEDIDA POR REPRESENTANTE LEGAL Y REVISOR FISCAL
A16: 8 | B16: UNIOBRAS DEL ORIENTE SAS | C16: CUMPLE | D16: CUMPLE | E16: =IF(G16="","NO CUMPLE","CUMPLE") -> NO CUMPLE | F16: =IF(AND(C16="CUMPLE",D16="CUMPLE",E16="CUMPLE"),"HABILITADO","NO HABILITADO") -> NO HABILITADO | G16: =+'EXPERIENCIA DEL PROPONENTE'!O51
A17: 9 | B17: TORRES & ASOCIADOS | C17: CUMPLE | D17: CUMPLE | E17: =IF(G17="","NO CUMPLE","CUMPLE") -> NO CUMPLE | F17: =IF(AND(C17="CUMPLE",D17="CUMPLE",E17="CUMPLE"),"HABILITADO","NO HABILITADO") -> NO HABILITADO | G17: =+'EXPERIENCIA DEL PROPONENTE'!O56 | Q17: EMPRENDIMIENTO Y EMPRESAS DE MUJERES. NO PRESENTA CERTIFICACION EXPEDIDA POR REPRESENTANTE LEGAL Y REVISOR FISCAL
A18: 10 | B18: INTERVIAL URBANO | C18: CUMPLE | D18: CUMPLE | E18: =IF(G18="","NO CUMPLE","CUMPLE") -> CUMPLE | F18: =IF(AND(C18="CUMPLE",D18="CUMPLE",E18="CUMPLE"),"HABILITADO","NO HABILITADO") -> HABILITADO | G18: =+'EXPERIENCIA DEL PROPONENTE'!O61 -> 1487.7512 | H18: =ABS(G18-$G$106) -> 267.61994 | I18: =67.5*(1-H18/$G$106) -> 52.694753 | J18: 10 | K18: 0 | L18: 20 | M18: 1 | N18: 0.25 | O18: 0.25 | P18: =SUM(I18:O18) -> 84.194753 | Q18: EN LA DOCUMENTACION ENTREGADA, NO SE EVIDENCIA "Factor de sostenibilidad" - NO SUBSANABLE
A19: 11 | B19: RD INGENIEROS CIVILES SAS | C19: CUMPLE | D19: CUMPLE | E19: =IF(G19="","NO CUMPLE","CUMPLE") -> NO CUMPLE | F19: =IF(AND(C19="CUMPLE",D19="CUMPLE",E19="CUMPLE"),"HABILITADO","NO HABILITADO") -> NO HABILITADO
A20: 12 | B20: MAMUT ACERO Y CONCRETO SAS | C20: CUMPLE | D20: CUMPLE | E20: =IF(G20="","NO CUMPLE","CUMPLE") -> NO CUMPLE | F20: =IF(AND(C20="CUMPLE",D20="CUMPLE",E20="CUMPLE"),"HABILITADO","NO HABILITADO") -> NO HABILITADO | G20: =+'EXPERIENCIA DEL PROPONENTE'!O71
A21: 13 | B21: COMPAÑÍA DE PREOYECTOS TECNICOS CPT SA | C21: CUMPLE | D21: CUMPLE | E21: =IF(G21="","NO CUMPLE","CUMPLE") -> NO CUMPLE | F21: =IF(AND(C21="CUMPLE",D21="CUMPLE",E21="CUMPLE"),"HABILITADO","NO HABILITADO") -> NO HABILITADO | G21: =+'EXPERIENCIA DEL PROPONENTE'!O76
A22: 14 | B22: MIGUEL MORALES INGENIERIA SAS | C22: CUMPLE | D22: CUMPLE | E22: =IF(G22="","NO CUMPLE","CUMPLE") -> NO CUMPLE | F22: =IF(AND(C22="CUMPLE",D22="CUMPLE",E22="CUMPLE"),"HABILITADO","NO HABILITADO") -> NO HABILITADO | G22: =+'EXPERIENCIA DEL PROPONENTE'!O81 | Q22: EMPRENDIMIENTO Y EMPRESAS DE MUJERES. NO PRESENTA FORMATO 13 Y SUS SOPORTES. NO SUBSANABLE.
A23: 15 | B23: FEYMA INGENIERIA SAS | C23: CUMPLE | D23: CUMPLE | E23: =IF(G23="","NO CUMPLE","CUMPLE") -> CUMPLE | F23: =IF(AND(C23="CUMPLE",D23="CUMPLE",E23="CUMPLE"),"HABILITADO","NO HABILITADO") -> HABILITADO | G23: =+'EXPERIENCIA DEL PROPONENTE'!O86 -> 809.74886 | H23: =ABS(G23-$G$106) -> 410.38246 | I23: =67.5*(1-H23/$G$106) -> 44.796857 | J23: 10 | K23: 1 | L23: 20 | M23: 1 | N23: 0.25 | O23: 0.25 | P23: =SUM(I23:O23) -> 77.296857
A24: 16 | B24: CONSORCIO ENGATIVA JC 275 | C24: CUMPLE | D24: CUMPLE | E24: =IF(G24="","NO CUMPLE","CUMPLE") -> CUMPLE | F24: =IF(AND(C24="CUMPLE",D24="CUMPLE",E24="CUMPLE"),"HABILITADO","NO HABILITADO") -> HABILITADO | G24: =+'EXPERIENCIA DEL PROPONENTE'!O94 -> 634.6582 | H24: =ABS(G24-$G$106) -> 585.47312 | I24: =67.5*(1-H24/$G$106) -> 35.110506 | J24: 10 | K24: 1 | L24: 20 | M24: 1 | N24: 0.25 | O24: 0.25 | P24: =SUM(I24:O24) -> 67.610506
A25: 17 | B25: CONSORCIO METROPOLI | C25: CUMPLE | D25: CUMPLE | E25: =IF(G25="","NO CUMPLE","CUMPLE") -> NO CUMPLE | F25: =IF(AND(C25="CUMPLE",D25="CUMPLE",E25="CUMPLE"),"HABILITADO","NO HABILITADO") -> NO HABILITADO
A26: 18 | B26: CONSORCIO GS | C26: CUMPLE | D26: CUMPLE | E26: =IF(G26="","NO CUMPLE","CUMPLE") -> NO CUMPLE | F26: =IF(AND(C26="CUMPLE",D26="CUMPLE",E26="CUMPLE"),"HABILITADO","NO HABILITADO") -> NO HABILITADO | G26: =+'EXPERIENCIA DEL PROPONENTE'!O106
A27: 19 | B27: CONSORCIO ECOINTECON | C27: CUMPLE | D27: CUMPLE | E27: =IF(G27="","NO CUMPLE","CUMPLE") -> NO CUMPLE | F27: =IF(AND(C27="CUMPLE",D27="CUMPLE",E27="CUMPLE"),"HABILITADO","NO HABILITADO") -> NO HABILITADO | G27: =+'EXPERIENCIA DEL PROPONENTE'!O112
A28: 20 | B28: R&M CONSTRUCCIONES E INTERVENTORIAS S.A.S | C28: CUMPLE | D28: CUMPLE | E28: CUMPLE | F28: =IF(AND(C28="CUMPLE",D28="CUMPLE",E28="CUMPLE"),"HABILITADO","NO HABILITADO") -> HABILITADO | G28: =+'EXPERIENCIA DEL PROPONENTE'!O117 -> 999.6953 | H28: =ABS(G28-$G$106) -> 220.43602 | I28: =67.5*(1-H28/$G$106) -> 55.305058 | J28: 10 | K28: 1 | L28: 20 | M28: 1 | N28: 0.25 | O28: 0.25 | P28: =SUM(I28:O28) -> 87.805058
A29: 21 | B29: ALIANZA INTEGRAL DE PROYECTOS SAS BIC | C29: CUMPLE | D29: CUMPLE | E29: NO CUMPLE | F29: =IF(AND(C29="CUMPLE",D29="CUMPLE",E29="CUMPLE"),"HABILITADO","NO HABILITADO") -> NO HABILITADO
A30: 22 | B30: CTV Y PUENTES ENGATIVA | C30: CUMPLE | D30: CUMPLE | E30: =IF(G30="","NO CUMPLE","CUMPLE") -> CUMPLE | F30: =IF(AND(C30="CUMPLE",D30="CUMPLE",E30="CUMPLE"),"HABILITADO","NO HABILITADO") -> HABILITADO | G30: =+'EXPERIENCIA DEL PROPONENTE'!O128 -> 1004.5421 | H30: =ABS(G30-$G$106) -> 215.58919 | I30: =67.5*(1-H30/$G$106) -> 55.573193 | J30: 10 | K30: 1 | L30: 20 | M30: 1 | N30: 0.25 | O30: 0.25 | P30: =SUM(I30:O30) -> 88.073193
A31: 23 | B31: CONSORCIO VIAL ENGATIVA | C31: CUMPLE | D31: CUMPLE | E31: =IF(G31="","NO CUMPLE","CUMPLE") -> NO CUMPLE | F31: =IF(AND(C31="CUMPLE",D31="CUMPLE",E31="CUMPLE"),"HABILITADO","NO HABILITADO") -> NO HABILITADO | G31: =+'EXPERIENCIA DEL PROPONENTE'!O133
A32: 24 | B32: CONSORCIO INTERVIAL UG-ING | C32: CUMPLE | D32: CUMPLE | E32: =IF(G32="","NO CUMPLE","CUMPLE") -> NO CUMPLE | F32: =IF(AND(C32="CUMPLE",D32="CUMPLE",E32="CUMPLE"),"HABILITADO","NO HABILITADO") -> NO HABILITADO | G32: =+'EXPERIENCIA DEL PROPONENTE'!O140
A33: 25 | B33: NOGAALL-LITORAL | C33: CUMPLE | D33: CUMPLE | E33: =IF(G33="","NO CUMPLE","CUMPLE") -> NO CUMPLE | F33: =IF(AND(C33="CUMPLE",D33="CUMPLE",E33="CUMPLE"),"HABILITADO","NO HABILITADO") -> NO HABILITADO | G33: =+'EXPERIENCIA DEL PROPONENTE'!O145
A34: 26 | B34: GEVIAL SAS | C34: CUMPLE | D34: CUMPLE | E34: =IF(G34="","NO CUMPLE","CUMPLE") -> CUMPLE | F34: =IF(AND(C34="CUMPLE",D34="CUMPLE",E34="CUMPLE"),"HABILITADO","NO HABILITADO") -> HABILITADO | G34: =+'EXPERIENCIA DEL PROPONENTE'!O150 -> 1241.7393 | H34: =ABS(G34-$G$106) -> 21.608006 | I34: =67.5*(1-H34/$G$106) -> 66.304604 | J34: 10 | K34: 1 | L34: 20 | M34: 1 | N34: 0 | O34: 0.25 | P34: =SUM(I34:O34) -> 98.554604 | Q34: EMPRENDIMIENTO Y EMPRESAS DE MUJERES. NO PRESENTA CERTIFICACION EXPEDIDA POR REPRESENTANTE LEGAL Y REVISOR FISCAL. NO SUBSANABLE.
A35: 27 | B35: CONSORCIO AYG ENGATIVA 275 | C35: CUMPLE | D35: CUMPLE | E35: =IF(G35="","NO CUMPLE","CUMPLE") -> CUMPLE | F35: =IF(AND(C35="CUMPLE",D35="CUMPLE",E35="CUMPLE"),"HABILITADO","NO HABILITADO") -> HABILITADO | G35: =+'EXPERIENCIA DEL PROPONENTE'!O155 -> 1147.9393 | H35: =ABS(G35-$G$106) -> 72.192024 | I35: =67.5*(1-H35/$G$106) -> 63.506199 | J35: 10 | K35: 1 | L35: 20 | M35: 1 | N35: 0.25 | O35: 0.25 | P35: =SUM(I35:O35) -> 96.006199
A36: 28 | B36: VELNEC SA | C36: CUMPLE | D36: CUMPLE | E36: =IF(G36="","NO CUMPLE","CUMPLE") -> NO CUMPLE | F36: =IF(AND(C36="CUMPLE",D36="CUMPLE",E36="CUMPLE"),"HABILITADO","NO HABILITADO") -> NO HABILITADO
A37: 29 | B37: CONSORCIO ROMA | C37: CUMPLE | D37: NO CUMPLE | E37: =IF(G37="","NO CUMPLE","CUMPLE") -> NO CUMPLE | F37: =IF(AND(C37="CUMPLE",D37="CUMPLE",E37="CUMPLE"),"HABILITADO","NO HABILITADO") -> NO HABILITADO | G37: =+'EXPERIENCIA DEL PROPONENTE'!O166 | Q37: EMPRENDIMIENTO Y EMPRESAS DE MUJERES. NO PRESENTA CERTIFICACION EXPEDIDA POR REPRESENTANTE LEGAL Y REVISOR FISCAL. NO SUBSANABLE.
A38: 30 | B38: CONSORCIO INTERVIAS 100 | C38: CUMPLE | D38: NO CUMPLE | E38: =IF(G38="","NO CUMPLE","CUMPLE") -> NO CUMPLE | F38: =IF(AND(C38="CUMPLE",D38="CUMPLE",E38="CUMPLE"),"HABILITADO","NO HABILITADO") -> NO HABILITADO | G38: =+'EXPERIENCIA DEL PROPONENTE'!O172 | Q38: NO PRESENTA CERTIFICADO DE VINCULACION DE DISCAPACITADOS NO SUBSANABLE EMPRENDIMIENTO Y EMPRESAS DE MUJERES. NO PRESENTA CERTIFICACION EXPEDIDA POR REPRESENTANTE LEGAL Y REVISOR FISCAL. NO SUBSANABLE.
A39: 31 | B39: CONSORCIO INTERVIAL 275 CB | C39: CUMPLE | D39: CUMPLE | E39: =IF(G39="","NO CUMPLE","CUMPLE") -> NO CUMPLE | F39: =IF(AND(C39="CUMPLE",D39="CUMPLE",E39="CUMPLE"),"HABILITADO","NO HABILITADO") -> NO HABILITADO | G39: =+'EXPERIENCIA DEL PROPONENTE'!O177 | Q39: NO ES VALIDA LA ACREDITACIÓN APORTADA "FORMATO 6 — B&C SA, VINCULACIÓN DE PERSONAS EN CONDICIÓN DE DISCAPACIDAD" DEBIÓ SER PRESENTADA POR EL INTEGRANTE CONSTRUCCIONES SINAI S.A.S, EN CUMPLIMIENTO A LO DISPUESTO EN EL ARTICULO 2.2.1.2.4.2.6 DEL DECRETO 1082 DE 2015 PARAGRAFO : "si la oferta es presentada por un consorcio, unión temporal o promesa de sociedad futura, se tendrá en cuenta la planta de personal del integrante del proponente plural que aporte como mínimo el cuarenta por ciento (40%) de la experiencia requerida para la respectiva contratación." NO SUBSANABLE.
A40: 32 | B40: SAVIMAC SAS | C40: CUMPLE | D40: CUMPLE | E40: =IF(G40="","NO CUMPLE","CUMPLE") -> CUMPLE | F40: =IF(AND(C40="CUMPLE",D40="CUMPLE",E40="CUMPLE"),"HABILITADO","NO HABILITADO") -> HABILITADO | G40: =+'EXPERIENCIA DEL PROPONENTE'!O182 -> 1208.756 | H40: =ABS(G40-$G$106) -> 11.375286 | I40: 67.5 | J40: 10 | K40: 1 | L40: 20 | M40: 1 | N40: 0.25 | O40: 0.25 | P40: =SUM(I40:O40) -> 100
A41: 33 | B41: CONSORCIO INTERCOLOMBIA | C41: CUMPLE | D41: CUMPLE | E41: =IF(G41="","NO CUMPLE","CUMPLE") -> NO CUMPLE | F41: =IF(AND(C41="CUMPLE",D41="CUMPLE",E41="CUMPLE"),"HABILITADO","NO HABILITADO") -> NO HABILITADO
A42: 34 | B42: NORBERTO BAYONA ESPICIA | C42: CUMPLE | D42: CUMPLE | E42: =IF(G42="","NO CUMPLE","CUMPLE") -> NO CUMPLE | F42: =IF(AND(C42="CUMPLE",D42="CUMPLE",E42="CUMPLE"),"HABILITADO","NO HABILITADO") -> NO HABILITADO | Q42: EMPRENDIMIENTO Y EMPRESAS DE MUJERES. NO PRESENTA CERTIFICACION EXPEDIDA POR REPRESENTANTE LEGAL Y REVISOR FISCAL. NO SUBSANABLE.
A43: 35 | B43: PIV INGENIERIA SAS | C43: CUMPLE | D43: CUMPLE | E43: =IF(G43="","NO CUMPLE","CUMPLE") -> NO CUMPLE | F43: =IF(AND(C43="CUMPLE",D43="CUMPLE",E43="CUMPLE"),"HABILITADO","NO HABILITADO") -> NO HABILITADO
A44: 36 | B44: CONSORCIO MAB 2 | C44: CUMPLE | D44: CUMPLE | E44: =IF(G44="","NO CUMPLE","CUMPLE") -> NO CUMPLE | F44: =IF(AND(C44="CUMPLE",D44="CUMPLE",E44="CUMPLE"),"HABILITADO","NO HABILITADO") -> NO HABILITADO
...

Sheet EXPERIENCIA DEL PROPONENTE
A1: FONDO DE DESARROLLO LOCAL DE ENGATIVA
A2: CONCURSO DE MÉRITOS ABIERTO FDLE-CMA-275-2023
A3: EXPERIENCIA HABILITANTE Y EVALUABLE DEL PROPONENTE | Z3: CUMPLE
B5: CONDICIONES DE EXPERIENCIA
A6: # | B6: OBJETO | C6: ENTIDAD | D6: No. CONSECUTIVO EN RUP | E6: VALOR CONTRATOS (SMMLV EN EL RUP) AFECTADO POR EL PORCENTAJE DE PARTICIPACIÓN | F6: uno de los integrantes del Proponente debe aportar como mínimo el cincuenta (50%) por ciento de la experiencia | G6: ii) los demás integrantes deben acreditar al menos el cinco por ciento (5%) de la experiencia requerida; | H6: % DEL PROCESO > 100% | I6: INTERVENTORÍA A PROYECTOS DE: CONSTRUCCIÓN O RECONSTRUCCION O REHABILITACIÓN O ADECUACION O AMPLIACION O MEJORAMIENTO O MANTENIMIENTO O RECONSTRUCCION O REPAVIMENTACIÓN O PAVIMENTACIÓN O CONSERVACION DE INFRAESTRUCTURA VIAL PARA TRÁFICO VEHICULAR DE VÍAS URBANAS O DE VÍAS PRIMARIAS O SECUNDARIAS (NO SON VALIDAS VIAS TERCIARIAS LAS QUE COMUNICAN CABECERAS CON VERADAS O VEREDS ENTRE SÍ) | J6: DEMUESTRA LA INTERVENCIÓN A LA ESTRUCTURA DEL PAVIMENTO | K6: INCLUYE LOS 8 SEGUIMIENTOS: INTERVENTORIA TÉCNICA, ADMINISTRATIVA, FINANCIERA, JURÍDICA, SOCIAL, AMBIENTAL Y SISO Y PMT | L6: UNO DE LOS CONTRATOS CUMPLE CON: DIAGNOSTICOS O DISEÑOS PARA ACTIVIDADES DE CONSERVACIÓN: SOLO SE VALIDAN ESTAS ACTIVIDADES DEL RESTO NO: mantenimiento rutinario, periódico, preventivo, correctivo, rehabilitación o reconstrucción | M6: VALOR CONTRATOS VALIDOS (SMMLV EN EL RUP) AFECTADO POR EL PORCENTAJE DE PARTICIPACIÓN | N6: NUMERO DE CONTRATOS VALIDADOS | O6: PROMEDIO | P6: Observación y respuesta a observaciones | Q6: CONTRATO SE VALIDA / NO SE VALIDA
B9: PROPONENTE: 1 | C9: =+'CONSOLIDADO PONDERABLES'!B9 -> CONSORCIO INTERCOV
A10: 1 | B10: INTERVENTORIA TECNICA, ADMINISTRATIVA, FINANCIERA, AMBIENTAL, JURIDICA Y CONTABLE AL CONTRATO CUYO OBJETO ES: ACTIVADES CONSTRUCTIVAS PARA EL CORREDOR VIAL Y ALAMEDA DE LA CARRERA 46 UBICADO EN EL CANTON CALDAS EN LA CIUDAD DE BOGOTA | C10: CENAC DE INGENIEROS | D10: 64 | E10: 376.1822 | F10: CUMPLE | G10: CUMPLE | H10: =M13/1076.28362068966 -> 0 | J10: DEMUESTRA | K10: EN EL OBJETO: TECNICA, ADMINISTRATIVA, FINANCIERA LEGAL AMBIENTAL, EN EL CONTRATO: Y AMBIENTAL. NO CUMPLE CON: SOCIAL SST Y PMT. | L10: INCLUYE DISEÑOS PARA ACTIVIDADES DE CONSTRUCCIÓN (NO SE VALIDA) | O10: =IF(N13=0,"",M13/N13) | Q10: NO SE VALIDA
A11: 2 | B11: INTERVENTORIA TECNICA, ADMINISTRATIVA, FINANCIERA Y AMBIENTAL PARA LA EVALUACION Y REHABILITACION DE VIAS EN LAS LOCALIDADES DE LA CANDELARIA, LOS MARTIRES, ENGATIVA E INTERVENTORIA PARA LA REHABILITACION DE VIAS EN LA LOCALIDAD DE BARRIO UNIDOS | C11: INSTITUTO DE DESARROLLO URBANO - IDU | D11: 41 | E11: 66.175782 | H11: =(SUM(#REF!))/#REF! -> #REF! | J11: DEMUESTRA | K11: EN EL OBJETO: TECNICA, ADMINISTRATIVA, FINANCIERA LEGAL AMBIENTAL, EN EL CONTRATO: Y AMBIENTAL. NO CUMPLE CON: SOCIAL SST Y PMT. | L11: INCLUYE DISEÑOS PARA ACTIVIDADES DE REHABILITACION | Q11: NO SE VALIDA
A12: 3 | B12: INTERVENTORIA PARA LOS ESTUDIOS, DISEÑOS, PLAN DE MANEJO AMBIENTAL, Y LA CONSTRUCCIÓN DE LAS VÍAS VEHICULARES INTERNAS EN CONCRETO RÍGIDO, PUENTES EN CONCRETO REFORZADO, PONTONES, BOXCOULVERT Y MOVIMIENTOS DE TIERRA EN LA ADECUACIÓN DE LA INFRAESTRUCTURA PARA LA CRÍA DE CAMARÓN EN CAUTIVERIO , EN ISLA TRUJILLO, II ETAPA (TUMACO – NARIÑO) | C12: EXPLOTACIONES PESQUERAS DE OCCIDENTE-PEXCO S.A | D12: 1 | E12: 4680.4494 | H12: =(SUM(#REF!))/#REF! -> #REF! | J12: DEMUESTRA | K12: EN EL OBJETO: TECNICA, ADMINISTRATIVA, FINANCIERA LEGAL AMBIENTAL, EN EL CONTRATO: Y AMBIENTAL. NO CUMPLE CON: SOCIAL SST Y PMT. | L12: NO INCLUYE | Q12: NO SE VALIDA
E13: =SUM(E10:E12) -> 5122.8074 | F13: =+F10 -> CUMPLE | G13: =+G10 -> CUMPLE | H13: =IF(H10>=100%,"CUMPLE","NO CUMPLE") -> NO CUMPLE | L13: CUMPLE | M13: =SUM(M10:M12) -> 0 | N13: =SUM(N10:N12) -> 0 | O13: =+O10 | Q13: NO HABILITADO
B14: PROPONENTE: 2 | C14: =+'CONSOLIDADO PONDERABLES'!B10 -> INTERCONSULTORES 2023
A15: 1 | B15: Interventoría técnica, administrativa, financiera y ambiental de la construcción intercambio vial estación Madera. | C15: MUNICIPIO DE BELLO | D15: 2 31 | E15: 5306.4866 | F15: CUMPLE | G15: CUMPLE | H15: =M18/1076.28362068966 -> 0 | J15: DEMUESTRA | K15: EN EL OBJETO: TECNICA, ADMINISTRATIVA, FINANCIERA LEGAL AMBIENTAL, EN EL CONTRATO: SOCIAL Y AMBIENTAL. NO CUMPLE CON: SST Y PMT. | L15: NO INCLUYE | O15: =IF(N18=0,"",M18/N18) | Q15: NO SE VALIDA
A16: 2 | B16: Interventoría técnica, administrativa, financiera y socio ambiental para la construcción y/o rehabilitación de vías en varias localidades de Sant Fé, Usme, Martires y Rafael Uribe Uribe, en Bogotá D.C. | C16: IDU | D16: 21 | E16: 1365.024 | H16: =(SUM(#REF!))/#REF! -> #REF! | J16: DEMUESTRA | K16: EN EL OBJETO: TECNICA, ADMINISTRATIVA, FINANCIERA, EN EL CONTRATO: SOCIAL Y AMBIENTALY PMT. NO CUMPLE CON: SST. | L16: INCLUYE DISEÑOS PARA ACTIVIDADES DE REHABILITACIÓN | Q16: NO SE VALIDA
A17: 3 | H17: =(SUM(#REF!))/#REF! -> #REF!
E18: =SUM(E15:E17) -> 6671.5106 | F18: =+F15 -> CUMPLE | G18: =+G15 -> CUMPLE | H18: =IF(H15>=100%,"CUMPLE","NO CUMPLE") -> NO CUMPLE | L18: CUMPLE | M18: =SUM(M15:M17) -> 0 | N18: =SUM(N15:N17) -> 0 | O18: =+O15 | Q18: NO HABILITADO
B19: PROPONENTE: 3 | C19: =+'CONSOLIDADO PONDERABLES'!B11 -> CONSULTORES ESPECIALIZADOS Y ASOCIADOS DE SANTANDER SAS
A20: 1 | B20: INTERVENTORIA DE LOS ESTUDIOS Y DISEÑOS, PAVIMENTACION Y/O REPAVIMENTACION DE LAS VIAS INCLUIDAS DENTRO DEL PROGRAMA DE PAVIMENTACION DE INFRAESTRUCTURA VIALDE INTEGRACION Y DESARROLLO GRPO 85 VIA COROZAL BETULIA SINCE CON UNA LONGITUD DE 17.30 KM VIA TOLUVIEJO VARSOVIA PALMITO CON UNA LONGITUD DE 7 KM EN EL DEPARTAMENTO DE SUCRE | C20: INVIAS | D20: 9 | E20: 2766.6464 | F20: CUMPLE | G20: CUMPLE | H20: =M23/1076.28362068966 -> 0 | J20: DEMUESTRA | K20: EN EL OBJETO: TECNICA, ADMINISTRATIVA, FINANCIERA LEGAL AMBIENTAL, EN EL CONTRATO: AMBIENTAL. NO CUMPLE CON: SOCIAL, SST Y PMT. | L20: INCLUYE DISEÑOS PARA ACTIVIDADES DE PAVIMENTACION (NO SE VALIDA) | O20: =IF(N23=0,"",M23/N23) | Q20: NO SE VALIDA
A21: 2 | B21: INTERVENTORIA TECNICA Y ADMINISTRATIVA DE LAS OBRAS CORRESPONDIENTES A LA RECONSTRUCCION EN CONCRETO RIGIDO Y FLEXIBLE DE LA PROLONGACION DE LA AVENIDACIRCUNVALAR Y EL ACCESO PRINCIPAL DE LA GRAN CENTRAL | C21: AMB | D21: 14 | E21: 2626.4835 | H21: =(SUM(#REF!))/#REF! -> #REF! | J21: DEMUESTRA | K21: EN EL OBJETO: TECNICA, ADMINISTRATIVA, FINANCIERA, EN EL CONTRATO: NO CUMPLE CON: SOCIAL Y AMBIENTAL. SST PMT. | L21: NO INCLUYE | Q21: NO SE VALIDA
A22: 3 | B22: INTERVENTORIA PARA LA CONSTRUCCION DEL PARQUE INTERCAMBIADOR VIAL MESON DE LOS BUCAROS | C22: ALCALDIA DE BUCARAMANGA | D22: 48 | E22: 5581.1596 | H22: =(SUM(#REF!))/#REF! -> #REF! | J22: DEMUESTRA | K22: CUMPLE CON LAS 8 ACTIVIDADES | L22: NO INCLUYE | Q22: SE VALIDA
E23: =SUM(E20:E22) -> 10974.289 | F23: =+F20 -> CUMPLE | G23: =+G20 -> CUMPLE | H23: =IF(H20>=100%,"CUMPLE","NO CUMPLE") -> NO CUMPLE | L23: NO CUMPLE | M23: =SUM(M20:M22) -> 0 | N23: =SUM(N20:N22) -> 0 | O23: =+O20 | Q23: NO HABILITADO
B24: PROPONENTE: 4 | C24: =+'CONSOLIDADO PONDERABLES'!B12 -> CONSORCIO OPH-AIH
A25: 1 | B25: INTERVENTORÍA TÉCNICA, ADMINISTRATIVA, FINANCIERA Y AMBIENTAL AL DIAGNÓSTICO Y MANTENIMIENTO DE VÍAS, GRUPO 4, A TRAVÉS DEL PROGRAMA BRIGADA DE REACCIÓN VIAL EN BOGOTÁ D.C. | C25: INSTITUTO DE DERRALLO URBANO - IDU | D25: 5 | E25: 709.266 | F25: CUMPLE | G25: CUMPLE | H25: =M28/1076.28362068966 -> 0.65899544 | J25: DEMUESTRA | K25: CUMPLE CON LAS 8 ACTIVIDADES | L25: INCLUYE DIAGNÓSTICOS PARA ACTIVIDADES DE MANTENIMIENTO | M25: 709.266 | N25: 1 | O25: =IF(N28=0,"",M28/N28) -> 709.266 | Q25: SE VALIDA | R25: EL CONTRATO VALIDO ESTA POR DEBAJO DEL 100% DEL P.O
A26: 2 | B26: INTERVENTORÍA PARA LA RECONSTRUCCIÓN, PAVIMENTAIÓN Y/O REPAVIMENTACIÓN EN EL TRAMO VIAL MANIZALES - NEIRA. DEPARTAMENTO DE CALDAS | C26: INFICALDAS | D26: 3 | E26: 2288.4 | H26: =(SUM(#REF!))/#REF! -> #REF! | J26: DEMUESTRA | K26: EN EL OBJETO: TECNICA, ADMINISTRATIVA, FINANCIERA LEGAL AMBIENTAL, EN EL CONTRATO: SOCIAL Y AMBIENTAL. NO CUMPLE CON: SST Y PMT. | L26: NO INCLUYE | Q26: NO SE VALIDA
A27: 3 | H27: =(SUM(#REF!))/#REF! -> #REF!
E28: =SUM(E25:E27) -> 2997.666 | F28: =+F25 -> CUMPLE | G28: =+G25 -> CUMPLE | H28: =IF(H25>=100%,"CUMPLE","NO CUMPLE") -> NO CUMPLE | L28: CUMPLE | M28: =SUM(M25:M27) -> 709.266 | N28: =SUM(N25:N27) -> 1 | O28: =+O25 -> 709.266 | Q28: NO HABILITADO
B29: PROPONENTE: 5 | C29: =+'CONSOLIDADO PONDERABLES'!B13 -> C INGESA
A30: 1 | B30: Interventoría para el mejoramiento y mantenimiento integral de la ruta Calarca - Ibagué y variante de Ibagué del corredor vial del pacifico (incluido el mantenimiento rutinario, la señalización, el monitoreo y vigilancia y los conteos de tránsito, ruta 40 tramo 4003 y 40 TLC. | C30: INVIAS | D30: 18 | E30: 9192.495 | F30: CUMPLE | G30: CUMPLE | H30: =M34/1076.28362068966 -> 0 | J30: DEMUESTRA | K30: NO CUMPLE CON: FINANCIERA LEGAL AMBIENTAL, EN EL CONTRATO: SOCIAL Y AMBIENTAL SST Y PMT. | L30: INCLUYE DIAGNÓSTICOS PARA ACTIVIDADES DE MANTENIMIENTO | O30: =IF(N34=0,"",M34/N34) | Q30: NO SE VALIDA
A31: 2 | B31: InterventoríaObrasConstruccióndelaIntersecciónelEstadiodelaVarianteCalarcá-Armenia y pavimentación Accesos | C31: INVIAS | D31: 21 | E31: 585.53 | H31: =(SUM(#REF!))/#REF! -> #REF! | J31: DEMUESTRA | K31: NO CUMPLE CON: FINANCIERA LEGAL AMBIENTAL, EN EL CONTRATO: SOCIAL Y AMBIENTAL SST Y PMT. | L31: INCLUYE DISEÑOS PARA ACTIVIDADES DE CONSTRUCCIÓN (NO SE VALIDA) | Q31: NO SE VALIDA
A32: 3 | B32: InterventoriatécnicaparalaconstrucciónvarianteycanalizaciónquebradasectorPeñadeOrodelavíaLaRenta-SanVicenteKM36+600delMunicipiodeSanVicentedeChuqurí | C32: MUNICIPIO DE SAN VICENTE DE CHUCURI | D32: 22 | E32: 370.76 | H32: =(SUM(#REF!))/#REF! -> #REF! | J32: DEMUESTRA | K32: EN EL OBJETO: TECNICA, ADMINISTRATIVA, . NO CUMPLE CON: FINANCIERA LEGAL AMBIENTAL, EN EL CONTRATO: SOCIAL Y AMBIENTAL SST Y PMT. | L32: NO INCLUYE | Q32: NO SE VALIDA
A33: 4 | B33: Interventoríatécnica,administrativaycontablesobrelaejecuciónycumplimientodelasobligacionescontraidasenelcontratodeobra134de2005"PavimentacióndecarreterassecundariasdeldepartamentodeSantanderincluidasenelPlan2500KM"laPavimentacióndelavíaTroncaldelMagdalenaPuertoWilchescelebradoentreelDepartamento de Santander y ESGAMO. | C33: GOB. SANTANDER | D33: 11 | E33: 3306.91 | J33: DEMUESTRA | K33: EN EL OBJETO: TECNICA, ADMINISTRATIVA, . NO CUMPLE CON: FINANCIERA LEGAL AMBIENTAL, EN EL CONTRATO: SOCIAL Y AMBIENTAL SST Y PMT. | L33: NO INCLUYE | Q33: NO SE VALIDA
E34: =SUM(E30:E33) -> 13455.695 | F34: =+F30 -> CUMPLE | G34: =+G30 -> CUMPLE | H34: =IF(H30>=100%,"CUMPLE","NO CUMPLE") -> NO CUMPLE | L34: NO CUMPLE | M34: =SUM(M30:M32) -> 0 | N34: =SUM(N30:N32) -> 0 | O34: =+O30 | Q34: NO HABILITADO
B35: PROPONENTE: 6 | C35: =+'CONSOLIDADO PONDERABLES'!B14 -> CONSORCIO DIN ISUTECH
A36: 1 | B36: Interventoría técnica, administrativa, financiera y socio ambiental para la construcción y/o rehabilitación de vías en varias Localidades en Bogotá D.C. Grupo 3: Localidad de Kennedy, en Bogotá D.C. | C36: IDU | D36: 15 | E36: 3085.7401 | F36: CUMPLE | G36: CUMPLE | H36: =M39/1076.28362068966 -> 0 | J36: DEMUESTRA | K36: EN EL OBJETO: TECNICA, ADMINISTRATIVA, FINANCIERA LEGAL AMBIENTAL, EN EL CONTRATO: SOCIAL Y AMBIENTAL Y PMT.. NO CUMPLE CON: SST | L36: NO INCLUYE | O36: =IF(N39=0,"",M39/N39) | Q36: NO SE VALIDA
A37: 2 | B37: Interventoria, tecnica, administrativa, financiera y ambiental a los estudios, diseños y construccion, de accesos a barrios y pavimentos locales y al suministro de material para vias grupo 2, segunda etapa | C37: IDU | D37: 16 | E37: 1207.2907 | H37: =(SUM(#REF!))/#REF! -> #REF! | J37: DEMUESTRA | K37: EN EL OBJETO: TECNICA, ADMINISTRATIVA, FINANCIERA, EN EL CONTRATO: AMBIENTAL. NO CUMPLE CON: SOCIAL, SST Y PMT. | L37: INCLUYE DISEÑOS PARA ACTIVIDADES DE CONSTRUCCIÓN (NO SE VALIDA) | Q37: NO SE VALIDA
A38: 3 | H38: =(SUM(#REF!))/#REF! -> #REF!
E39: =SUM(E36:E38) -> 4293.0308 | F39: =+F36 -> CUMPLE | G39: =+G36 -> CUMPLE | H39: =IF(H36>=100%,"CUMPLE","NO CUMPLE") -> NO CUMPLE | L39: NO CUMPLE | M39: =SUM(M36:M38) -> 0 | N39: =SUM(N36:N38) -> 0 | O39: =+O36 | Q39: NO HABILITADO
B40: PROPONENTE: 7 | C40: =+'CONSOLIDADO PONDERABLES'!B15 -> CONSORCIO SANTA MARIA IP
A41: 1 | B41: NTERVENTORÍA TÉCNICA, ADMINISTRATIVA, FINANCIERA, LEGAL, SOCIAL, AMBIENTAL Y S&SO PARA LA COMPLEMENTACIÓN Y/O ACTUALIZACIÓN Y/O AJUSTES Y/O DISEÑOS Y CONSTRUCCIÓN DE LA AVENIDA COLOMBIA (CARRERA 24), ENTRE LA CALLE 76 Y LA AVENIDA CALLE 80, EN BOGOTÁ, D.C., DEL ACUERDO 523 DE 2013._x000D_ | C41: IDU | D41: 27 | E41: 982.44 | F41: CUMPLE | G41: CUMPLE | H41: =M46/1076.28362068966 -> 0 | J41: DEMUESTRA | K41: CUMPLE CON LAS 8 ACTIVIDADES | L41: INCLUYE DISEÑOS PARA ACTIVIDADES DE CONSTRUCCIÓN (NO SE VALIDA) | O41: =IF(N46=0,"",M46/N46) | Q41: NO SE VALIDA
A42: 2 | B42: NTERVENTORIA TECNICA, FINANCIERA, ADMINISTRATIVA Y AMBIENTAL PARA LOS ESTUDIOS, DISEÑOS Y CONSTRUCCIÓN PARA LA PAVIMENTACIÓN DE LAS VÍAS URBANAS DEL MUNICIPIO DE VALLEDUPAR, EN EL DEPARTAMENTO DEL CESAR | C42: DEPARTAMENTO DEL CESAR | D42: 9 | E42: 590.428 | H42: =(SUM(#REF!))/#REF! -> #REF! | J42: DEMUESTRA | K42: EN EL OBJETO: TECNICA, ADMINISTRATIVA, FINANCIERA, EN EL CONTRATO: AMBIENTAL. NO CUMPLE CON: SOCIAL, SST Y PMT. | L42: NO INCLUYE | Q42: NO SE VALIDA
A43: 3 | B43: INTERVENTORÍA TÉCNICA, ADMINISTRATIVA, LEGAL, FINANCIERA, SOCIAL, AMBIENTAL Y S&SO PARA LA CONSTRUCCIÓN DE LOS TRAMOS FALTANTES DE LA AVENIDA FERROCARRIL DE OCCIDENTE, POR LA CALZADA NORTE CORRESPONDIENTE AL TRAMO COMPRENDIDO ENTRE LA CARRERA 100 Y LA CARRERA 96 I Y POR LA CALZADA SUR CORRESPONDIENTE AL TRAMO COMPRENDIDO ENTRE LA CARRERA 96 C Y LA CARRERA 93, QUE HACEN PARTE DEL PROYECTO CON CÓDIGO DE OBRA 190 DEL ACUERDO 180 DE 2005 DE VALORIZACIÓN EN BOGOTÁ, D.C. | C43: IDU | D43: 39 | E43: 3712.89 | H43: =(SUM(#REF!))/#REF! -> #REF! | J43: DEMUESTRA | K43: CUMPLE CON LAS 8 ACTIVIDADES | L43: NO INCLUYE | Q43: NO SE VALIDA
...

Sheet EVA HABILITANTE PROFESIONALES 
A1: FONDO DE DESARROLLO LOCAL DE USAQUEN
A2: =+#REF! -> #REF!
A3: REQUISITOS HABILITANTES TÉCNICOS PROFESIONALES DIRECTOR Y RESIDENTE
A6: =+#REF! -> #REF! | D6: =+#REF! -> #REF!
A7: CONDICIONES DE EXPERIENCIA | D7: CONDICION DIRECTOR DE INTERVENTORIA | F7: CONDICION RESIDENTE | G7: Observación y respuesta a observaciones
A8: Objeto del Contrato | B8: Empleador | C8: Cargo | D8: Postgrado en gerencia de proyectos o gerencia de construccion, o gerencia de obras o gerencia de empresas constructoras o similares | E8: Experiencia General (6 años general / 4 CONTRATOS especificos director) | F8: Experiencia MINIMA DE 3 AÑOS Y 1 CONTRATO ESPECIFICAO COMO RESIDENTE
A16: EXPERIENCIA DEL DIRECTOR | D16: CUMPLE | E16: CUMPLE | F16: N/A | G16: CUMPLE
A23: EXPERIENCIA DEL RESIDENTE 1 | D23: N/A | E23: N/A | F23: CUMPLE | G23: CUMPLE
A30: EXPERIENCIA DEL RESIDENTE 2 | D30: N/A | E30: N/A | F30: CUMPLE | G30: CUMPLE
A32: =+#REF! -> #REF! | D32: =+#REF! -> #REF!
A33: CONDICIONES DE EXPERIENCIA | D33: CONDICION DIRECTOR DE INTERVENTORIA | F33: CONDICION RESIDENTE | G33: Observación y respuesta a observaciones
A34: Objeto del Contrato | B34: Empleador | C34: Cargo | D34: Postgrado en gerencia de proyectos o gerencia de construccion, o gerencia de obras o gerencia de empresas constructoras o similares | E34: Experiencia General (6 años general / 4 CONTRATOS especificos director) | F34: Experiencia MINIMA DE 3 AÑOS Y 1 CONTRATO ESPECIFICAO COMO RESIDENTE
A42: EXPERIENCIA DEL DIRECTOR | D42: CUMPLE | E42: CUMPLE | F42: N/A | G42: CUMPLE
A49: EXPERIENCIA DEL RESIDENTE 1 | D49: N/A | E49: N/A | F49: CUMPLE | G49: CUMPLE
A56: EXPERIENCIA DEL RESIDENTE 2 | D56: N/A | E56: N/A | F56: CUMPLE | G56: CUMPLE
A58: =+#REF! -> #REF! | D58: =+#REF! -> #REF!
A59: CONDICIONES DE EXPERIENCIA | D59: CONDICION DIRECTOR DE INTERVENTORIA | F59: CONDICION RESIDENTE | G59: Observación y respuesta a observaciones
A60: Objeto del Contrato | B60: Empleador | C60: Cargo | D60: Postgrado en gerencia de proyectos o gerencia de construccion, o gerencia de obras o gerencia de empresas constructoras o similares | E60: Experiencia General (6 años general / 4 CONTRATOS especificos director) | F60: Experiencia MINIMA DE 3 AÑOS Y 1 CONTRATO ESPECIFICAO COMO RESIDENTE
A68: EXPERIENCIA DEL DIRECTOR | D68: CUMPLE | E68: CUMPLE | F68: N/A | G68: CUMPLE
A75: EXPERIENCIA DEL RESIDENTE 1 | D75: N/A | E75: N/A | F75: CUMPLE | G75: CUMPLE
A82: EXPERIENCIA DEL RESIDENTE 2 | D82: N/A | E82: N/A | F82: CUMPLE | G82: CUMPLE
A84: =+#REF! -> #REF! | D84: =+#REF! -> #REF!
A85: CONDICIONES DE EXPERIENCIA | D85: CONDICION DIRECTOR DE INTERVENTORIA | F85: CONDICION RESIDENTE | G85: Observación y respuesta a observaciones
A86: Objeto del Contrato | B86: Empleador | C86: Cargo | D86: Postgrado en gerencia de proyectos o gerencia de construccion, o gerencia de obras o gerencia de empresas constructoras o similares | E86: Experiencia General (6 años general / 4 CONTRATOS especificos director) | F86: Experiencia MINIMA DE 3 AÑOS Y 1 CONTRATO ESPECIFICAO COMO RESIDENTE
A94: EXPERIENCIA DEL DIRECTOR | D94: CUMPLE | E94: CUMPLE | F94: N/A | G94: CUMPLE
A101: EXPERIENCIA DEL RESIDENTE 1 | D101: N/A | E101: N/A | F101: CUMPLE | G101: CUMPLE
A108: EXPERIENCIA DEL RESIDENTE 2 | D108: N/A | E108: N/A | F108: CUMPLE | G108: CUMPLE
A110: =+#REF! -> #REF! | D110: =+#REF! -> #REF!
A111: CONDICIONES DE EXPERIENCIA | D111: CONDICION DIRECTOR DE INTERVENTORIA | F111: CONDICION RESIDENTE | G111: Observación y respuesta a observaciones
A112: Objeto del Contrato | B112: Empleador | C112: Cargo | D112: Postgrado en gerencia de proyectos o gerencia de construccion, o gerencia de obras o gerencia de empresas constructoras o similares | E112: Experiencia General (6 años general / 4 CONTRATOS especificos director) | F112: Experiencia MINIMA DE 3 AÑOS Y 1 CONTRATO ESPECIFICAO COMO RESIDENTE
A120: EXPERIENCIA DEL DIRECTOR | D120: CUMPLE | E120: CUMPLE | F120: N/A | G120: CUMPLE
A127: EXPERIENCIA DEL RESIDENTE 1 | D127: N/A | E127: N/A | F127: CUMPLE | G127: CUMPLE
A134: EXPERIENCIA DEL RESIDENTE 2 | D134: N/A | E134: N/A | F134: CUMPLE | G134: CUMPLE
A136: =+#REF! -> #REF! | D136: =+#REF! -> #REF!
A137: CONDICIONES DE EXPERIENCIA | D137: CONDICION DIRECTOR DE INTERVENTORIA | F137: CONDICION RESIDENTE | G137: Observación y respuesta a observaciones
A138: Objeto del Contrato | B138: Empleador | C138: Cargo | D138: Postgrado en gerencia de proyectos o gerencia de construccion, o gerencia de obras o gerencia de empresas constructoras o similares | E138: Experiencia General (6 años general / 4 CONTRATOS especificos director) | F138: Experiencia MINIMA DE 3 AÑOS Y 1 CONTRATO ESPECIFICAO COMO RESIDENTE
A146: EXPERIENCIA DEL DIRECTOR | D146: CUMPLE | E146: CUMPLE | F146: N/A | G146: CUMPLE
A153: EXPERIENCIA DEL RESIDENTE 1 | D153: N/A | E153: N/A | F153: CUMPLE | G153: CUMPLE
A160: EXPERIENCIA DEL RESIDENTE 2 | D160: N/A | E160: N/A | F160: CUMPLE | G160: CUMPLE
A162: =+#REF! -> #REF! | D162: =+#REF! -> #REF!
...

Sheet PONDERACIÓN PROPONENTE
A1: FONDO DE DESARROLLO LOCAL DE USAQUEN
A2: =+#REF! -> #REF!
A3: PONDERACION ADICIONAL PROPONENTE TÉCNICOS | Z3: CUMPLE
Z4: NO CUMPLE
A6: =+#REF! -> #REF! | D6: =+#REF! -> #REF!
A7: FORMATO 7- MANIFESTACIÓN PERSONAL CLAVE Y FORMATOS | C7: CUMPLE
A9: CONDICIONES DE EXPERIENCIA | M9: CODIGO UNSPSC 81101500 - 80102200 -80101600 | N9: Observación y respuesta a observaciones
A10: OBJETO | B10: FECHA DE INICIO D/M/A | C10: FECHA DE TERMINACION D/M/A | D10: ENTIDAD | E10: VALOR CONTRATO | F10: VALOR EN SMMLV AÑO DE TERMINACION | G10: PORCENTAJE DE PARTICIPACION | H10: VALOR EJECUTADO EN PESOS AFECTADO POR EL % DE PARTICIPACION | I10: VALOR EJECUTADO EN SMMLV AFECTADO POR EL % DE PARTICIPACION | J10: No. CONSECUTIVO EN RUP | K10: uno de los integrantes del Proponente debe aportar como mínimo el cincuenta (50%) por ciento de la experiencia | L10: % DEL PROCESO
A11: INTERCONDI SAS 100%
F12: =IF(C12="","",E12/(VLOOKUP(YEAR(C12),$C$805:$D$841,2,FALSE))) | H12: =+E12*G12 -> 0 | I12: =+IF(E12="","",F12*G12) | L12: =(SUM(I12:I13))/$C$791 -> 0 | P12: =IF(L799="","",#REF!/(VLOOKUP(YEAR(#REF!),$XEU$1045872:$XEV$1045907,2,FALSE)))
F13: =IF(C13="","",E13/(VLOOKUP(YEAR(C13),$C$805:$D$841,2,FALSE))) | H13: 0 | I13: =+IF(E13="","",F13*G13)
A14: EXPERIENCIA DEL PROPONENTE | L14: =IF(AND(L12>=100%),"CUMPLE","NO CUMPLE") -> NO CUMPLE | N14: NO CUMPLE
A17: =+#REF! -> #REF! | D17: =+#REF! -> #REF!
A18: FORMATO 7- MANIFESTACIÓN PERSONAL CLAVE Y FORMATOS | C18: NO CUMPLE
A20: CONDICIONES DE EXPERIENCIA | M20: CODIGO UNSPSC 81101500 - 80102200 -80101600 | N20: Observación y respuesta a observaciones
A21: OBJETO | B21: FECHA DE INICIO D/M/A | C21: FECHA DE TERMINACION D/M/A | D21: ENTIDAD | E21: VALOR CONTRATO | F21: VALOR EN SMMLV AÑO DE TERMINACION | G21: PORCENTAJE DE PARTICIPACION | H21: VALOR EJECUTADO EN PESOS AFECTADO POR EL % DE PARTICIPACION | I21: VALOR EJECUTADO EN SMMLV AFECTADO POR EL % DE PARTICIPACION | J21: No. CONSECUTIVO EN RUP | K21: uno de los integrantes del Proponente debe aportar como mínimo el cincuenta (50%) por ciento de la experiencia | L21: % DEL PROCESO
A22: CEAS SAS 100%
F23: =IF(C23="","",E23/(VLOOKUP(YEAR(C23),$C$805:$D$841,2,FALSE))) | H23: =+E23*G23 -> 0 | I23: =+IF(E23="","",F23*G23) | L23: =(SUM(I23:I26))/$C$791 -> 0 | P23: =IF(L810="","",#REF!/(VLOOKUP(YEAR(#REF!),$XEU$1045872:$XEV$1045907,2,FALSE)))
F24: =IF(C24="","",E24/(VLOOKUP(YEAR(C24),$C$805:$D$841,2,FALSE))) | H24: 0 | I24: =+IF(E24="","",F24*G24)
F25: =IF(C25="","",E25/(VLOOKUP(YEAR(C25),$C$805:$D$841,2,FALSE))) | H25: =+E25*G25 -> 0 | I25: =+IF(E25="","",F25*G25) | P25: =IF(L812="","",#REF!/(VLOOKUP(YEAR(#REF!),$XEU$1045872:$XEV$1045907,2,FALSE)))
F26: =IF(C26="","",E26/(VLOOKUP(YEAR(C26),$C$805:$D$841,2,FALSE))) | H26: 0 | I26: =+IF(E26="","",F26*G26)
A27: EXPERIENCIA DEL PROPONENTE | L27: =IF(AND(L23>=100%),"CUMPLE","NO CUMPLE") -> NO CUMPLE | N27: NO CUMPLE
A30: =+#REF! -> #REF! | D30: =+#REF! -> #REF!
A31: FORMATO 7- MANIFESTACIÓN PERSONAL CLAVE Y FORMATOS | C31: NO CUMPLE
A33: CONDICIONES DE EXPERIENCIA | M33: CODIGO UNSPSC 81101500 - 80102200 -80101600 | N33: Observación y respuesta a observaciones
A34: OBJETO | B34: FECHA DE INICIO D/M/A | C34: FECHA DE TERMINACION D/M/A | D34: ENTIDAD | E34: VALOR CONTRATO | F34: VALOR EN SMMLV AÑO DE TERMINACION | G34: PORCENTAJE DE PARTICIPACION | H34: VALOR EJECUTADO EN PESOS AFECTADO POR EL % DE PARTICIPACION | I34: VALOR EJECUTADO EN SMMLV AFECTADO POR EL % DE PARTICIPACION | J34: No. CONSECUTIVO EN RUP | K34: uno de los integrantes del Proponente debe aportar como mínimo el cincuenta (50%) por ciento de la experiencia | L34: % DEL PROCESO
A35: DPC INGENIEROS S.A.S. 60%
F36: =IF(C36="","",E36/(VLOOKUP(YEAR(C36),$C$805:$D$841,2,FALSE))) | H36: =+E36*G36 -> 0 | I36: =+IF(E36="","",F36*G36) | L36: =(SUM(I36:I37))/$C$791 -> 0 | P36: =IF(L823="","",#REF!/(VLOOKUP(YEAR(#REF!),$XEU$1045872:$XEV$1045907,2,FALSE)))
F37: =IF(C37="","",E37/(VLOOKUP(YEAR(C37),$C$805:$D$841,2,FALSE))) | H37: 0 | I37: =+IF(E37="","",F37*G37)
A38: FRONTERAS CONSTRUCTORA S.A.S. 40%
A39: EXPERIENCIA DEL PROPONENTE | L39: =IF(AND(L36>=100%),"CUMPLE","NO CUMPLE") -> NO CUMPLE | N39: NO CUMPLE
A42: =+#REF! -> #REF! | D42: =+#REF! -> #REF!
A43: FORMATO 7- MANIFESTACIÓN PERSONAL CLAVE Y FORMATOS | C43: CUMPLE
A45: CONDICIONES DE EXPERIENCIA | M45: CODIGO UNSPSC 81101500 - 80102200 -80101600 | N45: Observación y respuesta a observaciones
A46: OBJETO | B46: FECHA DE INICIO D/M/A | C46: FECHA DE TERMINACION D/M/A | D46: ENTIDAD | E46: VALOR CONTRATO | F46: VALOR EN SMMLV AÑO DE TERMINACION | G46: PORCENTAJE DE PARTICIPACION | H46: VALOR EJECUTADO EN PESOS AFECTADO POR EL % DE PARTICIPACION | I46: VALOR EJECUTADO EN SMMLV AFECTADO POR EL % DE PARTICIPACION | J46: No. CONSECUTIVO EN RUP | K46: uno de los integrantes del Proponente debe aportar como mínimo el cincuenta (50%) por ciento de la experiencia | L46: % DEL PROCESO
A47: NORBERTO BAYONA ESPITIA 100%
F48: =IF(C48="","",E48/(VLOOKUP(YEAR(C48),$C$805:$D$841,2,FALSE))) | H48: =+E48*G48 -> 0 | I48: =+IF(E48="","",F48*G48) | L48: =(SUM(I48:I49))/$C$791 -> 0 | P48: =IF(L835="","",#REF!/(VLOOKUP(YEAR(#REF!),$XEU$1045872:$XEV$1045907,2,FALSE)))
F49: =IF(C49="","",E49/(VLOOKUP(YEAR(C49),$C$805:$D$841,2,FALSE))) | H49: 0 | I49: =+IF(E49="","",F49*G49)
A50: EXPERIENCIA DEL PROPONENTE | L50: =IF(AND(L48>=100%),"CUMPLE","NO CUMPLE") -> NO CUMPLE | N50: NO CUMPLE
A53: =+#REF! -> #REF! | D53: =+#REF! -> #REF!
...
