Workbook

Sheet MODELO
A1: REQUISITOS TÉCNICOS HABILITANTES
A2: PROPONENTE: | B2: UT XXXXX
A3: INTEGRANTES: | B3: EMPRESA 1
B4: EMPRESA 2
B5: EMPRESA 3
B6: EMPRESA 4
A7: ITEM | B7: REQUISITOS A EVALUAR | C7: CUMPLE | E7: OBSERVACIONES
A8: 1 | B8: LICENCIA DE FUNCIONAMIENTO DEL PROPONENTE | C8: SI | D8: NO
A9: REVISAR ADENDA 01 | B9: EMPRESA 1
B10: EMPRESA 2
B11: EMPRESA 3
B12: EMPRESA 4
A13: 2 | B13: LICENCIA DE FUNCIONAMIENTO DE LA ESCUELA DE CAPACITACIÓN Y ENTRENAMIENTO EN VIGILANCIA Y SEGURIDAD PRIVADA | C13: SI | D13: NO
B14: EMPRESA 1
B15: EMPRESA 2
B16: EMPRESA 3
B17: EMPRESA 4
A18: 3 | B18: LICENCIA DEL MINISTERIO DE TECNOLOGÍAS DE LA INFORMACIÓN Y LAS COMUNICACIONES O SOPORTE DE OTROS MEDIOS DE COMUNICACIONES O CERTIFICACIÓN EXPEDIDA POR EL PROVEEDOR DE COMUNICACIONES | C18: SI | D18: NO
A19: REVISAR ADENDA 01 | B19: EMPRESA 1
B20: EMPRESA 2
B21: EMPRESA 3
B22: EMPRESA 4
A23: 4 | B23: COPIA VIGENTE DE LA RESOLUCIÓN SOBRE AUTORIZACIÓN DE HORAS EXTRAS, EXPEDIDA POR EL MINISTERIO DE TRABAJO | C23: SI | D23: NO
B24: EMPRESA 1
B25: EMPRESA 2
B26: EMPRESA 3
B27: EMPRESA 4
A28: 5 | B28: ACREDITACIÓN DE DOMICILIO PRINCIPAL O SUCURSAL EN BOGOTÀ | C28: SI | D28: NO
A29: REVISAR ADENDA 01 | B29: EMPRESA 1
B30: EMPRESA 2
B31: EMPRESA 3
B32: EMPRESA 4
A33: 6 | B33: PÓLIZA DE RESPONSABILIDAD CIVIL EXTRACONTRACTUAL | C33: SI | D33: NO
B34: EMPRESA 1
B35: EMPRESA 2
B36: EMPRESA 3
B37: EMPRESA 4
A38: 7 | B38: REPOSICIÓN DE BIENES | C38: SI | D38: NO
B39: EMPRESA 1
B40: EMPRESA 2
...

Sheet HAB
B2: SECRETARIA DE EDUCACION DE CUNDINAMARCA
B3: DIRECCION ADMINISTRATIVA Y FINANCIERA
B4: PROCESO DE SELECCIÓN SE-LP-001-2023
B5: EVALUCION 3.7. REQUISITOS TÉCNICOS HABILITANTES | C5: EVALUACION TECNICA | D5: HABILITADA
B6: NOMBRE DEL PROPONENTE: | C6: UNION TEMPORAL GAA 2023
B7: SI ES UNION TEMPORAL ESPECIFIQUE LOS NOMBRES DE SUS INTEGRANTES Y SU PARTICIOACION EN LA UT | C7: ADPORT LTDA 99% | D7: AMCOVIT LTDA 0.5% | E7: GRANADINA DE VIGILANCIA LTDA 0.5%
B8: REQUISITOS TECNICOS HABILITANTES
B10: 3.7 LICENCIA DE FUNCIONAMIENTO | C10: vigente al cierre del proceso y autorizaicon del servicio a nivel nacional | D10: modalidades: Vigilancia Sin Armas, Servicios Conexos de Asesoría, Consultoría e Investigación. | E10: Sede principal y/o Sucursal en la Ciudad de Bogotá y/o en Cundinamarca | F10: OBSERVACIONES
B11: 3.7LICENCIA DE FUNCIONAMIENTO DEL PROPONENTE: El proponente deberá presentar con su propuesta fotocopia de la licencia de funcionamiento vigente, a la fecha de cierre del presente proceso expedida por la Superintendencia de Vigilancia y Seguridad Privada, en la que conste la autorización para prestar el servicio de vigilancia a nivel nacional. En todo caso la licencia de funcionamiento aportada deberá contar con las siguientes modalidades: Vigilancia Sin Armas, Servicios Conexos de Asesoría, Consultoría e Investigación. El proponente deberá tener Sede principal y/o Sucursal en la Ciudad de Bogotá y/o en Cundinamarca y para el caso de consorcios o uniones temporales cada uno deberá cumplir con lo antes mencionado.En el caso en que la licencia de funcionamiento se encuentre en trámite de renovación se deberá presentarcertificación expedida por la Superintendencia de Vigilancia y Seguridad Privada en los términos establecidos en el artículo 35 del Decreto Ley 019 de 2012. La licencia de funcionamiento debe mantenerse vigente durante la ejecución del contrato y un (1) año más.Para el caso de consorcios o uniones temporales todos los integrantes deben acreditar este requisito. | C11: CUMPLE | D11: CUMPLE | E11: CUMPLE
B12: 3.7.1. LICENCIA DE FUNCIONAMIENTO DE LA ESCUELA DE CAPACITACIÓN Y ENTRENAMIENTO EN VIGILANCIA Y SEGURIDAD PRIVADA | C12: licencia de funcionamiento de la escuela de capacitacion | F12: OBSERVACIONES
B13: 3.7.1. LICENCIA DE FUNCIONAMIENTO DE LA ESCUELA DE CAPACITACIÓN Y ENTRENAMIENTO EN VIGILANCIA Y SEGURIDAD PRIVADA: El proponente deberá anexar a la propuesta, copia de la correspondiente licencia de funcionamiento de la escuela de capacitación y entrenamiento en vigilancia y seguridad privada con la cual tiene convenio para realizar la capacitación y el entrenamiento de su personal, la cual debe encontrarse vigente o si el proponente cuenta con su propio departamento de capacitación, deberá allegar copia de la certificación de la Superintendencia de Vigilancia y Seguridad Privada en la cual conste que la empresa tiene autorizado el programa de capacitación, la cual debe encontrarse vigente al cierre del presente proceso y mantenerse vigente durante la ejecución del contrato.Para el caso de consorcios o uniones temporales por lo menos uno de los integrantes debe acreditar este requisito. | C13: CUMPLE
B14: 3.7.2. LICENCIA DEL MINISTERIO DE TECNOLOGÍAS DE LA INFORMACIÓN Y LAS COMUNICACIONES O SOPORTE DE OTROS MEDIOS DE COMUNICACIONES Y/O CERTIFICACION EXPEDIDA POR EL PROVEEDOR DE COMUNICACIONES | C14: Licencia MINTICS vigente a nombre del proponente | F14: OBSERVACIONES
B15: 3.7.2. LICENCIA DEL MINISTERIO DE TECNOLOGÍAS DE LA INFORMACIÓN Y LAS COMUNICACIONES O SOPORTE DE OTROS MEDIOS DE COMUNICACIONES: El proponente deberá presentar con su propuesta copia de la Resolución, mediante la cual se otorga el permiso para la utilización de frecuencias radioeléctricas a Nivel Nacional lo cual garantiza la comunicación en los lugares donde prestará el servicio con este medio de comunicación. Dicha licencia deberá estar vigente a la fecha de cierre del proceso y mantenerla en estas condiciones durante todo el plazo de ejecución del contrato. Para acreditar el cumplimiento de este requisito, deberá presentar la licencia expedida por el Ministerio de las Tics y haber sido expedido a nombre del proponente. Para el caso de consorcios o uniones temporales cada uno de los integrantes debe acreditar este requisito. Para la certificación expedida por el proveedor de comunicaciones deberá cumplir con los requisitos establecido en el numeral 3.7.3. | C15: CUMPLE
B16: 3.7.3. CERTIFICACIÓN EXPEDIDA POR EL PROVEEDOR DE COMUNICACIONES | C16: certificación expedida por el proveedor de comunicaciones con fecha de expedición no mayor a 30 días en la que se certifique lo siguiente: a) Empresa y NIT cliente. b) Que se cuenta con un plan de telefonía celular (voz, datos, SMS). c) Fecha de expedición de la certificación.d) Certificar que el contrato se encuentra vigente. | F16: OBSERVACIONES
B17: 3.7.3. CERTIFICACIÓN EXPEDIDA POR EL PROVEEDOR DE COMUNICACIONES El proponente deberá adjuntar copia legible de la certificación expedida por el proveedor de comunicaciones con fecha de expedición no mayor a 30 días en la que se certifique lo siguiente:a) Empresa y NIT cliente. b) Que se cuenta con un plan de telefonía celular (voz, datos, SMS). c) Fecha de expedición de la certificación. d) Certificar que el contrato se encuentra vigente.NOTA: En caso de ser adjudicatario, el contratista deberá mantener vigente el contrato de telefonía móvil durante todo el plazo de ejecución del contrato suscrito para la prestación de vigilancia y seguridad privada.Para el caso de consorcios o uniones temporales uno de los integrantes debe acreditar este requisito.En todo caso en caso que el proponente no cuente con esta autorización deberá aportar el contrato suscrito con un operador debidamente autorizado. | C17: CUMPLE
B18: 3.7.4. COPIA VIGENTE DE LA RESOLUCIÓN SOBRE AUTORIZACIÓN DE HORAS EXTRAS, EXPEDIDA POR EL MINISTERIO DE TRABAJO | C18: resolución sobre autorización de horas extras, expedida por el ministerio de trabajo | F18: OBSERVACIONES
B19: Fotocopia de la resolución vigente a la fecha del cierre del presente proceso y durante la ejecución del contrato, expedida por el Ministerio de Trabajo, por medio de la cual autorizan y aprueban para laborar horas extras a la empresa. Para el caso de consorcios o uniones temporales todos los integrantes deben acreditar este requisito.En caso de que la resolución se encuentre vencida a la presentación de la propuesta el oferente deberá aportar el documento vencido y el radico de solicitud. Si el documento se vence durante la ejecución del contrato el contratista deberá dar cumplimiento al artículo 35 del Decreto 019 de 2012; de presentarse lo anterior el contratista deberá informar al supervisor del contrato para el debido seguimiento. | C19: CUMPLE
B20: 3.7.5. CERTIFICADO DE VINCULACIÓN DE LA RED DE APOYO A LA POLICÍA: | C20: certificación expedida por el representante legal bajo la gravedad de juramento, deberá acreditar que la empresa oferente está inscrita en la Red de Apoyo y Seguridad Ciudadana de la Policía | F20: OBSERVACIONES
B21: 3.7.5. CERTIFICADO DE VINCULACIÓN DE LA RED DE APOYO A LA POLICÍA: El proponente mediante certificación expedida por el representante legal bajo la gravedad de juramento, deberá acreditar que la empresa oferente está inscrita en la Red de Apoyo y Seguridad Ciudadana de la Policía Nacional del área de su domicilio, lo cual se acreditará mediante documento vigente a la fecha de presentación de la propuesta, expedido por dicho organismo, conforme con lo establecido en las normas legales vigentes sobre la materia. Para el caso de Consorcios o Uniones Temporales cada una de las empresas integrantes deberá acreditar la certificación antes requerida. Para el proponente a quien se le adjudique el contrato deberá dentro de los 3 días siguientes al inicio de la ejecución aportar la inscripción a la Red de Apoyo y Seguridad Ciudadana de la Policía Nacional de Cundinamarca; de igual manera dentro de dicho término deberá acreditar la inscripción a la Red de Apoyo y Seguridad Ciudadana de su domicilio principal. Para el caso de uniones temporales o consorcios, cada uno de las empresas integrantes deberá cumplir con esa obligación contractual. | C21: CUMPLE
B22: 3.7.6. ACREDITACIÓN DE DOMICILIO PRINCIPAL O SUCURSAL EN EL DEPARTAMENTO DE CUNDINAMARCA: | C22: Acreditacion de supervigilancia para operar en Bogota | F22: OBSERVACIONES
B23: 3.7.6. ACREDITACIÓN DE DOMICILIO PRINCIPAL O SUCURSAL EN EL DEPARTAMENTO DE CUNDINAMARCA: El proponente cuyo domicilio principal no sea la Ciudad de Bogotá, deberá acreditar que se encuentra autorizado por la Superintendencia de Vigilancia y Seguridad Privada, para operar en esta ciudad mediante Sucursal. (Circular No.001 de 2012 Supervigilancia). En caso de Consorcio o Unión temporal, tal acreditación la debe efectuar por cada uno de los integrantes. | C23: CUMPLE
B24: 3.7.7. PÓLIZA DE RESPONSABILIDAD CIVIL EXTRACONTRACTUAL | C24: Amparos | D24: cubrmiento mayos a 400 smlv | E24: recibo de pago | F24: OBSERVACIONES
B25: 3.7.7. PÓLIZA DE RESPONSABILIDAD CIVIL EXTRACONTRACTUAL El proponente deberá adjuntar a su oferta copia legible de la póliza de seguro de Responsabilidad Civil Extracontractual, a nombre de la empresa, que ampare los riesgos por el uso indebido de las armas de fuego u otros elementos de uso de los vigilantes, con cubrimiento no inferior a 400 salarios mínimos legales mensuales vigentes y recibo de pago de la misma, expedido por una compañía de seguros legalmente autorizada, de conformidad con lo dispuesto en el artículo 11 del Decreto 356 de 1994 y numeral 11 artículo 25 de la Resolución 2852 de 2006.En las propuestas presentadas por consorcios o uniones temporales cada uno de los integrantes por separado deberá acreditar este requisito. | C25: CUMPLE | D25: CUMPLE | E25: CUMPLE | F25: subsano adecuadamente el documento
B26: 3.7.8. REPOSICIÓN DE BIENES | C26: Procedimiento para atender las reclamaciones conforme la Circular 001 de 2010 de la Superintendencia de Vigilancia y Seguridad Privada. | F26: OBSERVACIONES
B27: 3.7.8. REPOSICIÓN DE BIENESEl oferente debe manifestar en su propuesta, en forma expresa y clara como atenderá las reclamaciones que se formulen por parte del Departamento derivadas de los hurtos y/o pérdidas de equipos, elementos y demás bienes que se encuentren en las instalaciones objeto de la prestación del servicio de vigilancia, es decir el procedimiento a seguir conforme la Circular 001 de 2010 de la Superintendencia de Vigilancia y Seguridad Privada. El oferente deberá presentar junto con la manifestación requerida póliza de responsabilidad civil extracontractual vigente a la fecha de cierre, donde demuestre adicional a los amparos de uso indebido de armas de fuego, errores de puntería, y otros elementos de seguridad, el amparo de bienes bajo cuidado tenencia y control. | C27: CUMPLE
B28: 3.7.9. RESOLUCIÓN VIGENTE O SOLICITUD DE APROBACIÓN DE UNIFORMES Y DISTINTIVOS | C28: resolución vigente o solicitud de aprobación de uniformes y distintivos expedida por la superintendencia de vigilancia privada | F28: OBSERVACIONES
B29: 3.7.9. RESOLUCIÓN VIGENTE O SOLICITUD DE APROBACIÓN DE UNIFORMES Y DISTINTIVOS El proponente deberá presentar con la propuesta copia de la resolución vigente a la fecha de cierre del presente proceso, expedida por la Superintendencia de Vigilancia Privada, mediante la cual se aprobaron los diseños, colores, materiales, condiciones de uso y demás especificaciones y distintivos, utilizados por el personal de vigilancia y seguridad privada, la cual deberá mantenerse vigente durante la ejecución del contrato. En el evento de haberse solicitado la aprobación de uniformes o distintivos, de conformidad con la Resolución 00510 de 2004, expedida por la Superintendencia de Vigilancia y Seguridad Privada no habiéndose obtenido aun respuesta deberá aportarse la respectiva solicitud debidamente presentada y radicada ante la Superintendencia de Vigilancia Privada. Para el caso de consorcios o uniones temporales todos los integrantes deben acreditar este requisito. | C29: CUMPLE
B30: 3.7.10. VEHICULOS – EQUIPO AUTOMOTOR : | C30: Carta de manifestacion con diponibilidad, propiedad y/o tenencia de los vehiculos | F30: OBSERVACIONES
B31: 3.7.10. VEHICULOS – EQUIPO AUTOMOTOR : El proponente deberá acreditar mediante manifestación escrita (carta) la disponibilidad y la propiedad o tenencia de los vehículos solicitados, con las tarjetas de propiedad o contrato de arrendamiento, leasing financiero o renting, los oferentes del proceso de selección correspondiente, deberán certificar que estos vehículos estarán disponibles para el momento en que se requiera con destino al personal de la empresa de vigilancia contratada, atender cualquier anomalía que se presente en el desarrollo de la ejecución del contrato. Estos vehículos no son de uso exclusivo para el contrato. | C31: CUMPLE
B32: 3.7.11. RECURSO HUMANO: | C32: Carta de manifestacion donde especifique que cuenta con el personal suficiente para la prestacion del servicio | F32: OBSERVACIONES
B33: 3.7.11. RECURSO HUMANO: El oferente deberá presentar mediante manifestación escrita, (carta) que se entenderá bajo la gravedad de juramento, que cuenta con el personal suficiente para la prestación del servicio objeto del presente proceso contractual y que cumplen con los requisitos exigidos vigentes para ejercer las funciones de vigilante establecidas por la Superintendencia de Vigilancia y Seguridad Privada. | C33: CUMPLE
B34: 3.7.12. SUMINISTRO DOTACION : | C34: Carta de manifestacion donde especifique que cuenta con la capacidad para dotar el personal de los 225 puntos | F34: OBSERVACIONES
B35: 3.7.12. SUMINISTRO DOTACION : El oferente deberá presentar mediante manifestación escrita, que cuenta con la capacidad para dotar al personal de los 225 puntos, con el equipo mínimo exigido para desempeñar sus labores en la propiedad protegida, tales como: Uniforme completo con su escudo de identificación y licencias reglamentarias que cumpla lo establecido en la Resolución 510 de 2004 expedida por la Superintendencia de Vigilancia y Seguridad Privada, equipo de comunicaciones permanente, bastón de mando, placa y carné de identificación; así como elementos de trabajo tales como pitos, impermeable, bolígrafo, libro de minuta, carpeta de consignas, linterna y directorio telefónico de emergencia. | C35: CUMPLE
B36: 3.7.13. CERTIFICACIÓN PAZ Y SALVO FINANCIERO POR LA SUPERINTENDENCIA DE VIGILANCIA Y SEGURIDAD PRIVADA | C36: Certificado de paz y salvo financiero vigente a la fecha de cierre del proceso contractual en donde certifique que el oferente se encuentra al día por concepto de pago de contribuciones a la Superintendencia de Vigilancia. | F36: OBSERVACIONES
B37: 3.7.13. CERTIFICACIÓN PAZ Y SALVO FINANCIERO POR LA SUPERINTENDENCIA DE VIGILANCIA Y SEGURIDAD PRIVADA El proponente deberá aportar el siguiente documento: Certificado de paz y salvo financiero vigente a la fecha de cierre del proceso contractual en donde certifique que el oferente se encuentra al día por concepto de pago de contribuciones a la Superintendencia de Vigilancia. En caso de consorcios o uniones temporales, cada uno de los integrantes deberá anexar el mencionado paz y salvo financiero. En caso que el proponente no cuente con la paz y salvo vigente podrá allegar el último certificado emitido por la superintendencia junto con el radicado de solicitud y durante el traslado de subsanación allegar el documento vigente. | C37: CUMPLE
B38: 3.7.14. CERTIFICACIÓN DE NO SANCIONES DE LA SUPERINTENDENCIA DE VIGILANCIA Y SEGURIDAD PRIVADA | C38: certificación de no sanciones vigente de la superintendencia de vigilancia y seguridad privada | F38: OBSERVACIONES
B39: 3.7.14. CERTIFICACIÓN DE NO SANCIONES DE LA SUPERINTENDENCIA DE VIGILANCIA Y SEGURIDAD PRIVADA El proponente deberá aportar Certificado de NO SANCIONES vigente a la fecha de cierre del proceso contractual en donde certifique que el oferente no tiene sanciones impuestas por la Superintendencia de Vigilancia. En caso de consorcios o uniones temporales, cada uno de los integrantes deberá anexa el mencionado certificado. En caso que el proponente no cuente con la certificación vigente de NO SANCIONES podrá allegar la última certificación emitida por la superintendencia junto con el radicado de solicitud y durante el traslado de subsanación allegar el documento vigente. | C39: CUMPLE
B40: 3.7.15. CERTIFICACIÓN CUMPLIMIENTO TARIFAS MINIMAS SERVICIO DE VIGILANCIA: | C40: declaración juramentada en cuanto a que las tarifas ofrecidas | F40: OBSERVACIONES
B41: 3.7.15. CERTIFICACIÓN CUMPLIMIENTO TARIFAS MINIMAS SERVICIO DE VIGILANCIA: El oferente deberá allegar con la propuesta, declaración juramentada en cuanto a que las tarifas ofrecidas se ajustan a lo señalado en el artículo 92 del Decreto Ley 356 de 1994, Decreto Único Reglamentario 1070 de 2015, Decreto 2209 de 2016 y de conformidad con el Decreto 4950 de 2007 y la Circular No. 20221300000675 de la Superintendencia de Vigilancia y Seguridad Privada. | C41: CUMPLE
B42: 3.7.16. EL OFERENTE DEBERÁ PRESENTAR | C42: Carta de manifestacion donde especifique que cuenta con el personal suficiente para la prestacion del servicio | F42: OBSERVACIONES
...

Sheet COYSUP
B2: SECRETARIA DE EDUCACION
B3: DIRECCION ADMINISTRATIVA Y FINANCIERA
B4: PROCESO DE SELECCIÓN SE-LP-001-2023
B5: EVALUCION 3.7. REQUISITOS TÉCNICOS HABILITANTES y Adicionales del coordiandor y los supervisores
B6: NOMBRE DEL PROPONENTE: | C6: UNION TEMPORAL GAA 2023
B7: COORDINADOR | W7: DIAS | AA7: 0
B8: REQUISITOS | C8: NOMBRE | D8: RICHARD ALFONSO RODRIGUEZ ORTIZ | W8: =ROUNDDOWN((SUM(G24:G35)/30),0) -> 0 | AA8: 20
B9: 1. Oficial (R) en uso del Buen retiro de las Fuerzas Militares o de Policía y/o Profesional en ciencias militares y/o administración de empresas y/o administración logística. | G9: SI | J9: OBSERVACIONES
B10: 2. Especialista en administración de la seguridad y/o seguridad integral y/o Especialista en alta gerencia de la defensa nacional y/o Especialista en seguridad integral. | G10: SI | J10: CUMPLE
B11: 3. Cuatro (4) años de experiencia como coordinador y/o director de contratos cuyo objeto esté relacionado con servicios de seguridad y vigilancia privada. | G11: SI | U11: =ROUNDDOWN(W11/12,2) -> 0.17 | V11: =SUM(F24:G35)+ROUNDDOWN((SUM(F24:G35)/30),0) -> 25 | W11: =+V11/12 -> 2.0833333
B12: 4. Credencial de consultor o resolución de consultor vigente emitida por la Supervigilancia. | G12: SI
B13: 5. Carta de compromiso de vinculación del perfil durante el plazo de ejecución del contrato. | G13: SI
B14: REQUISITOS ADICIONALES PARA ACREDITAR PERFIL | J14: ACREDITA ADECUADAMENTE EL PERFIL
B15: 1.Hojas de Vida firmada por el profesional | G15: SI | J15: SI
B16: 2. Título de técnico, tecnólogo o pregrado o actas de grado según aplique en cada perfil propuesto y/o resoluciones que acrediten la desvinculación de las Fuerzas Militares o de Policía según corresponda. | G16: SI
B17: 3. Copia de la cedula de ciudadanía. | G17: SI
B18: 4. Copia de la tarjeta Profesional de cada uno de los profesionales exigidos (cuando aplique), junto con el Certificado de Vigencia de la misma. | G18: SI
B19: 5. Certificaciones para acreditar la experiencia (Mínima habilitante y/o ponderable). | G19: SI
B20: 6. Carta de compromiso la cual deberá contener: Nombre del profesional, número de identificación, profesión, cargo al cual se postula, empresa a la cual postula su hoja de vida, proceso al cual se postula, fecha de expedición del documento, firma y teléfono de contacto. | G20: SI
B21: 7 Se presentará para efectos de verificar la experiencia, el FORMATO N: 11 en el cual se detalle de manera clara la experiencia a acreditar para el personal evaluable solicitado. | G21: SI
B22: EXPERIENCIA | W22: =+#REF!*12 -> #REF!
B23: EMPRESA Y/O CONTRATO | C23: INICIO | D23: FIN | E23: AÑOS | F23: MESES | G23: DIAS | H23: Misma empresa Certifica | I23: anexa Contrato | J23: TOTAL EXPERIENCIA
B24: ADMINCON PORT LTDS, SUPERVISOR/O COORDINADOR Y DIRECTOR DE SEGURIDAD NIVEL NACIONAL | C24: 42614 | D24: 43654 | E24: =IF(D24>1,(DATEDIF(C24,D24,"Y")),"") -> 2 | F24: =IF(D24>1,(DATEDIF(C24,D24,"Ym")),"") -> 10 | G24: =IF(D24>1,(DATEDIF(C24,D24,"md")),"") -> 7 | H24: NO | I24: N/A
B25: AMCOVIT LTDA, COORDINADOR DE ZONA / CONSULTOR | C25: 43655 | D25: 44994 | E25: =IF(D25>1,(DATEDIF(C25,D25,"Y")),"") -> 3 | F25: =IF(D25>1,(DATEDIF(C25,D25,"Ym")),"") -> 8 | G25: =IF(D25>1,(DATEDIF(C25,D25,"md")),"") -> 0 | H25: SI | I25: NO | J25: AÑOS | K25: MESES | L25: DIAS
F26: =IF(D26>1,(DATEDIF(C26,D26,"Ym")),"") | G26: =IF(D26>1,(DATEDIF(C26,D26,"md")),"") | J26: =SUM(E24:E35)+U11 -> 5.17 | K26: =+(W11-U11) -> 1.9133333 | L26: =IF(SUM(G24:G35)>=30,SUM(G24:G35)-(W8*30),SUM(G24:G35)) -> 7
E27: =IF(D27>1,(DATEDIF(C27,D27,"Y")),"") | F27: =IF(D27>1,(DATEDIF(C27,D27,"Ym")),"") | G27: =IF(D27>1,(DATEDIF(C27,D27,"md")),"") | J27: PUNTAJE
B28: OBSERVACIONES | E28: =IF(D28>1,(DATEDIF(C28,D28,"Y")),"") | F28: =IF(D28>1,(DATEDIF(C28,D28,"Ym")),"") | G28: =IF(D28>1,(DATEDIF(C28,D28,"md")),"") | J28: De acuerdo a lo dispuesto en el artículo 60 del el Decreto Ley 356 de 1994, establece que “Las personas naturales o jurídicas que pretenden prestar servicios de asesoría, consultoría, investigación en seguridad (...) acreditar adicionalmente a lo requerido en los requisitos habilitantes una experiencia mínima de tres (3) años como consultor en empresas de vigilancia debidamente certificada. (10 Puntos) | L28: NO
B29: LA EMPRESA AMCOVIT, CERTIFICA SU LABOR COMO CONSULTOR, SIN EMBARGO NO ADJUNTA EL CONTRATO | E29: =IF(D29>1,(DATEDIF(C29,D29,"Y")),"") | F29: =IF(D29>1,(DATEDIF(C29,D29,"Ym")),"") | G29: =IF(D29>1,(DATEDIF(C29,D29,"md")),"") | L29: 0
E30: =IF(D30>1,(DATEDIF(C30,D30,"Y")),"") | F30: =IF(D30>1,(DATEDIF(C30,D30,"Ym")),"") | G30: =IF(D30>1,(DATEDIF(C30,D30,"md")),"") | J30: Contar con una Maestría en seguridad y defensa o seguridad integral o en seguridad pública o en seguridad operacional o en Recursos Humano o en Administración de Negocios (MBA) o Gestión de las Organizaciones o Maestría en Gestión de Riesgos debidamente acreditado mediante diploma o acta de grado acreditado por una institución de educación superior (10 Puntos) | L30: SI
L31: 10
J32: Curso de Auditor interno en el sistema de gestión para las operaciones de seguridad privada según la Norma ISO 18788:2018. (4 Puntos). | L32: SI
E33: =IF(D33>1,(DATEDIF(C33,D33,"Y")),"") | F33: =IF(D33>1,(DATEDIF(C33,D33,"Ym")),"") | G33: =IF(D33>1,(DATEDIF(C33,D33,"md")),"") | L33: 4
E34: =IF(D34>1,(DATEDIF(C34,D34,"Y")),"") | F34: =IF(D34>1,(DATEDIF(C34,D34,"Ym")),"") | G34: =IF(D34>1,(DATEDIF(C34,D34,"md")),"") | J34: PUNTAJE COORDINADOR | L34: =+L33+L29+L31 -> 14
F35: =IF(D35>1,(DATEDIF(C35,D35,"Ym")),"") | G35: =IF(D35>1,(DATEDIF(C35,D35,"md")),"")
B36: SUPERVISOR 1
B37: REQUISITOS | C37: NOMBRE | D37: GERARDO ENRIQUE BARRIOS CRUZ | J37: OBSERVACIONES | W37: DIAS
W38: =ROUNDDOWN((SUM(G52:G61)/30),0) -> 0
B39: •Acreditar título de Técnico y/o Tecnólogo y / o profesional para lo cual se deberá adjuntar copia del diploma o acta de grado y/o Suboficial u oficial de las Fuerzas Militares o de Policía para lo cual deberá adjuntar el extracto de la hoja de vida para verificar el Uso del buen retiro y el grado, adicional deberá contar con certificación de cursos de entrenamiento en el ciclo de supervisores en concordancia con los ciclos de capacitación establecidos por la Superintendencia de Vigilancia y Seguridad Privada; Presentar certificado de antecedentes disciplinarios vigente expedido por la PGN. | G39: SI | J39: CUMPLE
B40: •Contar por lo menos con Tres (3) años de experiencia como supervisor en empresas de seguridad y vigilancia, así mismo deberá adjuntar la credencial de supervisor vigente. | G40: SI
B41: •Carta de compromiso de vinculación del perfil durante el plazo de ejecución del contrato. | G41: SI
...

Sheet PUNTOS
A2: SECRETARIA DE EDUCACION
A3: DIRECCION ADMINISTRATIVA Y FINANCIERA
A4: PROCESO DE SELECCIÓN SE-LP-001-2023
A5: EVALUCION 3.7. REQUISITOS TÉCNICOS HABILITANTES y Adicionales del coordiandor y los supervisores
A6: NOMBRE DEL PROPONENTE: | B6: UNION TEMPORAL GAA 2023
A7: CRITERIOS DE EVALUACION 100 PUNTOS
A9: CRITERIO DE PRECIOS
A10: PROPUESTA ECNONOMICA | J10: 1.5
A11: CRITERIOS DE CALIDAD | J11: 84
A12: 4.3.1 REPOSICION DE BIENES | J12: 30
A13: El oferente deberá presentar junto con la manifestación requerida una póliza de responsabilidad civil extracontractual vigente a la fecha de cierre, donde demuestre adicional a los amparos de uso indebido de armas de fuego, errores de puntería, y otros elementos de seguridad, el amparo de bienes bajo cuidado tenencia y control por valor de por lo menos 900 salarios mínimos legales vigentes descritos en la tabla para hacerse acreedor al puntaje. | G13: Cubrimiento póliza de para el reconocimiento y pago de perdidas
G14: 1 | H14: Mayor o igual a 2000 salarios mínimos legales vigentes | K14: NO
K15: 0
G16: 2 | H16: Entre 901 a 1999 salarios mínimos legales vigentes
K17: 0
G18: 3 | H18: Igual a 900 salarios mínimos legales vigentes
K19: 0
A20: Para el caso de consorcios o uniones temporales al menos uno (1) de los integrantes deben acreditar este requisito, para acceder al puntaje.
A22: 4.3.2. CALIDADES ADICIONALES DEL COORDINADOR–VEINTICUATRO (24) PUNTOS Pagina anterior | J22: =+COYSUP!L34 -> 14
A24: 4.3.3. CERTIFICADO NO SANCIONES IMPUESTAS POR LA SUPERINTENCIA DE INDUSTRIA Y COMERCIO (30) PUNTOS:
A26: Certificado de no presentar sanción en la Superintendencia de Industria y Comercio, durante los últimos 8 años con una fecha de expedición no mayor a treinta (30) días anteriores al cierre del proceso. En caso de ofertas conjuntas cada uno de los integrantes del Consorcio, Uniones Temporales o promesa de sociedad futura, debe allegar este documento para hacerse a acreedor al puntaje:( Esto asegura a la entidad que la empresa no ha sido sancionada por colusión y violación al tratamiento de datos personales. | G26: Certificado no sanciones impuestas por la superintencia de industria y comercio
G27: 1 | H27: sin sanciones | K27: 30
G29: 2 | H29: Con sanciones
A31: OTROS CRITERIOS
A33: 4.5. APOYO A LA INDUSTRIA NACIONAL (10 PUNTOS).
A35: 4.5. APOYO A LA INDUSTRIA NACIONAL (10 PUNTOS). En los contratos que deban cumplirse en Colombia, el servicio es nacional cuando además de ofertarse por una persona natural colombiana o por un residente en Colombia, por una persona jurídica constituida de conformidad con la legislación colombiana o por un Proponente Plural conformado por estos o por estos y un extranjero con Trato Nacional, (i) usa el o los bienes nacionales relevantes definidos por la Entidad Estatal para el desarrollo de la obra o (ii) vincula el porcentaje mínimo de personal colombiano, según corresponda. En el caso de los Proponentes extranjeros con trato nacional que participen en el Proceso de Contratación de manera singular o mediante la conformación de un Proponente Plural podrán definir si aplican las reglas previstas en este numeral o, si por el contrario, deciden acogerse a la regla de origen de su país. Para definir la regla aplicable al proceso, el Proponente extranjero con trato nacional así lo manifestará con el diligenciamiento de la opción 2 del Formato 9A – Promoción de Servicios Nacionales o con Trato Nacional. En el caso que no se diligencie la opción 2 del Formato 9A – Promoción de Servicios Nacionales o con Trato Nacional, la Entidad Estatal deberá evaluar la oferta de acuerdo con las reglas previstas en este numeral. Debido a la especialidad del contrato, en donde no se requieren bienes relevantes para la ejecución del contrato, se otorgará el puntaje de apoyo a la industria nacional a los Proponentes que se comprometan a vincular durante el desarrollo del objeto contractual un porcentaje de empleados o contratistas por prestación de servicios colombianos, de al menos el cuarenta por cientos (40%) del personal requerido para el cumplimiento del contrato. En el caso de Proponentes Plurales todos, varios o cualquiera de sus integrantes podrá vincular un porcentaje de empleados o contratistas por prestación de servicios colombianos, de al menos cuarenta (40%) por ciento del personal requerido para el cumplimiento del contrato. Además de la incorporación de personal colombiano requerido para la ejecución del contrato, tratándose de Proponentes Plurales, su composición deberá estar acorde con lo exigido por la noción de Servicios Nacionales prevista en el artículo 2.2.1.1.1.3.1 del Decreto 1082 de 2015, de lo que dependerá la franja del puntaje aplicable en lo referente al apoyo de la industria nacional. | J35: SI | K35: 10
A39: TRABAJADORES EN CONDICION DE DISCAPACIDAD UN (1) PUNTO FORMATO 10
A40: 4.6. TRABAJADORES EN CONDICION DE DISCAPACIDAD UN (1) PUNTO FORMATO 10 Se otorgará un (1) punto al proponente que acredite la vinculación de trabajadores con discapacidad en su planta de personal, de acuerdo con los siguientes requisitos: 1. La persona natural, el representante legal de la persona jurídica o el revisor fiscal, según corresponda, certificará el número total de trabajadores vinculados a la planta de personal del proponente o sus integrantes a la fecha de cierre del proceso de selección. 2. Acreditar el número mínimo de personas con discapacidad en su planta de personal, de conformidad con lo señalado en el certificado expedido por el Ministerio de Trabajo, el cual deberá estar vigente a la fecha de cierre del proceso de selección. Nota: si la oferta es presentada por un consorcio, unión temporal o promesa de sociedad futura, se tendrá en cuenta la planta de personal del integrante del proponente plural que aporte como mínimo el cuarenta por ciento (40%) de la experiencia requerida para la respectiva contratación. La Entidad deberá verificar que el proponente adjudicatario mantiene en su planta de personal el número de trabajadores con discapacidad que dio lugar al puntaje obtenido. | J40: SI | K40: 1
A42: Emprendimientos y empresas de mujeres 0.25 PUNTOS
A44: Para este Item se otorgará un puntaje adicional de hasta el cero punto veinticinco por ciento (0.25%) del valor total de los puntos establecidos, para acceder al puntaje. los proponentes con la oferta deben acreditar alguno de los supuestos del artículo 2.2.1.2.4.2.14 del 1082 de 2015. | J44: SI | K44: 0.25
A48: MIPYME EN EL SISTEMA DE COMPRAS PÚBLICAS 0.25 PUNTOS
A50: Para este Item se otorgará un puntaje adicional de hasta el cero punto veinticinco por ciento (0.25%) del valor total de los puntos establecidos, para acceder al puntaje. los proponentes con la oferta deben acreditar alguno de los supuestos del artículo 2.2.1.2.4.2.14 del 1082 de 2015. | J50: SI | K50: 0.25
L51: =+K50+K44 -> 0.5
A54: DECRETO 1279 | J54: SI | K54: 1.368
A55: TOTAL PUNTAJE | J55: =+K50+K44+K35+K29+K27+J22+K15++K17+K19+J10+J1+K54+K40 -> 58.368
A59: 4.9 REDUCCIÓN DE PUNTAJE POR INCUMPLIMIENTO DE CONTRATOS.
A61: En atención a lo preceptuado en el artículo 58 de la ley 2195 de 2022 la Secretaría de Educación procederá a reducir durante la evaluación de las ofertas en la etapa precontractual el dos por ciento (2%) del total de los puntos establecidos en el proceso a los proponentes que se les haya impuesto una o más multas o cláusulas penales durante el último año, contado a partir de la fecha prevista para la presentación de las ofertas, sin importar la cuantía y sin perjuicio de las demás consecuencias derivadas del incumplimiento. Esta reducción también afecta a los consorcios y uniones temporales si alguno de sus integrantes se encuentra en la situación anterior. La reducción del puntaje no se aplicará en caso de que los actos administrativos que hayan impuesto las multas sean objeto de medios de control jurisdiccional a través de las acciones previstas en la Ley 1437 de 2011 o las normas que la modifiquen, adicionen o sustituyan. La reducción de puntaje por incumplimiento de contratos se aplicará sin perjuicio de lo contenido en el artículo 6 de la Ley 2020 de 2020. | J61: NO | K61: 0

Sheet  PARTICIPACION
A1: VALORES TOTALES DE CADA EMPRESA- UNION TEMPORAL AGG | H1: VALOR POR PARTICIPACION EN LA UT | L1: Instrucciones 1. Colocar el nombre de la ut 2.verificar y poner en cada casilla el nombre de quienes conforman el consorcio o union temporal 3. Poner adecuadadamente su particiacion en la ut, si es unico proponente suparticipacion sera del 100%, asi mismo la suma de la participaicon de las ut debe ser el 100% 4. poner en cada item el valor cada empresa total de trabjadores, total de mujeres y total de discapacitados
A4: NOMBRE | B4: % DE PARTICIPACION EN LA UT | C4: TOTAL DE TRABAJADORES DE CADA EMPRESA | D4: TOTAL DE MUJERES DE CADA EMPRESA | E4: TOTAL >45 DE CADA EMPRESA | F4: TOTAL DISCAPACITADOS DE CADA EMPRESA | G4: TOTAL TRABADORES DE ACUERDO CON SU PARTICIPACION | H4: TOTAL DE MUJERES DE CADA EMPRESA POR PARTICIPACION | I4: TOTAL >45 POR PARTICIPACION | J4: TOTAL DISCAPACITADOS POR PARTICIPACION
A5: =+HAB!C7 -> ADPORT LTDA 99% | B5: 0.99 | C5: 239 | D5: 107 | E5: 120 | F5: 122 | G5: =+B5*C5 -> 236.61 | H5: =+B5*D5 -> 105.93 | I5: =+E5*B5 -> 118.8 | J5: =+F5*B5 -> 120.78
A6: =+HAB!D7 -> AMCOVIT LTDA 0.5% | B6: 0.005 | C6: 1500 | D6: 470 | E6: 538 | F6: 40 | G6: =+B6*C6 -> 7.5 | H6: =+B6*D6 -> 2.35 | I6: =+E6*B6 -> 2.69 | J6: =+F6*B6 -> 0.2
A7: =+HAB!E7 -> GRANADINA DE VIGILANCIA LTDA 0.5% | B7: 0.005 | C7: 1350 | D7: 271 | E7: 302 | F7: 0 | G7: =+B7*C7 -> 6.75 | H7: =+B7*D7 -> 1.355 | I7: =+E7*B7 -> 1.51 | J7: =+F7*B7 -> 0
A8: =+HAB!F7 -> 0
A11: UNION TEMPORAL | G11: Instruciones los valores de esta tabla son el NUMERO de trabajdores mujeres y discapacitados que tendra la union temporal y se deben conservar para colocarlos en las casillas de la hoja puntuable. Especificamente en donde dice mayor #. NO USAR EL VALOR TOTAL DE TRABAJADORES DE LA UT, asi mismo se identifica el # total de cada item que se va a usar en la tabla puntaje 1290
A13: NUMERO TOTAL DE TRABAJADORES QUE DEBE PONERSE EN LA TABLA 1279 | B13: SUMATORIA TOTAL DE TRABAJADORES DE LA UT | C13: TOTAL SUMATORIA DE MUJERES DE LA UT | D13: TOTAL SUMATORIA >45 DE L AUT | E13: TOTAL SUMATORIA DISCAPACITADOS DE LA UT
B14: =SUM(G5:G8) -> 250.86 | C14: =SUM(H5:H8) -> 109.635 | D14: =SUM(I5:I8) -> 123 | E14: =SUM(J5:J8) -> 120.98
A17: PORCENTAJE DE CADA ITEM DE LA UT | G17: Instruciones: los valores de esta tabla son el PORCENTAJE % de trabajdores, mujeres y discapacitados que tendra la union tempora y/o proponentel y se deben conservar para colocarlos en las casillas de la hoja puntuable 1290. Especificamente en donde diCE % DE MUJERES, O % DE >45 O % DISCAPACITADOS
A19: PORCENTAJE DE TRABAJADORES QUE DEBE PONERSE EN LA TABLA 1279 | B19: TOTAL DE MUJERES DE LA UT | C19: TOTAL >45 DE L AUT | D19: TOTAL DISCAPACITADOS DE LA UT
B20: =+C14/B14 -> 0.43703659 | C20: =+D14/B14 -> 0.49031332 | D20: =+E14/B14 -> 0.48226102

Sheet Hoja1
B1: 1160000 | C1: 400 | D1: =+C1*B1 -> 464000000

Sheet VERIFICACION DE CEDULA
A1: N | B1: PROPONENTE | C1: GRUPOS | D1: NUMERO DE MUJERES VERIFICADO CON CEDULA | E1: MAYOR # DE 45 VERFICADO CON CEDULA
A2: 1 | B2: UT TEMPORAL SE OM 2023 | C2: JHON EDWIN
A3: 2 | B3: COVISUR DE COLOMBIA LTADA | C3: BRAYAN
A4: 3 | B4: ESTATAL DE SEGURIDAD LTADA | C4: FREDY ALEXANDER
A5: 4 | B5: UT MAP SEGURIDAD | C5: DIANA SOFIA
A6: 5 | B6: UT GOBERNACION TCC 2023 | C6: LILIANA
A7: 6 | B7: UT VISE-ACOSTA-LUBECK | C7: YENNY P
A8: 7 | B8: UT SED-CCT | C8: EDILSIA
A9: 8 | B9: UT NAP 2023 | C9: LORENA
A10: 9 | B10: UT GAA 2023 | C10: PAUL
A11: 10

Sheet MODELO FORMATO ISOLUTION
A1: REQUISITOS HABILITANTES - SUBSANABLES
A3: OFERENTE O PROPONENTE: UT PENTAGONO
A5: REQUISITOS TÉCNICOS | C5: VERIFICACION DEL DOCUMENTO | E5: CUMPLE | F5: FOLIO | G5: OBSERVACIONES Y/O REQUERIMIENTOS PARA SUBSANAR
A6: NUMERAL | B6: DESCRIPCIÓN | E6: (Relacionar SI, NO o N/A)
C7: Tipo | D7: Se Aporta (Si, No o N/A)
A8: 3.7.1 | B8: LICENCIA DE FUNCIONAMIENTO DEL PROPONENTE | C8: El proponente deberá presentar con su propuesta fotocopia de la licencia de funcionamiento vigente, a la fecha de cierre del presente proceso expedida por la Superintendencia de Vigilancia y Seguridad Privada, en la que conste la autorización para prestar el servicio de vigilancia a nivel nacional. El proponente deberá tener Sede principal o Sucursal o Agencia en la Ciudad de Bogotá y para el caso de consorcios o uniones temporales cada uno deberá cumplir con lo antes mencionado. En el caso en que la licencia de funcionamiento se encuentre en trámite de renovación se deberá presentar certificación expedida por la Superintendencia de Vigilancia y Seguridad Privada en los términos establecidos en el artículo 35 del Decreto Ley 019 de 2012. La licencia de funcionamiento debe mantenerse vigente durante la ejecución del contrato y un (1) año más. | D8: SI | E8: SI | F8: 014 LICENCIA DE FUNCIONAMIENTO PAGINA RESOLUTORIA 66 - 67
A9: 3.7.2 | B9: LICENCIA DE FUNCIONAMIENTO DE LA ESCUELA DE CAPACITACIÓN Y ENTRENAMIENTO EN VIGILANCIA Y SEGURIDAD PRIVADA | C9: El proponente deberá anexar a la propuesta, copia de la correspondiente licencia de funcionamiento de la escuela de capacitación y entrenamiento en vigilancia y seguridad privada con la cual tiene convenio para realizar la capacitación y el entrenamiento de su personal, la cual debe encontrarse vigente o si el proponente cuenta con su propio departamento de capacitación, deberá allegar copia de la certificación de la Superintendencia de Vigilancia y Seguridad Privada en la cual conste que la empresa tiene autorizado el programa de capacitación, la cual debe encontrarse vigente al cierre del presente proceso y mantenerse vigente durante la ejecución del contrato. Secretaría de Educación, Sede Administrativa. Calle 26 51-53. Torre Central Piso 8. Código Postal: 111321 Bogotá, D.C. Tel. [Relacionar Teléfono/s] Pág.46 Para el caso de consorcios o uniones temporales por lo menos uno de los integrantes debe acreditar este requisito | D9: SI | E9: NO | F9: EL PROPONENTE ADJUNTA UN CONVENIO DE FECHA 2021. no se encuentra vigente | G9: subsanar DOCUMENTO
A10: 3.7.3 | B10: LICENCIA DEL MINISTERIO DE TECNOLOGÍAS DE LA INFORMACIÓN Y LAS COMUNICACIONES O SOPORTE DE OTROS MEDIOS DE COMUNICACIONES O CERTIFICACIÓN EXPEDIDA POR EL PROVEEDOR DE COMUNICACIONES | C10: El proponente deberá acreditar con su propuesta alguna de las siguientes opciones: a) Copia de la licencia expedida por el Ministerio de las Tics, mediante la cual se otorga el permiso al proponente para la utilización de frecuencias radioeléctricas a Nivel Nacional lo cual garantiza la comunicación en los lugares donde prestará el servicio con este medio de comunicación. Dicha licencia deberá estar vigente a la fecha de cierre del proceso y mantenerla en estas condiciones durante todo el plazo de ejecución del contrato; o, b) Soporte de otros medios de comunicaciones o certificación expedida por el proveedor de comunicaciones con fecha de expedición no mayor a 30 días, o en la que se certifique lo siguiente: a) Empresa y NIT cliente. b) Que se cuenta con un plan de telefonía celular (voz, datos, SMS). c) Fecha de expedición de la certificación. d) Certificar que el contrato se encuentra vigente. | D10: SI | E10: SI | F10: FOLIO 016 LICENCIA DE COMUNICACIONES ACTIVA HASTA 01/01/2022 Y 10 AÑOS
A11: 3.7.4 | B11: COPIA VIGENTE DE LA RESOLUCIÓN SOBRE AUTORIZACIÓN DE HORAS EXTRAS, EXPEDIDA POR EL MINISTERIO DE TRABAJO | C11: Fotocopia de la resolución vigente a la fecha del cierre del presente proceso y durante la ejecución del contrato, expedida por el Ministerio de Trabajo, por medio de la cual autorizan y aprueban para laborar horas extras a la empresa. Para el caso de consorcios o uniones temporales todos los integrantes deben acreditar este requisito. En caso de que la resolución se encuentre vencida a la presentación de la propuesta el oferente deberá aportar el documento vencido y el radico de solicitud. Si el documento se vence durante la ejecución del contrato el contratista deberá dar cumplimiento al artículo 35 del Decreto 019 de 2012; de presentarse lo anterior el contratista deberá informar al supervisor del contrato para el debido seguimiento. | D11: SI | E11: SI | F11: FOLIO 017 RESOLUCION HORAS EXTRAS VIGENTE 03 DE AGOSTO DE 2021
A12: 3.7.5 | B12: ACREDITACIÓN DE DOMICILIO PRINCIPAL O SUCURSAL EN BOGOTÀ | C12: El proponente cuyo domicilio principal no sea la Ciudad de Bogotá, deberá acreditar que se encuentra autorizado por la Superintendencia de Vigilancia y Seguridad Privada, para operar en esta ciudad mediante Sucursal o Agencia. (Circular No.001 de 2012 Supervigilancia). En caso de Consorcio o Unión temporal, tal acreditación la debe efectuar por cada uno de los integrantes. | D12: SI | E12: SI | F12: FOLIO 018 AUTORIZADO BOGOTA
A13: 3.7.6 | B13: PÓLIZA DE RESPONSABILIDAD CIVIL EXTRACONTRACTUAL | C13: El proponente deberá adjuntar a su oferta copia legible de la póliza de seguro de Responsabilidad Civil Extracontractual, a nombre de la empresa, que ampare los riesgos por el uso indebido de las armas de fuego u otros elementos de uso de los vigilantes, con cubrimiento no inferior a 400 salarios mínimos legales mensuales vigentes y recibo de pago de la misma, expedido por una compañía de seguros legalmente autorizada, de conformidad con lo dispuesto en el artículo 11 del Decreto 356 de 1994 y numeral 11 artículo 25 de la Resolución 2852 de Secretaría de Educación, Sede Administrativa. Calle 26 51-53. Torre Central Piso 8. Código Postal: 111321 Bogotá, D.C. Tel. [Relacionar Teléfono/s] Pág.47 2006. En las propuestas presentadas por consorcios o uniones temporales cada uno de los integrantes por separado deberá acreditar este requisito. | D13: SI | E13: SI | F13: FOLIO 19 POLIZA 400 SMLVG
A14: 3.7.7 | B14: REPOSICIÓN DE BIENES | C14: El oferente debe manifestar en su propuesta, en forma expresa y clara como atenderá las reclamaciones que se formulen por parte del Departamento derivadas de los hurtos y/o pérdidas de equipos, elementos y demás bienes que se encuentren en las instalaciones objeto de la prestación del servicio de vigilancia, es decir el procedimiento a seguir conforme la Circular 001 de 2010 de la Superintendencia de Vigilancia y Seguridad Privada. | F14: N/A
A15: 3.7.8 | B15: RESOLUCIÓN VIGENTE O SOLICITUD DE APROBACIÓN DE UNIFORMES Y DISTINTIVOS | C15: El proponente deberá presentar con la propuesta copia de la resolución vigente a la fecha de cierre del presente proceso, expedida por la Superintendencia de Vigilancia Privada, mediante la cual se aprobaron los diseños, colores, materiales, condiciones de uso y demás especificaciones y distintivos, utilizados por el personal de vigilancia y seguridad privada, la cual deberá mantenerse vigente durante la ejecución del contrato. En el evento de haberse solicitado la aprobación de uniformes o distintivos, de conformidad con la Resolución 00510 de 2004, expedida por la Superintendencia de Vigilancia y Seguridad Privada no habiéndose obtenido aun respuesta deberá aportarse la respectiva solicitud debidamente presentada y radicada ante la Superintendencia de Vigilancia Privada. Para el caso de consorcios o uniones temporales todos los integrantes deben acreditar este requisito. Adicional a lo anterior deberá adjuntar registro fotográfico de los uniformes del personal masculino y femenino. | D15: SI | E15: NO | F15: FOLIO 21, RESOLCION DE 2005, NO SE IDENTIFICA SI SE ENCUENTRA VIGENTE | G15: EL PROPONENTE DEBE SUBSANAR EL DOCUMENTO, EN DONDE SE DENOTE QUE LA RESOLCION QUE ADJUNTA SE ENCUENTRA VIGENTE
A16: 3.7.9 | B16: VEHICULOS – EQUIPO AUTOMOTOR | C16: “VEHÍCULOS El contratista deberá contar con al menos cinco (05) vehículos, distribuidos de la siguiente manera: un (1) automóvil, dos (2) camperos o dos (2) camionetas y dos (2) motocicletas adscritos a la firma para la supervisión, operación y control del servicio. Para ello, el contratista dentro de los cinco (5) días siguientes a la firma del contrato deberá adjuntarse copia de tarjetas de propiedad y el SOAT vigente de los vehículos. Adicionalmente deberá acreditar que cuenta con vehículos necesarios para la prestación del servicio. Estos deberán encontrarse registrados ante la superintendencia de vigilancia y seguridad privada para funcionar y además, cumplir con los requisitos establecidos por la normatividad vigente. Para verificar esto último, se deberá aportar el registro de novedad o el pantallazo en la plataforma RENOVA. En caso de consorcios o uniones temporales, los vehículos pueden ser acreditados por uno de sus miembros que la constituyen. Estos vehículos deberán estar disponibles para el momento en que se requiera con destino al personal de la empresa de vigilancia contratada, atender cualquier anomalía que se presente en el desarrollo de la ejecución del contrato. Estos vehículos no son de uso exclusivo para el contrato. La anterior verificación deberá ser efectuada por el supervisor del contrato, quien dejará constancia sobre el cumplimiento del anterior requisito | D16: SI | E16: SI | F16: FOLIO 22
A17: 3.7.10 | B17: RECURSO HUMANO | C17: El oferente deberá presentar mediante manifestación escrita, (carta) que se entenderá bajo la gravedad de juramento, que cuenta con el personal suficiente para la prestación del servicio objeto del presente proceso contractual y que cumplen con los requisitos exigidos vigentes para ejercer las funciones de vigilante establecidas por la Superintendencia de Vigilancia y Seguridad Privada. | D17: SI | E17: SI | F17: FOLIO 23
A18: 3.7.11 | B18: SUMINISTRO DOTACION | C18: El oferente deberá presentar mediante manifestación escrita, que cuenta con la capacidad para dotar al personal de los 205 puntos, con el equipo mínimo exigido para desempeñar sus labores en la propiedad protegida, tales como: Uniforme completo con su escudo de identificación y licencias reglamentarias que cumpla lo establecido en la Resolución 510 de 2004 expedida por la Superintendencia de Vigilancia y Seguridad Privada, equipo de comunicaciones permanente, bastón de mando, placa y carné de identificación; así como elementos de trabajo tales como pitos, impermeable, bolígrafo, libro de minuta, carpeta de consignas, linterna y directorio telefónico de emergencia. | D18: SI | E18: SI | F18: FOLIO 24
A19: 3.7.12 | B19: CERTIFICACIÓN CUMPLIMIENTO TARIFAS MINIMAS SERVICIO DE VIGILANCIA | C19: El oferente deberá allegar con la propuesta, declaración juramentada en cuanto a que las tarifas ofrecidas se ajustan a lo señalado en el artículo 92 del Decreto Ley 356 de 1994, Decreto Único Reglamentario 1070 de 2015, Decreto 2209 de 2016 y de conformidad con el Decreto 4950 de 2007 y la Circular No. 20211300000225 de la Superintendencia de Vigilancia y Seguridad Privada. | D19: SI | E19: SI | F19: FOLIO 25
A20: 3.7.13 | B20: EL OFERENTE DEBERÁ PRESENTAR | C20: (Mediante manifestación escrita, (carta) que se entenderá bajo la gravedad de juramento, que cuenta con el personal suficiente para la prestación del servicio objeto del presente proceso contractual y que cumplen con los requisitos exigidos vigentes para ejercer las funciones de vigilante establecidas por la Superintendencia de Vigilancia y Seguridad Privada | D20: SI | E20: SI | F20: FOLIO 27
A21: 3.7.14 | B21: EL OFERENTE CERTIFICARÀ MEDIANTE DOCUMENTO | C21: Que cuenta con la capacidad para dotar al personal de los 205 puntos, con el equipo mínimo exigido para desempeñar sus labores en la propiedad protegida, tales como: Uniforme completo con su escudo de identificación y licencias reglamentarias que cumpla lo establecido en la Resolución 510 de 2004 expedida por la Superintendencia de Vigilancia y Seguridad Privada, equipo de comunicaciones permanente, bastón de mando, placa y carné de identificación; así como elementos de trabajo tales como pitos, impermeable, bolígrafo, libro de minuta, carpeta de consignas, linterna y directorio telefónico de emergencia | D21: SI | E21: SI | F21: FOLIO 24
A22: 3.7.15 | B22: EXPERIENCIA ACREDITADA | C22: De conformidad con lo establecido por el artículo 6 de la Ley 1150 de 2007, modificado por el artículo 221 del Decreto 019 de 2012, respecto de la verificación de las condiciones de los proponentes El certificado de Registro Único de Proponentes será plena prueba de las circunstancias que en ella se hagan constar y que hayan sido verificadas por las Cámaras de Comercio. En tal sentido, la verificación de las condiciones establecidas en el numeral 1 del artículo 5 de la presente ley, se demostrará exclusivamente con el respectivo certificado del RUP en donde deberán constar dichas condiciones. Por lo cual las entidades estatales en los procesos de contratación no podrán exigir, ni los proponentes aportar documentación que deba utilizarse para efectuar la inscripción en el registro. De acuerdo con lo anterior, el oferente deberá acreditar la experiencia en el Registro Único de Proponente, cumpliendo con los siguientes requerimientos: Esta será verificada de conformidad con la Circular Única Jurídica 019 del 9 de julio de 2020 de la Gobernación de Cundinamarca, que establece lo siguiente frente a la experiencia: “En cuanto a la experiencia, esta se verificará mediante el Registro Único de Proponentes y en el cual los interesados en los procesos de contratación deben estar inscritos, salvo en aquellos casos expresamente exceptuados por el artículo 6 de la Ley 1150 de 2007. Los proponentes deben acreditar cualquiera de las siguientes alternativas en contratos suscritos y ejecutados con entidades públicas o privadas:” | D22: SI | E22: SI | F22: FOLIO 026
A23: 3.7.16 | B23: VEHICULOS – EQUIPO AUTOMOTOR | C23: El proponente deberá acreditar mediante manifestación escrita (carta) la disponibilidad y la propiedad o tenencia de los vehículos solicitados, con las tarjetas de propiedad o contrato de arrendamiento, leasing financiero o renting, los oferentes del proceso de selección correspondiente, deberán certificar que estos vehículos estarán disponibles para el momento en que se requiera con destino al personal de la empresa de vigilancia contratada, atender cualquier anomalía que se presente en el desarrollo de la ejecución del contrato. Estos vehículos no son de uso exclusivo para el contrato | D23: SI | E23: SI | F23: FOLIO 022
A24: 3.7.17 | B24: REQUISITOS HABILITANTES DE LOS VIGILANTES | C24: Certificación de recurso humano: De vigilantes. el oferente deberá presentar mediante manifestación escrita, (carta) que se entenderá bajo la gravedad de juramento, que cuenta con el personal suficiente para la prestación del servicio objeto del presente proceso contractual y que cumplen con los requisitos exigidos vigentes para ejercer las funciones de vigilante establecidas por la Superintendencia de Vigilancia y Seguridad Privada. | D24: SI | E24: SI | F24: FOLIO 027.
A25: 3.7.18 | B25: REQUISITOS MINIMOS HABILITANTES DEL COORDINADOR (DEBE VENIR JUNTO CON EL ANEXO 11 Y 11 A) | C25: Se deberá presentar con la propuesta documentos que acrediten el perfil solicitado como Coordinador, se deberá aportar hoja de vida, diplomas o actas de grado certificaciones y/o demás documentos que consideran necesarios para acreditar el cumplimiento del siguiente perfil: 1. Oficial (R) en uso del Buen retiro de las Fuerzas Militares o de Policía y/o Profesional en ciencias militares y/o administración de empresas y/o administración logística. 2. Especialista en administración de la seguridad y/o seguridad integral y/o Especialista en alta gerencia de la defensa nacional y/o Especialista en seguridad integral. 3. Cuatro (4) años de experiencia como coordinador y/o director de contratos cuyo objeto esté relacionado con servicios de seguridad y vigilancia privada. Nota: Independiente de la denominación del cargo al interior de cada empresa, se acreditará el cumplimiento del requisito de experiencia si el perfil propuesto como Coordinador cumple con alguna de las actividades: a) evaluación de personal que prestara el servicio, b) capacitación del personal; c) Llevar control de programaciones y de rotación del personal; d) aplicar las medidas disciplinarias que sean pertinentes; y, e) realizar análisis de riesgos en los puntos de vigilancia donde se presta el servicio 4. Credencial de consultor o resolución de consultor vigente emitida por la Supervigilancia. | D25: SI | E25: SI | F25: FOLIO 40 CORDINADOR
A26: 3.7.19 | B26: REQUISITOS MINIMOS HABILITANTES DEL SUPERVISOR (DEBE VENIR JUNTO CON EL ANEXO 11 Y 11A) | C26: Se deberá presentar con la propuesta documentos que acrediten el perfil solicitado como Supervisor para ello se deberá aportar hoja de vida, diplomas o actas de grado certificaciones y/o demás documentos que consideran necesarios para acreditar el cumplimiento del siguiente perfil: Cargo: Supervisor Cantidad: 2 El personal ofrecido como Supervisor, deberá acreditar como mínimo lo siguiente: • Acreditar título de Técnico y/o Tecnólogo o Profesional para lo cual se deberá adjuntar copia del diploma o acta de grado y/o Suboficial u oficial de las Fuerzas Militares o de Policía para lo cual deberá adjuntar el extracto de la hoja de vida para verificar el Uso del buen retiro y el grado, adicional deberá contar con certificación de cursos de entrenamiento en el ciclo de supervisores en concordancia con los ciclos de capacitación establecidos por la Superintendencia de Vigilancia y Seguridad Privada; Presentar certificado de antecedentes disciplinarios vigente expedido por la PGN. • Contar por lo menos con Tres (3) años de experiencia como supervisor en empresas de seguridad y vigilancia, así mismo deberá adjuntar la credencial de supervisor vigente. | D26: SI | E26: SI | F26: FOLIO SUPERVISOR
A27: CONCEPTO EVALUADOR TÉCNICO
A28: Ejm 1: De acuerdo a la verificación y revisión de los documentos aquí relacionados, los cuales fueron aportados por el proponente u oferente, se REQUIERE al oferente o proponente para que (allegue xxxdocumentoxxx, y/o explique determinada situación, etc.)
A30: Ejm 2: De acuerdo a la verificación y revisión de los documentos aquí relacionados, los cuales fueron aportados por el proponente u oferente, se constata que el oferente o proponente queda HABILITADO ya que cumplió con todos los requerimientos de orden técnico.
A34: REQUISITOS PUNTUABLES - NO SUBSANABLES
A35: CRITERIOS DE EVALUACIÓN Y COMPARACIÓN DE LAS PROPUESTAS HÁBILES – 100 PUNTOS
A37: OFERENTE O PROPONENTE: UT PENTAGONO
A39: REQUISITOS TÉCNICOS | C39: RANGO DE PUNTAJE (A EVALUAR) | D39: PUNTAJE MÁXIMO | E39: PUNTAJE OBTENIDO | F39: OBSERVACIONES NO SUBSANABLES
A40: NUMERAL | B40: DESCRIPCIÓN
A42: 4.2 | B42: PROPUESTA ECONOMICA UN (01) PUNTO | C42: LO REALIZARÁ EL GRUPO DE CONTABILIDAD | D42: 1
A43: 4.3.1 | B43: MENOR TIEMPO DE RECONOCIMIENTO Y PAGO DE PÉRDIDAS (NÚMERO DE DÍAS) - MÁXIMO QUINCE (15) PUNTOS | C43: DE 2 A 5 DÍAS: 15 PUNTOS DE 6 A 10 DÍAS: 10 PUNTOS DE 11 A 15 DÍAS: 05 PUNTOS | D43: 15 | E43: 15 | F43: Archivo 29 folio 1 | G43: CALIDAD DE BIENES Y SERVISIOS (85 PUNTOS)
A44: 4.3.2 | B44: PERFIL DE LOS SUPERVISORES: | C44: El proponente que acredite que cada uno de los supervisores cuenta con dos años adicionales de experiencia a la mínima habilitante, se le asignará un máximo de quince (15) puntos por cada uno, máximo treinta (30) puntos. - Supervisor 1: 15 puntos. - Supervisor 2: 15 puntos | D44: 30 | E44: 30 | F44: ARCHIVO SUPERVISOR 1 FOLIO 4 - 41 ARCHIVO SUPERVISOR 2 FOLIO 4 -94
A45: 4.3.3 | B45: PERFIL DEL COORDINADOR – CUARENTA (40) PUNTOS | C45: Experiencia adicional a la mínima habilitante, de tres (3) años como Coordinador o director de contratos: 20 puntos. Experiencia específica como Consultor en empresas de seguridad de tres (3) años, acreditado con copia de las credenciales o resoluciones expedidas por la Superintendencia de Vigilancia y Seguridad Privada: 20 puntos | D45: 40 | E45: 40 | F45: ARCHIVO COORDINADOR FOLIO 1 - 35
A46: 4.4.1 | B46: MUJERES VINCULADAS DENTRO DEL PERSONAL OPERATIVO. (1 PUNTO) | C46: Se hace necesario realizar fórmulas matemáticas (ver pestaña de fórmulas): Fórmula 1: 0,5% Fórmula 2: 0,5% NOTA: Por favor remitirse al numeral 4.4.3 páragrafo 1 y 2 en donde se solicitan certificaciones oficionales. | D46: 1 | E46: 1 | G46: DECRETO 1279 DE 2021 INCENTIVOS DE VINCULACIÓN DE PERSONAL (3 PUNTOS)
A47: 4.4.2 | B47: TRABAJADORES EN CONDICION DE DISCAPACIDAD (01 PUNTO) (DEBE ALLEGAR JUNTO CON EL FORMATO 10) | C47: Se hace necesario realizar fórmulas matemáticas (ver pestaña de fórmulas): Fórmula 1: 0,5% Fórmula 2: 0,5% NOTA: Por favor remitirse al numeral 4.4.3 páragrafo 1 y 2 en donde se solicitan certificaciones oficionales. | D47: 1 | E47: 1
A48: 4.4.3 | B48: PERSONAS MAYORES DE 45 AÑOS VINCULADAS EN EL PERSONAL OPERATIVO. (1 PUNTO) | C48: Se hace necesario realizar fórmulas matemáticas (ver pestaña de fórmulas): Fórmula 1: 0,5% Fórmula 2: 0,5% NOTA: Por favor remitirse al numeral 4.4.3 páragrafo 1 y 2 en donde se solicitan certificaciones oficionales. | D48: 1 | E48: 1
A49: 4.5 | B49: APOYO INDUSTRIA NACIONAL (10 PUNTOS) | C49: APOYO A LA INDUSTRIA NACIONAL (10 PUNTOS) (DEBEN ALLEGAR JUNTO CON EL FORMATO 9A) INCORPORACIÓN DE COMPONENTE NACIONAL EN SERVICIOS EXTRANJEROS (05 PUNTOS) (DEBE ALLEGAR JUNTO CON EL FORMATO 9B) | D49: 10 | E49: 10 | F49: FORMATO APOYO INDUSTRIA NACIONAL FORMATO 9A CUMPLE Y ADJUNTA CACO CON ORIGEN NACIONAL
...
