Workbook

Sheet Base
B1: Consultoría | K1: HOY
B2: Contrato Consultoría: | E2: DE | K2: =TODAY() -> 45014
B3: Objeto contrato consultoría:
B4: Interventoría
B5: Contrato Interventoría: | E5: DE
B6: Objeto contrato Interventoría:
B7: Entidad Contratante | C7: FONDO DE DESARROLLO LOCAL DE SUBA
B8: Versión: | C8: Marzo-2023 (V.3.0) | D8: Fecha | E8: Mes | F8: Año | G8: SMMLV / Sud. Transp. / IVA vigente | H8: Versión
D9: 44988 | E9: Marzo | F9: 2023 | G9: 1160000 | H9: =B17 -> V.3.0
G10: 140000
G11: 0.19
B13: RÉCORD DE MODIFICACIÓN
B14: VERSIÓN | C14: DESCRIPCIÓN - CAMBIOS | F14: FECHA | G14: ELABORÓ | H14: REVISÓ
B15: V.1.0 | C15: INFORMACIÓN INICIAL JUSTIFICACIÓN PRESUPUESTO DEL PROYECTO CON UTILIZACIÓN DE PRECIOS UNITARIOS IDU (08/02/2023) | F15: 44972 | G15: DAHP | H15: FG
B16: V.2.0 | C16: CALCULO A DETALLE PRESUPUESTO INTERVENTORÍA PROCESO DE CONSERVACIÓN MALLA VIAL 2023 | F16: 44988 | G16: DAHP | H16: FG
B17: V.3.0 | C17: ACTUALIZACION PRECIOS IDU MARZO 03 DE 2023 Y AJUSTE A PROCESO OBRA CONSERVACIÓN | F17: 44988 | G17: DAHP | H17: FG

Sheet FORMULARIO
C2: Formulario 1 - Propuesta económica - Documento tipo de licitación de obra pública de infraestructura de transporte - versión 3
C3: Código | D3: CCE-EICP-FM-14 | E3: Versión | F3: 3
C4: FORMULARIO 1
C5: PRESUPUESTO OFICIAL
C6: [La entidad puede utilizar este formulario de detalle del presupuesto oficial para determinar las condiciones bajo las cuales los proponentes analizarán y presentarán su propuesta económica de forma detallada, sin perjuicio que la entidad pueda modificarlo o establecer la presentación de la oferta económica con un formulario distinto al indicado.]
C8: Adicionalmente, cuando el proceso de contratación es estructurado por precios unitarios, la Entidad debe aplicar las notas 1, 2 y 3 del presente formulario y las casillas de "Descripción", "Porcentaje" de la Administración, Imprevisto, Utilidad y total A.I.U. resaltadas en color amarillo. Tratándose de otras modalidades de precio, la Entidad puede o no configurar los mismos aspectos.
C10: Nº | D10: ÍTEM DE PAGO | E10: ESPECIFICACIONES | G10: DESCRIPCIÓN | H10: UND. | I10: CANTIDAD | J10: VALOR UNITARIO | K10: VALOR TOTAL
E11: GENERAL | F11: PARTICULAR
C12: 01. PRELIMINARES
C13: 1 | D13: 3007 | E13: IDU | G13: REPLANTEO GENERAL | H13: M2 | I13: 1 | J13: 998 | K13: =ROUND(I13*J13,0) -> 998
C14: Subtotal | K14: =SUM(K13) -> 998
C15: 02.EXPLANACIONES
C16: =C13+1 -> 2 | D16: 3710 | E16: IDU | G16: EXCAVACIÓN MECÁNICA EN MATERIAL COMÚN (INCLUYE CARGUE) | H16: M3 | I16: 1 | J16: 6476 | K16: =ROUND(I16*J16,0) -> 6476
C17: =C16+1 -> 3 | D17: 3017 | E17: IDU | G17: TRANSPORTE Y DISPOSICIÓN FINAL DE ESCOMBROS EN SITIO AUTORIZADO (DISTANCIA DE TRANSPORTE 21 KM). A DISTANCIA MAYOR DEL ACARREO LIBRE (90 M) EN SITIO AUTORIZADO POR LA ENTIDAD AMBIENTAL COMPETENTE. | H17: M3 | I17: 1 | J17: 45930 | K17: =ROUND(I17*J17,0) -> 45930
C18: =C17+1 -> 4 | D18: 6462 | E18: IDU | G18: TRANSPORTE DE ESCOMBROS EN SITIO AUTORIZADO (DISTANCIA DE TRANSPORTE 1 KM). A DISTANCIA MAYOR DEL ACARREO LIBRE (90 M) EN SITIO AUTORIZADO POR LA ENTIDAD AMBIENTAL COMPETENTE. | H18: M3-KM | I18: 1 | J18: 1907 | K18: =ROUND(I18*J18,0) -> 1907
C19: =C18+1 -> 5 | D19: 3022 | E19: IDU | G19: DEMOLICIÓN PISOS DE CONCRETO (INCLUYE CARGUE). NO INCLUYE TRANSPORTE Y DISPOSICIÓN FINAL DE SOBRANTES. | H19: M3 | I19: 1 | J19: 64407 | K19: =ROUND(I19*J19,0) -> 64407
C20: =C19+1 -> 6 | D20: 4850 | E20: IDU | G20: DEMOLICION DE POZOS, CAJAS Y CAMARAS DE EMPRESAS DE SERVICIOS PÚBLICOS (INCLUYE MARTILLO NEUMÁTICO DE 60 LB, COMPRESOR Y CARGUE). | H20: M3 | I20: 1 | J20: 327946 | K20: =ROUND(I20*J20,0) -> 327946
C21: =C20+1 -> 7 | D21: 3011 | E21: IDU | G21: DEMOLICION MANUAL SARDINEL EXISTENTE (INCLUYE CARGUE). NO INCLUYE TRANSPORTE Y DISPOSICIÓN FINAL DE SOBRANTES. | H21: ML | I21: 1 | J21: 6788 | K21: =ROUND(I21*J21,0) -> 6788
C22: =C21+1 -> 8 | D22: 3012 | E22: IDU | G22: DEMOLICIÓN PISOS DE CONCRETO (ESPESOR VARIABLE HASTA 0.10 M. INCLUYE CARGUE). NO INCLUYE TRANSPORTE Y DISPOSICIÓN FINAL DE SOBRANTES. | H22: M2 | I22: 1 | J22: 8991 | K22: =ROUND(I22*J22,0) -> 8991
C23: =C22+1 -> 9 | D23: 3021 | E23: IDU | G23: DEMOLICION PAVIMENTO ASFALTICO (ESPESOR VARIABLE. INCLUYE CARGUE). NO INCLUYE TRANSPORTE Y DISPOSICIÓN FINAL DE SOBRANTES. | H23: M2 | I23: 1 | J23: 8216 | K23: =ROUND(I23*J23,0) -> 8216
C24: =C23+1 -> 10 | D24: 4846 | E24: IDU | G24: DEMOLICIÓN MANUAL DE CAJA DOBLE CS 276 (INCLUYE DEMOLICIÓN DE PLACA PISO, TAPA, MUROS Y CAÑUELAS Y CARGUE). | H24: UN | I24: 1 | J24: 172218 | K24: =ROUND(I24*J24,0) -> 172218
C25: =C24+1 -> 11 | D25: 4848 | E25: IDU | G25: DEMOLICION DE TUBERIAS DE ACUEDUCTO Y ALCANTARILLADO Ø < 36" (INCLUYE MARTILLO NEUMÁTICO DE 60 LB Y CARGUE). | H25: ML | I25: 1 | J25: 11238 | K25: =ROUND(I25*J25,0) -> 11238
C26: =C25+1 -> 12 | D26: 4849 | E26: IDU | G26: DEMOLICION O RETIRO MANUAL DE TUBERIAS DE AC Ø < 12" (INCLUYE CARGUE). | H26: ML | I26: 1 | J26: 3446 | K26: =ROUND(I26*J26,0) -> 3446
C27: =C26+1 -> 13 | D27: 7369 | E27: IDU | G27: DEMOLICION DE CANALIZACION DE REDES DE COMUNICACIONES DUCTOS PVC-TDP (INCLUYE RETIRO Y DISPOSICION DE ESCOMBROS) | H27: ML | I27: 1 | J27: 10835 | K27: =ROUND(I27*J27,0) -> 10835
C28: =C27+1 -> 14 | D28: 7512 | E28: IDU | G28: DEMOLICION DE POZO, DIAMETRO INTERIOR D=1.20M, DIAMETRO EXTERIOR D=1.70M, H=1.50M (INCLUYE CARGUE, RETIRO DE MATERIAL, TRANSPORTE Y DISPOSICIÓN FINAL DE ESCOMBROS EN SITIO AUTORIZADO). | H28: UN | I28: 1 | J28: 664212 | K28: =ROUND(I28*J28,0) -> 664212
... C31: =C30+1 -> 17 | D31: 7944 | E31: IDU | G31: EXCAVACIÓN MECÁNICA EN MATERIAL COMÚN PARA CONFORMACIÓN DE LA SUBRASANTE CON RETROEXCAVADORA (EXCAVACIÓN, REMOCIÓN Y CARGUE) | H31: M3 | I31: 1 | J31: 5571 | K31: =ROUND(I31*J31,0) -> 5571
C32: Subtotal | K32: =SUM(K16:K31) -> 1376457
C33: 03.BASES Y SUBBASES
C34: =C31+1 -> 18 | D34: 8616 | E34: IDU | G34: BASE GRANULAR CLASE A (BGA_BG38) o (BGB_BG25) (Suministro, Extendido, Nivelación, Humedecimiento y Compactación con vibrocompactador) | H34: M3 | I34: 1 | J34: 210185 | K34: =ROUND(I34*J34,0) -> 210185
C35: =C34+1 -> 19 | D35: 8617 | E35: IDU | G35: AGREGADOS RECICLADOS PARA SUBBASE GRANULAR (AR_SBG50) (Suministro, Extendido, Nivelación, Humedecimiento y Compactación con vibrocompactador) | H35: M3 | I35: 1 | J35: 186870 | K35: =ROUND(I35*J35,0) -> 186870
C36: =C35+1 -> 20 | D36: 8655 | E36: IDU | G36: GRAVILLA DE 3/4" - SUMINISTRO E INSTALACIÓN. | H36: M3 | I36: 1 | J36: 84488 | K36: =ROUND(I36*J36,0) -> 84488
C37: =C36+1 -> 21 | D37: 7364 | E37: IDU | G37: RELLENO EN RECEBO COMUN (SUMINISTRO E INSTALACIÓN EXTENDIDO MECANICO, HUMEDECIMIENTO, COMPACTACIÓN Y TRANSPORTE A 28 KM). | H37: M3 | I37: 1 | J37: 94218 | K37: =ROUND(I37*J37,0) -> 94218
C38: =C37+1 -> 22 | D38: 6474 | E38: IDU | G38: SUBBASE GRANULAR CLASE C (SBG_C) (SUMINISTRO, EXTENDIDO MANUAL, NIVELACIÓN, HUMEDECIMIENTO Y COMPACTACIÓN CON VIBROCOMPACTADOR BENITÍN DE 1 TONELADA). | H38: M3 | I38: 1 | J38: 186151 | K38: =ROUND(I38*J38,0) -> 186151
C39: =C38+1 -> 23 | D39: 6480 | E39: IDU | G39: ESTABILIZACIÓN DE SUBRASANTE CON RECICLADO DE CONCRETO (INCLUYE DEMOLICIÓN, EXTENDIDO, NIVELACIÓN Y COMPACTACIÓN CON RETROEXCAVADORA SOBRE ORUGA Y COMPACTADOR) | H39: M3 | I39: 1 | J39: 23040 | K39: =ROUND(I39*J39,0) -> 23040
C40: =C39+1 -> 24 | D40: 6486 | E40: IDU | G40: ESTABILIZACIÓN CON RCD. INCLUYE TRASIEGO INTERNO, NIVELACIÓN Y COMPACTACIÓN. | H40: M3 | I40: 1 | J40: 63261 | K40: =ROUND(I40*J40,0) -> 63261
C41: =C40+1 -> 25 | D41: 6471 | E41: IDU | G41: SUBBASE GRANULAR PEATONAL SBG_PEA. SUMINISTRO, EXTENDIDO MANUAL, NIVELACIÓN, HUMEDECIMIENTO Y COMPACTACIÓN CON VIBROCOMPACTADOR BENITÍN DE 1 TONELADA INCLUYE OPERARIO Y COMBUSTIBLE. | H41: M3 | I41: 1 | J41: 181301 | K41: =ROUND(I41*J41,0) -> 181301
C42: =C41+1 -> 26 | D42: 6473 | E42: IDU | G42: ESTABILIZACIÓN DE SUBRASANTE CON RAJÓN, INCLUYE EQUIPO DE COMPACTACIÓN (SUMINISTRO, EXTENDIDO A MANO, NIVELACIÓN Y COMPACTACIÓN CON RETROEXCAVADORA SOBRE ORUGA Y BENITÍN DE 1 TONELADA INCLUYEN OPERARIO Y COMBUSTIBLE. | H42: M3 | I42: 1 | J42: 151376 | K42: =ROUND(I42*J42,0) -> 151376
C43: =C42+1 -> 27 | D43: 5412 | E43: IDU | G43: RELLENO EN TRITURADO DE 3/4`` (INCLUYE TRANSPORTE, SUMINISTRO, EXTENDIDO MANUAL Y COLOCACIÓN) | H43: M3 | I43: 1 | J43: 156087 | K43: =ROUND(I43*J43,0) -> 156087
C44: =C43+1 -> 28 | D44: 5415 | E44: IDU | G44: RELLENO EN ARENA DE PEÑA (INCLUYE TRANSPORTE, SUMINISTRO, EXTENDIDO MANUAL Y COMPACTACIÓN). | H44: M3 | I44: 1 | J44: 89233 | K44: =ROUND(I44*J44,0) -> 89233
C45: =C44+1 -> 29 | D45: 5708 | E45: IDU | G45: RELLENO EN ARENA DE RIO. INCLUYE TRANSPORTE, SUMINISTRO, EXTENDIDO MANUAL Y COMPACTACION. | H45: M3 | I45: 1 | J45: 221849 | K45: =ROUND(I45*J45,0) -> 221849
...

Sheet PRESUPUESTO OFICIAL
A12: No. | B12: CIV | C12: FICHA | D12: TRAMO | E12: DESDE | F12: HASTA | G12: ELEMENTO | H12: PK-ID | I12: TIPO DE INTERVENCIÓN | J12: SUPERFICIE | K12: COSTO | L12: TIPO VIA | M12: Elem Principal | N12: ANCHO | O12: LONGITUD | P12: ÁREA
A13: 1 | B13: 11003244 | C13: Si | D13: CLL 161 C | E13: KR 59 | F13: KR 62 | G13: CALZADA | H13: 169339 | I13: Rehabilitación | J13: Rígido | K13: 57143218 | L13: Local | M13: Vía | N13: 4.45 | O13: 108.72 | P13: 484.25
A14: 2 | B14: 11002945 | C14: Si | D14: TV 127 C | E14: DG 139 A BIS | F14: DG 139 B | G14: CALZADA | H14: 175729 | I14: Rehabilitación | J14: Flexible | K14: 145326527 | L14: Local | M14: Vía | N14: 8.13 | O14: 63.99 | P14: 520.06
A15: 3 | B15: 11002757 | C15: Si | D15: TV 127 C | E15: DG 139 B | F15: DG 140 | G15: CALZADA | H15: 175731 | I15: Rehabilitación | J15: Flexible | K15: 154791536 | L15: Local | M15: Vía | N15: 9.06 | O15: 61.44 | P15: 556.66
A16: 4 | B16: 11000989 | C16: Si | D16: CLL 152 B | E16: KR 114B | F16: KR 114D | G16: CALZADA | H16: 176634 | I16: Reconstrucción | J16: Rígido | K16: 179366596 | L16: Local | M16: Vía | N16: 8.73 | O16: 71.64 | P16: 625.58
A17: 5 | B17: 11010147 | C17: Si | D17: KR 51 | E17: CLL 128 | F17: CLL 128 A | G17: CALZADA | H17: 167437 | I17: Rehabilitación | J17: Flexible | K17: 174568861 | L17: Local | M17: Vía | N17: 6.78 | O17: 91.09 | P17: 617.77
A18: 6 | B18: 11002729 | C18: Si | D18: CLL 148 | E18: CRA 102 B | F18: CRA 103 B | G18: CALZADA | H18: 176277 | I18: Rehabilitación | J18: Rígido | K18: 125384499 | L18: Local | M18: Vía | N18: 8.36 | O18: 127.08 | P18: 1062.34
A19: 7 | B19: 11005794 | C19: Si | D19: KR 98 | E19: CLL 136 | F19: CLL 137A | G19: CALZADA | H19: 172488 | I19: Mantenimiento Periodico | J19: Rígido | K19: 60090498 | L19: Local | M19: Vía | N19: 6.49 | O19: 123.66 | P19: 802.23
A20: 8 | B20: 11004607 | C20: Si | D20: KR 156A | E20: CLL 132 A | F20: CLL 132 D | G20: CALZADA | H20: 174993 | I20: Rehabilitación | J20: Flexible | K20: 43030263 | L20: Local | M20: Vía | N20: 4.35 | O20: 33.89 | P20: 147.3
A21: 9 | B21: 11004687 | C21: Si | D21: KR 156A | E21: CLL 132 BIS | F21: CLL 132 A | G21: CALZADA | H21: 174992 | I21: Rehabilitación | J21: Flexible | K21: 38610314 | L21: Local | M21: Vía | N21: 4.06 | O21: 32.34 | P21: 131.38
A22: 10 | B22: 11004750 | C22: Si | D22: KR 156A | E22: CLL 132 | F22: CLL 132 BIS | G22: CALZADA | H22: 174991 | I22: Rehabilitación | J22: Flexible | K22: 26334092 | L22: Local | M22: Vía | N22: 4.36 | O22: 20.66 | P22: 90.09
A23: 11 | B23: 11002051 | C23: Si | D23: KR 54D | E23: CLL 167 A | F23: CLL 168 | G23: CALZADA | H23: 169238 | I23: Rehabilitación | J23: Flexible | K23: 44153518 | L23: Local | M23: Vía | N23: 4.11 | O23: 36.57 | P23: 150.4
A24: 12 | B24: 11004595 | C24: Si | D24: CLL 132 B BIS A | E24: CRA 126 D | F24: TV 127 | G24: CALZADA | H24: 174103 | I24: Rehabilitación | J24: Flexible | K24: 72100197 | L24: Local | M24: Vía | N24: 2.99 | O24: 78.89 | P24: 235.6
... A31: 19 | B31: 11008694 | C31: Si | D31: KR 57 B | E31: CLL 131 B | F31: CLL 133 | G31: CALZADA | H31: 167909 | I31: Mantenimiento Periodico | J31: Flexible | K31: 60292736 | L31: Local | M31: Vía | N31: 6.44 | O31: 139.13 | P31: 896.66
A32: 20 | B32: 11003050 | C32: Si | D32: CLL 142 | E32: KR 109 | F32: KRA 109 A | G32: BAHÍA | H32: 91100218 | I32: Rehabilitación | J32: Flexible | K32: 114222255 | L32: Local | M32: Vía | N32: 15 | O32: 34.65 | P32: =+N32*O32 -> 519.75
A33: 21 | B33: 11003033 | C33: Si | D33: CLL 142 | E33: KRA 109 A | F33: KRA 109 B | G33: BAHÍA | H33: 91100346 | I33: Rehabilitación | J33: Flexible | K33: 90058599 | L33: Local | M33: Vía | N33: 15 | O33: 27.31 | P33: =+N33*O33 -> 409.65
A34: 22 | B34: 11013446 | C34: Si | D34: CLL 142 | E34: KRA 109 B | F34: KRA 109 B | G34: BAHÍA | H34: 91104122 | I34: Rehabilitación | J34: Flexible | K34: 44148391 | L34: Local | M34: Vía | N34: 15 | O34: 13.37 | P34: =+N34*O34 -> 200.55
A35: 23 | B35: 11003020 | C35: Si | D35: CLL 142 | E35: KRA 109 B | F35: KRA 109 C | G35: BAHÍA | H35: 91100345 | I35: Rehabilitación | J35: Flexible | K35: 57994501 | L35: Local | M35: Vía | N35: 15 | O35: 17.63 | P35: =+N35*O35 -> 264.45
A36: 24 | B36: 11011976 | C36: Si | D36: CLL 129 D | E36: KR 121 C | F36: KR 121 C | G36: CALZADA | H36: 472369 | I36: Rehabilitación | J36: Rígido | K36: 37402834 | L36: Local | M36: Vía | N36: 10.52 | O36: 16.74 | P36: 176.12
A37: 25 | B37: 11011977 | C37: Si | D37: CLL 129 D | E37: KR 121 | F37: KR 121 C | G37: CALZADA | H37: 472370 | I37: Rehabilitación | J37: Rígido | K37: 203802940 | L37: Local | M37: Vía | N37: 10.04 | O37: 95.48 | P37: 958.99
A38: 26 | B38: 11006546 | C38: Si | D38: CLL 129 D | E38: KR 121 | F38: KR 121 | G38: CALZADA | H38: 173502 | I38: Rehabilitación | J38: Rígido | K38: 29964770 | L38: Local | M38: Vía | N38: 10.37 | O38: 13.62 | P38: 141.26
A39: 27 | B39: 11011978 | C39: Si | D39: CLL 129 D | E39: TRV 120 A | F39: KR 121 | G39: CALZADA | H39: 472371 | I39: Rehabilitación | J39: Rígido | K39: 142173271 | L39: Local | M39: Vía | N39: 9.88 | O39: 67.74 | P39: 669.44
A40: 28 | B40: 11006617 | C40: Si | D40: CLL 129 D | E40: KR 120 | F40: TRV 120 A | G40: CALZADA | H40: 173501 | I40: Rehabilitación | J40: Rígido | K40: 100520115 | L40: Local | M40: Vía | N40: 10.79 | O40: 43.84 | P40: 472.92
A41: 29 | B41: 11004156 | C41: Si | D41: CLL 141 | E41: KR 101 B | F41: KR 101 C | G41: CALZADA | H41: 173807 | I41: Rehabilitación | J41: Flexible | K41: 56256310 | L41: Local | M41: Vía | N41: 7.9 | O41: 25.4 | P41: 200.58
A42: 30 | B42: 11013439 | C42: Si | D42: CLL 141 | E42: KR 101 C | F42: KR 101 C | G42: CALZADA | H42: 91020581 | I42: Rehabilitación | J42: Flexible | K42: 24036872 | L42: Local | M42: Vía | N42: 8.16 | O42: 10.6 | P42: 86.47
A43: 31 | B43: 11004110 | C43: Si | D43: CLL 141 | E43: KR 101 C | F43: KR 102 | G43: CALZADA | H43: 173808 | I43: Rehabilitación | J43: Flexible | K43: 38134714 | L43: Local | M43: Vía | N43: 7.66 | O43: 17.76 | P43: 136.07
A44: 32 | B44: 11004080 | C44: Si | D44: CLL 141 | E44: KR 102 | F44: KR 102 A | G44: CALZADA | H44: 173809 | I44: Rehabilitación | J44: Flexible | K44: 78576161 | L44: Local | M44: Vía | N44: 7.56 | O44: 37.08 | P44: 280.26
A45: 33 | B45: 11001671 | C45: Si | D45: CLL 168 A | E45: KR 73 A | F45: KR 74 A | G45: CALZADA | H45: 177523 | I45: Rehabilitación | J45: Flexible | K45: 419507378 | L45: Local | M45: Vía | N45: 7.39 | O45: 202 | P45: 1493.11
A46: 34 | B46: 11002161 | C46: Si | D46: CLL 143 A | E46: KR 127 D | F46: KR 128 | G46: CALZADA | H46: 175849 | I46: Rehabilitación | J46: Flexible | K46: 264256621 | L46: Local | M46: Vía | N46: 7.89 | O46: 119.68 | P46: 943.81
A47: 35 | B47: 11003955 | C47: Si | D47: KR 98 B | E47: CLL 147 | F47: CLL 147 C | G47: CALZADA | H47: 176248 | I47: Mantenimiento Periodico | J47: Flexible | K47: 44883097 | L47: Local | M47: Vía | N47: 5.13 | O47: 129.93 | P47: 666.96
... A50: 38 | B50: 11002492 | C50: Si | D50: KR 111 | E50: CLL 142 C | F50: CLL 143 | G50: CALZADA | H50: 175670 | I50: Rehabilitación | J50: Flexible | K50: 43592165 | L50: Local | M50: Vía | N50: 8.15 | O50: 19.15 | P50: 156.02
A51: 39 | B51: 11002492 | C51: Si | D51: KR 111 | E51: CLL 142 C | F51: CLL 143 | G51: BAHÍA | H51: 91100290 | I51: Rehabilitación | J51: Flexible | K51: 27733805 | L51: Local | M51: Vía | N51: 5 | O51: 19.15 | P51: =+N51*O51 -> 95.75
A52: 40 | B52: 11002558 | C52: Si | D52: KR 111 | E52: CLL 142 B | F52: CLL 142 C | G52: CALZADA | H52: 175669 | I52: Rehabilitación | J52: Flexible | K52: 74030313 | L52: Local | M52: Vía | N52: 8.79 | O52: 30.22 | P52: 265.52
A53: 41 | B53: 11012036 | C53: Si | D53: KR 111 | E53: CLL 142 A | F53: CLL 142 B | G53: CALZADA | H53: 472420 | I53: Rehabilitación | J53: Flexible | K53: 185324065 | L53: Local | M53: Vía | N53: 8.83 | O53: 75.42 | P53: 666.03
A54: 42 | B54: 11002792 | C54: Si | D54: KR 111 | E54: CLL 142 A | F54: CLL 142 A | G54: CALZADA | H54: 173989 | I54: Rehabilitación | J54: Flexible | K54: 51504792 | L54: Local | M54: Vía | N54: 8.75 | O54: 21.16 | P54: 185.18
A55: 43 | B55: 11002971 | C55: Si | D55: KR 111 | E55: CLL 142 | F55: CLL 142 A | G55: CALZADA | H55: 173988 | I55: Rehabilitación | J55: Flexible | K55: 139161564 | L55: Local | M55: Vía | N55: 8.79 | O55: 56.86 | P55: 500.01
A56: 44 | B56: 11013260 | C56: Si | D56: CLL 169 A | E56: KR 67 | F56: KR 68 | G56: CALZADA | H56: 91019827 | I56: Rehabilitación | J56: Rígido | K56: 284771574 | L56: Local | M56: Vía | N56: 7.52 | O56: 160.41 | P56: 1206.17
A57: 45 | B57: 11014399 | C57: Si | D57: CLL 146 A | E57: CALLE 146 | F57: KR 81 BIS | G57: CALZADA | H57: 91013890 | I57: Rehabilitación | J57: Rígido | K57: 49823219 | L57: Local | M57: Vía | N57: 3.55 | O57: 59.39 | P57: 210.77
A58: 46 | B58: 11014396 | C58: Si | D58: CLL 146 A | E58: KR 81 BIS | F58: KR 81 A | G58: CALZADA | H58: 91013885 | I58: Rehabilitación | J58: Rígido | K58: 35183221 | L58: Local | M58: Vía | N58: 3.15 | O58: 47.41 | P58: 149.54
A59: 47 | B59: 11014397 | C59: Si | D59: CLL 146 A | E59: KR 81 A | F59: LINDERO | G59: CALZADA | H59: 91013842 | I59: Rehabilitación | J59: Rígido | K59: 65407733 | L59: Local | M59: Vía | N59: 4.8 | O59: 57.81 | P59: 277.32
...

Sheet DedicProfObr
A4: ÍTEM | B4: COD IDU | D4: CARGO | E4: CANT | F4: CATEGORÍA | G4: =AIU!G13 -> TOPE SALARIO (MES) | H4: =AIU!H13 -> FACTOR PRESTACIONAL | I4: INICIO | J4: OBRA | T4: RECIBO | U4: DED INICIO | V4: DED OBR | W4: DED RECB | X4: INICIO | Y4: Promedio
I5: MES 1 | J5: MES 2 | K5: MES 3 | L5: MES 4 | M5: MES 5 | N5: MES 6 | O5: MES 7 | P5: MES 8 | Q5: MES 9 | R5: MES 10 | S5: MES 11 | T5: MES 12 | X5: Inicio
E6: A | I6: =IF(SUM(I8:I50)>0,1,0) -> 1 | J6: =IF(SUM(J8:J50)>0,1,0) -> 1 | K6: =IF(SUM(K8:K50)>0,1,0) -> 1 | L6: =IF(SUM(L8:L50)>0,1,0) -> 1 | M6: =IF(SUM(M8:M50)>0,1,0) -> 1 | N6: =IF(SUM(N8:N50)>0,1,0) -> 1 | O6: =IF(SUM(O8:O50)>0,1,0) -> 1 | P6: =IF(SUM(P8:P50)>0,1,0) -> 0 | ... T6: =IF(SUM(T8:T50)>0,1,0) -> 0 | U6: =SUM(I6) -> 1 | V6: =SUM(J6:S6) -> 6 | W6: =SUM(T6) -> 0
A7: 1.1 | D7: PERSONAL PROFESIONAL (Ingenieros y Otros)
A8: 1.101 | B8: 9110 | C8: TARIFA MES - PROFESIONAL CATEGORÍA 4 (NO INCLUYE FACTOR DE PRESTACIONES) | D8: DIRECTOR DE OBRA | E8: 1 | F8: 4 | G8: 7881000 | H8: 1.4516 | I8: 0.3 | J8: 0.3 | K8: 0.3 | L8: 0.3 | M8: 0.3 | N8: 0.3 | O8: 0.3 | U8: =ROUND(SUM(I8),4) -> 0.3 | V8: =ROUND(SUM(J8:S8),4) -> 1.8 | W8: =IF(W6=0,0,ROUND(SUM(T8),4)) -> 0 | X8: =U8/U$6 -> 0.3 | Y8: =V8/V$6 -> 0.3
A9: 1.102 | B9: 9112 | C9: TARIFA MES - PROFESIONAL CATEGORÍA 6 (NO INCLUYE FACTOR DE PRESTACIONES) | D9: RESIDENTE DE OBRA | E9: 2 | F9: 6 | G9: 6339000 | H9: 1.4525 | I9: 1 | J9: 1 | K9: 1 | L9: 1 | M9: 1 | N9: 1 | O9: 1 | U9: =ROUND(SUM(I9),4) -> 1 | V9: =ROUND(SUM(J9:S9),4) -> 6 | W9: =IF(W7=0,0,ROUND(SUM(T9),4)) -> 0 | X9: =U9/U$6 -> 1 | Y9: =V9/V$6 -> 1
A10: 1.103 | B10: 9110 | C10: TARIFA MES - PROFESIONAL CATEGORÍA 4 (NO INCLUYE FACTOR DE PRESTACIONES) | D10: ESPECIALISTA EN DISEÑO GEOMETRICO | E10: 1 | F10: 4 | G10: 7881000 | H10: 1.4516 | I10: 0.15 | K10: 0.15 | M10: 0.15 | O10: 0.15 | U10: =ROUND(SUM(I10),4) -> 0.15 | V10: =ROUND(SUM(J10:S10),4) -> 0.45 | W10: =IF(W8=0,0,ROUND(SUM(T10),4)) -> 0 | X10: =U10/U$6 -> 0.15 | Y10: =V10/V$6 -> 0.075
A11: 1.104 | B11: 9110 | C11: TARIFA MES - PROFESIONAL CATEGORÍA 4 (NO INCLUYE FACTOR DE PRESTACIONES) | D11: ESPECIALISTA EN URBANISMO Y ESPACIO PÚBLICO | E11: 1 | F11: 4 | G11: 7881000 | H11: 1.4516 | I11: 0.15 | K11: 0.15 | M11: 0.15 | O11: 0.15 | U11: =ROUND(SUM(I11),4) -> 0.15 | V11: =ROUND(SUM(J11:S11),4) -> 0.45 | W11: =IF(W9=0,0,ROUND(SUM(T11),4)) -> 0 | X11: =U11/U$6 -> 0.15 | Y11: =V11/V$6 -> 0.075
A12: 1.105 | B12: 9112 | C12: TARIFA MES - PROFESIONAL CATEGORÍA 6 (NO INCLUYE FACTOR DE PRESTACIONES) | D12: ARQUITECTO APOYO EN DISEÑO URBANO | E12: 0 | F12: 6 | G12: 6339000 | H12: 1.4525 | U12: =ROUND(SUM(I12),4) -> 0 | V12: =ROUND(SUM(J12:S12),4) -> 0 | W12: =IF(W10=0,0,ROUND(SUM(T12),4)) -> 0 | X12: =U12/U$6 -> 0 | Y12: =V12/V$6 -> 0
A13: 1.106 | B13: 9110 | C13: TARIFA MES - PROFESIONAL CATEGORÍA 4 (NO INCLUYE FACTOR DE PRESTACIONES) | D13: ESPECIALISTA EN GEOTECNIA | E13: 1 | F13: 4 | G13: 7881000 | H13: 1.4516 | I13: 0.15 | K13: 0.15 | M13: 0.15 | O13: 0.15 | U13: =ROUND(SUM(I13),4) -> 0.15 | V13: =ROUND(SUM(J13:S13),4) -> 0.45 | W13: =IF(W11=0,0,ROUND(SUM(T13),4)) -> 0 | X13: =U13/U$6 -> 0.15 | Y13: =V13/V$6 -> 0.075
A14: 1.107 | B14: 9110 | C14: TARIFA MES - PROFESIONAL CATEGORÍA 4 (NO INCLUYE FACTOR DE PRESTACIONES) | D14: ESPECIALISTA EN PAVIMENTOS | E14: 1 | F14: 4 | G14: 7881000 | H14: 1.4516 | I14: 0.15 | J14: 0.1 | K14: 0.15 | L14: 0.1 | M14: 0.15 | N14: 0.1 | O14: 0.15 | U14: =ROUND(SUM(I14),4) -> 0.15 | V14: =ROUND(SUM(J14:S14),4) -> 0.75 | W14: =IF(W12=0,0,ROUND(SUM(T14),4)) -> 0 | X14: =U14/U$6 -> 0.15 | Y14: =V14/V$6 -> 0.125
A15: 1.108 | B15: 9112 | C15: TARIFA MES - PROFESIONAL CATEGORÍA 6 (NO INCLUYE FACTOR DE PRESTACIONES) | D15: ESPECIALISTA REDES HIDROSANITARIAS | E15: 1 | F15: 6 | G15: 6339000 | H15: 1.4525 | I15: 0.15 | J15: 0.05 | K15: 0.15 | L15: 0.05 | M15: 0.15 | N15: 0.05 | O15: 0.15 | U15: =ROUND(SUM(I15),4) -> 0.15 | V15: =ROUND(SUM(J15:S15),4) -> 0.6 | W15: =IF(W13=0,0,ROUND(SUM(T15),4)) -> 0 | X15: =U15/U$6 -> 0.15 | Y15: =V15/V$6 -> 0.1
A16: 1.109 | B16: 9112 | C16: TARIFA MES - PROFESIONAL CATEGORÍA 6 (NO INCLUYE FACTOR DE PRESTACIONES) | D16: ESPECIALISTA EN ESTRUCTURAS | E16: 1 | F16: 6 | G16: 6339000 | H16: 1.4525 | I16: 0.1 | K16: 0.1 | M16: 0.1 | O16: 0.1 | U16: =ROUND(SUM(I16),4) -> 0.1 | V16: =ROUND(SUM(J16:S16),4) -> 0.3 | W16: =IF(W14=0,0,ROUND(SUM(T16),4)) -> 0 | X16: =U16/U$6 -> 0.1 | Y16: =V16/V$6 -> 0.05
A17: 1.11 | B17: 9112 | C17: TARIFA MES - PROFESIONAL CATEGORÍA 6 (NO INCLUYE FACTOR DE PRESTACIONES) | D17: PROFESIONAL EN PRESUPUESTO Y PROGRAMACIÓN | E17: 1 | F17: 6 | G17: 6339000 | H17: 1.4525 | I17: 0.5 | U17: =ROUND(SUM(I17),4) -> 0.5 | V17: =ROUND(SUM(J17:S17),4) -> 0 | W17: =IF(W15=0,0,ROUND(SUM(T17),4)) -> 0 | X17: =U17/U$6 -> 0.5 | Y17: =V17/V$6 -> 0
A18: 1.111 | B18: 9112 | C18: TARIFA MES - PROFESIONAL CATEGORÍA 6 (NO INCLUYE FACTOR DE PRESTACIONES) | D18: PROFESIONAL EN REDES SECAS | E18: 1 | F18: 6 | G18: 6339000 | H18: 1.4525 | I18: 0.1 | J18: 0.1 | K18: 0.1 | M18: 0.1 | O18: 0.1 | U18: =ROUND(SUM(I18),4) -> 0.1 | V18: =ROUND(SUM(J18:S18),4) -> 0.4 | W18: =IF(W16=0,0,ROUND(SUM(T18),4)) -> 0 | X18: =U18/U$6 -> 0.1 | Y18: =V18/V$6 -> 0.066666667
A19: 1.112 | B19: 9112 | C19: TARIFA MES - PROFESIONAL CATEGORÍA 6 (NO INCLUYE FACTOR DE PRESTACIONES) | D19: INGENIERO ESPECIALISTA EN SIG-CAD | E19: 0 | F19: 6 | G19: 6339000 | H19: 1.4525 | U19: =ROUND(SUM(I19),4) -> 0 | V19: =ROUND(SUM(J19:S19),4) -> 0 | W19: =IF(W17=0,0,ROUND(SUM(T19),4)) -> 0 | X19: =U19/U$6 -> 0 | Y19: =V19/V$6 -> 0
A20: 1.2 | D20: PERSONAL TÉCNICO Y PERSONAL AUXILIAR
A21: 1.201 | B21: 9085 | C21: TARIFA MES - PERSONAL TÉCNICO - AUXILIAR DE INGENIERÍA (NO INCLUYE FACTOR DE PRESTACIONES) | D21: AUXILIAR DE INGENIERÍA | E21: 1 | F21: N/A | G21: 2607000 | H21: 1.4591 | I21: 0 | J21: 0.5 | K21: 0.5 | L21: 0.5 | M21: 0.5 | N21: 0.5 | O21: 0.5 | U21: =ROUND(SUM(I21),4) -> 0 | V21: =ROUND(SUM(J21:S21),4) -> 3 | W21: =IF(W19=0,0,ROUND(SUM(T21),4)) -> 0 | X21: =U21/U$6 -> 0 | Y21: =V21/V$6 -> 0.5
A22: 1.202 | B22: 9093 | C22: TARIFA MES - PERSONAL TÉCNICO - INSPECTOR 1 (NO INCLUYE FACTOR DE PRESTACIONES) | D22: TÉCNICO INSPECTOR | E22: 2 | F22: N/A | G22: 2249000 | H22: 1.5511 | I22: 0 | J22: 1 | K22: 1 | L22: 1 | M22: 1 | N22: 1 | O22: 1 | U22: =ROUND(SUM(I22),4) -> 0 | V22: =ROUND(SUM(J22:S22),4) -> 6 | W22: =IF(W20=0,0,ROUND(SUM(T22),4)) -> 0 | X22: =U22/U$6 -> 0 | Y22: =V22/V$6 -> 1
A23: 1.203 | B23: 9088 | C23: TARIFA MES - PERSONAL TÉCNICO - TOPÓGRAFO INSPECTOR (NO INCLUYE FACTOR DE PRESTACIONES) | D23: TOPOGRAFO INSPECTOR | E23: 2 | F23: N/A | G23: 3092000 | H23: 1.4573 | I23: 0 | J23: 1 | K23: 1 | L23: 1 | M23: 1 | N23: 0.5 | O23: 0.5 | U23: =ROUND(SUM(I23),4) -> 0 | V23: =ROUND(SUM(J23:S23),4) -> 5 | W23: =IF(W21=0,0,ROUND(SUM(T23),4)) -> 0 | X23: =U23/U$6 -> 0 | Y23: =V23/V$6 -> 0.83333333
A24: 1.204 | B24: 9098 | C24: TARIFA MES - PERSONAL AUXILIAR TÉCNICO - CADENERO 1 (NO INCLUYE FACTOR DE PRESTACIONES) | D24: CADENERO 1 | E24: 2 | F24: N/A | G24: 1917000 | H24: 1.569 | I24: 0 | J24: 1 | K24: 1 | L24: 1 | M24: 1 | N24: 0.5 | O24: 0.5 | U24: =ROUND(SUM(I24),4) -> 0 | V24: =ROUND(SUM(J24:S24),4) -> 5 | W24: =IF(W22=0,0,ROUND(SUM(T24),4)) -> 0 | X24: =U24/U$6 -> 0 | Y24: =V24/V$6 -> 0.83333333
A25: 1.205 | B25: 9099 | C25: TARIFA MES - PERSONAL AUXILIAR TÉCNICO - CADENERO 2 (NO INCLUYE FACTOR DE PRESTACIONES) | D25: CADENERO 2 | E25: 2 | F25: N/A | G25: 1670000 | H25: 1.5869 | I25: 0 | J25: 1 | K25: 1 | L25: 1 | M25: 1 | N25: 0.5 | O25: 0.5 | U25: =ROUND(SUM(I25),4) -> 0 | V25: =ROUND(SUM(J25:S25),4) -> 5 | W25: =IF(W23=0,0,ROUND(SUM(T25),4)) -> 0 | X25: =U25/U$6 -> 0 | Y25: =V25/V$6 -> 0.83333333
A26: 1.206 | B26: 9089 | C26: TARIFA MES - PERSONAL TÉCNICO - LABORATORISTA INSPECTOR (NO INCLUYE FACTOR DE PRESTACIONES) | D26: LABORATORISTA INSPECTOR | E26: 0 | F26: N/A | G26: 2739000 | H26: 1.4585 | I26: 0 | J26: 0.1 | K26: 0.15 | L26: 0.1 | M26: 0.15 | N26: 0.1 | O26: 0 | U26: =ROUND(SUM(I26),4) -> 0 | V26: =ROUND(SUM(J26:S26),4) -> 0.6 | W26: =IF(W24=0,0,ROUND(SUM(T26),4)) -> 0 | X26: =U26/U$6 -> 0 | Y26: =V26/V$6 -> 0.1
A27: 1.207 | B27: 9086 | C27: TARIFA MES - PERSONAL TÉCNICO - DIBUJANTE 1 (NO INCLUYE FACTOR DE PRESTACIONES) | D27: DIBUJANTE | E27: 0 | F27: NA | G27: 2734000 | H27: 1.4585 | U27: =ROUND(SUM(I27),4) -> 0 | V27: =ROUND(SUM(J27:S27),4) -> 0 | W27: =IF(W25=0,0,ROUND(SUM(T27),4)) -> 0 | X27: =U27/U$6 -> 0 | Y27: =V27/V$6 -> 0
A28: 1.208 | B28: 9100 | C28: TARIFA MES - PERSONAL AUXILIAR TÉCNICO - CONDUCTOR O MOTORISTA (NO INCLUYE FACTOR DE PRESTACIONES) | D28: CONDUCTOR | E28: 2 | F28: N/A | G28: 1389000 | H28: 1.615 | I28: 0.5 | J28: 0.5 | K28: 0.5 | L28: 0.5 | M28: 0.5 | N28: 0.5 | O28: 0.5 | U28: =ROUND(SUM(I28),4) -> 0.5 | V28: =ROUND(SUM(J28:S28),4) -> 3 | W28: =IF(W26=0,0,ROUND(SUM(T28),4)) -> 0 | X28: =U28/U$6 -> 0.5 | Y28: =V28/V$6 -> 0.5
A29: 1.3 | D29: PERSONAL ADMINISTRATIVO
A30: 1.301 | B30: 9102 | C30: TARIFA MES - PERSONAL ADMINISTRATIVO - ADMINISTRADOR (NO INCLUYE FACTOR DE PRESTACIONES) | D30: ADMINISTRADOR | F30: N/A | G30: 2879000 | H30: 1.458 | I30: 0 | U30: =ROUND(SUM(I30),4) -> 0 | V30: =ROUND(SUM(J30:S30),4) -> 0 | W30: =IF(W28=0,0,ROUND(SUM(T30),4)) -> 0 | X30: =U30/U$6 -> 0 | Y30: =V30/V$6 -> 0
A31: 1.302 | B31: 9103 | C31: TARIFA MES - PERSONAL ADMINISTRATIVO - AUXILIAR ADMINISTRATIVO-ALMACENISTA (NO INCLUYE FACTOR DE PRESTACIONES) | D31: ALMACENISTA | E31: 1 | F31: N/A | G31: 2053000 | H31: 1.561 | I31: 0 | J31: 1 | K31: 1 | L31: 1 | M31: 1 | N31: 1 | O31: 1 | U31: =ROUND(SUM(I31),4) -> 0 | V31: =ROUND(SUM(J31:S31),4) -> 6 | W31: =IF(W29=0,0,ROUND(SUM(T31),4)) -> 0 | X31: =U31/U$6 -> 0 | Y31: =V31/V$6 -> 1
A32: 1.303 | B32: 9104 | C32: TARIFA MES - PERSONAL ADMINISTRATIVO - SECRETARIA 1 (NO INCLUYE FACTOR DE PRESTACIONES) | D32: SECRETARIA 1 | E32: 1 | F32: N/A | G32: 1670000 | H32: 1.5869 | I32: 0 | J32: 0.25 | K32: 0.25 | L32: 0.25 | M32: 0.25 | N32: 0.25 | O32: 0.25 | U32: =ROUND(SUM(I32),4) -> 0 | V32: =ROUND(SUM(J32:S32),4) -> 1.5 | W32: =IF(W30=0,0,ROUND(SUM(T32),4)) -> 0 | X32: =U32/U$6 -> 0 | Y32: =V32/V$6 -> 0.25
A33: 1.304 | B33: 9105 | C33: TARIFA MES - PERSONAL ADMINISTRATIVO - SECRETARIA 2 (NO INCLUYE FACTOR DE PRESTACIONES) | D33: SECRETARIA 2 | F33: N/A | G33: 1389000 | H33: 1.615 | I33: 0 | U33: =ROUND(SUM(I33),4) -> 0 | V33: =ROUND(SUM(J33:S33),4) -> 0 | W33: =IF(W31=0,0,ROUND(SUM(T33),4)) -> 0 | X33: =U33/U$6 -> 0 | Y33: =V33/V$6 -> 0
A34: 1.305 | B34: 9575 | C34: TARIFA MES - PERSONAL TÉCNICO - CELADOR ARMADO (24 horas por 30 dias dividos en 3 turnos de 8 horas diarias. Incluye prestaciones de ley, Administraciòn y servicios). | D34: CELADOR ARMADO 24 HORAS | E34: 1 | F34: N/A | G34: 10981528 | H34: 1 | I34: 0 | J34: 0.35 | K34: 0.35 | L34: 0.35 | M34: 0.35 | N34: 0.35 | O34: 0.35 | U34: =ROUND(SUM(I34),4) -> 0 | V34: =ROUND(SUM(J34:S34),4) -> 2.1 | W34: =IF(W32=0,0,ROUND(SUM(T34),4)) -> 0 | X34: =U34/U$6 -> 0 | Y34: =V34/V$6 -> 0.35
A35: 1 Amb | D35: COMPONENTE AMBIENTAL
A36: A1.1.1 | B36: 9112 | C36: TARIFA MES - PROFESIONAL CATEGORÍA 6 (NO INCLUYE FACTOR DE PRESTACIONES) | D36: PROFESIONAL AMBIENTAL | E36: 1 | F36: 6 | G36: 6339000 | H36: 1.4525 | I36: 0.2 | J36: 0.25 | K36: 0.25 | L36: 0.25 | M36: 0.25 | N36: 0.25 | O36: 0.25 | U36: =ROUND(SUM(I36),4) -> 0.2 | V36: =ROUND(SUM(J36:S36),4) -> 1.5 | W36: =IF(W34=0,0,ROUND(SUM(T36),4)) -> 0 | X36: =U36/U$6 -> 0.2 | Y36: =V36/V$6 -> 0.25
A37: A1.1.2 | B37: 9112 | C37: TARIFA MES - PROFESIONAL CATEGORÍA 6 (NO INCLUYE FACTOR DE PRESTACIONES) | D37: RESIDENTE FORESTAL | E37: 1 | F37: 6 | G37: 6339000 | H37: 1.4525 | I37: 0.1 | J37: 0.05 | L37: 0.05 | N37: 0.05 | U37: =ROUND(SUM(I37),4) -> 0.1 | V37: =ROUND(SUM(J37:S37),4) -> 0.15 | W37: =IF(W35=0,0,ROUND(SUM(T37),4)) -> 0 | X37: =U37/U$6 -> 0.1 | Y37: =V37/V$6 -> 0.025
A38: A1.1.3 | B38: 9112 | C38: TARIFA MES - PROFESIONAL CATEGORÍA 6 (NO INCLUYE FACTOR DE PRESTACIONES) | D38: BIÓLOGO O ECÓLOGO | E38: 0 | F38: 6 | G38: 6339000 | H38: 1.4525 | I38: 0 | U38: =ROUND(SUM(I38),4) -> 0 | V38: =ROUND(SUM(J38:S38),4) -> 0 | W38: =IF(W36=0,0,ROUND(SUM(T38),4)) -> 0 | X38: =U38/U$6 -> 0 | Y38: =V38/V$6 -> 0
A39: A1.1.4 | B39: 9113 | C39: TARIFA MES - PROFESIONAL CATEGORÍA 7 (NO INCLUYE FACTOR DE PRESTACIONES) | D39: RESIDENTE SST | E39: 1 | F39: 7 | G39: 4793000 | H39: 1.454 | I39: 0.15 | J39: 0.5 | K39: 0.5 | L39: 0.5 | M39: 0.5 | N39: 0.5 | O39: 0.5 | U39: =ROUND(SUM(I39),4) -> 0.15 | V39: =ROUND(SUM(J39:S39),4) -> 3 | W39: =IF(W37=0,0,ROUND(SUM(T39),4)) -> 0 | X39: =U39/U$6 -> 0.15 | Y39: =V39/V$6 -> 0.5
A40: A1.1.5 | B40: 9113 | C40: TARIFA MES - PROFESIONAL CATEGORÍA 7 (NO INCLUYE FACTOR DE PRESTACIONES) | D40: RESIDENTE MAQUINARIA Y EQUIPOS | E40: 1 | F40: 7 | G40: 4793000 | H40: 1.454 | I40: 0 | J40: 0.5 | K40: 0.5 | L40: 0.5 | M40: 0.5 | N40: 0.5 | O40: 0.5 | U40: =ROUND(SUM(I40),4) -> 0 | V40: =ROUND(SUM(J40:S40),4) -> 3 | W40: =IF(W38=0,0,ROUND(SUM(T40),4)) -> 0 | X40: =U40/U$6 -> 0 | Y40: =V40/V$6 -> 0.5
A41: A1.2.1 | B41: 9094 | C41: TARIFA MES - PERSONAL TÉCNICO - INSPECTOR 2 (NO INCLUYE FACTOR DE PRESTACIONES) | D41: PERSONAL TÉCNICO Y PERSONAL AUXILIAR (PERSONAL DE APOYO, INPECTOR AMBIENTAL O SST) | E41: 3 | F41: N/A | G41: 2025000 | H41: 1.5625 | I41: 0 | J41: 1 | K41: 1 | L41: 1 | M41: 1 | N41: 1 | O41: 1 | U41: =ROUND(SUM(I41),4) -> 0 | V41: =ROUND(SUM(J41:S41),4) -> 6 | W41: =IF(W39=0,0,ROUND(SUM(T41),4)) -> 0 | X41: =U41/U$6 -> 0 | Y41: =V41/V$6 -> 1
A42: A1.3.1 | B42: 9455 | C42: TARIFA MES - PERSONAL DE OBRA - AYUDANTE (NO INCLUYE FACTOR DE PRESTACIONES) | D42: PERSONAL TÉCNICO Y PERSONAL AUXILIAR (CUADRILLA ORDEN Y ASEO) | E42: 10 | F42: N/A | G42: 1160000 | H42: 1.648 | I42: 0 | J42: 1 | K42: 1 | L42: 1 | M42: 1 | N42: 1 | O42: 1 | U42: =ROUND(SUM(I42),4) -> 0 | V42: =ROUND(SUM(J42:S42),4) -> 6 | W42: =IF(W40=0,0,ROUND(SUM(T42),4)) -> 0 | X42: =U42/U$6 -> 0 | Y42: =V42/V$6 -> 1
A43: 1 Soc | D43: COMPONENTE SOCIAL
...

Sheet AIU
A2: ALCALDIA LOCAL DE SUBA
A4: MATRIZ DE CÁLCULO DE AIU OBRA
B6: COSTO DIRECTO ESTIMADO DE OBRA (CD) | E6: =$S$8+P7 -> 4664382903 | I6: FECHA: | J6: =Base!$D$9 -> 44988 | M6: Codigo | N6: Componente | O6: Costo real | P6: Estimación costo total | Q6: Diferencia | R6: Codigo | S6: Costo directo | T6: Primera aproximación
B7: TERMINO ESTIMADO DE ETAPA DE DIAGNOSTICO | E7: =DedicProfObr!$U$6 -> 1 | F7: MESES | I7: CONTRATO No. | N7: Diferencia | O7: =O19 -> 0 | P7: 0 | Q7: =O7-P7 -> 0
B8: TERMINO ESTIMADO DE EJECUCIÓN DE OBRA | E8: =DedicProfObr!$V$6 -> 6 | F8: MESES | M8: NA | N8: OBRA | O8: ='PRESUPUESTO OFICIAL'!K71 -> 6139260777 | P8: 6139260777 | Q8: =O8-P8 -> 0 | R8: NA | S8: ='PRESUPUESTO OFICIAL'!K64 -> 4664382903 | T8: =IF(Q8=0,P8,IF(Q8<(0.01*P8),P8,S8*1.32)) -> 6139260777
B9: TERMINO ESTIMADO DE ETAPA DE ENTREGA | E9: =DedicProfObr!$W$6 -> 0 | F9: MESES | N9: AMBIENTAL | O9: =PPTO_AMB!N255 -> 222418405 | P9: 222418405 | Q9: =O9-P9 -> 0 | S9: =PPTO_AMB!N246 -> 188012177 | T9: =IF(Q9=0,P9,IF(Q9<(0.01*P9),P9,S9*1.32)) -> 222418405
N10: SOCIAL | O10: =PPTO_SOCIAL!N68 -> 138802452 | P10: 138802452 | Q10: =O10-P10 -> 0 | S10: =PPTO_SOCIAL!N59 -> 117330898 | T10: =IF(Q10=0,P10,IF(Q10<(0.01*P10),P10,S10*1.32)) -> 138802452
A11: COD IDU | B11: ÍTEM | C11: A. ADMINISTRACIÓN | N11: PPMT | O11: =PPTO_PMT!N55 -> 166780825 | P11: 166780825 | Q11: =O11-P11 -> 0 | S11: =PPTO_PMT!N46 -> 140981255 | T11: =IF(Q11=0,P11,IF(Q11<(0.01*P11),P11,S11*1.32)) -> 166780825
C12: 1. COSTOS MENSUALES DE PERSONAL | N12: TOTAL | O12: =SUM(O8:O11) -> 6667262459 | P12: =SUM(P8:P11) -> 6667262459 | Q12: =SUM(Q7:Q11) -> 0 | S12: =SUM(S8:S11) -> 5110707233 | T12: =SUM(T8:T11) -> 6667262459
C13: CARGO | E13: CANT | F13: CATEGORÍA | G13: TOPE SALARIO (MES) | H13: FACTOR PRESTACIONAL | I13: TOTAL DEDICACIÓN POR ETAPA (MES) | K13: SALARIO + PRESTACIONES
I15: OBRA | J15: RECIBO
E16: A | G16: C | H16: D | K16: F=A*B*C*D*E
B17: 1.1 | C17: PERSONAL PROFESIONAL (Ingenieros y Otros) | M17: Costo directo calculado APU | O17: ='PRESUPUESTO OFICIAL'!K64 -> 4664382903
A18: =INDEX(DedicProfObr!$A$4:$X$51,MATCH($B18,DedicProfObr!$A$4:$A$51,0),MATCH(DedicProfObr!$B$4,DedicProfObr!$A$4:$W$4,0)) -> 9110 | B18: =DedicProfObr!A8 -> 1.101 | C18: =INDEX(DedicProfObr!$A$4:$X$51,MATCH($B18,DedicProfObr!$A$4:$A$51,0),MATCH(DedicProfObr!$D$4,DedicProfObr!$A$4:$W$4,0)) -> DIRECTOR DE OBRA | E18: =INDEX(DedicProfObr!$A$4:$X$51,MATCH($B18,DedicProfObr!$A$4:$A$51,0),MATCH(DedicProfObr!$E$4,DedicProfObr!$A$4:$W$4,0)) -> 1 | F18: =INDEX(DedicProfObr!$A$4:$X$51,MATCH($B18,DedicProfObr!$A$4:$A$51,0),MATCH(DedicProfObr!$F$4,DedicProfObr!$A$4:$W$4,0)) -> 4 | G18: =INDEX(DedicProfObr!$A$4:$X$51,MATCH($B18,DedicProfObr!$A$4:$A$51,0),MATCH(DedicProfObr!$G$4,DedicProfObr!$A$4:$W$4,0)) -> 7881000 | H18: =INDEX(DedicProfObr!$A$4:$X$51,MATCH($B18,DedicProfObr!$A$4:$A$51,0),MATCH(DedicProfObr!$H$4,DedicProfObr!$A$4:$W$4,0)) -> 1.4516 | I18: =INDEX(DedicProfObr!$A$4:$W$51,MATCH($B18,DedicProfObr!$A$4:$A$51,0),MATCH(DedicProfObr!$V$4,DedicProfObr!$A$4:$W$4,0)) -> 1.8 | J18: =INDEX(DedicProfObr!$A$4:$W$51,MATCH($B18,DedicProfObr!$A$4:$A$51,0),MATCH(DedicProfObr!$W$4,DedicProfObr!$A$4:$W$4,0)) -> 0 | K18: =ROUND(E18*G18*H18*(I18+J18),0) -> 20592107 | M18: Costo directo Calculado AIU | O18: ='PRESUPUESTO OFICIAL'!K64 -> 4664382903
A19: =INDEX(DedicProfObr!$A$4:$X$51,MATCH($B19,DedicProfObr!$A$4:$A$51,0),MATCH(DedicProfObr!$B$4,DedicProfObr!$A$4:$W$4,0)) -> 9112 | B19: =DedicProfObr!A9 -> 1.102 | C19: =INDEX(DedicProfObr!$A$4:$X$49,MATCH($B19,DedicProfObr!$A$4:$A$49,0),MATCH(DedicProfObr!$D$4,DedicProfObr!$A$4:$W$4,0)) -> RESIDENTE DE OBRA | E19: =INDEX(DedicProfObr!$A$4:$X$51,MATCH($B19,DedicProfObr!$A$4:$A$51,0),MATCH(DedicProfObr!$E$4,DedicProfObr!$A$4:$W$4,0)) -> 2 | F19: =INDEX(DedicProfObr!$A$4:$X$51,MATCH($B19,DedicProfObr!$A$4:$A$51,0),MATCH(DedicProfObr!$F$4,DedicProfObr!$A$4:$W$4,0)) -> 6 | G19: =INDEX(DedicProfObr!$A$4:$X$51,MATCH($B19,DedicProfObr!$A$4:$A$51,0),MATCH(DedicProfObr!$G$4,DedicProfObr!$A$4:$W$4,0)) -> 6339000 | H19: =INDEX(DedicProfObr!$A$4:$X$51,MATCH($B19,DedicProfObr!$A$4:$A$51,0),MATCH(DedicProfObr!$H$4,DedicProfObr!$A$4:$W$4,0)) -> 1.4525 | I19: =INDEX(DedicProfObr!$A$4:$W$51,MATCH($B19,DedicProfObr!$A$4:$A$51,0),MATCH(DedicProfObr!$V$4,DedicProfObr!$A$4:$W$4,0)) -> 6 | J19: =INDEX(DedicProfObr!$A$4:$W$51,MATCH($B19,DedicProfObr!$A$4:$A$51,0),MATCH(DedicProfObr!$W$4,DedicProfObr!$A$4:$W$4,0)) -> 0 | K19: =ROUND(E19*G19*H19*(I19+J19),0) -> 110488770 | M19: Diferencia Calculada | O19: =O18-O17 -> 0
A20: =INDEX(DedicProfObr!$A$4:$X$51,MATCH($B20,DedicProfObr!$A$4:$A$51,0),MATCH(DedicProfObr!$B$4,DedicProfObr!$A$4:$W$4,0)) -> 9110 | B20: =DedicProfObr!A10 -> 1.103 | C20: =INDEX(DedicProfObr!$A$4:$X$49,MATCH($B20,DedicProfObr!$A$4:$A$49,0),MATCH(DedicProfObr!$D$4,DedicProfObr!$A$4:$W$4,0)) -> ESPECIALISTA EN DISEÑO GEOMETRICO | E20: =INDEX(DedicProfObr!$A$4:$X$51,MATCH($B20,DedicProfObr!$A$4:$A$51,0),MATCH(DedicProfObr!$E$4,DedicProfObr!$A$4:$W$4,0)) -> 1 | F20: =INDEX(DedicProfObr!$A$4:$X$51,MATCH($B20,DedicProfObr!$A$4:$A$51,0),MATCH(DedicProfObr!$F$4,DedicProfObr!$A$4:$W$4,0)) -> 4 | G20: =INDEX(DedicProfObr!$A$4:$X$51,MATCH($B20,DedicProfObr!$A$4:$A$51,0),MATCH(DedicProfObr!$G$4,DedicProfObr!$A$4:$W$4,0)) -> 7881000 | H20: =INDEX(DedicProfObr!$A$4:$X$51,MATCH($B20,DedicProfObr!$A$4:$A$51,0),MATCH(DedicProfObr!$H$4,DedicProfObr!$A$4:$W$4,0)) -> 1.4516 | I20: =INDEX(DedicProfObr!$A$4:$W$51,MATCH($B20,DedicProfObr!$A$4:$A$51,0),MATCH(DedicProfObr!$V$4,DedicProfObr!$A$4:$W$4,0)) -> 0.45 | J20: =INDEX(DedicProfObr!$A$4:$W$51,MATCH($B20,DedicProfObr!$A$4:$A$51,0),MATCH(DedicProfObr!$W$4,DedicProfObr!$A$4:$W$4,0)) -> 0 | K20: =ROUND(E20*G20*H20*(I20+J20),0) -> 5148027 | M20: Costo directo para calculo | O20: =O17+P7 -> 4664382903
A21: =INDEX(DedicProfObr!$A$4:$X$51,MATCH($B21,DedicProfObr!$A$4:$A$51,0),MATCH(DedicProfObr!$B$4,DedicProfObr!$A$4:$W$4,0)) -> 9110 | B21: =DedicProfObr!A11 -> 1.104 | C21: =INDEX(DedicProfObr!$A$4:$X$49,MATCH($B21,DedicProfObr!$A$4:$A$49,0),MATCH(DedicProfObr!$D$4,DedicProfObr!$A$4:$W$4,0)) -> ESPECIALISTA EN URBANISMO Y ESPACIO PÚBLICO | E21: =INDEX(DedicProfObr!$A$4:$X$51,MATCH($B21,DedicProfObr!$A$4:$A$51,0),MATCH(DedicProfObr!$E$4,DedicProfObr!$A$4:$W$4,0)) -> 1 | F21: =INDEX(DedicProfObr!$A$4:$X$51,MATCH($B21,DedicProfObr!$A$4:$A$51,0),MATCH(DedicProfObr!$F$4,DedicProfObr!$A$4:$W$4,0)) -> 4 | G21: =INDEX(DedicProfObr!$A$4:$X$51,MATCH($B21,DedicProfObr!$A$4:$A$51,0),MATCH(DedicProfObr!$G$4,DedicProfObr!$A$4:$W$4,0)) -> 7881000 | H21: =INDEX(DedicProfObr!$A$4:$X$51,MATCH($B21,DedicProfObr!$A$4:$A$51,0),MATCH(DedicProfObr!$H$4,DedicProfObr!$A$4:$W$4,0)) -> 1.4516 | I21: =INDEX(DedicProfObr!$A$4:$W$51,MATCH($B21,DedicProfObr!$A$4:$A$51,0),MATCH(DedicProfObr!$V$4,DedicProfObr!$A$4:$W$4,0)) -> 0.45 | J21: =INDEX(DedicProfObr!$A$4:$W$51,MATCH($B21,DedicProfObr!$A$4:$A$51,0),MATCH(DedicProfObr!$W$4,DedicProfObr!$A$4:$W$4,0)) -> 0 | K21: =ROUND(E21*G21*H21*(I21+J21),0) -> 5148027
A22: =INDEX(DedicProfObr!$A$4:$X$51,MATCH($B22,DedicProfObr!$A$4:$A$51,0),MATCH(DedicProfObr!$B$4,DedicProfObr!$A$4:$W$4,0)) -> 9112 | B22: =DedicProfObr!A12 -> 1.105 | C22: =INDEX(DedicProfObr!$A$4:$X$49,MATCH($B22,DedicProfObr!$A$4:$A$49,0),MATCH(DedicProfObr!$D$4,DedicProfObr!$A$4:$W$4,0)) -> ARQUITECTO APOYO EN DISEÑO URBANO | E22: =INDEX(DedicProfObr!$A$4:$X$51,MATCH($B22,DedicProfObr!$A$4:$A$51,0),MATCH(DedicProfObr!$E$4,DedicProfObr!$A$4:$W$4,0)) -> 0 | F22: =INDEX(DedicProfObr!$A$4:$X$51,MATCH($B22,DedicProfObr!$A$4:$A$51,0),MATCH(DedicProfObr!$F$4,DedicProfObr!$A$4:$W$4,0)) -> 6 | G22: =INDEX(DedicProfObr!$A$4:$X$51,MATCH($B22,DedicProfObr!$A$4:$A$51,0),MATCH(DedicProfObr!$G$4,DedicProfObr!$A$4:$W$4,0)) -> 6339000 | H22: =INDEX(DedicProfObr!$A$4:$X$51,MATCH($B22,DedicProfObr!$A$4:$A$51,0),MATCH(DedicProfObr!$H$4,DedicProfObr!$A$4:$W$4,0)) -> 1.4525 | I22: =INDEX(DedicProfObr!$A$4:$W$51,MATCH($B22,DedicProfObr!$A$4:$A$51,0),MATCH(DedicProfObr!$V$4,DedicProfObr!$A$4:$W$4,0)) -> 0 | J22: =INDEX(DedicProfObr!$A$4:$W$51,MATCH($B22,DedicProfObr!$A$4:$A$51,0),MATCH(DedicProfObr!$W$4,DedicProfObr!$A$4:$W$4,0)) -> 0 | K22: =ROUND(E22*G22*H22*(I22+J22),0) -> 0
A23: =INDEX(DedicProfObr!$A$4:$X$51,MATCH($B23,DedicProfObr!$A$4:$A$51,0),MATCH(DedicProfObr!$B$4,DedicProfObr!$A$4:$W$4,0)) -> 9110 | B23: =DedicProfObr!A13 -> 1.106 | C23: =INDEX(DedicProfObr!$A$4:$X$49,MATCH($B23,DedicProfObr!$A$4:$A$49,0),MATCH(DedicProfObr!$D$4,DedicProfObr!$A$4:$W$4,0)) -> ESPECIALISTA EN GEOTECNIA | E23: =INDEX(DedicProfObr!$A$4:$X$51,MATCH($B23,DedicProfObr!$A$4:$A$51,0),MATCH(DedicProfObr!$E$4,DedicProfObr!$A$4:$W$4,0)) -> 1 | F23: =INDEX(DedicProfObr!$A$4:$X$51,MATCH($B23,DedicProfObr!$A$4:$A$51,0),MATCH(DedicProfObr!$F$4,DedicProfObr!$A$4:$W$4,0)) -> 4 | G23: =INDEX(DedicProfObr!$A$4:$X$51,MATCH($B23,DedicProfObr!$A$4:$A$51,0),MATCH(DedicProfObr!$G$4,DedicProfObr!$A$4:$W$4,0)) -> 7881000 | H23: =INDEX(DedicProfObr!$A$4:$X$51,MATCH($B23,DedicProfObr!$A$4:$A$51,0),MATCH(DedicProfObr!$H$4,DedicProfObr!$A$4:$W$4,0)) -> 1.4516 | I23: =INDEX(DedicProfObr!$A$4:$W$51,MATCH($B23,DedicProfObr!$A$4:$A$51,0),MATCH(DedicProfObr!$V$4,DedicProfObr!$A$4:$W$4,0)) -> 0.45 | J23: =INDEX(DedicProfObr!$A$4:$W$51,MATCH($B23,DedicProfObr!$A$4:$A$51,0),MATCH(DedicProfObr!$W$4,DedicProfObr!$A$4:$W$4,0)) -> 0 | K23: =ROUND(E23*G23*H23*(I23+J23),0) -> 5148027
A24: =INDEX(DedicProfObr!$A$4:$X$51,MATCH($B24,DedicProfObr!$A$4:$A$51,0),MATCH(DedicProfObr!$B$4,DedicProfObr!$A$4:$W$4,0)) -> 9110 | B24: =DedicProfObr!A14 -> 1.107 | C24: =INDEX(DedicProfObr!$A$4:$X$49,MATCH($B24,DedicProfObr!$A$4:$A$49,0),MATCH(DedicProfObr!$D$4,DedicProfObr!$A$4:$W$4,0)) -> ESPECIALISTA EN PAVIMENTOS | E24: =INDEX(DedicProfObr!$A$4:$X$51,MATCH($B24,DedicProfObr!$A$4:$A$51,0),MATCH(DedicProfObr!$E$4,DedicProfObr!$A$4:$W$4,0)) -> 1 | F24: =INDEX(DedicProfObr!$A$4:$X$51,MATCH($B24,DedicProfObr!$A$4:$A$51,0),MATCH(DedicProfObr!$F$4,DedicProfObr!$A$4:$W$4,0)) -> 4 | G24: =INDEX(DedicProfObr!$A$4:$X$51,MATCH($B24,DedicProfObr!$A$4:$A$51,0),MATCH(DedicProfObr!$G$4,DedicProfObr!$A$4:$W$4,0)) -> 7881000 | H24: =INDEX(DedicProfObr!$A$4:$X$51,MATCH($B24,DedicProfObr!$A$4:$A$51,0),MATCH(DedicProfObr!$H$4,DedicProfObr!$A$4:$W$4,0)) -> 1.4516 | I24: =INDEX(DedicProfObr!$A$4:$W$51,MATCH($B24,DedicProfObr!$A$4:$A$51,0),MATCH(DedicProfObr!$V$4,DedicProfObr!$A$4:$W$4,0)) -> 0.75 | J24: =INDEX(DedicProfObr!$A$4:$W$51,MATCH($B24,DedicProfObr!$A$4:$A$51,0),MATCH(DedicProfObr!$W$4,DedicProfObr!$A$4:$W$4,0)) -> 0 | K24: =ROUND(E24*G24*H24*(I24+J24),0) -> 8580045
A25: =INDEX(DedicProfObr!$A$4:$X$51,MATCH($B25,DedicProfObr!$A$4:$A$51,0),MATCH(DedicProfObr!$B$4,DedicProfObr!$A$4:$W$4,0)) -> 9112 | B25: =DedicProfObr!A15 -> 1.108 | C25: =INDEX(DedicProfObr!$A$4:$X$49,MATCH($B25,DedicProfObr!$A$4:$A$49,0),MATCH(DedicProfObr!$D$4,DedicProfObr!$A$4:$W$4,0)) -> ESPECIALISTA REDES HIDROSANITARIAS | E25: =INDEX(DedicProfObr!$A$4:$X$51,MATCH($B25,DedicProfObr!$A$4:$A$51,0),MATCH(DedicProfObr!$E$4,DedicProfObr!$A$4:$W$4,0)) -> 1 | F25: =INDEX(DedicProfObr!$A$4:$X$51,MATCH($B25,DedicProfObr!$A$4:$A$51,0),MATCH(DedicProfObr!$F$4,DedicProfObr!$A$4:$W$4,0)) -> 6 | G25: =INDEX(DedicProfObr!$A$4:$X$51,MATCH($B25,DedicProfObr!$A$4:$A$51,0),MATCH(DedicProfObr!$G$4,DedicProfObr!$A$4:$W$4,0)) -> 6339000 | H25: =INDEX(DedicProfObr!$A$4:$X$51,MATCH($B25,DedicProfObr!$A$4:$A$51,0),MATCH(DedicProfObr!$H$4,DedicProfObr!$A$4:$W$4,0)) -> 1.4525 | I25: =INDEX(DedicProfObr!$A$4:$W$51,MATCH($B25,DedicProfObr!$A$4:$A$51,0),MATCH(DedicProfObr!$V$4,DedicProfObr!$A$4:$W$4,0)) -> 0.6 | J25: =INDEX(DedicProfObr!$A$4:$W$51,MATCH($B25,DedicProfObr!$A$4:$A$51,0),MATCH(DedicProfObr!$W$4,DedicProfObr!$A$4:$W$4,0)) -> 0 | K25: =ROUND(E25*G25*H25*(I25+J25),0) -> 5524439
A26: =INDEX(DedicProfObr!$A$4:$X$51,MATCH($B26,DedicProfObr!$A$4:$A$51,0),MATCH(DedicProfObr!$B$4,DedicProfObr!$A$4:$W$4,0)) -> 9112 | B26: =DedicProfObr!A16 -> 1.109 | C26: =INDEX(DedicProfObr!$A$4:$X$49,MATCH($B26,DedicProfObr!$A$4:$A$49,0),MATCH(DedicProfObr!$D$4,DedicProfObr!$A$4:$W$4,0)) -> ESPECIALISTA EN ESTRUCTURAS | E26: =INDEX(DedicProfObr!$A$4:$X$51,MATCH($B26,DedicProfObr!$A$4:$A$51,0),MATCH(DedicProfObr!$E$4,DedicProfObr!$A$4:$W$4,0)) -> 1 | F26: =INDEX(DedicProfObr!$A$4:$X$51,MATCH($B26,DedicProfObr!$A$4:$A$51,0),MATCH(DedicProfObr!$F$4,DedicProfObr!$A$4:$W$4,0)) -> 6 | G26: =INDEX(DedicProfObr!$A$4:$X$51,MATCH($B26,DedicProfObr!$A$4:$A$51,0),MATCH(DedicProfObr!$G$4,DedicProfObr!$A$4:$W$4,0)) -> 6339000 | H26: =INDEX(DedicProfObr!$A$4:$X$51,MATCH($B26,DedicProfObr!$A$4:$A$51,0),MATCH(DedicProfObr!$H$4,DedicProfObr!$A$4:$W$4,0)) -> 1.4525 | I26: =INDEX(DedicProfObr!$A$4:$W$51,MATCH($B26,DedicProfObr!$A$4:$A$51,0),MATCH(DedicProfObr!$V$4,DedicProfObr!$A$4:$W$4,0)) -> 0.3 | J26: =INDEX(DedicProfObr!$A$4:$W$51,MATCH($B26,DedicProfObr!$A$4:$A$51,0),MATCH(DedicProfObr!$W$4,DedicProfObr!$A$4:$W$4,0)) -> 0 | K26: =ROUND(E26*G26*H26*(I26+J26),0) -> 2762219
A27: =INDEX(DedicProfObr!$A$4:$X$51,MATCH($B27,DedicProfObr!$A$4:$A$51,0),MATCH(DedicProfObr!$B$4,DedicProfObr!$A$4:$W$4,0)) -> 9112 | B27: =DedicProfObr!A17 -> 1.11 | C27: =INDEX(DedicProfObr!$A$4:$X$49,MATCH($B27,DedicProfObr!$A$4:$A$49,0),MATCH(DedicProfObr!$D$4,DedicProfObr!$A$4:$W$4,0)) -> PROFESIONAL EN PRESUPUESTO Y PROGRAMACIÓN | E27: =INDEX(DedicProfObr!$A$4:$X$51,MATCH($B27,DedicProfObr!$A$4:$A$51,0),MATCH(DedicProfObr!$E$4,DedicProfObr!$A$4:$W$4,0)) -> 1 | F27: =INDEX(DedicProfObr!$A$4:$X$51,MATCH($B27,DedicProfObr!$A$4:$A$51,0),MATCH(DedicProfObr!$F$4,DedicProfObr!$A$4:$W$4,0)) -> 6 | G27: =INDEX(DedicProfObr!$A$4:$X$51,MATCH($B27,DedicProfObr!$A$4:$A$51,0),MATCH(DedicProfObr!$G$4,DedicProfObr!$A$4:$W$4,0)) -> 6339000 | H27: =INDEX(DedicProfObr!$A$4:$X$51,MATCH($B27,DedicProfObr!$A$4:$A$51,0),MATCH(DedicProfObr!$H$4,DedicProfObr!$A$4:$W$4,0)) -> 1.4525 | I27: =INDEX(DedicProfObr!$A$4:$W$51,MATCH($B27,DedicProfObr!$A$4:$A$51,0),MATCH(DedicProfObr!$V$4,DedicProfObr!$A$4:$W$4,0)) -> 0 | J27: =INDEX(DedicProfObr!$A$4:$W$51,MATCH($B27,DedicProfObr!$A$4:$A$51,0),MATCH(DedicProfObr!$W$4,DedicProfObr!$A$4:$W$4,0)) -> 0 | K27: =ROUND(E27*G27*H27*(I27+J27),0) -> 0
A28: =INDEX(DedicProfObr!$A$4:$X$51,MATCH($B28,DedicProfObr!$A$4:$A$51,0),MATCH(DedicProfObr!$B$4,DedicProfObr!$A$4:$W$4,0)) -> 9112 | B28: =DedicProfObr!A18 -> 1.111 | C28: =INDEX(DedicProfObr!$A$4:$X$49,MATCH($B28,DedicProfObr!$A$4:$A$49,0),MATCH(DedicProfObr!$D$4,DedicProfObr!$A$4:$W$4,0)) -> PROFESIONAL EN REDES SECAS | E28: =INDEX(DedicProfObr!$A$4:$X$51,MATCH($B28,DedicProfObr!$A$4:$A$51,0),MATCH(DedicProfObr!$E$4,DedicProfObr!$A$4:$W$4,0)) -> 1 | F28: =INDEX(DedicProfObr!$A$4:$X$51,MATCH($B28,DedicProfObr!$A$4:$A$51,0),MATCH(DedicProfObr!$F$4,DedicProfObr!$A$4:$W$4,0)) -> 6 | G28: =INDEX(DedicProfObr!$A$4:$X$51,MATCH($B28,DedicProfObr!$A$4:$A$51,0),MATCH(DedicProfObr!$G$4,DedicProfObr!$A$4:$W$4,0)) -> 6339000 | H28: =INDEX(DedicProfObr!$A$4:$X$51,MATCH($B28,DedicProfObr!$A$4:$A$51,0),MATCH(DedicProfObr!$H$4,DedicProfObr!$A$4:$W$4,0)) -> 1.4525 | I28: =INDEX(DedicProfObr!$A$4:$W$51,MATCH($B28,DedicProfObr!$A$4:$A$51,0),MATCH(DedicProfObr!$V$4,DedicProfObr!$A$4:$W$4,0)) -> 0.4 | J28: =INDEX(DedicProfObr!$A$4:$W$51,MATCH($B28,DedicProfObr!$A$4:$A$51,0),MATCH(DedicProfObr!$W$4,DedicProfObr!$A$4:$W$4,0)) -> 0 | K28: =ROUND(E28*G28*H28*(I28+J28),0) -> 3682959
A29: =INDEX(DedicProfObr!$A$4:$X$51,MATCH($B29,DedicProfObr!$A$4:$A$51,0),MATCH(DedicProfObr!$B$4,DedicProfObr!$A$4:$W$4,0)) -> 9112 | B29: =DedicProfObr!A19 -> 1.112 | C29: =INDEX(DedicProfObr!$A$4:$X$49,MATCH($B29,DedicProfObr!$A$4:$A$49,0),MATCH(DedicProfObr!$D$4,DedicProfObr!$A$4:$W$4,0)) -> INGENIERO ESPECIALISTA EN SIG-CAD | E29: =INDEX(DedicProfObr!$A$4:$X$51,MATCH($B29,DedicProfObr!$A$4:$A$51,0),MATCH(DedicProfObr!$E$4,DedicProfObr!$A$4:$W$4,0)) -> 0 | F29: =INDEX(DedicProfObr!$A$4:$X$51,MATCH($B29,DedicProfObr!$A$4:$A$51,0),MATCH(DedicProfObr!$F$4,DedicProfObr!$A$4:$W$4,0)) -> 6 | G29: =INDEX(DedicProfObr!$A$4:$X$51,MATCH($B29,DedicProfObr!$A$4:$A$51,0),MATCH(DedicProfObr!$G$4,DedicProfObr!$A$4:$W$4,0)) -> 6339000 | H29: =INDEX(DedicProfObr!$A$4:$X$51,MATCH($B29,DedicProfObr!$A$4:$A$51,0),MATCH(DedicProfObr!$H$4,DedicProfObr!$A$4:$W$4,0)) -> 1.4525 | I29: =INDEX(DedicProfObr!$A$4:$W$51,MATCH($B29,DedicProfObr!$A$4:$A$51,0),MATCH(DedicProfObr!$V$4,DedicProfObr!$A$4:$W$4,0)) -> 0 | J29: =INDEX(DedicProfObr!$A$4:$W$51,MATCH($B29,DedicProfObr!$A$4:$A$51,0),MATCH(DedicProfObr!$W$4,DedicProfObr!$A$4:$W$4,0)) -> 0 | K29: =ROUND(E29*G29*H29*(I29+J29),0) -> 0
B30: =DedicProfObr!A20 -> 1.2 | C30: PERSONAL TÉCNICO Y PERSONAL AUXILIAR
A31: =INDEX(DedicProfObr!$A$4:$X$51,MATCH($B31,DedicProfObr!$A$4:$A$51,0),MATCH(DedicProfObr!$B$4,DedicProfObr!$A$4:$W$4,0)) -> 9085 | B31: =DedicProfObr!A21 -> 1.201 | C31: =INDEX(DedicProfObr!$A$4:$X$49,MATCH($B31,DedicProfObr!$A$4:$A$49,0),MATCH(DedicProfObr!$D$4,DedicProfObr!$A$4:$W$4,0)) -> AUXILIAR DE INGENIERÍA | E31: =INDEX(DedicProfObr!$A$4:$X$51,MATCH($B31,DedicProfObr!$A$4:$A$51,0),MATCH(DedicProfObr!$E$4,DedicProfObr!$A$4:$W$4,0)) -> 1 | F31: =INDEX(DedicProfObr!$A$4:$X$51,MATCH($B31,DedicProfObr!$A$4:$A$51,0),MATCH(DedicProfObr!$F$4,DedicProfObr!$A$4:$W$4,0)) -> N/A | G31: =INDEX(DedicProfObr!$A$4:$X$51,MATCH($B31,DedicProfObr!$A$4:$A$51,0),MATCH(DedicProfObr!$G$4,DedicProfObr!$A$4:$W$4,0)) -> 2607000 | H31: =INDEX(DedicProfObr!$A$4:$X$51,MATCH($B31,DedicProfObr!$A$4:$A$51,0),MATCH(DedicProfObr!$H$4,DedicProfObr!$A$4:$W$4,0)) -> 1.4591 | I31: =INDEX(DedicProfObr!$A$4:$W$51,MATCH($B31,DedicProfObr!$A$4:$A$51,0),MATCH(DedicProfObr!$V$4,DedicProfObr!$A$4:$W$4,0)) -> 3 | J31: =INDEX(DedicProfObr!$A$4:$W$51,MATCH($B31,DedicProfObr!$A$4:$A$51,0),MATCH(DedicProfObr!$W$4,DedicProfObr!$A$4:$W$4,0)) -> 0 | K31: =ROUND(E31*G31*H31*(I31+J31),0) -> 11411621
A32: =INDEX(DedicProfObr!$A$4:$X$51,MATCH($B32,DedicProfObr!$A$4:$A$51,0),MATCH(DedicProfObr!$B$4,DedicProfObr!$A$4:$W$4,0)) -> 9093 | B32: =DedicProfObr!A22 -> 1.202 | C32: =INDEX(DedicProfObr!$A$4:$X$49,MATCH($B32,DedicProfObr!$A$4:$A$49,0),MATCH(DedicProfObr!$D$4,DedicProfObr!$A$4:$W$4,0)) -> TÉCNICO INSPECTOR | E32: =INDEX(DedicProfObr!$A$4:$X$51,MATCH($B32,DedicProfObr!$A$4:$A$51,0),MATCH(DedicProfObr!$E$4,DedicProfObr!$A$4:$W$4,0)) -> 2 | F32: =INDEX(DedicProfObr!$A$4:$X$51,MATCH($B32,DedicProfObr!$A$4:$A$51,0),MATCH(DedicProfObr!$F$4,DedicProfObr!$A$4:$W$4,0)) -> N/A | G32: =INDEX(DedicProfObr!$A$4:$X$51,MATCH($B32,DedicProfObr!$A$4:$A$51,0),MATCH(DedicProfObr!$G$4,DedicProfObr!$A$4:$W$4,0)) -> 2249000 | H32: =INDEX(DedicProfObr!$A$4:$X$51,MATCH($B32,DedicProfObr!$A$4:$A$51,0),MATCH(DedicProfObr!$H$4,DedicProfObr!$A$4:$W$4,0)) -> 1.5511 | I32: =INDEX(DedicProfObr!$A$4:$W$51,MATCH($B32,DedicProfObr!$A$4:$A$51,0),MATCH(DedicProfObr!$V$4,DedicProfObr!$A$4:$W$4,0)) -> 6 | J32: =INDEX(DedicProfObr!$A$4:$W$51,MATCH($B32,DedicProfObr!$A$4:$A$51,0),MATCH(DedicProfObr!$W$4,DedicProfObr!$A$4:$W$4,0)) -> 0 | K32: =ROUND(E32*G32*H32*(I32+J32),0) -> 41861087
A33: =INDEX(DedicProfObr!$A$4:$X$51,MATCH($B33,DedicProfObr!$A$4:$A$51,0),MATCH(DedicProfObr!$B$4,DedicProfObr!$A$4:$W$4,0)) -> 9088 | B33: =DedicProfObr!A23 -> 1.203 | C33: =INDEX(DedicProfObr!$A$4:$X$49,MATCH($B33,DedicProfObr!$A$4:$A$49,0),MATCH(DedicProfObr!$D$4,DedicProfObr!$A$4:$W$4,0)) -> TOPOGRAFO INSPECTOR | E33: =INDEX(DedicProfObr!$A$4:$X$51,MATCH($B33,DedicProfObr!$A$4:$A$51,0),MATCH(DedicProfObr!$E$4,DedicProfObr!$A$4:$W$4,0)) -> 2 | F33: =INDEX(DedicProfObr!$A$4:$X$51,MATCH($B33,DedicProfObr!$A$4:$A$51,0),MATCH(DedicProfObr!$F$4,DedicProfObr!$A$4:$W$4,0)) -> N/A | G33: =INDEX(DedicProfObr!$A$4:$X$51,MATCH($B33,DedicProfObr!$A$4:$A$51,0),MATCH(DedicProfObr!$G$4,DedicProfObr!$A$4:$W$4,0)) -> 3092000 | H33: =INDEX(DedicProfObr!$A$4:$X$51,MATCH($B33,DedicProfObr!$A$4:$A$51,0),MATCH(DedicProfObr!$H$4,DedicProfObr!$A$4:$W$4,0)) -> 1.4573 | I33: =INDEX(DedicProfObr!$A$4:$W$51,MATCH($B33,DedicProfObr!$A$4:$A$51,0),MATCH(DedicProfObr!$V$4,DedicProfObr!$A$4:$W$4,0)) -> 5 | J33: =INDEX(DedicProfObr!$A$4:$W$51,MATCH($B33,DedicProfObr!$A$4:$A$51,0),MATCH(DedicProfObr!$W$4,DedicProfObr!$A$4:$W$4,0)) -> 0 | K33: =ROUND(E33*G33*H33*(I33+J33),0) -> 45059716
A34: =INDEX(DedicProfObr!$A$4:$X$51,MATCH($B34,DedicProfObr!$A$4:$A$51,0),MATCH(DedicProfObr!$B$4,DedicProfObr!$A$4:$W$4,0)) -> 9098 | B34: =DedicProfObr!A24 -> 1.204 | C34: =INDEX(DedicProfObr!$A$4:$X$49,MATCH($B34,DedicProfObr!$A$4:$A$49,0),MATCH(DedicProfObr!$D$4,DedicProfObr!$A$4:$W$4,0)) -> CADENERO 1 | E34: =INDEX(DedicProfObr!$A$4:$X$51,MATCH($B34,DedicProfObr!$A$4:$A$51,0),MATCH(DedicProfObr!$E$4,DedicProfObr!$A$4:$W$4,0)) -> 2 | F34: =INDEX(DedicProfObr!$A$4:$X$51,MATCH($B34,DedicProfObr!$A$4:$A$51,0),MATCH(DedicProfObr!$F$4,DedicProfObr!$A$4:$W$4,0)) -> N/A | G34: =INDEX(DedicProfObr!$A$4:$X$51,MATCH($B34,DedicProfObr!$A$4:$A$51,0),MATCH(DedicProfObr!$G$4,DedicProfObr!$A$4:$W$4,0)) -> 1917000 | H34: =INDEX(DedicProfObr!$A$4:$X$51,MATCH($B34,DedicProfObr!$A$4:$A$51,0),MATCH(DedicProfObr!$H$4,DedicProfObr!$A$4:$W$4,0)) -> 1.569 | I34: =INDEX(DedicProfObr!$A$4:$W$51,MATCH($B34,DedicProfObr!$A$4:$A$51,0),MATCH(DedicProfObr!$V$4,DedicProfObr!$A$4:$W$4,0)) -> 5 | J34: =INDEX(DedicProfObr!$A$4:$W$51,MATCH($B34,DedicProfObr!$A$4:$A$51,0),MATCH(DedicProfObr!$W$4,DedicProfObr!$A$4:$W$4,0)) -> 0 | K34: =ROUND(E34*G34*H34*(I34+J34),0) -> 30077730
A35: =INDEX(DedicProfObr!$A$4:$X$51,MATCH($B35,DedicProfObr!$A$4:$A$51,0),MATCH(DedicProfObr!$B$4,DedicProfObr!$A$4:$W$4,0)) -> 9099 | B35: =DedicProfObr!A25 -> 1.205 | C35: =INDEX(DedicProfObr!$A$4:$X$49,MATCH($B35,DedicProfObr!$A$4:$A$49,0),MATCH(DedicProfObr!$D$4,DedicProfObr!$A$4:$W$4,0)) -> CADENERO 2 | E35: =INDEX(DedicProfObr!$A$4:$X$51,MATCH($B35,DedicProfObr!$A$4:$A$51,0),MATCH(DedicProfObr!$E$4,DedicProfObr!$A$4:$W$4,0)) -> 2 | F35: =INDEX(DedicProfObr!$A$4:$X$51,MATCH($B35,DedicProfObr!$A$4:$A$51,0),MATCH(DedicProfObr!$F$4,DedicProfObr!$A$4:$W$4,0)) -> N/A | G35: =INDEX(DedicProfObr!$A$4:$X$51,MATCH($B35,DedicProfObr!$A$4:$A$51,0),MATCH(DedicProfObr!$G$4,DedicProfObr!$A$4:$W$4,0)) -> 1670000 | H35: =INDEX(DedicProfObr!$A$4:$X$51,MATCH($B35,DedicProfObr!$A$4:$A$51,0),MATCH(DedicProfObr!$H$4,DedicProfObr!$A$4:$W$4,0)) -> 1.5869 | I35: =INDEX(DedicProfObr!$A$4:$W$51,MATCH($B35,DedicProfObr!$A$4:$A$51,0),MATCH(DedicProfObr!$V$4,DedicProfObr!$A$4:$W$4,0)) -> 5 | J35: =INDEX(DedicProfObr!$A$4:$W$51,MATCH($B35,DedicProfObr!$A$4:$A$51,0),MATCH(DedicProfObr!$W$4,DedicProfObr!$A$4:$W$4,0)) -> 0 | K35: =ROUND(E35*G35*H35*(I35+J35),0) -> 26501230
A36: =INDEX(DedicProfObr!$A$4:$X$51,MATCH($B36,DedicProfObr!$A$4:$A$51,0),MATCH(DedicProfObr!$B$4,DedicProfObr!$A$4:$W$4,0)) -> 9089 | B36: =DedicProfObr!A26 -> 1.206 | C36: =INDEX(DedicProfObr!$A$4:$X$49,MATCH($B36,DedicProfObr!$A$4:$A$49,0),MATCH(DedicProfObr!$D$4,DedicProfObr!$A$4:$W$4,0)) -> LABORATORISTA INSPECTOR | E36: =INDEX(DedicProfObr!$A$4:$X$51,MATCH($B36,DedicProfObr!$A$4:$A$51,0),MATCH(DedicProfObr!$E$4,DedicProfObr!$A$4:$W$4,0)) -> 0 | F36: =INDEX(DedicProfObr!$A$4:$X$51,MATCH($B36,DedicProfObr!$A$4:$A$51,0),MATCH(DedicProfObr!$F$4,DedicProfObr!$A$4:$W$4,0)) -> N/A | G36: =INDEX(DedicProfObr!$A$4:$X$51,MATCH($B36,DedicProfObr!$A$4:$A$51,0),MATCH(DedicProfObr!$G$4,DedicProfObr!$A$4:$W$4,0)) -> 2739000 | H36: =INDEX(DedicProfObr!$A$4:$X$51,MATCH($B36,DedicProfObr!$A$4:$A$51,0),MATCH(DedicProfObr!$H$4,DedicProfObr!$A$4:$W$4,0)) -> 1.4585 | I36: =INDEX(DedicProfObr!$A$4:$W$51,MATCH($B36,DedicProfObr!$A$4:$A$51,0),MATCH(DedicProfObr!$V$4,DedicProfObr!$A$4:$W$4,0)) -> 0.6 | J36: =INDEX(DedicProfObr!$A$4:$W$51,MATCH($B36,DedicProfObr!$A$4:$A$51,0),MATCH(DedicProfObr!$W$4,DedicProfObr!$A$4:$W$4,0)) -> 0 | K36: =ROUND(E36*G36*H36*(I36+J36),0) -> 0
A37: =INDEX(DedicProfObr!$A$4:$X$51,MATCH($B37,DedicProfObr!$A$4:$A$51,0),MATCH(DedicProfObr!$B$4,DedicProfObr!$A$4:$W$4,0)) -> 9086 | B37: =DedicProfObr!A27 -> 1.207 | C37: =INDEX(DedicProfObr!$A$4:$X$49,MATCH($B37,DedicProfObr!$A$4:$A$49,0),MATCH(DedicProfObr!$D$4,DedicProfObr!$A$4:$W$4,0)) -> DIBUJANTE | E37: =INDEX(DedicProfObr!$A$4:$X$51,MATCH($B37,DedicProfObr!$A$4:$A$51,0),MATCH(DedicProfObr!$E$4,DedicProfObr!$A$4:$W$4,0)) -> 0 | F37: =INDEX(DedicProfObr!$A$4:$X$51,MATCH($B37,DedicProfObr!$A$4:$A$51,0),MATCH(DedicProfObr!$F$4,DedicProfObr!$A$4:$W$4,0)) -> NA | G37: =INDEX(DedicProfObr!$A$4:$X$51,MATCH($B37,DedicProfObr!$A$4:$A$51,0),MATCH(DedicProfObr!$G$4,DedicProfObr!$A$4:$W$4,0)) -> 2734000 | H37: =INDEX(DedicProfObr!$A$4:$X$51,MATCH($B37,DedicProfObr!$A$4:$A$51,0),MATCH(DedicProfObr!$H$4,DedicProfObr!$A$4:$W$4,0)) -> 1.4585 | I37: =INDEX(DedicProfObr!$A$4:$W$51,MATCH($B37,DedicProfObr!$A$4:$A$51,0),MATCH(DedicProfObr!$V$4,DedicProfObr!$A$4:$W$4,0)) -> 0 | J37: =INDEX(DedicProfObr!$A$4:$W$51,MATCH($B37,DedicProfObr!$A$4:$A$51,0),MATCH(DedicProfObr!$W$4,DedicProfObr!$A$4:$W$4,0)) -> 0 | K37: =ROUND(E37*G37*H37*(I37+J37),0) -> 0
A38: =INDEX(DedicProfObr!$A$4:$X$51,MATCH($B38,DedicProfObr!$A$4:$A$51,0),MATCH(DedicProfObr!$B$4,DedicProfObr!$A$4:$W$4,0)) -> 9100 | B38: =DedicProfObr!A28 -> 1.208 | C38: =INDEX(DedicProfObr!$A$4:$X$49,MATCH($B38,DedicProfObr!$A$4:$A$49,0),MATCH(DedicProfObr!$D$4,DedicProfObr!$A$4:$W$4,0)) -> CONDUCTOR | E38: =INDEX(DedicProfObr!$A$4:$X$51,MATCH($B38,DedicProfObr!$A$4:$A$51,0),MATCH(DedicProfObr!$E$4,DedicProfObr!$A$4:$W$4,0)) -> 2 | F38: =INDEX(DedicProfObr!$A$4:$X$51,MATCH($B38,DedicProfObr!$A$4:$A$51,0),MATCH(DedicProfObr!$F$4,DedicProfObr!$A$4:$W$4,0)) -> N/A | G38: =INDEX(DedicProfObr!$A$4:$X$51,MATCH($B38,DedicProfObr!$A$4:$A$51,0),MATCH(DedicProfObr!$G$4,DedicProfObr!$A$4:$W$4,0)) -> 1389000 | H38: =INDEX(DedicProfObr!$A$4:$X$51,MATCH($B38,DedicProfObr!$A$4:$A$51,0),MATCH(DedicProfObr!$H$4,DedicProfObr!$A$4:$W$4,0)) -> 1.615 | I38: =INDEX(DedicProfObr!$A$4:$W$51,MATCH($B38,DedicProfObr!$A$4:$A$51,0),MATCH(DedicProfObr!$V$4,DedicProfObr!$A$4:$W$4,0)) -> 3 | J38: =INDEX(DedicProfObr!$A$4:$W$51,MATCH($B38,DedicProfObr!$A$4:$A$51,0),MATCH(DedicProfObr!$W$4,DedicProfObr!$A$4:$W$4,0)) -> 0 | K38: =ROUND(E38*G38*H38*(I38+J38),0) -> 13459410
B39: =DedicProfObr!A29 -> 1.3 | C39: PERSONAL ADMINISTRATIVO
A40: =INDEX(DedicProfObr!$A$4:$X$51,MATCH($B40,DedicProfObr!$A$4:$A$51,0),MATCH(DedicProfObr!$B$4,DedicProfObr!$A$4:$W$4,0)) -> 9102 | B40: =DedicProfObr!A30 -> 1.301 | C40: =INDEX(DedicProfObr!$A$4:$X$49,MATCH($B40,DedicProfObr!$A$4:$A$49,0),MATCH(DedicProfObr!$D$4,DedicProfObr!$A$4:$W$4,0)) -> ADMINISTRADOR | E40: =INDEX(DedicProfObr!$A$4:$X$51,MATCH($B40,DedicProfObr!$A$4:$A$51,0),MATCH(DedicProfObr!$E$4,DedicProfObr!$A$4:$W$4,0)) -> 0 | F40: =INDEX(DedicProfObr!$A$4:$X$51,MATCH($B40,DedicProfObr!$A$4:$A$51,0),MATCH(DedicProfObr!$F$4,DedicProfObr!$A$4:$W$4,0)) -> N/A | G40: =INDEX(DedicProfObr!$A$4:$X$51,MATCH($B40,DedicProfObr!$A$4:$A$51,0),MATCH(DedicProfObr!$G$4,DedicProfObr!$A$4:$W$4,0)) -> 2879000 | H40: =INDEX(DedicProfObr!$A$4:$X$51,MATCH($B40,DedicProfObr!$A$4:$A$51,0),MATCH(DedicProfObr!$H$4,DedicProfObr!$A$4:$W$4,0)) -> 1.458 | I40: =INDEX(DedicProfObr!$A$4:$W$51,MATCH($B40,DedicProfObr!$A$4:$A$51,0),MATCH(DedicProfObr!$V$4,DedicProfObr!$A$4:$W$4,0)) -> 0 | J40: =INDEX(DedicProfObr!$A$4:$W$51,MATCH($B40,DedicProfObr!$A$4:$A$51,0),MATCH(DedicProfObr!$W$4,DedicProfObr!$A$4:$W$4,0)) -> 0 | K40: =ROUND(E40*G40*H40*(I40+J40),0) -> 0
