Workbook
Name _Hlk115162809: '01CPGB'!$A$8

Sheet EVALUACIONES
B1: PROCESO No. | C1: MC-024-2023
B2: OBJETO GENERAL: | C2: CONTRATAR POR SISTEMA DE MONTO AGOTABLE EL SUMINISTRO DE TEJAS Y MATERIALES DE TECHO, PARA ATENDER LAS VIVIENDAS AFECTADAS POR EMERGENCIAS Y/O DESASTRES QUE SE PRESENTEN EN EL MUNICIPIO DE CHINCHINA, CALDAS
B3: PRESUPUESTO OFICIAL | C3: 25000000
B4: FECHA APERTURA SOBRE ECONOMICO | C4: JUEVES, 30 DE MARZO DE 2023
B6: NOMBRE | C6: CC/NIT | D6: VALOR | E6: CRITERIO | F6: OBSERVACIONES
A7: 1 | B7: CLAUDIA PATRICIA GALLEGO BEDOYA | C7: 30360565 | D7: 929500
B11: ANA MARÍA GÓMEZ URIBE
B12: SECRETARIA ADMINISTRATIVA Y FINANCIERA
B13: MIEMBRO DEL COMITÉ EVALUADOR
B15: Proyectó: Eduard Felipe Mejía Pineda, Contratista

Sheet VLRMINIMO
B1: PROCESO No. | C1: =+EVALUACIONES!C1 -> MC-024-2023
B2: OBJETO GENERAL: | C2: =+EVALUACIONES!C2 -> CONTRATAR POR SISTEMA DE MONTO AGOTABLE EL SUMINISTRO DE TEJAS Y MATERIALES DE TECHO, PARA ATENDER LAS VIVIENDAS AFECTADAS POR EMERGENCIAS Y/O DESASTRES QUE SE PRESENTEN EN EL MUNICIPIO DE CHINCHINA, CALDAS
B3: PRESUPUESTO OFICIAL | C3: =+EVALUACIONES!C3 -> 25000000
B4: FECHA APERTURA SOBRE ECONOMICO | C4: =+EVALUACIONES!C4 -> JUEVES, 30 DE MARZO DE 2023
B5: VALOR MÍNIMO ACEPTABLE
B7: NOMBRE | C7: VALOR | D7: CRITERIO
A8: 1 | B8: CLAUDIA PATRICIA GALLEGO BEDOYA | C8: 929500 | D8: =IF(C8>=$C$10,"CUMPLE","SOLICITAR ACLARACION") -> CUMPLE
B10: VALOR MÍNIMO ACEPTABLE | C10: =+C11*0.8 -> 795240
B11: PRESUPUESTO OFICIAL | C11: 994050
B14: ANA MARÍA GÓMEZ URIBE
B15: SECRETARIA ADMINISTRATIVA Y FINANCIERA
B16: MIEMBRO DEL COMITÉ EVALUADOR
B18: Proyectó: Eduard Felipe Mejía Pineda, Contratista

Sheet 01CPGB
A1: PROCESO No. | B1: =+EVALUACIONES!C1 -> MC-024-2023
A2: OBJETO GENERAL: | B2: =+EVALUACIONES!C2 -> CONTRATAR POR SISTEMA DE MONTO AGOTABLE EL SUMINISTRO DE TEJAS Y MATERIALES DE TECHO, PARA ATENDER LAS VIVIENDAS AFECTADAS POR EMERGENCIAS Y/O DESASTRES QUE SE PRESENTEN EN EL MUNICIPIO DE CHINCHINA, CALDAS
A3: PRESUPUESTO OFICIAL | B3: =+EVALUACIONES!C3 -> 25000000
A4: FECHA APERTURA SOBRE ECONOMICO | B4: =+EVALUACIONES!C4 -> JUEVES, 30 DE MARZO DE 2023
A5: PROPONENTE | B5: =+EVALUACIONES!B7 -> CLAUDIA PATRICIA GALLEGO BEDOYA
A6: NIT | B6: =+EVALUACIONES!C7 -> 30360565
A8: ITEM | B8: DESCRIPCION | C8: UNIDAD DE MEDIDA | D8: CANT | E8: VALOR UNITARIO (IVA INCLUIDO) | F8: VALOR TECHO UNITARIO | G8: CRITERIO
A9: 1 | B9: Teja Nº6 5 canales | C9: Un | D9: ACORDE A LA DEMANDA | E9: 45000 | F9: 50000 | G9: =IF(E9<=F9,"CUMPLE","NO CUMPLE") -> CUMPLE
A10: 2 | B10: Teja Nº6 7 canales | C10: Un | D10: ACORDE A LA DEMANDA | E10: 46000 | F10: 51500 | G10: =IF(E10<=F10,"CUMPLE","NO CUMPLE") -> CUMPLE
A11: 3 | B11: Teja Nº8 5 canales | C11: Un | D11: ACORDE A LA DEMANDA | E11: 58000 | F11: 59500 | G11: =IF(E11<=F11,"CUMPLE","NO CUMPLE") -> CUMPLE
A12: 4 | B12: Teja Nº8 7 canales | C12: Un | D12: ACORDE A LA DEMANDA | E12: 60000 | F12: 63000 | G12: =IF(E12<=F12,"CUMPLE","NO CUMPLE") -> CUMPLE
A13: 5 | B13: Caballete | C13: Un | D13: ACORDE A LA DEMANDA | E13: 40000 | F13: 44500 | G13: =IF(E13<=F13,"CUMPLE","NO CUMPLE") -> CUMPLE
A14: 6 | B14: Amarra larga | C14: Un | D14: ACORDE A LA DEMANDA | E14: 500 | F14: 550 | G14: =IF(E14<=F14,"CUMPLE","NO CUMPLE") -> CUMPLE
A15: 7 | B15: Plástico rollo* 150MTS | C15: Rollo | D15: ACORDE A LA DEMANDA | E15: 680000 | F15: 725000 | G15: =IF(E15<=F15,"CUMPLE","NO CUMPLE") -> CUMPLE
E16: =SUM(E9:E15) -> 929500 | F16: =SUM(F9:F15) -> 994050 | G16: =IF(E16<=F16,"CUMPLE","NO CUMPLE") -> CUMPLE
