Workbook
Name \a: [1]PJ!#REF!
Name \a: [1]PJ!#REF!
Name \a: [1]PJ!#REF!
Name \a: [1]PJ!#REF!
Name \b: [2]INSUMOS!#REF!
Name \b: [2]INSUMOS!#REF!
Name \b: [2]INSUMOS!#REF!
Name \b: [2]INSUMOS!#REF!
Name \b: [2]INSUMOS!#REF!
Name \b: [2]INSUMOS!#REF!
Name \b: [2]INSUMOS!#REF!
Name \b: [2]INSUMOS!#REF!
Name \b: [2]INSUMOS!#REF!
Name \b: [2]INSUMOS!#REF!
Name \b: [2]INSUMOS!#REF!
Name \b: [2]INSUMOS!#REF!
Name \b: [2]INSUMOS!#REF!
Name \b: [2]INSUMOS!#REF!
Name \b: [2]INSUMOS!#REF!
Name \b: [2]INSUMOS!#REF!
Name \b: [2]INSUMOS!#REF!
Name \b: [2]INSUMOS!#REF!
Name \b: [2]INSUMOS!#REF!
Name \b: [2]INSUMOS!#REF!
Name \b: [2]INSUMOS!#REF!
Name \b: [2]INSUMOS!#REF!
Name \b: [2]INSUMOS!#REF!
Name \b: [2]INSUMOS!#REF!
Name \b: [2]INSUMOS!#REF!
Name \b: [2]INSUMOS!#REF!
Name \b: [2]INSUMOS!#REF!
Name \b: [2]INSUMOS!#REF!
Name \b: [2]INSUMOS!#REF!
Name \b: [2]INSUMOS!#REF!
Name \b: [2]INSUMOS!#REF!
Name \b: [2]INSUMOS!#REF!
Name \b: [2]INSUMOS!#REF!
Name \b: [2]INSUMOS!#REF!
Name \b: [2]INSUMOS!#REF!
Name \b: [2]INSUMOS!#REF!
Name \b: [2]INSUMOS!#REF!
Name \b: [2]INSUMOS!#REF!
Name \b: [2]INSUMOS!#REF!
Name \b: [2]INSUMOS!#REF!
Name \b: [2]INSUMOS!#REF!
Name \b: [2]INSUMOS!#REF!
Name \b: [2]INSUMOS!#REF!
Name \b: [2]INSUMOS!#REF!
Name \b: [2]INSUMOS!#REF!
Name \b: [2]INSUMOS!#REF!
Name \b: [2]INSUMOS!#REF!
Name \b: [2]INSUMOS!#REF!
Name \b: [2]INSUMOS!#REF!
Name \b: [2]INSUMOS!#REF!
Name \b: [2]INSUMOS!#REF!
Name \b: [2]INSUMOS!#REF!
Name \i: [2]INSUMOS!#REF!
Name \i: [2]INSUMOS!#REF!
Name \i: [2]INSUMOS!#REF!
Name \i: [2]INSUMOS!#REF!

Sheet PRESUPUESTO GENERAL
A1: REPÚBLICA DE COLOMBIA
A2: DEPARTAMENTO DEL CAQUETÁ
A3: MUNICIPIO DE FLORENCIA
A4: PRESUPUESTO GENERAL
A5: CONSTRUCCIÓN DE BATERIA SANITARIA PARA LA INSTITUCIÓN EDUCATIVA JORGE ELIECER GAITAN SEDE SIMON BOLIVAR DEL MUNICIPIO DE FLORENCIA, DEPARTAMENTO DEL CAQUETA.
A8: ITEM+A8:F30H14A8:FA8:F90 | B8: ACTIVIDAD | C8: UND | D8: CANT | E8: V/UNIT. | F8: V/TOTAL
A11: 1 | B11: PRELIMINARES | F11: =SUM(F12:F14) -> 1700280
A12: 1.1 | B12: Localizacion y replanteo ( Sin equipo de topografia ) | C12: M2 | D12: =+MemoriaDeCant!J24 -> 99.2 | E12: =+'1,1'!I48 -> 4158 | F12: =ROUND(D12*E12,0) -> 412474
A13: 1.2 | B13: Cerramiento en tela propivida h=2,0m | C13: M2 | D13: =+MemoriaDeCant!J53 -> 86.8 | E13: =+'1,2 '!I47 -> 9698 | F13: =ROUND(D13*E13,0) -> 841786
A14: 1.3 | B14: Demolición placas macizas graderia (Inc. Ret de Escomb) | C14: M3 | D14: =+MemoriaDeCant!J85 -> 3.34 | E14: =+'1,3'!I47 -> 133539 | F14: =ROUND(D14*E14,0) -> 446020 | H14: =+F11+F16+F20+F29 -> 43997306
H15: =H14*0.17 -> 7479542
A16: 2 | B16: EXCAVACIONES Y RELLENO | F16: =SUM(F17:F18) -> 1943549 | H16: =+H14+H15 -> 51476848
A17: 2.1 | B17: Excav. Manual ( Mat. Com y cong. Inc. Ret. De escombros ) | C17: M3 | D17: =+MemoriaDeCant!J126 -> 37.06 | E17: =+'2,1'!I47 -> 45105 | F17: =ROUND(D17*E17,0) -> 1671591 | H17: =(H16/F90)*100 -> 35.97264
A18: 2.2 | B18: Relleno manual con material selec. de excav ( Inc. Compactacion equipo rana ) | C18: M3 | D18: =+MemoriaDeCant!J158 -> 11.4 | E18: =+'2,2'!I47 -> 23856 | F18: =ROUND(D18*E18,0) -> 271958 | H18: =F90*0.4 -> 57240000
A20: 3 | B20: ESTRUCTURA | F20: =SUM(F21:F27) -> 23864326
A21: 3.1 | B21: Zapatas aisladas de 1,00x1,00x0,3 ref 1/2 c/0,15 mts incluye solado | C21: UND | D21: =+MemoriaDeCant!J188 -> 11 | E21: =+'3,1 '!I47 -> 376062.7 | F21: =ROUND(D21*E21,0) -> 4136690
A22: 3.2 | B22: Viga riostra cto 3000 P.S.I. 0,25*0,25 ref 4 No 4, E No 3C/0,15 | C22: ML | D22: =+MemoriaDeCant!J226 -> 43.2 | E22: =+'3,2'!I47 -> 117988 | F22: =ROUND(D22*E22,0) -> 5097082
A23: 3.3 | B23: Viga de amarre cto 3000 P.S.I. 0,25*0,25 ref 4 No 4 E No. 3 C/0,15 | C23: ML | D23: =+MemoriaDeCant!J260 -> 36 | E23: =+'3,3 '!I47 -> 146903.5 | F23: =ROUND(D23*E23,0) -> 5288526
A24: 3.4 | B24: Columnas cto 3000 P.S.I. 0,25*0,25 ref 4 No 4, E No 3C/0,15 | C24: ML | D24: =+MemoriaDeCant!J290 -> 34.2 | E24: =+'3,4 '!I47 -> 154208 | F24: =ROUND(D24*E24,0) -> 5273914
A25: 3.5 | B25: viga cinta en concreto de 0,1 x 0,15 | C25: ML | D25: =+MemoriaDeCant!J319 -> 27.85 | E25: =+' 3,5'!I38 -> 101361.5 | F25: =ROUND(D25*E25,0) -> 2822918
A26: 3.6 | B26: Bordillo de confinamiento de 0,1x0,25m en concreto f'c= 210 kgf/cm2, Pagado por ml | C26: ML | D26: =+MemoriaDeCant!J348 -> 5 | E26: =+'3,6'!I45 -> 37432.3 | F26: =ROUND(D26*E26,0) -> 187162
A27: 3.7 | B27: Mesones en concreto f'c= 210fgf/cm2 E=0.10 m Ref. No. 3 c/0.20 m, pagado en m2 | C27: M2 | D27: =+MemoriaDeCant!J375 -> 6.6 | E27: =+'3,7'!I47 -> 160308.2 | F27: =ROUND(D27*E27,0) -> 1058034
A29: 4 | B29: MANPOSTERIA Y PAÑETE | F29: =SUM(F30:F31) -> 16489151
A30: 4.1 | B30: muro en ladrillo de arcilla No. 04 | C30: M2 | D30: =+MemoriaDeCant!J445 -> 137.13 | E30: =+'4,1'!I47 -> 71971 | F30: =ROUND(D30*E30,0) -> 9869383
A31: 4.2 | B31: Pañete sobre muros 1:4 incluye filos y dilataciones | C31: M2 | D31: =+MemoriaDeCant!J506 -> 281.13 | E31: =+'4,2'!I47 -> 23547 | F31: =ROUND(D31*E31,0) -> 6619768
A33: 5 | B33: PINTURA | F33: =SUM(F34:F35) -> 4026226
A34: 5.1 | B34: Estuco plastico interior y exterior | C34: M2 | D34: =+MemoriaDeCant!J551 -> 133.16 | E34: =+'5,1'!I47 -> 13166 | F34: =ROUND(D34*E34,0) -> 1753185
A35: 5.2 | B35: Pintura en vinilo tipo 1 | C35: M2 | D35: =+MemoriaDeCant!J594 -> 133.16 | E35: =+'5,2 '!I47 -> 17070 | F35: =ROUND(D35*E35,0) -> 2273041
A37: 6 | B37: PISOS Y ENCHAPES | F37: =SUM(F38:F44) -> 27468006
A38: 6.1 | B38: Piso en concreto E=0,10M (Incl Juntas dilat. Y Malla Elect.), pagado en m2 | C38: M2 | D38: =+MemoriaDeCant!J629 -> 47 | E38: =+'6,1 '!I48 -> 87335 | F38: =ROUND(D38*E38,0) -> 4104745
A39: 6.2 | B39: Mortero de nivelación E=0,05 m | C39: M2 | D39: =+MemoriaDeCant!J667 -> 47 | E39: =+'6,2 '!I48 -> 40859 | F39: =ROUND(D39*E39,0) -> 1920373
A40: 6.3 | B40: Suministro e instalación de cerámica para pisos | C40: M2 | D40: =+MemoriaDeCant!J708 -> 47 | E40: =+'6,3 '!I48 -> 107728 | F40: =ROUND(D40*E40,0) -> 5063216
A41: 6.4 | B41: Enchape cerámico para muros h=2,00 m | C41: M2 | D41: =+MemoriaDeCant!J737 -> 148 | E41: =+'6,4 '!I48 -> 93069 | F41: =ROUND(D41*E41,0) -> 13774212
A42: 6.5 | B42: Enchape para mesones de lavaplatos (Incluye listelo decorativo) | C42: M2 | D42: =+MemoriaDeCant!J766 -> 7.91 | E42: =+'6,5 '!I48 -> 95672 | F42: =ROUND(D42*E42,0) -> 756766
A43: 6.6 | B43: Anden en concreto escobeado | C43: M2 | D43: =+MemoriaDeCant!J795 -> 9.76 | E43: =+'6,6 '!I47 -> 54233 | F43: =ROUND(D43*E43,0) -> 529314
A44: 6.7 | B44: Rampa en concreto escobeada; E=0,10 (Incluye malla electrosoldada) | C44: M2 | D44: =+MemoriaDeCant!J824 -> 16.28 | E44: =+'6,7 '!I47 -> 81043 | F44: =ROUND(D44*E44,0) -> 1319380
A46: 7 | B46: CUBIERTA | F46: =SUM(F47:F50) -> 9971458
A47: 7.1 | B47: Cubierta en Teja arquitectonica master 1000 Cal. 28 | C47: M2 | D47: =+MemoriaDeCant!J853 -> 68.25 | E47: =+'7,1 '!I50 -> 65046 | F47: =ROUND(D47*E47,0) -> 4439390
A48: 7.2 | B48: tubo rectangular de 10 x 4 con anticorrosivo y pintura | C48: ML | D48: =+MemoriaDeCant!J882 -> 61.8 | E48: =+'7,2 '!I50 -> 72644 | F48: =ROUND(D48*E48,0) -> 4489399
A49: 7.3 | B49: Canal en lámina Galvanizada Cal. 20 | C49: ML | D49: =+MemoriaDeCant!J911 -> 10.5 | E49: =+'7,3 '!I50 -> 67024 | F49: =ROUND(D49*E49,0) -> 703752
...

Sheet MemoriaDeCant
A1: REPUBLICA DE COLOMBIA
A2: DEPARTAMENTO DEL CAQUETÁ
A3: MUNICIPIO DE FLORENCIA
A4: ALCALDÍA MUNICIPAL
A5: MEMORIA DE CANTIDADES DE OBRA
A7: =+'PRESUPUESTO GENERAL'!A5 -> CONSTRUCCIÓN DE BATERIA SANITARIA PARA LA INSTITUCIÓN EDUCATIVA JORGE ELIECER GAITAN SEDE SIMON BOLIVAR DEL MUNICIPIO DE FLORENCIA, DEPARTAMENTO DEL CAQUETA.
A9: MEMORIA DE CALCULO DE CANTIDADES DE OBRA | AW9: .
A10: CAPÍTULO | C10: =+'PRESUPUESTO GENERAL'!B11 -> PRELIMINARES | AG10: UNIDAD: | AN10: =+'[224]PRESUPUESTO GENERAL'!C12 -> M2
A11: ITEM: | C11: =+'PRESUPUESTO GENERAL'!A12 -> 1.1 | D11: =+'PRESUPUESTO GENERAL'!B12 -> Localizacion y replanteo ( Sin equipo de topografia ) | AG11: CANTIDAD: | AN11: =+J24 -> 99.2
A13: AREA O LUGAR | C13: DIMENSIONES | G13: V. PARCIAL | H13: N° DE ELEMENTOS | I13: UNIDAD | J13: TOTAL
C14: LONGITUD | D14: ANCHO | E14: ALTO | F14: PESO
A17: BETERIA SANITARIA | C17: 9.7 | D17: 6.2 | G17: =C17*D17 -> 60.14 | H17: 1 | I17: M2 | J17: =G17*H17 -> 60.14
AW18: =9.7*6.2 -> 60.14
A19: ANDEN PEATONAL | C19: 5.42 | D19: 1.8 | G19: =C19*D19 -> 9.756 | H19: 1 | I19: M2 | J19: =ROUND(G19*H19,2) -> 9.76
AW20: =5.42*1.8 -> 9.756
A21: RAMPA | C21: 16.28 | D21: 1.8 | G21: =C21*D21 -> 29.304 | H21: 1 | I21: M2 | J21: =ROUND(C21*D21,2) -> 29.3 | AW21: =16.28*1.8 -> 29.304
AW23: =SUM(AW18:AW22) -> 99.2
E24: Aproxima Resultado a : | F24: 2 | G24: Decimales | I24: TOTAL | J24: =ROUND(SUM(J17:J21),F24) -> 99.2
A27: Observaciones:
AF29: ="Item " & C11 & " Página 1 de 1 " -> Item 1,1 Página 1 de 1
E30: APROBO:
F34: ARQ. ANTONIO RUIZ TOVAR
F35: PROFESIONAL UNIVERSITARIO
A38: MEMORIA DE CALCULO DE CANTIDADES DE OBRA
A39: CAPÍTULO | C39: =+'PRESUPUESTO GENERAL'!B11 -> PRELIMINARES | AG39: UNIDAD: | AN39: =+'PRESUPUESTO GENERAL'!C13 -> M2
A40: ITEM: | C40: =+'PRESUPUESTO GENERAL'!A13 -> 1.2 | D40: =+'PRESUPUESTO GENERAL'!B13 -> Cerramiento en tela propivida h=2,0m | AG40: CANTIDAD: | AN40: =+J53 -> 86.8
A42: AREA O LUGAR | C42: DIMENSIONES | G42: V. PARCIAL | H42: N° DE ELEMENTOS | I42: UNIDAD | J42: TOTAL
C43: LONGITUD | D43: ANCHO | E43: ALTO | F43: PESO
A46: AREA DE INTERVENCION | C46: =11.7*2 -> 23.4 | E46: 2 | G46: =C46*E46 -> 46.8 | H46: 1 | I46: M2 | J46: =G46*H46 -> 46.8 | AW46: =11.7*2*2 -> 46.8
C48: 20 | E48: 2 | G48: =C48*E48 -> 40 | H48: 1 | I48: M2 | J48: =G48*H48 -> 40 | AW48: =10*2*2 -> 40
E53: Aproxima Resultado a : | F53: 2 | G53: Decimales | I53: TOTAL | J53: =ROUND(SUM(J46:J52),F53) -> 86.8 | AW53: =SUM(AW46:AW52) -> 86.8
A56: Observaciones:
AF58: ="Item " & C40 & " Página 1 de 1 " -> Item 1,2 Página 1 de 1
E59: APROBO:
F63: =+F34 -> ARQ. ANTONIO RUIZ TOVAR
F64: =+F35 -> PROFESIONAL UNIVERSITARIO
A67: MEMORIA DE CALCULO DE CANTIDADES DE OBRA | AW67: .
A68: CAPÍTULO | C68: =+'PRESUPUESTO GENERAL'!B11 -> PRELIMINARES | AG68: UNIDAD: | AN68: =+'PRESUPUESTO GENERAL'!C14 -> M3
A69: ITEM: | C69: =+'PRESUPUESTO GENERAL'!A14 -> 1.3 | D69: =+'PRESUPUESTO GENERAL'!B14 -> Demolición placas macizas graderia (Inc. Ret de Escomb) | AG69: CANTIDAD: | AN69: =+J85 -> 3.34
A71: AREA O LUGAR | C71: DIMENSIONES | G71: V. PARCIAL | H71: N° DE ELEMENTOS | I71: UNIDAD | J71: TOTAL
...

Sheet AIU
A2: PRESUPUESTO DEL A.U.I.
A4: ITEM: ANALISIS DETALLADO DEL A.I.U.
D5: VALOR TOTAL PRESUPUESTO | G5: =+'PRESUPUESTO GENERAL'!F90 -> 143100000
D6: VALOR COSTO DIRECTO | G6: =+'PRESUPUESTO GENERAL'!F85 -> 121322594
D7: VALOR AIU PRESUPUESTO | G7: =+G31 -> 25517432
A8: CODIGO | B8: DESCRIPCION | C8: VALOR BASE DEL MES | D8: DEDICACION | E8: CANTIDAD | F8: DURACION DEL PROYECTO MESES | G8: VALOR PARCIAL | H8: %
A10: 1 | B10: GASTOS GENERALES | G10: =G11+G14 -> 10800000 | H10: =+H11+H14 -> 0.089018868
A11: 1.1 | B11: STAFF DE PERSONAL DE OBRA + PRESTACIONES SOCIALES | G11: =+SUM(G12:G13) -> 10650000 | H11: =+G11/G6 -> 0.087782495
A12: 1,1,1 | B12: DIRECTOR DE OBRA | C12: 3500000 | D12: 0.3 | E12: 1 | F12: 3 | G12: =+ROUND(F12*E12*D12*C12,0) -> 3150000
A13: 1,1,2 | B13: INGENIERO RESIDENTE | C13: 2500000 | D13: 1 | E13: 1 | F13: 3 | G13: =+ROUND(F13*E13*D13*C13,0) -> 7500000
A14: 1.2 | B14: PAPELERÍA Y SERVICIOS | G14: =+SUM(G15:G15) -> 150000 | H14: =+G14/G6 -> 0.0012363732
A15: 1,2,1 | B15: PAPELERIA Y FOTOCOPIA | C15: 50000 | E15: 1 | F15: 3 | G15: =+ROUND(F15*E15*C15,0) -> 150000
A17: 2 | B17: GASTOS INDIRECTOS | G17: =+G18+G22 -> 6224850 | H17: =+H18+H22 -> 0.05130825
A18: 1.3 | B18: IMPUESTOS Y VALORES AGREGADOS | G18: =+SUM(G19:G20) -> 5724000 | H18: =+G18/G6 -> 0.04718
A19: 1,3,1 | B19: RETENCION DE LA FUENTE (CONSTRUCCION) | C19: =+G5 -> 143100000 | E19: 0.03 | G19: =+ROUND(E19*C19,0) -> 4293000
A20: 1,3,2 | B20: RETEICA | C20: =+G5 -> 143100000 | E20: 0.01 | G20: =+ROUND(E20*C20,0) -> 1431000
A22: 1.4 | B22: POLIZAS | G22: =SUM(G23:G27) -> 500850 | H22: =+G22/G6 -> 0.00412825
A23: 1,4,1 | B23: SERIEDAD DE LA PROPUESTA | C23: =+C19 -> 143100000 | E23: 0.0005 | G23: =ROUND(E23*C23,0) -> 71550
A24: 1,4,2 | B24: CUMPLIMIENTO | C24: =+C23 -> 143100000 | E24: 0.001 | G24: =ROUND(E24*C24,0) -> 143100
A25: 1,4,3 | B25: ESTABILIDAD | C25: =+C24 -> 143100000 | E25: 0.001 | G25: =ROUND(E25*C25,0) -> 143100
A26: 1,4,4 | B26: PRESTACIONES SOCIALES | C26: =+C25 -> 143100000 | E26: 0.0005 | G26: =ROUND(E26*C26,0) -> 71550
A27: 1,4,5 | B27: RESPONSABILIDAD CIVIL | C27: =+C26 -> 143100000 | E27: 0.0005 | G27: =ROUND(E27*C27,0) -> 71550
B28: TOTAL GASTO INDIRECTOS ADMINISTRACIÓN | G28: =+G17+G10 -> 17024850 | H28: =+H17+H10 -> 0.14032712
A29: 2 | B29: IMPREVISTOS | E29: % | G29: =+ROUND(H29*G6,0) -> 6066130 | H29: 0.05
A30: 3 | B30: UTILIDAD | E30: % | G30: =+ROUND(H30*G6,0) -> 2426452 | H30: 0.02
B31: COSTOS TOTAL A.I.U. | G31: =SUM(G28:G30) -> 25517432 | H31: =H28+H29+H30 -> 0.21032712
B35: ELABORO:
B39: _____________________________________
B40: =+'PRESUPUESTO GENERAL'!A98 -> ARQ. ANTONIO RUIZ TOVAR
B41: =+'PRESUPUESTO GENERAL'!A99 -> PROFESIONAL ESPECIALIZADO

Sheet PROGRAMACION F F
A2: REPUBLICA DE COLOMBIA
A3: DEPARTAMENTO DEL CAQUETA
A4: MUNICIPIO DE FLORENCIA
A5: ALCALDIA MUNICIPAL
A6: CRONOGRAMA DE EJECUCIÓN Y PROGRAMACIÓN FISICO FINANCIERA
A8: =+'PRESUPUESTO GENERAL'!A5 -> CONSTRUCCIÓN DE BATERIA SANITARIA PARA LA INSTITUCIÓN EDUCATIVA JORGE ELIECER GAITAN SEDE SIMON BOLIVAR DEL MUNICIPIO DE FLORENCIA, DEPARTAMENTO DEL CAQUETA.
C9: MES 1 | G9: MES 2 | K9: MES 3
A10: ITEM | B10: DESCRIPCIÓN | C10: SEMANA 1 | D10: SEMANA 2 | E10: SEMANA 3 | F10: SEMANA 4 | G10: SEMANA 1 | H10: SEMANA 2 | I10: SEMANA 3 | J10: SEMANA 4 | K10: SEMANA 1 | L10: SEMANA 2 | M10: SEMANA 3 | N10: SEMANA 4 | O10: VR. TOTAL
A11: =+'PRESUPUESTO GENERAL'!A12 -> 1.1 | B11: =+'PRESUPUESTO GENERAL'!B12 -> Localizacion y replanteo ( Sin equipo de topografia ) | C11: =+O11 -> 412474 | O11: =+'PRESUPUESTO GENERAL'!F12 -> 412474
A12: =+'PRESUPUESTO GENERAL'!A13 -> 1.2 | B12: =+'PRESUPUESTO GENERAL'!B13 -> Cerramiento en tela propivida h=2,0m | C12: =+O12 -> 841786 | O12: =+'PRESUPUESTO GENERAL'!F13 -> 841786
A13: =+'PRESUPUESTO GENERAL'!A14 -> 1.3 | B13: =+'PRESUPUESTO GENERAL'!B14 -> Demolición placas macizas graderia (Inc. Ret de Escomb) | C13: =O13/2 -> 223010 | D13: =C13 -> 223010 | O13: =+'PRESUPUESTO GENERAL'!F14 -> 446020
A14: =+'PRESUPUESTO GENERAL'!A17 -> 2.1 | B14: =+'PRESUPUESTO GENERAL'!B17 -> Excav. Manual ( Mat. Com y cong. Inc. Ret. De escombros ) | D14: =O14/2 -> 835795.5 | E14: =D14 -> 835795.5 | O14: =+'PRESUPUESTO GENERAL'!F17 -> 1671591
A15: =+'PRESUPUESTO GENERAL'!A18 -> 2.2 | B15: =+'PRESUPUESTO GENERAL'!B18 -> Relleno manual con material selec. de excav ( Inc. Compactacion equipo rana ) | E15: =O15/2 -> 135979 | F15: =E15 -> 135979 | O15: =+'PRESUPUESTO GENERAL'!F18 -> 271958
A16: =+'PRESUPUESTO GENERAL'!A21 -> 3.1 | B16: =+'PRESUPUESTO GENERAL'!B21 -> Zapatas aisladas de 1,00x1,00x0,3 ref 1/2 c/0,15 mts incluye solado | E16: =O16/2 -> 2068345 | F16: =E16 -> 2068345 | O16: =+'PRESUPUESTO GENERAL'!F21 -> 4136690
A17: =+'PRESUPUESTO GENERAL'!A22 -> 3.2 | B17: =+'PRESUPUESTO GENERAL'!B22 -> Viga riostra cto 3000 P.S.I. 0,25*0,25 ref 4 No 4, E No 3C/0,15 | E17: =O17/2 -> 2548541 | F17: =E17 -> 2548541 | O17: =+'PRESUPUESTO GENERAL'!F22 -> 5097082
A18: =+'PRESUPUESTO GENERAL'!A23 -> 3.3 | B18: =+'PRESUPUESTO GENERAL'!B23 -> Viga de amarre cto 3000 P.S.I. 0,25*0,25 ref 4 No 4 E No. 3 C/0,15 | F18: =O18/2 -> 2644263 | G18: =+F18 -> 2644263 | O18: =+'PRESUPUESTO GENERAL'!F23 -> 5288526
A19: =+'PRESUPUESTO GENERAL'!A24 -> 3.4 | B19: =+'PRESUPUESTO GENERAL'!B24 -> Columnas cto 3000 P.S.I. 0,25*0,25 ref 4 No 4, E No 3C/0,15 | F19: =O19/2 -> 2636957 | G19: =+F19 -> 2636957 | O19: =+'PRESUPUESTO GENERAL'!F24 -> 5273914
A20: =+'PRESUPUESTO GENERAL'!A25 -> 3.5 | B20: =+'PRESUPUESTO GENERAL'!B25 -> viga cinta en concreto de 0,1 x 0,15 | F20: =O20/2 -> 1411459 | G20: =+F20 -> 1411459 | O20: =+'PRESUPUESTO GENERAL'!F25 -> 2822918
A21: =+'PRESUPUESTO GENERAL'!A26 -> 3.6 | B21: =+'PRESUPUESTO GENERAL'!B26 -> Bordillo de confinamiento de 0,1x0,25m en concreto f'c= 210 kgf/cm2, Pagado por ml | F21: =O21/2 -> 93581 | G21: =+F21 -> 93581 | O21: =+'PRESUPUESTO GENERAL'!F26 -> 187162
A22: =+'PRESUPUESTO GENERAL'!A27 -> 3.7 | B22: =+'PRESUPUESTO GENERAL'!B27 -> Mesones en concreto f'c= 210fgf/cm2 E=0.10 m Ref. No. 3 c/0.20 m, pagado en m2 | G22: =O22/1 -> 1058034 | O22: =+'PRESUPUESTO GENERAL'!F27 -> 1058034
A23: =+'PRESUPUESTO GENERAL'!A30 -> 4.1 | B23: =+'PRESUPUESTO GENERAL'!B30 -> muro en ladrillo de arcilla No. 04 | F23: =O23/2 -> 4934691.5 | G23: =+F23 -> 4934691.5 | O23: =+'PRESUPUESTO GENERAL'!F30 -> 9869383
A24: =+'PRESUPUESTO GENERAL'!A31 -> 4.2 | B24: =+'PRESUPUESTO GENERAL'!B31 -> Pañete sobre muros 1:4 incluye filos y dilataciones | G24: =O24/2 -> 3309884 | H24: =+G24 -> 3309884 | O24: =+'PRESUPUESTO GENERAL'!F31 -> 6619768
A25: =+'PRESUPUESTO GENERAL'!A34 -> 5.1 | B25: =+'PRESUPUESTO GENERAL'!B34 -> Estuco plastico interior y exterior | G25: =O25/2 -> 876592.5 | H25: =+G25 -> 876592.5 | O25: =+'PRESUPUESTO GENERAL'!F34 -> 1753185
A26: =+'PRESUPUESTO GENERAL'!A35 -> 5.2 | B26: =+'PRESUPUESTO GENERAL'!B35 -> Pintura en vinilo tipo 1 | G26: =O26/2 -> 1136520.5 | H26: =+G26 -> 1136520.5 | O26: =+'PRESUPUESTO GENERAL'!F35 -> 2273041
A27: =+'PRESUPUESTO GENERAL'!A38 -> 6.1 | B27: =+'PRESUPUESTO GENERAL'!B38 -> Piso en concreto E=0,10M (Incl Juntas dilat. Y Malla Elect.), pagado en m2 | F27: =O27/2 -> 2052372.5 | G27: =+F27 -> 2052372.5 | O27: =+'PRESUPUESTO GENERAL'!F38 -> 4104745
A28: =+'PRESUPUESTO GENERAL'!A39 -> 6.2 | B28: =+'PRESUPUESTO GENERAL'!B39 -> Mortero de nivelación E=0,05 m | G28: =O28/2 -> 960186.5 | H28: =+G28 -> 960186.5 | O28: =+'PRESUPUESTO GENERAL'!F39 -> 1920373
A29: =+'PRESUPUESTO GENERAL'!A40 -> 6.3 | B29: =+'PRESUPUESTO GENERAL'!B40 -> Suministro e instalación de cerámica para pisos | G29: =O29/2 -> 2531608 | H29: =+G29 -> 2531608 | O29: =+'PRESUPUESTO GENERAL'!F40 -> 5063216
A30: =+'PRESUPUESTO GENERAL'!A41 -> 6.4 | B30: =+'PRESUPUESTO GENERAL'!B41 -> Enchape cerámico para muros h=2,00 m | G30: =O30/2 -> 6887106 | H30: =+G30 -> 6887106 | O30: =+'PRESUPUESTO GENERAL'!F41 -> 13774212
A31: =+'PRESUPUESTO GENERAL'!A42 -> 6.5 | B31: =+'PRESUPUESTO GENERAL'!B42 -> Enchape para mesones de lavaplatos (Incluye listelo decorativo) | H31: =O31/2 -> 378383 | I31: =+H31 -> 378383 | O31: =+'PRESUPUESTO GENERAL'!F42 -> 756766
A32: =+'PRESUPUESTO GENERAL'!A43 -> 6.6 | B32: =+'PRESUPUESTO GENERAL'!B43 -> Anden en concreto escobeado | H32: =O32/3 -> 176438 | I32: =+H32 -> 176438 | J32: =+I32 -> 176438 | O32: =+'PRESUPUESTO GENERAL'!F43 -> 529314
A33: =+'PRESUPUESTO GENERAL'!A44 -> 6.7 | B33: =+'PRESUPUESTO GENERAL'!B44 -> Rampa en concreto escobeada; E=0,10 (Incluye malla electrosoldada) | H33: =O33/3 -> 439793.33 | I33: =+H33 -> 439793.33 | J33: =+I33 -> 439793.33 | O33: =+'PRESUPUESTO GENERAL'!F44 -> 1319380
A34: =+'PRESUPUESTO GENERAL'!A47 -> 7.1 | B34: =+'PRESUPUESTO GENERAL'!B47 -> Cubierta en Teja arquitectonica master 1000 Cal. 28 | H34: =O34/3 -> 1479796.7 | I34: =+H34 -> 1479796.7 | J34: =+I34 -> 1479796.7 | O34: =+'PRESUPUESTO GENERAL'!F47 -> 4439390
A35: =+'PRESUPUESTO GENERAL'!A48 -> 7.2 | B35: =+'PRESUPUESTO GENERAL'!B48 -> tubo rectangular de 10 x 4 con anticorrosivo y pintura | I35: =O35/2 -> 2244699.5 | J35: =+I35 -> 2244699.5 | O35: =+'PRESUPUESTO GENERAL'!F48 -> 4489399
A36: =+'PRESUPUESTO GENERAL'!A49 -> 7.3 | B36: =+'PRESUPUESTO GENERAL'!B49 -> Canal en lámina Galvanizada Cal. 20 | J36: =O36/1 -> 703752 | O36: =+'PRESUPUESTO GENERAL'!F49 -> 703752
A37: =+'PRESUPUESTO GENERAL'!A50 -> 7.4 | B37: =+'PRESUPUESTO GENERAL'!B50 -> Bajante de aguas lluvias 4" PVC A.LL | J37: =O37/1 -> 338917 | O37: =+'PRESUPUESTO GENERAL'!F50 -> 338917
A38: =+'PRESUPUESTO GENERAL'!A53 -> 8.1 | B38: =+'PRESUPUESTO GENERAL'!B53 -> Puerta en lámina galvanizada calibre 20, con marco metálico chapa, anticorrosivo, pintura | J38: =O38/1 -> 6101605 | O38: =+'PRESUPUESTO GENERAL'!F53 -> 6101605
A39: =+'PRESUPUESTO GENERAL'!A54 -> 8.2 | B39: =+'PRESUPUESTO GENERAL'!B54 -> Persiana metalica en lamina galvanizada con anticorrosivo y pintura | J39: =O39/1 -> 1287865 | O39: =+'PRESUPUESTO GENERAL'!F54 -> 1287865
A40: =+'PRESUPUESTO GENERAL'!A55 -> 8.3 | B40: =+'PRESUPUESTO GENERAL'!B55 -> Luceta metalica en lamina galvanizada con anticorrosivo y pintura | J40: =O40/1 -> 642643 | O40: =+'PRESUPUESTO GENERAL'!F55 -> 642643
A41: =+'PRESUPUESTO GENERAL'!A56 -> 8.4 | B41: =+'PRESUPUESTO GENERAL'!B56 -> Suministro e instalacion de divisiones para orinales en acero inoxidable satinado | J41: =O41/1 -> 1152000 | O41: =+'PRESUPUESTO GENERAL'!F56 -> 1152000
A42: =+'PRESUPUESTO GENERAL'!A57 -> 8.5 | B42: =+'PRESUPUESTO GENERAL'!B57 -> Baranda exterior en tuberia metalica, pagada en ml | J42: =O42/1 -> 5995904 | O42: =+'PRESUPUESTO GENERAL'!F57 -> 5995904
...

Sheet CTO D 
B1: REPÚBLICA DE COLOMBIA
B2: DEPARTAMENTO DEL CAQUETÁ
B3: MUNICIPIO DE FLORENCIA
B4: =+'[224]PRESUPUESTO GENERAL'!A4 -> PRESUPUESTO GENERAL
B5: SECRETARIA DE OBRAS PUBLICAS - SECOBRAS | E5: ANALISIS DE PRECIOS UNITARIOS - PRELIMINARES
B6: =+'PRESUPUESTO GENERAL'!A5 -> CONSTRUCCIÓN DE BATERIA SANITARIA PARA LA INSTITUCIÓN EDUCATIVA JORGE ELIECER GAITAN SEDE SIMON BOLIVAR DEL MUNICIPIO DE FLORENCIA, DEPARTAMENTO DEL CAQUETA.
B7: ITEM | C7: CONCRETO BASICO CLASE D | H7: UNIDAD: | I7: M3
A10: SEC OBRAS | B10: I | C10: MATERIALES
C11: DESCRIPCIÓN | E11: UND | F11: CANT. | G11: V/UNITARIO | H11: V/PARCIAL
C12: =+[225]MATERIALES!B12 -> Cemento gris | E12: KG | F12: 350 | G12: =640*1.1312 -> 723.968 | H12: =+F12*G12 -> 253388.8
C13: =+[225]MATERIALES!B10 -> Arena de Río | E13: M3 | F13: 0.55 | G13: =35000*1.1312 -> 39592 | H13: =+F13*G13 -> 21775.6
C14: Triturado de planta | E14: M3 | F14: 0.83 | G14: =105000*1.1312 -> 118776 | H14: =+F14*G14 -> 98584.08
C15: =+[225]MATERIALES!B11 -> Agua | E15: LT | F15: 180 | G15: =50*1.1312 -> 56.56 | H15: =+F15*G15 -> 10180.8
C20: DESPERDICIO | E20: % | F20: 0 | H20: =G20*F20 -> 0
H21: TOTAL MATERIALES: | I21: =SUM(H12:H16) -> 383929.28
B22: II | C22: MANO DE OBRA
C23: DESCRIPCIÓN | D23: JORNAL | E23: PREST. | F23: REND. | G23: J/TOTAL | H23: V/PARCIAL
C24: 4 AYUDANTES | D24: =38700*4 -> 154800 | E24: 0.85 | F24: 6 | G24: =+D24*(1+E24) -> 286380 | H24: =+G24/F24 -> 47730
C25: 1 OFICIAL | D25: 66700 | E25: =+E24 -> 0.85 | F25: 6 | G25: =+D25*(1+E25) -> 123395 | H25: =+G25/F25 -> 20565.833
H27: TOTAL MANO DE OBRA: | I27: =ROUND(H24+H25,0) -> 68296
B28: III | C28: HERRAMIENTA Y EQUIPO
C29: DESCRIPCIÓN | E29: UND | F29: TARIFA | G29: R/MIENTO | H29: V/PARCIAL
C30: HERRAMIENTA MENOR | H30: =I27*0.1 -> 6829.6
C31: =+[225]MATERIALES!B145 -> Mezcladora de concreto | E31: TROMPO | F31: =10500*1.1413 -> 11983.65 | G31: 0.25 | H31: =+F31*G31 -> 2995.9125
H33: TOTAL HERRAMIENTA Y EQUIPO: | I33: =SUM(H30:H32) -> 9825.5125
B34: IV | C34: TRANSPORTE
C35: MATERIAL | E35: VOL (m3) | F35: DIST (Km) | G35: PESO/(m3/km) | H35: V/UNITARIO
H38: TOTAL TRANSPORTE: | I38: =SUM(H36:H37) -> 0
H40: TOTAL COSTO DIRECTO: | I40: =SUM(I21:I38) -> 462050.79
B41: V | C41: COSTOS INDIRECTOS
C42: DESCRIPCIÓN | E42: PORCENTAJE | G42: V/PARCIAL
C43: ADMINISTRACIÓN | E43: 0 | G43: =E43*I40 -> 0
C44: IMPREVISTOS | E44: 0 | G44: =E44*I40 -> 0
C45: UTILIDAD | E45: 0 | G45: =E45*I40 -> 0
H46: TOTAL COSTO INDIRECTO: | I46: =SUM(G43:G45) -> 0
H48: TOTAL PRECIO UNITARIO: | I48: =ROUND(I46+I40,0) -> 462051
H49: TOTAL PRECIO UNITARIO AJUSTADO AL PESO: | I49: =ROUND(I48,0) -> 462051
C52: =+'PRESUPUESTO GENERAL'!A98 -> ARQ. ANTONIO RUIZ TOVAR
C53: =+'PRESUPUESTO GENERAL'!A99 -> PROFESIONAL ESPECIALIZADO

Sheet MRO 14 
B1: REPÚBLICA DE COLOMBIA
B2: DEPARTAMENTO DEL CAQUETÁ
B3: MUNICIPIO DE FLORENCIA
B4: =+'[224]PRESUPUESTO GENERAL'!A4 -> PRESUPUESTO GENERAL
B5: SECRETARIA DE OBRAS PUBLICAS - SECOBRAS | E5: ANALISIS DE PRECIOS UNITARIOS - PRELIMINARES
B6: =+'CTO D '!B6:I6 -> CONSTRUCCIÓN DE BATERIA SANITARIA PARA LA INSTITUCIÓN EDUCATIVA JORGE ELIECER GAITAN SEDE SIMON BOLIVAR DEL MUNICIPIO DE FLORENCIA, DEPARTAMENTO DEL CAQUETA.
B7: ITEM | C7: MORTERO BASICO 1:4 | H7: UNIDAD: | I7: M3
A10: SEC OBRAS | B10: I | C10: MATERIALES
C11: DESCRIPCIÓN | E11: UND | F11: CANT. | G11: V/UNITARIO | H11: V/PARCIAL
C12: =+[225]MATERIALES!B12 -> Cemento gris | E12: KG | F12: 450 | G12: =640*1.1312 -> 723.968 | H12: =+F12*G12 -> 325785.6
C13: Arena fina | E13: M3 | F13: 1.08 | G13: =60000*1.1312 -> 67872 | H13: =+F13*G13 -> 73301.76
C14: =+[225]MATERIALES!B11 -> Agua | E14: LT | F14: 260 | G14: =50*1.1312 -> 56.56 | H14: =+F14*G14 -> 14705.6
C19: DESPERDICIO
H20: TOTAL MATERIALES: | I20: =ROUND(SUM(H12:H15),0) -> 413793
B21: II | C21: MANO DE OBRA
C22: DESCRIPCIÓN | D22: JORNAL | E22: PREST. | F22: REND. | G22: J/TOTAL | H22: V/PARCIAL
C23: 4 AYUDANTES | D23: =38700*4 -> 154800 | E23: 0.85 | F23: 9 | G23: =+D23*(1+E23) -> 286380 | H23: =+G23/F23 -> 31820
C24: 1 OFICIAL | D24: 66700 | E24: 0.85 | F24: 9 | G24: =+D24*(1+E24) -> 123395 | H24: =ROUND(+G24/F24,0) -> 13711
H25: =G25*F25*E25*D25 -> 0
I26: =ROUND(H23+H24,0) -> 45531
B27: III | C27: HERRAMIENTA Y EQUIPO
C28: DESCRIPCIÓN | E28: UND | F28: TARIFA | G28: R/MIENTO | H28: V/PARCIAL
C29: HERRAMIENTA MENOR | H29: =+I26*10% -> 4553.1
C30: =+[225]MATERIALES!B145 -> Mezcladora de concreto | E30: TROMPO | F30: =10500*1.1413 -> 11983.65 | G30: 0.63 | H30: =ROUND(+F30/G30,0) -> 19022
H32: TOTAL HERRAMIENTA Y EQUIPO: | I32: =ROUND(H29+H30,0) -> 23575
B33: IV | C33: TRANSPORTE
C34: MATERIAL | E34: VOL (m3) | F34: DIST (Km) | G34: PESO/(m3/km) | H34: V/UNITARIO
H37: TOTAL TRANSPORTE: | I37: =SUM(H35:H36) -> 0
H39: TOTAL COSTO DIRECTO: | I39: =SUM(I20:I37) -> 482899
B40: V | C40: COSTOS INDIRECTOS
C41: DESCRIPCIÓN | E41: PORCENTAJE | G41: V/PARCIAL
C42: ADMINISTRACIÓN | E42: 0 | G42: =E42*I39 -> 0
C43: IMPREVISTOS | E43: 0 | G43: =E43*I39 -> 0
C44: UTILIDAD | E44: 0 | G44: =E44*I39 -> 0
H45: TOTAL COSTO INDIRECTO: | I45: =SUM(G42:G44) -> 0
H47: TOTAL PRECIO UNITARIO: | I47: =ROUND(I45+I39,0) -> 482899
H48: TOTAL PRECIO UNITARIO AJUSTADO AL PESO: | I48: =ROUND(I47,0) -> 482899
C51: =+'PRESUPUESTO GENERAL'!A98 -> ARQ. ANTONIO RUIZ TOVAR
C52: =+'PRESUPUESTO GENERAL'!A99 -> PROFESIONAL ESPECIALIZADO

Sheet 1,1
B1: REPÚBLICA DE COLOMBIA
B2: DEPARTAMENTO DEL CAQUETÁ
B3: MUNICIPIO DE FLORENCIA
B4: =+'[224]PRESUPUESTO GENERAL'!A4 -> PRESUPUESTO GENERAL
B5: SECRETARIA DE OBRAS PUBLICAS - SECOBRAS | E5: ANALISIS DE PRECIOS UNITARIOS - PRELIMINARES
B6: =+'MRO 14 '!B6:I6 -> CONSTRUCCIÓN DE BATERIA SANITARIA PARA LA INSTITUCIÓN EDUCATIVA JORGE ELIECER GAITAN SEDE SIMON BOLIVAR DEL MUNICIPIO DE FLORENCIA, DEPARTAMENTO DEL CAQUETA.
B7: ITEM | C7: =+'[224]PRESUPUESTO GENERAL'!B12 -> localizacion y replanteo | H7: UNIDAD: | I7: =+[226]Presupuesto!C200 -> M2
B8: =+'[224]PRESUPUESTO GENERAL'!A12 -> 1.1
A10: SEC OBRAS | B10: I | C10: MATERIALES
C11: DESCRIPCIÓN | E11: UND | F11: CANT. | G11: V/UNITARIO | H11: V/PARCIAL
C12: Varillon 5x5 | E12: ML | F12: 0.1 | G12: =7000*1.1312 -> 7918.4 | H12: =ROUND(G12*F12,0) -> 792
C13: Puntilla puma de 2 1/2" | E13: LB | F13: 0.02 | G13: =3800*1.1312 -> 4298.56 | H13: =ROUND(G13*F13,0) -> 86
C14: alambre de amarre | E14: KG | F14: 0.01 | G14: =8500*1.1312 -> 9615.2 | H14: =ROUND(G14*F14,0) -> 96
C15: piola gruesa rollo 50 ml | E15: UND | F15: 0.06 | G15: =3000*1.1312 -> 3393.6 | H15: =ROUND(G15*F15,0) -> 204
C19: DESPERDICIO | E19: % | F19: 0.05 | G19: =SUM(H11:H18) -> 1178 | H19: =G19*F19 -> 58.9
H20: TOTAL MATERIALES: | I20: =ROUND(SUM(H12:H19),0) -> 1237
B21: II | C21: MANO DE OBRA
C22: DESCRIPCIÓN | D22: JORNAL | E22: PREST. | F22: REND. | G22: J/TOTAL | H22: V/PARCIAL
C23: 2 AYUDANTES | D23: =38700*2 -> 77400 | E23: 0.85 | F23: 100 | G23: =+D23*(1+E23) -> 143190 | H23: =+G23/F23 -> 1431.9
C24: 1. OFICIAL | D24: 66700 | E24: 0.85 | F24: 100 | G24: =+D24*(1+E24) -> 123395 | H24: =+G24/F24 -> 1233.95
H25: =G25*F25*E25*D25 -> 0
H26: TOTAL MANO DE OBRA: | I26: =ROUND(SUM(H23:H25),0) -> 2666
B27: III | C27: HERRAMIENTA Y EQUIPO
C28: DESCRIPCIÓN | E28: UND | F28: TARIFA | G28: R/MIENTO | H28: V/PARCIAL
C29: HERRAMIENTA MENOR | H29: =+I26*10% -> 266.6
H32: TOTAL HERRAMIENTA Y EQUIPO: | I32: 255
B33: IV | C33: TRANSPORTE
C34: MATERIAL | E34: VOL (m3) | F34: DIST (Km) | G34: PESO/(m3/km) | H34: V/UNITARIO
H37: TOTAL TRANSPORTE: | I37: =SUM(H35:H36) -> 0
H39: TOTAL COSTO DIRECTO: | I39: =SUM(I20:I37) -> 4158
B40: V | C40: COSTOS INDIRECTOS
C41: DESCRIPCIÓN | E41: PORCENTAJE | G41: V/PARCIAL
C42: ADMINISTRACIÓN | E42: 0 | G42: =E42*I39 -> 0
C43: IMPREVISTOS | E43: 0 | G43: =E43*I39 -> 0
C44: UTILIDAD | E44: 0 | G44: =E44*I39 -> 0
H45: TOTAL COSTO INDIRECTO: | I45: =SUM(G42:G44) -> 0
H47: TOTAL PRECIO UNITARIO: | I47: =I45+I39 -> 4158
H48: TOTAL PRECIO UNITARIO AJUSTADO AL PESO: | I48: =ROUND(I47,0) -> 4158
C51: =+'MRO 14 '!C51 -> ARQ. ANTONIO RUIZ TOVAR
C52: =+'MRO 14 '!C52 -> PROFESIONAL ESPECIALIZADO

Sheet 1,2 
B1: REPÚBLICA DE COLOMBIA
B2: DEPARTAMENTO DEL CAQUETÁ
B3: MUNICIPIO DE FLORENCIA
B4: =+'[227]PRESUPUESTO GENERAL'!A4 -> #REF!
B5: SECRETARIA DE OBRAS PUBLICAS - SECOBRAS | E5: ANALISIS DE PRECIOS UNITARIOS - PRELIMINARES
B6: =+'[228]1,1'!B6:I6 -> CONSTRUCCION TRAMO DE CERRAMIENTO PERIMETRAL DE LA INSTITUCION EDUCATIVA RURAL SANTANDER DEL MUNICIPIO DE FLORENCIA CAQUETA
B7: ITEM | C7: =+'[228]PRESUPUESTO GENERAL'!B13 -> Cerramiento en tela verde H= 2,00 m | H7: UNIDAD: | I7: =+'[228]PRESUPUESTO GENERAL'!C13 -> M2
B8: =+'[228]PRESUPUESTO GENERAL'!A13 -> 1.2
A10: SEC OBRAS | B10: I | C10: MATERIALES
C11: DESCRIPCIÓN | E11: UND | F11: CANT. | G11: V/UNITARIO | H11: V/PARCIAL
C12: =[229]MATERIALES!B17 -> Tela polisombra verde H = 2,00 m | E12: ML | F12: 1 | G12: =3300*1.1312 -> 3732.96 | H12: =+ROUND(G12*F12,2) -> 3732.96
C13: =[229]MATERIALES!B21 -> Varillon 5x5 | E13: UND | F13: 0.25 | G13: =7000*1.1312 -> 7918.4 | H13: =+ROUND(G13*F13,2) -> 1979.6
C14: =[229]MATERIALES!B22 -> Puntilla puma 2 1/2" | E14: LB | F14: 0.01 | G14: =3800*1.1312 -> 4298.56 | H14: =+ROUND(G14*F14,0) -> 43
C15: Alambre de amarre | E15: KG | F15: 0.05 | G15: =8500*1.1312 -> 9615.2 | H15: =+ROUND(G15*F15,2) -> 480.76
C19: DESPERDICIO | E19: % | F19: 0.05 | G19: =SUM(H11:H18) -> 6236.32 | H19: =G19*F19 -> 311.816
H20: TOTAL MATERIALES: | I20: =ROUND(SUM(H12:H19),0) -> 6548
B21: II | C21: MANO DE OBRA
C22: DESCRIPCIÓN | D22: JORNAL | E22: PREST. | F22: REND. | G22: J/TOTAL | H22: V/PARCIAL
C23: 4 Ayudantes | D23: =38700*4 -> 154800 | E23: 0.85 | F23: 100 | G23: =+D23*(1+E23) -> 286380 | H23: =+G23/F23 -> 2863.8 | M23: =D23/4 -> 38700
H25: =G25*F25*E25*D25 -> 0
H26: TOTAL MANO DE OBRA: | I26: =ROUND(SUM(H23:H25),0) -> 2864
B27: III | C27: HERRAMIENTA Y EQUIPO
C28: DESCRIPCIÓN | E28: UND | F28: TARIFA | G28: R/MIENTO | H28: V/PARCIAL
C29: HERRAMIENTA MENOR | H29: =+I26*10% -> 286.4
H32: TOTAL HERRAMIENTA Y EQUIPO: | I32: =ROUND(SUM(H29:H31),0) -> 286
B33: IV | C33: TRANSPORTE
C34: MATERIAL | E34: VOL (m3) | F34: DIST (Km) | G34: PESO/(m3/km) | H34: V/UNITARIO
H37: TOTAL TRANSPORTE: | I37: =SUM(H35:H36) -> 0
H39: TOTAL COSTO DIRECTO: | I39: =SUM(I20:I37) -> 9698
B40: V | C40: COSTOS INDIRECTOS
C41: DESCRIPCIÓN | E41: PORCENTAJE | G41: V/PARCIAL
C42: ADMINISTRACIÓN | E42: 0 | G42: =E42*I39 -> 0
C43: IMPREVISTOS | E43: 0 | G43: =E43*I39 -> 0
C44: UTILIDAD | E44: 0 | G44: =E44*I39 -> 0
H45: TOTAL COSTO INDIRECTO: | I45: =SUM(G42:G44) -> 0
H47: TOTAL PRECIO UNITARIO: | I47: =I45+I39 -> 9698
H48: TOTAL PRECIO UNITARIO AJUSTADO AL PESO: | I48: =+I47 -> 9698
C52: =+'1,1'!C51 -> ARQ. ANTONIO RUIZ TOVAR
C53: =+'1,1'!C52 -> PROFESIONAL ESPECIALIZADO

Sheet 1,3
B1: REPÚBLICA DE COLOMBIA
B2: DEPARTAMENTO DEL CAQUETÁ
B3: MUNICIPIO DE FLORENCIA
B4: =+'PRESUPUESTO GENERAL'!A4 -> PRESUPUESTO GENERAL
B5: SECRETARIA DE OBRAS PUBLICAS - SECOBRAS | E5: ANALISIS DE PRECIOS UNITARIOS - PRELIMINARES
B6: =+'1,1'!B6:I6 -> CONSTRUCCIÓN DE BATERIA SANITARIA PARA LA INSTITUCIÓN EDUCATIVA JORGE ELIECER GAITAN SEDE SIMON BOLIVAR DEL MUNICIPIO DE FLORENCIA, DEPARTAMENTO DEL CAQUETA.
B7: ITEM | C7: =+'PRESUPUESTO GENERAL'!B14 -> Demolición placas macizas graderia (Inc. Ret de Escomb) | H7: UNIDAD: | I7: =+'PRESUPUESTO GENERAL'!C14 -> M3
B8: =+'PRESUPUESTO GENERAL'!A14 -> 1.3
A10: SEC OBRAS | B10: I | C10: MATERIALES
C11: DESCRIPCIÓN | E11: UND | F11: CANT. | G11: V/UNITARIO | H11: V/PARCIAL
C19: DESPERDICIO | E19: % | F19: 0.05 | G19: =SUM(H11:H18) -> 0 | H19: =G19*F19 -> 0
H20: TOTAL MATERIALES: | I20: =ROUND(SUM(H12:H19),0) -> 0
B21: II | C21: MANO DE OBRA
C22: DESCRIPCIÓN | D22: JORNAL | E22: PREST. | F22: REND. | G22: J/TOTAL | H22: V/PARCIAL
C23: 4 Ayudantes | D23: =38700*4 -> 154800 | E23: 0.85 | F23: 3 | G23: =ROUND(+D23*(1+E23),0) -> 286380 | H23: =+G23/F23 -> 95460
H25: =G25*F25*E25*D25 -> 0
H26: TOTAL MANO DE OBRA: | I26: =ROUND(SUM(H23:H25),0) -> 95460
B27: III | C27: HERRAMIENTA Y EQUIPO
C28: DESCRIPCIÓN | E28: UND | F28: TARIFA | G28: R/MIENTO | H28: V/PARCIAL
C29: HERRAMIENTA MENOR | E29: Manual | H29: =+I26*10% -> 9546
C30: Volqueta 5 m3 | F30: =75000*1.1413 -> 85597.5 | G30: 3 | H30: =F30/G30 -> 28532.5
H32: TOTAL HERRAMIENTA Y EQUIPO: | I32: =ROUND(SUM(H29:H31),0) -> 38079
B33: IV | C33: TRANSPORTE
C34: MATERIAL | E34: VOL (m3) | F34: DIST (Km) | G34: PESO/(m3/km) | H34: V/UNITARIO
H37: TOTAL TRANSPORTE: | I37: =SUM(H35:H36) -> 0
H39: TOTAL COSTO DIRECTO: | I39: =SUM(I20:I37) -> 133539
B40: V | C40: COSTOS INDIRECTOS
C41: DESCRIPCIÓN | E41: PORCENTAJE | G41: V/PARCIAL
C42: ADMINISTRACIÓN | E42: 0 | G42: =E42*I39 -> 0
C43: IMPREVISTOS | E43: 0 | G43: =E43*I39 -> 0
C44: UTILIDAD | E44: 0 | G44: =E44*I39 -> 0
H45: TOTAL COSTO INDIRECTO: | I45: =SUM(G42:G44) -> 0
H47: TOTAL PRECIO UNITARIO: | I47: =I45+I39 -> 133539
H48: TOTAL PRECIO UNITARIO AJUSTADO AL PESO: | I48: =+I47 -> 133539
C52: =+'1,2 '!C52 -> ARQ. ANTONIO RUIZ TOVAR
C53: =+'1,2 '!C53 -> PROFESIONAL ESPECIALIZADO

Sheet 2,1
B1: REPÚBLICA DE COLOMBIA
B2: DEPARTAMENTO DEL CAQUETÁ
B3: MUNICIPIO DE FLORENCIA
B4: =+'PRESUPUESTO GENERAL'!A4 -> PRESUPUESTO GENERAL
B5: SECRETARIA DE OBRAS PUBLICAS - SECOBRAS | E5: ANALISIS DE PRECIOS UNITARIOS - EXCAVACIONES
B6: =+'1,3'!B6:I6 -> CONSTRUCCIÓN DE BATERIA SANITARIA PARA LA INSTITUCIÓN EDUCATIVA JORGE ELIECER GAITAN SEDE SIMON BOLIVAR DEL MUNICIPIO DE FLORENCIA, DEPARTAMENTO DEL CAQUETA.
B7: ITEM | C7: =+'PRESUPUESTO GENERAL'!B17 -> Excav. Manual ( Mat. Com y cong. Inc. Ret. De escombros ) | H7: UNIDAD: | I7: =+'PRESUPUESTO GENERAL'!C17 -> M3
B8: =+'PRESUPUESTO GENERAL'!A17 -> 2.1
A10: SEC OBRAS | B10: I | C10: MATERIALES
C11: DESCRIPCIÓN | E11: UND | F11: CANT. | G11: V/UNITARIO | H11: V/PARCIAL
C19: DESPERDICIO | E19: % | F19: 0.05 | G19: =SUM(H11:H18) -> 0 | H19: =G19*F19 -> 0
H20: TOTAL MATERIALES: | I20: =SUM(H12:H19) -> 0
B21: II | C21: MANO DE OBRA
C22: DESCRIPCIÓN | D22: JORNAL | E22: PREST. | F22: REND. | G22: J/TOTAL | H22: V/PARCIAL
C23: 4 AYUDANTES | D23: =38700*4 -> 154800 | E23: 0.85 | F23: 12 | G23: =ROUND(+D23*(1+E23),0) -> 286380 | H23: =+G23/F23 -> 23865
H25: =G25*F25*E25*D25 -> 0
H26: TOTAL MANO DE OBRA: | I26: =ROUND(SUM(H23:H25),0) -> 23865
B27: III | C27: HERRAMIENTA Y EQUIPO
C28: DESCRIPCIÓN | E28: UND | F28: TARIFA | G28: R/MIENTO | H28: V/PARCIAL
C29: HERRAMIENTA MENOR | E29: MANUAL | H29: =I26*0.1 -> 2386.5
C30: Volqueta 5 m3 | F30: =75000*1.1312 -> 84840 | G30: 4.5 | H30: =F30/G30 -> 18853.333
H32: TOTAL HERRAMIENTA Y EQUIPO: | I32: =ROUND(SUM(H29:H31),0) -> 21240
B33: IV | C33: TRANSPORTE
C34: MATERIAL | E34: VOL (m3) | F34: DIST (Km) | G34: PESO/(m3/km) | H34: V/UNITARIO
H37: TOTAL TRANSPORTE: | I37: =SUM(H35:H36) -> 0
H39: TOTAL COSTO DIRECTO: | I39: =ROUND(SUM(I20:I37),0) -> 45105
B40: V | C40: COSTOS INDIRECTOS
C41: DESCRIPCIÓN | E41: PORCENTAJE | G41: V/PARCIAL
C42: ADMINISTRACIÓN | E42: 0 | G42: =E42*I39 -> 0
C43: IMPREVISTOS | E43: 0 | G43: =E43*I39 -> 0
C44: UTILIDAD | E44: 0 | G44: =E44*I39 -> 0
H45: TOTAL COSTO INDIRECTO: | I45: =SUM(G42:G44) -> 0
H47: TOTAL PRECIO UNITARIO: | I47: =I45+I39 -> 45105
H48: TOTAL PRECIO UNITARIO AJUSTADO AL PESO: | I48: =+I47 -> 45105
C51: =+'1,3'!C52 -> ARQ. ANTONIO RUIZ TOVAR
C52: =+'1,3'!C53 -> PROFESIONAL ESPECIALIZADO

Sheet 2,2
B1: REPÚBLICA DE COLOMBIA
B2: DEPARTAMENTO DEL CAQUETÁ
B3: MUNICIPIO DE FLORENCIA
B4: =+'PRESUPUESTO GENERAL'!A4 -> PRESUPUESTO GENERAL
B5: SECRETARIA DE OBRAS PUBLICAS - SECOBRAS | E5: ANALISIS DE PRECIOS UNITARIOS - EXCAVACIONES
B6: =+'2,1'!B6:I6 -> CONSTRUCCIÓN DE BATERIA SANITARIA PARA LA INSTITUCIÓN EDUCATIVA JORGE ELIECER GAITAN SEDE SIMON BOLIVAR DEL MUNICIPIO DE FLORENCIA, DEPARTAMENTO DEL CAQUETA.
B7: ITEM | C7: =+'PRESUPUESTO GENERAL'!B18 -> Relleno manual con material selec. de excav ( Inc. Compactacion equipo rana ) | H7: UNIDAD: | I7: =+'PRESUPUESTO GENERAL'!C18 -> M3
B8: =+'PRESUPUESTO GENERAL'!A18 -> 2.2
A10: SEC OBRAS | B10: I | C10: MATERIALES
C11: DESCRIPCIÓN | E11: UND | F11: CANT. | G11: V/UNITARIO | H11: V/PARCIAL
C19: DESPERDICIO | E19: % | F19: 0.05 | G19: =SUM(H11:H18) -> 0 | H19: =G19*F19 -> 0
H20: TOTAL MATERIALES: | I20: =SUM(H12:H19) -> 0
B21: II | C21: MANO DE OBRA
C22: DESCRIPCIÓN | D22: JORNAL | E22: PREST. | F22: REND. | G22: J/TOTAL | H22: V/PARCIAL
C23: 3 AYUDANTES | D23: =38700*3 -> 116100 | E23: 0.85 | F23: 12 | G23: =+D23*(1+E23) -> 214785 | H23: =ROUND(+G23/F23,0) -> 17899
H25: =G25*F25*E25*D25 -> 0
H26: TOTAL MANO DE OBRA: | I26: =SUM(H23:H25,0) -> 17899
B27: III | C27: HERRAMIENTA Y EQUIPO
C28: DESCRIPCIÓN | E28: UND | F28: TARIFA | G28: R/MIENTO | H28: V/PARCIAL
C29: HERRAMIENTA MENOR | E29: MANUAL | H29: =I26*0.1 -> 1789.9
C30: Vibrocp. Manual (Rana) | F30: 50000 | G30: 12 | H30: =F30/G30 -> 4166.6667
H32: TOTAL HERRAMIENTA Y EQUIPO: | I32: =ROUND(SUM(H29:H31),0) -> 5957
B33: IV | C33: TRANSPORTE
C34: MATERIAL | E34: VOL (m3) | F34: DIST (Km) | G34: PESO/(m3/km) | H34: V/UNITARIO
H37: TOTAL TRANSPORTE: | I37: =SUM(H35:H36) -> 0
H39: TOTAL COSTO DIRECTO: | I39: =ROUND(SUM(I20:I37),0) -> 23856
B40: V | C40: COSTOS INDIRECTOS
C41: DESCRIPCIÓN | E41: PORCENTAJE | G41: V/PARCIAL
C42: ADMINISTRACIÓN | E42: 0 | G42: =E42*I39 -> 0
C43: IMPREVISTOS | E43: 0 | G43: =E43*I39 -> 0
C44: UTILIDAD | E44: 0 | G44: =E44*I39 -> 0
H45: TOTAL COSTO INDIRECTO: | I45: =SUM(G42:G44) -> 0
H47: TOTAL PRECIO UNITARIO: | I47: =I45+I39 -> 23856
H48: TOTAL PRECIO UNITARIO AJUSTADO AL PESO: | I48: =+I47 -> 23856
C51: =+'2,1'!C51 -> ARQ. ANTONIO RUIZ TOVAR
C52: =+'2,1'!C52 -> PROFESIONAL ESPECIALIZADO

Sheet 3,1 
B1: REPÚBLICA DE COLOMBIA
B2: DEPARTAMENTO DEL CAQUETÁ
B3: MUNICIPIO DE FLORENCIA
B4: =+'[227]PRESUPUESTO GENERAL'!A4 -> #REF!
B5: SECRETARIA DE OBRAS PUBLICAS - SECOBRAS | E5: ANALISIS DE PRECIOS UNITARIOS - ESTRUCTURA
B6: OBRA: CONSTRUCCION TRAMO DE CERRAMIENTO PERIMETRAL DEL INSTITUTO TECNICO INDUSTRIAL SEDE LA LIBERTAD DEL MUNICIPIO DE FLORENCIA CAQUETA
B7: ITEM | C7: =+'PRESUPUESTO GENERAL'!B21 -> Zapatas aisladas de 1,00x1,00x0,3 ref 1/2 c/0,15 mts incluye solado | H7: UNIDAD: | I7: =+'PRESUPUESTO GENERAL'!C21 -> UND
B8: =+'PRESUPUESTO GENERAL'!A21 -> 3.1
A10: SEC OBRAS | B10: I | C10: MATERIALES
C11: DESCRIPCIÓN | E11: UND | F11: CANT. | G11: V/UNITARIO | H11: V/PARCIAL
C12: Concreto clase D - (f´c= 210 kg/cm2). | E12: M3 | F12: 0.3 | G12: =+'CTO D '!I48 -> 462051 | H12: =ROUND(F12*G12,0) -> 138615
C13: Acero de refuerzo | E13: KG | F13: 15.53 | G13: =5600*1.1312 -> 6334.72 | H13: =ROUND(F13*G13,0) -> 98378
C14: Alambre negro | E14: KG | F14: 0.22 | G14: =8500*1.1312 -> 9615.2 | H14: =F14*G14 -> 2115.344
C19: DESPERDICIO | E19: % | F19: 0.05 | G19: =SUM(H11:H18) -> 239108.34 | H19: =ROUND(G19*F19,0) -> 11955
H20: TOTAL MATERIALES: | I20: =ROUND(SUM(H12:H19),0) -> 251063
B21: II | C21: MANO DE OBRA
C22: DESCRIPCIÓN | D22: JORNAL | E22: PREST. | F22: REND. | G22: J/TOTAL | H22: V/PARCIAL
C23: 3 AYUDANTES | D23: =38700*3 -> 116100 | E23: 0.85 | F23: 3 | G23: =+D23*(1+E23) -> 214785 | H23: =ROUND(+G23/F23,0) -> 71595
C24: 1 OFICIAL | D24: 66700 | E24: 0.85 | F24: 3 | G24: =+D24*(1+E24) -> 123395 | H24: =ROUND(+G24/F24,0) -> 41132
H25: =G25*F25*E25*D25 -> 0
H26: TOTAL MANO DE OBRA: | I26: =SUM(H23:H25,0) -> 112727
B27: III | C27: HERRAMIENTA Y EQUIPO
C28: DESCRIPCIÓN | E28: UND | F28: TARIFA | G28: R/MIENTO | H28: V/PARCIAL
C29: HERRAMIENTA MENOR | E29: MANUAL | H29: =I26*0.1 -> 11272.7
C30: VIBRADOR DE CONCRETO | E30: HORA | F30: 10000 | G30: 10 | H30: =F30/G30 -> 1000
H32: TOTAL HERRAMIENTA Y EQUIPO: | I32: =SUM(H29:H31) -> 12272.7
B33: IV | C33: TRANSPORTE
C34: MATERIAL | E34: VOL (m3) | F34: DIST (Km) | G34: PESO/(m3/km) | H34: V/UNITARIO
H37: TOTAL TRANSPORTE: | I37: =SUM(H35:H36) -> 0
H39: TOTAL COSTO DIRECTO: | I39: =SUM(I20:I37) -> 376062.7
B40: V | C40: COSTOS INDIRECTOS
C41: DESCRIPCIÓN | E41: PORCENTAJE | G41: V/PARCIAL
C42: ADMINISTRACIÓN | E42: 0 | G42: =E42*I39 -> 0
C43: IMPREVISTOS | E43: 0 | G43: =E43*I39 -> 0
C44: UTILIDAD | E44: 0 | G44: =E44*I39 -> 0
H45: TOTAL COSTO INDIRECTO: | I45: =SUM(G42:G44) -> 0
H47: TOTAL PRECIO UNITARIO: | I47: =I45+I39 -> 376062.7
H48: TOTAL PRECIO UNITARIO AJUSTADO AL PESO: | I48: =+I47 -> 376062.7
C51: =+'2,2'!C51 -> ARQ. ANTONIO RUIZ TOVAR
C52: =+'2,2'!C52 -> PROFESIONAL ESPECIALIZADO

Sheet 3,2
B1: REPÚBLICA DE COLOMBIA
B2: DEPARTAMENTO DEL CAQUETÁ
B3: MUNICIPIO DE FLORENCIA
B4: =+'PRESUPUESTO GENERAL'!A4 -> PRESUPUESTO GENERAL
B5: SECRETARIA DE OBRAS PUBLICAS - SECOBRAS | E5: ANALISIS DE PRECIOS UNITARIOS - ESTRUCTURA
B6: =+'2,2'!B6:I6 -> CONSTRUCCIÓN DE BATERIA SANITARIA PARA LA INSTITUCIÓN EDUCATIVA JORGE ELIECER GAITAN SEDE SIMON BOLIVAR DEL MUNICIPIO DE FLORENCIA, DEPARTAMENTO DEL CAQUETA.
B7: ITEM | C7: =+'PRESUPUESTO GENERAL'!B22 -> Viga riostra cto 3000 P.S.I. 0,25*0,25 ref 4 No 4, E No 3C/0,15 | H7: UNIDAD: | I7: =+'PRESUPUESTO GENERAL'!C22 -> ML
B8: =+'PRESUPUESTO GENERAL'!A22 -> 3.2
A10: SEC OBRAS | B10: I | C10: MATERIALES
C11: DESCRIPCIÓN | E11: UND | F11: CANT. | G11: V/UNITARIO | H11: V/PARCIAL
C12: Concreto basico 1,2,3 | E12: M3 | F12: 0.062 | G12: =+'CTO D '!I49 -> 462051 | H12: =ROUND(F12*G12,0) -> 28647
C13: Acero de refuerzo | E13: KG | F13: 3.976 | G13: =5600*1.1312 -> 6334.72 | H13: =ROUND(F13*G13,0) -> 25187
C14: Acero de refuerzo ( flejes ) | E14: KG | F14: 2.688 | G14: =5600*1.1312 -> 6334.72 | H14: =ROUND(F14*G14,0) -> 17028
C15: Tabla para formaleta de 0,25*0,25 m | E15: UND | F15: 0.5 | G15: =20500*1.1312 -> 23189.6 | H15: =ROUND(F15*G15,0) -> 11595
C16: Varillon 5x5 | E16: UND | F16: 0.83 | G16: =7000*1.1312 -> 7918.4 | H16: =ROUND(F16*G16,0) -> 6572
C17: Puntilla | E17: LIBRA | F17: 0.1 | G17: =3800*1.1312 -> 4298.56 | H17: =ROUND(F17*G17,0) -> 430
C18: Alambre de amarre | E18: KG | F18: 0.1 | G18: =8500*1.1312 -> 9615.2 | H18: =ROUND(F18*G18,0) -> 962
C19: DESPERDICIO | E19: % | F19: 0.05 | G19: =SUM(H11:H18) -> 90421 | H19: =ROUND(G19*F19,0) -> 4521
H20: TOTAL MATERIALES: | I20: =SUM(H12:H19) -> 94942
B21: II | C21: MANO DE OBRA
C22: DESCRIPCIÓN | D22: JORNAL | E22: PREST. | F22: REND. | G22: J/TOTAL | H22: V/PARCIAL
C23: 4 AYUDANTES | D23: =38700*4 -> 154800 | E23: 0.85 | F23: 20 | G23: =+D23*(1+E23) -> 286380 | H23: =ROUND(+G23/F23,0) -> 14319
C24: 1 OFICIAL | D24: 66700 | E24: 0.85 | F24: 20 | G24: =ROUND(+D24*(1+E24),0) -> 123395 | H24: =ROUND(+G24/F24,0) -> 6170
H25: =G25*F25*E25*D25 -> 0
H26: TOTAL MANO DE OBRA: | I26: =SUM(H23:H25,0) -> 20489
B27: III | C27: HERRAMIENTA Y EQUIPO
C28: DESCRIPCIÓN | E28: UND | F28: TARIFA | G28: R/MIENTO | H28: V/PARCIAL
C29: HERRAMIENTA MENOR | E29: MANUAL | H29: =I26*0.1 -> 2048.9
C30: Vibrador de concreto | F30: 10.156 | G30: 20 | H30: 508
H32: TOTAL HERRAMIENTA Y EQUIPO: | I32: =ROUND(SUM(H29:H31),0) -> 2557
B33: IV | C33: TRANSPORTE
C34: MATERIAL | E34: VOL (m3) | F34: DIST (Km) | G34: PESO/(m3/km) | H34: V/UNITARIO
H37: TOTAL TRANSPORTE: | I37: =SUM(H35:H36) -> 0
H39: TOTAL COSTO DIRECTO: | I39: =SUM(I20:I37) -> 117988
B40: V | C40: COSTOS INDIRECTOS
C41: DESCRIPCIÓN | E41: PORCENTAJE | G41: V/PARCIAL
C42: ADMINISTRACIÓN | E42: 0 | G42: =E42*I39 -> 0
C43: IMPREVISTOS | E43: 0 | G43: =E43*I39 -> 0
C44: UTILIDAD | E44: 0 | G44: =E44*I39 -> 0
H45: TOTAL COSTO INDIRECTO: | I45: =SUM(G42:G44) -> 0
...

Sheet 3,3 
B1: REPÚBLICA DE COLOMBIA
B2: DEPARTAMENTO DEL CAQUETÁ
B3: MUNICIPIO DE FLORENCIA
B4: =+'PRESUPUESTO GENERAL'!A4 -> PRESUPUESTO GENERAL
B5: SECRETARIA DE OBRAS PUBLICAS - SECOBRAS | E5: =+'3,2'!E5:I5 -> ANALISIS DE PRECIOS UNITARIOS - ESTRUCTURA
B6: =+'3,2'!B6:I6 -> CONSTRUCCIÓN DE BATERIA SANITARIA PARA LA INSTITUCIÓN EDUCATIVA JORGE ELIECER GAITAN SEDE SIMON BOLIVAR DEL MUNICIPIO DE FLORENCIA, DEPARTAMENTO DEL CAQUETA.
B7: ITEM | C7: =+'PRESUPUESTO GENERAL'!B23 -> Viga de amarre cto 3000 P.S.I. 0,25*0,25 ref 4 No 4 E No. 3 C/0,15 | H7: UNIDAD: | I7: =+'PRESUPUESTO GENERAL'!C23 -> ML
B8: =+'PRESUPUESTO GENERAL'!A23 -> 3.3
A10: SEC OBRAS | B10: I | C10: MATERIALES
C11: DESCRIPCIÓN | E11: UND | F11: CANT. | G11: V/UNITARIO | H11: V/PARCIAL
C12: =+'CTO D '!C7 -> CONCRETO BASICO CLASE D | E12: M3 | F12: 0.062 | G12: =+'CTO D '!I48 -> 462051 | H12: =ROUND(F12*G12,0) -> 28647
C13: Acero de refuerzo | E13: KG | F13: 3.976 | G13: =5600*1.1312 -> 6334.72 | H13: =ROUND(F13*G13,0) -> 25187
C14: Acero de refuerzo ( flejes ) | E14: KG | F14: 2.68 | G14: =5600*1.1312 -> 6334.72 | H14: =ROUND(F14*G14,0) -> 16977
C15: Tabla para formaleta de 0,25*0,25 m | E15: UND | F15: 0.85 | G15: =20500*1.1312 -> 23189.6 | H15: =ROUND(F15*G15,0) -> 19711
C16: Varillon 5x5 | E16: UND | F16: 1.4 | G16: =7000*1.1312 -> 7918.4 | H16: =ROUND(F16*G16,0) -> 11086
C17: Puntilla | E17: LIBRA | F17: 1 | G17: =3800*1.1312 -> 4298.56 | H17: =ROUND(F17*G17,0) -> 4299
C18: Alambre de amarre | E18: KG | F18: 1 | G18: =8500*1.1312 -> 9615.2 | H18: =ROUND(F18*G18,0) -> 9615
C19: DESPERDICIO | E19: % | F19: 0.05 | G19: =SUM(H11:H18) -> 115522 | H19: =ROUND(G19*F19,0) -> 5776
H20: TOTAL MATERIALES: | I20: =ROUND(SUM(H12:H19),0) -> 121298
B21: II | C21: MANO DE OBRA
C22: DESCRIPCIÓN | D22: JORNAL | E22: PREST. | F22: REND. | G22: J/TOTAL | H22: V/PARCIAL
C23: 4 AYUDANTES | D23: =38700*4 -> 154800 | E23: 0.85 | F23: 18 | G23: =+D23*(1+E23) -> 286380 | H23: =ROUND(+G23/F23,0) -> 15910
C24: 1 OFICIAL | D24: 66700 | E24: 0.85 | F24: 18 | G24: =+D24*(1+E24) -> 123395 | H24: =ROUND(+G24/F24,0) -> 6855
H25: =G25*F25*E25*D25 -> 0
H26: TOTAL MANO DE OBRA: | I26: =SUM(H23:H25,0) -> 22765
B27: III | C27: HERRAMIENTA Y EQUIPO
C28: DESCRIPCIÓN | E28: UND | F28: TARIFA | G28: R/MIENTO | H28: V/PARCIAL
C29: HERRAMIENTA MENOR | E29: MANUAL | H29: =I26*0.1 -> 2276.5
C30: Vibrador de concreto | F30: 10.156 | G30: 18 | H30: 564
H32: TOTAL HERRAMIENTA Y EQUIPO: | I32: =SUM(H29:H31) -> 2840.5
B33: IV | C33: TRANSPORTE
C34: MATERIAL | E34: VOL (m3) | F34: DIST (Km) | G34: PESO/(m3/km) | H34: V/UNITARIO
H37: TOTAL TRANSPORTE: | I37: =SUM(H35:H36) -> 0
H39: TOTAL COSTO DIRECTO: | I39: =SUM(I20:I37) -> 146903.5
B40: V | C40: COSTOS INDIRECTOS
C41: DESCRIPCIÓN | E41: PORCENTAJE | G41: V/PARCIAL
C42: ADMINISTRACIÓN | E42: 0 | G42: =E42*I39 -> 0
C43: IMPREVISTOS | E43: 0 | G43: =E43*I39 -> 0
C44: UTILIDAD | E44: 0 | G44: =E44*I39 -> 0
H45: TOTAL COSTO INDIRECTO: | I45: =SUM(G42:G44) -> 0
...

Sheet 3,4 
B1: REPÚBLICA DE COLOMBIA
B2: DEPARTAMENTO DEL CAQUETÁ
B3: MUNICIPIO DE FLORENCIA
B4: =+'PRESUPUESTO GENERAL'!A4 -> PRESUPUESTO GENERAL
B5: SECRETARIA DE OBRAS PUBLICAS - SECOBRAS | E5: =+'3,3 '!E5:I5 -> ANALISIS DE PRECIOS UNITARIOS - ESTRUCTURA
B6: =+'3,3 '!B6:I6 -> CONSTRUCCIÓN DE BATERIA SANITARIA PARA LA INSTITUCIÓN EDUCATIVA JORGE ELIECER GAITAN SEDE SIMON BOLIVAR DEL MUNICIPIO DE FLORENCIA, DEPARTAMENTO DEL CAQUETA.
B7: ITEM | C7: =+'PRESUPUESTO GENERAL'!B24 -> Columnas cto 3000 P.S.I. 0,25*0,25 ref 4 No 4, E No 3C/0,15 | H7: UNIDAD: | I7: =+'PRESUPUESTO GENERAL'!C24 -> ML
B8: =+'PRESUPUESTO GENERAL'!A24 -> 3.4
A10: SEC OBRAS | B10: I | C10: MATERIALES
C11: DESCRIPCIÓN | E11: UND | F11: CANT. | G11: V/UNITARIO | H11: V/PARCIAL
C12: Concreto basico 1,2,3 | E12: M3 | F12: 0.06 | G12: =+'CTO D '!I48 -> 462051 | H12: =ROUND(F12*G12,0) -> 27723
C13: Acero de refuerzo | E13: KG | F13: 3.976 | G13: =5600*1.1312 -> 6334.72 | H13: =ROUND(F13*G13,0) -> 25187
C14: Acero de refuerzo ( flejes ) | E14: KG | F14: 2.68 | G14: =5600*1.1312 -> 6334.72 | H14: =ROUND(F14*G14,0) -> 16977
C15: Tabla para formaleta de 0,20*0,30 m | E15: UND | F15: 1.5 | G15: =14500*1.1312 -> 16402.4 | H15: =ROUND(F15*G15,0) -> 24604
C16: Varillon 5x5 | E16: UND | F16: 1.6 | G16: =7000*1.1312 -> 7918.4 | H16: =ROUND(F16*G16,0) -> 12669
C17: Puntilla | E17: LIBRA | F17: 1 | G17: =3800*1.1312 -> 4298.56 | H17: =ROUND(F17*G17,0) -> 4299
C18: Alambre de amarre | E18: KG | F18: 1 | G18: =8500*1.1312 -> 9615.2 | H18: =ROUND(F18*G18,0) -> 9615
C19: DESPERDICIO | E19: % | F19: 0.05 | G19: =SUM(H11:H18) -> 121074 | H19: =ROUND(G19*F19,0) -> 6054
H20: TOTAL MATERIALES: | I20: =SUM(H12:H19) -> 127128
B21: II | C21: MANO DE OBRA
C22: DESCRIPCIÓN | D22: JORNAL | E22: PREST. | F22: REND. | G22: J/TOTAL | H22: V/PARCIAL
C23: 4 AYUDANTES | D23: =38700*4 -> 154800 | E23: 0.85 | F23: 17 | G23: =+D23*(1+E23) -> 286380 | H23: =ROUND(+G23/F23,0) -> 16846
C24: 1 OFICIAL | D24: 66700 | E24: 0.85 | F24: 17 | G24: =+D24*(1+E24) -> 123395 | H24: =ROUND(+G24/F24,0) -> 7259
H25: =G25*F25*E25*D25 -> 0
H26: TOTAL MANO DE OBRA: | I26: =SUM(H23:H25,0) -> 24105
B27: III | C27: HERRAMIENTA Y EQUIPO
C28: DESCRIPCIÓN | E28: UND | F28: TARIFA | G28: R/MIENTO | H28: V/PARCIAL
C29: HERRAMIENTA MENOR | E29: MANUAL | H29: =I26*0.1 -> 2410.5
C30: Vibrador de concreto | F30: 10.156 | G30: 18 | H30: 564
H32: TOTAL HERRAMIENTA Y EQUIPO: | I32: =ROUND(SUM(H29:H31),0) -> 2975
B33: IV | C33: TRANSPORTE
C34: MATERIAL | E34: VOL (m3) | F34: DIST (Km) | G34: PESO/(m3/km) | H34: V/UNITARIO
H37: TOTAL TRANSPORTE: | I37: =SUM(H35:H36) -> 0
H39: TOTAL COSTO DIRECTO: | I39: =SUM(I20:I37) -> 154208
B40: V | C40: COSTOS INDIRECTOS
C41: DESCRIPCIÓN | E41: PORCENTAJE | G41: V/PARCIAL
C42: ADMINISTRACIÓN | E42: 0 | G42: =E42*I39 -> 0
C43: IMPREVISTOS | E43: 0 | G43: =E43*I39 -> 0
C44: UTILIDAD | E44: 0 | G44: =E44*I39 -> 0
H45: TOTAL COSTO INDIRECTO: | I45: =SUM(G42:G44) -> 0
...

Sheet  3,5
B1: REPÚBLICA DE COLOMBIA
B2: DEPARTAMENTO DEL CAQUETÁ
B3: MUNICIPIO DE FLORENCIA
B4: =+'PRESUPUESTO GENERAL'!A4 -> PRESUPUESTO GENERAL
B5: SECRETARIA DE OBRAS PUBLICAS - SECOBRAS | E5: =+'3,3 '!E5:I5 -> ANALISIS DE PRECIOS UNITARIOS - ESTRUCTURA
B6: =+'3,3 '!B6:I6 -> CONSTRUCCIÓN DE BATERIA SANITARIA PARA LA INSTITUCIÓN EDUCATIVA JORGE ELIECER GAITAN SEDE SIMON BOLIVAR DEL MUNICIPIO DE FLORENCIA, DEPARTAMENTO DEL CAQUETA.
B7: ITEM | C7: =+'PRESUPUESTO GENERAL'!B25 -> viga cinta en concreto de 0,1 x 0,15 | H7: UNIDAD: | I7: =+'PRESUPUESTO GENERAL'!C24 -> ML
B8: =+'PRESUPUESTO GENERAL'!A25 -> 3.5
A10: SEC OBRAS | B10: I | C10: MATERIALES
C11: DESCRIPCIÓN | E11: UND | F11: CANT. | G11: V/UNITARIO | H11: V/PARCIAL
C12: =+'CTO D '!C7 -> CONCRETO BASICO CLASE D | E12: M3 | F12: 0.015 | G12: =+'CTO D '!I48 -> 462051 | H12: =ROUND(F12*G12,0) -> 6931
C13: Acero de refuerzo | E13: KG | F13: 3.976 | G13: =5600*1.1413 -> 6391.28 | H13: =ROUND(F13*G13,0) -> 25412
C14: Acero de refuerzo ( flejes ) | E14: KG | F14: 1.96 | G14: =5600*1.1415 -> 6392.4 | H14: =ROUND(F14*G14,0) -> 12529
C15: Tabla para formaleta de 0,20*0,30 m | E15: UND | F15: 0.8 | G15: =14500*1.1413 -> 16548.85 | H15: =ROUND(F15*G15,0) -> 13239
C16: Puntilla | E16: LIBRA | F16: 1 | G16: =3800*1.1413 -> 4336.94 | H16: =ROUND(F16*G16,0) -> 4337
C17: Alambre de amarre | E17: KG | F17: 1 | G17: =8500*1.1413 -> 9701.05 | H17: =ROUND(F17*G17,0) -> 9701
C18: DESPERDICIO | E18: % | F18: 0.05 | G18: =SUM(H11:H17) -> 72149 | H18: =ROUND(G18*F18,0) -> 3607
H19: TOTAL MATERIALES: | I19: =SUM(H12:H18) -> 75756
B20: II | C20: MANO DE OBRA
C21: DESCRIPCIÓN | D21: JORNAL | E21: PREST. | F21: REND. | G21: J/TOTAL | H21: V/PARCIAL
C22: 4 AYUDANTES | D22: =38700*4 -> 154800 | E22: 0.85 | F22: 18 | G22: =+D22*(1+E22) -> 286380 | H22: =ROUND(+G22/F22,0) -> 15910
C23: 1 OFICIAL | D23: 66700 | E23: 0.85 | F23: 18 | G23: =+D23*(1+E23) -> 123395 | H23: =ROUND(+G23/F23,0) -> 6855
H24: =G24*F24*E24*D24 -> 0
H25: TOTAL MANO DE OBRA: | I25: =SUM(H22:H24,0) -> 22765
B26: III | C26: HERRAMIENTA Y EQUIPO
C27: DESCRIPCIÓN | E27: UND | F27: TARIFA | G27: R/MIENTO | H27: V/PARCIAL
C28: HERRAMIENTA MENOR | E28: MANUAL | H28: =I25*0.1 -> 2276.5
C29: Vibrador de concreto | F29: 10.156 | G29: 18 | H29: 564
H31: TOTAL HERRAMIENTA Y EQUIPO: | I31: =SUM(H28:H30) -> 2840.5
B32: IV | C32: TRANSPORTE
C33: MATERIAL | E33: VOL (m3) | F33: DIST (Km) | G33: PESO/(m3/km) | H33: V/UNITARIO
H36: TOTAL TRANSPORTE: | I36: =SUM(H34:H35) -> 0
H38: TOTAL COSTO DIRECTO: | I38: =SUM(I19:I36) -> 101361.5
B39: V | C39: COSTOS INDIRECTOS
C40: DESCRIPCIÓN | E40: PORCENTAJE | G40: V/PARCIAL
C41: ADMINISTRACIÓN | E41: 0 | G41: =E41*I38 -> 0
C42: IMPREVISTOS | E42: 0 | G42: =E42*I38 -> 0
C43: UTILIDAD | E43: 0 | G43: =E43*I38 -> 0
H44: TOTAL COSTO INDIRECTO: | I44: =SUM(G41:G43) -> 0
H46: TOTAL PRECIO UNITARIO: | I46: =I44+I38 -> 101361.5
...

Sheet 3,6
B1: REPÚBLICA DE COLOMBIA
B2: DEPARTAMENTO DEL CAQUETÁ
B3: MUNICIPIO DE FLORENCIA
B4: =+'PRESUPUESTO GENERAL'!A4 -> PRESUPUESTO GENERAL
B5: SECRETARIA DE OBRAS PUBLICAS - SECOBRAS | E5: =+'3,4 '!E5:I5 -> ANALISIS DE PRECIOS UNITARIOS - ESTRUCTURA
B6: =+'3,4 '!B6:I6 -> CONSTRUCCIÓN DE BATERIA SANITARIA PARA LA INSTITUCIÓN EDUCATIVA JORGE ELIECER GAITAN SEDE SIMON BOLIVAR DEL MUNICIPIO DE FLORENCIA, DEPARTAMENTO DEL CAQUETA.
B7: ITEM | C7: =+'PRESUPUESTO GENERAL'!B26 -> Bordillo de confinamiento de 0,1x0,25m en concreto f'c= 210 kgf/cm2, Pagado por ml | H7: UNIDAD: | I7: =+'PRESUPUESTO GENERAL'!C26 -> ML
B8: =+'PRESUPUESTO GENERAL'!A26 -> 3.6
A10: SEC OBRAS | B10: I | C10: MATERIALES
C11: DESCRIPCIÓN | E11: UND | F11: CANT. | G11: V/UNITARIO | H11: V/PARCIAL
C12: =+'CTO D '!C7 -> CONCRETO BASICO CLASE D | E12: M3 | F12: 0.025 | G12: =+'CTO D '!I48 -> 462051 | H12: =ROUND(F12*G12,0) -> 11551
C13: Tabla para formaleta de 0,02*0,30m | E13: und | F13: 0.33 | G13: =18500*1.1312 -> 20927.2 | H13: =ROUND(F13*G13,0) -> 6906
C14: Puntilla | E14: libra | F14: 1 | G14: =3800*1.1312 -> 4298.56 | H14: =ROUND(F14*G14,0) -> 4299
C17: DESPERDICIO | E17: % | F17: 0.1 | G17: =SUM(H11:H16) -> 22756 | H17: =ROUND(G17*F17,0) -> 2276
H18: TOTAL MATERIALES: | I18: =SUM(H12:H17) -> 25032
B19: II | C19: MANO DE OBRA
C20: DESCRIPCIÓN | D20: JORNAL | E20: PREST. | F20: REND. | G20: J/TOTAL | H20: V/PARCIAL
C21: 3 AYUDANTES | D21: =38700*3 -> 116100 | E21: 0.85 | F21: 30 | G21: =+D21*(1+E21) -> 214785 | H21: =ROUND(+G21/F21,0) -> 7160
C22: 1 OFICIAL | D22: 66700 | E22: 0.85 | F22: 30 | G22: =+D22*(1+E22) -> 123395 | H22: =ROUND(+G22/F22,0) -> 4113
H23: =G23*F23*E23*D23 -> 0
H24: TOTAL MANO DE OBRA: | I24: =SUM(H21:H23,0) -> 11273
B25: III | C25: HERRAMIENTA Y EQUIPO
C26: DESCRIPCIÓN | E26: UND | F26: TARIFA | G26: R/MIENTO | H26: V/PARCIAL
C27: HERRAMIENTA MENOR | E27: MANUAL | H27: =I24*0.1 -> 1127.3
H30: TOTAL HERRAMIENTA Y EQUIPO: | I30: =SUM(H27:H29) -> 1127.3
B31: IV | C31: TRANSPORTE
C32: MATERIAL | E32: VOL (m3) | F32: DIST (Km) | G32: PESO/(m3/km) | H32: V/UNITARIO
H35: TOTAL TRANSPORTE: | I35: =SUM(H33:H34) -> 0
H37: TOTAL COSTO DIRECTO: | I37: =SUM(I18:I35) -> 37432.3
B38: V | C38: COSTOS INDIRECTOS
C39: DESCRIPCIÓN | E39: PORCENTAJE | G39: V/PARCIAL
C40: ADMINISTRACIÓN | E40: 0 | G40: =E40*I37 -> 0
C41: IMPREVISTOS | E41: 0 | G41: =E41*I37 -> 0
C42: UTILIDAD | E42: 0 | G42: =E42*I37 -> 0
H43: TOTAL COSTO INDIRECTO: | I43: =SUM(G40:G42) -> 0
H45: TOTAL PRECIO UNITARIO: | I45: =I43+I37 -> 37432.3
H46: TOTAL PRECIO UNITARIO AJUSTADO AL PESO: | I46: =+I45 -> 37432.3
C49: =+'3,4 '!C51 -> ARQ. ANTONIO RUIZ TOVAR
C50: =+'3,4 '!C52 -> PROFESIONAL ESPECIALIZADO

Sheet 3,7
B1: REPÚBLICA DE COLOMBIA
B2: DEPARTAMENTO DEL CAQUETÁ
B3: MUNICIPIO DE FLORENCIA
B4: =+'PRESUPUESTO GENERAL'!A4 -> PRESUPUESTO GENERAL
B5: SECRETARIA DE OBRAS PUBLICAS - SECOBRAS | E5: =+'3,4 '!E5:I5 -> ANALISIS DE PRECIOS UNITARIOS - ESTRUCTURA
B6: =+'3,4 '!B6:I6 -> CONSTRUCCIÓN DE BATERIA SANITARIA PARA LA INSTITUCIÓN EDUCATIVA JORGE ELIECER GAITAN SEDE SIMON BOLIVAR DEL MUNICIPIO DE FLORENCIA, DEPARTAMENTO DEL CAQUETA.
B7: ITEM | C7: =+'PRESUPUESTO GENERAL'!B27 -> Mesones en concreto f'c= 210fgf/cm2 E=0.10 m Ref. No. 3 c/0.20 m, pagado en m2 | H7: UNIDAD: | I7: =+'PRESUPUESTO GENERAL'!C27 -> M2
B8: =+'PRESUPUESTO GENERAL'!A27 -> 3.7
A10: SEC OBRAS | B10: I | C10: MATERIALES
C11: DESCRIPCIÓN | E11: UND | F11: CANT. | G11: V/UNITARIO | H11: V/PARCIAL
C12: =+'CTO D '!C7 -> CONCRETO BASICO CLASE D | E12: M3 | F12: 0.08 | G12: =+'CTO D '!I48 -> 462051 | H12: =ROUND(F12*G12,0) -> 36964
C13: acero de refuerzo | E13: KG | F13: 6.72 | G13: =5600*1.1312 -> 6334.72 | H13: =ROUND(F13*G13,0) -> 42569
C14: Dilataciones de madera 0,10x3m | E14: UND | F14: 0.3 | G14: =5470*1.1312 -> 6187.664 | H14: =ROUND(F14*G14,0) -> 1856
C15: Alambre de amarre | E15: KG | F15: 1.2 | G15: =8500*1.1312 -> 9615.2 | H15: =ROUND(F15*G15,0) -> 11538
C16: Puntilla | E16: LIBRA | F16: 1 | G16: =1895*1.1312 -> 2143.624 | H16: =ROUND(F16*G16,0) -> 2144
C17: Tabla para formaleta de 0,02*0,30m | E17: UND | F17: 1.5 | G17: =16548*1.1312 -> 18719.098 | H17: =ROUND(F17*G17,0) -> 28079
C19: DESPERDICIO | E19: % | F19: 0.05 | G19: =SUM(H11:H18) -> 123150 | H19: =ROUND(G19*F19,0) -> 6158
H20: TOTAL MATERIALES: | I20: =SUM(H12:H19) -> 129308
B21: II | C21: MANO DE OBRA
C22: DESCRIPCIÓN | D22: JORNAL | E22: PREST. | F22: REND. | G22: J/TOTAL | H22: V/PARCIAL
C23: 3 AYUDANTES | D23: =38700*3 -> 116100 | E23: 0.85 | F23: 12 | G23: =+D23*(1+E23) -> 214785 | H23: =ROUND(+G23/F23,0) -> 17899
C24: 1 OFICIAL | D24: 66700 | E24: 0.85 | F24: 12 | G24: =+D24*(1+E24) -> 123395 | H24: =ROUND(+G24/F24,0) -> 10283
H25: =G25*F25*E25*D25 -> 0
H26: TOTAL MANO DE OBRA: | I26: =SUM(H23:H25,0) -> 28182
B27: III | C27: HERRAMIENTA Y EQUIPO
C28: DESCRIPCIÓN | E28: UND | F28: TARIFA | G28: R/MIENTO | H28: V/PARCIAL
C29: HERRAMIENTA MENOR | E29: MANUAL | H29: =I26*0.1 -> 2818.2
H32: TOTAL HERRAMIENTA Y EQUIPO: | I32: =SUM(H29:H31) -> 2818.2
B33: IV | C33: TRANSPORTE
C34: MATERIAL | E34: VOL (m3) | F34: DIST (Km) | G34: PESO/(m3/km) | H34: V/UNITARIO
H37: TOTAL TRANSPORTE: | I37: =SUM(H35:H36) -> 0
H39: TOTAL COSTO DIRECTO: | I39: =SUM(I20:I37) -> 160308.2
B40: V | C40: COSTOS INDIRECTOS
C41: DESCRIPCIÓN | E41: PORCENTAJE | G41: V/PARCIAL
C42: ADMINISTRACIÓN | E42: 0 | G42: =E42*I39 -> 0
C43: IMPREVISTOS | E43: 0 | G43: =E43*I39 -> 0
C44: UTILIDAD | E44: 0 | G44: =E44*I39 -> 0
H45: TOTAL COSTO INDIRECTO: | I45: =SUM(G42:G44) -> 0
H47: TOTAL PRECIO UNITARIO: | I47: =I45+I39 -> 160308.2
H48: TOTAL PRECIO UNITARIO AJUSTADO AL PESO: | I48: =+I47 -> 160308.2
...

Sheet 4,1
B2: DEPARTAMENTO DEL CAQUETÁ
B3: MUNICIPIO DE FLORENCIA
B4: =+'PRESUPUESTO GENERAL'!A4 -> PRESUPUESTO GENERAL
B5: SECRETARIA DE OBRAS PUBLICAS - SECOBRAS | E5: ANALISIS DE PRECIOS UNITARIOS - MANPOSTERIA Y PAÑETE
B6: =+'3,6'!B6:I6 -> CONSTRUCCIÓN DE BATERIA SANITARIA PARA LA INSTITUCIÓN EDUCATIVA JORGE ELIECER GAITAN SEDE SIMON BOLIVAR DEL MUNICIPIO DE FLORENCIA, DEPARTAMENTO DEL CAQUETA.
B7: ITEM | C7: =+'PRESUPUESTO GENERAL'!B30 -> muro en ladrillo de arcilla No. 04 | H7: UNIDAD: | I7: =+'PRESUPUESTO GENERAL'!C30 -> M2
B8: =+'PRESUPUESTO GENERAL'!A30 -> 4.1
A10: SEC OBRAS | B10: I | C10: MATERIALES
C11: DESCRIPCIÓN | E11: UND | F11: CANT. | G11: V/UNITARIO | H11: V/PARCIAL
C12: Ladrillo prensado de 0,28*10*10 | E12: UND | F12: 15 | G12: =2300*1.1413 -> 2624.99 | H12: =ROUND(+F12*G12,0) -> 39375
C13: Mortero basico | E13: M3 | F13: 0.016 | G13: ='MRO 14 '!I39 -> 482899 | H13: =ROUND(+F13*G13,0) -> 7726
C19: DESPERDICIO | E19: % | F19: 0.05 | G19: =SUM(H11:H18) -> 47101 | H19: =ROUND(G19*F19,0) -> 2355
H20: TOTAL MATERIALES: | I20: =ROUND(SUM(H12:H19),0) -> 49456
B21: II | C21: MANO DE OBRA
C22: DESCRIPCIÓN | D22: JORNAL | E22: PREST. | F22: REND. | G22: J/TOTAL | H22: V/PARCIAL
C23: 1 AYUDANTE | D23: =38700*1 -> 38700 | E23: 0.85 | F23: 9.5 | G23: =+D23*(1+E23) -> 71595 | H23: =+G23/F23 -> 7536.3158
C24: 1 OFICIAL | D24: 66700 | E24: =+E23 -> 0.85 | F24: 9.5 | G24: =+D24*(1+E24) -> 123395 | H24: =+G24/F24 -> 12988.947
H25: =G25*F25*E25*D25 -> 0
H26: TOTAL MANO DE OBRA: | I26: =ROUND(SUM(H23:H25),0)+1 -> 20526
B27: III | C27: HERRAMIENTA Y EQUIPO
