Workbook

Sheet Estudio de Mercadeo
C2: UNIDAD ADMINISTRATIVA ESPECIAL DE AERONAUTICA CIVIL
C3: ESTUDIO DE MERCADO
A4: MANTENIMIENTO DE LA BASE SEI DEL AEROPUERTO DE CALI
A6: ÍTEM | B6: CODIGO | C6: DESCRIPCIÓN | D6: UN | E6: CANT | F6: PRECIO GOBERNACION 2017 | G6: INCR 2018 | H6: INCR 2019 | I6: FD= 5% | J6: V/UNITARIO | K6: VALOR PARCIAL
A7: ADECUACIÓN DE ZONA DE ROPAS
A9: 1 | C9: OBRAS PRELIMINARES
A10: 1.1 | B10: 100113 | C10: LOCALIZACION-REPLANTEO OBRA ARQUITECTON. | D10: M2 | E10: 15 | F10: 3290 | G10: 1.0447 | H10: 1.033 | I10: 1.05 | J10: =F10*G10*H10*I10 -> 3728.0104 | K10: =E10*J10 -> 55920.156
A11: 1.2 | B11: 100124 | C11: CERRAMIENTO TELA FIB.TEJIDA H=2.10M-SINB | D11: ML | E11: 20 | F11: 15770 | G11: 1.0447 | H11: 1.033 | I11: 1.05 | J11: =F11*G11*H11*I11 -> 17869.521 | K11: =E11*J11 -> 357390.42
A12: 1.3 | B12: 100601 | C12: EXCAVACION A MANO | D12: M3 | E12: 1.2 | F12: 14680 | G12: 1.0447 | H12: 1.033 | I12: 1.05 | J12: =F12*G12*H12*I12 -> 16634.405 | K12: =E12*J12 -> 19961.286
A13: 1.4 | B13: APU | C13: EXCAVACION TIERRA A MANO | D13: ML | E13: 16 | F13: 11744 | G13: 1.0447 | H13: 1.033 | I13: 1.05 | J13: =F13*G13*H13*I13 -> 13307.524 | K13: =E13*J13 -> 212920.38
A14: 1.5 | B14: 330127 | C14: CORTADORA DE PAVIMENTO | D14: ML | E14: 48 | F14: 5360 | G14: 1.0447 | H14: 1.033 | I14: 1.05 | J14: =F14*G14*H14*I14 -> 6073.5975 | K14: =E14*J14 -> 291532.68
A15: 1.6 | B15: 10105 | C15: DEMOLICION LOSA EN CONCRETO | D15: M2 | E15: 15 | F15: 30850 | G15: 1.0447 | H15: 1.033 | I15: 1.05 | J15: =F15*G15*H15*I15 -> 34957.179 | K15: =E15*J15 -> 524357.69
A16: 1.7 | B16: 100607 | C16: RETIRO DE ESCOMBROS MANUAL VOLQUETA | D16: M3 | E16: 21 | F16: 16930 | G16: 1.0447 | H16: 1.033 | I16: 1.05 | J16: =F16*G16*H16*I16 -> 19183.956 | K16: =E16*J16 -> 402863.08
A17: 1.8 | B17: APU | C17: DISEÑO ARQUITECTONICO | D17: M2 | E17: 15 | F17: 29922 | G17: 1.0447 | H17: 1.033 | I17: 1.05 | J17: =F17*G17*H17*I17 -> 33905.631 | K17: =E17*J17 -> 508584.47
A19: 2 | C19: CIMENTACION
A20: 2.1 | B20: 120213 | C20: ZAPATA CONCRETO | D20: M3 | E20: 1.2 | F20: 316870 | G20: 1.0447 | H20: 1.033 | I20: 1.05 | J20: =F20*G20*H20*I20 -> 359056.12 | K20: =E20*J20 -> 430867.35
A21: 2.2 | B21: 120101 | C21: ACERO REFUERZO FLEJADO 60000 PSI 420Mpa | D21: KLS | E21: 500 | F21: 3100 | G21: 1.0447 | H21: 1.033 | I21: 1.05 | J21: =F21*G21*H21*I21 -> 3512.715 | K21: =E21*J21 -> 1756357.5
A22: 2.3 | B22: APU | C22: VIGA CIMIENTO ENLACE H=20-40 CMS | D22: ML | E22: 16 | F22: 48262 | G22: 1.0447 | H22: 1.033 | I22: 1.05 | J22: =F22*G22*H22*I22 -> 54687.306 | K22: =E22*J22 -> 874996.9
A23: 2.4 | B23: 10201 | C23: ACARREO MATERIALES PETREOS-TIERRA-VARIOS | D23: M3K | E23: 150 | F23: 1567 | G23: 1.0447 | H23: 1.033 | I23: 1.05 | J23: =F23*G23*H23*I23 -> 1775.6208 | K23: =E23*J23 -> 266343.11
A25: 3 | C25: INSTALACIONES HIDRAULICAS
A26: 3.1 | B26: 160801 | C26: PUNTO AGUA FRIA ,1/2" | D26: PTO | E26: 4 | F26: 35450 | G26: 1.0447 | H26: 1.033 | I26: 1.05 | J26: =F26*G26*H26*I26 -> 40169.595 | K26: =E26*J26 -> 160678.38
A27: 3.2 | B27: 250705 | C27: LAVADERO ENCHAPADO | D27: UND | E27: 1 | F27: 460000 | G27: 1.0447 | H27: 1.033 | I27: 1.05 | J27: =F27*G27*H27*I27 -> 521241.57 | K27: =E27*J27 -> 521241.57
A28: 3.3 | B28: 140203 | C28: LAVATRAPEADOR LADRILLO ENCHAPADO | D28: UND | E28: 1 | F28: 254680 | G28: 1.0447 | H28: 1.033 | I28: 1.05 | J28: =F28*G28*H28*I28 -> 288586.53 | K28: =E28*J28 -> 288586.53
A29: 3.4 | B29: 250511 | C29: LLAVE TERMINAL CROMADA ,1/2 PESADA | D29: UND | E29: 3 | F29: 39790 | G29: 1.0447 | H29: 1.033 | I29: 1.05 | J29: =F29*G29*H29*I29 -> 45087.396 | K29: =E29*J29 -> 135262.19
A30: 3.5 | B30: APU | C30: SUMINISTRO E INSTALACION TUBERIA PRESION ,1/2" | D30: ML | E30: 20 | F30: 6541 | G30: 1.0447 | H30: 1.033 | I30: 1.05 | J30: =F30*G30*H30*I30 -> 7411.8285 | K30: =E30*J30 -> 148236.57
A31: 3.6 | B31: APU | C31: EXCAVACION Y RELLENO PARA TUBERIAS HIDROSANITARIAS | D31: ML | E31: 15 | F31: 11744 | G31: 1.0447 | H31: 1.033 | I31: 1.05 | J31: =F31*G31*H31*I31 -> 13307.524 | K31: =E31*J31 -> 199612.86
A32: 3.7 | B32: APU | C32: SUMINISTRO E INSTALACION LLAVE RED WHITE | D32: UND | E32: 1 | F32: 75000 | G32: 1.0447 | H32: 1.033 | I32: 1.05 | J32: =F32*G32*H32*I32 -> 84985.039 | K32: =E32*J32 -> 84985.039
A34: 4 | C34: INSTALACIONES SANITARIAS
A35: 4.1 | B35: 150502 | C35: PUNTO SANITARIO PVC 2 | D35: PTO | E35: 4 | F35: 36954 | G35: 1.0447 | H35: 1.033 | I35: 1.05 | J35: =F35*G35*H35*I35 -> 41873.828 | K35: =E35*J35 -> 167495.31
A36: 4.2 | B36: APU | C36: TUB.PVC 3 SANI. | D36: ML | E36: 12 | F36: 18358 | G36: 1.0447 | H36: 1.033 | I36: 1.05 | J36: =F36*G36*H36*I36 -> 20802.071 | K36: =E36*J36 -> 249624.86
A37: 4.3 | B37: 150349 | C37: ABRAZADERA SANITARIA 2 | D37: UND | E37: 4 | F37: 3160 | G37: 1.0447 | H37: 1.033 | I37: 1.05 | J37: =F37*G37*H37*I37 -> 3580.703 | K37: =E37*J37 -> 14322.812
A38: 4.4 | B38: 110901 | C38: COLCHON ARENA-GRAVA TUBER.INCLUYE ACARREO | D38: M3 | E38: 1 | F38: 50809 | G38: 1.0447 | H38: 1.033 | I38: 1.05 | J38: =F38*G38*H38*I38 -> 57573.398 | K38: =E38*J38 -> 57573.398
A39: 4.5 | B39: 250611 | C39: REJILLA SOSCO 3 X 2 PULG ALUMINIO | D39: UND | E39: 3 | F39: 32147 | G39: 1.0447 | H39: 1.033 | I39: 1.05 | J39: =F39*G39*H39*I39 -> 36426.854 | K39: =E39*J39 -> 109280.56
A40: 4.6 | B40: APU | C40: ACCESORIOS SANITARIOS | D40: UND | E40: 10 | F40: 18000 | G40: 1.0447 | H40: 1.033 | I40: 1.05 | J40: =F40*G40*H40*I40 -> 20396.409 | K40: =E40*J40 -> 203964.09
A42: 5 | C42: INSTALACIONES ELECTRICAS
A43: 5.1 | B43: 170702 | C43: SALIDA TOMA TRIFILAR PARA LAVADORA | D43: UND | E43: 1 | F43: 100634 | G43: 1.0447 | H43: 1.033 | I43: 1.05 | J43: =F43*G43*H43*I43 -> 114031.79 | K43: =E43*J43 -> 114031.79
A44: 5.2 | B44: 51012 | C44: SAL TOMA 1F (C/T/A/TO:REGULADO P&S) | D44: UND | E44: 1 | F44: 83519 | G44: 1.0447 | H44: 1.033 | I44: 1.05 | J44: =F44*G44*H44*I44 -> 94638.206 | K44: =E44*J44 -> 94638.206
A45: 5.3 | B45: 170408 | C45: SAL LAMP EMT | D45: UND | E45: 2 | F45: 79230 | G45: 1.0447 | H45: 1.033 | I45: 1.05 | J45: =F45*G45*H45*I45 -> 89778.195 | K45: =E45*J45 -> 179556.39
A46: 5.4 | B46: 170510 | C46: SAL SWITCHE S3 (C/T/A:4#12/S3) | D46: UND | E46: 2 | F46: 112086 | G46: 1.0447 | H46: 1.033 | I46: 1.05 | J46: =F46*G46*H46*I46 -> 127008.44 | K46: =E46*J46 -> 254016.88
A47: 5.5 | B47: 170643 | C47: LAMP ELECTRONICA 2X2X32 LFS-CIELO-FALSO | D47: UND | E47: 2 | F47: 210210 | G47: 1.0447 | H47: 1.033 | I47: 1.05 | J47: =F47*G47*H47*I47 -> 238196.07 | K47: =E47*J47 -> 476392.14
...

Sheet PRESUPUESTO
C1: FORMATO
C2: PRESUPUESTO OFICIAL
A3: Principio de Procedencia: 1400.092.1
A4: OBJETO: MANTENIMIENTO DE LA BASE SEI DEL AEROPUERTO DE CALI
A6: ÍTEM | B6: DESCRIPCIÓN | C6: UN | D6: CANT | E6: V/UNITARIO | F6: VALOR PARCIAL
A8: ADECUACIÓN DE ZONA DE ROPAS
A10: 1 | B10: OBRAS PRELIMINARES
A11: 1.1 | B11: LOCALIZACION-REPLANTEO OBRA ARQUITECTON. | C11: M2 | D11: 15 | E11: =+'Estudio de Mercadeo'!J10 -> 3728.0104 | F11: =D11*E11 -> 55920.156
A12: 1.2 | B12: CERRAMIENTO TELA FIB.TEJIDA H=2.10M-SINB | C12: ML | D12: 20 | E12: =+'Estudio de Mercadeo'!J11 -> 17869.521 | F12: =D12*E12 -> 357390.42
A13: 1.3 | B13: EXCAVACION A MANO | C13: M3 | D13: 1.2 | E13: =+'Estudio de Mercadeo'!J12 -> 16634.405 | F13: =D13*E13 -> 19961.286
A14: 1.4 | B14: EXCAVACION TIERRA A MANO | C14: ML | D14: 16 | E14: =+'Estudio de Mercadeo'!J13 -> 13307.524 | F14: =D14*E14 -> 212920.38
A15: 1.5 | B15: CORTADORA DE PAVIMENTO | C15: ML | D15: 48 | E15: =+'Estudio de Mercadeo'!J14 -> 6073.5975 | F15: =D15*E15 -> 291532.68
A16: 1.6 | B16: DEMOLICION LOSA EN CONCRETO | C16: M2 | D16: 15 | E16: =+'Estudio de Mercadeo'!J15 -> 34957.179 | F16: =D16*E16 -> 524357.69
A17: 1.7 | B17: RETIRO DE ESCOMBROS MANUAL VOLQUETA | C17: M3 | D17: 21 | E17: =+'Estudio de Mercadeo'!J16 -> 19183.956 | F17: =D17*E17 -> 402863.08
A18: 1.8 | B18: DISEÑO ARQUITECTONICO | C18: M2 | D18: 15 | E18: =+'Estudio de Mercadeo'!J17 -> 33905.631 | F18: =D18*E18 -> 508584.47
A20: 2 | B20: CIMENTACION
A21: 2.1 | B21: ZAPATA CONCRETO | C21: M3 | D21: 1.2 | E21: =+'Estudio de Mercadeo'!J20 -> 359056.12 | F21: =D21*E21 -> 430867.35
A22: 2.2 | B22: ACERO REFUERZO FLEJADO 60000 PSI 420Mpa | C22: KLS | D22: 500 | E22: =+'Estudio de Mercadeo'!J21 -> 3512.715 | F22: =D22*E22 -> 1756357.5
A23: 2.3 | B23: VIGA CIMIENTO ENLACE H=20-40 CMS | C23: ML | D23: 16 | E23: =+'Estudio de Mercadeo'!J22 -> 54687.306 | F23: =D23*E23 -> 874996.9
A24: 2.4 | B24: ACARREO MATERIALES PETREOS-TIERRA-VARIOS | C24: M3K | D24: 150 | E24: =+'Estudio de Mercadeo'!J23 -> 1775.6208 | F24: =D24*E24 -> 266343.11
A26: 3 | B26: INSTALACIONES HIDRAULICAS
A27: 3.1 | B27: PUNTO AGUA FRIA ,1/2" | C27: PTO | D27: 4 | E27: =+'Estudio de Mercadeo'!J26 -> 40169.595 | F27: =D27*E27 -> 160678.38
A28: 3.2 | B28: LAVADERO ENCHAPADO | C28: UND | D28: 1 | E28: =+'Estudio de Mercadeo'!J27 -> 521241.57 | F28: =D28*E28 -> 521241.57
A29: 3.3 | B29: LAVATRAPEADOR LADRILLO ENCHAPADO | C29: UND | D29: 1 | E29: =+'Estudio de Mercadeo'!J28 -> 288586.53 | F29: =D29*E29 -> 288586.53
A30: 3.4 | B30: LLAVE TERMINAL CROMADA ,1/2 PESADA | C30: UND | D30: 3 | E30: =+'Estudio de Mercadeo'!J29 -> 45087.396 | F30: =D30*E30 -> 135262.19
A31: 3.5 | B31: SUMINISTRO E INSTALACION TUBERIA PRESION ,1/2" | C31: ML | D31: 20 | E31: =+'Estudio de Mercadeo'!J30 -> 7411.8285 | F31: =D31*E31 -> 148236.57
A32: 3.6 | B32: EXCAVACION Y RELLENO PARA TUBERIAS HIDROSANITARIAS | C32: ML | D32: 15 | E32: =+'Estudio de Mercadeo'!J31 -> 13307.524 | F32: =D32*E32 -> 199612.86
A33: 3.7 | B33: SUMINISTRO E INSTALACION LLAVE RED WHITE | C33: UND | D33: 1 | E33: =+'Estudio de Mercadeo'!J32 -> 84985.039 | F33: =D33*E33 -> 84985.039
A35: 4 | B35: INSTALACIONES SANITARIAS
A36: 4.1 | B36: PUNTO SANITARIO PVC 2 | C36: PTO | D36: 4 | E36: =+'Estudio de Mercadeo'!J35 -> 41873.828 | F36: =D36*E36 -> 167495.31
A37: 4.2 | B37: TUB.PVC 3 SANI. | C37: ML | D37: 12 | E37: =+'Estudio de Mercadeo'!J36 -> 20802.071 | F37: =D37*E37 -> 249624.86
A38: 4.3 | B38: ABRAZADERA SANITARIA 2 | C38: UND | D38: 4 | E38: =+'Estudio de Mercadeo'!J37 -> 3580.703 | F38: =D38*E38 -> 14322.812
A39: 4.4 | B39: COLCHON ARENA-GRAVA TUBER.INCLUYE ACARREO | C39: M3 | D39: 1 | E39: =+'Estudio de Mercadeo'!J38 -> 57573.398 | F39: =D39*E39 -> 57573.398
A40: 4.5 | B40: REJILLA SOSCO 3 X 2 PULG ALUMINIO | C40: UND | D40: 3 | E40: =+'Estudio de Mercadeo'!J39 -> 36426.854 | F40: =D40*E40 -> 109280.56
A41: 4.6 | B41: ACCESORIOS SANITARIOS | C41: UND | D41: 10 | E41: =+'Estudio de Mercadeo'!J40 -> 20396.409 | F41: =D41*E41 -> 203964.09
A43: 5 | B43: INSTALACIONES ELECTRICAS
A44: 5.1 | B44: SALIDA TOMA TRIFILAR PARA LAVADORA | C44: UND | D44: 1 | E44: =+'Estudio de Mercadeo'!J43 -> 114031.79 | F44: =D44*E44 -> 114031.79
A45: 5.2 | B45: SAL TOMA 1F (C/T/A/TO:REGULADO P&S) | C45: UND | D45: 1 | E45: =+'Estudio de Mercadeo'!J44 -> 94638.206 | F45: =D45*E45 -> 94638.206
A46: 5.3 | B46: SAL LAMP EMT | C46: UND | D46: 2 | E46: =+'Estudio de Mercadeo'!J45 -> 89778.195 | F46: =D46*E46 -> 179556.39
A47: 5.4 | B47: SAL SWITCHE S3 (C/T/A:4#12/S3) | C47: UND | D47: 2 | E47: =+'Estudio de Mercadeo'!J46 -> 127008.44 | F47: =D47*E47 -> 254016.88
...

Sheet ANALISIS
D1: Aplicación SAGUT Cel. 310 824 6976 | F1: Duración120 Días | G1: Vr. Presup. | H1: 279593811 | Q1: calima | S1: 0 | T1: INCREMENTO POR DISTANCIA | Z1: 159 | CG1: - | CH1: - | CI1: -
A2: CD | I2: 1 | Q2: calima | R2: 0.1 | S2: 0
A3: 1 | D3: CD | E3: 0.28 | F3: 0.19 | G3: 0.05 | H3: 0.04 | I3: 0.19 | J3: MODIF | L3: 3 | M3: 8 | N3: ENCAB | O3: ITEM: DESCRIPCION | P3: 0 | Q3: 0
F4: ANALISIS DE PRECIOS UNITARIOS | L4: 4 | O4: Item Básico: | P4: Básico
C6: OBJETO: MANTENIMIENTO DE LA BASE SEI DEL AEROPUERTO DE CALI | G6: FECHA: | H6: 43594
L7: FilaAna | M7: Fila It | N7: Cod It | O7: descrip It | P7: Descrip Cap | Q7: FilaCap
C10: EXCAVACION TIERRA A MANO | H10: UNIDAD: ML
H11: ITEM: 1.4
C12: DESCRIPCION | D12: UND | E12: CANT. | F12: DESP.% | G12: PRECIO UNIT | H12: VALOR TOTAL
C14: MANO DE OBRA
C15: M.O. ALBANILERIA 3 AYUDANTE | D15: HC | E15: 0.5268 | F15: 0 | G15: 21786 | H15: =E15*G15 -> 11476.865
G16: SUBTOTAL MANO DE OBRA | H16: =SUM(H15) -> 11476.865
C17: EQUIPO
C18: HERRAMIENTA MENOR | D18: GLB | E18: 0.167 | G18: 1600 | H18: =E18*G18 -> 267.2
G19: SUBTOTAL EQUIPO | H19: =SUM(H18) -> 267.2
C20: OTROS
G22: SUBTOTAL OTROS | H22: 0
F24: COSTO DIRECTO | G24: =SUM(H16+H19) -> 11744.065 | H24: 11744
C27: DISEÑO ARQUITECTONICO | H27: UNIDAD: M2
H28: ITEM: 1.8
C29: DESCRIPCION | D29: UND | E29: CANT. | F29: DESP.% | G29: PRECIO UNIT | H29: VALOR TOTAL
C31: MANO DE OBRA
C32: ARQUITECTO | D32: HC | E32: 0.1 | F32: 0 | G32: 20500 | H32: =E32*G32 -> 2050
C33: INGENIERO CIVIL | D33: HC | E33: 0.3 | F33: 0 | G33: 20500 | H33: =E33*G33 -> 6150
C34: INGENIERO DE SUELOS | D34: HC | E34: 0.08 | F34: 0 | G34: 20500 | H34: =E34*G34 -> 1640
C35: DIBUJANTE ARQUITECTURA- INGENIERIA | D35: HC | E35: 0.8915 | F35: 0 | G35: 22526 | H35: =E35*G35 -> 20081.929
G36: SUBTOTAL MANO DE OBRA | H36: =SUM(H32:H35) -> 29921.929
G38: SUBTOTAL OTROS | H38: 0
F40: COSTO DIRECTO | G40: =SUM(H36) -> 29921.929 | H40: 29922
A43: ITEM 080111 | C43: VIGA CIMIENTO ENLACE H=20-40 CMS | H43: UNIDAD: ML | I43: CANT. TOTAL | J43: VR. TOTAL | L43: 87 | M43: 12 | N43: 080111 | O43: 1.1: LOCALIZACION-REPLANTEO VIAS NO URBANAS | P43: CAP. 1: PLACA HUELLA TRAMO 1 DE ESTACION POLICIA A V.O.R. | Q43: 10
H44: ITEM: 2.3 | I44: 189 | L44: 88 | M44: 12 | N44: 080111 | O44: 1.1: LOCALIZACION-REPLANTEO VIAS NO URBANAS | P44: CAP. 1: PLACA HUELLA TRAMO 1 DE ESTACION POLICIA A V.O.R. | Q44: 10
A45: CODIGO | C45: DESCRIPCION | D45: UND | E45: CANT. | F45: DESP.% | G45: PRECIO UNIT | H45: VALOR TOTAL | J45: VALOR TOTAL | L45: 89 | M45: 12 | N45: 080111 | O45: 1.1: LOCALIZACION-REPLANTEO VIAS NO URBANAS | P45: CAP. 1: PLACA HUELLA TRAMO 1 DE ESTACION POLICIA A V.O.R. | Q45: 10
L46: 90 | M46: 12 | N46: 080111 | O46: 1.1: LOCALIZACION-REPLANTEO VIAS NO URBANAS | P46: CAP. 1: PLACA HUELLA TRAMO 1 DE ESTACION POLICIA A V.O.R. | Q46: 10
A47: G1 | C47: MATERIALES | L47: 91 | M47: 12 | N47: 080111 | O47: 1.1: LOCALIZACION-REPLANTEO VIAS NO URBANAS | P47: CAP. 1: PLACA HUELLA TRAMO 1 DE ESTACION POLICIA A V.O.R. | Q47: 10
A48: 103093 | B48: VARIOS | C48: PUNTILLA | D48: LBS | E48: 0.1 | F48: 0 | G48: 2400 | H48: =E48*G48 -> 240 | I48: 1.89 | J48: 160650 | L48: 93 | M48: 12 | N48: 080111 | O48: 1.1: LOCALIZACION-REPLANTEO VIAS NO URBANAS | P48: CAP. 1: PLACA HUELLA TRAMO 1 DE ESTACION POLICIA A V.O.R. | Q48: 10
C49: TABLA | D49: UND | E49: 0.55 | F49: 0 | G49: 1066 | H49: =E49*G49 -> 586.3
C50: VARETA | D50: UND | E50: 0.267 | F50: 0 | G50: 3200 | H50: =E50*G50 -> 854.4
C51: MEZCLA CONCRETO 3000 PSI | D51: M3 | E51: 0.105 | F51: 0 | G51: 242245 | H51: =E51*G51 -> 25435.725
A52: STG1 | G52: SUBTOTAL MATERIALES | H52: =SUM(H48:H51) -> 27116.425 | J52: 193725 | L52: 94 | M52: 12 | N52: 080111 | O52: 1.1: LOCALIZACION-REPLANTEO VIAS NO URBANAS | P52: CAP. 1: PLACA HUELLA TRAMO 1 DE ESTACION POLICIA A V.O.R. | Q52: 10
A53: G2 | C53: MANO DE OBRA | L53: 95 | M53: 12 | N53: 080111 | O53: 1.1: LOCALIZACION-REPLANTEO VIAS NO URBANAS | P53: CAP. 1: PLACA HUELLA TRAMO 1 DE ESTACION POLICIA A V.O.R. | Q53: 10
...
