Workbook

Sheet precios historicos
A1: 5.2 PRECIOS HISTORICOS
A3: ÍTEM | B3: ENTIDAD CONTRATANTE Y CONTRATISTA | C3: NÚMERO DE CONTRATO | D3: CUPS | E3: DESCRIPCION CUPS | F3: OBSERVACION CLINICA IMBANACO | G3: OBSERVACIÓN SANIDAD 4 | H3: TARIFA CLINICA IMBANACO | I3: VALOR UNITARIO PROYECTADO CON IPC
A4: 1 | B4: CLINICA IMBANACO S.A.S. Y REGIONAL DE ASEGURAMIENTO EN SALUD No. 4 | C4: 66-7-20140-22 | D4: 10101 | E4: PUNCION CISTERNAL, VIA LATERAL | F4: LA TARIFA INCLUYE SOLO HONORARIOS MEDICOS | H4: 1575000 | I4: =+(H4*13.12%)+H4 -> 1781640
A5: 2 | D5: 10102 | E5: PUNCION CISTERNAL, VIA MEDIAL | F5: LA TARIFA INCLUYE SOLO HONORARIOS MEDICOS | H5: 1575000 | I5: =+(H5*13.12%)+H5 -> 1781640
A6: 3 | D6: 10202 | E6: PUNCION (ASPIRACION DE LIQUIDO) VENTRICULAR POR TREPANACION (SIN CATETER) | F6: LA TARIFA INCLUYE SOLO HONORARIOS MEDICOS | H6: 2362500 | I6: =+(H6*13.12%)+H6 -> 2672460
A7: 4 | D7: 10204 | E7: PUNCION (ASPIRACION DE LIQUIDO) VENTRICULAR, VIA TRANSFONTANELAR | F7: LA TARIFA INCLUYE SOLO HONORARIOS MEDICOS | H7: 1800000 | I7: =+(H7*13.12%)+H7 -> 2036160
A8: 5 | D8: 10205 | E8: PUNCION (ASPIRACION DE LIQUIDO) VENTRICULAR | F8: LA TARIFA INCLUYE SOLO HONORARIOS MEDICOS | H8: 1800000 | I8: =+(H8*13.12%)+H8 -> 2036160
A9: 6 | D9: 10901 | E9: PUNCION SUBDURAL | F9: LA TARIFA INCLUYE SOLO HONORARIOS MEDICOS | H9: 2362500 | I9: =+(H9*13.12%)+H9 -> 2672460
A10: 7 | D10: 11101 | E10: BIOPSIA OSEA EN CRANEO POR CRANEOTOMIA | F10: LA TARIFA INCLUYE SOLO HONORARIOS MEDICOS | H10: 4950000 | I10: =+(H10*13.12%)+H10 -> 5599440
A11: 8 | D11: 11102 | E11: BIOPSIA OSEA EN CRANEO POR CRANIECTOMIA | F11: LA TARIFA INCLUYE SOLO HONORARIOS MEDICOS | H11: 4950000 | I11: =+(H11*13.12%)+H11 -> 5599440
A12: 9 | D12: 11201 | E12: BIOPSIA DE MENINGE, POR CRANEOTOMIA | F12: LA TARIFA INCLUYE SOLO HONORARIOS MEDICOS | H12: 5625000 | I12: =+(H12*13.12%)+H12 -> 6363000
A13: 10 | D13: 12101 | E13: CRANEALIZACION DE SENO FRONTAL | F13: LA TARIFA INCLUYE SOLO HONORARIOS MEDICOS | H13: 5625000 | I13: =+(H13*13.12%)+H13 -> 6363000
A14: 11 | D14: 12102 | E14: INCISION Y DRENAJE DE SENO FRONTAL | F14: LA TARIFA INCLUYE SOLO HONORARIOS MEDICOS | H14: 8437500 | I14: =+(H14*13.12%)+H14 -> 9544500
A15: 12 | D15: 12103 | E15: DESFUNCIONALIZACION DE SENO FRONTAL | F15: LA TARIFA INCLUYE SOLO HONORARIOS MEDICOS | H15: 7875000 | I15: =+(H15*13.12%)+H15 -> 8908200
A16: 13 | D16: 12300 | E16: REAPERTURA DE CRANEOTOMIA SOD | F16: LA TARIFA INCLUYE SOLO HONORARIOS MEDICOS | H16: 4500000 | I16: =+(H16*13.12%)+H16 -> 5090400
... A57: 54 | D57: 15405 | E57: RESECCION DE TUMOR O LESION DE LA BASE DEL CRANEO FOSA POSTERIOR, VIA | F57: LA TARIFA INCLUYE SOLO HONORARIOS MEDICOS | H57: 26578125 | I57: =+(H57*13.12%)+H57 -> 30065175
E58: MAXILOTOMIA EXTENDIDA | I58: =+(H58*13.12%)+H58 -> 0
A59: 55 | D59: 15407 | E59: RESECCION DE TUMOR O LESION DE LA BASE DEL CRANEO FOSA POSTERIOR, VIA TRANSCOCLEAR | F59: LA TARIFA INCLUYE SOLO HONORARIOS MEDICOS | H59: 26578125 | I59: =+(H59*13.12%)+H59 -> 30065175
A60: 56 | D60: 15501 | E60: TOMA DE INJERTO OSEO DE CRANEO | F60: LA TARIFA INCLUYE SOLO HONORARIOS MEDICOS | H60: 1237500 | I60: =+(H60*13.12%)+H60 -> 1399860
A61: 57 | D61: 16101 | E61: RESECCION TUMOR DE MENINGE CEREBRAL, POR CRANEOTOMIA | F61: LA TARIFA INCLUYE SOLO HONORARIOS MEDICOS | H61: 4275000 | I61: =+(H61*13.12%)+H61 -> 4835880
A62: 58 | D62: 16102 | E62: RESECCION TUMOR DE MENINGE CEREBRAL, POR CRANIECTOMIA CON DUROPLASTIA Y CRANEOPLASTIA | F62: LA TARIFA INCLUYE SOLO HONORARIOS MEDICOS | H62: 6862500 | I62: =+(H62*13.12%)+H62 -> 7762860
A63: 59 | D63: 16103 | E63: RESECCION DE TUMORES EN MENINGES CEREBRALES | F63: LA TARIFA INCLUYE SOLO HONORARIOS MEDICOS | H63: 14062500 | I63: =+(H63*13.12%)+H63 -> 15907500
A64: 60 | D64: 16401 | E64: DRENAJE DE QUISTE ARACNOIDEO GUIADO POR ESTEREOTAXIA | F64: LA TARIFA INCLUYE SOLO HONORARIOS MEDICOS | H64: 5625000 | I64: =+(H64*13.12%)+H64 -> 6363000
A65: 61 | D65: 17001 | E65: DRENAJE DE COLECCIONES INTRACEREBRALES, POR CRANEOTOMIA | F65: LA TARIFA INCLUYE SOLO HONORARIOS MEDICOS | H65: 14765625 | I65: =+(H65*13.12%)+H65 -> 16702875
A66: 62 | D66: 17003 | E66: DRENAJE DE COLECCIONES INTRACEREBRALES, POR PUNCION DIRIGIDA | F66: LA TARIFA INCLUYE SOLO HONORARIOS MEDICOS | H66: 6300000 | I66: =+(H66*13.12%)+H66 -> 7126560
A67: 63 | D67: 17004 | E67: DRENAJE DE COLECCIONES INTRACEREBRALES DE FOSA POSTERIOR, POR CRANEOTOMIA SUBOCCIPITAL | F67: LA TARIFA INCLUYE SOLO HONORARIOS MEDICOS | H67: 19406250 | I67: =+(H67*13.12%)+H67 -> 21952350
A68: 64 | D68: 17206 | E68: RESECCION DE TUMORES SUPRATENTORIALES HEMISFERICOS | F68: LA TARIFA INCLUYE SOLO HONORARIOS MEDICOS | H68: 16875000 | I68: =+(H68*13.12%)+H68 -> 19089000
A69: 65 | D69: 17209 | E69: DRENAJE DE QUISTE TUMORAL SUPRATENTORIAL | F69: LA TARIFA INCLUYE SOLO HONORARIOS MEDICOS | H69: 8662500 | I69: =+(H69*13.12%)+H69 -> 9799020
A70: 66 | D70: 17301 | E70: RESECCION TUMOR INTRACEREBELOSO, POR CRANEOTOMIA SUBOCCIPITAL | F70: LA TARIFA INCLUYE SOLO HONORARIOS MEDICOS | H70: 26578125 | I70: =+(H70*13.12%)+H70 -> 30065175
... A186: 182 | D186: 44202 | E186: DESCOMPRESION INTRACANALICULAR DE NERVIO OPTICO, VIA TRANSNASAL | F186: LA TARIFA INCLUYE SOLO HONORARIOS MEDICOS | H186: 5625000 | I186: =+(H186*13.12%)+H186 -> 6363000
E187: ENDOSCOPICA | I187: =+(H187*13.12%)+H187 -> 0
A188: 183 | D188: 44204 | E188: DESCOMPRESION NEUROVASCULAR DE NERVIO ACUSTICO VESTIBULAR | F188: LA TARIFA INCLUYE SOLO HONORARIOS MEDICOS | H188: 7987500 | I188: =+(H188*13.12%)+H188 -> 9035460
A189: 184 | D189: 44206 | E189: DESCOMPRESION NEUROVASCULAR DE NERVIO FACIAL, POR CRANEOTOMIA | F189: LA TARIFA INCLUYE SOLO HONORARIOS MEDICOS | H189: 7987500 | I189: =+(H189*13.12%)+H189 -> 9035460
E190: SUBOCCIPITAL | I190: =+(H190*13.12%)+H190 -> 0
A191: 185 | D191: 44207 | E191: DESCOMPRESION DE NERVIO FACIAL INTRATEMPORAL VIA TRANSLABERINTICA | F191: LA TARIFA INCLUYE SOLO HONORARIOS MEDICOS | H191: 7987500 | I191: =+(H191*13.12%)+H191 -> 9035460
A192: 186 | D192: 44209 | E192: DESCOMPRESION DE OTRO NERVIO CRANEAL | F192: LA TARIFA INCLUYE SOLO HONORARIOS MEDICOS | H192: 7875000 | I192: =+(H192*13.12%)+H192 -> 8908200
A193: 187 | D193: 44520 | E193: DESCOMPRESION DE NERVIO EN MUSLO VIA ABIERTA | F193: LA TARIFA INCLUYE SOLO HONORARIOS MEDICOS | H193: 1800000 | I193: =+(H193*13.12%)+H193 -> 2036160
A194: 188 | D194: 44525 | E194: DESCOMPRESION DE NERVIO EN TOBILLO VIA ABIERTA | F194: LA TARIFA INCLUYE SOLO HONORARIOS MEDICOS | H194: 1800000 | I194: =+(H194*13.12%)+H194 -> 2036160
A195: 189 | D195: 44527 | E195: DESCOMPRESION DE NERVIO EN PIE VIA ABIERTA | F195: LA TARIFA INCLUYE SOLO HONORARIOS MEDICOS | H195: 16875000 | I195: =+(H195*13.12%)+H195 -> 19089000
A196: 190 | D196: 45102 | E196: INJERTO DE NERVIO PERIFERICO | F196: LA TARIFA INCLUYE SOLO HONORARIOS MEDICOS | H196: 1125000 | I196: =+(H196*13.12%)+H196 -> 1272600
...

Sheet precios del mercado
A1: 5.4 PRECIOS DEL MERCADO
A3: ITEMS | B3: CODIGOS CUPS | C3: DESCRIPCION | D3: VALOR DEL MERCADO | E3: OBSERVACION
A4: 1 | B4: 115401 | C4: RECUBRIMIENTO DE CORNEA CON COLGAJO CONJUNTIVAL | D4: 1451700
A5: 2 | B5: 115402 | C5: RECUBRIMIENTO DE CORNEA CON INJERTO | D5: 1451700
A6: 3 | B6: 116101 | C6: QUERATOPLASTIA LAMELAR ANTERIOR MANUAL | D6: 5841000
A7: 4 | B7: 116102 | C7: QUERATOPLASTIA LAMELAR ANTERIOR ASISTIDA | D7: 5841000
A8: 5 | B8: 137003 | C8: INSERCION DE LENTE INTRAOCULAR EN CAMARA POSTERIOR SOBRE RESTOS CAPSULARES | D8: 3910680
A9: 6 | B9: 157101 | C9: REPARACION DE LESION EN MUSCULO EXTRAOCULAR, TENDON O CAPSULA DE TENON | D9: 2252340
A10: 7 | B10: 237102 | C10: PULPOTOMIA | D10: 185200 | E10: En caso de ser requerida la participación del médico anestesiólogo, el honorario será facturado con los códigos 998701 o 998702, según el tipo de Anestesia administrada al paciente.
A11: 8 | B11: 237301 | C11: TERAPIA DE CONDUCTO RADICULAR EN DIENTE UNIRRADICULAR | D11: 356200
A12: 9 | B12: 237601 | C12: FISTULIZACION ENDODONTICA POR TREPANACION Y DRENAJE | D12: 213700 | E12: En caso de ser requerida la participación del médico anestesiólogo, el honorario será facturado con los códigos 998701 o 998702, según el tipo de Anestesia administrada al paciente.
A13: 10 | B13: 237602 | C13: FISTULIZACION ENDODONTICA POR INCISION | D13: 213700 | E13: En caso de ser requerida la participación del médico anestesiólogo, el honorario será facturado con los códigos 998701 o 998702, según el tipo de Anestesia administrada al paciente.
A14: 11 | B14: 243303 | C14: ENUCLEACION DE QUISTE EPIDERMOIDE | D14: 641400
A15: 12 | B15: 342101 | C15: TORACOSCOPIA DIAGNOSTICA | D15: 8208720
A16: 13 | B16: 358904 | C16: DILATACION DE DUCTUS ARTERIOSO (ANGIOPLASTIA O IMPLANTE DE DISPOSITIVO) VIA PERCUTANEA (ENDOVASCULAR) | D16: 2591100
A17: 14 | B17: 361801 | C17: ANASTOMOSIS SIMPLE DE ARTERIA CIRCUNFLEJA CON INJERTO VENOSO VIA ABIERTA | D17: 6287220
A18: 15 | B18: 372102 | C18: CATETERISMO CARDIACO DEL LADO DERECHO DEL CORAZON CON PRUEBA DE SUSTANCIA TERAPEUTICA | D18: 1462320
A19: 16 | B19: 373413 | C19: MODULACION DE SUSTRATO ARRITMICO (AURICULAR O VENTRICULAR) ENDOCARDICA | D19: 26633025
A20: 17 | B20: 378102 | C20: INSERCION [IMPLANTACION] DE MARCAPASO TEMPORAL (TRANSITORIO) VIA PERCUTANEA (ENDOVASCULAR) | D20: 966600
A21: 18 | B21: 380401 | C21: TROMBOEMBOLECTOMIA ARTERIAL TORACICA | D21: 4366620
A22: 19 | B22: 380403 | C22: TROMBOLISIS EN VASOS TORACICOS | D22: 4366620
A23: 20 | B23: 385208 | C23: EMBOLIZACION DE EPISTAXIS VIA ENDOVASCULAR | D23: 8843580
A24: 21 | B24: 385521 | C24: OCLUSION DE COLATERALES AORTO PULMONARES VIA PERCUTANEA (ENDOVASCULAR) | D24: 2610180
A25: 22 | B25: 389103 | C25: INSERCION DE CATETER CENTRAL, VIA PERIFERICA | D25: 2504880 | E25: Aplica para la inserción de catéteres diferentes a los ofertados como paquete (Catéter PICC, Catéter para quimioterapia en niños, y Catéter Mahurkar)
A26: 23 | B26: 389104 | C26: INSERCION DE CATETER CENTRAL VIA ABIERTA | D26: 1132950
A27: 24 | B27: 395027 | C27: ANGIOPLASTIA DE VENAS PULMONARES VIA PERCUTANEA (ENDOVASCULAR) | D27: 2513700
A28: 25 | B28: 395101 | C28: DENERVACION DE ARTERIAS RENALES VIA PERCUTANEA (ENDOVASCULAR) | D28: 7567200
A29: 26 | B29: 449502 | C29: BAIPAS O DERIVACION O PUENTE DUODENAL PARA REFLUJO DUODENOGASTRICO VIA LAPAROSCOPICA | D29: 15259500
A30: 27 | B30: 457102 | C30: COLECTOMIA PARCIAL CON COLOSTOMIA O ILEOSTOMIA Y FISTULA MUCOSA VIA LAPAROSCOPICA | D30: 6390000
A31: 28 | B31: 502208 | C31: HEPATECTOMIA DE UN SEGMENTO VIA ABIERTA | D31: 5387040
A32: 29 | B32: 502209 | C32: HEPATECTOMIA DE UN SEGMENTO VIA LAPAROSCOPICA | D32: 6733440
A33: 30 | B33: 521004 | C33: BIOPSIA DE PANCREAS VIA ENDOSCOPICA | D33: 1554660
A34: 31 | B34: 534002 | C34: HERNIORRAFIA UMBILICAL VIA LAPAROSCOPICA | D34: 3454200
A35: 32 | B35: 540014 | C35: DRENAJE DE COLECCION INTRAPERITONEAL VIA PERCUTANEA | D35: 2133800 | E35: La tarifa incluye una tomografía computada de abdomen y pelvis (abdomen total), los honorarios de médico Radiólogo que efectúa el procedimientos,los insumos y medicamentos utilizados para la realización del estudio. Excluye: Estudio de patología, Anestesia o Sedación (honorarios, medicamentos e insumos)
A36: 33 | B36: 542102 | C36: LAPAROSCOPIA DE PRECISION (ESTADIFICACION) | D36: 4040100
A37: 34 | B37: 554003 | C37: NEFRECTOMIA PARCIAL POR LAPAROSCOPIA | D37: 10599120
A38: 35 | B38: 621911 | C38: EXPLORACION ABDOMINAL DE TESTICULO NO DESCENDIDO POR LAPAROSCOPIA | D38: 5751000 | E38: LAS 225 UVR APLICAN SI EL PROCEDIMIENTO ES BILATERAL, CUANDO SE REALICE UNILATERAL, SE LIQUIDA POR 120 UVR
A39: 36 | B39: 637300 | C39: VASECTOMIA SOD | D39: 1661400
A40: 37 | B40: 691201 | C40: ESCISION Y ABLACION DE ENDOMETROSIS ESTADOS I Y II POR LAPAROSCOPIA | D40: 1789200
A41: 38 | B41: 773005 | C41: OSTEOCONDROPLASTIA ACETABULAR POR ARTROSCOPIA | D41: 9065340
...

Sheet valor estimado
A1: 5.5 ANALISIS DEL VALOR ESTIMADO
A3: ITEMS | B3: CODIGOS CUPS | C3: DESCRIPCION | D3: OBSERVACION DEL MERCADO | E3: PRECIO SECOP | F3: PRECIOS DE CATÁLOGO | G3: PRECIOS HISTÓRICOS PROYECTADOS | H3: PRECIOS DE MERCADO | I3: VALOR ESTIMADO
A4: 1 | B4: 115401 | C4: RECUBRIMIENTO DE CORNEA CON COLGAJO CONJUNTIVAL | E4: No aplica | F4: No aplica | G4: =VLOOKUP(B4,'precios historicos'!$D$4:$I$7453,6,) -> 1450764 | H4: =VLOOKUP(B4,'precios del mercado'!$B$4:$D$6580,3,) -> 1451700 | I4: =+H4 -> 1451700
A5: 2 | B5: 115402 | C5: RECUBRIMIENTO DE CORNEA CON INJERTO | E5: No aplica | F5: No aplica | G5: =VLOOKUP(B5,'precios historicos'!$D$4:$I$7453,6,) -> 1450764 | H5: =VLOOKUP(B5,'precios del mercado'!$B$4:$D$6580,3,) -> 1451700 | I5: =+H5 -> 1451700
A6: 3 | B6: 116101 | C6: QUERATOPLASTIA LAMELAR ANTERIOR MANUAL | E6: No aplica | F6: No aplica | G6: =VLOOKUP(B6,'precios historicos'!$D$4:$I$7453,6,) -> 5836856.3 | H6: =VLOOKUP(B6,'precios del mercado'!$B$4:$D$6580,3,) -> 5841000 | I6: =+H6 -> 5841000
A7: 4 | B7: 116102 | C7: QUERATOPLASTIA LAMELAR ANTERIOR ASISTIDA | E7: No aplica | F7: No aplica | G7: =VLOOKUP(B7,'precios historicos'!$D$4:$I$7453,6,) -> 5836856.3 | H7: =VLOOKUP(B7,'precios del mercado'!$B$4:$D$6580,3,) -> 5841000 | I7: =+H7 -> 5841000
A8: 5 | B8: 137003 | C8: INSERCION DE LENTE INTRAOCULAR EN CAMARA POSTERIOR SOBRE RESTOS CAPSULARES | E8: No aplica | F8: No aplica | G8: =VLOOKUP(B8,'precios historicos'!$D$4:$I$7453,6,) -> #N/A | H8: =VLOOKUP(B8,'precios del mercado'!$B$4:$D$6580,3,) -> 3910680 | I8: =+H8 -> 3910680
A9: 6 | B9: 157101 | C9: REPARACION DE LESION EN MUSCULO EXTRAOCULAR, TENDON O CAPSULA DE TENON | E9: No aplica | F9: No aplica | G9: =VLOOKUP(B9,'precios historicos'!$D$4:$I$7453,6,) -> 2250771.3 | H9: =VLOOKUP(B9,'precios del mercado'!$B$4:$D$6580,3,) -> 2252340 | I9: =+H9 -> 2252340
A10: 7 | B10: 237102 | C10: PULPOTOMIA | D10: En caso de ser requerida la participación del médico anestesiólogo, el honorario será facturado con los códigos 998701 o 998702, según el tipo de Anestesia administrada al paciente. | E10: No aplica | F10: No aplica | G10: =VLOOKUP(B10,'precios historicos'!$D$4:$I$7453,6,) -> 277596.48 | H10: =VLOOKUP(B10,'precios del mercado'!$B$4:$D$6580,3,) -> 185200 | I10: =+H10 -> 185200
A11: 8 | B11: 237301 | C11: TERAPIA DE CONDUCTO RADICULAR EN DIENTE UNIRRADICULAR | E11: No aplica | F11: No aplica | G11: =VLOOKUP(B11,'precios historicos'!$D$4:$I$7453,6,) -> 533982.96 | H11: =VLOOKUP(B11,'precios del mercado'!$B$4:$D$6580,3,) -> 356200 | I11: =+H11 -> 356200
A12: 9 | B12: 237601 | C12: FISTULIZACION ENDODONTICA POR TREPANACION Y DRENAJE | D12: En caso de ser requerida la participación del médico anestesiólogo, el honorario será facturado con los códigos 998701 o 998702, según el tipo de Anestesia administrada al paciente. | E12: No aplica | F12: No aplica | G12: =VLOOKUP(B12,'precios historicos'!$D$4:$I$7453,6,) -> 320355.84 | H12: =VLOOKUP(B12,'precios del mercado'!$B$4:$D$6580,3,) -> 213700 | I12: =+H12 -> 213700
A13: 10 | B13: 237602 | C13: FISTULIZACION ENDODONTICA POR INCISION | D13: En caso de ser requerida la participación del médico anestesiólogo, el honorario será facturado con los códigos 998701 o 998702, según el tipo de Anestesia administrada al paciente. | E13: No aplica | F13: No aplica | G13: =VLOOKUP(B13,'precios historicos'!$D$4:$I$7453,6,) -> 320355.84 | H13: =VLOOKUP(B13,'precios del mercado'!$B$4:$D$6580,3,) -> 213700 | I13: =+H13 -> 213700
A14: 11 | B14: 243303 | C14: ENUCLEACION DE QUISTE EPIDERMOIDE | E14: No aplica | F14: No aplica | G14: =VLOOKUP(B14,'precios historicos'!$D$4:$I$7453,6,) -> 640881.36 | H14: =VLOOKUP(B14,'precios del mercado'!$B$4:$D$6580,3,) -> 641400 | I14: =+H14 -> 641400
A15: 12 | B15: 342101 | C15: TORACOSCOPIA DIAGNOSTICA | E15: No aplica | F15: No aplica | G15: =VLOOKUP(B15,'precios historicos'!$D$4:$I$7453,6,) -> 8202874.2 | H15: =VLOOKUP(B15,'precios del mercado'!$B$4:$D$6580,3,) -> 8208720 | I15: =+H15 -> 8208720
A16: 13 | B16: 358904 | C16: DILATACION DE DUCTUS ARTERIOSO (ANGIOPLASTIA O IMPLANTE DE DISPOSITIVO) VIA PERCUTANEA (ENDOVASCULAR) | E16: No aplica | F16: No aplica | G16: =VLOOKUP(B16,'precios historicos'!$D$4:$I$7453,6,) -> 2589181.1 | H16: =VLOOKUP(B16,'precios del mercado'!$B$4:$D$6580,3,) -> 2591100 | I16: =+H16 -> 2591100
A17: 14 | B17: 361801 | C17: ANASTOMOSIS SIMPLE DE ARTERIA CIRCUNFLEJA CON INJERTO VENOSO VIA ABIERTA | E17: No aplica | F17: No aplica | G17: =VLOOKUP(B17,'precios historicos'!$D$4:$I$7453,6,) -> 6282775.3 | H17: =VLOOKUP(B17,'precios del mercado'!$B$4:$D$6580,3,) -> 6287220 | I17: =+H17 -> 6287220
A18: 15 | B18: 372102 | C18: CATETERISMO CARDIACO DEL LADO DERECHO DEL CORAZON CON PRUEBA DE SUSTANCIA TERAPEUTICA | E18: No aplica | F18: No aplica | G18: =VLOOKUP(B18,'precios historicos'!$D$4:$I$7453,6,) -> 1461352 | H18: =VLOOKUP(B18,'precios del mercado'!$B$4:$D$6580,3,) -> 1462320 | I18: =+H18 -> 1462320
A19: 16 | B19: 373413 | C19: MODULACION DE SUSTRATO ARRITMICO (AURICULAR O VENTRICULAR) ENDOCARDICA | E19: No aplica | F19: No aplica | G19: =VLOOKUP(B19,'precios historicos'!$D$4:$I$7453,6,) -> 26614138 | H19: =VLOOKUP(B19,'precios del mercado'!$B$4:$D$6580,3,) -> 26633025 | I19: =+H19 -> 26633025
A20: 17 | B20: 378102 | C20: INSERCION [IMPLANTACION] DE MARCAPASO TEMPORAL (TRANSITORIO) VIA PERCUTANEA (ENDOVASCULAR) | E20: No aplica | F20: No aplica | G20: =VLOOKUP(B20,'precios historicos'!$D$4:$I$7453,6,) -> 965988.24 | H20: =VLOOKUP(B20,'precios del mercado'!$B$4:$D$6580,3,) -> 966600 | I20: =+H20 -> 966600
A21: 18 | B21: 380401 | C21: TROMBOEMBOLECTOMIA ARTERIAL TORACICA | E21: No aplica | F21: No aplica | G21: =VLOOKUP(B21,'precios historicos'!$D$4:$I$7453,6,) -> 4363490.9 | H21: =VLOOKUP(B21,'precios del mercado'!$B$4:$D$6580,3,) -> 4366620 | I21: =+H21 -> 4366620
A22: 19 | B22: 380403 | C22: TROMBOLISIS EN VASOS TORACICOS | E22: No aplica | F22: No aplica | G22: =VLOOKUP(B22,'precios historicos'!$D$4:$I$7453,6,) -> 4363490.9 | H22: =VLOOKUP(B22,'precios del mercado'!$B$4:$D$6580,3,) -> 4366620 | I22: =+H22 -> 4366620
A23: 20 | B23: 385208 | C23: EMBOLIZACION DE EPISTAXIS VIA ENDOVASCULAR | E23: No aplica | F23: No aplica | G23: =VLOOKUP(B23,'precios historicos'!$D$4:$I$7453,6,) -> 8837341.6 | H23: =VLOOKUP(B23,'precios del mercado'!$B$4:$D$6580,3,) -> 8843580 | I23: =+H23 -> 8843580
A24: 21 | B24: 385521 | C24: OCLUSION DE COLATERALES AORTO PULMONARES VIA PERCUTANEA (ENDOVASCULAR) | E24: No aplica | F24: No aplica | G24: =VLOOKUP(B24,'precios historicos'!$D$4:$I$7453,6,) -> 2608321 | H24: =VLOOKUP(B24,'precios del mercado'!$B$4:$D$6580,3,) -> 2610180 | I24: =+H24 -> 2610180
A25: 22 | B25: 389103 | C25: INSERCION DE CATETER CENTRAL, VIA PERIFERICA | D25: Aplica para la inserción de catéteres diferentes a los ofertados como paquete (Catéter PICC, Catéter para quimioterapia en niños, y Catéter Mahurkar) | E25: No aplica | F25: No aplica | G25: =VLOOKUP(B25,'precios historicos'!$D$4:$I$7453,6,) -> 764691.2 | H25: =VLOOKUP(B25,'precios del mercado'!$B$4:$D$6580,3,) -> 2504880 | I25: =+H25 -> 2504880
A26: 23 | B26: 389104 | C26: INSERCION DE CATETER CENTRAL VIA ABIERTA | E26: No aplica | F26: No aplica | G26: =VLOOKUP(B26,'precios historicos'!$D$4:$I$7453,6,) -> 754736.64 | H26: =VLOOKUP(B26,'precios del mercado'!$B$4:$D$6580,3,) -> 1132950 | I26: =+H26 -> 1132950
A27: 24 | B27: 395027 | C27: ANGIOPLASTIA DE VENAS PULMONARES VIA PERCUTANEA (ENDOVASCULAR) | E27: No aplica | F27: No aplica | G27: =VLOOKUP(B27,'precios historicos'!$D$4:$I$7453,6,) -> 2512010.6 | H27: =VLOOKUP(B27,'precios del mercado'!$B$4:$D$6580,3,) -> 2513700 | I27: =+H27 -> 2513700
A28: 25 | B28: 395101 | C28: DENERVACION DE ARTERIAS RENALES VIA PERCUTANEA (ENDOVASCULAR) | E28: No aplica | F28: No aplica | G28: =VLOOKUP(B28,'precios historicos'!$D$4:$I$7453,6,) -> 7561891 | H28: =VLOOKUP(B28,'precios del mercado'!$B$4:$D$6580,3,) -> 7567200 | I28: =+H28 -> 7567200
A29: 26 | B29: 449502 | C29: BAIPAS O DERIVACION O PUENTE DUODENAL PARA REFLUJO DUODENOGASTRICO VIA LAPAROSCOPICA | E29: No aplica | F29: No aplica | G29: =VLOOKUP(B29,'precios historicos'!$D$4:$I$7453,6,) -> 15248802 | H29: =VLOOKUP(B29,'precios del mercado'!$B$4:$D$6580,3,) -> 15259500 | I29: =+H29 -> 15259500
A30: 27 | B30: 457102 | C30: COLECTOMIA PARCIAL CON COLOSTOMIA O ILEOSTOMIA Y FISTULA MUCOSA VIA LAPAROSCOPICA | E30: No aplica | F30: No aplica | G30: =VLOOKUP(B30,'precios historicos'!$D$4:$I$7453,6,) -> 6363000 | H30: =VLOOKUP(B30,'precios del mercado'!$B$4:$D$6580,3,) -> 6390000 | I30: =+H30 -> 6390000
A31: 28 | B31: 502208 | C31: HEPATECTOMIA DE UN SEGMENTO VIA ABIERTA | E31: No aplica | F31: No aplica | G31: =VLOOKUP(B31,'precios historicos'!$D$4:$I$7453,6,) -> 5383199.8 | H31: =VLOOKUP(B31,'precios del mercado'!$B$4:$D$6580,3,) -> 5387040 | I31: =+H31 -> 5387040
A32: 29 | B32: 502209 | C32: HEPATECTOMIA DE UN SEGMENTO VIA LAPAROSCOPICA | E32: No aplica | F32: No aplica | G32: =VLOOKUP(B32,'precios historicos'!$D$4:$I$7453,6,) -> 6728694.3 | H32: =VLOOKUP(B32,'precios del mercado'!$B$4:$D$6580,3,) -> 6733440 | I32: =+H32 -> 6733440
A33: 30 | B33: 521004 | C33: BIOPSIA DE PANCREAS VIA ENDOSCOPICA | E33: No aplica | F33: No aplica | G33: =VLOOKUP(B33,'precios historicos'!$D$4:$I$7453,6,) -> 1553590.1 | H33: =VLOOKUP(B33,'precios del mercado'!$B$4:$D$6580,3,) -> 1554660 | I33: =+H33 -> 1554660
A34: 31 | B34: 534002 | C34: HERNIORRAFIA UMBILICAL VIA LAPAROSCOPICA | E34: No aplica | F34: No aplica | G34: =VLOOKUP(B34,'precios historicos'!$D$4:$I$7453,6,) -> 3451698.4 | H34: =VLOOKUP(B34,'precios del mercado'!$B$4:$D$6580,3,) -> 3454200 | I34: =+H34 -> 3454200
A35: 32 | B35: 540014 | C35: DRENAJE DE COLECCION INTRAPERITONEAL VIA PERCUTANEA | D35: La tarifa incluye una tomografía computada de abdomen y pelvis (abdomen total), los honorarios de médico Radiólogo que efectúa el procedimientos,los insumos y medicamentos utilizados para la realización del estudio. Excluye: Estudio de patología, Anestesia o Sedación (honorarios, medicamentos e insumos) | E35: No aplica | F35: No aplica | G35: =VLOOKUP(B35,'precios historicos'!$D$4:$I$7453,6,) -> #N/A | H35: =VLOOKUP(B35,'precios del mercado'!$B$4:$D$6580,3,) -> 2133800 | I35: =+H35 -> 2133800
A36: 33 | B36: 542102 | C36: LAPAROSCOPIA DE PRECISION (ESTADIFICACION) | E36: No aplica | F36: No aplica | G36: =VLOOKUP(B36,'precios historicos'!$D$4:$I$7453,6,) -> 4037298 | H36: =VLOOKUP(B36,'precios del mercado'!$B$4:$D$6580,3,) -> 4040100 | I36: =+H36 -> 4040100
A37: 34 | B37: 554003 | C37: NEFRECTOMIA PARCIAL POR LAPAROSCOPIA | E37: No aplica | F37: No aplica | G37: =VLOOKUP(B37,'precios historicos'!$D$4:$I$7453,6,) -> 10591697 | H37: =VLOOKUP(B37,'precios del mercado'!$B$4:$D$6580,3,) -> 10599120 | I37: =+H37 -> 10599120
A38: 35 | B38: 621911 | C38: EXPLORACION ABDOMINAL DE TESTICULO NO DESCENDIDO POR LAPAROSCOPIA | D38: LAS 225 UVR APLICAN SI EL PROCEDIMIENTO ES BILATERAL, CUANDO SE REALICE UNILATERAL, SE LIQUIDA POR 120 UVR | E38: No aplica | F38: No aplica | G38: =VLOOKUP(B38,'precios historicos'!$D$4:$I$7453,6,) -> 5726700 | H38: =VLOOKUP(B38,'precios del mercado'!$B$4:$D$6580,3,) -> 5751000 | I38: =+H38 -> 5751000
A39: 36 | B39: 637300 | C39: VASECTOMIA SOD | E39: No aplica | F39: No aplica | G39: =VLOOKUP(B39,'precios historicos'!$D$4:$I$7453,6,) -> #N/A | H39: =VLOOKUP(B39,'precios del mercado'!$B$4:$D$6580,3,) -> 1661400 | I39: =+H39 -> 1661400
A40: 37 | B40: 691201 | C40: ESCISION Y ABLACION DE ENDOMETROSIS ESTADOS I Y II POR LAPAROSCOPIA | E40: No aplica | F40: No aplica | G40: =VLOOKUP(B40,'precios historicos'!$D$4:$I$7453,6,) -> 1781640 | H40: =VLOOKUP(B40,'precios del mercado'!$B$4:$D$6580,3,) -> 1789200 | I40: =+H40 -> 1789200
A41: 38 | B41: 773005 | C41: OSTEOCONDROPLASTIA ACETABULAR POR ARTROSCOPIA | E41: No aplica | F41: No aplica | G41: =VLOOKUP(B41,'precios historicos'!$D$4:$I$7453,6,) -> 9058875.8 | H41: =VLOOKUP(B41,'precios del mercado'!$B$4:$D$6580,3,) -> 9065340 | I41: =+H41 -> 9065340
...

Sheet Hoja4
A2: ITEMS | B2: CODIGOS CUPS | C2: DESCRIPCION | D2: OBSERVACION DEL MERCADO | E2: OFRECE | F2: NO OFRECE
A3: 1 | B3: 115401 | C3: RECUBRIMIENTO DE CORNEA CON COLGAJO CONJUNTIVAL
A4: 2 | B4: 115402 | C4: RECUBRIMIENTO DE CORNEA CON INJERTO
A5: 3 | B5: 116101 | C5: QUERATOPLASTIA LAMELAR ANTERIOR MANUAL
A6: 4 | B6: 116102 | C6: QUERATOPLASTIA LAMELAR ANTERIOR ASISTIDA
A7: 5 | B7: 137003 | C7: INSERCION DE LENTE INTRAOCULAR EN CAMARA POSTERIOR SOBRE RESTOS CAPSULARES
A8: 6 | B8: 157101 | C8: REPARACION DE LESION EN MUSCULO EXTRAOCULAR, TENDON O CAPSULA DE TENON
A9: 7 | B9: 237102 | C9: PULPOTOMIA | D9: En caso de ser requerida la participación del médico anestesiólogo, el honorario será facturado con los códigos 998701 o 998702, según el tipo de Anestesia administrada al paciente.
A10: 8 | B10: 237301 | C10: TERAPIA DE CONDUCTO RADICULAR EN DIENTE UNIRRADICULAR
A11: 9 | B11: 237601 | C11: FISTULIZACION ENDODONTICA POR TREPANACION Y DRENAJE | D11: En caso de ser requerida la participación del médico anestesiólogo, el honorario será facturado con los códigos 998701 o 998702, según el tipo de Anestesia administrada al paciente.
A12: 10 | B12: 237602 | C12: FISTULIZACION ENDODONTICA POR INCISION | D12: En caso de ser requerida la participación del médico anestesiólogo, el honorario será facturado con los códigos 998701 o 998702, según el tipo de Anestesia administrada al paciente.
A13: 11 | B13: 243303 | C13: ENUCLEACION DE QUISTE EPIDERMOIDE
A14: 12 | B14: 342101 | C14: TORACOSCOPIA DIAGNOSTICA
A15: 13 | B15: 358904 | C15: DILATACION DE DUCTUS ARTERIOSO (ANGIOPLASTIA O IMPLANTE DE DISPOSITIVO) VIA PERCUTANEA (ENDOVASCULAR)
A16: 14 | B16: 361801 | C16: ANASTOMOSIS SIMPLE DE ARTERIA CIRCUNFLEJA CON INJERTO VENOSO VIA ABIERTA
A17: 15 | B17: 372102 | C17: CATETERISMO CARDIACO DEL LADO DERECHO DEL CORAZON CON PRUEBA DE SUSTANCIA TERAPEUTICA
A18: 16 | B18: 373413 | C18: MODULACION DE SUSTRATO ARRITMICO (AURICULAR O VENTRICULAR) ENDOCARDICA
A19: 17 | B19: 378102 | C19: INSERCION [IMPLANTACION] DE MARCAPASO TEMPORAL (TRANSITORIO) VIA PERCUTANEA (ENDOVASCULAR)
A20: 18 | B20: 380401 | C20: TROMBOEMBOLECTOMIA ARTERIAL TORACICA
A21: 19 | B21: 380403 | C21: TROMBOLISIS EN VASOS TORACICOS
A22: 20 | B22: 385208 | C22: EMBOLIZACION DE EPISTAXIS VIA ENDOVASCULAR
A23: 21 | B23: 385521 | C23: OCLUSION DE COLATERALES AORTO PULMONARES VIA PERCUTANEA (ENDOVASCULAR)
A24: 22 | B24: 389103 | C24: INSERCION DE CATETER CENTRAL, VIA PERIFERICA | D24: Aplica para la inserción de catéteres diferentes a los ofertados como paquete (Catéter PICC, Catéter para quimioterapia en niños, y Catéter Mahurkar)
A25: 23 | B25: 389104 | C25: INSERCION DE CATETER CENTRAL VIA ABIERTA
A26: 24 | B26: 395027 | C26: ANGIOPLASTIA DE VENAS PULMONARES VIA PERCUTANEA (ENDOVASCULAR)
A27: 25 | B27: 395101 | C27: DENERVACION DE ARTERIAS RENALES VIA PERCUTANEA (ENDOVASCULAR)
A28: 26 | B28: 449502 | C28: BAIPAS O DERIVACION O PUENTE DUODENAL PARA REFLUJO DUODENOGASTRICO VIA LAPAROSCOPICA
A29: 27 | B29: 457102 | C29: COLECTOMIA PARCIAL CON COLOSTOMIA O ILEOSTOMIA Y FISTULA MUCOSA VIA LAPAROSCOPICA
A30: 28 | B30: 502208 | C30: HEPATECTOMIA DE UN SEGMENTO VIA ABIERTA
A31: 29 | B31: 502209 | C31: HEPATECTOMIA DE UN SEGMENTO VIA LAPAROSCOPICA
A32: 30 | B32: 521004 | C32: BIOPSIA DE PANCREAS VIA ENDOSCOPICA
A33: 31 | B33: 534002 | C33: HERNIORRAFIA UMBILICAL VIA LAPAROSCOPICA
A34: 32 | B34: 540014 | C34: DRENAJE DE COLECCION INTRAPERITONEAL VIA PERCUTANEA | D34: La tarifa incluye una tomografía computada de abdomen y pelvis (abdomen total), los honorarios de médico Radiólogo que efectúa el procedimientos,los insumos y medicamentos utilizados para la realización del estudio. Excluye: Estudio de patología, Anestesia o Sedación (honorarios, medicamentos e insumos)
A35: 33 | B35: 542102 | C35: LAPAROSCOPIA DE PRECISION (ESTADIFICACION)
A36: 34 | B36: 554003 | C36: NEFRECTOMIA PARCIAL POR LAPAROSCOPIA
A37: 35 | B37: 621911 | C37: EXPLORACION ABDOMINAL DE TESTICULO NO DESCENDIDO POR LAPAROSCOPIA | D37: LAS 225 UVR APLICAN SI EL PROCEDIMIENTO ES BILATERAL, CUANDO SE REALICE UNILATERAL, SE LIQUIDA POR 120 UVR
A38: 36 | B38: 637300 | C38: VASECTOMIA SOD
A39: 37 | B39: 691201 | C39: ESCISION Y ABLACION DE ENDOMETROSIS ESTADOS I Y II POR LAPAROSCOPIA
A40: 38 | B40: 773005 | C40: OSTEOCONDROPLASTIA ACETABULAR POR ARTROSCOPIA
A41: 39 | B41: 773007 | C41: REPARACION DEL LABRUM ACETABULAR VIA ARTROSCOPICA
...
