Workbook
Name contratación: 'IDENTIFICACION Y ANALISIS'!$B$39:$B$43
Name ejecución: 'IDENTIFICACION Y ANALISIS'!$B$45:$B$69
Name planeación: 'IDENTIFICACION Y ANALISIS'!$B$19:$B$29
Name selección: 'IDENTIFICACION Y ANALISIS'!$B$31:$B$37

Sheet CONTEXTO
B2: . | C2: FORMATO ANÁLISIS DE RIESGOS CONTRACTUALES
C3: CÓDIGO: CON-FM-089 | D3: VERSIÓN: 1
C4: FECHA DE APLICACIÓN: DICIEMBRE DE 2015
B6: ESTABLECER EL CONTEXTO
B7: El punto inicial es identificar el contexto en el cual interactúa la Entidad Estatal para conocer el ambiente social, económico y político, e identificar (i) sus propios Riesgos; (ii) los Riesgos comunes a sus Procesos de Contratación; y (iii) los Riesgos del Proceso de Contratación en particular. (Aplica igual para contratos interadministrativos) En este paso la Entidad Estatal debe identificar los aspectos que se mencionan a continuación y los posibles efectos adversos que estos pueden generar.
B8: Objeto del Proceso de Contratación: REALIZAR MUESTREOS ISOCINÉTICOS PARA LAS FUENTES DE EMISIÓN FIJAS PRESENTES EN LA SEDE DE PRODUCCIÓN DE LA ENTIDAD - Proyecto 7859 Meta
B9: Partícipes del Proceso de Contratación: Agentes externos (Organismos de control, veedurías ciudadanas), agentes internos (supervisores, funcionarios y demás usuarios).
B10: Ciudadanía que se beneficia del Proceso de Contratación: Agentes internos (funcionarios, pasantes) y externos (contratistas, visitantes y usuarios externos en general)
B11: Capacidad de la Entidad Estatal entendida como la disponibilidad de recursos y conocimientos para el Proceso de Contratación: La disponibilidad de la Entidad de sus recursos y el conocimiento de su equipo humano se refleja en los diferentes funcionarios que participarán en las diversas etapas del proceso de selección: participan las áreas que requieren los procesos de contratación (Etapa de Estudios previos), el área de Contratos de la Secretaría General (Etapa contractual), los evaluadores designados, idóneos y con experiencia en el tema.
B12: Suficiencia del presupuesto oficial del Proceso de Contratación: De acuerdo al Plan de contratación para la vigencia 2023, se estimaron los recursos necesarios para el desarrollo del proceso de la contratación, el cual tendrá el soporte presupuestal suficiente para su desarrollo.
B13: Condiciones geográficas y de acceso del lugar en el cual se debe cumplir el objeto del Proceso de Contratación: El servicio se prestará principalmente en las Sedes de la Entidad, o en el lugar indicado en los estudios previos del proceso. El lugar de ejecución del contrato es en Bogotá D.C., en las instalaciones de la UAERMV y sitios definidos por la entidad, los cuales son: - Sede de Producción: ubicada en Parque Minero Industrial “El Mochuelo”. Km 3 vía a Pasquilla de la Localidad Ciudad Bolívar.
B14: Entorno socio ambiental: Si aplican
B15: Condiciones políticas: Si aplican
B16: Factores ambientales: El proveedor deberá estar acreditado por el IDEAM para realizar estudios de muestreos isocinéticos de acuerdo a lo señalado en el Artículo 2.2.8.9.1.5 Decreto 1076 de 2015, “Por medio del cual se expide el Decreto Único Reglamentario del Sector Ambiente y Desarrollo Sostenible.
B17: Sector del objeto del Proceso de Contratación y su mercado: Todos los clientes (entidades privadas, Estatales y Gubernamentales), alrededor en todo el Territorio Nacional Colombiano quienes pueden solicitar estudios de seguimiento y control de las emisiones generadas por fuentes fijas de emisión. Sector ambiente y desarrollo sostenible.
... B19: Experiencia propia y de otras Entidades Estatales en Procesos de Contratación del mismo tipo: La Entidad ha contratado servicios relacionados con el objeto, por lo cual es un proceso que ha sido adelantado de manera permanente en los años 2017,2018 y 2019, 2022; así las cosas se cuenta con la experiencia adquirida en el adelantamiento de este tipo de procesos que ha sido la necesaria para prevenir circunstancias inesperadas y lograr el cumplimiento de los fines de la contratación. Así mismo la Entidad para el presente proceso ha encontrado registro de contrataciones similares de otras entidades, las especificaciones tecnicas no son las mismas que el presente estudio, por lo tanto no son comparables.

Sheet IDENTIFICACION Y ANALISIS
C2: FORMATO ANÁLISIS DE RIESGOS CONTRACTUALES
C3: CÓDIGO: CON-FM-089 | D3: VERSIÓN: 1
C4: FECHA DE APLICACIÓN: DICIEMBRE DE 2015
B6: DEFINICIONES
B7: RIESGO: evento que puede generar efectos adversos y de distinta magnitud en el logro de los objetivos del Proceso de Contratación o en la ejecución de un contrato
B8: RIESGOS PREVISIBLES: Son los posibles hechos o circunstancias que por la naturaleza del contrato y de la actividad a ejecutar es factible su ocurrencia.
B9: ETAPA DE PLANEACIÓN: Está comprendida entre la elaboración del Plan Anual de Adquisiciones y la fecha en la cual decide continuar o no con el Proceso de Contratación
B10: ETAPA DE SELECCIÓN: Está comprendida entre el acto de Apertura del Proceso de Contratación y la Adjudicación o la declaración de desierto del Proceso de Contratación
B11: ETAPA DE CONTRATACIÓN: Una vez adjudicado el contrato objeto del Proceso de Contratación, inicia la etapa de contratación en la cual se debe cumplir con el cronograma previsto para la celebración del contrato, el registro presupuestal, la publicación en el SECOP y el cumplimiento de los requisitos para el perfeccionamiento, ejecución y pago.
B12: ETAPA DE EJECUCIÓN: Inicia una vez cumplidos los requisitos previstos para iniciar la ejecución del contrato respectivo y termina con el vencimiento del plazo del contrato o la fecha de liquidación si hay lugar a ella.
B13: RIESGO GENERAL: Es un riesgo de todos los procesos de contratación adelantados por la Entidad Estatal, por lo cual está presente en toda su actividad contractual.
B14: RIEGO ESPECIFICO: Es un riesgo propio delproceso de contratación objeto de análisis.
B15: INSTRUCCIONES PARA LA IDENTIFICACIÓN, ANALISIS, EVALUACIÓN , ASIGNACIÓN Y TRATAMIENTO DE RIESGOS EN LA CONTRATACIÓN
B16: 1) Identifique los riesgos previsibles que le apliquen al objeto contractual que se adelante; En caso de identificar otro riesgo inclúyalo en la proforma e informe al Área de Contratos de la Secretaría General para que sea actualizada en el SIG.
C17: ETAPAS | D17: CLASE | E17: FUENTE | F17: TIPO
C18: PLANEACIÓN
B19: Inadecuada escogencia de la modalidad de contratación | F19: Operacionales
B20: Requisitos habilitantes inapropiados para el proceso de selección | F20: Operacionales
B21: Inadecuado análisis económico estimativo del valor del contrato | D21: General | E21: Interno | F21: Economicos
B22: Inadecuada descripción del bien o servicio requerido | F22: Operacionales
B23: Inadecuada elaboración de estudios y diseños | F23: Operacionales
B24: Requisitos habilitantes que impidan la selección objetiva | F24: Operacionales
B25: Falta de profundidad en el estudio de sector no identificandose claramente aspectos de oferta y demanda | F25: Economicos
B26: Ausencia de fundamentación de la justificación y conveniencia de la contratación | F26: Operacionales
B27: Inadecuada identificación de las condiciones contractuales | F27: Operacionales
B28: No aprobación o demoras en la expedición vigencias futuras | F28: Operacionales
B29: Apertura de procesos sin disponibilidad presupuestal | F29: Operacionales
C30: SELECCIÓN
B31: Inadecuada evaluación de las ofertas y/o verificación de requisitos habilitantes | D31: General | E31: Interno | F31: Operacionales
B32: Inadecuado manejo administrativo del proceso contractual | F32: Operacionales
B33: Falta de claridad en la elaboración de los actos administrativos | F33: Operacionales
B34: Contestación inoportuna a todas las observaciones formuladas a los documentos de la contratación | F34: Operacionales
B35: No publicación de la documentación del proceso de selección en el SECOP | F35: Operacionales
B36: Confabulacion de los proponentes (Colusión) | F36: Operacionales
B37: Selección de ofertas con precios artificialmente bajos. | D37: General | E37: Interno | F37: Operacionales
C38: CONTRATACIÓN
B39: Riesgo de que no se firme el contrato. | F39: Operacionales
B40: Falta de constitución o constitución tardía de la garantía única. Aceptación de garantías que no se ajustan a lo contemplado en el contrato | F40: Operacionales
B41: Falta de solicitud o solicitud tardía del registro presupuestal | F41: Operacionales
B42: No publicación de la documentación del proceso de selección en el SECOP | F42: Operacionales
...

Sheet EVALUACION
C2: FORMATO ANÁLISIS DE RIESGOS CONTRACTUALES
C3: CÓDIGO: CON-FM-089 | H3: VERSIÓN: 1
C4: FECHA DE APLICACIÓN: DICIEMBRE DE 2015
B6: Objeto Contractual:REALIZAR MUESTREOS ISOCINÉTICOS PARA LAS FUENTES DE EMISIÓN FIJAS PRESENTES EN LA SEDE DE PRODUCCIÓN DE LA ENTIDAD - Proyecto 7859 Meta 2.
B7: INSTRUCCIONES PARA LA IDENTIFICACIÓN, ANALISIS, EVALUACIÓN , ASIGNACIÓN Y TRATAMIENTO DE RIESGOS EN LA CONTRATACIÓN
B8: 1) Seleccione el tipo de calificación (Cualitativa ó Monetaria)
B9: 2) Seleccione la(s) etapas y los riesgos que aplican al objeto contractual
B10: 3) Asigne la probabilidad de ocurrencia del riesgo, de conformidad con la tabla de probabilidad
B11: 4) Asigne el impacto que generaría la materialización del riesgo, de conformidad con la tabla de impacto
B12: 5) Al realizar las anteriores actividades se obtendrá la calificación total y la valoración del riesgo (prioridad) , traslde al formato evaluación con controles, los que tengan un nivel de criticidad diferente a bajo.
B13: 6) Continúe en la hoja de evaluación de controles
B15: CALIFICACIÓN | H15: Cualitativa
B16: ETAPA | C16: Descripción (Que puede pasar y, cómo puede ocurrir) | H16: Consecuencias de la ocurrencia del evento | I16: Probabilidad de Ocurrencia | J16: Impacto | K16: Calificación Total | L16: Prioridad
B17: SELECCIÓN | C17: Inadecuada evaluación de las ofertas y/o verificación de requisitos habilitantes | H17: aceptacion de la oferta viciada por nulidad absoluta a causa de una selección no objetiva | I17: 2 | J17: 4 | K17: =+I17+J17 -> 6 | L17: =IF(K17<=4,"BAJO",IF(K17=5,"MEDIO",IF(K17=6,"ALTO",IF(K17=7,"ALTO","EXTREMO")))) -> ALTO
B18: SELECCIÓN | C18: Selección de ofertas con precios artificialmente bajos. | H18: Posible afectación de la aceptacion de la oferta , que pueda llegar a generar el incumplimiento del contrato | I18: 2 | J18: 4 | K18: =+I18+J18 -> 6 | L18: =IF(K18<=4,"BAJO",IF(K18=5,"MEDIO",IF(K18=6,"ALTO",IF(K18=7,"ALTO","EXTREMO")))) -> ALTO
B19: EJECUCIÓN | C19: Variación de los precios del mercado | H19: Sobrecostos que afecta el precio ofertado y aceptacion de la oferta | I19: 2 | J19: 2 | K19: =+I19+J19 -> 4 | L19: =IF(K19<=4,"BAJO",IF(K19=5,"MEDIO",IF(K19=6,"ALTO",IF(K19=7,"ALTO","EXTREMO")))) -> BAJO
B20: EJECUCIÓN | C20: Demoras en la prestacion del servicio o informe de resulatados establecido por el supervisor | H20: Afectacion en la ejecucion de actividades operativas de la Entidad y de los trabajadores. | I20: 2 | J20: 3 | K20: =+I20+J20 -> 5 | L20: =IF(K20<=4,"BAJO",IF(K20=5,"MEDIO",IF(K20=6,"ALTO",IF(K20=7,"ALTO","EXTREMO")))) -> MEDIO
B21: PLANEACIÓN | C21: Inadecuado análisis económico estimativo del valor del contrato | H21: Retraso en los tiempos establecidos para el desarrollo del proceso contractual . | I21: 2 | J21: 3 | K21: =+I21+J21 -> 5 | L21: =IF(K21<=4,"BAJO",IF(K21=5,"MEDIO",IF(K21=6,"ALTO",IF(K21=7,"ALTO","EXTREMO")))) -> MEDIO
B22: EJECUCIÓN | C22: Daños a los bienes de la entidad por la ejecucion del contrato | H22: Retraso en las actividades misionales de la entidad, afectando la operación normal de la Entidad y de los trabajadores. | I22: 2 | J22: 3 | K22: =+I22+J22 -> 5 | L22: =IF(K22<=4,"BAJO",IF(K22=5,"MEDIO",IF(K22=6,"ALTO",IF(K22=7,"ALTO","EXTREMO")))) -> MEDIO
B25: Probabilidad | C25: Catagoria | E25: Valoración | G25: Impacto | H25: Categoria | I25: Valoración
C26: Raro (puede ocurrir excepcionalmente) | E26: 1 | H26: Insignificante | I26: 1
C27: Improbable (puede ocurrir ocasionalmente) | E27: 2 | H27: Menor | I27: 2
C28: Posible (puede ocurrir en cualquier momento futuro) | E28: 3 | H28: Moderado | I28: 3
C29: Probable (probablemente va a ocurrir) | E29: 4 | H29: Mayor | I29: 4
C30: Casi cierto (ocurre en la mayoria de circunstancias) | E30: 5 | H30: Catastrófico | I30: 5
C32: Valoración del Riesgo
C33: Calificación Cualitativa | F33: Obstruye la ejecución del contrato de manera intrascendente. | G33: Dificulta la ejecución del contrato de manera baja, aplicando medidas mínimas se pueden lograr el objeto contractual | H33: Afecta la ejecución del contrato sin alterar el beneficio para las partes | I33: Obstruye la ejecución del contrato sustancialmente pero aun así permite la consecución del objeto contractual | K33: Perturba la ejecución del contrato de manera grave imposibilitando la consecución del objeto contractual.
C34: Calificación Monetaria | F34: Los sobrecostos no representan más del uno por ciento (1%) del valor del contrato. | G34: Los sobrecostos no representan más del cinco por ciento (5%) del valor del contrato. | H34: Genera un impacto sobre el valor del contrato entre el cinco (5%) y el quince por ciento (15%). | I34: Incrementa el valor del contrato entre el quince (15%) y el treinta por ciento (30%). | K34: Impacto sobre el valor del contrato en más del treinta por ciento (30%).
C35: Categoría | E35: Valoración | F35: Insignificante | G35: Menor | H35: Moderado | I35: Mayor | K35: Catastrófico
F36: 1 | G36: 2 | H36: 3 | I36: 4 | K36: 5
C37: Raro (puede ocurrir excepcionalmente) | E37: 1 | F37: 2 | G37: 3 | H37: 4 | I37: 5 | K37: 6
C38: Improbable (puede ocurrir ocasionalmente) | E38: 2 | F38: 3 | G38: 4 | H38: 5 | I38: 6 | K38: 7
C39: Posible (puede ocurrir en cualquier momento futuro) | E39: 3 | F39: 4 | G39: 5 | H39: 6 | I39: 7 | K39: 8
C40: Probable (probablemente va a ocurrir) | E40: 4 | F40: 5 | G40: 6 | H40: 7 | I40: 8 | K40: 9
C41: Casi cierto (ocurre en la mayoria de circunstancias) | E41: 5 | F41: 6 | G41: 7 | H41: 8 | I41: 9 | K41: 10
G43: Categoria del Riesgo
G44: Valoración del Riesgo | H44: Categoría
G45: 8, 9 y 10 | H45: Riesgo extremo
G46: 6 y 7 | H46: Riesgo alto
G47: 5 | H47: Riesgo medio
...

Sheet EVALUACION CON CONTROLES
C2: FORMATO ANÁLISIS DE RIESGOS CONTRACTUALES
C3: CÓDIGO: CON-FM-089 | J3: VERSIÓN: 1
C4: FECHA DE APLICACIÓN: DICIEMBRE DE 2015
B6: =+EVALUACION!B6 -> Objeto Contractual:REALIZAR MUESTREOS ISOCINÉTICOS PARA LAS FUENTES DE EMISIÓN FIJAS PRESENTES EN LA SEDE DE PRODUCCIÓN DE LA ENTIDAD - Proyecto 7859 Meta 2.
B7: INSTRUCCIONES PARA LA IDENTIFICACIÓN, ANALISIS, EVALUACIÓN , ASIGNACIÓN Y TRATAMIENTO DE RIESGOS EN LA CONTRATACIÓN
B8: 1) Describa el tratamiento/controles a ser implementados
B9: 2) Teniendo en cuenta el tratamiento descrito, asigne la probabilidad de ocurrencia del riesgo, de conformidad con la tabla de probabilidad
B10: 3) Teniendo en cuenta el tratamiento descrito, asigne el impacto que generaría la materialización del riesgo, de conformidad con la tabla de impacto
B11: 4) Al realizar las anteriores actividades se obtendrá la calificación total y la valoración del riesgo (prioridad)
B12: 5) Diligencie la información de las démas columnas
B13: 7) Continúe en la hoja de asignación y tratamiento
B15: ETAPA | C15: Descripción (Que puede pasar y, cómo puede ocurrir) | G15: Tratamiento/Controles a ser implementados | I15: Probabilidad de Ocurrencia | J15: Impacto | K15: Calificación Total | L15: Prioridad | M15: ¿Afecta el equilibrio económico del contrato? | N15: Persona responsable por implementar el tratamiento | O15: Fecha estimada en que se inicia el tratamiento | P15: Fecha estimada en que se completa el tratamiento | Q15: ¿Cómo se realiza el monitoreo? | R15: Periodicidad ¿Cuándo?
B16: =+EVALUACION!B17 -> SELECCIÓN | C16: =+EVALUACION!C17 -> Inadecuada evaluación de las ofertas y/o verificación de requisitos habilitantes | G16: Seleccionar un comité evaluador idóneo que garantice una correcta aplicación de las condiciones establecidas en la invitación pública, en caso de presentarse dudas o situaciones que puedan afectar la correcta aceptación de la oferta, informar al abogado responsable del proceso para que se tomen las medidas preventivas del caso | I16: =+EVALUACION!I17 -> 2 | J16: =+EVALUACION!J17 -> 4 | K16: =+I16+J16 -> 6 | L16: =IF(K16<=4,"BAJO",IF(K16=5,"MEDIO",IF(K16=6,"ALTO",IF(K16=7,"ALTO","EXTREMO")))) -> ALTO | M16: NO | N16: Comité Evaluador | O16: Entrega de propuestas a los miembros del comité evaluador | P16: Aceptacion de la oferta | Q16: Verificando el cumplimiento d erequisitos habilitantes y demás exigidos en la invitación pública | R16: Dentro del plazo estimado para la verificación y evaluación de las propuesta y hasta la firma del contrato.
B17: =+EVALUACION!B18 -> SELECCIÓN | C17: =+EVALUACION!C18 -> Selección de ofertas con precios artificialmente bajos. | G17: Aplicar durante la evaluación de las ofertas el procedimiento descrito en el Decreto 1082 de 2015 sobre precios artificialmente bajos y atender la normatividad vigente | I17: =+EVALUACION!I18 -> 2 | J17: =+EVALUACION!J18 -> 4 | K17: =+I17+J17 -> 6 | L17: =IF(K17<=4,"BAJO",IF(K17=5,"MEDIO",IF(K17=6,"ALTO",IF(K17=7,"ALTO","EXTREMO")))) -> ALTO | M17: SI | N17: Comité Evaluador | O17: Entrega de propuestas a los miembros del comité evaluador | P17: Acepracion de la oferta | Q17: Comparación de los valores ofertados con los precios del mercado vigentes a la fecha de presentación de la propuesta. | R17: Durante la fase de evaluación del proceso de contratación.
B18: =+EVALUACION!B19 -> EJECUCIÓN | C18: =+EVALUACION!C19 -> Variación de los precios del mercado | G18: El oferente deberá prever la posible fluctuación de precios durante la etapa precontractual para definir la oferta económica ya que deberá mantener el precio durante toda la ejecución del contrato | I18: =+EVALUACION!I19 -> 2 | J18: =+EVALUACION!J19 -> 2 | K18: =+I18+J18 -> 4 | L18: =IF(K18<=4,"BAJO",IF(K18=5,"MEDIO",IF(K18=6,"ALTO",IF(K18=7,"ALTO","EXTREMO")))) -> BAJO | M18: SI | N18: Contatista y Supervisor | O18: Antes de presentar la oferta y Durante la ejecución del contrato | P18: Acta de Terminación | Q18: Seguimiento permanente de precios | R18: Durante la ejecucin del contrato
B19: =+EVALUACION!B20 -> EJECUCIÓN | C19: =+EVALUACION!C20 -> Demoras en la prestacion del servicio o informe de resulatados establecido por el supervisor | G19: Definir cronograma de trabajo que garantice el debido cumplimiento al objeto contractual, en caso de modificaciones deberán ser autorizadas por el supervisor y estar plenamente justificadas por eventos de fuerza mayor. | I19: =+EVALUACION!I20 -> 2 | J19: =+EVALUACION!J20 -> 3 | K19: =+I19+J19 -> 5 | L19: =IF(K19<=4,"BAJO",IF(K19=5,"MEDIO",IF(K19=6,"ALTO",IF(K19=7,"ALTO","EXTREMO")))) -> MEDIO | M19: NO | N19: Contratista Supervisor | O19: Cuando el supervisor envìa comunicado al contratista para que cumpla con los plazos de entrega pactados. | P19: Cuando se reciben a satisfaccion los informes solicitados | Q19: verificacion de los informes recibidos | R19: Durante la ejecucion del contrato
B20: =+EVALUACION!B21 -> PLANEACIÓN | C20: =+EVALUACION!C21 -> Inadecuado análisis económico estimativo del valor del contrato | G20: El estructurador económico deberá realizar un adecuado análisis de las cotizaciones recibidas para determinar el valor del presupuesto oficial del proceso, aplicando la guia establecida por colomiba compra eficiente para realizar dicho análisis | I20: =+EVALUACION!I21 -> 2 | J20: =+EVALUACION!J21 -> 3 | K20: =+I20+J20 -> 5 | L20: =IF(K20<=4,"BAJO",IF(K20=5,"MEDIO",IF(K20=6,"ALTO",IF(K20=7,"ALTO","EXTREMO")))) -> MEDIO | M20: SI | N20: estructurador económico | O20: durante la estructuración del estudio de mercado | P20: Hasta la aprobación del proceso en mesa interdisciplinaria | Q20: análisis de las cotizaciones recibidas de acuerdo a guía de colombia compra eficiente | R20: permanente durante la estructuración del estudio del sector
B21: =+EVALUACION!B22 -> EJECUCIÓN | C21: =+EVALUACION!C22 -> Daños a los bienes de la entidad por la ejecucion del contrato | G21: Realizar la solicitudes por parte del supervisor, y de no acatarla aplicar sanciones o multas correspondientes | I21: =+EVALUACION!I22 -> 2 | J21: =+EVALUACION!J22 -> 3 | K21: =+I21+J21 -> 5 | L21: =IF(K21<=4,"BAJO",IF(K21=5,"MEDIO",IF(K21=6,"ALTO",IF(K21=7,"ALTO","EXTREMO")))) -> MEDIO | M21: NO | N21: Supervisor | O21: Desde que se detecta la anomalia | P21: Cuando se recibe a satisfacción por parte del supervisor | Q21: Verificacion de la calidad de los bienes | R21: Durante la ejecucion del contrato
C22: Categoria del Riesgo | H22: Impacto del Riesgo
B23: Probabilidad | C23: Catagoria | F23: Valoración | H23: Categoria | J23: Valoración | N23: Categoria del Riesgo
C24: Raro (puede ocurrir excepcionalmente) | F24: 1 | H24: Insignificante | J24: 1 | N24: Valoración del Riesgo | P24: Categoría
C25: Improbable (puede ocurrir ocasionalmente) | F25: 2 | H25: Menor | J25: 2 | N25: 8, 9 y 10 | P25: Riesgo extremo
C26: Posible (puede ocurrir en cualquier momento futuro) | F26: 3 | H26: Moderado | J26: 3 | N26: 6 y 7 | P26: Riesgo alto
C27: Probable (probablemente va a ocurrir) | F27: 4 | H27: Mayor | J27: 4 | N27: 5 | P27: Riesgo medio
C28: Casi cierto (ocurre en la mayoria de circunstancias) | F28: 5 | H28: Catastrófico | J28: 5 | N28: 2, 3 y 4 | P28: Riesgo bajo
C30: Valoración del Riesgo
C31: Calificación Cualitativa | G31: Obstruye la ejecución del contrato de manera intrascendente. | I31: Dificulta la ejecución del contrato de manera baja, aplicando medidas mínimas se pueden lograr el objeto contractual | L31: Afecta la ejecución del contrato sin alterar el beneficio para las partes | N31: Obstruye la ejecución del contrato sustancialmente pero aun así permite la consecución del objeto contractual | P31: Perturba la ejecución del contrato de manera grave imposibilitando la consecución del objeto contractual.
C32: Calificación Monetaria | G32: Los sobrecostos no representan más del uno por ciento (1%) del valor del contrato. | I32: Los sobrecostos no representan más del cinco por ciento (5%) del valor del contrato. | L32: Genera un impacto sobre el valor del contrato entre el cinco (5%) y el quince por ciento (15%). | N32: Incrementa el valor del contrato entre el quince (15%) y el treinta por ciento (30%). | P32: Impacto sobre el valor del contrato en más del treinta por ciento (30%).
C33: Catagoria | F33: Valoración | G33: Insignificante | I33: Menor | L33: Moderado | N33: Mayor | P33: Catastrófico
G34: 1 | I34: 2 | L34: 3 | N34: 4 | P34: 5
C35: Raro (puede ocurrir excepcionalmente) | F35: 1 | G35: 2 | I35: 3 | L35: 4 | N35: 5 | P35: 6
C36: Improbable (puede ocurrir ocasionalmente) | F36: 2 | G36: 3 | I36: 4 | L36: 5 | N36: 6 | P36: 7
C37: Posible (puede ocurrir en cualquier momento futuro) | F37: 3 | G37: 4 | I37: 5 | L37: 6 | N37: 7 | P37: 8
C38: Probable (probablemente va a ocurrir) | F38: 4 | G38: 5 | I38: 6 | L38: 7 | N38: 8 | P38: 9
C39: Casi cierto (ocurre en la mayoria de circunstancias) | F39: 5 | G39: 6 | I39: 7 | L39: 8 | N39: 9 | P39: 10

Sheet ASIGNACION Y TRATAMIENTO
C2: FORMATO ANÁLISIS DE RIESGOS CONTRACTUALES
C3: CÓDIGO: CON-FM-089 | L3: VERSIÓN: 1
C4: FECHA DE APLICACIÓN: DICIEMBRE DE 2015
B6: =+EVALUACION!B6 -> Objeto Contractual:REALIZAR MUESTREOS ISOCINÉTICOS PARA LAS FUENTES DE EMISIÓN FIJAS PRESENTES EN LA SEDE DE PRODUCCIÓN DE LA ENTIDAD - Proyecto 7859 Meta 2.
B7: INSTRUCCIONES PARA LA IDENTIFICACIÓN, ANALISIS, EVALUACIÓN , ASIGNACIÓN Y TRATAMIENTO DE RIESGOS EN LA CONTRATACIÓN
B8: Esta matriz es un documento anexo del Estudio Previo
B10: No | C10: Descripción (Que puede pasar y, cómo puede ocurrir) | D10: Etapa | E10: Clase | F10: Fuente | G10: Consecuencias de la ocurrencia del evento | H10: Probabilidad | I10: Impacto | J10: Calificación total | K10: Prioridad | L10: ¿A quien se le asigna? | M10: % | N10: Tratamiento/Controles a ser implementados | O10: Probabilidad | P10: Impacto | Q10: Calificación total | R10: Prioridad | S10: ¿Afecta el equilibrio económico del contrato? | T10: Persona responsable por implementar el tratamiento | U10: Fecha estimada en que se inicia el tratamiento | V10: Fecha estimada en que se completa el tratamiento | W10: ¿Cómo se realiza el monitoreo | X10: Periodicidad ¿Cuándo?
B11: 1 | C11: =+'EVALUACION CON CONTROLES'!C16:F16 -> Inadecuada evaluación de las ofertas y/o verificación de requisitos habilitantes | D11: =+'EVALUACION CON CONTROLES'!B16 -> SELECCIÓN | E11: =VLOOKUP(C11,'IDENTIFICACION Y ANALISIS'!$B$19:$F$69,3,FALSE) -> General | F11: =VLOOKUP(C11,'IDENTIFICACION Y ANALISIS'!$B$19:$F$69,4,FALSE) -> Interno | G11: =+EVALUACION!H17 -> aceptacion de la oferta viciada por nulidad absoluta a causa de una selección no objetiva | H11: =+EVALUACION!I17 -> 2 | I11: =+EVALUACION!J17 -> 4 | J11: =+EVALUACION!K17 -> 6 | K11: =+EVALUACION!L17 -> ALTO | L11: UAERMV | M11: 100 | N11: =+'EVALUACION CON CONTROLES'!G16 -> Seleccionar un comité evaluador idóneo que garantice una correcta aplicación de las condiciones establecidas en la invitación pública, en caso de presentarse dudas o situaciones que puedan afectar la correcta aceptación de la oferta, informar al abogado responsable del proceso para que se tomen las medidas preventivas del caso | O11: 1 | P11: 2 | Q11: 3 | R11: BAJO | S11: NO | T11: Comité evaluador | U11: =+'EVALUACION CON CONTROLES'!O16 -> Entrega de propuestas a los miembros del comité evaluador | V11: =+'EVALUACION CON CONTROLES'!P16 -> Aceptacion de la oferta | W11: =+'EVALUACION CON CONTROLES'!Q16 -> Verificando el cumplimiento d erequisitos habilitantes y demás exigidos en la invitación pública | X11: =+'EVALUACION CON CONTROLES'!R16 -> Dentro del plazo estimado para la verificación y evaluación de las propuesta y hasta la firma del contrato.
B12: 2 | C12: =+'EVALUACION CON CONTROLES'!C17:F17 -> Selección de ofertas con precios artificialmente bajos. | D12: =+'EVALUACION CON CONTROLES'!B17 -> SELECCIÓN | E12: =VLOOKUP(C12,'IDENTIFICACION Y ANALISIS'!$B$19:$F$69,3,FALSE) -> General | F12: =VLOOKUP(C12,'IDENTIFICACION Y ANALISIS'!$B$19:$F$69,4,FALSE) -> Interno | G12: =+EVALUACION!H18 -> Posible afectación de la aceptacion de la oferta , que pueda llegar a generar el incumplimiento del contrato | H12: =+EVALUACION!I18 -> 2 | I12: =+EVALUACION!J18 -> 4 | J12: =+EVALUACION!K18 -> 6 | K12: =+EVALUACION!L18 -> ALTO | L12: UAERMV | M12: 100 | N12: =+'EVALUACION CON CONTROLES'!G17 -> Aplicar durante la evaluación de las ofertas el procedimiento descrito en el Decreto 1082 de 2015 sobre precios artificialmente bajos y atender la normatividad vigente | O12: 1 | P12: 2 | Q12: 3 | R12: BAJO | S12: =+'EVALUACION CON CONTROLES'!M17 -> SI | T12: =+'EVALUACION CON CONTROLES'!N17 -> Comité Evaluador | U12: =+'EVALUACION CON CONTROLES'!O17 -> Entrega de propuestas a los miembros del comité evaluador | V12: =+'EVALUACION CON CONTROLES'!P17 -> Acepracion de la oferta | W12: =+'EVALUACION CON CONTROLES'!Q17 -> Comparación de los valores ofertados con los precios del mercado vigentes a la fecha de presentación de la propuesta. | X12: =+'EVALUACION CON CONTROLES'!R17 -> Durante la fase de evaluación del proceso de contratación.
B13: 3 | C13: =+'EVALUACION CON CONTROLES'!C18:F18 -> Variación de los precios del mercado | D13: =+'EVALUACION CON CONTROLES'!B18 -> EJECUCIÓN | E13: =VLOOKUP(C13,'IDENTIFICACION Y ANALISIS'!$B$19:$F$69,3,FALSE) -> General | F13: =VLOOKUP(C13,'IDENTIFICACION Y ANALISIS'!$B$19:$F$69,4,FALSE) -> Externo | G13: =+EVALUACION!H19 -> Sobrecostos que afecta el precio ofertado y aceptacion de la oferta | H13: =+EVALUACION!I19 -> 2 | I13: =+EVALUACION!J19 -> 2 | J13: =+EVALUACION!K19 -> 4 | K13: =+EVALUACION!L19 -> BAJO | L13: Contratista | M13: 100 | N13: =+'EVALUACION CON CONTROLES'!G18 -> El oferente deberá prever la posible fluctuación de precios durante la etapa precontractual para definir la oferta económica ya que deberá mantener el precio durante toda la ejecución del contrato | O13: 1 | P13: 1 | Q13: 2 | R13: =+'EVALUACION CON CONTROLES'!L18 -> BAJO | S13: =+'EVALUACION CON CONTROLES'!M18 -> SI | T13: =+'EVALUACION CON CONTROLES'!N18 -> Contatista y Supervisor | U13: =+'EVALUACION CON CONTROLES'!O18 -> Antes de presentar la oferta y Durante la ejecución del contrato | V13: =+'EVALUACION CON CONTROLES'!P18 -> Acta de Terminación | W13: =+'EVALUACION CON CONTROLES'!Q18 -> Seguimiento permanente de precios | X13: =+'EVALUACION CON CONTROLES'!R18 -> Durante la ejecucin del contrato
B14: 4 | C14: =+'EVALUACION CON CONTROLES'!C19:F19 -> Demoras en la prestacion del servicio o informe de resulatados establecido por el supervisor | D14: =+'EVALUACION CON CONTROLES'!B19 -> EJECUCIÓN | E14: =VLOOKUP(C14,'IDENTIFICACION Y ANALISIS'!$B$19:$F$69,3,FALSE) -> Especifico | F14: =VLOOKUP(C14,'IDENTIFICACION Y ANALISIS'!$B$19:$F$69,4,FALSE) -> Externo | G14: =+EVALUACION!H20 -> Afectacion en la ejecucion de actividades operativas de la Entidad y de los trabajadores. | H14: =+EVALUACION!I20 -> 2 | I14: =+EVALUACION!J20 -> 3 | J14: =+EVALUACION!K20 -> 5 | K14: =+EVALUACION!L20 -> MEDIO | L14: Contratista | M14: 100 | N14: =+'EVALUACION CON CONTROLES'!G19 -> Definir cronograma de trabajo que garantice el debido cumplimiento al objeto contractual, en caso de modificaciones deberán ser autorizadas por el supervisor y estar plenamente justificadas por eventos de fuerza mayor. | O14: 1 | P14: 2 | Q14: 3 | R14: BAJO | S14: =+'EVALUACION CON CONTROLES'!M19 -> NO | T14: =+'EVALUACION CON CONTROLES'!N19 -> Contratista Supervisor | U14: =+'EVALUACION CON CONTROLES'!O19 -> Cuando el supervisor envìa comunicado al contratista para que cumpla con los plazos de entrega pactados. | V14: =+'EVALUACION CON CONTROLES'!P19 -> Cuando se reciben a satisfaccion los informes solicitados | W14: =+'EVALUACION CON CONTROLES'!Q19 -> verificacion de los informes recibidos | X14: =+'EVALUACION CON CONTROLES'!R19 -> Durante la ejecucion del contrato
B15: 5 | C15: =+'EVALUACION CON CONTROLES'!C20:F20 -> Inadecuado análisis económico estimativo del valor del contrato | D15: =+'EVALUACION CON CONTROLES'!B20 -> PLANEACIÓN | E15: =VLOOKUP(C15,'IDENTIFICACION Y ANALISIS'!$B$19:$F$69,3,FALSE) -> General | F15: =VLOOKUP(C15,'IDENTIFICACION Y ANALISIS'!$B$19:$F$69,4,FALSE) -> Interno | G15: =+EVALUACION!H21 -> Retraso en los tiempos establecidos para el desarrollo del proceso contractual . | H15: =+EVALUACION!I21 -> 2 | I15: =+EVALUACION!J21 -> 3 | J15: =+EVALUACION!K21 -> 5 | K15: =+EVALUACION!L21 -> MEDIO | L15: UAERMV | M15: 100 | N15: =+'EVALUACION CON CONTROLES'!G20 -> El estructurador económico deberá realizar un adecuado análisis de las cotizaciones recibidas para determinar el valor del presupuesto oficial del proceso, aplicando la guia establecida por colomiba compra eficiente para realizar dicho análisis | O15: 1 | P15: 2 | Q15: 3 | R15: BAJO | S15: =+'EVALUACION CON CONTROLES'!M20 -> SI | T15: =+'EVALUACION CON CONTROLES'!N20 -> estructurador económico | U15: =+'EVALUACION CON CONTROLES'!O20 -> durante la estructuración del estudio de mercado | V15: =+'EVALUACION CON CONTROLES'!P20 -> Hasta la aprobación del proceso en mesa interdisciplinaria | W15: =+'EVALUACION CON CONTROLES'!Q20 -> análisis de las cotizaciones recibidas de acuerdo a guía de colombia compra eficiente | X15: =+'EVALUACION CON CONTROLES'!R20 -> permanente durante la estructuración del estudio del sector
B16: 6 | C16: =+'EVALUACION CON CONTROLES'!C21:F21 -> Daños a los bienes de la entidad por la ejecucion del contrato | D16: =+'EVALUACION CON CONTROLES'!B21 -> EJECUCIÓN | E16: =VLOOKUP(C16,'IDENTIFICACION Y ANALISIS'!$B$19:$F$69,3,FALSE) -> General | F16: =VLOOKUP(C16,'IDENTIFICACION Y ANALISIS'!$B$19:$F$69,4,FALSE) -> Externo | G16: =+EVALUACION!H22 -> Retraso en las actividades misionales de la entidad, afectando la operación normal de la Entidad y de los trabajadores. | H16: =+EVALUACION!I22 -> 2 | I16: =+EVALUACION!J22 -> 3 | J16: =+EVALUACION!K22 -> 5 | K16: =+EVALUACION!L22 -> MEDIO | L16: Contratista | M16: 100 | N16: =+'EVALUACION CON CONTROLES'!G21 -> Realizar la solicitudes por parte del supervisor, y de no acatarla aplicar sanciones o multas correspondientes | O16: 1 | P16: 2 | Q16: 3 | R16: BAJO | S16: =+'EVALUACION CON CONTROLES'!M21 -> NO | T16: Supervisor | U16: =+'EVALUACION CON CONTROLES'!O21 -> Desde que se detecta la anomalia | V16: =+'EVALUACION CON CONTROLES'!P21 -> Cuando se recibe a satisfacción por parte del supervisor | W16: =+'EVALUACION CON CONTROLES'!Q21 -> Verificacion de la calidad de los bienes | X16: =+'EVALUACION CON CONTROLES'!R21 -> Durante la ejecucion del contrato
B18: 14 | C18: =+_xlfn.SINGLE('EVALUACION CON CONTROLES'!#REF!) -> #REF! | D18: =+'EVALUACION CON CONTROLES'!#REF! -> #REF! | E18: =VLOOKUP(C18,'IDENTIFICACION Y ANALISIS'!$B$19:$F$69,3,FALSE) -> #REF! | F18: =VLOOKUP(C18,'IDENTIFICACION Y ANALISIS'!$B$19:$F$69,4,FALSE) -> #REF! | G18: =+EVALUACION!#REF! -> #REF! | H18: =+EVALUACION!#REF! -> #REF! | I18: =+EVALUACION!#REF! -> #REF! | J18: =+EVALUACION!#REF! -> #REF! | K18: =+EVALUACION!#REF! -> #REF! | N18: =+'EVALUACION CON CONTROLES'!#REF! -> #REF! | O18: =+'EVALUACION CON CONTROLES'!#REF! -> #REF! | P18: =+'EVALUACION CON CONTROLES'!#REF! -> #REF! | Q18: =+'EVALUACION CON CONTROLES'!#REF! -> #REF! | R18: =+'EVALUACION CON CONTROLES'!#REF! -> #REF! | S18: =+'EVALUACION CON CONTROLES'!#REF! -> #REF! | T18: =+'EVALUACION CON CONTROLES'!#REF! -> #REF! | U18: =+'EVALUACION CON CONTROLES'!#REF! -> #REF! | ... X18: =+'EVALUACION CON CONTROLES'!#REF! -> #REF!
B19: 15 | C19: =+_xlfn.SINGLE('EVALUACION CON CONTROLES'!#REF!) -> #REF! | D19: =+'EVALUACION CON CONTROLES'!#REF! -> #REF! | E19: =VLOOKUP(C19,'IDENTIFICACION Y ANALISIS'!$B$19:$F$69,3,FALSE) -> #REF! | F19: =VLOOKUP(C19,'IDENTIFICACION Y ANALISIS'!$B$19:$F$69,4,FALSE) -> #REF! | G19: =+EVALUACION!#REF! -> #REF! | H19: =+EVALUACION!#REF! -> #REF! | I19: =+EVALUACION!#REF! -> #REF! | J19: =+EVALUACION!#REF! -> #REF! | K19: =+EVALUACION!#REF! -> #REF! | N19: =+'EVALUACION CON CONTROLES'!#REF! -> #REF! | O19: =+'EVALUACION CON CONTROLES'!#REF! -> #REF! | P19: =+'EVALUACION CON CONTROLES'!#REF! -> #REF! | Q19: =+'EVALUACION CON CONTROLES'!#REF! -> #REF! | R19: =+'EVALUACION CON CONTROLES'!#REF! -> #REF! | S19: =+'EVALUACION CON CONTROLES'!#REF! -> #REF! | T19: =+'EVALUACION CON CONTROLES'!#REF! -> #REF! | U19: =+'EVALUACION CON CONTROLES'!#REF! -> #REF! | ... X19: =+'EVALUACION CON CONTROLES'!#REF! -> #REF!
B20: 16 | C20: =+_xlfn.SINGLE('EVALUACION CON CONTROLES'!#REF!) -> #REF! | D20: =+'EVALUACION CON CONTROLES'!#REF! -> #REF! | E20: =VLOOKUP(C20,'IDENTIFICACION Y ANALISIS'!$B$19:$F$69,3,FALSE) -> #REF! | F20: =VLOOKUP(C20,'IDENTIFICACION Y ANALISIS'!$B$19:$F$69,4,FALSE) -> #REF! | G20: =+EVALUACION!#REF! -> #REF! | H20: =+EVALUACION!#REF! -> #REF! | I20: =+EVALUACION!#REF! -> #REF! | J20: =+EVALUACION!#REF! -> #REF! | K20: =+EVALUACION!#REF! -> #REF! | N20: =+'EVALUACION CON CONTROLES'!#REF! -> #REF! | O20: =+'EVALUACION CON CONTROLES'!#REF! -> #REF! | P20: =+'EVALUACION CON CONTROLES'!#REF! -> #REF! | Q20: =+'EVALUACION CON CONTROLES'!#REF! -> #REF! | R20: =+'EVALUACION CON CONTROLES'!#REF! -> #REF! | S20: =+'EVALUACION CON CONTROLES'!#REF! -> #REF! | T20: =+'EVALUACION CON CONTROLES'!#REF! -> #REF! | U20: =+'EVALUACION CON CONTROLES'!#REF! -> #REF! | ... X20: =+'EVALUACION CON CONTROLES'!#REF! -> #REF!
B21: 17 | C21: =+_xlfn.SINGLE('EVALUACION CON CONTROLES'!#REF!) -> #REF! | D21: =+'EVALUACION CON CONTROLES'!#REF! -> #REF! | E21: =VLOOKUP(C21,'IDENTIFICACION Y ANALISIS'!$B$19:$F$69,3,FALSE) -> #REF! | F21: =VLOOKUP(C21,'IDENTIFICACION Y ANALISIS'!$B$19:$F$69,4,FALSE) -> #REF! | G21: =+EVALUACION!#REF! -> #REF! | H21: =+EVALUACION!#REF! -> #REF! | I21: =+EVALUACION!#REF! -> #REF! | J21: =+EVALUACION!#REF! -> #REF! | K21: =+EVALUACION!#REF! -> #REF! | N21: =+'EVALUACION CON CONTROLES'!#REF! -> #REF! | O21: =+'EVALUACION CON CONTROLES'!#REF! -> #REF! | P21: =+'EVALUACION CON CONTROLES'!#REF! -> #REF! | Q21: =+'EVALUACION CON CONTROLES'!#REF! -> #REF! | R21: =+'EVALUACION CON CONTROLES'!#REF! -> #REF! | S21: =+'EVALUACION CON CONTROLES'!#REF! -> #REF! | T21: =+'EVALUACION CON CONTROLES'!#REF! -> #REF! | U21: =+'EVALUACION CON CONTROLES'!#REF! -> #REF! | ... X21: =+'EVALUACION CON CONTROLES'!#REF! -> #REF!
B22: 18 | C22: =+_xlfn.SINGLE('EVALUACION CON CONTROLES'!#REF!) -> #REF! | D22: =+'EVALUACION CON CONTROLES'!#REF! -> #REF! | E22: =VLOOKUP(C22,'IDENTIFICACION Y ANALISIS'!$B$19:$F$69,3,FALSE) -> #REF! | F22: =VLOOKUP(C22,'IDENTIFICACION Y ANALISIS'!$B$19:$F$69,4,FALSE) -> #REF! | G22: =+EVALUACION!#REF! -> #REF! | H22: =+EVALUACION!#REF! -> #REF! | I22: =+EVALUACION!#REF! -> #REF! | J22: =+EVALUACION!#REF! -> #REF! | K22: =+EVALUACION!#REF! -> #REF! | N22: =+'EVALUACION CON CONTROLES'!#REF! -> #REF! | O22: =+'EVALUACION CON CONTROLES'!#REF! -> #REF! | P22: =+'EVALUACION CON CONTROLES'!#REF! -> #REF! | Q22: =+'EVALUACION CON CONTROLES'!#REF! -> #REF! | R22: =+'EVALUACION CON CONTROLES'!#REF! -> #REF! | S22: =+'EVALUACION CON CONTROLES'!#REF! -> #REF! | T22: =+'EVALUACION CON CONTROLES'!#REF! -> #REF! | U22: =+'EVALUACION CON CONTROLES'!#REF! -> #REF! | ... X22: =+'EVALUACION CON CONTROLES'!#REF! -> #REF!
B23: 19 | C23: =+_xlfn.SINGLE('EVALUACION CON CONTROLES'!#REF!) -> #REF! | D23: =+'EVALUACION CON CONTROLES'!#REF! -> #REF! | E23: =VLOOKUP(C23,'IDENTIFICACION Y ANALISIS'!$B$19:$F$69,3,FALSE) -> #REF! | F23: =VLOOKUP(C23,'IDENTIFICACION Y ANALISIS'!$B$19:$F$69,4,FALSE) -> #REF! | G23: =+EVALUACION!#REF! -> #REF! | H23: =+EVALUACION!#REF! -> #REF! | I23: =+EVALUACION!#REF! -> #REF! | J23: =+EVALUACION!#REF! -> #REF! | K23: =+EVALUACION!#REF! -> #REF! | N23: =+'EVALUACION CON CONTROLES'!#REF! -> #REF! | O23: =+'EVALUACION CON CONTROLES'!#REF! -> #REF! | P23: =+'EVALUACION CON CONTROLES'!#REF! -> #REF! | Q23: =+'EVALUACION CON CONTROLES'!#REF! -> #REF! | R23: =+'EVALUACION CON CONTROLES'!#REF! -> #REF! | S23: =+'EVALUACION CON CONTROLES'!#REF! -> #REF! | T23: =+'EVALUACION CON CONTROLES'!#REF! -> #REF! | U23: =+'EVALUACION CON CONTROLES'!#REF! -> #REF! | ... X23: =+'EVALUACION CON CONTROLES'!#REF! -> #REF!
B24: 20 | C24: =+_xlfn.SINGLE('EVALUACION CON CONTROLES'!#REF!) -> #REF! | D24: =+'EVALUACION CON CONTROLES'!#REF! -> #REF! | E24: =VLOOKUP(C24,'IDENTIFICACION Y ANALISIS'!$B$19:$F$69,3,FALSE) -> #REF! | F24: =VLOOKUP(C24,'IDENTIFICACION Y ANALISIS'!$B$19:$F$69,4,FALSE) -> #REF! | G24: =+EVALUACION!#REF! -> #REF! | H24: =+EVALUACION!#REF! -> #REF! | I24: =+EVALUACION!#REF! -> #REF! | J24: =+EVALUACION!#REF! -> #REF! | K24: =+EVALUACION!#REF! -> #REF! | N24: =+'EVALUACION CON CONTROLES'!#REF! -> #REF! | O24: =+'EVALUACION CON CONTROLES'!#REF! -> #REF! | P24: =+'EVALUACION CON CONTROLES'!#REF! -> #REF! | Q24: =+'EVALUACION CON CONTROLES'!#REF! -> #REF! | R24: =+'EVALUACION CON CONTROLES'!#REF! -> #REF! | S24: =+'EVALUACION CON CONTROLES'!#REF! -> #REF! | T24: =+'EVALUACION CON CONTROLES'!#REF! -> #REF! | U24: =+'EVALUACION CON CONTROLES'!#REF! -> #REF! | ... X24: =+'EVALUACION CON CONTROLES'!#REF! -> #REF!
F26: Categoria | J26: Impacto del Riesgo
E27: Probabilidad | F27: Catagoria | G27: Valoración | J27: Categoria | L27: Valoración
F28: Raro (puede ocurrir excepcionalmente) | G28: 1 | J28: Insignificante | L28: 1
F29: Improbable (puede ocurrir ocasionalmente) | G29: 2 | J29: Menor | L29: 2
F30: Posible (puede ocurrir en cualquier momento futuro) | G30: 3 | J30: Moderado | L30: 3
F31: Probable (probablemente va a ocurrir) | G31: 4 | J31: Mayor | L31: 4
F32: Casi cierto (ocurre en la mayoria de circunstancias) | G32: 5 | J32: Catastrófico | L32: 5
D34: Valoración del Riesgo
D35: Catagoria | E35: Valoración | F35: Insignificante | H35: Menor | J35: Moderado | K35: Mayor | L35: Catastrófico | P35: Categoria del Riesgo
F36: 1 | H36: 2 | J36: 3 | K36: 4 | L36: 5 | P36: Valoración del Riesgo | S36: Categoría
D37: Raro (puede ocurrir excepcionalmente) | E37: 1 | F37: 2 | H37: 3 | J37: 4 | K37: 5 | L37: 6 | P37: 8, 9 y 10 | S37: Riesgo extremo
D38: Improbable (puede ocurrir ocasionalmente) | E38: 2 | F38: 3 | H38: 4 | J38: 5 | K38: 6 | L38: 7 | P38: 6 y 7 | S38: Riesgo alto
D39: Posible (puede ocurrir en cualquier momento futuro) | E39: 3 | F39: 4 | H39: 5 | J39: 6 | K39: 7 | L39: 8 | P39: 5 | S39: Riesgo medio
D40: Probable (probablemente va a ocurrir) | E40: 4 | F40: 5 | H40: 6 | J40: 7 | K40: 8 | L40: 9 | P40: 2, 3 y 4 | S40: Riesgo bajo
D41: Casi cierto (ocurre en la mayoria de circunstancias) | E41: 5 | F41: 6 | H41: 7 | J41: 8 | K41: 9 | L41: 10
B46: Contratista
B47: UAERMV
