Workbook

Sheet 3. CONCERTADO
A1: PROGRAMA DISTRITAL DE APOYOS CONCERTADOS 2023
A2: PRESUPUESTO CONCERTADO
A3: Nº DE PROPUESTA: | B3: ='1. Inicial'!C2 -> 1735-003
A4: LÍNEA: | B4: ='1. Inicial'!C3 -> Gestión del conocimiento
A5: PROYECTO: | B5: ='1. Inicial'!C4 -> Fundación Integrando Fonteras
A6: NOMBRE DE LA ORGANIZACIÓN | B6: ='1. Inicial'!C5 -> * + Revelaciones
B7: PRESUPUESTO INICIAL DEL PROYECTO | G7: PRESUPUESTO CONCERTADO
A8: Insumo | B8: Cantidad | C8: Valor Total | D8: Valor Solicitado | E8: Valor Cofinanciado | F8: Valor Aportado Participante | G8: Cantidad | H8: Valor Total | I8: Valor asignado SCRD | J8: Valor Cofinanciado | K8: Valor Aportado Participante | L8: Observaciones
A9: Objetivo Específico 1: | B9: Administrar el proyecto de acuerdo con su planteamiento y/o ajuste | G9: Administrar el proyecto de acuerdo con su planteamiento y/o ajuste
A10: Actividad 1: Rubro: | B10: Realizar coordinación del proyecto | G10: Realizar coordinación del proyecto
A11: Honorarios equipo de trabajo | B11: 1 (Coordinador) | C11: =D11+E11+F11 -> 7000000 | D11: 6000000 | E11: 500000 | F11: 500000 | G11: 1 (Coordinador) | H11: =I11+J11+K11 -> 7000000 | I11: 6000000 | J11: 500000 | K11: 500000
C12: =D12+E12+F12 -> 0 | H12: =I12+J12+K12 -> 0
C13: =D13+E13+F13 -> 0 | H13: =I13+J13+K13 -> 0
C14: =D14+E14+F14 -> 0 | H14: =I14+J14+K14 -> 0
A15: Subtotales | C15: =SUM(C11:C14) -> 7000000 | D15: =SUM(D11:D14) -> 6000000 | E15: =SUM(E11:E14) -> 500000 | F15: =SUM(F11:F14) -> 500000 | H15: =SUM(H11:H14) -> 7000000 | I15: =SUM(I11:I14) -> 6000000 | J15: =SUM(J11:J14) -> 500000 | K15: =SUM(K11:K14) -> 500000
A16: Actividad 2: Rubro: | B16: Realizar la contratación del equipo del proyecto | G16: Realizar la contratación del equipo del proyecto
A17: Honorarios equipo de trabajo | B17: 1 (Coordinador) | C17: =D17+E17+F17 -> 500000 | D17: 500000 | G17: 1 (Coordinador) | H17: =I17+J17+K17 -> 500000 | I17: 300000 | K17: 200000
C18: =D18+E18+F18 -> 0 | H18: =I18+J18+K18 -> 0
C19: =D19+E19+F19 -> 0 | H19: =I19+J19+K19 -> 0
C20: =D20+E20+F20 -> 0 | H20: =I20+J20+K20 -> 0
A21: Subtotales | C21: =SUM(C17:C20) -> 500000 | D21: =SUM(D17:D20) -> 500000 | E21: =SUM(E17:E20) -> 0 | F21: =SUM(F17:F20) -> 0 | H21: =SUM(H17:H20) -> 500000 | I21: =SUM(I17:I20) -> 300000 | J21: =SUM(J17:J20) -> 0 | K21: =SUM(K17:K20) -> 200000
A22: Actividad 3: Rubro: | B22: Realizar coordinación del equipo del proyecto | G22: Realizar coordinación del equipo del proyecto
A23: Honorarios equipo de trabajo | B23: 1 (Coordinador) | C23: =D23+E23+F23 -> 600000 | D23: 300000 | E23: 200000 | F23: 100000 | G23: 1 (Coordinador) | H23: =I23+J23+K23 -> 600000 | I23: 300000 | J23: 200000 | K23: 100000
C24: =D24+E24+F24 -> 0 | H24: =I24+J24+K24 -> 0
C25: =D25+E25+F25 -> 0 | H25: =I25+J25+K25 -> 0
C26: =D26+E26+F26 -> 0 | H26: =I26+J26+K26 -> 0
A27: Subtotales | C27: =SUM(C23:C26) -> 600000 | D27: =SUM(D23:D26) -> 300000 | E27: =SUM(E23:E26) -> 200000 | F27: =SUM(F23:F26) -> 100000 | H27: =SUM(H23:H26) -> 600000 | I27: =SUM(I23:I26) -> 300000 | J27: =SUM(J23:J26) -> 200000 | K27: =SUM(K23:K26) -> 100000
A28: Actividad 4: Rubro: | B28: Realizar la gestión con aliados del proyecto | G28: Realizar la gestión con aliados del proyecto
A29: Honorarios equipo de trabajo | B29: 1 (Coordinador) | C29: =D29+E29+F29 -> 2100000 | F29: 2100000 | G29: 1 (Coordinador) | H29: =I29+J29+K29 -> 2100000 | K29: 2100000
C30: =D30+E30+F30 -> 0 | H30: =I30+J30+K30 -> 0
C31: =D31+E31+F31 -> 0 | H31: =I31+J31+K31 -> 0
C32: =D32+E32+F32 -> 0 | H32: =I32+J32+K32 -> 0
A33: Subtotales | C33: =SUM(C29:C32) -> 2100000 | D33: =SUM(D29:D32) -> 0 | E33: =SUM(E29:E32) -> 0 | F33: =SUM(F29:F32) -> 2100000 | H33: =SUM(H29:H32) -> 2100000 | I33: =SUM(I29:I32) -> 0 | J33: =SUM(J29:J32) -> 0 | K33: =SUM(K29:K32) -> 2100000
A34: Actividad 5: Rubro: | B34: Realizar seguimiento del proyecto | G34: Realizar seguimiento del proyecto
A35: Honorarios equipo de trabajo | B35: 1 (Coordinador) | C35: =D35+E35+F35 -> 2100000 | D35: 1100000 | F35: 1000000 | G35: 1 (Coordinador) | H35: =I35+J35+K35 -> 2100000 | I35: 1100000 | K35: 1000000
C36: =D36+E36+F36 -> 0 | H36: =I36+J36+K36 -> 0
C37: =D37+E37+F37 -> 0 | H37: =I37+J37+K37 -> 0
C38: =D38+E38+F38 -> 0 | H38: =I38+J38+K38 -> 0
A39: Subtotales | C39: =SUM(C35:C38) -> 2100000 | D39: =SUM(D35:D38) -> 1100000 | E39: =SUM(E35:E38) -> 0 | F39: =SUM(F35:F38) -> 1000000 | H39: =SUM(H35:H38) -> 2100000 | I39: =SUM(I35:I38) -> 1100000 | J39: =SUM(J35:J38) -> 0 | K39: =SUM(K35:K38) -> 1000000
A40: Actividad 6: Rubro: | B40: Realizar ajustes del proyecto | G40: Realizar ajustes del proyecto
...

Sheet 1. Inicial
B1: PRESUPUESTO PROGRAMA DISTRITAL DE APOYOS CONCERTADOS - PDAC
B2: Nº DE PROPUESTA: | C2: 1735-003
B3: LÍNEA: | C3: Gestión del conocimiento
B4: PROYECTO: | C4: Fundación Integrando Fonteras
B5: NOMBRE DE LA ORGANIZACIÓN | C5: * + Revelaciones
B6: Insumo | C6: Cantidad | D6: Valor Total | E6: Valor Solicitado | F6: Valor Cofinanciado | G6: Valor Aportado Participante
B7: Objetivo Específico 1: | C7: Administrar el proyecto de acuerdo con su planteamiento y/o ajuste
B8: Actividad 1: Rubro: | C8: Realizar coordinación del proyecto
B9: Honorarios equipo de trabajo | C9: 1 (Coordinador) | D9: =E9+F9+G9 -> 7000000 | E9: 6000000 | F9: 500000 | G9: 500000
D10: =E10+F10+G10 -> 0
D11: =E11+F11+G11 -> 0
D12: =E12+F12+G12 -> 0
B13: Subtotales | D13: =SUM(D9:D12) -> 7000000 | E13: =SUM(E9:E12) -> 6000000 | F13: =SUM(F9:F12) -> 500000 | G13: =SUM(G9:G12) -> 500000
B14: Actividad 2: Rubro: | C14: Realizar la contratación del equipo del proyecto
B15: Honorarios equipo de trabajo | C15: 1 (Coordinador) | D15: =E15+F15+G15 -> 500000 | E15: 500000
D16: =E16+F16+G16 -> 0
D17: =E17+F17+G17 -> 0
D18: =E18+F18+G18 -> 0
B19: Subtotales | D19: =SUM(D15:D18) -> 500000 | E19: =SUM(E15:E18) -> 500000 | F19: =SUM(F15:F18) -> 0 | G19: =SUM(G15:G18) -> 0
B20: Actividad 3: Rubro: | C20: Realizar coordinación del equipo del proyecto
B21: Honorarios equipo de trabajo | C21: 1 (Coordinador) | D21: =E21+F21+G21 -> 600000 | E21: 300000 | F21: 200000 | G21: 100000
D22: =E22+F22+G22 -> 0
D23: =E23+F23+G23 -> 0
D24: =E24+F24+G24 -> 0
B25: Subtotales | D25: =SUM(D21:D24) -> 600000 | E25: =SUM(E21:E24) -> 300000 | F25: =SUM(F21:F24) -> 200000 | G25: =SUM(G21:G24) -> 100000
B26: Actividad 4: Rubro: | C26: Realizar la gestión con aliados del proyecto
B27: Honorarios equipo de trabajo | C27: 1 (Coordinador) | D27: =E27+F27+G27 -> 2100000 | G27: 2100000
D28: =E28+F28+G28 -> 0
D29: =E29+F29+G29 -> 0
D30: =E30+F30+G30 -> 0
B31: Subtotales | D31: =SUM(D27:D30) -> 2100000 | E31: =SUM(E27:E30) -> 0 | F31: =SUM(F27:F30) -> 0 | G31: =SUM(G27:G30) -> 2100000
B32: Actividad 5: Rubro: | C32: Realizar seguimiento del proyecto
B33: Honorarios equipo de trabajo | C33: 1 (Coordinador) | D33: =E33+F33+G33 -> 2100000 | E33: 1100000 | G33: 1000000
D34: =E34+F34+G34 -> 0
D35: =E35+F35+G35 -> 0
D36: =E36+F36+G36 -> 0
B37: Subtotales | D37: =SUM(D33:D36) -> 2100000 | E37: =SUM(E33:E36) -> 1100000 | F37: =SUM(F33:F36) -> 0 | G37: =SUM(G33:G36) -> 1000000
B38: Actividad 6: Rubro: | C38: Realizar ajustes del proyecto
B39: Honorarios equipo de trabajo | C39: 1 (Coordinador) | D39: =E39+F39+G39 -> 500000 | E39: 200000 | G39: 300000
D40: =E40+F40+G40 -> 0
...

Sheet 2. Ajustado
B1: PRESUPUESTO PROGRAMA DISTRITAL DE APOYOS CONCERTADOS - PDAC
B2: Nº DE PROPUESTA: | C2: ='1. Inicial'!C2:G2 -> 1735-003
B3: LÍNEA: | C3: ='1. Inicial'!C3:G3 -> Gestión del conocimiento
B4: PROYECTO: | C4: ='1. Inicial'!C4:G4 -> Fundación Integrando Fonteras
B5: NOMBRE DE LA ORGANIZACIÓN | C5: ='1. Inicial'!C5:G5 -> * + Revelaciones
B6: Insumo | C6: Cantidad | D6: Valor Total | E6: Valor Solicitado | F6: Valor Cofinanciado | G6: Valor Aportado Participante
B7: Objetivo Específico 1: | C7: Administrar el proyecto de acuerdo con su planteamiento y/o ajuste
B8: Actividad 1: Rubro: | C8: Realizar coordinación del proyecto
B9: Honorarios equipo de trabajo | C9: 1 (Coordinador) | D9: =E9+F9+G9 -> 7000000 | E9: 6000000 | F9: 500000 | G9: 500000
D10: =E10+F10+G10 -> 0
D11: =E11+F11+G11 -> 0
D12: =E12+F12+G12 -> 0
B13: Subtotales | D13: =SUM(D9:D12) -> 7000000 | E13: =SUM(E9:E12) -> 6000000 | F13: =SUM(F9:F12) -> 500000 | G13: =SUM(G9:G12) -> 500000
B14: Actividad 2: Rubro: | C14: Realizar la contratación del equipo del proyecto
B15: Honorarios equipo de trabajo | C15: 1 (Coordinador) | D15: =E15+F15+G15 -> 500000 | E15: 300000 | G15: 200000
D16: =E16+F16+G16 -> 0
D17: =E17+F17+G17 -> 0
D18: =E18+F18+G18 -> 0
B19: Subtotales | D19: =SUM(D15:D18) -> 500000 | E19: =SUM(E15:E18) -> 300000 | F19: =SUM(F15:F18) -> 0 | G19: =SUM(G15:G18) -> 200000
B20: Actividad 3: Rubro: | C20: Realizar coordinación del equipo del proyecto
B21: Honorarios equipo de trabajo | C21: 1 (Coordinador) | D21: =E21+F21+G21 -> 600000 | E21: 300000 | F21: 200000 | G21: 100000
D22: =E22+F22+G22 -> 0
D23: =E23+F23+G23 -> 0
D24: =E24+F24+G24 -> 0
B25: Subtotales | D25: =SUM(D21:D24) -> 600000 | E25: =SUM(E21:E24) -> 300000 | F25: =SUM(F21:F24) -> 200000 | G25: =SUM(G21:G24) -> 100000
B26: Actividad 4: Rubro: | C26: Realizar la gestión con aliados del proyecto
B27: Honorarios equipo de trabajo | C27: 1 (Coordinador) | D27: =E27+F27+G27 -> 2100000 | G27: 2100000
D28: =E28+F28+G28 -> 0
D29: =E29+F29+G29 -> 0
D30: =E30+F30+G30 -> 0
B31: Subtotales | D31: =SUM(D27:D30) -> 2100000 | E31: =SUM(E27:E30) -> 0 | F31: =SUM(F27:F30) -> 0 | G31: =SUM(G27:G30) -> 2100000
B32: Actividad 5: Rubro: | C32: Realizar seguimiento del proyecto
B33: Honorarios equipo de trabajo | C33: 1 (Coordinador) | D33: =E33+F33+G33 -> 2100000 | E33: 1100000 | G33: 1000000
D34: =E34+F34+G34 -> 0
D35: =E35+F35+G35 -> 0
D36: =E36+F36+G36 -> 0
B37: Subtotales | D37: =SUM(D33:D36) -> 2100000 | E37: =SUM(E33:E36) -> 1100000 | F37: =SUM(F33:F36) -> 0 | G37: =SUM(G33:G36) -> 1000000
B38: Actividad 6: Rubro: | C38: Realizar ajustes del proyecto
B39: Honorarios equipo de trabajo | C39: 1 (Coordinador) | D39: =E39+F39+G39 -> 500000 | E39: 200000 | G39: 300000
D40: =E40+F40+G40 -> 0
...
