Workbook

Sheet 3. CONCERTADO
A1: PROGRAMA DISTRITAL DE APOYOS CONCERTADOS 2023
A2: PRESUPUESTO CONCERTADO
A3: Nº DE PROPUESTA: | B3: ='1. Inicial'!C2 -> 1735-003
A4: LÍNEA: | B4: ='1. Inicial'!C3 -> Gestión del conocimiento
A5: PROYECTO: | B5: ='1. Inicial'!C4 -> Fundación Integrando Fonteras
A6: NOMBRE DE LA ORGANIZACIÓN | B6: ='1. Inicial'!C5 -> * + Revelaciones
B7: PRESUPUESTO INICIAL DEL PROYECTO | G7: PRESUPUESTO CONCERTADO
A8: Insumo | B8: Cantidad | C8: Valor Total | D8: Valor Solicitado | E8: Valor Cofinanciado | F8: Valor Aportado Participante | G8: Cantidad | H8: Valor Total | I8: Valor asignado SCRD | J8: Valor Cofinanciado | K8: Valor Aportado Participante | L8: Observaciones
A9: Objetivo Específico 1: | B9: Administrar el proyecto de acuerdo con su planteamiento y/o ajuste | G9: Administrar el proyecto de acuerdo con su planteamiento y/o ajuste
A10: Actividad 1: Rubro: | B10: Realizar coordinación del proyecto | G10: Realizar coordinación del proyecto
A11: Honorarios equipo de trabajo | B11: 1 (Coordinador) | C11: =D11+E11+F11 -> 7000000 | D11: 6000000 | E11: 500000 | F11: 500000 | G11: 1 (Coordinador) | H11: =I11+J11+K11 -> 7000000 | I11: 6000000 | J11: 500000 | K11: 500000
C12: =D12+E12+F12 -> 0 | H12: =I12+J12+K12 -> 0
C13: =D13+E13+F13 -> 0 | H13: =I13+J13+K13 -> 0
C14: =D14+E14+F14 -> 0 | H14: =I14+J14+K14 -> 0
A15: Subtotales | C15: =SUM(C11:C14) -> 7000000 | D15: =SUM(D11:D14) -> 6000000 | E15: =SUM(E11:E14) -> 500000 | F15: =SUM(F11:F14) -> 500000 | H15: =SUM(H11:H14) -> 7000000 | I15: =SUM(I11:I14) -> 6000000 | J15: =SUM(J11:J14) -> 500000 | K15: =SUM(K11:K14) -> 500000
A16: Actividad 2: Rubro: | B16: Realizar la contratación del equipo del proyecto | G16: Realizar la contratación del equipo del proyecto
A17: Honorarios equipo de trabajo | B17: 1 (Coordinador) | C17: =D17+E17+F17 -> 500000 | D17: 500000 | G17: 1 (Coordinador) | H17: =I17+J17+K17 -> 500000 | I17: 300000 | K17: 200000
C18: =D18+E18+F18 -> 0 | H18: =I18+J18+K18 -> 0
C19: =D19+E19+F19 -> 0 | H19: =I19+J19+K19 -> 0
C20: =D20+E20+F20 -> 0 | H20: =I20+J20+K20 -> 0
A21: Subtotales | C21: =SUM(C17:C20) -> 500000 | D21: =SUM(D17:D20) -> 500000 | E21: =SUM(E17:E20) -> 0 | F21: =SUM(F17:F20) -> 0 | H21: =SUM(H17:H20) -> 500000 | I21: =SUM(I17:I20) -> 300000 | J21: =SUM(J17:J20) -> 0 | K21: =SUM(K17:K20) -> 200000
A22: Actividad 3: Rubro: | B22: Realizar coordinación del equipo del proyecto | G22: Realizar coordinación del equipo del proyecto
A23: Honorarios equipo de trabajo | B23: 1 (Coordinador) | C23: =D23+E23+F23 -> 600000 | D23: 300000 | E23: 200000 | F23: 100000 | G23: 1 (Coordinador) | H23: =I23+J23+K23 -> 600000 | I23: 300000 | J23: 200000 | K23: 100000
C24: =D24+E24+F24 -> 0 | H24: =I24+J24+K24 -> 0
C25: =D25+E25+F25 -> 0 | H25: =I25+J25+K25 -> 0
C26: =D26+E26+F26 -> 0 | H26: =I26+J26+K26 -> 0
A27: Subtotales | C27: =SUM(C23:C26) -> 600000 | D27: =SUM(D23:D26) -> 300000 | E27: =SUM(E23:E26) -> 200000 | F27: =SUM(F23:F26) -> 100000 | H27: =SUM(H23:H26) -> 600000 | I27: =SUM(I23:I26) -> 300000 | J27: =SUM(J23:J26) -> 200000 | K27: =SUM(K23:K26) -> 100000
A28: Actividad 4: Rubro: | B28: Realizar la gestión con aliados del proyecto | G28: Realizar la gestión con aliados del proyecto
A29: Honorarios equipo de trabajo | B29: 1 (Coordinador) | C29: =D29+E29+F29 -> 2100000 | F29: 2100000 | G29: 1 (Coordinador) | H29: =I29+J29+K29 -> 2100000 | K29: 2100000
C30: =D30+E30+F30 -> 0 | H30: =I30+J30+K30 -> 0
C31: =D31+E31+F31 -> 0 | H31: =I31+J31+K31 -> 0
C32: =D32+E32+F32 -> 0 | H32: =I32+J32+K32 -> 0
A33: Subtotales | C33: =SUM(C29:C32) -> 2100000 | D33: =SUM(D29:D32) -> 0 | E33: =SUM(E29:E32) -> 0 | F33: =SUM(F29:F32) -> 2100000 | H33: =SUM(H29:H32) -> 2100000 | I33: =SUM(I29:I32) -> 0 | J33: =SUM(J29:J32) -> 0 | K33: =SUM(K29:K32) -> 2100000
A34: Actividad 5: Rubro: | B34: Realizar seguimiento del proyecto | G34: Realizar seguimiento del proyecto
A35: Honorarios equipo de trabajo | B35: 1 (Coordinador) | C35: =D35+E35+F35 -> 2100000 | D35: 1100000 | F35: 1000000 | G35: 1 (Coordinador) | H35: =I35+J35+K35 -> 2100000 | I35: 1100000 | K35: 1000000
C36: =D36+E36+F36 -> 0 | H36: =I36+J36+K36 -> 0
C37: =D37+E37+F37 -> 0 | H37: =I37+J37+K37 -> 0
C38: =D38+E38+F38 -> 0 | H38: =I38+J38+K38 -> 0
A39: Subtotales | C39: =SUM(C35:C38) -> 2100000 | D39: =SUM(D35:D38) -> 1100000 | E39: =SUM(E35:E38) -> 0 | F39: =SUM(F35:F38) -> 1000000 | H39: =SUM(H35:H38) -> 2100000 | I39: =SUM(I35:I38) -> 1100000 | J39: =SUM(J35:J38) -> 0 | K39: =SUM(K35:K38) -> 1000000
A40: Actividad 6: Rubro: | B40: Realizar ajustes del proyecto | G40: Realizar ajustes del proyecto
A41: Honorarios equipo de trabajo | B41: 1 (Coordinador) | C41: =D41+E41+F41 -> 500000 | D41: 200000 | F41: 300000 | G41: 1 (Coordinador) | H41: =I41+J41+K41 -> 500000 | I41: 200000 | K41: 300000
C42: =D42+E42+F42 -> 0 | H42: =I42+J42+K42 -> 0
C43: =D43+E43+F43 -> 0 | H43: =I43+J43+K43 -> 0
C44: =D44+E44+F44 -> 0 | H44: =I44+J44+K44 -> 0
A45: Subtotales | C45: =SUM(C41:C44) -> 500000 | D45: =SUM(D41:D44) -> 200000 | E45: =SUM(E41:E44) -> 0 | F45: =SUM(F41:F44) -> 300000 | H45: =SUM(H41:H44) -> 500000 | I45: =SUM(I41:I44) -> 200000 | J45: =SUM(J41:J44) -> 0 | K45: =SUM(K41:K44) -> 300000
A46: Actividad 7: Rubro:
C47: =D47+E47+F47 -> 0 | H47: =I47+J47+K47 -> 0
C48: =D48+E48+F48 -> 0 | H48: =I48+J48+K48 -> 0
C49: =D49+E49+F49 -> 0 | H49: =I49+J49+K49 -> 0
C50: =D50+E50+F50 -> 0 | H50: =I50+J50+K50 -> 0
A51: Subtotales | C51: =SUM(C47:C50) -> 0 | D51: =SUM(D47:D50) -> 0 | E51: =SUM(E47:E50) -> 0 | F51: =SUM(F47:F50) -> 0 | H51: =SUM(H47:H50) -> 0 | I51: =SUM(I47:I50) -> 0 | J51: =SUM(J47:J50) -> 0 | K51: =SUM(K47:K50) -> 0
A52: Actividad 8: Rubro:
C53: =D53+E53+F53 -> 0 | H53: =I53+J53+K53 -> 0
C54: =D54+E54+F54 -> 0 | H54: =I54+J54+K54 -> 0
C55: =D55+E55+F55 -> 0 | H55: =I55+J55+K55 -> 0
C56: =D56+E56+F56 -> 0 | H56: =I56+J56+K56 -> 0
A57: Subtotales | C57: =SUM(C53:C56) -> 0 | D57: =SUM(D53:D56) -> 0 | E57: =SUM(E53:E56) -> 0 | F57: =SUM(F53:F56) -> 0 | H57: =SUM(H53:H56) -> 0 | I57: =SUM(I53:I56) -> 0 | J57: =SUM(J53:J56) -> 0 | K57: =SUM(K53:K56) -> 0
A58: Actividad 9: Rubro:
C59: =D59+E59+F59 -> 0 | H59: =I59+J59+K59 -> 0
C60: =D60+E60+F60 -> 0 | H60: =I60+J60+K60 -> 0
C61: =D61+E61+F61 -> 0 | H61: =I61+J61+K61 -> 0
C62: =D62+E62+F62 -> 0 | H62: =I62+J62+K62 -> 0
A63: Subtotales | C63: =SUM(C59:C62) -> 0 | D63: =SUM(D59:D62) -> 0 | E63: =SUM(E59:E62) -> 0 | F63: =SUM(F59:F62) -> 0 | H63: =SUM(H59:H62) -> 0 | I63: =SUM(I59:I62) -> 0 | J63: =SUM(J59:J62) -> 0 | K63: =SUM(K59:K62) -> 0
A64: Actividad 10: Rubro:
C65: =D65+E65+F65 -> 0 | H65: =I65+J65+K65 -> 0
C66: =D66+E66+F66 -> 0 | H66: =I66+J66+K66 -> 0
C67: =D67+E67+F67 -> 0 | H67: =I67+J67+K67 -> 0
C68: =D68+E68+F68 -> 0 | H68: =I68+J68+K68 -> 0
A69: Subtotales | C69: =SUM(C65:C68) -> 0 | D69: =SUM(D65:D68) -> 0 | E69: =SUM(E65:E68) -> 0 | F69: =SUM(F65:F68) -> 0 | H69: =SUM(H65:H68) -> 0 | I69: =SUM(I65:I68) -> 0 | J69: =SUM(J65:J68) -> 0 | K69: =SUM(K65:K68) -> 0
A70: Objetivo Específico 2: | B70: Realizar el proyecto de acuerdo con su planteamiento y/o ajuste | G70: Realizar el proyecto de acuerdo con su planteamiento y/o ajuste
A71: Actividad 1: Rubro: | B71: Realizar evaluación del proyecto | G71: Realizar evaluación del proyecto
A72: Honorarios equipo de trabajo | B72: 1 (Coordinador) | C72: =D72+E72+F72 -> 600000 | F72: 600000 | G72: 1 (Coordinador) | H72: =I72+J72+K72 -> 600000 | K72: 600000
C73: =D73+E73+F73 -> 0 | H73: =I73+J73+K73 -> 0
C74: =D74+E74+F74 -> 0 | H74: =I74+J74+K74 -> 0
C75: =D75+E75+F75 -> 0 | H75: =I75+J75+K75 -> 0
A76: Subtotales | C76: =SUM(C72:C75) -> 600000 | D76: =SUM(D72:D75) -> 0 | E76: =SUM(E72:E75) -> 0 | F76: =SUM(F72:F75) -> 600000 | H76: =SUM(H72:H75) -> 600000 | I76: =SUM(I72:I75) -> 0 | J76: =SUM(J72:J75) -> 0 | K76: =SUM(K72:K75) -> 600000
A77: Actividad 2: Rubro: | B77: Realizar análisis de la información recogida (Cualitativa - Cuantitativa) | G77: Realizar análisis de la información recogida (Cualitativa - Cuantitativa)
A78: Honorarios equipo de trabajo | B78: 3 (Investigadores) | C78: =D78+E78+F78 -> 6000000 | D78: 3600000 | E78: 1200000 | F78: 1200000 | G78: 3 (Investigadores) | H78: =I78+J78+K78 -> 6000000 | I78: 3600000 | J78: 1200000 | K78: 1200000
C79: =D79+E79+F79 -> 0 | H79: =I79+J79+K79 -> 0
C80: =D80+E80+F80 -> 0 | H80: =I80+J80+K80 -> 0
C81: =D81+E81+F81 -> 0 | H81: =I81+J81+K81 -> 0
A82: Subtotales | C82: =SUM(C78:C81) -> 6000000 | D82: =SUM(D78:D81) -> 3600000 | E82: =SUM(E78:E81) -> 1200000 | F82: =SUM(F78:F81) -> 1200000 | H82: =SUM(H78:H81) -> 6000000 | I82: =SUM(I78:I81) -> 3600000 | J82: =SUM(J78:J81) -> 1200000 | K82: =SUM(K78:K81) -> 1200000
A83: Actividad 3: Rubro: | B83: Elaborar material audiovisual del estudio y sus resultados – 15 Clips de videos cada uno con los resultados de las 3 líneas de trabajo de máximo 1.30 seg., 1 video del desarrollo del proyecto, entre 1 y 5 minutos. 15 piezas gráficas sobre los resultados de la investigación. | G83: Elaborar material audiovisual del estudio y sus resultados – 8 Clips de videos cada uno con los resultados de las 3 líneas de trabajo de máximo 1.30 seg., 1 video del desarrollo del proyecto, entre 1 y 5 minutos. 8 piezas gráficas sobre los resultados de la investigación. | L83: Se baja el número de videos de 15 a 8. No se afecta el propósito de la actividad. Se amplía la información en las piezas gráficas.
A84: Honorarios equipo de trabajo | B84: 1 (Diseñador) | C84: =D84+E84+F84 -> 7500000 | D84: 7500000 | G84: 1 (Diseñador) | H84: =I84+J84+K84 -> 5748000 | I84: 5748000 | J84: 0 | K84: 0
C85: =D85+E85+F85 -> 0 | H85: =I85+J85+K85 -> 0
C86: =D86+E86+F86 -> 0 | H86: =I86+J86+K86 -> 0
C87: =D87+E87+F87 -> 0 | H87: =I87+J87+K87 -> 0
A88: Subtotales | C88: =SUM(C84:C87) -> 7500000 | D88: =SUM(D84:D87) -> 7500000 | E88: =SUM(E84:E87) -> 0 | F88: =SUM(F84:F87) -> 0 | H88: =SUM(H84:H87) -> 5748000 | I88: =SUM(I84:I87) -> 5748000 | J88: =SUM(J84:J87) -> 0 | K88: =SUM(K84:K87) -> 0
A89: Actividad 4: Rubro: | B89: Difundir los encuentros ENDANZA y el documento escrito del estudio y el material audiovisual. | G89: Difundir los encuentros ENDANZA y el documento escrito del estudio y el material audiovisual.
A90: Honorarios equipo de trabajo | B90: 1 (Apoyo administrativo) | C90: =D90+E90+F90 -> 2500000 | D90: 2000000 | F90: 500000 | G90: 1 (Apoyo administrativo) | H90: =I90+J90+K90 -> 2500000 | I90: 2000000 | K90: 500000
C91: =D91+E91+F91 -> 0 | H91: =I91+J91+K91 -> 0
C92: =D92+E92+F92 -> 0 | H92: =I92+J92+K92 -> 0
C93: =D93+E93+F93 -> 0 | H93: =I93+J93+K93 -> 0
A94: Subtotales | C94: =SUM(C90:C93) -> 2500000 | D94: =SUM(D90:D93) -> 2000000 | E94: =SUM(E90:E93) -> 0 | F94: =SUM(F90:F93) -> 500000 | H94: =SUM(H90:H93) -> 2500000 | I94: =SUM(I90:I93) -> 2000000 | J94: =SUM(J90:J93) -> 0 | K94: =SUM(K90:K93) -> 500000
A95: Actividad 5: Rubro: | B95: Elaborar y entregar los informes correspondientes y cerrar el proyecto. | G95: Elaborar y entregar los informes correspondientes y cerrar el proyecto.
A96: Honorarios equipo de trabajo | B96: 1 (Coordinador) | C96: =D96+E96+F96 -> 2000000 | F96: 2000000 | G96: 1 (Coordinador) | H96: =I96+J96+K96 -> 2000000 | K96: 2000000
C97: =D97+E97+F97 -> 0 | H97: =I97+J97+K97 -> 0
C98: =D98+E98+F98 -> 0 | H98: =I98+J98+K98 -> 0
C99: =D99+E99+F99 -> 0 | H99: =I99+J99+K99 -> 0
A100: Subtotales | C100: =SUM(C96:C99) -> 2000000 | D100: =SUM(D96:D99) -> 0 | E100: =SUM(E96:E99) -> 0 | F100: =SUM(F96:F99) -> 2000000 | H100: =SUM(H96:H99) -> 2000000 | I100: =SUM(I96:I99) -> 0 | J100: =SUM(J96:J99) -> 0 | K100: =SUM(K96:K99) -> 2000000
...

Sheet 1. Inicial
B1: PRESUPUESTO PROGRAMA DISTRITAL DE APOYOS CONCERTADOS - PDAC
B2: Nº DE PROPUESTA: | C2: 1735-003
B3: LÍNEA: | C3: Gestión del conocimiento
B4: PROYECTO: | C4: Fundación Integrando Fonteras
B5: NOMBRE DE LA ORGANIZACIÓN | C5: * + Revelaciones
B6: Insumo | C6: Cantidad | D6: Valor Total | E6: Valor Solicitado | F6: Valor Cofinanciado | G6: Valor Aportado Participante
B7: Objetivo Específico 1: | C7: Administrar el proyecto de acuerdo con su planteamiento y/o ajuste
B8: Actividad 1: Rubro: | C8: Realizar coordinación del proyecto
B9: Honorarios equipo de trabajo | C9: 1 (Coordinador) | D9: =E9+F9+G9 -> 7000000 | E9: 6000000 | F9: 500000 | G9: 500000
D10: =E10+F10+G10 -> 0
D11: =E11+F11+G11 -> 0
D12: =E12+F12+G12 -> 0
B13: Subtotales | D13: =SUM(D9:D12) -> 7000000 | E13: =SUM(E9:E12) -> 6000000 | F13: =SUM(F9:F12) -> 500000 | G13: =SUM(G9:G12) -> 500000
B14: Actividad 2: Rubro: | C14: Realizar la contratación del equipo del proyecto
B15: Honorarios equipo de trabajo | C15: 1 (Coordinador) | D15: =E15+F15+G15 -> 500000 | E15: 500000
D16: =E16+F16+G16 -> 0
D17: =E17+F17+G17 -> 0
D18: =E18+F18+G18 -> 0
B19: Subtotales | D19: =SUM(D15:D18) -> 500000 | E19: =SUM(E15:E18) -> 500000 | F19: =SUM(F15:F18) -> 0 | G19: =SUM(G15:G18) -> 0
B20: Actividad 3: Rubro: | C20: Realizar coordinación del equipo del proyecto
B21: Honorarios equipo de trabajo | C21: 1 (Coordinador) | D21: =E21+F21+G21 -> 600000 | E21: 300000 | F21: 200000 | G21: 100000
D22: =E22+F22+G22 -> 0
D23: =E23+F23+G23 -> 0
D24: =E24+F24+G24 -> 0
B25: Subtotales | D25: =SUM(D21:D24) -> 600000 | E25: =SUM(E21:E24) -> 300000 | F25: =SUM(F21:F24) -> 200000 | G25: =SUM(G21:G24) -> 100000
B26: Actividad 4: Rubro: | C26: Realizar la gestión con aliados del proyecto
B27: Honorarios equipo de trabajo | C27: 1 (Coordinador) | D27: =E27+F27+G27 -> 2100000 | G27: 2100000
D28: =E28+F28+G28 -> 0
D29: =E29+F29+G29 -> 0
D30: =E30+F30+G30 -> 0
B31: Subtotales | D31: =SUM(D27:D30) -> 2100000 | E31: =SUM(E27:E30) -> 0 | F31: =SUM(F27:F30) -> 0 | G31: =SUM(G27:G30) -> 2100000
B32: Actividad 5: Rubro: | C32: Realizar seguimiento del proyecto
B33: Honorarios equipo de trabajo | C33: 1 (Coordinador) | D33: =E33+F33+G33 -> 2100000 | E33: 1100000 | G33: 1000000
D34: =E34+F34+G34 -> 0
D35: =E35+F35+G35 -> 0
D36: =E36+F36+G36 -> 0
B37: Subtotales | D37: =SUM(D33:D36) -> 2100000 | E37: =SUM(E33:E36) -> 1100000 | F37: =SUM(F33:F36) -> 0 | G37: =SUM(G33:G36) -> 1000000
B38: Actividad 6: Rubro: | C38: Realizar ajustes del proyecto
B39: Honorarios equipo de trabajo | C39: 1 (Coordinador) | D39: =E39+F39+G39 -> 500000 | E39: 200000 | G39: 300000
D40: =E40+F40+G40 -> 0
D41: =E41+F41+G41 -> 0
D42: =E42+F42+G42 -> 0
B43: Subtotales | D43: =SUM(D39:D42) -> 500000 | E43: =SUM(E39:E42) -> 200000 | F43: =SUM(F39:F42) -> 0 | G43: =SUM(G39:G42) -> 300000
B44: Actividad 7: Rubro:
D45: =E45+F45+G45 -> 0
D46: =E46+F46+G46 -> 0
D47: =E47+F47+G47 -> 0
D48: =E48+F48+G48 -> 0
B49: Subtotales | D49: =SUM(D45:D48) -> 0 | E49: =SUM(E45:E48) -> 0 | F49: =SUM(F45:F48) -> 0 | G49: =SUM(G45:G48) -> 0
B50: Actividad 8: Rubro:
D51: =E51+F51+G51 -> 0
D52: =E52+F52+G52 -> 0
D53: =E53+F53+G53 -> 0
D54: =E54+F54+G54 -> 0
B55: Subtotales | D55: =SUM(D51:D54) -> 0 | E55: =SUM(E51:E54) -> 0 | F55: =SUM(F51:F54) -> 0 | G55: =SUM(G51:G54) -> 0
B56: Actividad 9: Rubro:
D57: =E57+F57+G57 -> 0
D58: =E58+F58+G58 -> 0
D59: =E59+F59+G59 -> 0
D60: =E60+F60+G60 -> 0
B61: Subtotales | D61: =SUM(D57:D60) -> 0 | E61: =SUM(E57:E60) -> 0 | F61: =SUM(F57:F60) -> 0 | G61: =SUM(G57:G60) -> 0
B62: Actividad 10: Rubro:
D63: =E63+F63+G63 -> 0
D64: =E64+F64+G64 -> 0
D65: =E65+F65+G65 -> 0
D66: =E66+F66+G66 -> 0
B67: Subtotales | D67: =SUM(D63:D66) -> 0 | E67: =SUM(E63:E66) -> 0 | F67: =SUM(F63:F66) -> 0 | G67: =SUM(G63:G66) -> 0
B68: Objetivo Específico 2: | C68: Realizar el proyecto de acuerdo con su planteamiento y/o ajuste
B69: Actividad 1: Rubro: | C69: Realizar evaluación del proyecto
B70: Honorarios equipo de trabajo | C70: 1 (Coordinador) | D70: =E70+F70+G70 -> 600000 | G70: 600000
D71: =E71+F71+G71 -> 0
D72: =E72+F72+G72 -> 0
D73: =E73+F73+G73 -> 0
B74: Subtotales | D74: =SUM(D70:D73) -> 600000 | E74: =SUM(E70:E73) -> 0 | F74: =SUM(F70:F73) -> 0 | G74: =SUM(G70:G73) -> 600000
B75: Actividad 2: Rubro: | C75: Realizar análisis de la información recogida (Cualitativa - Cuantitativa)
B76: Honorarios equipo de trabajo | C76: 3 (Investigadores) | D76: =E76+F76+G76 -> 6000000 | E76: 3600000 | F76: 1200000 | G76: 1200000
D77: =E77+F77+G77 -> 0
D78: =E78+F78+G78 -> 0
D79: =E79+F79+G79 -> 0
B80: Subtotales | D80: =SUM(D76:D79) -> 6000000 | E80: =SUM(E76:E79) -> 3600000 | F80: =SUM(F76:F79) -> 1200000 | G80: =SUM(G76:G79) -> 1200000
B81: Actividad 3: Rubro: | C81: Elaborar material audiovisual del estudio y sus resultados – 15 Clips de videos cada uno con los resultados de las 3 líneas de trabajo de máximo 1.30 seg., 1 video del desarrollo del proyecto, entre 1 y 5 minutos. 15 piezas gráficas sobre los resultados de la investigación.
B82: Honorarios equipo de trabajo | C82: 1 (Diseñador) | D82: 7500000 | E82: 7500000
D83: =E83+F83+G83 -> 0
D84: =E84+F84+G84 -> 0
D85: =E85+F85+G85 -> 0
B86: Subtotales | D86: =SUM(D82:D85) -> 7500000 | E86: =SUM(E82:E85) -> 7500000 | F86: =SUM(F82:F85) -> 0 | G86: =SUM(G82:G85) -> 0
B87: Actividad 4: Rubro: | C87: Difundir los encuentros ENDANZA y el documento escrito del estudio y el material audiovisual.
B88: Honorarios equipo de trabajo | C88: 1 (Apoyo administrativo) | D88: =E88+F88+G88 -> 2500000 | E88: 2000000 | G88: 500000
D89: =E89+F89+G89 -> 0
D90: =E90+F90+G90 -> 0
D91: =E91+F91+G91 -> 0
B92: Subtotales | D92: =SUM(D88:D91) -> 2500000 | E92: =SUM(E88:E91) -> 2000000 | F92: =SUM(F88:F91) -> 0 | G92: =SUM(G88:G91) -> 500000
B93: Actividad 5: Rubro: | C93: Elaborar y entregar los informes correspondientes y cerrar el proyecto.
B94: Honorarios equipo de trabajo | C94: 1 (Coordinador) | D94: =E94+F94+G94 -> 2000000 | G94: 2000000
D95: =E95+F95+G95 -> 0
D96: =E96+F96+G96 -> 0
D97: =E97+F97+G97 -> 0
B98: Subtotales | D98: =SUM(D94:D97) -> 2000000 | E98: =SUM(E94:E97) -> 0 | F98: =SUM(F94:F97) -> 0 | G98: =SUM(G94:G97) -> 2000000
B99: Actividad 6: Rubro: | C99: Realizar ajustes de las líneas teóricas y metodológicas del estudio y organizar sub-equipos de investigación. (3 investigadores)
B100: Honorarios equipo de trabajo | C100: 3 (Investigadores) | D100: =E100+F100+G100 -> 1500000 | E100: 800000 | F100: 500000 | G100: 200000
...

Sheet 2. Ajustado
B1: PRESUPUESTO PROGRAMA DISTRITAL DE APOYOS CONCERTADOS - PDAC
B2: Nº DE PROPUESTA: | C2: ='1. Inicial'!C2:G2 -> 1735-003
B3: LÍNEA: | C3: ='1. Inicial'!C3:G3 -> Gestión del conocimiento
B4: PROYECTO: | C4: ='1. Inicial'!C4:G4 -> Fundación Integrando Fonteras
B5: NOMBRE DE LA ORGANIZACIÓN | C5: ='1. Inicial'!C5:G5 -> * + Revelaciones
B6: Insumo | C6: Cantidad | D6: Valor Total | E6: Valor Solicitado | F6: Valor Cofinanciado | G6: Valor Aportado Participante
B7: Objetivo Específico 1: | C7: Administrar el proyecto de acuerdo con su planteamiento y/o ajuste
B8: Actividad 1: Rubro: | C8: Realizar coordinación del proyecto
B9: Honorarios equipo de trabajo | C9: 1 (Coordinador) | D9: =E9+F9+G9 -> 7000000 | E9: 6000000 | F9: 500000 | G9: 500000
D10: =E10+F10+G10 -> 0
D11: =E11+F11+G11 -> 0
D12: =E12+F12+G12 -> 0
B13: Subtotales | D13: =SUM(D9:D12) -> 7000000 | E13: =SUM(E9:E12) -> 6000000 | F13: =SUM(F9:F12) -> 500000 | G13: =SUM(G9:G12) -> 500000
B14: Actividad 2: Rubro: | C14: Realizar la contratación del equipo del proyecto
B15: Honorarios equipo de trabajo | C15: 1 (Coordinador) | D15: =E15+F15+G15 -> 500000 | E15: 300000 | G15: 200000
D16: =E16+F16+G16 -> 0
D17: =E17+F17+G17 -> 0
D18: =E18+F18+G18 -> 0
B19: Subtotales | D19: =SUM(D15:D18) -> 500000 | E19: =SUM(E15:E18) -> 300000 | F19: =SUM(F15:F18) -> 0 | G19: =SUM(G15:G18) -> 200000
B20: Actividad 3: Rubro: | C20: Realizar coordinación del equipo del proyecto
B21: Honorarios equipo de trabajo | C21: 1 (Coordinador) | D21: =E21+F21+G21 -> 600000 | E21: 300000 | F21: 200000 | G21: 100000
D22: =E22+F22+G22 -> 0
D23: =E23+F23+G23 -> 0
D24: =E24+F24+G24 -> 0
B25: Subtotales | D25: =SUM(D21:D24) -> 600000 | E25: =SUM(E21:E24) -> 300000 | F25: =SUM(F21:F24) -> 200000 | G25: =SUM(G21:G24) -> 100000
B26: Actividad 4: Rubro: | C26: Realizar la gestión con aliados del proyecto
B27: Honorarios equipo de trabajo | C27: 1 (Coordinador) | D27: =E27+F27+G27 -> 2100000 | G27: 2100000
D28: =E28+F28+G28 -> 0
D29: =E29+F29+G29 -> 0
D30: =E30+F30+G30 -> 0
B31: Subtotales | D31: =SUM(D27:D30) -> 2100000 | E31: =SUM(E27:E30) -> 0 | F31: =SUM(F27:F30) -> 0 | G31: =SUM(G27:G30) -> 2100000
B32: Actividad 5: Rubro: | C32: Realizar seguimiento del proyecto
B33: Honorarios equipo de trabajo | C33: 1 (Coordinador) | D33: =E33+F33+G33 -> 2100000 | E33: 1100000 | G33: 1000000
D34: =E34+F34+G34 -> 0
D35: =E35+F35+G35 -> 0
D36: =E36+F36+G36 -> 0
B37: Subtotales | D37: =SUM(D33:D36) -> 2100000 | E37: =SUM(E33:E36) -> 1100000 | F37: =SUM(F33:F36) -> 0 | G37: =SUM(G33:G36) -> 1000000
B38: Actividad 6: Rubro: | C38: Realizar ajustes del proyecto
B39: Honorarios equipo de trabajo | C39: 1 (Coordinador) | D39: =E39+F39+G39 -> 500000 | E39: 200000 | G39: 300000
D40: =E40+F40+G40 -> 0
D41: =E41+F41+G41 -> 0
D42: =E42+F42+G42 -> 0
B43: Subtotales | D43: =SUM(D39:D42) -> 500000 | E43: =SUM(E39:E42) -> 200000 | F43: =SUM(F39:F42) -> 0 | G43: =SUM(G39:G42) -> 300000
B44: Actividad 7: Rubro:
D45: =E45+F45+G45 -> 0
D46: =E46+F46+G46 -> 0
D47: =E47+F47+G47 -> 0
D48: =E48+F48+G48 -> 0
B49: Subtotales | D49: =SUM(D45:D48) -> 0 | E49: =SUM(E45:E48) -> 0 | F49: =SUM(F45:F48) -> 0 | G49: =SUM(G45:G48) -> 0
B50: Actividad 8: Rubro:
D51: =E51+F51+G51 -> 0
D52: =E52+F52+G52 -> 0
D53: =E53+F53+G53 -> 0
D54: =E54+F54+G54 -> 0
B55: Subtotales | D55: =SUM(D51:D54) -> 0 | E55: =SUM(E51:E54) -> 0 | F55: =SUM(F51:F54) -> 0 | G55: =SUM(G51:G54) -> 0
B56: Actividad 9: Rubro:
D57: =E57+F57+G57 -> 0
D58: =E58+F58+G58 -> 0
D59: =E59+F59+G59 -> 0
D60: =E60+F60+G60 -> 0
B61: Subtotales | D61: =SUM(D57:D60) -> 0 | E61: =SUM(E57:E60) -> 0 | F61: =SUM(F57:F60) -> 0 | G61: =SUM(G57:G60) -> 0
B62: Actividad 10: Rubro:
D63: =E63+F63+G63 -> 0
D64: =E64+F64+G64 -> 0
D65: =E65+F65+G65 -> 0
D66: =E66+F66+G66 -> 0
B67: Subtotales | D67: =SUM(D63:D66) -> 0 | E67: =SUM(E63:E66) -> 0 | F67: =SUM(F63:F66) -> 0 | G67: =SUM(G63:G66) -> 0
B68: Objetivo Específico 2: | C68: Realizar el proyecto de acuerdo con su planteamiento y/o ajuste
B69: Actividad 1: Rubro: | C69: Realizar evaluación del proyecto
B70: Honorarios equipo de trabajo | C70: 1 (Coordinador) | D70: =E70+F70+G70 -> 600000 | G70: 600000
D71: =E71+F71+G71 -> 0
D72: =E72+F72+G72 -> 0
D73: =E73+F73+G73 -> 0
B74: Subtotales | D74: =SUM(D70:D73) -> 600000 | E74: =SUM(E70:E73) -> 0 | F74: =SUM(F70:F73) -> 0 | G74: =SUM(G70:G73) -> 600000
B75: Actividad 2: Rubro: | C75: Realizar análisis de la información recogida (Cualitativa - Cuantitativa)
B76: Honorarios equipo de trabajo | C76: 3 (Investigadores) | D76: =E76+F76+G76 -> 6000000 | E76: 3600000 | F76: 1200000 | G76: 1200000
D77: =E77+F77+G77 -> 0
D78: =E78+F78+G78 -> 0
D79: =E79+F79+G79 -> 0
B80: Subtotales | D80: =SUM(D76:D79) -> 6000000 | E80: =SUM(E76:E79) -> 3600000 | F80: =SUM(F76:F79) -> 1200000 | G80: =SUM(G76:G79) -> 1200000
B81: Actividad 3: Rubro: | C81: Elaborar material audiovisual del estudio y sus resultados – 8 Clips de videos cada uno con los resultados de las 3 líneas de trabajo de máximo 1.30 seg., 1 video del desarrollo del proyecto, entre 1 y 5 minutos. 8 piezas gráficas sobre los resultados de la investigación. | H81: Se baja el número de videos de 15 a 8. No se afecta el propósito de la actividad. Se amplía la información en las piezas gráficas.
B82: Honorarios equipo de trabajo | C82: 1 (Diseñador) | D82: =E82+F82+G82 -> 5748000 | E82: 5748000 | F82: 0 | G82: 0
D83: =E83+F83+G83 -> 0
D84: =E84+F84+G84 -> 0
D85: =E85+F85+G85 -> 0
B86: Subtotales | D86: =SUM(D82:D85) -> 5748000 | E86: =SUM(E82:E85) -> 5748000 | F86: =SUM(F82:F85) -> 0 | G86: =SUM(G82:G85) -> 0
B87: Actividad 4: Rubro: | C87: Difundir los encuentros ENDANZA y el documento escrito del estudio y el material audiovisual.
B88: Honorarios equipo de trabajo | C88: 1 (Apoyo administrativo) | D88: =E88+F88+G88 -> 2500000 | E88: 2000000 | G88: 500000
D89: =E89+F89+G89 -> 0
D90: =E90+F90+G90 -> 0
D91: =E91+F91+G91 -> 0
B92: Subtotales | D92: =SUM(D88:D91) -> 2500000 | E92: =SUM(E88:E91) -> 2000000 | F92: =SUM(F88:F91) -> 0 | G92: =SUM(G88:G91) -> 500000
B93: Actividad 5: Rubro: | C93: Elaborar y entregar los informes correspondientes y cerrar el proyecto.
B94: Honorarios equipo de trabajo | C94: 1 (Coordinador) | D94: =E94+F94+G94 -> 2000000 | G94: 2000000
D95: =E95+F95+G95 -> 0
D96: =E96+F96+G96 -> 0
D97: =E97+F97+G97 -> 0
B98: Subtotales | D98: =SUM(D94:D97) -> 2000000 | E98: =SUM(E94:E97) -> 0 | F98: =SUM(F94:F97) -> 0 | G98: =SUM(G94:G97) -> 2000000
B99: Actividad 6: Rubro: | C99: Realizar ajustes de las líneas teóricas y metodológicas del estudio y organizar sub-equipos de investigación. (3 investigadores)
B100: Honorarios equipo de trabajo | C100: 3 (Investigadores) | D100: =E100+F100+G100 -> 1500000 | E100: 800000 | F100: 500000 | G100: 200000
...
