Workbook
Name \0: #REF!
Name \0: #REF!
Name \0: #REF!
Name \1: #REF!
Name \1: #REF!
Name \1: #REF!
Name \A: [37]A!$D$9:$D$53
Name \b: #REF!
Name \b: #REF!
Name \b: #REF!
Name \c: #REF!
Name \c: #REF!
Name \c: #REF!
Name \d: #REF!
Name \d: #REF!
Name \d: #REF!
Name \e: #REF!
Name \e: #REF!
Name \e: #REF!
Name \f: #REF!
Name \f: #REF!
Name \f: #REF!
Name \g: #REF!
Name \g: #REF!
Name \g: #REF!
Name \h: #REF!
Name \h: #REF!
Name \h: #REF!
Name \i: #REF!
Name \i: #REF!
Name \i: #REF!
Name \k: #REF!
Name \k: #REF!
Name \k: #REF!
Name \LL: #REF!
Name \LL: #REF!
Name \LL: #REF!
Name \m: '[6]APU PVC'!#REF!
Name \m: '[6]APU PVC'!#REF!
Name \m: '[6]APU PVC'!#REF!
Name \n: #REF!
Name \n: #REF!
Name \n: #REF!
Name \O: #REF!
Name \O: #REF!
Name \O: #REF!
Name \p: #REF!
Name \p: #REF!
Name \p: #REF!
Name \PP: #N/A
Name \r: '[6]APU PVC'!#REF!
Name \r: '[6]APU PVC'!#REF!
Name \r: '[6]APU PVC'!#REF!
Name \s: #REF!
Name \s: #REF!
Name \s: #REF!
Name \t: '[6]APU PVC'!#REF!
Name \t: '[6]APU PVC'!#REF!
Name \t: '[6]APU PVC'!#REF!
Name \u: #REF!

Sheet 90 m
A1: PIEZÓMETRO A 90 METROS CON DOS EQUIPOS DIVER
A2: Item | B2: Descripción | C2: Unidad | D2: Cantidad | E2: Valor Unitario | F2: Valor Total
A3: 1 | B3: COMPLETAMIENTO DEL PIEZOMETRO
A4: 1.1 | B4: Transporte de materiales | C4: Global | D4: 1 | E4: 1000000 | F4: =E4*D4 -> 1000000
A5: 1.2 | B5: Bentonita | C5: bulto | D5: 2 | E5: 130000 | F5: =E5*D5 -> 260000
A6: 1.3 | B6: Alistamiento de tubería y filtros | C6: m | D6: 90 | E6: 5000 | F6: =E6*D6 -> 450000
A7: 1.4 | B7: Suministro e instalación de tubería PVC RDE 21 de 2" | C7: m | D7: 84 | E7: 55000 | F7: =E7*D7 -> 4620000
A8: 1.5 | B8: Suministro e instalación de filtros PVC RDE 21 de 2" y Geotextil | C8: m | D8: 6 | E8: 60000 | F8: =E8*D8 -> 360000
A9: 1.6 | B9: Suministro e instalación de gravilla seleccionada (3.2 mm o ⅛") | C9: m3 | D9: 2 | E9: 230000 | F9: =E9*D9 -> 460000
A10: 1.7 | B10: Tapa y manhole | C10: unidad | D10: 1 | E10: 500000 | F10: =E10*D10 -> 500000
A11: 1.8 | B11: Cemento | C11: Bulto | D11: 3 | E11: 38000 | F11: =E11*D11 -> 114000
A12: 1.9 | B12: Construcción de sello sanitario y placa en concreto | C12: Global | D12: 1 | E12: 300000 | F12: =E12*D12 -> 300000
A13: 1.10 | B13: Equipo monitoreo | C13: Global | D13: 2 | E13: 12000000 | F13: =E13*D13 -> 24000000
A14: 1.11 | B14: Instalacion equipo | C14: Global | D14: 2 | E14: 2000000 | F14: =E14*D14 -> 4000000
A15: COSTO DIRECTO COMPLETAMIENTO DEL POZO | F15: =F4+F5+F6+F7+F8+F9+F10+F11+F12+F13+F14 -> 36064000
A16: IMPREVISTOS | E16: 0.05 | F16: =F15*E16 -> 1803200
A17: ADMINISTRACIÓN | E17: 0.1 | F17: =F15*E17 -> 3606400
A18: UTILIDADES | E18: 0.05 | F18: =F15*E18 -> 1803200
A19: TOTAL | E19: AIU | F19: =F16+F17+F18 -> 7212800
A20: TOTAL | F20: =F19+F15 -> 43276800
A21: IVA | E21: 0.19 | F21: =F18*E21 -> 342608
A22: VALOR TOTAL COMPLETAMIENTO PIEZÓMETRO | F22: =F20+F21 -> 43619408

Sheet 40 m
A1: PIEZÓMETRO A 40 M CON UN EQUIPO DIVER
A2: Item | B2: Descripción | C2: Unidad | D2: Cantidad | E2: Valor Unitario | F2: Valor Total
A3: 1 | B3: COMPLETAMIENTO DEL PIEZOMETRO
A4: 1.1 | B4: Transporte de materiales | C4: Global | D4: 1 | E4: 1000000 | F4: =E4*D4 -> 1000000
A5: 1.2 | B5: Bentonita | C5: bulto | D5: 2 | E5: 130000 | F5: =E5*D5 -> 260000
A6: 1.3 | B6: Alistamiento de tubería y filtros | C6: m | D6: 40 | E6: 5000 | F6: =D6*E6 -> 200000 | G6: 25 | H6: 75 | J6: 90
A7: 1.4 | B7: Suministro e instalación de tubería PVC RDE 21 de 2" | C7: m | D7: 37 | E7: 55000 | F7: =+E7*D7 -> 2035000
A8: 1.5 | B8: Suministro e instalación de filtros PVC RDE 21 de 2" y Geotextil | C8: m | D8: 3 | E8: 60000 | F8: =D8*E8 -> 180000
A9: 1.6 | B9: Suministro e instalación de gravilla seleccionada (3.2 mm o ⅛") | C9: m3 | D9: 1 | E9: 230000 | F9: =D9*E9 -> 230000
A10: 1.7 | B10: Tapa y manhole | C10: unidad | D10: 1 | E10: 500000 | F10: =D10*E10 -> 500000
A11: 1.8 | B11: Cemento | C11: Bulto | D11: 3 | E11: 38000 | F11: =D11*E11 -> 114000
A12: 1.9 | B12: Construcción de sello sanitario y placa en concreto | C12: Global | D12: 1 | E12: 300000 | F12: =D12*E12 -> 300000
A13: 1.10 | B13: Equipo monitoreo | C13: Global | D13: 1 | E13: 12000000 | F13: =E13*D13 -> 12000000
A14: 1.11 | B14: Consola Monitoreo | C14: Global | D14: 1 | E14: 6000000 | F14: =E14*D14 -> 6000000
A15: 1.12 | B15: Instalacion equipo y Consola | C15: Global | D15: 2 | E15: 2000000 | F15: =E15*D15 -> 4000000
A16: 1.13 | B16: Capacitación manejo equipos | C16: Global | D16: 1 | E16: 1200000 | F16: =E16*D16 -> 1200000
A17: COSTO DIRECTO COMPLETAMIENTO DEL POZO | F17: =SUM(F4:F16) -> 28019000
A18: IMPREVISTOS DE 5% | F18: =F17*0.05 -> 1400950
A19: ADMINISTRACIÓN DEL 10% | F19: =F17*0.1 -> 2801900
A20: UTILIDADES DEL 5% | F20: =F17*0.05 -> 1400950
A21: IVA DEL 19% SOBRE LAS UTILIDADES | F21: =F20*0.19 -> 266180.5
A22: VALOR TOTAL COMPLETAMIENTO PIEZÓMETRO | F22: =SUM(F17:F21) -> 33888980

Sheet Resumen
B2: COSTO TOTAL DE LA OBRA
B3: ITEM | F3: VALOR
B4: COSTO TOTAL DEL COMPLETAMIENTO | F4: ='PRE Pozo Exploratorio'!M17 -> 1.6776492e+08
B5: COSTO TOTAL PERFORACION EXPLORATORIA | F5: ='PRE Ampliacion y completamiento'!M26 -> 2.9068979e+08
B6: COSTO TOTAL DE LA OBRA | F6: =F4+F5 -> 4.5845471e+08
B7: INTERVENTORIA | F7: =Interventoria!J21 -> 35127848
B8: VALOR TOTAL CON INTERVENTORIA | F8: =+F6+F7 -> 4.9358256e+08

Sheet F.M
A2: FACTOR MULTIPLICADOR PARA CONTRATO DE INTERVENTORIA
B4: CONCEPTO | I4: PORCENTAJE
A5: 1. | B5: Salarios y Prestaciones Sociales de Personal Facturable
A6: 1.1 | B6: Salarios | I6: 1
A7: 1.2 | B7: Prima anual (legal) | E7: 1 | F7: ÷ 12 = | I7: 0.08
A8: 1.3 | B8: Cesantía | E8: 1 | F8: ÷ 12 = | I8: =1/12 -> 0.083333333
A9: 1.4 | B9: Intereses de cesantía | E9: 0.01 | F9: x 1.3. = | I9: 0.01
A10: 1.5 | B10: Vacaciones | I10: 0.042
A11: 1.6 | B11: ARP | I11: 0.0696
A12: 1.7 | B12: Sena | I12: 0.02
A13: 1.8 | B13: ICBF | I13: 0.03
A14: 1.9 | B14: Seguridad Social (salud + pensión) | I14: 0.205
A15: 2 | B15: Caja de Compensación Familiar | I15: 0.04
A16: 2.1 | B16: Otros (Auxilios varios, prestaciones extralegales, Incapacidades no cubiertas) | I16: 0.01
A17: 2.2 | B17: Dotación (Elementos de proteccion personal de campo y oficina) | I17: 0.05
F18: Sub-total | I18: =SUM(I6:I17) -> 1.6399333
A21: 3. | B21: Gastos Generales
A22: 3.1 | B22: Asesoria Contable Tributaria y Juridica | I22: 0.01
A23: 3.2 | B23: Seguros de robo e incendio | I23: 0.005
A24: 3.3 | B24: Personal Administrativo no facturado | I24: 0.01
A25: 3.4 | B25: Personal Profesional no facturado | I25: 0.01
A26: 3.5 | B26: Depreciación de muebles y equipos | I26: 0.005
A27: 3.6 | B27: Correo y otros | I27: 0.005
F28: Sub-total | I28: =SUM(I22:I27) -> 0.045
A30: 4. | B30: Costos Directos no Reembolsables
A31: 4.1 | B31: Poliza de Calidad | I31: 0.0053
A32: 4.2 | B32: Póliza Cumplimiento | I32: 0.01
A33: 4.3 | B33: Póliza Salarios y prestaciones Sociales | I33: 0.0265
F34: Sub-total | I34: =SUM(I31:I33) -> 0.0418
A36: 5. | B36: Honorarios | F36: Sub-total | I36: 0.1
A39: T O T A L | I39: =+I36+I34+I28+I18 -> 1.8267333
A40: FACTOR FINAL DE MULTIPLICACION | I40: =+ROUND(I39,2) -> 1.83
A45: Elaboró: | B45: NOMBRE | F45: Revisó: | G45: NOMBRE
B46: CARGO | G46: CARGO
B47: MATRICULA PROFESIONAL | G47: DEPENDENCIA

Sheet Interventoria
A1: PRESUPUESTO DE INTERVENTORIA OBRA
A5: ITEM | B5: DESCRIPCION | C5: CATEGORIA | D5: CANTIDAD | E5: VALOR MENSUAL | F5: FACTOR MULTIPLICADOR | G5: PORCENTAJE DE DEDICACION | H5: TOTAL VALOR MENSUAL | I5: TIEMPO (MES) | J5: TOTAL
A6: 1 | B6: PERSONAL
A7: 1.1 | B7: PERSONAL DIRECTIVO Y RESIDENTE
A8: 1,1,1 | B8: Geologo con conocimientos en recursos hidricos enfocado en la fase de construccion de pozos de agua, conocimientos en fase de exploracion, perforacion y explotacion de recursos hidricos con esperiencia minima de dos años. | C8: 1 | D8: 3 | E8: =+'Factor Prestacional'!D122 -> 4060000 | F8: 1.83 | G8: 0.55 | H8: =+ROUND((D8*E8*F8*G8),2) -> 12259170 | I8: 1 | J8: =+ROUND(H8*I8,2) -> 12259170
A9: (1) SUBTOTAL PERSONAL | J9: =SUM(J8:J8) -> 12259170
A10: ITEM | B10: DESCRIPCION | D10: CANTIDAD | E10: VALOR MENSUAL | F10: DEDICACION | H10: TOTAL VALOR MENSUAL | I10: TIEMPO (MES) | J10: TOTAL
A11: 2 | B11: GASTOS OPERACIONALES
A12: 2.1 | B12: COSTOS DIRECTOS REEMBOLSABLES
A13: 2,1,1 | B13: Alquiler de vehiculo (Modelo 2019 - 2023) incluye: Combustible y mantenimiento que garantice el buen funcionamiento del vehiculo) | D13: 3 | E13: 4000000 | H13: =+ROUND(D13*E13,0) -> 12000000 | I13: =+I8 -> 1 | J13: =+ROUND(H13*I13,2) -> 12000000
A14: 2,1,2 | B14: Elaboración y presentación de Informes. Incluye: Edición, Registro fotografico, fotocopias, papeleria, otros. | D14: 3 | E14: 359733 | H14: =+ROUND(D14*E14,0) -> 1079199 | I14: =+I13 -> 1 | J14: =+ROUND(H14*I14,2) -> 1079199
A15: (2) SUBTOTAL GASTOS OPERACIONES | J15: =SUM(J13:J14) -> 13079199
A16: (3)=(1)+(2) SUBTOTAL PERSONAL + GASTOS OPERACIONES | J16: =+J15+J9 -> 25338369
A17: (4)= VALOR EQUIVALENTE A DEDUCCIONES Y CONTRIBUCIONES | I17: 0.165 | J17: =+ROUND(J16*I17,2) -> 4180830.9
A18: (4)=(1+2+3) SUBTOTAL PERSONAL + GASTOS OPERACIONES + DEDUCCIONES Y CONTRIBUCIONES | J18: =+J17+J16 -> 29519200
A19: AJUSTE DE CIFRA DECIMAL (CEROS) | J19: =+ROUND(J18,0) -> 29519200
A20: IMPUESTO I.V.A. | I20: 0.19 | J20: =+ROUND(J19*I20,0) -> 5608648
A21: TOTAL VALOR INTERVENTORIA | J21: =+J19+J20 -> 35127848
G22: PORCENTAJE EQUIVALENTE DEL PRESUPUESTO | J22: =ROUND(+J19/L23,4) -> 0.0644 | L22: COSTO DIRECTO OBRA
L23: =+Resumen!F6 -> 4.5845471e+08
A28: Elaboró | F28: Revisó
A29: NOMBRE | F29: NOMBRE
A30: PROFESION | F30: PROFESION

Sheet PRE Pozo Exploratorio
B2: CONSTRUCCIÓN POZO PROFUNDO EXPLORATORIO
P3: CONSTRUCCIÓN POZO PROFUNDO EXPLORATORIO
P4: NO BORRAR
B5: ID | C5: DESCRIPCION | I5: UND | J5: CANT | K5: VR. UNITARIO | M5: VR PARCIAL
B6: 1 | C6: PERFORACIÓN POZO EXPLORATORIO
B7: 1.1 | C7: Tramites de licencias y permisos | I7: Und | J7: 3 | K7: =+'APUs PE'!H210 -> 2800000 | M7: =+K7*J7 -> 8400000
B8: 1.2 | C8: Transporte de personal, equipos, adecuación del terreno y elaboración de piscinas para lodos. | I8: POZO | J8: 3 | K8: =+'APUs PE'!H42 -> 4000000 | M8: =ROUND(K8*J8,0) -> 12000000
B9: 1.3 | C9: Adecuación del área de trabajo, construcción de piscina almacenamiento de lodos bentónicos y canales para el recorrido de lodos, manteniendo las exigencias ambientales. Canales. | I9: POZO | J9: 3 | K9: =+'APUs PE'!H83 -> 180000 | M9: =ROUND(K9*J9,0) -> 540000
B10: 1.4 | C10: Perforación exploratoria de 4" con lodos a base de bentonita. para los 3 pozos los cuales van relacionados a los 110 metros de profundidad para cada pozo | I10: MT | J10: 330 | K10: =+'APUs PE'!H127 -> 304154 | M10: =ROUND(K10*J10,0) -> 100370820
B11: 1.5 | C11: Toma de registro eléctrico Sp, Gama Ray y Resistividad, toma de registro con sonda de niveles en cada pozo a un profundidad de 110 metros de profundidad. y Resistividad. | I11: MT | J11: 330 | K11: =+'APUs PE'!H170 -> 23572.23 | M11: =ROUND(K11*J11,0) -> 7778836
I12: AIU% | J12: SUBTOTAL COSTOS DIRECTOS | M12: =SUM(M7:N11) -> 129089656 | Q12: =+M12 -> 129089656
I13: =+'AIU-Pozo Exploratorio'!J30 -> 0.2396 | J13: ADMINISTRACION | M13: =ROUND(M12*I13,2) -> 30929882 | Q13: NO BORRAR - CALCULO AIU
I14: =+'AIU-Pozo Exploratorio'!J32 -> 0.01 | J14: IMPREVISTOS | M14: =ROUND(M12*I14,2) -> 1290896.6
I15: =+'AIU-Pozo Exploratorio'!J34 -> 0.05 | J15: UTILIDAD | M15: =ROUND(M12*I15,2) -> 6454482.8
B16: OBSERVACIONES: | I16: TOTAL AIU | M16: =SUM(M13:N15) -> 38675261
I17: TOTAL PERFORACION POZO EXPLORATORIO | L17: TOTAL COTIZACION | M17: =+M16+M12 -> 1.6776492e+08
F20: Realizó:
G21: NOMBRE
G22: CARGO
G23: ENTIDAD

Sheet PRE Ampliacion y completamiento
B2: CONSTRUCCIÓN POZO PROFUNDO, AMPLIACIÓN Y COMPLETAMIENTO
P3: CONSTRUCCIÓN POZO PROFUNDO AMPLIACIÓN Y COMPLETAMIENTO
P4: NO BORRAR
B5: ID | C5: DESCRIPCION | I5: UND | J5: CANT | K5: VR. UNITARIO | M5: VR PARCIAL
B6: 1 | C6: PERFORACIÓN POZO EXPLORATORIO
B7: 1.5 | C7: AMPLIACION DE POZO 12” ½ para los 3 pozos a una profundidad de 110 metros de profundidad | I7: MT | J7: 330 | K7: =+'APUs AyC'!H44 -> 281415 | M7: =K7*J7 -> 92866950
B8: 1.6 | C8: Diseño del pozo perfil estatigrafico con su respectiva litologia en los 3 pozos. | I8: POZO | J8: 3 | K8: =+'APUs AyC'!H86 -> 250000 | M8: =K8*J8 -> 750000
B9: 1.7 | C9: Alistamiento de tubería y filtros. | I9: MT | J9: 330 | K9: =+'APUs AyC'!H127 -> 4000 | M9: =K9*J9 -> 1320000
B10: 1.8 | C10: Suministro e instalación de Tubería PVC de 6" para pozo RDE-21 de 70 metros de tuberia ciega para cada pozo. | I10: MT | J10: 210 | K10: =+'APUs AyC'!H171 -> 125000 | M10: =K10*J10 -> 26250000
B11: 1.9 | C11: Suministro e instalación de filtros PVC de 6" para pozo RDE-21 40 metros de tuberia renurada para cada pozos. | I11: MT | J11: 120 | K11: =+'APUs AyC'!H217 -> 205000 | M11: =K11*J11 -> 24600000
B12: 1.10 | C12: Suministro e instalación de gravilla seleccionada contrasporte, suministro de 4 m3 para cada uno de los pozos. | I12: M3 | J12: 12 | K12: =+'APUs AyC'!H260 -> 350000 | M12: =K12*J12 -> 4200000
B13: 2 | C13: COMPLEMENTOS Y SISTEMA DE BOMBEO
B14: 2.1 | C14: Limpieza y desarrollo del pozo por el método combinado de aire, pistón y yetting, con aplicación de químicos 3 pozos de 110 metroa de profundidad. | I14: HR | J14: 30 | K14: =+'APUs AyC'!H352 -> 70000 | M14: =K14*J14 -> 2100000
B15: 2.2 | C15: Tubos Engravilladores | I15: MT | J15: 18 | K15: =+'APUs AyC'!H481 -> 20000 | M15: =K15*J15 -> 360000
B16: 2.3 | C16: Cemento 50 Kg | I16: BULTO | J16: 12 | K16: =+'APUs AyC'!H437 -> 35000 | M16: =K16*J16 -> 420000
B17: 2.4 | C17: Construcción de sello sanitario y placa de Concreto, Construcción de la base del pozo de 0,4 x 0,4 x 1,0 mts con concreto de 3500 psi. | I17: POZO | J17: 3 | K17: =+'APUs AyC'!H308 -> 200000 | M17: =K17*J17 -> 600000
B18: 2.5 | C18: Suministro de equipo de bombeo 2 HP , paneles solares con su respectivo tablero y materiales para su instalacion, conecciones electricas y su respectiva instalacion a un 100% | I18: UND | J18: 3 | K18: =+'APUs AyC'!H568 -> 18000000 | M18: =+K18*J18 -> 54000000
B19: 2.6 | C19: Suministro de tanques de agua de 2000L | I19: UND | J19: 6 | K19: =+'APUs AyC'!H523 -> 745000 | M19: =+K19*J19 -> 4470000
B20: 2.7 | C20: Prueba de bombeo | I20: POZO | J20: 3 | K20: =+'APUs AyC'!H396 -> 3895928.8 | M20: =K20*J20 -> 11687786
I21: AIU% | J21: SUBTOTAL COSTOS DIRECTOS | M21: =SUM(M7:N20) -> 2.2362474e+08 | P21: =+M21 -> 2.2362474e+08
I22: =+'AIU-Ampliacion-Comple'!J29 -> 0.2399 | J22: ADMINISTRACION | M22: =ROUND(M21*I22,2) -> 53647574 | P22: NO BORRAR - CALCULO AIU
I23: =+'AIU-Ampliacion-Comple'!J31 -> 0.01 | J23: IMPREVISTOS | M23: =ROUND(M21*I23,2) -> 2236247.4
I24: =+'AIU-Ampliacion-Comple'!J33 -> 0.05 | J24: UTILIDAD | M24: =ROUND(M21*I24,2) -> 11181237
B25: OBSERVACIONES: | I25: TOTAL AIU | M25: =SUM(M22:N24) -> 67065058
I26: TOTAL CONSTRUCCION Y COMPLETAMIENTO | M26: =+M25+M21 -> 2.9068979e+08
F30: Realizó:
G31: NOMBRE
G32: CARGO
G33: ENTIDAD

Sheet AIU-Pozo Exploratorio
B1: ANALISIS DESGLOSADO DE A.I.U. CONTRATO DE OBRA
B2: CONSTRUCCION DE POZO EXPLORATORIO
B5: VALOR COSTO DIRECTO | C5: =+'PRE Pozo Exploratorio'!Q12 -> 129089656 | H5: DURACION DEL PROYECTO (MES) | J5: 1
B6: VALOR COSTO TOTAL CD + AIU CALCULADO | C6: =ROUND(C5*(1+J36),2) -> 1.6776492e+08 | H6: AIU ASUMIDO | J6: 0.3 | L6: =+C6-C5 -> 38675261
B8: DESCRIPCION | C8: CANT. | D8: SALARIO BASE | E8: FACTOR PRESTACIONAL | F8: VALOR MES | G8: % DEDICACION | H8: DURACION (MES) | I8: VALOR TOTAL | J8: % CON RESPECTO A COSTOS DIRECTOS.
B10: A.) GASTOS DE ADMINISTRACION.
B11: Personal administrativo con prestaciones. | J11: =SUM(J13:J14) -> 0.0172
B12: 1-Residente de Obra | C12: 1 | D12: =+'Factor Prestacional'!H72 -> 2807200 | E12: =+'Factor Prestacional'!I96 -> 0.6106 | F12: =D12+(D12*E12) -> 4521276.3 | G12: 1 | H12: 1 | I12: =ROUND(C12*F12*G12*H12,2) -> 4521276.3 | J12: =ROUND((I12/$C$5),4) -> 0.035
B13: 2-Geologo | C13: 1 | D13: =+'Factor Prestacional'!F72 -> 2228606 | E13: =+'Factor Prestacional'!G96 -> 0.6949 | F13: =D13+(D13*E13) -> 3777264.3 | G13: 0.5 | H13: =+J5 -> 1 | I13: =ROUND(C13*F13*G13*H13,2) -> 1888632.1 | J13: =ROUND((I13/$C$5),4) -> 0.0146
B14: 3-Secretaria | C14: 1 | D14: =+'Factor Prestacional'!J20 -> 1531200 | E14: =+'Factor Prestacional'!I46 -> 0.7485 | F14: =D14+(D14*E14) -> 2677303.2 | G14: 0.42 | H14: =+J6 -> 0.3 | I14: =ROUND(C14*F14*G14*H14,2) -> 337340.2 | J14: =ROUND((I14/$C$5),4) -> 0.0026
B15: Instalaciones, dotaciones y SG-SST | J15: =SUM(J16:J16) -> 0.0014
B16: 1- Gastos de oficina (Papeleria e impresiones) | C16: 1 | F16: 185000 | G16: 1 | H16: =+H13 -> 1 | I16: =F16*G16*H16*C16 -> 185000 | J16: =ROUND((I16/$C$5),4) -> 0.0014
B17: Gastos legalizacion General y de Cobros. | F17: % | G17: COSTOS DIRECTOS | I17: VALOR ESTAMPILLA O FONDO | J17: =SUM(J18:J28) -> 0.221
B18: 1- Requisitos de Ejecución del Contrato (Garantías) | F18: 0.006 | G18: =$C$5 -> 129089656 | I18: =(F18*(G18)) -> 774537.94 | J18: =ROUND((I18/$C$5),4) -> 0.006
B19: 2- Estampilla Pro Cultura | F19: 0.02 | G19: =$C$5 -> 129089656 | I19: =(F19*(G19)) -> 2581793.1 | J19: =ROUND((I19/$C$5),4) -> 0.02
B20: 3- Estampilla Pro Adulto Mayor | F20: 0.04 | G20: =$C$5 -> 129089656 | I20: =(F20*(G20)) -> 5163586.2 | J20: =ROUND((I20/$C$5),4) -> 0.04
B21: 4- Estampilla Pro Electrificacion Rural | F21: 0.015 | G21: =$C$5 -> 129089656 | I21: =(F21*(G21)) -> 1936344.8 | J21: =ROUND((I21/$C$5),4) -> 0.015
B22: 5- Estampilla Pro CERES | F22: 0.01 | G22: =$C$5 -> 129089656 | I22: =(F22*(G22)) -> 1290896.6 | J22: =ROUND((I22/$C$5),4) -> 0.01
B23: 6- Estampilla Pro Hospital Universitario | F23: 0.01 | G23: =$C$5 -> 129089656 | I23: =(F23*(G23)) -> 1290896.6 | J23: =ROUND((I23/$C$5),4) -> 0.01
B24: 7- Estampilla Pro Universidad de Cartagena | F24: 0.01 | G24: =$C$5 -> 129089656 | I24: =(F24*(G24)) -> 1290896.6 | J24: =ROUND((I24/$C$5),4) -> 0.01
B25: 8- Estampilla Pro Monumentos | F25: 0.03 | G25: =$C$5 -> 129089656 | I25: =(F25*(G25)) -> 3872689.7 | J25: =ROUND((I25/$C$5),4) -> 0.03
B26: 9- Fondo de seguridad ciudadana | F26: 0.05 | G26: =$C$5 -> 129089656 | I26: =(F26*(G26)) -> 6454482.8 | J26: =ROUND((I26/$C$5),4) -> 0.05
B27: 10- Contribución Deporte | F27: 0.01 | G27: =$C$5 -> 129089656 | I27: =(F27*(G27)) -> 1290896.6 | J27: =ROUND((I27/$C$5),4) -> 0.01
B28: 11- Contribución órdenes de pago y contratos | F28: 0.02 | G28: =$C$5 -> 129089656 | I28: =(F28*(G28)) -> 2581793.1 | J28: =ROUND((I28/$C$5),4) -> 0.02
B30: A.) TOTAL GASTOS DE ADMINISTRACION (A) | J30: =+J17+J15+J11 -> 0.2396
B32: B.) IMPREVISTOS ESTIMADOS (I) | J32: 0.01
B34: C.) UTILIDADES ESPERADAS (U) | J34: 0.05
B36: PORCENTAJE TOTAL DE AIU | J36: =SUM(J30:J34) -> 0.2996
B38: OBSERVACIONES:
B39: 1) Los salarios base son extraidos con base al analisis efectuado para el calculo del factor prestacion según experiencia del profesional
B40: 2) Los porcentajes de estampillas son estipulados según base de datos del departamento de sucre.
B47: Elaboró | G47: Revisó
B48: XXXXXXX | G48: XXXXX
B49: Profesion | G49: Profesion

Sheet AIU-Ampliacion-Comple
B1: ANALISIS DESGLOSADO DE A.I.U. CONTRATO DE OBRA
B2: CONSTRUCCION DE POZO PROFUNDO, AMPLIACIÓN Y COMPLETAMIENTO
B5: VALOR COSTO DIRECTO | C5: =+'PRE Ampliacion y completamiento'!P21 -> 2.2362474e+08 | H5: DURACION DEL PROYECTO (MES) | J5: 1
B6: VALOR COSTO TOTAL CD + AIU CALCULADO | C6: =ROUND(C5*(1+J35),2) -> 2.9068979e+08 | H6: AIU ASUMIDO | J6: 0.3 | L6: =+C6-C5 -> 67065058
B8: DESCRIPCION | C8: CANT. | D8: SALARIO BASE | E8: FACTOR PRESTACIONAL | F8: VALOR MES | G8: % DEDICACION | H8: DURACION (MES) | I8: VALOR TOTAL | J8: % CON RESPECTO A COSTOS DIRECTOS.
B10: A.) GASTOS DE ADMINISTRACION.
B11: Personal administrativo con prestaciones. | J11: =SUM(J12:J13) -> 0.0179
B12: 1-Residente de Obra | C12: 1 | D12: =+'Factor Prestacional'!H72 -> 2807200 | E12: =+'Factor Prestacional'!I96 -> 0.6106 | F12: =D12+(D12*E12) -> 4521276.3 | G12: 0.5 | H12: 1 | I12: =ROUND(C12*F12*G12*H12,2) -> 2260638.2 | J12: =ROUND((I12/$C$5),4) -> 0.0101
B13: 2-Geologo | C13: 1 | D13: =+'Factor Prestacional'!F72 -> 2228606 | E13: =+'Factor Prestacional'!G96 -> 0.6949 | F13: =D13+(D13*E13) -> 3777264.3 | G13: 0.46 | H13: =+J5 -> 1 | I13: =ROUND(C13*F13*G13*H13,2) -> 1737541.6 | J13: =ROUND((I13/$C$5),4) -> 0.0078
B14: Instalaciones, dotaciones y SG-SST | J14: =SUM(J15:J15) -> 0.001
B15: 1- Gastos de oficina (Papeleria e impresiones) | C15: 1 | F15: 220000 | G15: 1 | H15: =+H12 -> 1 | I15: =F15*G15*H15*C15 -> 220000 | J15: =ROUND((I15/$C$5),4) -> 0.001
B16: Gastos legalizacion General y de Cobros. | F16: % | G16: COSTOS DIRECTOS | I16: VALOR ESTAMPILLA O FONDO | J16: =SUM(J17:J27) -> 0.221
B17: 1- Requisitos de Ejecución del Contrato (Garantías) | F17: 0.006 | G17: =$C$5 -> 2.2362474e+08 | I17: =(F17*(G17)) -> 1341748.4 | J17: =ROUND((I17/$C$5),4) -> 0.006
B18: 2- Estampilla Pro Cultura | F18: 0.02 | G18: =$C$5 -> 2.2362474e+08 | I18: =(F18*(G18)) -> 4472494.7 | J18: =ROUND((I18/$C$5),4) -> 0.02
B19: 3- Estampilla Pro Adulto Mayor | F19: 0.04 | G19: =$C$5 -> 2.2362474e+08 | I19: =(F19*(G19)) -> 8944989.5 | J19: =ROUND((I19/$C$5),4) -> 0.04
B20: 4- Estampilla Pro Electrificacion Rural | F20: 0.015 | G20: =$C$5 -> 2.2362474e+08 | I20: =(F20*(G20)) -> 3354371 | J20: =ROUND((I20/$C$5),4) -> 0.015
B21: 5- Estampilla Pro CERES | F21: 0.01 | G21: =$C$5 -> 2.2362474e+08 | I21: =(F21*(G21)) -> 2236247.4 | J21: =ROUND((I21/$C$5),4) -> 0.01
B22: 6- Estampilla Pro Hospital Universitario | F22: 0.01 | G22: =$C$5 -> 2.2362474e+08 | I22: =(F22*(G22)) -> 2236247.4 | J22: =ROUND((I22/$C$5),4) -> 0.01
B23: 7- Estampilla Pro Universidad de Cartagena | F23: 0.01 | G23: =$C$5 -> 2.2362474e+08 | I23: =(F23*(G23)) -> 2236247.4 | J23: =ROUND((I23/$C$5),4) -> 0.01
B24: 8- Estampilla Pro Monumentos | F24: 0.03 | G24: =$C$5 -> 2.2362474e+08 | I24: =(F24*(G24)) -> 6708742.1 | J24: =ROUND((I24/$C$5),4) -> 0.03
B25: 9- Fondo de seguridad ciudadana | F25: 0.05 | G25: =$C$5 -> 2.2362474e+08 | I25: =(F25*(G25)) -> 11181237 | J25: =ROUND((I25/$C$5),4) -> 0.05
B26: 10- Contribución Deporte | F26: 0.01 | G26: =$C$5 -> 2.2362474e+08 | I26: =(F26*(G26)) -> 2236247.4 | J26: =ROUND((I26/$C$5),4) -> 0.01
B27: 11- Contribución órdenes de pago y contratos | F27: 0.02 | G27: =$C$5 -> 2.2362474e+08 | I27: =(F27*(G27)) -> 4472494.7 | J27: =ROUND((I27/$C$5),4) -> 0.02
B29: A.) TOTAL GASTOS DE ADMINISTRACION (A) | J29: =+J16+J14+J11 -> 0.2399
B31: B.) IMPREVISTOS ESTIMADOS (I) | J31: 0.01
B33: C.) UTILIDADES ESPERADAS (U) | J33: 0.05
B35: PORCENTAJE TOTAL DE AIU | J35: =SUM(J29:J33) -> 0.2999
B37: OBSERVACIONES:
B38: 1) Los salarios base son extraidos con base al analisis efectuado para el calculo del factor prestacion según experiencia del profesional
B39: 2) Los porcentajes de estampillas son estipulados según base de datos del departamento de sucre.
B46: Elaboró | G46: Revisó
B47: XXXXXXX | G47: XXXXX
B48: Profesion | G48: Profesion

Sheet APUs PE
A1: =+'PRE Pozo Exploratorio'!P3 -> CONSTRUCCIÓN POZO PROFUNDO EXPLORATORIO
A2: ANALISIS DE PRECIOS UNITARIOS
A3: CAPITULO | B3: 1 | C3: =+'PRE Pozo Exploratorio'!C6:H6 -> PERFORACIÓN POZO EXPLORATORIO
A4: ITEM: | B4: =+'PRE Pozo Exploratorio'!B8 -> 1.2 | C4: =+'PRE Pozo Exploratorio'!C8:H8 -> Transporte de personal, equipos, adecuación del terreno y elaboración de piscinas para lodos. | G4: UNIDAD | H4: =+'PRE Pozo Exploratorio'!I8 -> POZO
A6: 1. EQUIPO Y HERRAMIENTAS
A7: DESCRIPCION | E7: CANTIDAD | F7: TARIFA DIA | G7: RENDIMIENTO | H7: VR PARCIAL
E8: (a) | F8: 1 equipo | G8: unidad/dia | H8: (axb)/(c)
F9: (b) | G9: (c)
A10: Herramienta menor | E10: 1 | F10: =+H31*0.1-19626 -> 36432.2 | G10: 1 | H10: =ROUND(+(E10*F10)/G10,0) -> 36432
G12: SUBTOTAL | H12: =SUM(H10:H11) -> 36432
A14: 2. MATERIALES
A15: DESCRIPCION | E15: UNIDAD | F15: CANTIDAD | G15: VR UNITARIO | H15: VR PARCIAL
F16: (d) | G16: (e) | H16: (dxe)
F20: PARCIAL | H20: =SUM(H17:H19) -> 0
F21: % DESP. | G21: 0 | H21: =+H20*G21 -> 0
F22: SUBTOTAL | H22: =+H20+H21 -> 0
A24: 3. MANO DE OBRA
A25: DESCRIPCION | E25: CANTIDAD | F25: JORNAL | G25: RENDIMIENTO | H25: VR PARCIAL
E26: (f) | F26: integral/dia | G26: unidad/dia | H26: (fxg)/(h)
F27: (g) | G27: (h)
A28: Ayudante | E28: 2 | F28: =+Insumos!H14 -> 77191 | G28: 0.5 | H28: =+(E28*F28)/G28 -> 308764
A29: Operador | E29: 1 | F29: =+Insumos!H12 -> 125909 | G29: 0.5 | H29: =+(E29*F29)/G29 -> 251818
G31: SUBTOTAL | H31: =+H28+H29 -> 560582
A33: 4. VARIOS
A34: DESCRIPCION | E34: CANTIDAD | F34: TARIFA | G34: RENDIMIENTO | H34: VR PARCIAL
E35: (i) | F35: (j) | G35: (k) | H35: (ixjxk)
A36: Transporte terrestre | E36: 1 | F36: =+Insumos!H101 -> 4537314 | G36: 0.75 | H36: =E36*F36*G36 -> 3402985.5
G38: SUBTOTAL | H38: =SUM(H36:H37) -> 3402985.5
E40: TOTAL COSTO DIRECTO: ( 1 + 2 + 3 + 4 ) | H40: =ROUND(+H38+H31+H22+H12,0) -> 4000000
E41: A. I. U. | G41: 0 | H41: 0
A42: FIRMA | E42: PRECIO UNITARIO TOTAL: | H42: =+H40+H41 -> 4000000
A43: =+A1 -> CONSTRUCCIÓN POZO PROFUNDO EXPLORATORIO
A44: ANALISIS DE PRECIOS UNITARIOS
A45: CAPITULO | B45: 1 | C45: =+C3 -> PERFORACIÓN POZO EXPLORATORIO
A46: ITEM: | B46: =+'PRE Pozo Exploratorio'!B9 -> 1.3 | C46: =+'PRE Pozo Exploratorio'!C9:H9 -> Adecuación del área de trabajo, construcción de piscina almacenamiento de lodos bentónicos y canales para el recorrido de lodos, manteniendo las exigencias ambientales. Canales. | G46: UNIDAD | H46: =+'PRE Pozo Exploratorio'!I9 -> POZO
A48: 1. EQUIPO Y HERRAMIENTAS
A49: DESCRIPCION | E49: CANTIDAD | F49: TARIFA DIA | G49: RENDIMIENTO | H49: VR PARCIAL
E50: (a) | F50: 1 equipo | G50: unidad/dia | H50: (axb)/(c)
F51: (b) | G51: (c)
A52: Herramienta menor | E52: 1 | F52: =+H72*0.1-8690 -> 8463.6 | G52: 1 | H52: =ROUND(+(E52*F52)/G52,0) -> 8464
...

Sheet APUs AyC
A1: =+'PRE Ampliacion y completamiento'!P3 -> CONSTRUCCIÓN POZO PROFUNDO AMPLIACIÓN Y COMPLETAMIENTO
A2: ANALISIS DE PRECIOS UNITARIOS
A3: CAPITULO | B3: =+'PRE Ampliacion y completamiento'!B6 -> 1 | C3: =+'PRE Ampliacion y completamiento'!C6:H6 -> PERFORACIÓN POZO EXPLORATORIO
A4: ITEM: | B4: =+'PRE Ampliacion y completamiento'!B7 -> 1.5 | C4: =+'PRE Ampliacion y completamiento'!C7:H7 -> AMPLIACION DE POZO 12” ½ para los 3 pozos a una profundidad de 110 metros de profundidad | G4: UNIDAD | H4: =+'PRE Ampliacion y completamiento'!I7 -> MT
A6: 1. EQUIPO Y HERRAMIENTAS
A7: DESCRIPCION | E7: CANTIDAD | F7: TARIFA DIA | G7: RENDIMIENTO | H7: VR PARCIAL
E8: (a) | F8: 1 equipo | G8: unidad/dia | H8: (axb)/(c)
F9: (b) | G9: (c)
A10: Herramienta menor | E10: 1 | F10: =+H33*0.1+7218 -> 9967.8 | G10: 1 | H10: =ROUND(+(E10*F10)/G10,0) -> 9968
A11: Equipo mecánico de perforación | E11: 1 | F11: =+'APUs PE'!F94 -> 2738572 | G11: =+G30 -> 13 | H11: =ROUND(+(E11*F11)/G11,0) -> 210659
G13: SUBTOTAL | H13: =SUM(H10:H12) -> 220627
A15: 2. MATERIALES
A16: DESCRIPCION | E16: UNIDAD | F16: CANTIDAD | G16: VR UNITARIO | H16: VR PARCIAL
F17: (d) | G17: (e) | H17: (dxe)
A18: Gasolina corriente | E18: Galon | F18: 0.55 | G18: =+'APUs PE'!G102 -> 10570 | H18: =ROUND(+F18*G18,0) -> 5814
A19: Aceite hidraulico | E19: Galon | F19: 0.14 | G19: =+'APUs PE'!G103 -> 20651 | H19: =ROUND(+F19*G19,0) -> 2891
A20: Bentonita | E20: Bulto | F20: 0.2 | G20: =+'APUs PE'!G101 -> 115000 | H20: =ROUND(+F20*G20,0) -> 23000
F22: PARCIAL | H22: =SUM(H18:H21) -> 31705
F23: % DESP. | G23: 0.05 | H23: =ROUND(+H22*G23,0) -> 1585
F24: SUBTOTAL | H24: =H22+H23 -> 33290
A26: 3. MANO DE OBRA
A27: DESCRIPCION | E27: CANTIDAD | F27: JORNAL | G27: RENDIMIENTO | H27: VR PARCIAL
E28: (f) | F28: integral/dia | G28: unidad/dia | H28: (fxg)/(h)
F29: (g) | G29: (h)
A30: Ayudante | E30: 3 | F30: =+Insumos!H14 -> 77191 | G30: 13 | H30: =ROUND(+(E30*F30)/G30,0) -> 17813
A31: Operador | E31: 1 | F31: =+Insumos!H12 -> 125909 | G31: =+G30 -> 13 | H31: =ROUND(+(E31*F31)/G31,0) -> 9685
G33: SUBTOTAL | H33: =+H30+H31 -> 27498
A35: 4. VARIOS
A36: DESCRIPCION | E36: CANTIDAD | F36: TARIFA | G36: RENDIMIENTO | H36: VR PARCIAL
E37: (i) | F37: (j) | G37: (k) | H37: (ixjxk)
G40: SUBTOTAL | H40: 0
E42: TOTAL COSTO DIRECTO: ( 1 + 2 + 3 + 4 ) | H42: =ROUND(+H33+H24+H13+H40,0) -> 281415
E43: A. I. U. | G43: 0 | H43: 0
A44: FIRMA | E44: PRECIO UNITARIO TOTAL: | H44: =+H42+H43 -> 281415
A45: =+A1 -> CONSTRUCCIÓN POZO PROFUNDO AMPLIACIÓN Y COMPLETAMIENTO
A46: ANALISIS DE PRECIOS UNITARIOS
A47: CAPITULO | B47: =+B3 -> 1 | C47: =+C3 -> PERFORACIÓN POZO EXPLORATORIO
A48: ITEM: | B48: =+'PRE Ampliacion y completamiento'!B8 -> 1.6 | C48: =+'PRE Ampliacion y completamiento'!C8:H8 -> Diseño del pozo perfil estatigrafico con su respectiva litologia en los 3 pozos. | G48: UNIDAD | H48: =+'PRE Ampliacion y completamiento'!I8 -> POZO
A50: 1. EQUIPO Y HERRAMIENTAS
A51: DESCRIPCION | E51: CANTIDAD | F51: TARIFA DIA | G51: RENDIMIENTO | H51: VR PARCIAL
...

Sheet Factor Prestacional
B1: BASE DE DATOS | M1: Pagina 1-3
A6: FACTOR PRESTACIONAL
A8: Descripción | C8: Año 2022 | D8: Año 2023 | F8: SUBSIDIO TRANSPORTE | H8: MENSUAL | I8: =+D10 -> 140606 | J8: ANUAL | K8: =+ROUND(I8/30*(365-17-3),0) -> 1616969 | L8: DIARIO | M8: =+K8/365 -> 4430.0521
A9: Salario Minimo | C9: 1000000 | D9: 1160000
A10: Subsidio de transporte | C10: 117172 | D10: 140606
A11: Hora Diurna | C11: =33333/8 -> 4166.625 | D11: =38667/8 -> 4833.375
A12: Hora Nocturna | C12: =+C11*1.35 -> 5624.9438 | D12: =+D11*1.35 -> 6525.0563
A13: Hora extra diurna | C13: 5208 | D13: 6042
A14: Hora extra nocturna | C14: 7292 | D14: 8458
A15: Hora extra festiva diurna | C15: 10417 | D15: 12875
A16: Hora extra festiva nocturna | C16: 9375 | D16: 10875
A18: SALARIO MINIMO | D18: 1 | F18: 1.15 | H18: 1.2 | J18: 1.32 | L18: 1.44
D19: VALOR | E19: REF | F19: VALOR | G19: REF | H19: VALOR | I19: REF | J19: VALOR | K19: REF | L19: VALOR | M19: REF
A20: MENSUAL | D20: =+D9 -> 1160000 | E20: A | F20: =+ROUND(D20*F18,0) -> 1334000 | G20: A | H20: =+ROUND(D20*H18,0) -> 1392000 | I20: A | J20: =+ROUND(D20*J18,0) -> 1531200 | K20: A | L20: =+ROUND(D20*L18,0) -> 1670400 | M20: A
A21: SUBSIDIO TRANSPORTE | D21: =+D10 -> 140606 | E21: B | F21: =+D21 -> 140606 | G21: B | H21: =+F21 -> 140606 | I21: B | J21: =+H21 -> 140606 | K21: B | L21: =+J21 -> 140606 | M21: B
A22: TOTAL MENSUAL | D22: =SUM(D20:D21) -> 1300606 | E22: C | F22: =SUM(F20:F21) -> 1474606 | G22: C | H22: =SUM(H20:H21) -> 1532606 | I22: C | J22: =SUM(J20:J21) -> 1671806 | K22: C | L22: =SUM(L20:L21) -> 1811006 | M22: C
A23: ANUAL | D23: =+ROUND(D20/30*360,0) -> 13920000 | E23: D | F23: =+ROUND(F20/30*360,0) -> 16008000 | G23: D | H23: =+ROUND(H20/30*360,0) -> 16704000 | I23: D | J23: =+ROUND(J20/30*360,0) -> 18374400 | K23: D | L23: =+ROUND(L20/30*360,0) -> 20044800 | M23: D
A24: ANUAL+SUBSIDIO TRANSP. | D24: =+D23+K8 -> 15536969 | E24: E | F24: =+F23+K8 -> 17624969 | G24: E | H24: =+H23+K8 -> 18320969 | I24: E | J24: =+J23+K8 -> 19991369 | K24: E | L24: =+L23+K8 -> 21661769 | M24: E
A25: CONCEPTO | B25: BASE | C25: FACTOR | D25: VALOR | E25: % | F25: VALOR | G25: % | H25: VALOR | I25: % | J25: VALOR | K25: % | L25: VALOR | M25: %
A26: Salario anual (365 Dias) | D26: =+D23 -> 13920000 | E26: =+ROUND(D23/D26,4) -> 1 | F26: =+F23 -> 16008000 | G26: =+ROUND(F23/F26,4) -> 1 | H26: =+H23 -> 16704000 | I26: =+ROUND(H23/H26,4) -> 1 | J26: =+J23 -> 18374400 | K26: =+ROUND(J23/J26,4) -> 1 | L26: =+L23 -> 20044800 | M26: =+ROUND(L23/L26,4) -> 1
A27: Subsidio de transporte | D27: =+K8 -> 1616969 | E27: =+ROUND(D27/D23,4) -> 0.1162 | F27: =+K8 -> 1616969 | G27: =+ROUND(F27/F23,4) -> 0.101 | H27: =+K8 -> 1616969 | I27: =+ROUND(H27/H23,4) -> 0.0968 | J27: =+K8 -> 1616969 | K27: =+ROUND(J27/J23,4) -> 0.088 | L27: =+K8 -> 1616969 | M27: =+ROUND(L27/L23,4) -> 0.0807
A28: PRESTACIONES
A29: Cesantia anual | B29: E | C29: 1 | D29: =+ROUND((D22*C29),0) -> 1300606 | E29: =+ROUND(D29/D23,4) -> 0.0934 | F29: =+ROUND((F22*C29),0) -> 1474606 | G29: =+ROUND(F29/F23,4) -> 0.0921 | H29: =+ROUND((H22*$C$29),0) -> 1532606 | I29: =+ROUND(H29/H23,4) -> 0.0918 | J29: =+ROUND((J22*C29),0) -> 1671806 | K29: =+ROUND(J29/J23,4) -> 0.091 | L29: =+ROUND((L22*C29),0) -> 1811006 | M29: =+ROUND(L29/L23,4) -> 0.0903
A30: intereses cesantias | B30: Cesan | C30: 0.12 | D30: =+ROUND((D22*C30),0) -> 156073 | E30: =+ROUND(D30/D26,4) -> 0.0112 | F30: =+ROUND((F22*C30),0) -> 176953 | G30: =+ROUND(F30/F26,4) -> 0.0111 | H30: =+ROUND((H22*$C$30),0) -> 183913 | I30: =+ROUND(H30/H26,4) -> 0.011 | J30: =+ROUND((J22*C30),0) -> 200617 | K30: =+ROUND(J30/J26,4) -> 0.0109 | L30: =+ROUND((L22*C30),0) -> 217321 | M30: =+ROUND(L30/L26,4) -> 0.0108
A31: Vacaciones 15 dias | B31: A | C31: 0.5 | D31: =+ROUND((D20*C31),0) -> 580000 | E31: =+ROUND(D31/D23,4) -> 0.0417 | F31: =+ROUND((F20*C31),0) -> 667000 | G31: =+ROUND(F31/F23,4) -> 0.0417 | H31: =+ROUND(($H$20*C31),0) -> 696000 | I31: =+ROUND(H31/H23,4) -> 0.0417 | J31: =+ROUND((J20*C31),0) -> 765600 | K31: =+ROUND(J31/J23,4) -> 0.0417 | L31: =+ROUND((L20*C31),0) -> 835200 | M31: =+ROUND(L31/L23,4) -> 0.0417
A32: Prima 30 dias | B32: C | C32: 1 | D32: =+ROUND((D22*C32),0) -> 1300606 | E32: =+ROUND(D32/D23,4) -> 0.0934 | F32: =+ROUND((F22*C32),0) -> 1474606 | G32: =+ROUND(F32/F23,4) -> 0.0921 | H32: =+ROUND((H22*$C$32),0) -> 1532606 | I32: =+ROUND(H32/H23,4) -> 0.0918 | J32: =+ROUND((J22*C32),0) -> 1671806 | K32: =+ROUND(J32/J23,4) -> 0.091 | L32: =+ROUND((L22*C32),0) -> 1811006 | M32: =+ROUND(L32/L23,4) -> 0.0903
A33: OTROS COSTOS
A34: Botas y overol | B34: 12 | C34: 0.03 | D34: =+ROUND(((D20*$C$34)*$B$34),0) -> 417600 | E34: =+ROUND(D34/D23,4) -> 0.03 | F34: =+ROUND(((D20*$C$34)*$B$34),0) -> 417600 | G34: =+ROUND(F34/F23,4) -> 0.0261 | H34: =+ROUND(((D20*$C$34)*$B$34),0) -> 417600 | I34: =+ROUND(H34/H23,4) -> 0.025 | J34: =+ROUND(((D20*$C$34)*$B$34),0) -> 417600 | K34: =+ROUND(J34/J23,4) -> 0.0227 | L34: =+ROUND(((D20*$C$34)*$B$34),0) -> 417600 | M34: =+ROUND(L34/L23,4) -> 0.0208
A35: Seguro Colectivo | B35: D | C35: 0.005 | D35: =+ROUND((D23*$C$35),0) -> 69600 | E35: =+ROUND(D35/D23,4) -> 0.005 | F35: =+ROUND((F23*$C$35),0) -> 80040 | G35: =+ROUND(F35/F23,4) -> 0.005 | H35: =+ROUND((H23*$C$35),0) -> 83520 | I35: =+ROUND(H35/H23,4) -> 0.005 | J35: =+ROUND((J23*$C$35),0) -> 91872 | K35: =+ROUND(J35/J23,4) -> 0.005 | L35: =+ROUND((L23*$C$35),0) -> 100224 | M35: =+ROUND(L35/L23,4) -> 0.005
A36: SEGURIDAD SOCIAL
A37: Pensiones | B37: D | C37: 0.12 | D37: =+ROUND((D23*$C$37),0) -> 1670400 | E37: =+ROUND(D37/D23,4) -> 0.12 | F37: =+ROUND((F23*$C$37),0) -> 1920960 | G37: =+ROUND(F37/F23,4) -> 0.12 | H37: =+ROUND((H23*$C$37),0) -> 2004480 | I37: =+ROUND(H37/H23,4) -> 0.12 | J37: =+ROUND((J23*$C$37),0) -> 2204928 | K37: =+ROUND(J37/J23,4) -> 0.12 | L37: =+ROUND((L23*$C$37),0) -> 2405376 | M37: =+ROUND(L37/L23,4) -> 0.12
A38: Medicina familiar | B38: D | C38: 0.085 | D38: =+ROUND((D23*$C$38),0) -> 1183200 | E38: =+ROUND(D38/D23,4) -> 0.085 | F38: =+ROUND((F23*$C$38),0) -> 1360680 | G38: =+ROUND(F38/F23,4) -> 0.085 | H38: =+ROUND((H23*$C$38),0) -> 1419840 | I38: =+ROUND(H38/H23,4) -> 0.085 | J38: =+ROUND((J23*$C$38),0) -> 1561824 | K38: =+ROUND(J38/J23,4) -> 0.085 | L38: =+ROUND((L23*$C$38),0) -> 1703808 | M38: =+ROUND(L38/L23,4) -> 0.085
A39: Riesgos profesionales | B39: D | C39: 0.0696 | D39: =+ROUND((D23*$C$39),0) -> 968832 | E39: =+ROUND(D39/D23,4) -> 0.0696 | F39: =+ROUND((F23*$C$39),0) -> 1114157 | G39: =+ROUND(F39/F23,4) -> 0.0696 | H39: =+ROUND((H23*$C$39),0) -> 1162598 | I39: =+ROUND(H39/H23,4) -> 0.0696 | J39: =+ROUND((J23*$C$39),0) -> 1278858 | K39: =+ROUND(J39/J23,4) -> 0.0696 | L39: =+ROUND((L23*$C$39),0) -> 1395118 | M39: =+ROUND(L39/L23,4) -> 0.0696
A40: APORTES SENA
A41: Aporte ordinario | B41: D | C41: 0.02 | D41: =+ROUND((D23*$C$41),0) -> 278400 | E41: =+ROUND(D41/D23,4) -> 0.02 | F41: =+ROUND((F23*$C$41),0) -> 320160 | G41: =+ROUND(F41/F23,4) -> 0.02 | H41: =+ROUND((H23*$C$41),0) -> 334080 | I41: =+ROUND(H41/H23,4) -> 0.02 | J41: =+ROUND((J23*$C$41),0) -> 367488 | K41: =+ROUND(J41/J23,4) -> 0.02 | L41: =+ROUND((L23*$C$41),0) -> 400896 | M41: =+ROUND(L41/L23,4) -> 0.02
A42: F.I.C. | B42: D | C42: 0.025 | D42: =+ROUND($D$20*0.3,0) -> 348000 | E42: =+ROUND(D42/D23,4) -> 0.025 | F42: =+ROUND($D$20*0.3,0) -> 348000 | G42: =+ROUND(F42/F23,4) -> 0.0217 | H42: =+ROUND($D$20*0.3,0) -> 348000 | I42: =+ROUND(H42/H23,4) -> 0.0208 | J42: =+ROUND($D$20*0.3,0) -> 348000 | K42: =+ROUND(J42/J23,4) -> 0.0189 | L42: =+ROUND($D$20*0.3,0) -> 348000 | M42: =+ROUND(L42/L23,4) -> 0.0174
A43: OTROS APORTES
A44: I.C.B.F. | B44: D | C44: 0.03 | D44: =+ROUND((D23*$C$44),0) -> 417600 | E44: =+ROUND(D44/D23,4) -> 0.03 | F44: =+ROUND((F23*$C$44),0) -> 480240 | G44: =+ROUND(F44/F23,4) -> 0.03 | H44: =+ROUND((H23*$C$44),0) -> 501120 | I44: =+ROUND(H44/H23,4) -> 0.03 | J44: =+ROUND((J23*$C$44),0) -> 551232 | K44: =+ROUND(J44/J23,4) -> 0.03 | L44: =+ROUND((L23*$C$44),0) -> 601344 | M44: =+ROUND(L44/L23,4) -> 0.03
A45: Subsidio familiar | B45: D | C45: 0.04 | D45: =+ROUND((D23*$C$45),0) -> 556800 | E45: =+ROUND(D45/D23,4) -> 0.04 | F45: =+ROUND((F23*$C$45),0) -> 640320 | G45: =+ROUND(F45/F23,4) -> 0.04 | H45: =+ROUND((H23*$C$45),0) -> 668160 | I45: =+ROUND(H45/H23,4) -> 0.04 | J45: =+ROUND((J23*$C$45),0) -> 734976 | K45: =+ROUND(J45/J23,4) -> 0.04 | L45: =+ROUND((L23*$C$45),0) -> 801792 | M45: =+ROUND(L45/L23,4) -> 0.04
A46: VALOR REAL DEL SALARIO | D46: =SUM(D26:D45) -> 24784686 | E46: =SUM(E27:E45) -> 0.7805 | F46: =SUM(F26:F45) -> 28100291 | G46: =SUM(G27:G45) -> 0.7554 | H46: =SUM(H26:H45) -> 29205492 | I46: =SUM(I27:I45) -> 0.7485 | J46: =SUM(J26:J45) -> 31857976 | K46: =SUM(K27:K45) -> 0.7338 | L46: =SUM(L26:L45) -> 34510460 | M46: =SUM(M27:M45) -> 0.7216
...

Sheet Insumos
B1: BASE DE DATOS
A3: MANO DE OBRA
A5: SALARIO MINIMO 2023 | C5: 1160000
A6: AUXILIO DE TRANSPORTE | C6: 140606
A8: CARGO | E8: JORNAL | F8: % PRESTACIONES SOCIALES | H8: JORNAL 2023
A9: TOPOGRAFO | E9: =+'Factor Prestacional'!D122/30 -> 135333.33 | F9: =+'Factor Prestacional'!E146 -> 0.6036 | H9: =+ROUND(E9*(1+F9),0) -> 217021
A10: CADENERO I | E10: =+'Factor Prestacional'!L22/30 -> 60366.867 | F10: =+'Factor Prestacional'!M46 -> 0.7216 | H10: =+ROUND(E10*(1+F10),0) -> 103928
A11: CADENERO II | E11: =+'Factor Prestacional'!J22/30 -> 55726.867 | F11: =+'Factor Prestacional'!K46 -> 0.7338 | H11: =+ROUND(E11*(1+F11),0) -> 96619
A12: OPERADOR | E12: =+'Factor Prestacional'!F72/30 -> 74286.867 | F12: =+'Factor Prestacional'!G96 -> 0.6949 | H12: =+ROUND(E12*(1+F12),0) -> 125909
A13: OFICIAL | E13: =+'Factor Prestacional'!H72/30 -> 93573.333 | F13: =+'Factor Prestacional'!I96 -> 0.6106 | H13: =+ROUND(E13*(1+F13),0) -> 150709
A14: AYUDANTE | E14: =+'Factor Prestacional'!D22/30 -> 43353.533 | F14: =+'Factor Prestacional'!E46 -> 0.7805 | H14: =+ROUND(E14*(1+F14),0) -> 77191
A15: SOLDADOR | E15: =+'Factor Prestacional'!H72/30 -> 93573.333 | F15: =+'Factor Prestacional'!I96 -> 0.6106 | H15: =+ROUND(E15*(1+F15),0) -> 150709
A16: AYUDANTE DE ORNAMENTACION | E16: =+'Factor Prestacional'!H22/30 -> 51086.867 | F16: =+'Factor Prestacional'!I46 -> 0.7485 | H16: =+ROUND(E16*(1+F16),0) -> 89325
A17: ANDAMIERO CERTIFICADO | E17: =+'Factor Prestacional'!F72/30 -> 74286.867 | F17: 0.6097 | H17: =+ROUND(E17*(1+F17),0) -> 119580
A18: INGENIERO ELECTRICO | E18: =+'Factor Prestacional'!D122/30 -> 135333.33 | F18: =+'Factor Prestacional'!E146 -> 0.6036 | H18: =+ROUND(E18*(1+F18),0) -> 217021
A19: INGENIERO QUIMICO | E19: =+'Factor Prestacional'!F122/30 -> 154666.67 | F19: =+'Factor Prestacional'!G146 -> 0.6017 | H19: =+ROUND(E19*(1+F19),0) -> 247730
A20: ELECTRICISTA | E20: =+'Factor Prestacional'!J72/30 -> 97826.667 | F20: =+'Factor Prestacional'!K96 -> 0.6097 | H20: =+ROUND(E20*(1+F20),0) -> 157472
A21: INGENIERO AMBIENTAL | E21: =+'Factor Prestacional'!D122/30 -> 135333.33 | F21: =+'Factor Prestacional'!E146 -> 0.6036 | H21: =+ROUND(E21*(1+F21),0) -> 217021
A22: ADMINISTRADOR ESPECIALISTA EN GERENCIA PUBLICA | E22: =+'Factor Prestacional'!F122/30 -> 154666.67 | F22: =+'Factor Prestacional'!I146 -> 0.6002 | H22: =+ROUND(E22*(1+F22),0) -> 247498
A23: GEOLOGO | E23: =+'Factor Prestacional'!D122/30 -> 135333.33 | F23: =+'Factor Prestacional'!E146 -> 0.6036 | H23: =+ROUND(E23*(1+F23),0) -> 217021
A24: FONTANERO | E24: =+'Factor Prestacional'!L22/30 -> 60366.867 | F24: =+'Factor Prestacional'!M46 -> 0.7216 | H24: =+ROUND(E24*(1+F24),0) -> 103928
A26: EQUIPOS Y HERRAMIENTAS
A27: ITEM | B27: DESCRIPCION | G27: UNIDAD | H27: TARIFA 2023
A28: 1 | B28: ALAMBRE NEGRO | G28: KG | H28: 6900
A29: 2 | B29: ACERO DE REFUERZO 60000 PSI | G29: KG | H29: 5333
A30: 3 | B30: ARENA | G30: M3 | H30: 35000
A31: 4 | B31: ARENA DE PEGA | G31: M3 | H31: 42500
A32: 5 | B32: ACEITE 1/4 | G32: TARRO | H32: 20651
A33: 6 | B33: ANTICORROSIVO | G33: GALON | H33: 65000
A34: 7 | B34: ANDAMIO TUBULAR | G34: DIA | H34: 1264
A35: 8 | B35: ANGULO DE 2X2X3/16 | G35: MTS | H35: 21000
A36: 9 | B36: ANGULO DE 3/4X3/4X1/8 | G36: MTS | H36: 4333
A37: 10 | B37: ADAPTADOR MACHO DE 3" | G37: UND | H37: 28314
A38: 11 | B38: ADAPTADOR HEMBRA DE 3" | G38: UND | H38: 35394
A39: 12 | B39: BASES Y PINTURAS | G39: UND | H39: 500786
... A54: 27 | B54: CODO LISO DE 45º DE 2" | G54: UND | H54: 19748
A55: EQUIPOS Y HERRAMIENTAS
A56: ITEM | B56: DESCRIPCION | G56: UNIDAD | H56: TARIFA 2023
A57: 28 | B57: CODO LISO DE 45º DE 3" | G57: UND | H57: 63580
A58: 29 | B58: DISOLVENTE | G58: LTS | H58: 15000
...
