Workbook

Sheet BD
A1: CLASE | B1: FUENTE | C1: ETAPA | D1: TIPO | E1: PROBABILIDAD | F1: IMPACTO | G1: CALIFICACION MONETARIA | H1: CATEGORIA DEL RIESGO | I1: ASIGNACION | K1: FUNCIONARIOS
A2: General | B2: Interna | C2: Planeacion | D2: Economico | E2: 1 | F2: 1 | G2: 0.01 | H2: Riesgo extremo | I2: Contratante
A3: Especifico | B3: Externa | C3: Selección | D3: Social o Politico | E3: 2 | F3: 2 | G3: 0.05 | H3: Riesgo alto | I3: Contratista
C4: Contratacion | D4: Operacionales | E4: 3 | F4: 3 | G4: 5% AL 15% | H4: Riesgo medio
C5: Ejecucion | D5: Financieros | E5: 4 | F5: 4 | G5: 15% AL 30% | H5: Riesgo bajo
D6: Regulatorios | E6: 5 | F6: 5 | G6: > 30%
D7: Naturaleza
D8: Ambientales
D9: Tecnologicos

Sheet MA
F1: ESTIMACIÓN DE RIESGOS PROCESOS DE CONTRATACIÓN
F2: CÓDIGO: FO-JGC-034 | J2: VERSIÓN:001
A4: Objeto del contrato: | E4: Suministro de insumos de cafetería, papelería y aseo para las dos sedes del centro de formación integral para el trabajo – cefit e insumos necesarios para desarrollar los programas derivados de los convenios o contratos que celebre la entidad.
A5: Nombre del técnico que diligencia: | E5: Catalina Rios Palacio
A6: N° | B6: CLASE | C6: FUENTE | D6: ETAPA | E6: TIPO | F6: DESCRIPCION | G6: CONSECUENCIA | H6: PROBABILDIAD | I6: IMPACTO | J6: VALORACION | K6: VALOR CONTRATO | L6: PORCENTAJE IMPACTO DE LISTA | M6: PORCENTAJE IMPACTO ASIGNADO | N6: VALORACION CUANTITATIVA | O6: CATEGORIA | P6: A QUIEN SE LE ASIGNA | Q6: CONTROLES | R6: IMPACTO DESPUES DEL TRATAMIENTO | V6: AFECTA LA EJECUCION DEL CONTRATO | W6: RESPONSABLE | X6: FECHA DE TRATAMIENTO
R7: PROBABILIDAD | S7: IMPACTO | T7: VALORACION | U7: CATEGORIA | X7: INICIO | Y7: TERMINA
A8: 1 | B8: Especifico | C8: Externa | D8: Ejecucion | E8: Operacionales | F8: Incumplimento en la entrega oportuna de los productos | G8: Demora de la adecuacion de los procesos administrativos para dar cumplimiento al servicio | H8: 1 | I8: 5 | J8: =SUM(H8:I8) -> 6 | K8: 16600000 | L8: =IFERROR(VLOOKUP(I8,BD!$F$2:$G$6,2,FALSE),"INGRESAR EL IMPACTO") -> > 30% | M8: 0.35 | N8: =+K8*M8 -> 5810000 | O8: =IF(AND(J8>=2,J8<=4),"Riesgo Bajo",IF(J8=5,"Riesgo Medio",IF(OR(J8=6,J8=7),"Riesgo Alto",IF(AND(J8>=8,J8<=10),"Riesto Extremo"," ")))) -> Riesgo Alto | P8: Contratista | Q8: Supervisión del trabajo realizado/ requerimientos al contratista | R8: 1 | S8: 2 | T8: =+SUM(R8:S8) -> 3 | U8: =IF(AND(T8>=2,T8<=4),"Riesgo Bajo",IF(T8=5,"Riesgo Medio",IF(OR(T8=6,T8=7),"Riesgo Alto",IF(AND(T8>=8,T8<=10),"Riesto Extremo","")))) -> Riesgo Bajo | V8: SI | W8: Supervisor(a) | X8: mayo | Y8: Diciembre
A9: 2 | B9: Especifico | C9: Externa | D9: Ejecucion | E9: Financieros | F9: Incumplimento en las especificaciones tecnicas | G9: Sanciones legales, perdida de recursos | H9: 1 | I9: 4 | J9: =SUM(H9:I9) -> 5 | K9: 16600000 | L9: =IFERROR(VLOOKUP(I9,BD!$F$2:$G$6,2,FALSE),"INGRESAR EL IMPACTO") -> 15% AL 30% | M9: 0.2 | N9: =+K9*M9 -> 3320000 | O9: =IF(AND(J9>=2,J9<=4),"Riesgo Bajo",IF(J9=5,"Riesgo Medio",IF(OR(J9=6,J9=7),"Riesgo Alto",IF(AND(J9>=8,J9<=10),"Riesto Extremo"," ")))) -> Riesgo Medio | P9: Contratista | Q9: Supervisión del trabajo realizado/ requerimientos al contratista | R9: 1 | S9: 1 | T9: =+SUM(R9:S9) -> 2 | U9: =IF(AND(T9>=2,T9<=4),"Riesgo Bajo",IF(T9=5,"Riesgo Medio",IF(OR(T9=6,T9=7),"Riesgo Alto",IF(AND(T9>=8,T9<=10),"Riesto Extremo","")))) -> Riesgo Bajo | V9: SI | W9: Supervisor(a) | X9: mayo | Y9: Diciembre
A10: 3 | B10: General | C10: Interna | D10: Ejecucion | E10: Regulatorios | F10: Cambio de normatividad en los procesos contractuales Tarifario, tributario, administrativo y de control | G10: Afectación significativa en las condiciones del contrato | H10: 1 | I10: 3 | J10: =SUM(H10:I10) -> 4 | K10: 16600000 | L10: =IFERROR(VLOOKUP(I10,BD!$F$2:$G$6,2,FALSE),"INGRESAR EL IMPACTO") -> 5% AL 15% | M10: 0.08 | N10: =+K10*M10 -> 1328000 | O10: =IF(AND(J10>=2,J10<=4),"Riesgo Bajo",IF(J10=5,"Riesgo Medio",IF(OR(J10=6,J10=7),"Riesgo Alto",IF(AND(J10>=8,J10<=10),"Riesto Extremo"," ")))) -> Riesgo Bajo | P10: Contratante | Q10: Desde el perfeccionamiento del contrato | R10: 1 | S10: 1 | T10: =+SUM(R10:S10) -> 2 | U10: =IF(AND(T10>=2,T10<=4),"Riesgo Bajo",IF(T10=5,"Riesgo Medio",IF(OR(T10=6,T10=7),"Riesgo Alto",IF(AND(T10>=8,T10<=10),"Riesto Extremo","")))) -> Riesgo Bajo | V10: SI | W10: Supervisor(a) | X10: mayo | Y10: Diciembre
A11: 4 | B11: Especifico | C11: Externa | D11: Ejecucion | E11: Economico | F11: Baja calidad de los insumos suministrados | G11: Sanciones legales, perdida de recursos | H11: 3 | I11: 2 | J11: =SUM(H11:I11) -> 5 | K11: 16600000 | L11: =IFERROR(VLOOKUP(I11,BD!$F$2:$G$6,2,FALSE),"INGRESAR EL IMPACTO") -> 0.05 | N11: =+K11*M11 -> 0 | O11: =IF(AND(J11>=2,J11<=4),"Riesgo Bajo",IF(J11=5,"Riesgo Medio",IF(OR(J11=6,J11=7),"Riesgo Alto",IF(AND(J11>=8,J11<=10),"Riesto Extremo"," ")))) -> Riesgo Medio | P11: Contratista | Q11: Supervisión del trabajo realizado/ requerimientos al contratista | R11: 2 | S11: 3 | T11: =+SUM(R11:S11) -> 5 | U11: =IF(AND(T11>=2,T11<=4),"Riesgo Bajo",IF(T11=5,"Riesgo Medio",IF(OR(T11=6,T11=7),"Riesgo Alto",IF(AND(T11>=8,T11<=10),"Riesto Extremo","")))) -> Riesgo Medio | V11: SI | W11: Supervisor(a) | X11: mayo | Y11: Diciembre
A12: 5 | J12: =SUM(H12:I12) -> 0 | L12: =IFERROR(VLOOKUP(I12,BD!$F$2:$G$6,2,FALSE),"INGRESAR EL IMPACTO") -> INGRESAR EL IMPACTO | N12: =+K12*M12 -> 0 | O12: =IF(AND(J12>=2,J12<=4),"Riesgo Bajo",IF(J12=5,"Riesgo Medio",IF(OR(J12=6,J12=7),"Riesgo Alto",IF(AND(J12>=8,J12<=10),"Riesto Extremo"," ")))) | T12: =+SUM(R12:S12) -> 0 | U12: =IF(AND(T12>=2,T12<=4),"Riesgo Bajo",IF(T12=5,"Riesgo Medio",IF(OR(T12=6,T12=7),"Riesgo Alto",IF(AND(T12>=8,T12<=10),"Riesto Extremo","")))) | V12: SI
A13: 6 | J13: =SUM(H13:I13) -> 0 | L13: =IFERROR(VLOOKUP(I13,BD!$F$2:$G$6,2,FALSE),"INGRESAR EL IMPACTO") -> INGRESAR EL IMPACTO | N13: =+K13*M13 -> 0 | O13: =IF(AND(J13>=2,J13<=4),"Riesgo Bajo",IF(J13=5,"Riesgo Medio",IF(OR(J13=6,J13=7),"Riesgo Alto",IF(AND(J13>=8,J13<=10),"Riesto Extremo"," ")))) | T13: =+SUM(R13:S13) -> 0 | U13: =IF(AND(T13>=2,T13<=4),"Riesgo Bajo",IF(T13=5,"Riesgo Medio",IF(OR(T13=6,T13=7),"Riesgo Alto",IF(AND(T13>=8,T13<=10),"Riesto Extremo","")))) | V13: SI
A14: 7 | J14: =SUM(H14:I14) -> 0 | L14: =IFERROR(VLOOKUP(I14,BD!$F$2:$G$6,2,FALSE),"INGRESAR EL IMPACTO") -> INGRESAR EL IMPACTO | N14: =+K14*M14 -> 0 | O14: =IF(AND(J14>=2,J14<=4),"Riesgo Bajo",IF(J14=5,"Riesgo Medio",IF(OR(J14=6,J14=7),"Riesgo Alto",IF(AND(J14>=8,J14<=10),"Riesto Extremo"," ")))) | T14: =+SUM(R14:S14) -> 0 | U14: =IF(AND(T14>=2,T14<=4),"Riesgo Bajo",IF(T14=5,"Riesgo Medio",IF(OR(T14=6,T14=7),"Riesgo Alto",IF(AND(T14>=8,T14<=10),"Riesto Extremo","")))) | V14: SI
A15: 8 | J15: =SUM(H15:I15) -> 0 | L15: =IFERROR(VLOOKUP(I15,BD!$F$2:$G$6,2,FALSE),"INGRESAR EL IMPACTO") -> INGRESAR EL IMPACTO | N15: =+K15*M15 -> 0 | O15: =IF(AND(J15>=2,J15<=4),"Riesgo Bajo",IF(J15=5,"Riesgo Medio",IF(OR(J15=6,J15=7),"Riesgo Alto",IF(AND(J15>=8,J15<=10),"Riesto Extremo"," ")))) | T15: =+SUM(R15:S15) -> 0 | U15: =IF(AND(T15>=2,T15<=4),"Riesgo Bajo",IF(T15=5,"Riesgo Medio",IF(OR(T15=6,T15=7),"Riesgo Alto",IF(AND(T15>=8,T15<=10),"Riesto Extremo",""))))
A16: 9 | J16: =SUM(H16:I16) -> 0 | L16: =IFERROR(VLOOKUP(I16,BD!$F$2:$G$6,2,FALSE),"INGRESAR EL IMPACTO") -> INGRESAR EL IMPACTO | N16: =+K16*M16 -> 0 | O16: =IF(AND(J16>=2,J16<=4),"Riesgo Bajo",IF(J16=5,"Riesgo Medio",IF(OR(J16=6,J16=7),"Riesgo Alto",IF(AND(J16>=8,J16<=10),"Riesto Extremo"," ")))) | T16: =+SUM(R16:S16) -> 0 | U16: =IF(AND(T16>=2,T16<=4),"Riesgo Bajo",IF(T16=5,"Riesgo Medio",IF(OR(T16=6,T16=7),"Riesgo Alto",IF(AND(T16>=8,T16<=10),"Riesto Extremo",""))))
A17: 10 | J17: =SUM(H17:I17) -> 0 | L17: =IFERROR(VLOOKUP(I17,BD!$F$2:$G$6,2,FALSE),"INGRESAR EL IMPACTO") -> INGRESAR EL IMPACTO | N17: =+K17*M17 -> 0 | O17: =IF(AND(J17>=2,J17<=4),"Riesgo Bajo",IF(J17=5,"Riesgo Medio",IF(OR(J17=6,J17=7),"Riesgo Alto",IF(AND(J17>=8,J17<=10),"Riesto Extremo"," ")))) | T17: =+SUM(R17:S17) -> 0 | U17: =IF(AND(T17>=2,T17<=4),"Riesgo Bajo",IF(T17=5,"Riesgo Medio",IF(OR(T17=6,T17=7),"Riesgo Alto",IF(AND(T17>=8,T17<=10),"Riesto Extremo",""))))
A18: 11 | J18: =SUM(H18:I18) -> 0 | L18: =IFERROR(VLOOKUP(I18,BD!$F$2:$G$6,2,FALSE),"INGRESAR EL IMPACTO") -> INGRESAR EL IMPACTO | N18: =+K18*M18 -> 0 | O18: =IF(AND(J18>=2,J18<=4),"Riesgo Bajo",IF(J18=5,"Riesgo Medio",IF(OR(J18=6,J18=7),"Riesgo Alto",IF(AND(J18>=8,J18<=10),"Riesto Extremo"," ")))) | T18: =+SUM(R18:S18) -> 0 | U18: =IF(AND(T18>=2,T18<=4),"Riesgo Bajo",IF(T18=5,"Riesgo Medio",IF(OR(T18=6,T18=7),"Riesgo Alto",IF(AND(T18>=8,T18<=10),"Riesto Extremo",""))))
A19: 12 | J19: =SUM(H19:I19) -> 0 | L19: =IFERROR(VLOOKUP(I19,BD!$F$2:$G$6,2,FALSE),"INGRESAR EL IMPACTO") -> INGRESAR EL IMPACTO | N19: =+K19*M19 -> 0 | O19: =IF(AND(J19>=2,J19<=4),"Riesgo Bajo",IF(J19=5,"Riesgo Medio",IF(OR(J19=6,J19=7),"Riesgo Alto",IF(AND(J19>=8,J19<=10),"Riesto Extremo"," ")))) | T19: =+SUM(R19:S19) -> 0 | U19: =IF(AND(T19>=2,T19<=4),"Riesgo Bajo",IF(T19=5,"Riesgo Medio",IF(OR(T19=6,T19=7),"Riesgo Alto",IF(AND(T19>=8,T19<=10),"Riesto Extremo",""))))
A20: 13 | J20: =SUM(H20:I20) -> 0 | L20: =IFERROR(VLOOKUP(I20,BD!$F$2:$G$6,2,FALSE),"INGRESAR EL IMPACTO") -> INGRESAR EL IMPACTO | N20: =+K20*M20 -> 0 | O20: =IF(AND(J20>=2,J20<=4),"Riesgo Bajo",IF(J20=5,"Riesgo Medio",IF(OR(J20=6,J20=7),"Riesgo Alto",IF(AND(J20>=8,J20<=10),"Riesto Extremo"," ")))) | T20: =+SUM(R20:S20) -> 0 | U20: =IF(AND(T20>=2,T20<=4),"Riesgo Bajo",IF(T20=5,"Riesgo Medio",IF(OR(T20=6,T20=7),"Riesgo Alto",IF(AND(T20>=8,T20<=10),"Riesto Extremo",""))))
A21: 14 | J21: =SUM(H21:I21) -> 0 | L21: =IFERROR(VLOOKUP(I21,BD!$F$2:$G$6,2,FALSE),"INGRESAR EL IMPACTO") -> INGRESAR EL IMPACTO | N21: =+K21*M21 -> 0 | O21: =IF(AND(J21>=2,J21<=4),"Riesgo Bajo",IF(J21=5,"Riesgo Medio",IF(OR(J21=6,J21=7),"Riesgo Alto",IF(AND(J21>=8,J21<=10),"Riesto Extremo"," ")))) | T21: =+SUM(R21:S21) -> 0 | U21: =IF(AND(T21>=2,T21<=4),"Riesgo Bajo",IF(T21=5,"Riesgo Medio",IF(OR(T21=6,T21=7),"Riesgo Alto",IF(AND(T21>=8,T21<=10),"Riesto Extremo",""))))
A22: 15 | J22: =SUM(H22:I22) -> 0 | L22: =IFERROR(VLOOKUP(I22,BD!$F$2:$G$6,2,FALSE),"INGRESAR EL IMPACTO") -> INGRESAR EL IMPACTO | N22: =+K22*M22 -> 0 | O22: =IF(AND(J22>=2,J22<=4),"Riesgo Bajo",IF(J22=5,"Riesgo Medio",IF(OR(J22=6,J22=7),"Riesgo Alto",IF(AND(J22>=8,J22<=10),"Riesto Extremo"," ")))) | T22: =+SUM(R22:S22) -> 0 | U22: =IF(AND(T22>=2,T22<=4),"Riesgo Bajo",IF(T22=5,"Riesgo Medio",IF(OR(T22=6,T22=7),"Riesgo Alto",IF(AND(T22>=8,T22<=10),"Riesto Extremo",""))))

Sheet Hoja1

Sheet Cuadro estudio previo
A1: IDENTIFICACION DEL RIESGO | B1: QUIEN LO ASUME | C1: MEDIDAS PARA EVITAR, PREVENIR, TRANSFERIR, COMPARTIR, RETENER O MITIGAR EL RIESGO
A2: =+MA!F8 -> Incumplimento en la entrega oportuna de los productos | B2: =+MA!P8 -> Contratista | C2: =+MA!Q8 -> Supervisión del trabajo realizado/ requerimientos al contratista
A3: =+MA!F9 -> Incumplimento en las especificaciones tecnicas | B3: =+MA!P9 -> Contratista | C3: =+MA!Q9 -> Supervisión del trabajo realizado/ requerimientos al contratista
A4: =+MA!F10 -> Cambio de normatividad en los procesos contractuales Tarifario, tributario, administrativo y de control | B4: =+MA!P10 -> Contratante | C4: =+MA!Q10 -> Desde el perfeccionamiento del contrato
A5: =+MA!F11 -> Baja calidad de los insumos suministrados | B5: =+MA!P11 -> Contratista | C5: =+MA!Q11 -> Supervisión del trabajo realizado/ requerimientos al contratista
A6: =+MA!F12 -> 0 | B6: =+MA!P12 -> 0 | C6: =+MA!Q12 -> 0
A7: =+MA!F13 -> 0 | B7: =+MA!P13 -> 0 | C7: =+MA!Q13 -> 0
A8: =+MA!F14 -> 0 | B8: =+MA!P14 -> 0 | C8: =+MA!Q14 -> 0
A9: =+MA!F15 -> 0 | B9: =+MA!P15 -> 0 | C9: =+MA!Q15 -> 0
A10: =+MA!F16 -> 0 | B10: =+MA!P16 -> 0 | C10: =+MA!Q16 -> 0
A11: =+MA!F17 -> 0 | B11: =+MA!P17 -> 0 | C11: =+MA!Q17 -> 0
A12: =+MA!F18 -> 0 | B12: =+MA!P18 -> 0 | C12: =+MA!Q18 -> 0
A13: =+MA!F19 -> 0 | B13: =+MA!P19 -> 0 | C13: =+MA!Q19 -> 0
... A33: =+MA!F39 -> 0 | B33: =+MA!P39 -> 0 | C33: =+MA!Q39 -> 0
