Workbook
Name \0: #REF!
Name \00: #REF!
Name \a: #REF!
Name \AA: [1]LIQUIDACION!#REF!
Name \b: [2]STRSUMM0!#REF!
Name \bb: [2]STRSUMM0!#REF!
Name \E: #REF!
Name \EE: #REF!
Name \G: #REF!
Name \k: '[3]7422CW00'!#REF!
Name \l: [4]STRSUMM0!#REF!
Name \M: #REF!
Name \ñ: '[5]7422CW00'!#REF!
Name \P: #REF!
Name \R: #REF!
Name \s: #REF!
Name \V: #REF!
Name \X: [0]!ERR
Name \Z: [0]!ERR
Name _________AFC1: [6]INV!$A$25:$D$28
Name _________AFC3: [6]INV!$F$25:$I$28
Name _________AFC5: [6]INV!$K$25:$N$28
Name _________BGC1: [6]INV!$A$5:$D$8
Name _________BGC3: [6]INV!$F$5:$I$8
Name _________BGC5: [6]INV!$K$5:$N$8
Name _________CAC1: [6]INV!$A$19:$D$22
Name _________CAC3: [6]INV!$F$19:$I$22
Name _________CAC5: [6]INV!$K$19:$N$22
Name _________PJ50: #REF!
Name _________SBC1: [6]INV!$A$12:$D$15
Name _________SBC3: [6]INV!$F$12:$I$15
Name _________SBC5: [6]INV!$K$12:$N$15
Name ________AFC1: [6]INV!$A$25:$D$28
Name ________AFC3: [6]INV!$F$25:$I$28
Name ________AFC5: [6]INV!$K$25:$N$28
Name ________BGC1: [6]INV!$A$5:$D$8
Name ________BGC3: [6]INV!$F$5:$I$8
Name ________BGC5: [6]INV!$K$5:$N$8
Name ________CAC1: [6]INV!$A$19:$D$22
Name ________CAC3: [6]INV!$F$19:$I$22
Name ________CAC5: [6]INV!$K$19:$N$22
Name ________MA2: #REF!
Name ________PJ50: #REF!
Name ________SBC1: [6]INV!$A$12:$D$15
Name ________SBC3: [6]INV!$F$12:$I$15
Name ________SBC5: [6]INV!$K$12:$N$15
Name _______AFC1: [6]INV!$A$25:$D$28
Name _______AFC3: [6]INV!$F$25:$I$28
Name _______AFC5: [6]INV!$K$25:$N$28
Name _______BGC1: [6]INV!$A$5:$D$8
Name _______BGC3: [6]INV!$F$5:$I$8
Name _______BGC5: [6]INV!$K$5:$N$8
Name _______CAC1: [6]INV!$A$19:$D$22
Name _______CAC3: [6]INV!$F$19:$I$22
Name _______CAC5: [6]INV!$K$19:$N$22
Name _______MA2: #REF!
Name _______PJ50: #REF!
Name _______SBC1: [6]INV!$A$12:$D$15
Name _______SBC3: [6]INV!$F$12:$I$15
Name _______SBC5: [6]INV!$K$12:$N$15

Sheet PRESUPUESTO OFICIAL
H2: .
C3: Formulario 1 - Propuesta económica - Documento tipo de mínima cuantía de obra pública de infraestructura de transporte - versión 2
C4: Código | D4: CCE-EICP-FM-32 | E4: Versión | F4: 2
C5: FORMULARIO 1
C6: PRESUPUESTO OFICIAL
C7: IP-DT-BOL-004-2023 OBJETO: ATENCION DE SITIO CRITICO DE LA RED TERCIARIA NACIONAL- EN LA VIA ROCHA - PUERTO BADEL, MUNICIPIO DE ARJONA, DEPTO DE BOLIVAR. TERRITORIAL BOLIVAR
C10: Nº | D10: ÍTEM DE PAGO | E10: ESPECIFICACIONES | G10: DESCRIPCIÓN | H10: UND. | I10: CANTIDAD | J10: VALOR UNITARIO | K10: VALOR TOTAL
E11: GENERAL | F11: PARTICULAR
C12: I. ESTRUCTURAS DE DRENAJE BOX CULVERT 2x2 L=7m
C13: 1 | D13: 600.1.1 | E13: 600 | G13: Excavaciones varias sin clasificar | H13: m3 | I13: 29 | J13: ='600.1.1'!N110 -> 30601 | K13: =J13*I13 -> 887429
C14: 2 | D14: 630.1.6 | E14: 630 | G14: Concreto liviano resistencia 14MPa (F) - Mezcla in situ | H14: m3 | I14: 2.1 | J14: ='630.1.6'!N110 -> 456481 | K14: =J14*I14 -> 958610.1
C15: 3 | D15: 630.1.3.1 | E15: 630 | G15: Concreto reforzado resistencia 28MPa (C) - Mezcla in situ | H15: m3 | I15: 32 | J15: ='630.1.3.1'!N110 -> 1132389 | K15: =J15*I15 -> 36236448 | N15: NO MODIFICAR
C16: 4 | D16: 640.1 | E16: 640 | G16: Acero de Refuerzo Fy 4200 Mpa | H16: Kg | I16: 2925 | J16: ='640.1'!N110 -> 6627 | K16: =J16*I16 -> 19383975 | N16: NO MODIFICAR
C17: 5 | D17: 610.1 | E17: 610 | G17: Relleno para estructuras con suelo (analizado sin preparación de la superficie base del relleno) | H17: m3 | I17: 28 | J17: ='610.1'!N110 -> 126971 | K17: =J17*I17 -> 3555188 | N17: NO MODIFICAR
C18: 6 | D18: 311.1 | E18: 311 | G18: Afirmado | H18: m3 | I18: 208 | J18: ='311.1'!N110 -> 121056 | K18: =J18*I18 -> 25179648 | N18: NO MODIFICAR
C19: Subtotal | K19: =SUM(K13:K18) -> 86201298
C20: II. EXPLANACIONES - 800 MTS CONFORMACION
C21: 7 | D21: 310.1 | E21: 310 | G21: Conformación de la calzada existente | H21: m2 | I21: 4800 | J21: ='310.1'!N110 -> 1590 | K21: =J21*I21 -> 7632000 | N21: NO MODIFICAR
C22: 8 | D22: 210.2.2 | E22: 210 | G22: Excavación en material común de la explanación y canales | H22: m3 | I22: 15 | J22: ='210.2.2'!N110 -> 15671 | K22: =J22*I22 -> 235065
C23: 9 | D23: 311.1 | E23: 310 | G23: Afirmado | H23: m3 | I23: 43 | J23: ='311.1'!N110 -> 121056 | K23: =J23*I23 -> 5205408 | N23: NO MODIFICAR
C24: Subtotal | K24: =SUM(K21:K23) -> 13072473
C25: SUBTOTAL OBRAS | K25: =K19+K24 -> 99273771
G27: IVA sobre la Utilidad (19% de U) | K27: =ROUND(0.19*0.05*K25/(1+K35),0) -> 725462
G28: VALOR TOTAL | K28: =ROUND(K25+K27,0) -> 99999233
C31: NOTA 1: Se debe tener en cuenta que el PRECIO UNITARIO incluye el valor de AIU. | H31: DESCRIPCION | K31: PORCENTAJE
C32: NOTA 2: Cuando la fracción decimal del peso sea igual o superior a 5 se aproximará por exceso al número entero siguiente del peso y cuando la fracción decimal del peso sea inferior a 5 se aproximará por defecto al número entero del peso. | H32: ADMINISTRACIÓN | J32: A= | K32: 0.2 | N32: NO MODIFICAR
C33: NOTA 3: El AIU y su discriminación deben estar en porcentaje (%). De lo contrario será rechazada su oferta. | H33: IMPREVISTO | J33: I= | K33: 0.05 | N33: NO MODIFICAR
C34: NOTA 4: Si el proponente cambia los valores de los items definidos como no modificar, su oferta economica será rechazada. | H34: UTILIDAD | J34: U= | K34: 0.05
H35: TOTAL A.I.U | J35: A.I.U.= | K35: =SUM(K32:K34) -> 0.3

Sheet PROPUESTA ECONOMICA
C3: Formulario 1 - Propuesta económica - Documento tipo de mínima cuantía de obra pública de infraestructura de transporte - versión 2
C4: Código | D4: CCE-EICP-FM-32 | E4: Versión | F4: 2
C5: FORMULARIO 1
C6: PRESUPUESTO OFICIAL
C7: IP-DT-BOL-004-2023 OBJETO: ATENCION DE SITIO CRITICO DE LA RED TERCIARIA NACIONAL- EN LA VIA ROCHA - PUERTO BADEL, MUNICIPIO DE ARJONA, DEPTO DE BOLIVAR. TERRITORIAL BOLIVAR
C10: Nº | D10: ÍTEM DE PAGO | E10: ESPECIFICACIONES | G10: DESCRIPCIÓN | H10: UND. | I10: CANTIDAD | J10: VALOR UNITARIO | K10: VALOR TOTAL
E11: GENERAL | F11: PARTICULAR
C12: I. ESTRUCTURAS DE DRENAJE BOX CULVERT 2x2 L=7m
C13: 1 | D13: 600.1.1 | E13: 600 | G13: Excavaciones varias sin clasificar | H13: m3 | I13: 29
C14: 2 | D14: 630.1.6 | E14: 630 | G14: Concreto liviano resistencia 14MPa (F) - Mezcla in situ | H14: m3 | I14: 2.1
C15: 3 | D15: 630.1.3.1 | E15: 630 | G15: Concreto reforzado resistencia 28MPa (C) - Mezcla in situ | H15: m3 | I15: 32
C16: 4 | D16: 640.1 | E16: 640 | G16: Acero de Refuerzo Fy 4200 Mpa | H16: Kg | I16: 2925
C17: 5 | D17: 610.1 | E17: 610 | G17: Relleno para estructuras con suelo (analizado sin preparación de la superficie base del relleno) | H17: m3 | I17: 28
C18: 6 | D18: 311.1 | E18: 311 | G18: Afirmado | H18: m3 | I18: 208
C19: Subtotal
C20: II. EXPLANACIONES - 800 MTS CONFORMACION
C21: 7 | D21: 310.1 | E21: 310 | G21: Conformación de la calzada existente | H21: m2 | I21: 4800
C22: 8 | D22: 210.2.2 | E22: 210 | G22: Excavación en material común de la explanación y canales | H22: m3 | I22: 15
C23: 9 | D23: 311.1 | E23: 310 | G23: Afirmado | H23: m3 | I23: 43
C24: Subtotal
C25: SUBTOTAL OBRAS
G27: IVA sobre la Utilidad (19% de U)
G28: SUBTOTAL OBRAS (INCLUYE IVA)
G29: REVISIÓN Y/O AJUSTES A ESTUDIOS Y DISEÑOS (Placa Huella, Pavimento y Estructuras de Drenaje)
G30: IVA - REVISIÓN, AJUSTE Y/O ACTUALIZACIÓN Y/O MODIFICACIÓN Y/O COMPLEMENTACIÓN DE ESTUDIOS Y DISEÑOS
G31: VALOR TOTAL
C34: NOTA 1: Se debe tener en cuenta que el PRECIO UNITARIO incluye el valor de AIU. | H34: DESCRIPCION | K34: PORCENTAJE
C35: NOTA 2: Cuando la fracción decimal del peso sea igual o superior a 5 se aproximará por exceso al número entero siguiente del peso y cuando la fracción decimal del peso sea inferior a 5 se aproximará por defecto al número entero del peso. | H35: ADMINISTRACIÓN | J35: A=
C36: NOTA 3: El AIU y su discriminación deben estar en porcentaje (%). De lo contrario será rechazada su oferta. | H36: IMPREVISTO | J36: I=
H37: UTILIDAD | J37: U=
H38: TOTAL A.I.U | J38: A.I.U.=

Sheet 600.1.1
K1: CÓDIGO | L1: FR-APU-1
C2: INSTITUTO NACIONAL DE VIAS
C3: ANÁLISIS DE PRECIOS UNITARIOS REGIONALIZADOS DE REFERENCIA | K3: VERSIÓN | L3: 2021
C5: ACTUALIZACIÓN PERIÓDICA | K5: PÁGINA
K8: FECHA
L9: (Día) | M9: (Mes) | N9: (Año)
B10: ÍTEM BASE DE APU DE REFERENCIA: | E10: ⊠ | F10: PUBLICACIÓN: | H10: 2022-2 DICIEMBRE 2022
B12: ÍTEM DE PROYECTO PARTICULAR:
B13: ÍTEM DE LA PROPUESTA ECONÓMICA: | E13: □ | H13: ÍTEM NO PREVISTO: | J13: □ | K13: ÍTEM APU PARTICULAR: | M13: □
B14: UNIDAD EJECUTORA: | J14: DIRECCIÓN TERRITORIAL:
B17: CONTRATO No. | D17: FECHA:
B18: OBJETO DEL CONTRATO:
B21: CARRETERA: | J21: SECTOR:
B23: CONTRATISTA:
B25: INTERVENTOR: | K25: CONTRATO No. | M25: FECHA: | N25: ______________
B27: FECHA DE CIERRE DEL PROCESO DE SELECCIÓN DEL CONTRATO: | I27: / | J27: /
F28: (Día) | H28: (Día) | I28: (Mes) | J28: (Año)
B30: DATOS ESPECÍFICOS
B32: ÍTEM | C32: DESCRIPCIÓN | J32: GRUPO DE AJUSTE | L32: UNIDAD | N32: CANTIDAD
B33: 600.1.1 | C33: EXCAVACIONES VARIAS SIN CLASIFICAR | L33: m3
B35: I. EQUIPO
B37: CÓDIGO | C37: DESCRIPCIÓN | J37: TIPO | K37: TARIFA/HORA | L37: RENDIMIENTO | N37: Vr. UNITARIO
B38: C0010270 | C38: Compresor portátil de 70 a 120 HP, con martillo | K38: =VLOOKUP(B38,[115]EQUIPOS!$C$6:$G$137,5,0) -> 95434.111 | L38: =1/25 -> 0.04 | N38: =K38*L38 -> 3817.3645
B39: C0010790 | C39: Retroexcavadora sobre oruga, potencia 158 kw, balde de 1.5 m3 | K39: =VLOOKUP(B39,[115]EQUIPOS!$C$6:$G$137,5,0) -> 199786.21 | L39: =1/25 -> 0.04 | N39: =K39*L39 -> 7991.4483
N40: =K40*L40 -> 0
N41: =K41*L41 -> 0
N42: =K42*L42 -> 0
N43: =K43*L43 -> 0
N44: =K44*L44 -> 0
N45: =K45*L45 -> 0
N46: =K46*L46 -> 0
N47: =K47*L47 -> 0
N48: =K48*L48 -> 0
N49: =K49*L49 -> 0
N50: =K50*L50 -> 0
N51: =K51*L51 -> 0
C52: HERRAMIENTA MENOR (%) | L52: 0.05 | N52: =L52*N98 -> 57.041667
B53: SUBTOTAL $ | N53: =SUM(N38:N52) -> 11865.854
B55: II. MATERIALES
B57: CÓDIGO | C57: DESCRIPCIÓN | J57: UNIDAD | K57: CANTIDAD | L57: PRECIO UNIT. | N57: Vr. UNITARIO
...

Sheet 630.1.6
K1: CÓDIGO | L1: FR-APU-1
C2: INSTITUTO NACIONAL DE VIAS
C3: ANÁLISIS DE PRECIOS UNITARIOS REGIONALIZADOS DE REFERENCIA | K3: VERSIÓN | L3: 2021
C5: ACTUALIZACIÓN PERIÓDICA | K5: PÁGINA
K8: FECHA
L9: (Día) | M9: (Mes) | N9: (Año)
B10: ÍTEM BASE DE APU DE REFERENCIA: | E10: ⊠ | F10: PUBLICACIÓN: | H10: 2022-2 DICIEMBRE 2022
B12: ÍTEM DE PROYECTO PARTICULAR:
B13: ÍTEM DE LA PROPUESTA ECONÓMICA: | E13: □ | H13: ÍTEM NO PREVISTO: | J13: □ | K13: ÍTEM APU PARTICULAR: | M13: □
B14: UNIDAD EJECUTORA: | J14: DIRECCIÓN TERRITORIAL:
B17: CONTRATO No. | D17: FECHA:
B18: OBJETO DEL CONTRATO:
B21: CARRETERA: | J21: SECTOR:
B23: CONTRATISTA:
B25: INTERVENTOR: | K25: CONTRATO No. | M25: FECHA: | N25: ______________
B27: FECHA DE CIERRE DEL PROCESO DE SELECCIÓN DEL CONTRATO: | I27: / | J27: /
F28: (Día) | H28: (Día) | I28: (Mes) | J28: (Año)
B30: DATOS ESPECÍFICOS
B32: ÍTEM | C32: DESCRIPCIÓN | J32: GRUPO DE AJUSTE | L32: UNIDAD | N32: CANTIDAD
B33: 630.1.6 | C33: CONCRETO LIVIANO RESISTENCIA 14MPa (F) - MEZCLA IN SITU | L33: m3
B35: I. EQUIPO
B37: CÓDIGO | C37: DESCRIPCIÓN | J37: TIPO | K37: TARIFA/HORA | L37: RENDIMIENTO | N37: Vr. UNITARIO
B38: C0010550 | C38: Mezcladora de concreto tipo trompo | K38: =VLOOKUP(B38,[115]EQUIPOS!$C$6:$G$137,5,0) -> 7686.7022 | L38: =1/1 -> 1 | N38: =K38*L38 -> 7686.7022
B39: C0010922 | C39: Vibrador de concreto, potencia aproximada de 3 hp, mangueras de 4 a 6 metros | K39: =VLOOKUP(B39,[115]EQUIPOS!$C$6:$G$137,5,0) -> 6910.9599 | L39: 1 | N39: =K39*L39 -> 6910.9599
N40: =K40*L40 -> 0
N41: =K41*L41 -> 0
N42: =K42*L42 -> 0
N43: =K43*L43 -> 0
N44: =K44*L44 -> 0
N45: =K45*L45 -> 0
N46: =K46*L46 -> 0
N47: =K47*L47 -> 0
N48: =K48*L48 -> 0
N49: =K49*L49 -> 0
N50: =K50*L50 -> 0
N51: =K51*L51 -> 0
C52: HERRAMIENTA MENOR (%) | L52: 0.05 | N52: =L52*N98 -> 3738.5417
B53: SUBTOTAL $ | N53: =SUM(N38:N52) -> 18336.204
B55: II. MATERIALES
B57: CÓDIGO | C57: DESCRIPCIÓN | J57: UNIDAD | K57: CANTIDAD | L57: PRECIO UNIT. | N57: Vr. UNITARIO
...

Sheet 630.1.3.1
K1: CÓDIGO | L1: FR-APU-1
C2: INSTITUTO NACIONAL DE VIAS
C3: ANÁLISIS DE PRECIOS UNITARIOS REGIONALIZADOS DE REFERENCIA | K3: VERSIÓN | L3: 2021
C5: ACTUALIZACIÓN PERIÓDICA | K5: PÁGINA
K8: FECHA
L9: (Día) | M9: (Mes) | N9: (Año)
B10: ÍTEM BASE DE APU DE REFERENCIA: | E10: ⊠ | F10: PUBLICACIÓN: | H10: 2022-2 DICIEMBRE 2022
B12: ÍTEM DE PROYECTO PARTICULAR:
B13: ÍTEM DE LA PROPUESTA ECONÓMICA: | E13: □ | H13: ÍTEM NO PREVISTO: | J13: □ | K13: ÍTEM APU PARTICULAR: | M13: □
B14: UNIDAD EJECUTORA: | J14: DIRECCIÓN TERRITORIAL:
B17: CONTRATO No. | D17: FECHA:
B18: OBJETO DEL CONTRATO:
B21: CARRETERA: | J21: SECTOR:
B23: CONTRATISTA:
B25: INTERVENTOR: | K25: CONTRATO No. | M25: FECHA: | N25: ______________
B27: FECHA DE CIERRE DEL PROCESO DE SELECCIÓN DEL CONTRATO: | I27: / | J27: /
F28: (Día) | H28: (Día) | I28: (Mes) | J28: (Año)
B30: DATOS ESPECÍFICOS
B32: ÍTEM | C32: DESCRIPCIÓN | J32: GRUPO DE AJUSTE | L32: UNIDAD | N32: CANTIDAD
B33: 630.1.3.1 | C33: CONCRETO REFORZADO RESISTENCIA 28MPa (C) - MEZCLA IN SITU | L33: m3
B35: I. EQUIPO
B37: CÓDIGO | C37: DESCRIPCIÓN | J37: TIPO | K37: TARIFA/HORA | L37: RENDIMIENTO | N37: Vr. UNITARIO
B38: C0010010 | C38: Aspersor manual de 20 litros | K38: =VLOOKUP(B38,[115]EQUIPOS!$C$6:$G$137,5,0) -> 3397.0629 | L38: 1 | N38: =K38*L38 -> 3397.0629
B39: C0010922 | C39: Vibrador de concreto, potencia aproximada de 3 hp, mangueras de 4 a 6 metros | K39: =VLOOKUP(B39,[115]EQUIPOS!$C$6:$G$137,5,0) -> 6910.9599 | L39: =1/1 -> 1 | N39: =K39*L39 -> 6910.9599
B40: C0010445 | C40: Formaleta metálica para concreto (m2) | K40: =VLOOKUP(B40,[115]EQUIPOS!$C$6:$G$137,5,0) -> 841.02811 | L40: 314 | N40: =K40*L40 -> 264082.83
B41: C0010665 | C41: Planta dosificadora (mezcladora) de concreto | K41: =VLOOKUP(B41,[115]EQUIPOS!$C$6:$G$137,5,0) -> 144073.92 | L41: 1 | N41: =K41*L41 -> 144073.92
N42: =K42*L42 -> 0
N43: =K43*L43 -> 0
N44: =K44*L44 -> 0
N45: =K45*L45 -> 0
N46: =K46*L46 -> 0
N47: =K47*L47 -> 0
N48: =K48*L48 -> 0
N49: =K49*L49 -> 0
N50: =K50*L50 -> 0
N51: =K51*L51 -> 0
C52: HERRAMIENTA MENOR (%) | L52: 0.05 | N52: =L52*N98 -> 2967.7083
B53: SUBTOTAL $ | N53: =SUM(N38:N52) -> 421432.48
B55: II. MATERIALES
B57: CÓDIGO | C57: DESCRIPCIÓN | J57: UNIDAD | K57: CANTIDAD | L57: PRECIO UNIT. | N57: Vr. UNITARIO
...

Sheet 640.1
K1: CÓDIGO | L1: FR-APU-1
C2: INSTITUTO NACIONAL DE VIAS
C3: ANÁLISIS DE PRECIOS UNITARIOS REGIONALIZADOS DE REFERENCIA | K3: VERSIÓN | L3: 2021
C5: ACTUALIZACIÓN PERIÓDICA | K5: PÁGINA
K8: FECHA
L9: (Día) | M9: (Mes) | N9: (Año)
B10: ÍTEM BASE DE APU DE REFERENCIA: | E10: ⊠ | F10: PUBLICACIÓN: | H10: 2022-2 DICIEMBRE 2022
B12: ÍTEM DE PROYECTO PARTICULAR:
B13: ÍTEM DE LA PROPUESTA ECONÓMICA: | E13: □ | H13: ÍTEM NO PREVISTO: | J13: □ | K13: ÍTEM APU PARTICULAR: | M13: □
B14: UNIDAD EJECUTORA: | J14: DIRECCIÓN TERRITORIAL:
B17: CONTRATO No. | D17: FECHA:
B18: OBJETO DEL CONTRATO:
B21: CARRETERA: | J21: SECTOR:
B23: CONTRATISTA:
B25: INTERVENTOR: | K25: CONTRATO No. | M25: FECHA: | N25: ______________
B27: FECHA DE CIERRE DEL PROCESO DE SELECCIÓN DEL CONTRATO: | I27: / | J27: /
F28: (Día) | H28: (Día) | I28: (Mes) | J28: (Año)
B30: DATOS ESPECÍFICOS
B32: ÍTEM | C32: DESCRIPCIÓN | J32: GRUPO DE AJUSTE | L32: UNIDAD | N32: CANTIDAD
B33: 640.1 | C33: ACERO DE REFUERZO Fy 4200 MPa | L33: kg
B35: I. EQUIPO
B37: CÓDIGO | C37: DESCRIPCIÓN | J37: TIPO | K37: TARIFA/HORA | L37: RENDIMIENTO | N37: Vr. UNITARIO
B38: C0010170 | C38: Cizalla manual de 90 cm | K38: =VLOOKUP(B38,[115]EQUIPOS!$C$6:$G$137,5,0) -> 1756.9373 | L38: =1/38.125 -> 0.026229508 | N38: =K38*L38 -> 46.083601
N39: =K39*L39 -> 0
N40: =K40*L40 -> 0
N41: =K41*L41 -> 0
N42: =K42*L42 -> 0
N43: =K43*L43 -> 0
N44: =K44*L44 -> 0
N45: =K45*L45 -> 0
N46: =K46*L46 -> 0
N47: =K47*L47 -> 0
N48: =K48*L48 -> 0
N49: =K49*L49 -> 0
N50: =K50*L50 -> 0
N51: =K51*L51 -> 0
C52: HERRAMIENTA MENOR (%) | L52: 0.02 | N52: =L52*N98 -> 10.918033
B53: SUBTOTAL $ | N53: =SUM(N38:N52) -> 57.001634
B55: II. MATERIALES
B57: CÓDIGO | C57: DESCRIPCIÓN | J57: UNIDAD | K57: CANTIDAD | L57: PRECIO UNIT. | N57: Vr. UNITARIO
...

Sheet 610.1
K1: CÓDIGO | L1: FR-APU-1
C2: INSTITUTO NACIONAL DE VIAS
C3: ANÁLISIS DE PRECIOS UNITARIOS REGIONALIZADOS DE REFERENCIA | K3: VERSIÓN | L3: 2021
C5: ACTUALIZACIÓN PERIÓDICA | K5: PÁGINA
K8: FECHA
L9: (Día) | M9: (Mes) | N9: (Año)
B10: ÍTEM BASE DE APU DE REFERENCIA: | E10: ⊠ | F10: PUBLICACIÓN: | H10: 2022-2 DICIEMBRE 2022
B12: ÍTEM DE PROYECTO PARTICULAR:
B13: ÍTEM DE LA PROPUESTA ECONÓMICA: | E13: □ | H13: ÍTEM NO PREVISTO: | J13: □ | K13: ÍTEM APU PARTICULAR: | M13: □
B14: UNIDAD EJECUTORA: | J14: DIRECCIÓN TERRITORIAL:
B17: CONTRATO No. | D17: FECHA:
B18: OBJETO DEL CONTRATO:
B21: CARRETERA: | J21: SECTOR:
B23: CONTRATISTA:
B25: INTERVENTOR: | K25: CONTRATO No. | M25: FECHA: | N25: ______________
B27: FECHA DE CIERRE DEL PROCESO DE SELECCIÓN DEL CONTRATO: | I27: / | J27: /
F28: (Día) | H28: (Día) | I28: (Mes) | J28: (Año)
B30: DATOS ESPECÍFICOS
B32: ÍTEM | C32: DESCRIPCIÓN | J32: GRUPO DE AJUSTE | L32: UNIDAD | N32: CANTIDAD
B33: 610.1 | C33: RELLENO PARA ESTRUCTURAS CON SUELO (analizado sin preparación de la superficie base del relleno) | L33: m3
B35: I. EQUIPO
B37: CÓDIGO | C37: DESCRIPCIÓN | J37: TIPO | K37: TARIFA/HORA | L37: RENDIMIENTO | N37: Vr. UNITARIO
B38: C0010200 | C38: Compactador manual (saltarín) peso de operación (kg.) 52, fuerza de impacto por golpe (KN) 12 | K38: =VLOOKUP(B38,[115]EQUIPOS!$C$6:$G$137,5,0) -> 9831.6114 | L38: 0.3745 | N38: =K38*L38 -> 3681.9385
N39: =K39*L39 -> 0
N40: =K40*L40 -> 0
N41: =K41*L41 -> 0
N42: =K42*L42 -> 0
N43: =K43*L43 -> 0
N44: =K44*L44 -> 0
N45: =K45*L45 -> 0
N46: =K46*L46 -> 0
N47: =K47*L47 -> 0
N48: =K48*L48 -> 0
N49: =K49*L49 -> 0
N50: =K50*L50 -> 0
N51: =K51*L51 -> 0
C52: HERRAMIENTA MENOR (%) | L52: 0.05 | N52: =L52*N98 -> 836.90476
B53: SUBTOTAL $ | N53: =SUM(N38:N52) -> 4518.8432
B55: II. MATERIALES
B57: CÓDIGO | C57: DESCRIPCIÓN | J57: UNIDAD | K57: CANTIDAD | L57: PRECIO UNIT. | N57: Vr. UNITARIO
...

Sheet 311.1
K1: CÓDIGO | L1: FR-APU-1
C2: INSTITUTO NACIONAL DE VIAS
C3: ANÁLISIS DE PRECIOS UNITARIOS REGIONALIZADOS DE REFERENCIA | K3: VERSIÓN | L3: 2021
C5: ACTUALIZACIÓN PERIÓDICA | K5: PÁGINA
K8: FECHA
L9: (Día) | M9: (Mes) | N9: (Año)
B10: ÍTEM BASE DE APU DE REFERENCIA: | E10: ⊠ | F10: PUBLICACIÓN: | H10: 2022-2 DICIEMBRE 2022
B12: ÍTEM DE PROYECTO PARTICULAR:
B13: ÍTEM DE LA PROPUESTA ECONÓMICA: | E13: □ | H13: ÍTEM NO PREVISTO: | J13: □ | K13: ÍTEM APU PARTICULAR: | M13: □
B14: UNIDAD EJECUTORA: | J14: DIRECCIÓN TERRITORIAL:
B17: CONTRATO No. | D17: FECHA:
B18: OBJETO DEL CONTRATO:
B21: CARRETERA: | J21: SECTOR:
B23: CONTRATISTA:
B25: INTERVENTOR: | K25: CONTRATO No. | M25: FECHA: | N25: ______________
B27: FECHA DE CIERRE DEL PROCESO DE SELECCIÓN DEL CONTRATO: | I27: / | J27: /
F28: (Día) | H28: (Día) | I28: (Mes) | J28: (Año)
B30: DATOS ESPECÍFICOS
B32: ÍTEM | C32: DESCRIPCIÓN | J32: GRUPO DE AJUSTE | L32: UNIDAD | N32: CANTIDAD
B33: 311.1 | C33: AFIRMADO | L33: m3
B35: I. EQUIPO
B37: CÓDIGO | C37: DESCRIPCIÓN | J37: TIPO | K37: TARIFA/HORA | L37: RENDIMIENTO | N37: Vr. UNITARIO
B38: C0010150 | C38: Carrotanque de agua(1000 Galones) | K38: =VLOOKUP(B38,[115]EQUIPOS!$C$6:$G$137,5,0) -> 78743.544 | L38: =1/45 -> 0.022222222 | N38: =K38*L38 -> 1749.8565
B39: C0010610 | C39: Motoniveladora potencia 215 HP, ancho de cuchilla 4,27 m, peso 18 ton | K39: =VLOOKUP(B39,[115]EQUIPOS!$C$6:$G$137,5,0) -> 188672.9 | L39: =1/45 -> 0.022222222 | N39: =K39*L39 -> 4192.731
B40: C0010923 | C40: Vibrocompactador, potencia 153 HP, peso 10 ton | K40: =VLOOKUP(B40,[115]EQUIPOS!$C$6:$G$137,5,0) -> 124498.05 | L40: =1/45 -> 0.022222222 | N40: =K40*L40 -> 2766.6233
N41: =K41*L41 -> 0
N42: =K42*L42 -> 0
N43: =K43*L43 -> 0
N44: =K44*L44 -> 0
N45: =K45*L45 -> 0
N46: =K46*L46 -> 0
N47: =K47*L47 -> 0
N48: =K48*L48 -> 0
N49: =K49*L49 -> 0
N50: =K50*L50 -> 0
N51: =K51*L51 -> 0
C52: HERRAMIENTA MENOR (%) | L52: 0.05 | N52: =L52*N98 -> 31.689815
B53: SUBTOTAL $ | N53: =SUM(N38:N52) -> 8740.9007
B55: II. MATERIALES
B57: CÓDIGO | C57: DESCRIPCIÓN | J57: UNIDAD | K57: CANTIDAD | L57: PRECIO UNIT. | N57: Vr. UNITARIO
...

Sheet 310.1
K1: CÓDIGO | L1: FR-APU-1
C2: INSTITUTO NACIONAL DE VIAS
C3: ANÁLISIS DE PRECIOS UNITARIOS REGIONALIZADOS DE REFERENCIA | K3: VERSIÓN | L3: 2021
C5: ACTUALIZACIÓN PERIÓDICA | K5: PÁGINA
K8: FECHA
L9: (Día) | M9: (Mes) | N9: (Año)
B10: ÍTEM BASE DE APU DE REFERENCIA: | E10: ⊠ | F10: PUBLICACIÓN: | H10: 2022-2 DICIEMBRE 2022
B12: ÍTEM DE PROYECTO PARTICULAR:
B13: ÍTEM DE LA PROPUESTA ECONÓMICA: | E13: □ | H13: ÍTEM NO PREVISTO: | J13: □ | K13: ÍTEM APU PARTICULAR: | M13: □
B14: UNIDAD EJECUTORA: | J14: DIRECCIÓN TERRITORIAL:
B17: CONTRATO No. | D17: FECHA:
B18: OBJETO DEL CONTRATO:
B21: CARRETERA: | J21: SECTOR:
B23: CONTRATISTA:
B25: INTERVENTOR: | K25: CONTRATO No. | M25: FECHA: | N25: ______________
B27: FECHA DE CIERRE DEL PROCESO DE SELECCIÓN DEL CONTRATO: | I27: / | J27: /
F28: (Día) | H28: (Día) | I28: (Mes) | J28: (Año)
B30: DATOS ESPECÍFICOS
B32: ÍTEM | C32: DESCRIPCIÓN | J32: GRUPO DE AJUSTE | L32: UNIDAD | N32: CANTIDAD
B33: 310.1 | C33: CONFORMACIÓN DE LA CALZADA EXISTENTE | L33: m2
B35: I. EQUIPO
B37: CÓDIGO | C37: DESCRIPCIÓN | J37: TIPO | K37: TARIFA/HORA | L37: RENDIMIENTO | N37: Vr. UNITARIO
B38: C0010150 | C38: Carrotanque de agua(1000 Galones) | K38: =VLOOKUP(B38,[115]EQUIPOS!$C$6:$G$137,5,0) -> 78743.544 | L38: =1/619.375 -> 0.0016145308 | N38: =K38*L38 -> 127.13388
B39: C0010610 | C39: Motoniveladora potencia 215 HP, ancho de cuchilla 4,27 m, peso 18 ton | K39: =VLOOKUP(B39,[115]EQUIPOS!$C$6:$G$137,5,0) -> 188672.9 | L39: =1/619.375 -> 0.0016145308 | N39: =K39*L39 -> 304.6182
B40: C0010923 | C40: Vibrocompactador, potencia 153 HP, peso 10 ton | K40: =VLOOKUP(B40,[115]EQUIPOS!$C$6:$G$137,5,0) -> 124498.05 | L40: =1/619.375 -> 0.0016145308 | N40: =K40*L40 -> 201.00593
B41: C0010130 | C41: Cargador: potencia en el volante 110 hp, clasificación de rpm del motor 2300 | K41: =VLOOKUP(B41,[115]EQUIPOS!$C$6:$G$137,5,0) -> 154954.01 | L41: =1/619.375 -> 0.0016145308 | N41: =K41*L41 -> 250.17803
N42: =K42*L42 -> 0
N43: =K43*L43 -> 0
N44: =K44*L44 -> 0
N45: =K45*L45 -> 0
N46: =K46*L46 -> 0
N47: =K47*L47 -> 0
N48: =K48*L48 -> 0
N49: =K49*L49 -> 0
N50: =K50*L50 -> 0
N51: =K51*L51 -> 0
C52: HERRAMIENTA MENOR (%) | L52: 0.05 | N52: =L52*N98 -> 2.3023882
B53: SUBTOTAL $ | N53: =SUM(N38:N52) -> 885.23842
B55: II. MATERIALES
B57: CÓDIGO | C57: DESCRIPCIÓN | J57: UNIDAD | K57: CANTIDAD | L57: PRECIO UNIT. | N57: Vr. UNITARIO
...

Sheet 210.2.2
K1: CÓDIGO | L1: FR-APU-1
C2: INSTITUTO NACIONAL DE VIAS
C3: ANÁLISIS DE PRECIOS UNITARIOS REGIONALIZADOS DE REFERENCIA | K3: VERSIÓN | L3: 2021
C5: ACTUALIZACIÓN PERIÓDICA | K5: PÁGINA
K8: FECHA
L9: (Día) | M9: (Mes) | N9: (Año)
B10: ÍTEM BASE DE APU DE REFERENCIA: | E10: ⊠ | F10: PUBLICACIÓN: | H10: 2022-2 DICIEMBRE 2022
B12: ÍTEM DE PROYECTO PARTICULAR:
B13: ÍTEM DE LA PROPUESTA ECONÓMICA: | E13: □ | H13: ÍTEM NO PREVISTO: | J13: □ | K13: ÍTEM APU PARTICULAR: | M13: □
B14: UNIDAD EJECUTORA: | J14: DIRECCIÓN TERRITORIAL:
B17: CONTRATO No. | D17: FECHA:
B18: OBJETO DEL CONTRATO:
B21: CARRETERA: | J21: SECTOR:
B23: CONTRATISTA:
B25: INTERVENTOR: | K25: CONTRATO No. | M25: FECHA: | N25: ______________
B27: FECHA DE CIERRE DEL PROCESO DE SELECCIÓN DEL CONTRATO: | I27: / | J27: /
F28: (Día) | H28: (Día) | I28: (Mes) | J28: (Año)
B30: DATOS ESPECÍFICOS
B32: ÍTEM | C32: DESCRIPCIÓN | J32: GRUPO DE AJUSTE | L32: UNIDAD | N32: CANTIDAD
B33: 210.2.2 | C33: EXCAVACIÓN EN MATERIAL COMÚN DE LA EXPLANACIÓN Y CANALES | L33: m3
B35: I. EQUIPO
B37: CÓDIGO | C37: DESCRIPCIÓN | J37: TIPO | K37: TARIFA/HORA | L37: RENDIMIENTO | N37: Vr. UNITARIO
B38: C0010790 | C38: Retroexcavadora sobre oruga, potencia 158 kw, balde de 1.5 m3 | K38: =VLOOKUP(B38,[115]EQUIPOS!$C$6:$G$137,5,0) -> 199786.21 | L38: =1/66 -> 0.015151515 | N38: =K38*L38 -> 3027.0637
B39: C0010052 | C39: Buldozer, potencia al volante de 140 HP, motor de 2200 RPM, longitud de hoja 4,80m | K39: =VLOOKUP(B39,[115]EQUIPOS!$C$6:$G$137,5,0) -> 170995.77 | L39: =1/100 -> 0.01 | N39: =K39*L39 -> 1709.9577
N40: =K40*L40 -> 0
N41: =K41*L41 -> 0
N42: =K42*L42 -> 0
N43: =K43*L43 -> 0
N44: =K44*L44 -> 0
N45: =K45*L45 -> 0
N46: =K46*L46 -> 0
N47: =K47*L47 -> 0
N48: =K48*L48 -> 0
N49: =K49*L49 -> 0
N50: =K50*L50 -> 0
N51: =K51*L51 -> 0
C52: HERRAMIENTA MENOR (%) | L52: 0.01 | N52: =L52*N98 -> 1.1679293
B53: SUBTOTAL $ | N53: =SUM(N38:N52) -> 4738.1893
B55: II. MATERIALES
B57: CÓDIGO | C57: DESCRIPCIÓN | J57: UNIDAD | K57: CANTIDAD | L57: PRECIO UNIT. | N57: Vr. UNITARIO
...
