Workbook
Name \0: #REF!
Name \0: #REF!
Name \0: #REF!
Name \0: #REF!
Name \0: #REF!
Name \0: #REF!
Name \00: #REF!
Name \00: #REF!
Name \00: #REF!
Name \00: #REF!
Name \00: #REF!
Name \a: #REF!
Name \a: #REF!
Name \a: #REF!
Name \a: #REF!
Name \a: #REF!
Name \a: #REF!
Name \a: #REF!
Name \AA: [1]LIQUIDACION!#REF!
Name \AA: [1]LIQUIDACION!#REF!
Name \AA: [1]LIQUIDACION!#REF!
Name \AA: [1]LIQUIDACION!#REF!
Name \AA: [1]LIQUIDACION!#REF!
Name \b: [2]STRSUMM0!#REF!
Name \b: #REF!
Name \b: #REF!
Name \b: [2]STRSUMM0!#REF!
Name \b: [2]STRSUMM0!#REF!
Name \b: [2]STRSUMM0!#REF!
Name \bb: [2]STRSUMM0!#REF!
Name \bb: [2]STRSUMM0!#REF!
Name \bb: [2]STRSUMM0!#REF!
Name \bb: [2]STRSUMM0!#REF!
Name \bb: [2]STRSUMM0!#REF!
Name \E: #REF!
Name \E: #REF!
Name \E: #REF!
Name \E: #REF!
Name \E: #REF!
Name \EE: #REF!
Name \EE: #REF!
Name \EE: #REF!
Name \EE: #REF!
Name \EE: #REF!
Name \eliminar: [3]RESUM96!#REF!
Name \eliminar: [3]RESUM96!#REF!
Name \eliminar: [3]RESUM96!#REF!
Name \eliminar: [3]RESUM96!#REF!
Name \eliminar: [3]RESUM96!#REF!
Name \eliminar1: [3]RESUM96!#REF!
Name \eliminar1: [3]RESUM96!#REF!
Name \eliminar1: [3]RESUM96!#REF!
Name \eliminar1: [3]RESUM96!#REF!
Name \eliminar1: [3]RESUM96!#REF!
Name \G: #REF!
Name \G: #REF!
Name \G: #REF!
Name \G: #REF!
Name \G: #REF!
Name \k: '[4]7422CW00'!#REF!

Sheet PRESUPUESTO OFICIAL (Entidad)
C3: Formulario 1 - Propuesta económica - Documento tipo de licitación de obra pública de infraestructura de transporte - versión 3
C4: Código | D4: CCE-EICP-FM-14 | E4: Versión | F4: 3
C5: FORMULARIO 1
C6: PRESUPUESTO OFICIAL
C7: [La entidad puede utilizar este formulario de detalle del presupuesto oficial para determinar las condiciones bajo las cuales los proponentes analizarán y presentarán su propuesta económica de forma detallada, sin perjuicio que la entidad pueda modificarlo o establecer la presentación de la oferta económica con un formulario distinto al indicado.]
C9: Adicionalmente, cuando el proceso de contratación es estructurado por precios unitarios, la Entidad debe aplicar las notas 1, 2 y 3 del presente formulario y las casillas de "Descripción", "Porcentaje" de la Administración, Imprevisto, Utilidad y total A.I.U. resaltadas en color amarillo. Tratándose de otras modalidades de precio, la Entidad puede o no configurar los mismos aspectos.
C11: Nº | D11: ÍTEM DE PAGO | E11: ESPECIFICACIONES | G11: DESCRIPCIÓN | H11: UND. | I11: CANTIDAD | J11: VALOR UNITARIO | K11: VALOR TOTAL
E12: GENERAL | F12: PARTICULAR IDU
C13: PRELIMINARES
D14: 1 | E14: INV-105.2 -13 | F14: 3007 | G14: REPLANTEO GENERAL | H14: M2 | I14: =+'[190]PRESUP TOTAL'!$H$14+'[191]PRESUP SAN BENITO'!$G$14+'[192]PRESUP TOTAL'!$G$14 -> 5527.75 | J14: 758 | K14: =I14*J14 -> 4190034.5
C15: Subtotal | K15: =SUM(K14) -> 4190034.5
C16: DEMOLICIONES
D17: 2 | E17: INV-201-13 | F17: 5196 | G17: DEMOLICIÓN DE CONCRETO: ESPESORES 8CM A 15CM. (INCLUYE RETIRO DE MATERIAL, TRANSPORTE Y DISPOSICIÓN FINAL DE ESCOMBROS EN SITIO AUTORIZADO). | H17: M3 | I17: ='[190]PRESUP TOTAL'!$H$16+'[191]PRESUP SAN BENITO'!$G$16+'[192]PRESUP TOTAL'!$G$16 -> 241 | J17: =+'[190]PRESUP TOTAL'!$G$16 -> 85531 | K17: =I17*J17 -> 20612971
D18: 3 | E18: INV-201-13 | F18: 5197 | G18: DEMOLICIÓN DE CONCRETO: ESPESORES 16CM A 25CM. (INCLUYE RETIRO DE MATERIAL, TRANSPORTE Y DISPOSICIÓN FINAL DE ESCOMBROS EN SITIO AUTORIZADO). | H18: M3 | I18: =+'[190]PRESUP TOTAL'!$H$17+'[191]PRESUP SAN BENITO'!$G$17+'[192]PRESUP TOTAL'!$G$17 -> 99 | J18: =+'[190]PRESUP TOTAL'!$G$17 -> 91446 | K18: =I18*J18 -> 9053154
C19: Subtotal | K19: =SUM(K17:K18) -> 29666125
C20: EXPLANACIONES Y TERRAPLENES
D21: 4 | E21: IDU ET-IC- 300-18 | F21: 3710 | G21: EXCAVACIÓN MECÁNICA EN MATERIAL COMÚN (INCLUYE CARGUE) | H21: M3 | I21: =+'[190]PRESUP TOTAL'!$H$19+'[191]PRESUP SAN BENITO'!$G$19+'[192]PRESUP TOTAL'!$G$19 -> 2332 | J21: 4920 | K21: =I21*J21 -> 11473440
D22: 5 | E22: IDU ET-IC- 300-18 | F22: 3017 | G22: TRANSPORTE Y DISPOSICIÓN FINAL DE ESCOMBROS EN SITIO AUTORIZADO (DISTANCIA DE TRANSPORTE 21 KM). A DISTANCIA MAYOR DEL ACARREO LIBRE (90 M) EN SITIO AUTORIZADO POR LA ENTIDAD AMBIENTAL COMPETENTE. | H22: M3 | I22: =+'[190]PRESUP TOTAL'!$H$20+'[191]PRESUP SAN BENITO'!$G$20+'[192]PRESUP TOTAL'!$G$20 -> 3032.5 | J22: 34896 | K22: =I22*J22 -> 105822120
C23: Subtotal | K23: =SUM(K21:K22) -> 117295560
C24: AFIRMADOS, BASES Y SUBBASES
E25: IDU ET-IC- 510-18 | F25: 4161 | G25: SUBBASE GRANULAR CLASE A (SBG_A) (SUMINISTRO, EXTENDIDO, NIVELACIÓN, HUMEDECIMIENTO Y COMPACTACIÓN CON VIBROCOMPACTADOR) | H25: M3 | I25: =+'[190]PRESUP TOTAL'!$H$22+'[191]PRESUP SAN BENITO'!$G$22+'[192]PRESUP TOTAL'!$G$22 -> 603 | J25: 129602 | K25: =I25*J25 -> 78150006
E26: IDU ET-IC- 410-18 | F26: 6016 | G26: ESTABILIZACIÓN DE SUBRASANTE CON RAJÓN, INCLUYE EQUIPO DE COMPACTACIÓN (SUMINISTRO, EXTENDIDO, NIVELACIÓN Y COMPACTACIÓN CON EQUIPO MECÁNICO) | H26: M3 | I26: =+'[191]PRESUP SAN BENITO'!$G$23+'[190]PRESUP TOTAL'!$H$23+'[192]PRESUP TOTAL'!$G$23 -> 631 | J26: 109965 | K26: =I26*J26 -> 69387915
C27: Subtotal | K27: =SUM(K25:K26) -> 147537921
C28: PAVIMENTOS
E29: IDU ET-IC- 800-18 | F29: APU NP1 | G29: LOSA DE CONCRETO MR43 (SUMINISTRO, FORMALETEADO, COLOCACIÓN Y ACABADO. NO INCLUYE ACERO, CURADO, JUNTAS) | H29: M3 | I29: =+'[190]PRESUP TOTAL'!$H$25+'[191]PRESUP SAN BENITO'!$G$25+'[192]PRESUP TOTAL'!$G$25 -> 484 | J29: 712870 | K29: =I29*J29 -> 345029080
E30: IDU ET-IC- 800-18 | F30: APU NP2 | G30: ACERO DE REFUERZO FY=60000 PSI. SUMINISTRO E INSTALACIÓN. DE ACUERDO A LO ESTIPULADO POR LA NSR-10, NORMA ASTM A-706, ICONTEC 2289 PARA EL ACERO PDR-60. INCLUYE TODOS LOS COSTOS DE SUMINISTRO DE MATERIALES (REFUERZO (G60) FIGURADO, CORRUGADO, INCLUYE EL ALAMBRE DE AMARRE), EQUIPOS, TRANSPORTES, MANEJO, ALMACENAMIENTO, DESPERDICIOS Y MANO DE OBRA. | H30: kg | I30: =+'[190]PRESUP TOTAL'!$H$27+'[191]PRESUP SAN BENITO'!$G$26+'[192]PRESUP TOTAL'!$G$26 -> 3731 | J30: 7202 | K30: =I30*J30 -> 26870662
E31: IDU ET-IC- 800-18 | F31: APU NP3 | G31: CANASTILLA PASAJUNTAS INCLUYE SUMINISTRO E INSTALACIÓN | H31: kg | I31: =+'[190]PRESUP TOTAL'!$H$26+'[191]PRESUP SAN BENITO'!$G$27+'[192]PRESUP TOTAL'!$G$27 -> 5289 | J31: 7202 | K31: =I31*J31 -> 38091378
C32: Subtotal | K32: =SUM(K29:K31) -> 409991120
C33: GEOTEXTILES
E34: IDU ET-IC-240-18 | F34: 4671 | G34: GEOTEXTIL NT 2500 PARA SEPARACION SUBRASANTE/CAPAS GRANULARES (INCLUYE SUMINISTRO E INSTALACIÓN) | H34: M2 | I34: =+'[191]PRESUP SAN BENITO'!$G$29+'[190]PRESUP TOTAL'!$H$29+'[192]PRESUP TOTAL'!$G$29 -> 2498 | J34: 7720 | K34: =I34*J34 -> 19284560
C35: Subtotal | K35: =SUM(K34) -> 19284560
C36: URBANISMO
E37: IDU ET-IC-301-18 | F37: 4390 | G37: EXCAVACIÓN MANUAL EN MATERIAL COMÚN (INCL CARGUE, TRANSPORTE Y DISPOSICION FINAL) | H37: M3 | I37: =+'[190]PRESUP TOTAL'!$H$31+'[191]PRESUP SAN BENITO'!$G$31+'[192]PRESUP TOTAL'!$G$31 -> 598 | J37: 82116 | K37: =I37*J37 -> 49105368
E38: IDU ET-IC-512-18 | F38: 4159 | G38: SUBBASE GRANULAR CLASE C (SBG_C) (SUMINISTRO, EXTENDIDO, NIVELACIÓN, HUMEDECIMIENTO Y COMPACTACIÓN CON VIBROCOMPACTADOR) | H38: M3 | I38: =+'[190]PRESUP TOTAL'!$H$32+'[191]PRESUP SAN BENITO'!$G$32+'[192]PRESUP TOTAL'!$G$32 -> 598 | J38: 128055 | K38: =I38*J38 -> 76576890
E39: IDU ET-IC-413-18 | F39: 6486 | G39: ESTABILIZACIÓN CON RCD. INCLUYE TRASIEGO INTERNO, NIVELACIÓN Y COMPACTACIÓN. | H39: M3 | I39: =+'[190]PRESUP TOTAL'!$H$33+'[191]PRESUP SAN BENITO'!$G$33+'[192]PRESUP TOTAL'!$G$33 -> 479 | J39: 48063 | K39: =I39*J39 -> 23022177
E40: IDU ET-IC-801-18 | F40: 6137 | G40: PISO EN CONCRETO COLOR GRIS MR41 (280 Kg/Cm2) GRAVA 1" 28 DIAS ESTAMPADO e=0.10m (INCLUYE SUMINISTRO Y COLOCACIÓN DE CONCRETO, JUEGO DE MOLDES, DESMOLDANTE EN POLVO, CURADOR PARA CONCRETO, INCLUYE CORTE Y SELLADO DE JUNTAS. | H40: M2 | I40: =+'[190]PRESUP TOTAL'!$H$34+'[191]PRESUP SAN BENITO'!$G$34+'[192]PRESUP TOTAL'!$G$34 -> 944 | J40: 192265 | K40: =I40*J40 -> 181498160
E41: Cartilla de Andenes A-55-56 | F41: 6102 | G41: CENEFA LINEAL EN LOSETA PREFABRICADA TÁCTIL ALERTA Y GUÍA A55 / A56 ANCHO 0.40m (SUMINISTRO E INSTALACIÓN. INCLUYE BASE EN ARENA DE NIVELACIÓN e= 4cm Y ARENA DE SELLO). | H41: ML | I41: =+'[190]PRESUP TOTAL'!$H$35+'[191]PRESUP SAN BENITO'!$G$35+'[192]PRESUP TOTAL'!$G$35 -> 161.4 | J41: 25934 | K41: =I41*J41 -> 4185747.6
E42: Cartilla de Andenes A-57-58 | F42: 8228 | G42: CENEFA LINEAL EN LOSETA PREFABRICADA TÁCTIL ALERTA A57 / A58 ANCHO 0.20M COLOR AMARILLO. (SUMINISTRO E INSTALACIÓN. INCLUYE BASE EN ARENA DE NIVELACIÓN E= 4CM Y ARENA DE SELLO). | H42: ML | I42: =+'[190]PRESUP TOTAL'!$H$36+'[191]PRESUP SAN BENITO'!$G$36+'[192]PRESUP TOTAL'!$G$36 -> 872 | J42: 20643 | K42: =I42*J42 -> 18000696
E43: Cartilla de Andenes A-26 | F43: 8229 | G43: FRANJA EN ADOQUIN DE CONCRETO DEMARCADOR VISUAL A26 20X10X6CM COLOR AMARILLO. (SUMINISTRO E INSTALACIÓN. INCLUYE BASE 3CM ARENA NIVELACIÓN Y ARENA DE SELLO). | H43: ML | I43: =+'[190]PRESUP TOTAL'!$H$37+'[191]PRESUP SAN BENITO'!$G$37+'[192]PRESUP TOTAL'!$G$37 -> 872 | J43: 16118 | K43: =I43*J43 -> 14054896
E44: Cartilla de Andenes A-51 | F44: 8776 | G44: CENEFA LINEAL EN LOSETA LISA BICAPA TIPO A51 (40 X 20 X 6) cm PARA FRANJA DE SEGURIDAD (Suministro, colocación y compactación con equipo manual. Incluye base en arena de nivelación e=4 cm y arena de sello) | H44: ML | I44: =+'[190]PRESUP TOTAL'!$H$38+'[191]PRESUP SAN BENITO'!$G$38+'[192]PRESUP TOTAL'!$G$38 -> 872 | J44: 21944 | K44: =I44*J44 -> 19135168
...

Sheet PRESUPUESTO OFICIAL (unitarios)
C3: Formulario 1 - Propuesta económica - Documento tipo de licitación de obra pública de infraestructura de transporte - versión 3
C4: Código | D4: CCE-EICP-FM-14 | E4: Versión | F4: 3
C5: FORMULARIO 1
C6: PRESUPUESTO OFICIAL
C7: [La entidad puede utilizar este formulario de detalle del presupuesto oficial para determinar las condiciones bajo las cuales los proponentes analizarán y presentarán su propuesta económica de forma detallada, sin perjuicio que la entidad pueda modificarlo o establecer la presentación de la oferta económica con un formulario distinto al indicado.]
C9: Adicionalmente, cuando el proceso de contratación es estructurado por precios unitarios, la Entidad debe aplicar las notas 1, 2 y 3 del presente formulario y las casillas de "Descripción", "Porcentaje" de la Administración, Imprevisto, Utilidad y total A.I.U. resaltadas en color amarillo. Tratándose de otras modalidades de precio, la Entidad puede o no configurar los mismos aspectos.
C11: Nº | D11: ÍTEM DE PAGO | E11: ESPECIFICACIONES | G11: DESCRIPCIÓN | H11: UND. | I11: CANTIDAD | J11: VALOR UNITARIO | K11: VALOR TOTAL
E12: GENERAL | F12: PARTICULAR IDU
C13: PRELIMINARES
D14: 1 | E14: INV-105.2 -13 | F14: 3007 | G14: REPLANTEO GENERAL | H14: M2 | I14: =+'[190]PRESUP TOTAL'!$H$14+'[191]PRESUP SAN BENITO'!$G$14+'[192]PRESUP TOTAL'!$G$14 -> 5527.75 | J14: =758*1.2939 -> 980.7762
C15: Subtotal
C16: DEMOLICIONES
D17: 2 | E17: INV-201-13 | F17: 5196 | G17: DEMOLICIÓN DE CONCRETO: ESPESORES 8CM A 15CM. (INCLUYE RETIRO DE MATERIAL, TRANSPORTE Y DISPOSICIÓN FINAL DE ESCOMBROS EN SITIO AUTORIZADO). | H17: M3 | I17: ='[190]PRESUP TOTAL'!$H$16+'[191]PRESUP SAN BENITO'!$G$16+'[192]PRESUP TOTAL'!$G$16 -> 241 | J17: =+'[190]PRESUP TOTAL'!$G$16*1.2939 -> 110668.56
D18: 3 | E18: INV-201-13 | F18: 5197 | G18: DEMOLICIÓN DE CONCRETO: ESPESORES 16CM A 25CM. (INCLUYE RETIRO DE MATERIAL, TRANSPORTE Y DISPOSICIÓN FINAL DE ESCOMBROS EN SITIO AUTORIZADO). | H18: M3 | I18: =+'[190]PRESUP TOTAL'!$H$17+'[191]PRESUP SAN BENITO'!$G$17+'[192]PRESUP TOTAL'!$G$17 -> 99 | J18: =+'[190]PRESUP TOTAL'!$G$17*1.2939 -> 118321.98
C19: Subtotal
C20: EXPLANACIONES Y TERRAPLENES
D21: 4 | E21: IDU ET-IC- 300-18 | F21: 3710 | G21: EXCAVACIÓN MECÁNICA EN MATERIAL COMÚN (INCLUYE CARGUE) | H21: M3 | I21: =+'[190]PRESUP TOTAL'!$H$19+'[191]PRESUP SAN BENITO'!$G$19+'[192]PRESUP TOTAL'!$G$19 -> 2332 | J21: =4920*1.2939 -> 6365.988
D22: 5 | E22: IDU ET-IC- 300-18 | F22: 3017 | G22: TRANSPORTE Y DISPOSICIÓN FINAL DE ESCOMBROS EN SITIO AUTORIZADO (DISTANCIA DE TRANSPORTE 21 KM). A DISTANCIA MAYOR DEL ACARREO LIBRE (90 M) EN SITIO AUTORIZADO POR LA ENTIDAD AMBIENTAL COMPETENTE. | H22: M3 | I22: =+'[190]PRESUP TOTAL'!$H$20+'[191]PRESUP SAN BENITO'!$G$20+'[192]PRESUP TOTAL'!$G$20 -> 3032.5 | J22: =34896*1.2939 -> 45151.934
C23: Subtotal
C24: AFIRMADOS, BASES Y SUBBASES
E25: IDU ET-IC- 510-18 | F25: 4161 | G25: SUBBASE GRANULAR CLASE A (SBG_A) (SUMINISTRO, EXTENDIDO, NIVELACIÓN, HUMEDECIMIENTO Y COMPACTACIÓN CON VIBROCOMPACTADOR) | H25: M3 | I25: =+'[190]PRESUP TOTAL'!$H$22+'[191]PRESUP SAN BENITO'!$G$22+'[192]PRESUP TOTAL'!$G$22 -> 603 | J25: =129602*1.2939 -> 167692.03
E26: IDU ET-IC- 410-18 | F26: 6016 | G26: ESTABILIZACIÓN DE SUBRASANTE CON RAJÓN, INCLUYE EQUIPO DE COMPACTACIÓN (SUMINISTRO, EXTENDIDO, NIVELACIÓN Y COMPACTACIÓN CON EQUIPO MECÁNICO) | H26: M3 | I26: =+'[191]PRESUP SAN BENITO'!$G$23+'[190]PRESUP TOTAL'!$H$23+'[192]PRESUP TOTAL'!$G$23 -> 631 | J26: =109965*1.2939 -> 142283.71
C27: Subtotal
C28: PAVIMENTOS
E29: IDU ET-IC- 800-18 | F29: APU NP1 | G29: LOSA DE CONCRETO MR43 (SUMINISTRO, FORMALETEADO, COLOCACIÓN Y ACABADO. NO INCLUYE ACERO, CURADO, JUNTAS) | H29: M3 | I29: =+'[190]PRESUP TOTAL'!$H$25+'[191]PRESUP SAN BENITO'!$G$25+'[192]PRESUP TOTAL'!$G$25 -> 484 | J29: =712870*1.2939 -> 922382.49
E30: IDU ET-IC- 800-18 | F30: APU NP2 | G30: ACERO DE REFUERZO FY=60000 PSI. SUMINISTRO E INSTALACIÓN. DE ACUERDO A LO ESTIPULADO POR LA NSR-10, NORMA ASTM A-706, ICONTEC 2289 PARA EL ACERO PDR-60. INCLUYE TODOS LOS COSTOS DE SUMINISTRO DE MATERIALES (REFUERZO (G60) FIGURADO, CORRUGADO, INCLUYE EL ALAMBRE DE AMARRE), EQUIPOS, TRANSPORTES, MANEJO, ALMACENAMIENTO, DESPERDICIOS Y MANO DE OBRA. | H30: kg | I30: =+'[190]PRESUP TOTAL'!$H$27+'[191]PRESUP SAN BENITO'!$G$26+'[192]PRESUP TOTAL'!$G$26 -> 3731 | J30: =7202*1.2939 -> 9318.6678
E31: IDU ET-IC- 800-18 | F31: APU NP3 | G31: CANASTILLA PASAJUNTAS INCLUYE SUMINISTRO E INSTALACIÓN | H31: kg | I31: =+'[190]PRESUP TOTAL'!$H$26+'[191]PRESUP SAN BENITO'!$G$27+'[192]PRESUP TOTAL'!$G$27 -> 5289 | J31: =7202*1.2939 -> 9318.6678
C32: Subtotal
C33: GEOTEXTILES
E34: IDU ET-IC-240-18 | F34: 4671 | G34: GEOTEXTIL NT 2500 PARA SEPARACION SUBRASANTE/CAPAS GRANULARES (INCLUYE SUMINISTRO E INSTALACIÓN) | H34: M2 | I34: =+'[191]PRESUP SAN BENITO'!$G$29+'[190]PRESUP TOTAL'!$H$29+'[192]PRESUP TOTAL'!$G$29 -> 2498 | J34: =7720*1.2939 -> 9988.908
C35: Subtotal
C36: URBANISMO
E37: IDU ET-IC-301-18 | F37: 4390 | G37: EXCAVACIÓN MANUAL EN MATERIAL COMÚN (INCL CARGUE, TRANSPORTE Y DISPOSICION FINAL) | H37: M3 | I37: =+'[190]PRESUP TOTAL'!$H$31+'[191]PRESUP SAN BENITO'!$G$31+'[192]PRESUP TOTAL'!$G$31 -> 598 | J37: =82116*1.2939 -> 106249.89
E38: IDU ET-IC-512-18 | F38: 4159 | G38: SUBBASE GRANULAR CLASE C (SBG_C) (SUMINISTRO, EXTENDIDO, NIVELACIÓN, HUMEDECIMIENTO Y COMPACTACIÓN CON VIBROCOMPACTADOR) | H38: M3 | I38: =+'[190]PRESUP TOTAL'!$H$32+'[191]PRESUP SAN BENITO'!$G$32+'[192]PRESUP TOTAL'!$G$32 -> 598 | J38: =128055*1.2939 -> 165690.36
E39: IDU ET-IC-413-18 | F39: 6486 | G39: ESTABILIZACIÓN CON RCD. INCLUYE TRASIEGO INTERNO, NIVELACIÓN Y COMPACTACIÓN. | H39: M3 | I39: =+'[190]PRESUP TOTAL'!$H$33+'[191]PRESUP SAN BENITO'!$G$33+'[192]PRESUP TOTAL'!$G$33 -> 479 | J39: =48063*1.2939 -> 62188.716
E40: IDU ET-IC-801-18 | F40: 6137 | G40: PISO EN CONCRETO COLOR GRIS MR41 (280 Kg/Cm2) GRAVA 1" 28 DIAS ESTAMPADO e=0.10m (INCLUYE SUMINISTRO Y COLOCACIÓN DE CONCRETO, JUEGO DE MOLDES, DESMOLDANTE EN POLVO, CURADOR PARA CONCRETO, INCLUYE CORTE Y SELLADO DE JUNTAS. | H40: M2 | I40: =+'[190]PRESUP TOTAL'!$H$34+'[191]PRESUP SAN BENITO'!$G$34+'[192]PRESUP TOTAL'!$G$34 -> 944 | J40: =192265*1.2939 -> 248771.68
E41: Cartilla de Andenes A-55-56 | F41: 6102 | G41: CENEFA LINEAL EN LOSETA PREFABRICADA TÁCTIL ALERTA Y GUÍA A55 / A56 ANCHO 0.40m (SUMINISTRO E INSTALACIÓN. INCLUYE BASE EN ARENA DE NIVELACIÓN e= 4cm Y ARENA DE SELLO). | H41: ML | I41: =+'[190]PRESUP TOTAL'!$H$35+'[191]PRESUP SAN BENITO'!$G$35+'[192]PRESUP TOTAL'!$G$35 -> 161.4 | J41: =25934*1.2939 -> 33556.003
E42: Cartilla de Andenes A-57-58 | F42: 8228 | G42: CENEFA LINEAL EN LOSETA PREFABRICADA TÁCTIL ALERTA A57 / A58 ANCHO 0.20M COLOR AMARILLO. (SUMINISTRO E INSTALACIÓN. INCLUYE BASE EN ARENA DE NIVELACIÓN E= 4CM Y ARENA DE SELLO). | H42: ML | I42: =+'[190]PRESUP TOTAL'!$H$36+'[191]PRESUP SAN BENITO'!$G$36+'[192]PRESUP TOTAL'!$G$36 -> 872 | J42: =20643*1.2939 -> 26709.978
E43: Cartilla de Andenes A-26 | F43: 8229 | G43: FRANJA EN ADOQUIN DE CONCRETO DEMARCADOR VISUAL A26 20X10X6CM COLOR AMARILLO. (SUMINISTRO E INSTALACIÓN. INCLUYE BASE 3CM ARENA NIVELACIÓN Y ARENA DE SELLO). | H43: ML | I43: =+'[190]PRESUP TOTAL'!$H$37+'[191]PRESUP SAN BENITO'!$G$37+'[192]PRESUP TOTAL'!$G$37 -> 872 | J43: =16118*1.2939 -> 20855.08
E44: Cartilla de Andenes A-51 | F44: 8776 | G44: CENEFA LINEAL EN LOSETA LISA BICAPA TIPO A51 (40 X 20 X 6) cm PARA FRANJA DE SEGURIDAD (Suministro, colocación y compactación con equipo manual. Incluye base en arena de nivelación e=4 cm y arena de sello) | H44: ML | I44: =+'[190]PRESUP TOTAL'!$H$38+'[191]PRESUP SAN BENITO'!$G$38+'[192]PRESUP TOTAL'!$G$38 -> 872 | J44: =21944*1.2939 -> 28393.342
...

Sheet PRESUPUESTO OFICIAL(proponente)
C3: Formulario 1 - Propuesta económica - Documento tipo de licitación de obra pública de infraestructura de transporte - versión 3
C4: Código | D4: CCE-EICP-FM-14 | E4: Versión | F4: 3
C5: FORMULARIO 1
C6: PRESUPUESTO OFICIAL
C7: [La entidad puede utilizar este formulario de detalle del presupuesto oficial para determinar las condiciones bajo las cuales los proponentes analizarán y presentarán su propuesta económica de forma detallada, sin perjuicio que la entidad pueda modificarlo o establecer la presentación de la oferta económica con un formulario distinto al indicado.]
C9: Adicionalmente, cuando el proceso de contratación es estructurado por precios unitarios, la Entidad debe aplicar las notas 1, 2 y 3 del presente formulario y las casillas de "Descripción", "Porcentaje" de la Administración, Imprevisto, Utilidad y total A.I.U. resaltadas en color amarillo. Tratándose de otras modalidades de precio, la Entidad puede o no configurar los mismos aspectos.
C11: Nº | D11: ÍTEM DE PAGO | E11: ESPECIFICACIONES | G11: DESCRIPCIÓN | H11: UND. | I11: CANTIDAD | J11: VALOR UNITARIO | K11: VALOR TOTAL
E12: GENERAL | F12: PARTICULAR IDU
C13: PRELIMINARES
D14: 1 | E14: INV-105.2 -13 | F14: 3007 | G14: REPLANTEO GENERAL | H14: M2 | I14: =+'[190]PRESUP TOTAL'!$H$14+'[191]PRESUP SAN BENITO'!$G$14+'[192]PRESUP TOTAL'!$G$14 -> 5527.75
C15: Subtotal
C16: DEMOLICIONES
D17: 2 | E17: INV-201-13 | F17: 5196 | G17: DEMOLICIÓN DE CONCRETO: ESPESORES 8CM A 15CM. (INCLUYE RETIRO DE MATERIAL, TRANSPORTE Y DISPOSICIÓN FINAL DE ESCOMBROS EN SITIO AUTORIZADO). | H17: M3 | I17: ='[190]PRESUP TOTAL'!$H$16+'[191]PRESUP SAN BENITO'!$G$16+'[192]PRESUP TOTAL'!$G$16 -> 241
D18: 3 | E18: INV-201-13 | F18: 5197 | G18: DEMOLICIÓN DE CONCRETO: ESPESORES 16CM A 25CM. (INCLUYE RETIRO DE MATERIAL, TRANSPORTE Y DISPOSICIÓN FINAL DE ESCOMBROS EN SITIO AUTORIZADO). | H18: M3 | I18: =+'[190]PRESUP TOTAL'!$H$17+'[191]PRESUP SAN BENITO'!$G$17+'[192]PRESUP TOTAL'!$G$17 -> 99
C19: Subtotal
C20: EXPLANACIONES Y TERRAPLENES
D21: 4 | E21: IDU ET-IC- 300-18 | F21: 3710 | G21: EXCAVACIÓN MECÁNICA EN MATERIAL COMÚN (INCLUYE CARGUE) | H21: M3 | I21: =+'[190]PRESUP TOTAL'!$H$19+'[191]PRESUP SAN BENITO'!$G$19+'[192]PRESUP TOTAL'!$G$19 -> 2332
D22: 5 | E22: IDU ET-IC- 300-18 | F22: 3017 | G22: TRANSPORTE Y DISPOSICIÓN FINAL DE ESCOMBROS EN SITIO AUTORIZADO (DISTANCIA DE TRANSPORTE 21 KM). A DISTANCIA MAYOR DEL ACARREO LIBRE (90 M) EN SITIO AUTORIZADO POR LA ENTIDAD AMBIENTAL COMPETENTE. | H22: M3 | I22: =+'[190]PRESUP TOTAL'!$H$20+'[191]PRESUP SAN BENITO'!$G$20+'[192]PRESUP TOTAL'!$G$20 -> 3032.5
C23: Subtotal
C24: AFIRMADOS, BASES Y SUBBASES
E25: IDU ET-IC- 510-18 | F25: 4161 | G25: SUBBASE GRANULAR CLASE A (SBG_A) (SUMINISTRO, EXTENDIDO, NIVELACIÓN, HUMEDECIMIENTO Y COMPACTACIÓN CON VIBROCOMPACTADOR) | H25: M3 | I25: =+'[190]PRESUP TOTAL'!$H$22+'[191]PRESUP SAN BENITO'!$G$22+'[192]PRESUP TOTAL'!$G$22 -> 603
E26: IDU ET-IC- 410-18 | F26: 6016 | G26: ESTABILIZACIÓN DE SUBRASANTE CON RAJÓN, INCLUYE EQUIPO DE COMPACTACIÓN (SUMINISTRO, EXTENDIDO, NIVELACIÓN Y COMPACTACIÓN CON EQUIPO MECÁNICO) | H26: M3 | I26: =+'[191]PRESUP SAN BENITO'!$G$23+'[190]PRESUP TOTAL'!$H$23+'[192]PRESUP TOTAL'!$G$23 -> 631
C27: Subtotal
C28: PAVIMENTOS
E29: IDU ET-IC- 800-18 | F29: APU NP1 | G29: LOSA DE CONCRETO MR43 (SUMINISTRO, FORMALETEADO, COLOCACIÓN Y ACABADO. NO INCLUYE ACERO, CURADO, JUNTAS) | H29: M3 | I29: =+'[190]PRESUP TOTAL'!$H$25+'[191]PRESUP SAN BENITO'!$G$25+'[192]PRESUP TOTAL'!$G$25 -> 484
E30: IDU ET-IC- 800-18 | F30: APU NP2 | G30: ACERO DE REFUERZO FY=60000 PSI. SUMINISTRO E INSTALACIÓN. DE ACUERDO A LO ESTIPULADO POR LA NSR-10, NORMA ASTM A-706, ICONTEC 2289 PARA EL ACERO PDR-60. INCLUYE TODOS LOS COSTOS DE SUMINISTRO DE MATERIALES (REFUERZO (G60) FIGURADO, CORRUGADO, INCLUYE EL ALAMBRE DE AMARRE), EQUIPOS, TRANSPORTES, MANEJO, ALMACENAMIENTO, DESPERDICIOS Y MANO DE OBRA. | H30: kg | I30: =+'[190]PRESUP TOTAL'!$H$27+'[191]PRESUP SAN BENITO'!$G$26+'[192]PRESUP TOTAL'!$G$26 -> 3731
E31: IDU ET-IC- 800-18 | F31: APU NP3 | G31: CANASTILLA PASAJUNTAS INCLUYE SUMINISTRO E INSTALACIÓN | H31: kg | I31: =+'[190]PRESUP TOTAL'!$H$26+'[191]PRESUP SAN BENITO'!$G$27+'[192]PRESUP TOTAL'!$G$27 -> 5289
C32: Subtotal
C33: GEOTEXTILES
E34: IDU ET-IC-240-18 | F34: 4671 | G34: GEOTEXTIL NT 2500 PARA SEPARACION SUBRASANTE/CAPAS GRANULARES (INCLUYE SUMINISTRO E INSTALACIÓN) | H34: M2 | I34: =+'[191]PRESUP SAN BENITO'!$G$29+'[190]PRESUP TOTAL'!$H$29+'[192]PRESUP TOTAL'!$G$29 -> 2498
C35: Subtotal
C36: URBANISMO
E37: IDU ET-IC-301-18 | F37: 4390 | G37: EXCAVACIÓN MANUAL EN MATERIAL COMÚN (INCL CARGUE, TRANSPORTE Y DISPOSICION FINAL) | H37: M3 | I37: =+'[190]PRESUP TOTAL'!$H$31+'[191]PRESUP SAN BENITO'!$G$31+'[192]PRESUP TOTAL'!$G$31 -> 598
E38: IDU ET-IC-512-18 | F38: 4159 | G38: SUBBASE GRANULAR CLASE C (SBG_C) (SUMINISTRO, EXTENDIDO, NIVELACIÓN, HUMEDECIMIENTO Y COMPACTACIÓN CON VIBROCOMPACTADOR) | H38: M3 | I38: =+'[190]PRESUP TOTAL'!$H$32+'[191]PRESUP SAN BENITO'!$G$32+'[192]PRESUP TOTAL'!$G$32 -> 598
E39: IDU ET-IC-413-18 | F39: 6486 | G39: ESTABILIZACIÓN CON RCD. INCLUYE TRASIEGO INTERNO, NIVELACIÓN Y COMPACTACIÓN. | H39: M3 | I39: =+'[190]PRESUP TOTAL'!$H$33+'[191]PRESUP SAN BENITO'!$G$33+'[192]PRESUP TOTAL'!$G$33 -> 479
E40: IDU ET-IC-801-18 | F40: 6137 | G40: PISO EN CONCRETO COLOR GRIS MR41 (280 Kg/Cm2) GRAVA 1" 28 DIAS ESTAMPADO e=0.10m (INCLUYE SUMINISTRO Y COLOCACIÓN DE CONCRETO, JUEGO DE MOLDES, DESMOLDANTE EN POLVO, CURADOR PARA CONCRETO, INCLUYE CORTE Y SELLADO DE JUNTAS. | H40: M2 | I40: =+'[190]PRESUP TOTAL'!$H$34+'[191]PRESUP SAN BENITO'!$G$34+'[192]PRESUP TOTAL'!$G$34 -> 944
E41: Cartilla de Andenes A-55-56 | F41: 6102 | G41: CENEFA LINEAL EN LOSETA PREFABRICADA TÁCTIL ALERTA Y GUÍA A55 / A56 ANCHO 0.40m (SUMINISTRO E INSTALACIÓN. INCLUYE BASE EN ARENA DE NIVELACIÓN e= 4cm Y ARENA DE SELLO). | H41: ML | I41: =+'[190]PRESUP TOTAL'!$H$35+'[191]PRESUP SAN BENITO'!$G$35+'[192]PRESUP TOTAL'!$G$35 -> 161.4
E42: Cartilla de Andenes A-57-58 | F42: 8228 | G42: CENEFA LINEAL EN LOSETA PREFABRICADA TÁCTIL ALERTA A57 / A58 ANCHO 0.20M COLOR AMARILLO. (SUMINISTRO E INSTALACIÓN. INCLUYE BASE EN ARENA DE NIVELACIÓN E= 4CM Y ARENA DE SELLO). | H42: ML | I42: =+'[190]PRESUP TOTAL'!$H$36+'[191]PRESUP SAN BENITO'!$G$36+'[192]PRESUP TOTAL'!$G$36 -> 872
E43: Cartilla de Andenes A-26 | F43: 8229 | G43: FRANJA EN ADOQUIN DE CONCRETO DEMARCADOR VISUAL A26 20X10X6CM COLOR AMARILLO. (SUMINISTRO E INSTALACIÓN. INCLUYE BASE 3CM ARENA NIVELACIÓN Y ARENA DE SELLO). | H43: ML | I43: =+'[190]PRESUP TOTAL'!$H$37+'[191]PRESUP SAN BENITO'!$G$37+'[192]PRESUP TOTAL'!$G$37 -> 872
E44: Cartilla de Andenes A-51 | F44: 8776 | G44: CENEFA LINEAL EN LOSETA LISA BICAPA TIPO A51 (40 X 20 X 6) cm PARA FRANJA DE SEGURIDAD (Suministro, colocación y compactación con equipo manual. Incluye base en arena de nivelación e=4 cm y arena de sello) | H44: ML | I44: =+'[190]PRESUP TOTAL'!$H$38+'[191]PRESUP SAN BENITO'!$G$38+'[192]PRESUP TOTAL'!$G$38 -> 872
...

Sheet AIU OBRA (ENTIDAD)
B2: ALCALDIA LOCAL DE TUNJUELITO
B6: OBJETO DE LA LICITACIÓN:
B8: COSTO DIRECTO ESTIMADO DE OBRA (CD) | E8: =+'PRESUPUESTO OFICIAL (Entidad)'!K137 -> 2.9486465e+09 | I8: FECHA: | J8: MARZO DE 2023
B9: TERMINO ESTIMADO DE EJECUCIÓN DE OBRA | E9: =+D84 -> 5 | F9: MESES | I9: CONTRATO No.
A11: COD IDU | B11: ÍTEM | C11: A. ADMINISTRACIÓN
C12: 1. COSTOS MENSUALES DE PERSONAL
C13: CARGO | E13: CANTIDAD | F13: CATEGORÍA | G13: DEDICACIÓN MES | I13: TOPE IDU SALARIO (MES) | J13: FACTOR PRESTACIONAL | K13: N. MESES | L13: SALARIO + PRESTACIONES
E14: A | G14: B | I14: C | J14: D | K14: E | L14: F=A*B*C*D*E
B15: 1.1 | C15: PERSONAL PROFESIONAL (Ingenieros y Otros)
A16: 9112 | B16: 1.101 | C16: DIRECTOR DE OBRA | E16: 1 | F16: 6 | G16: 0.5 | I16: =+VLOOKUP(A16,'[191]INSUMOS IDU 2023 '!C5:H3653,4,0) -> 6339000 | J16: 1.4519257 | K16: =+$D$84 -> 5 | L16: =ROUND(E16*G16*I16*J16*K16,0) -> 23009393
A17: 9113 | B17: 1.102 | C17: INGENIERO RESIDENTE | E17: 1 | F17: 7 | G17: 1 | I17: =+VLOOKUP(A17,'[191]INSUMOS IDU 2023 '!C6:H3654,4,0) -> 4793000 | J17: 1.4532148 | K17: =+$D$84 -> 5 | L17: =ROUND(E17*G17*I17*J17*K17,0) -> 34826293
A18: 9112 | B18: 1.104 | C18: ESPECIALISTA EN REDES HIDROSANITARIAS | E18: 1 | F18: 6 | G18: 0.1 | I18: =+VLOOKUP(A18,'[191]INSUMOS IDU 2023 '!C7:H3655,4,0) -> 6339000 | J18: 1.4519257 | K18: =+$D$84 -> 5 | L18: =ROUND(E18*G18*I18*J18*K18,0) -> 4601879
A19: 9112 | B19: 1.105 | C19: ESPECIALISTA EN REDES (ELECTRICAS, GAS, TELEFONICSA, CABLE, FIBRA OPTICA, ETC). | E19: 1 | F19: 6 | G19: 0.1 | I19: =+VLOOKUP(A19,'[191]INSUMOS IDU 2023 '!C8:H3656,4,0) -> 6339000 | J19: 1.4519257 | K19: =+$D$84 -> 5 | L19: =ROUND(E19*G19*I19*J19*K19,0) -> 4601879
A20: 9112 | B20: 1.106 | C20: ESPECIALISTA EN ESTRUCTURAS | E20: 1 | F20: 6 | G20: 0.1 | I20: =+VLOOKUP(A20,'[191]INSUMOS IDU 2023 '!C9:H3657,4,0) -> 6339000 | J20: 1.4519257 | K20: =+$D$84 -> 5 | L20: =ROUND(E20*G20*I20*J20*K20,0) -> 4601879
A21: 9112 | B21: 1.109 | C21: ESPECIALISTA EN PAVIMENTOS | E21: 1 | F21: 6 | G21: 0.1 | I21: =+VLOOKUP(A21,'[191]INSUMOS IDU 2023 '!C10:H3658,4,0) -> 6339000 | J21: 1.4519257 | K21: =+$D$84 -> 5 | L21: =ROUND(E21*G21*I21*J21*K21,0) -> 4601879
A22: 9112 | B22: 1.109 | C22: ESPECIALISTA EN GEOTECNIA | E22: 1 | F22: 6 | G22: 0.1 | I22: =+VLOOKUP(A22,'[191]INSUMOS IDU 2023 '!C11:H3659,4,0) -> 6339000 | J22: 1.4519257 | K22: =+$D$84 -> 5 | L22: =ROUND(E22*G22*I22*J22*K22,0) -> 4601879
A23: 9112 | B23: 1.109 | C23: ESPECIALISTA EN TRANSITO Y TRANSPORTE | E23: 1 | F23: 6 | G23: 0.1 | I23: =+VLOOKUP(A23,'[191]INSUMOS IDU 2023 '!C12:H3660,4,0) -> 6339000 | J23: 1.4519257 | K23: =+$D$84 -> 5 | L23: =ROUND(E23*G23*I23*J23*K23,0) -> 4601879
A24: 9114 | B24: 1.11 | C24: RESIDENTE AMBIENTAL | E24: 1 | F24: 8 | G24: 0.5 | I24: =+VLOOKUP(A24,'[191]INSUMOS IDU 2023 '!C11:H3659,4,0) -> 4523000 | J24: 1.4535296 | K24: =+$D$84 -> 5 | L24: =ROUND(E24*G24*I24*J24*K24,0) -> 16435786
A25: 9114 | B25: 1.111 | C25: RESIDENTE SOCIAL | E25: 1 | F25: 8 | G25: 0.5 | I25: =+VLOOKUP(A25,'[191]INSUMOS IDU 2023 '!C12:H3660,4,0) -> 4523000 | J25: 1.4535296 | K25: =+$D$84 -> 5 | L25: =ROUND(E25*G25*I25*J25*K25,0) -> 16435786
A26: 9114 | B26: 1.112 | C26: FORESTAL | E26: 1 | F26: 8 | G26: 0.1 | I26: =+VLOOKUP(A26,'[191]INSUMOS IDU 2023 '!C13:H3661,4,0) -> 4523000 | J26: 1.4535296 | K26: =+$D$84 -> 5 | L26: =ROUND(E26*G26*I26*J26*K26,0) -> 3287157
B27: 1.2 | C27: PERSONAL TÉCNICO Y PERSONAL AUXILIAR
A28: 9093 | B28: 1.201 | C28: INSPECTOR SST | E28: 1 | F28: N/A | G28: 1 | I28: 2249000 | J28: 1.4591839 | K28: =+$D$84 -> 5 | L28: =ROUND(E28*G28*I28*J28*K28,0) -> 16408523
B29: 1.202 | C29: INSPECTOR DE OBRA | E29: 2 | F29: N/A | G29: 1 | I29: 2249001 | J29: 1.4591839 | K29: 5 | L29: =ROUND(E29*G29*I29*J29*K29,0) -> 32817061
A30: 9088 | B30: 1.203 | C30: TARIFA MES - PERSONAL TÉCNICO - TOPÓGRAFO INSPECTOR (NO INCLUYE FACTOR DE PRESTACIONES) | E30: 1 | F30: N/A | G30: 0.5 | I30: 3092000 | J30: 1.4561224 | K30: =+$D$84 -> 5 | L30: =ROUND(E30*G30*I30*J30*K30,0) -> 11255826
A31: 9094 | B31: 1.204 | C31: TARIFA MES - PERSONAL TÉCNICO - INSPECTOR 2 (NO INCLUYE FACTOR DE PRESTACIONES) | E31: 1 | F31: N/A | G31: 1 | I31: 2025000 | J31: 1.4604292 | K31: =+$D$84 -> 5 | L31: =ROUND(E31*G31*I31*J31*K31,0) -> 14786845
A32: 9099 | B32: 1.205 | C32: TARIFA MES - PERSONAL AUXILIAR TÉCNICO - CADENERO 2 (NO INCLUYE FACTOR DE PRESTACIONES) | E32: 1 | F32: N/A | G32: 0.5 | I32: 1670000 | J32: 1.5692079 | K32: =+$D$84 -> 5 | L32: =ROUND(E32*G32*I32*J32*K32,0) -> 6551443
B33: 1.3 | C33: PERSONAL ADMINISTRATIVO
A34: 9100 | B34: 1.301 | C34: TARIFA MES - PERSONAL AUXILIAR TÉCNICO - CONDUCTOR O MOTORISTA (NO INCLUYE FACTOR DE PRESTACIONES) | E34: 1 | F34: N/A | G34: 1 | I34: 1389000 | J34: 1.5935081 | K34: =+$D$84 -> 5 | L34: =ROUND(E34*G34*I34*J34*K34,0) -> 11066913
A35: 9105 | B35: 1.302 | C35: =+VLOOKUP(A35,'[190]INSUMOS IDU 2023 '!C29:F3677,2,0) -> TARIFA MES - PERSONAL ADMINISTRATIVO - SECRETARIA 2 (NO INCLUYE FACTOR DE PRESTACIONES) | E35: 1 | F35: N/A | G35: 1 | I35: =+VLOOKUP(A35,'[190]INSUMOS IDU 2023 '!C29:F3677,4,0) -> 1389000 | J35: =VLOOKUP(A35,[193]FP!B:H,6,0) -> 1.5935081 | K35: 5 | L35: =ROUND(E35*G35*I35*J35*K35,0) -> 11066913
C36: SUBTOTAL COSTOS MENSUALES DE PERSONAL | L36: =SUM(L16:L35) -> 225559213
A38: COD IDU | B38: ÍTEM | C38: 2. GASTOS OPERACIONALES MENSUALES | E38: CANT. | F38: AREA (M2) | G38: DEDICACIÓN | I38: DEDICACIÓN X ÁREA (M2) | J38: COSTO ($/M2.MES) | K38: N. MESES | L38: VALOR ($)
A39: 9577 | B39: 2.001 | C39: ALQUILER MES - CAMPAMENTOS INCL. SERVICIOS PÚBLICOS PROVISIONALES | E39: 1 | F39: 50 | G39: 1 | I39: =+F39*G39 -> 50 | J39: 30851 | K39: =+$D$84 -> 5 | L39: =ROUND(I39*J39*K39,0) -> 7712750
A40: 9578 | B40: =+B39+0.001 -> 2.002 | C40: GASTOS OFICINA (PAPELERIA, FOTOCOPIAS Y OTROS) | E40: 1 | F40: N/A | G40: 1 | I40: N/A | J40: 1043625 | K40: =+$D$84 -> 5 | L40: =ROUND(E40*G40*J40*K40,0) -> 5218125
A41: 9115 | B41: =+B40+0.001 -> 2.003 | C41: EQUIPO DE TOPOGRAFÍA. INCLUYE TRÁNSITO, NIVEL Y ELEMENTOS COMPLEMENTARIOS - MES | E41: 0.5 | F41: N/A | G41: 1 | I41: N/A | J41: 4103000 | K41: =+$D$84 -> 5 | L41: =ROUND(E41*G41*J41*K41,0) -> 10257500
A42: 9165 | B42: =+B41+0.001 -> 2.004 | C42: ALQUILER DE VEHICULO: CAMPERO, PICK-UP, CAMIONETA, CAMION O SIMILAR DE 1300cc A 2000cc DE CILINDRADA, MODELO 2022 A 2019. 100% DE LA TARIFA ESTABLECIDA. INCLUYE TODOS LOS COSTOS DE OPERACIÓN Y MANTENIMIENTO EXCEPTO EL SALARIO DEL CONDUCTOR | E42: 1 | F42: N/A | G42: 1 | I42: 500 | J42: 7265000 | K42: =+$D$84 -> 5 | L42: =ROUND(E42*G42*J42*K42,0) -> 36325000
C44: SUBTOTAL GASTOS OPERACIONALES | L44: =SUM(L39:L42) -> 59513375
C46: TOTAL COSTOS PERSONAL + GASTOS OPERACIONALES POR EL TÉRMINO DE EJECUCIÓN | L46: =(L36+L44) -> 285072588
C47: TOTAL COSTOS PERSONAL + GASTOS OPERACIONALES POR EL TÉRMINO DE EJECUCIÓN EN PORCENTAJE DEL COSTO DIRECTO | L47: =L46/E8 -> 0.096679132
B49: 3. IMPUESTOS Y GARANTÍAS
B50: 3.1 | C50: IMPUESTOS
...

Sheet AIU OBRA (PROPONENTE)
B2: ALCALDIA LOCAL DE TUNJUELITO
B6: OBJETO DE LA LICITACIÓN:
B8: COSTO DIRECTO ESTIMADO DE OBRA (CD) | E8: =+'PRESUPUESTO OFICIAL (Entidad)'!K137 -> 2.9486465e+09 | I8: FECHA: | J8: MARZO DE 2023
B9: TERMINO ESTIMADO DE EJECUCIÓN DE OBRA | E9: =+D84 -> 5 | F9: MESES | I9: CONTRATO No.
A11: COD IDU | B11: ÍTEM | C11: A. ADMINISTRACIÓN
C12: 1. COSTOS MENSUALES DE PERSONAL
C13: CARGO | E13: CANTIDAD | F13: CATEGORÍA | G13: DEDICACIÓN MES | I13: TOPE IDU SALARIO (MES) | J13: FACTOR PRESTACIONAL | K13: N. MESES | L13: SALARIO + PRESTACIONES
E14: A | G14: B | I14: C | J14: D | K14: E | L14: F=A*B*C*D*E
B15: 1.1 | C15: PERSONAL PROFESIONAL (Ingenieros y Otros)
A16: 9112 | B16: 1.101 | C16: DIRECTOR DE OBRA | E16: 0 | F16: 6 | G16: 0.5 | I16: =+VLOOKUP(A16,'[191]INSUMOS IDU 2023 '!C5:H3653,4,0) -> 6339000 | J16: 1.4519257 | K16: =+$D$84 -> 5 | L16: =ROUND(E16*G16*I16*J16*K16,0) -> 0
A17: 9113 | B17: 1.102 | C17: INGENIERO RESIDENTE | E17: 0 | F17: 7 | G17: 1 | I17: =+VLOOKUP(A17,'[191]INSUMOS IDU 2023 '!C6:H3654,4,0) -> 4793000 | J17: 1.4532148 | K17: =+$D$84 -> 5 | L17: =ROUND(E17*G17*I17*J17*K17,0) -> 0
A18: 9112 | B18: 1.104 | C18: ESPECIALISTA EN REDES HIDROSANITARIAS | E18: 0 | F18: 6 | G18: 0.1 | I18: =+VLOOKUP(A18,'[191]INSUMOS IDU 2023 '!C7:H3655,4,0) -> 6339000 | J18: 1.4519257 | K18: =+$D$84 -> 5 | L18: =ROUND(E18*G18*I18*J18*K18,0) -> 0
A19: 9112 | B19: 1.105 | C19: ESPECIALISTA EN REDES (ELECTRICAS, GAS, TELEFONICSA, CABLE, FIBRA OPTICA, ETC). | E19: 0 | F19: 6 | G19: 0.1 | I19: =+VLOOKUP(A19,'[191]INSUMOS IDU 2023 '!C8:H3656,4,0) -> 6339000 | J19: 1.4519257 | K19: =+$D$84 -> 5 | L19: =ROUND(E19*G19*I19*J19*K19,0) -> 0
A20: 9112 | B20: 1.106 | C20: ESPECIALISTA EN ESTRUCTURAS | E20: 0 | F20: 6 | G20: 0.1 | I20: =+VLOOKUP(A20,'[191]INSUMOS IDU 2023 '!C9:H3657,4,0) -> 6339000 | J20: 1.4519257 | K20: =+$D$84 -> 5 | L20: =ROUND(E20*G20*I20*J20*K20,0) -> 0
A21: 9112 | B21: 1.109 | C21: ESPECIALISTA EN PAVIMENTOS | E21: 0 | F21: 6 | G21: 0.1 | I21: =+VLOOKUP(A21,'[191]INSUMOS IDU 2023 '!C10:H3658,4,0) -> 6339000 | J21: 1.4519257 | K21: =+$D$84 -> 5 | L21: =ROUND(E21*G21*I21*J21*K21,0) -> 0
A22: 9112 | B22: 1.109 | C22: ESPECIALISTA EN GEOTECNIA | E22: 0 | F22: 6 | G22: 0.1 | I22: =+VLOOKUP(A22,'[191]INSUMOS IDU 2023 '!C11:H3659,4,0) -> 6339000 | J22: 1.4519257 | K22: =+$D$84 -> 5 | L22: =ROUND(E22*G22*I22*J22*K22,0) -> 0
A23: 9112 | B23: 1.109 | C23: ESPECIALISTA EN TRANSITO Y TRANSPORTE | E23: 0 | F23: 6 | G23: 0.1 | I23: =+VLOOKUP(A23,'[191]INSUMOS IDU 2023 '!C12:H3660,4,0) -> 6339000 | J23: 1.4519257 | K23: =+$D$84 -> 5 | L23: =ROUND(E23*G23*I23*J23*K23,0) -> 0
A24: 9114 | B24: 1.11 | C24: RESIDENTE AMBIENTAL | E24: 0 | F24: 8 | G24: 0.5 | I24: =+VLOOKUP(A24,'[191]INSUMOS IDU 2023 '!C11:H3659,4,0) -> 4523000 | J24: 1.4535296 | K24: =+$D$84 -> 5 | L24: =ROUND(E24*G24*I24*J24*K24,0) -> 0
A25: 9114 | B25: 1.111 | C25: RESIDENTE SOCIAL | E25: 0 | F25: 8 | G25: 0.5 | I25: =+VLOOKUP(A25,'[191]INSUMOS IDU 2023 '!C12:H3660,4,0) -> 4523000 | J25: 1.4535296 | K25: =+$D$84 -> 5 | L25: =ROUND(E25*G25*I25*J25*K25,0) -> 0
A26: 9114 | B26: 1.112 | C26: FORESTAL | E26: 0 | F26: 8 | G26: 0.1 | I26: =+VLOOKUP(A26,'[191]INSUMOS IDU 2023 '!C13:H3661,4,0) -> 4523000 | J26: 1.4535296 | K26: =+$D$84 -> 5 | L26: =ROUND(E26*G26*I26*J26*K26,0) -> 0
B27: 1.2 | C27: PERSONAL TÉCNICO Y PERSONAL AUXILIAR
A28: 9093 | B28: 1.201 | C28: INSPECTOR SST | E28: 0 | F28: N/A | G28: 1 | I28: 2249000 | J28: 1.4591839 | K28: =+$D$84 -> 5 | L28: =ROUND(E28*G28*I28*J28*K28,0) -> 0
B29: 1.202 | C29: INSPECTOR DE OBRA | E29: 0 | F29: N/A | G29: 1 | I29: 2249001 | J29: 1.4591839 | K29: 5 | L29: =ROUND(E29*G29*I29*J29*K29,0) -> 0
A30: 9088 | B30: 1.203 | C30: TARIFA MES - PERSONAL TÉCNICO - TOPÓGRAFO INSPECTOR (NO INCLUYE FACTOR DE PRESTACIONES) | E30: 0 | F30: N/A | G30: 0.5 | I30: 3092000 | J30: 1.4561224 | K30: =+$D$84 -> 5 | L30: =ROUND(E30*G30*I30*J30*K30,0) -> 0
A31: 9094 | B31: 1.204 | C31: TARIFA MES - PERSONAL TÉCNICO - INSPECTOR 2 (NO INCLUYE FACTOR DE PRESTACIONES) | E31: 0 | F31: N/A | G31: 1 | I31: 2025000 | J31: 1.4604292 | K31: =+$D$84 -> 5 | L31: =ROUND(E31*G31*I31*J31*K31,0) -> 0
A32: 9099 | B32: 1.205 | C32: TARIFA MES - PERSONAL AUXILIAR TÉCNICO - CADENERO 2 (NO INCLUYE FACTOR DE PRESTACIONES) | E32: 0 | F32: N/A | G32: 0.5 | I32: 1670000 | J32: 1.5692079 | K32: =+$D$84 -> 5 | L32: =ROUND(E32*G32*I32*J32*K32,0) -> 0
B33: 1.3 | C33: PERSONAL ADMINISTRATIVO
A34: 9100 | B34: 1.301 | C34: TARIFA MES - PERSONAL AUXILIAR TÉCNICO - CONDUCTOR O MOTORISTA (NO INCLUYE FACTOR DE PRESTACIONES) | E34: 0 | F34: N/A | G34: 1 | I34: 1389000 | J34: 1.5935081 | K34: =+$D$84 -> 5 | L34: =ROUND(E34*G34*I34*J34*K34,0) -> 0
A35: 9105 | B35: 1.302 | C35: =+VLOOKUP(A35,'[190]INSUMOS IDU 2023 '!C29:F3677,2,0) -> TARIFA MES - PERSONAL ADMINISTRATIVO - SECRETARIA 2 (NO INCLUYE FACTOR DE PRESTACIONES) | E35: 0 | F35: N/A | G35: 1 | I35: =+VLOOKUP(A35,'[190]INSUMOS IDU 2023 '!C29:F3677,4,0) -> 1389000 | J35: =VLOOKUP(A35,[193]FP!B:H,6,0) -> 1.5935081 | K35: 5 | L35: =ROUND(E35*G35*I35*J35*K35,0) -> 0
C36: SUBTOTAL COSTOS MENSUALES DE PERSONAL | L36: =SUM(L16:L35) -> 0
A38: COD IDU | B38: ÍTEM | C38: 2. GASTOS OPERACIONALES MENSUALES | E38: CANT. | F38: AREA (M2) | G38: DEDICACIÓN | I38: DEDICACIÓN X ÁREA (M2) | J38: COSTO ($/M2.MES) | K38: N. MESES | L38: VALOR ($)
A39: 9577 | B39: 2.001 | C39: ALQUILER MES - CAMPAMENTOS INCL. SERVICIOS PÚBLICOS PROVISIONALES | E39: 0 | F39: 50 | G39: 1 | I39: 0 | J39: 30851 | K39: =+$D$84 -> 5 | L39: =ROUND(I39*J39*K39,0) -> 0
A40: 9578 | B40: =+B39+0.001 -> 2.002 | C40: GASTOS OFICINA (PAPELERIA, FOTOCOPIAS Y OTROS) | E40: 0 | F40: N/A | G40: 1 | I40: N/A | J40: 1043625 | K40: =+$D$84 -> 5 | L40: =ROUND(E40*G40*J40*K40,0) -> 0
A41: 9115 | B41: =+B40+0.001 -> 2.003 | C41: EQUIPO DE TOPOGRAFÍA. INCLUYE TRÁNSITO, NIVEL Y ELEMENTOS COMPLEMENTARIOS - MES | E41: 0 | F41: N/A | G41: 1 | I41: N/A | J41: 4103000 | K41: =+$D$84 -> 5 | L41: =ROUND(E41*G41*J41*K41,0) -> 0
A42: 9165 | B42: =+B41+0.001 -> 2.004 | C42: ALQUILER DE VEHICULO: CAMPERO, PICK-UP, CAMIONETA, CAMION O SIMILAR DE 1300cc A 2000cc DE CILINDRADA, MODELO 2022 A 2019. 100% DE LA TARIFA ESTABLECIDA. INCLUYE TODOS LOS COSTOS DE OPERACIÓN Y MANTENIMIENTO EXCEPTO EL SALARIO DEL CONDUCTOR | E42: 0 | F42: N/A | G42: 1 | I42: 500 | J42: 7265000 | K42: =+$D$84 -> 5 | L42: =ROUND(E42*G42*J42*K42,0) -> 0
C43: 0
C44: SUBTOTAL GASTOS OPERACIONALES | L44: =SUM(L39:L42) -> 0
C46: TOTAL COSTOS PERSONAL + GASTOS OPERACIONALES POR EL TÉRMINO DE EJECUCIÓN | L46: =(L36+L44) -> 0
C47: TOTAL COSTOS PERSONAL + GASTOS OPERACIONALES POR EL TÉRMINO DE EJECUCIÓN EN PORCENTAJE DEL COSTO DIRECTO | L47: =L46/E8 -> 0
B49: 3. IMPUESTOS Y GARANTÍAS
...

Sheet INDICAR CÓDIGO DEL ITEM DE PAGO
C3: Formulario 1 - Propuesta económica - Documento tipo de licitación de obra pública de infraestructura de transporte - versión 3
C4: Código | D4: CCE-EICP-FM-14 | E4: Versión | F4: 3
C6: [La entidad podrá utilizar este formato para la presentación de los análisis de precios unitarios del contratista en la oportunidad prevista en el numeral 8.1. del Documento Base]
D9: [NOMBRE DE LA ENTIDAD]
L10: VERSIÓN
D11: [NÚMERO DEL PROCESO]
L12: PÁGINA | M12: 1 | N12: DE | O12: 1
D14: ANALISIS DE PRECIOS UNITARIOS
L16: FECHA | M16: DD | N16: MM | O16: AA
C18: ÍTEMS DE LA PROPUESTA ECONÓMICA | I18: ÍTEMS NO PREVISTOS
C22: DATOS ESPECÍFICOS
C24: ÍTEM | D24: DESCRIPCIÓN | M24: UNIDAD | O24: CANTIDAD
C26: I. EQUIPO
C29: DESCRIPCIÓN | H29: MARCA | J29: TIPO | L29: TARIFA/HORA | M29: RENDIMIENTO | O29: Vr. UNITARIO
C33: SUBTOTAL $
C34: II. MATERIALES
C37: DESCRIPCIÓN | K37: UNIDAD | L37: CANTIDAD | M37: PRECIO UNIT. | O37: Vr. UNITARIO
C40: SUBTOTAL $ | O40: 0
C41: III. TRANSPORTES
C44: MATERIAL | J44: VOL. o PESO | K44: DISTANCIA | L44: M3 o Ton/Km | M44: TARIFA | O44: Vr. UNITARIO
C47: SUBTOTAL $
C48: IV. MANO DE OBRA
C51: TRABAJADOR | J51: JORNAL | K51: PRESTACIONES | L51: JORNAL TOTAL | M51: RENDIMIENTO | O51: Vr. UNITARIO
C56: SUBTOTAL $
C58: TOTAL COSTO DIRECTO $
C59: V. COSTOS INDIRECTOS
C62: Descripción | L62: Porcentaje | M62: Valor Total
C63: ADMINISTRACION
C64: IMPREVISTOS
C65: UTILIDAD
C66: SUBTOTAL $
C68: Precio Unitario Total Aproximado al peso $
H72: Firma
H73: Nombre:
H74: Representante Legal del Contratista o su Apoderado
H75: Matricula No. :
C77: OBSERVACIONES INTERVENTORÍA
C81: APROBACIÓN POR INTERVENTORÍA
C82: Nota 1: Cuando se trate de Análisis de precios unitarios correspondientes a ítems de la propuesta económica aprobada, el Interventor aprueba el desglose de los componentes manteniendo el mismo precio unitario de cada ítem, cumpliendo con las especificaciones de construcción vigentes para el proyecto.
C84: Nota 2: Cuando se trate de Análisis de precios unitarios de ítems no previstos, el Interventor aprueba el desglose y precio unitario de cada ítem no previsto, exigiendo la aplicación de los costos correspondientes a insumos y tarifas de la propuesta económica inicial cuando estén contemplados, cumpliendo con las especificaciones de construcción vigente para el proyecto.
...

Sheet PMA SST  SOCIAL
A6: COMPONENTE A - GESTIÓN AMBIENTAL
A7: ITEM | E7: ESPECIFICACIÓN | F7: UN | G7: CANTIDAD | H7: CATEGORÍA | I7: DEDICACIÓN | J7: TOTAL | K7: PRECIO | L7: PRECIO TOTAL
A8: RESIDENTE AMBIENTAL | E8: Ingeniero sanitario y/o ambiental, ingeniero civil, ingeniero geólogo, ingeniero de minas, ingeniero de vías, ingeniero forestal o arquitecto. Con especialización, maestría o doctorado en el área ambiental, con cuatro (4) años de experiencia general y tres (3) años de experiencia específica en interventoría ambiental de construcción de obras de infraestructura vial. | F8: UN/MES | G8: 5 | H8: 5 | I8: 0.3 | J8: =+G8*1*0.3 -> 1.5 | K8: 5970000 | L8: =+K8*J8 -> 8955000
A9: RESIDENTE SOCIAL | E9: Profesional en ciencias sociales, Trabajador social, comunicador social, antropolgo o psicologo C con cuatro (4) años de experiencia general y tres (3) años de experiencia específica en interventoría ambiental de construcción de obras de infraestructura vial. | F9: UN/MES | G9: 5 | H9: 5 | I9: 0.3 | J9: =+G9*1*0.3 -> 1.5 | K9: 5970001 | L9: =+G9*I9*K9 -> 8955001.5
A10: INSPECTOR SST | E10: Técnico o Tecnologo Ambiental o en Seguriudad Industrial, con cuatro (4) años de experiencia general y tres (3) años de experiencia específica en manejo de sistemas de gestión de la seguridad y salud en el trabajo (antes programas de salud ocupacional) en la interventoría de construcción de infraestructura vial urbana | F10: UN/MES | G10: 5 | H10: 4 | I10: 1 | J10: =+G10*I10*1 -> 5 | K10: 3500100 | L10: =+G10*I10*K10 -> 17500500
A11: RESIDENTE FORESTAL | E11: Ingeniero forestal. Categoría cinco (5), es decir con cuatro (4) años de experiencia general y tres (3) años de experiencia específica en interventoría forestal de cobertura vegetal en áreas urbanas. | F11: UN/MES | G11: 5 | H11: 5 | I11: 0.3 | J11: =+G11*1*0.3 -> 1.5 | K11: 5970000 | L11: =+G11*I11*K11 -> 8955000
A12: BRIGADA DE ORDEN, ASEO Y LIMPIEZA. PERSONAL DE OBRA - AYUDANTE | E12: Personal de brigada y aseo (Incluye herramienta menor). Suministro. Dedicación del 100%. * La brigada de orden y aseo esta conformada por 4 operarios, y se define una brigada por cada 5000 m2 (en estaciones. En Pilonas, 1 Brigada de aseo por cada cuatro (4) pilonas o fracción). | F12: MES | G12: 5 | H12: NA | I12: 1 | J12: =+G12*I12*4 -> 20 | K12: 1516719 | L12: =+K12*J12 -> 30334380
A13: CAMIONETA CON PLATON 4X4 | E13: ALQUILER MES - CAMPERO PICK-UP, CAMIONETA DE 1300-2000cc - TARIFA PLENA | F13: MES | G13: 5 | H13: NA | I13: NA | J13: =+G13 -> 5 | K13: 6101000 | L13: =+K13*5 -> 30505000
L14: =SUM(L8:L13) -> 1.0520488e+08 | M14: INCLUIDO EN EL AIU
A20: COMPONENTE B-ACTIVIDADES CONSTRUCTIVAS
A21: ITEM | E21: ESPECIFICACIÓN | F21: UN | G21: CANTIDAD | H21: TOTAL | I21: PRECIO | J21: PRECIO TOTAL
A22: POLISOMRA VERDE | E22: TELA VERDE PARA CERRAMIENTO 2.10 METRO DE ANCHO DE 60GR | F22: m | G22: 40 | H22: =+G22 -> 40 | I22: 2214 | J22: =+H22*I22 -> 88560
A23: CINTA DE DEMARCACION | E23: CINTA PARA SEÑALIZACION DE 500MT X 4" PELIGRO CALIBRE 3.5 | F23: Und | G23: 10 | H23: =+G23 -> 10 | I23: 20598 | J23: =+I23*H23 -> 205980
A24: ALQUILER BAÑO PORTATIL | E24: BAÑO TIPO FLUSHING - ALQUILER MANTENIMIENTO Y ASEO DE BAÑOS PORTÁTILES VIP MENSUAL_(Según Apéndice Bioseguridad Covid 19_V1 y V2) | F24: Und/Mes | G24: 4 | H24: =+G24 -> 4 | I24: 391120 | J24: =+H24*I24 -> 1564480
A25: PALA | E25: PALA REDONDA No. 2 CON CABO | F25: Und | G25: 5 | H25: =+G25 -> 5 | I25: 31189 | J25: =+H25*I25 -> 155945
A26: PALA | E26: PALA CUADRADA CON CABO | F26: Und | G26: 5 | H26: =+G26 -> 5 | I26: 65000 | J26: =+H26*I26 -> 325000
A27: BARRA | E27: BARRA DE 18LB CON PUNTA Y PALA 150CM X 10CM | F27: Und | G27: 5 | H27: =+G27 -> 5 | I27: 87296 | J27: =+H27*I27 -> 436480
A28: MARTILLO | E28: MARTILLO DE BOLA DE 2LB | F28: Und | G28: 7 | H28: =+G28 -> 7 | I28: 37900 | J28: =+H28*I28 -> 265300
A29: SERRUCHO | E29: SERRUCHO DE 20" DIENTE ENDURECIDO | F29: Und | G29: 7 | H29: =+G29 -> 7 | I29: 16964 | J29: =+H29*I29 -> 118748
A30: CEPILLO INDUSTRIAL | E30: CEPILLO INDUSTRIAL DE NYLON CON CABO DE 35CM A 42CM X 9CM X 17CM | F30: Und | G30: 5 | H30: =+G30 -> 5 | I30: 12910 | J30: =+H30*I30 -> 64550
A31: CARRETILLA | E31: CARRETILLA RUEDA NEUMATICA PLATON METALICO CAPACIDAD CINCO PIES CUBICOS MANGO MADERA TIPO BUGGY | F31: Und | G31: 5 | H31: =+G31 -> 5 | I31: 123283 | J31: =+H31*I31 -> 616415
A32: CARPA VESTIER | E32: CARPA VESTIER 2.0m x 2.0m TECHO Y ESTRUCTURA CON LATERALES EN LONA | F32: Und | G32: 2 | H32: 2 | I32: 963900 | J32: =+H32*I32 -> 1927800
J33: =SUM(J22:J32) -> 5769258
A35: ITEM | E35: ESPECIFICACIÓN | F35: UN | G35: CANTIDAD | H35: TOTAL | I35: PRECIO | J35: PRECIO TOTAL
A36: MONITOREO DE RUIDO AMBIENTAL | E36: Muestra punto de acuerdo con lo establecido en ele Título III del Anexo 2 de la Res. 627/06 (MAVDT). | F36: MUEST | G36: 2 | H36: =+G36 -> 2 | I36: 450000 | J36: =+H36*I36 -> 900000
A37: INFORME DE RUIDO AMBIENTAL | E37: Informe Tácnico de la campaña de medición | F37: Un | G37: 1 | H37: 1 | I37: 1400000 | J37: =+H37*I37 -> 1400000
A38: COSTOS OPERATIVOS MONITOREO DE RUIDO AMBIENTAL | E38: Incluye transporte personal técnico x 4 días, honorarios personal técnico x 8 días, | F38: Un | G38: 1 | H38: 1 | I38: 2400000 | J38: =+H38*I38 -> 2400000
A39: SEÑALIZADOR TUBULAR REFLECTIVO (COLOMBINA) | E39: SEÑALIZACION TUBULAR COLOMBINA PLASTICA | F39: Un | G39: 2 | H39: =+G39 -> 2 | I39: 27370 | J39: =+H39*I39 -> 54740
A40: CINTA DE DEMARCACION | E40: CINTA PARA SEÑALIZACION DE 500MT X 4" PELIGRO CALIBRE 3.5 | F40: UN | G40: 3 | H40: =+G40 -> 3 | I40: 19798 | J40: =+H40*I40 -> 59394
A41: PLAFONADO DE POZOS | E41: PLAFONADO DE POZOS (INCLUYE SUMINISTRO Y COLOCACIÓN DE PUNTILLA, TABLA BURRA DE 2.90 X0.28X0.025M, CINTA DE SEÑALIZACION CAL 4 ROLLO 500MX0.10M Y SEÑALIZACIÓN TUBULAR COLOMBINA PLÁSTICA). | F41: Un | G41: 10 | H41: =+G41 -> 10 | I41: 135469 | J41: =+H41*I41 -> 1354690
A42: TABLA BURRA (Para fabricación de contenedores de materiales granulares y RCD) | E42: TABLA BURRA EN ORDINARIO 2.90 X 0.28 X 0.025 | F42: UN | G42: 20 | H42: =+G42 -> 20 | I42: 20954 | J42: =+H42*I42 -> 419080
A43: REPISA (Para fabricación de contenedores de materiales granulares y RCD) | E43: REPISA EN ORDINARIO 5.90 X 0.08 X 0.04 | F43: UN | G43: 20 | H43: 20 | I43: 44625 | J43: =+H43*I43 -> 892500
A44: LIMATON X 6m (Para fabricación de burros para almacenar tubería) | E44: LIMATON 6.00 M | F44: UN | G44: 24 | H44: =+G44 -> 24 | I44: 21083 | J44: =+H44*I44 -> 505992
J45: =SUM(J36:J44) -> 7986396
A49: ITEM | E49: ESPECIFICACIÓN | F49: UN | G49: CANTIDAD | H49: TOTAL | I49: PRECIO | J49: PRECIO TOTAL
A50: PUNTO ECOLÓGICO DE 35 LTS 4 PUESTOS (Suministro e Instalación) | E50: PUNTO ECOLÓGICO COMPUESTO POR 3 CANECAS TIPO BARCELONA M-121 (Canecas, blanca, negra y verde). *Un (1) Punto Ecológico cada 5000m2) | F50: Und | G50: 1 | H50: =+G50 -> 1 | I50: 1762688 | J50: =+H50*I50 -> 1762688
A51: BOLSAS PLÁSTICAS PARA RESIDUOS SÓLIDOS | E51: BOLSA PARA BASURA TIPO INDUSTRIAL NEGRA DE 60 x 90 Cm CALIBRE 2 (PAQUETE DE 30 UNIDADES)_(Según Apéndice Bioseguridad Covid 19_V2) | F51: Und | G51: 50 | H51: =+G51 -> 50 | I51: 11881 | J51: =+H51*I51 -> 594050
J52: =SUM(J50:J51) -> 2356738
A56: ITEM | E56: ESPECIFICACIÓN | F56: UN | G56: CANTIDAD | H56: TOTAL | I56: PRECIO | J56: PRECIO TOTAL
A57: EJECUCION DE HUMECTACIÓN DESDE CARROTANQUE | E57: CARROTANQUE IRRIGADOR DE AGUA - VIAJE | F57: Viaje | G57: 6 | H57: =+G57 -> 6 | I57: 195000 | J57: =+H57*I57 -> 1170000
...

Sheet PMT
A2: VALOR PLAN MANEJO DE TRÁNSITO
A6: ITEM IDU | B6: SEÑALIZACION TEMPORAL | D6: VALOR UNITARIO IDU | E6: MESES | J6: CANTIDAD | K6: SUBTOTAL
E7: 1 | F7: 2 | G7: 3 | H7: 4 | I7: 5 | K7: =+D7*J7 -> 0
A8: 9424 | B8: AUXILIAR - BANDERERO- INCLUYE FACTOR PRESTACINES SOCIALES | C8: =VLOOKUP(A8,'[191]INSUMOS IDU 2023 '!C4:H3652,3,0) -> MES | D8: =VLOOKUP(A8,'[191]INSUMOS IDU 2023 '!C4:H3652,4,0) -> 1911652 | E8: 2 | F8: 2 | G8: 2 | H8: 2 | I8: 2 | J8: 4 | K8: =+D8*J8 -> 7646608
A9: 9169 | B9: =VLOOKUP(A9,'[191]INSUMOS IDU 2023 '!C5:H3653,2,0) -> PALETA PARE-SIGA REGLAMENTADA | C9: =VLOOKUP(A9,'[191]INSUMOS IDU 2023 '!C5:H3653,3,0) -> UN | D9: =VLOOKUP(A9,'[191]INSUMOS IDU 2023 '!C5:H3653,4,0) -> 29750 | E9: 2 | F9: 2 | G9: 2 | H9: 2 | I9: 2 | J9: 15 | K9: =+D9*J9 -> 446250
A10: 9860 | B10: =VLOOKUP(A10,'[191]INSUMOS IDU 2023 '!C6:H3654,2,0) -> SEÑAL TEMPORAL MÓVIL ECONÓMICA CON TRÍPODE TIPO SIO, SP, SI, SR DE (100 x 50 - 75 x 75 - 80 x 50) LÁMINA GALVANIZADA CAL. 20 Y ÁNGULOS DE 1" x 1/2" x 1/8". | C10: =VLOOKUP(A10,'[191]INSUMOS IDU 2023 '!C6:H3654,3,0) -> UN | D10: =VLOOKUP(A10,'[191]INSUMOS IDU 2023 '!C6:H3654,4,0) -> 333200 | E10: 12 | F10: =+E10 -> 12 | G10: =+F10 -> 12 | H10: =+G10 -> 12 | I10: =+H10 -> 12 | J10: 15 | K10: =+D10*J10 -> 4998000
A11: 9861 | B11: =VLOOKUP(A11,'[191]INSUMOS IDU 2023 '!C7:H3655,2,0) -> BARRICADA METÁLICA CON SEÑAL DE DESVÍO O VÍA CERRADA DE 2.40 m CINTA GRADO INGENIERÍA SHEETING | C11: =VLOOKUP(A11,'[191]INSUMOS IDU 2023 '!C7:H3655,3,0) -> UN | D11: =VLOOKUP(A11,'[191]INSUMOS IDU 2023 '!C7:H3655,4,0) -> 322103 | E11: 4 | F11: =+E11 -> 4 | G11: =+F11 -> 4 | H11: =+G11 -> 4 | I11: =+H11 -> 4 | J11: 6 | K11: =+D11*J11 -> 1932618
A12: 7554 | B12: =VLOOKUP(A12,'[191]INSUMOS IDU 2023 '!C8:H3656,2,0) -> SEÑALIZACION TUBULAR COLOMBINA PLASTICA | C12: =VLOOKUP(A12,'[191]INSUMOS IDU 2023 '!C8:H3656,3,0) -> UN | D12: =VLOOKUP(A12,'[191]INSUMOS IDU 2023 '!C8:H3656,4,0) -> 43962 | E12: 50 | F12: =+E12 -> 50 | G12: =+F12 -> 50 | H12: =+G12 -> 50 | I12: =+H12 -> 50 | J12: 50 | K12: =+D12*J12 -> 2198100
A13: 7306 | B13: =VLOOKUP(A13,'[191]INSUMOS IDU 2023 '!C9:H3657,2,0) -> CINTA DE DEMARCACION Cal. 3 (ROLLO 500mx0.10m) | C13: =VLOOKUP(A13,'[191]INSUMOS IDU 2023 '!C9:H3657,3,0) -> UN | D13: =VLOOKUP(A13,'[191]INSUMOS IDU 2023 '!C9:H3657,4,0) -> 28649 | E13: 3 | F13: =+E13 -> 3 | G13: =+F13 -> 3 | H13: =+G13 -> 3 | I13: =+H13 -> 3 | J13: 40 | K13: =+D13*J13 -> 1145960
B14: COSTO DIRECTO PLAN MANEJO DE TRÁNSITO | K14: =SUM(K8:K13) -> 18367536
J16: COSTO DIRTECTO DEL PPTO | K16: {=+'AIU OBRA (ENTIDAD)'!E8:G8} -> 2.9486465e+09 | L16: 0 | M16: 0
B18: COSTO DIRECTO PLAN MANEJO DE TRÁNSITO | K18: =K14/K16 -> 0.0062291413

Sheet AIU AMB SOCI
B2: ALCALDIA LOCAL DE TUNJUELITO
B6: OBJETO DE LA LICITACIÓN:
B8: COSTO DIRECTO ESTIMADO DE OBRA (CD) | E8: =+'PMA SST SOCIAL'!J150 -> 62569279 | I8: FECHA: | J8: MARZO DE 2023
B9: TERMINO ESTIMADO DE EJECUCIÓN DE OBRA | E9: 5 | F9: MESES | I9: CONTRATO No.
B12: 3. IMPUESTOS Y GARANTÍAS
B13: 3.1 | C13: IMPUESTOS
B14: ÍTEM | C14: DESCRIPCIÓN | J14: IMPUESTO | L14: VALOR ($)
B15: =B13+0.001 -> 3.101 | C15: Contribución Especial (Impuesto de Guerra Ley 1738 DIC18-2014 prorroga 4 años) | J15: 0.05 | L15: =ROUND($E$8*J15,0) -> 3128464
B16: =B15+0.001 -> 3.102 | C16: ICA (Ley 14 6jul1983, Res 219 25feb2004) | J16: =6.9/1000 -> 0.0069 | L16: =ROUND($E$8*J16,0) -> 431728
B17: =B16+0.001 -> 3.103 | C17: GMF (Ley 1739 23dic2014 modifica el Estatuto Tributario) | J17: =(4/1000) -> 0.004 | L17: =ROUND($E$8*J17,0) -> 250277
B18: =B17+0.001 -> 3.104 | C18: Estampilla Universidad Distrital (Acuerdo 53 de 10ene2002) | J18: 0.011 | L18: =ROUND($E$8*J18,0) -> 688262
B19: =B18+0.001 -> 3.105 | C19: Estampilla procultura (Acuerdo 187 20 dic 2005) | J19: 0.005 | L19: =ROUND($E$8*J19,0) -> 312846
B20: =B19+0.001 -> 3.106 | C20: Estampilla pro personas Mayores (Acuerdo 645 de 9 de junio de 2016) | J20: 0.02 | L20: =ROUND($E$8*J20,0) -> 1251386
B21: =B20+0.001 -> 3.107 | C21: Estampilla Unipedagógica (Dec 584 de 19 dic 2014) | J21: 0.005 | L21: =ROUND($E$8*J21,0) -> 312846
C22: SUBTOTAL IMPUESTOS | L22: =SUM(L15:L21) -> 6375809
B24: =B13+0.1 -> 3.2 | C24: GARANTIAS
B25: ÍTEM | C25: DESCRIPCIÓN | E25: VR. BASE | G25: % ASEGURADO | I25: VIGENCIA AMPARO (MESES) | J25: TASA ASEGURADORA | L25: VALOR ($)
B26: =B24+0.001 -> 3.201 | C26: Cumplimiento | D26: GARANTIA UNICA | E26: =ROUND(($E$8*ROUND((1+$M$40),4)),0) -> 73349966 | G26: 0.3 | I26: 14 | J26: 0.002 | L26: =ROUND((((((E26*G26)*J26)/12)*I26)+2500)*1.19,0) -> 64076
B27: =B26+0.001 -> 3.202 | C27: Buen Manejo de Anticipo | E27: =ROUND(($E$8*ROUND((1+$M$40),4)),0) -> 73349966 | G27: 1 | I27: 14 | J27: 0.002 | L27: =ROUND((((((E27*G27)*J27)/12)*I27)+2500)*1.19,0) -> 206643
B28: =B27+0.001 -> 3.203 | C28: Salarios y Prestaciones Sociales | E28: =ROUND(($E$8*ROUND((1+$M$40),4)),0) -> 73349966 | G28: 0.1 | I28: 44 | J28: 0.002 | L28: =ROUND((((((E28*G28)*J28)/12)*I28)+2500)*1.19,0) -> 66985
B29: =B28+0.001 -> 3.204 | C29: Estabilidad de la Obra - Calidad del servicio | E29: =ROUND(($E$8*ROUND((1+$M$40),4)),0) -> 73349966 | G29: 0.3 | I29: 60 | J29: 0.002 | L29: =ROUND((((((E29*G29)*J29)/12)*I29)+2500)*1.19,0) -> 264834
B30: =B29+0.001 -> 3.205 | C30: Predios, labores y Operaciones- Vigencia (Decreto 1082 de 2015 Sección III) | D30: RESPONSABILIDAD CIVIL EXTRACONTRACTUAL | E30: =ROUND(($E$8*ROUND((1+$M$40),4)),0) -> 73349966 | G30: 0.3 | I30: 8 | J30: 0.003 | L30: =ROUND((((((E30*G30)*J30)/12)*I30)+2500)*1.19,0) -> 55347
C31: SUBTOTAL GARANTÍAS | L31: =ROUND(SUM(L26:L30),0) -> 657885
C33: TOTAL IMPUESTOS Y GARANTÍAS | L33: =ROUND(L22+L31,0) -> 7033694
C34: TOTAL IMPUESTOS Y GARANTÍAS EN PORCENTAJE DEL COSTO DIRECTO | L34: =+L33/E8 -> 0.1124145
C36: A. ADMINISTRACIÓN (1 + 2 + 3) | L36: =+L34 -> 0.1124145
C37: I. IMPREVISTOS | L37: 0.01
C38: U. UTILIDAD | L38: 0.05
C40: A.I.U. (ADMINISTRACIÓN, IMPREVISTOS Y UTILIDAD) | L40: =+L36+L37+L38 -> 0.1724145 | M40: 0.1723
C43: NOTA:
C44: NOTA:
A47: PLAZO PRELIMINARES | D47: 0
A48: PLAZO CONSTRUCCIÓN | D48: 5

Sheet AIU PMT
B2: ALCALDIA LOCAL DE TUNJUELITO
B6: OBJETO DE LA LICITACIÓN:
B8: COSTO DIRECTO ESTIMADO DE OBRA (CD) | E8: =+PMT!K14 -> 18367536 | I8: FECHA: | J8: MARZO DE 2023
B9: TERMINO ESTIMADO DE EJECUCIÓN DE OBRA | E9: 5 | F9: MESES | I9: CONTRATO No.
B12: 3. IMPUESTOS Y GARANTÍAS
B13: 3.1 | C13: IMPUESTOS
B14: ÍTEM | C14: DESCRIPCIÓN | J14: IMPUESTO | L14: VALOR ($)
B15: =B13+0.001 -> 3.101 | C15: Contribución Especial (Impuesto de Guerra Ley 1738 DIC18-2014 prorroga 4 años) | J15: 0.05 | L15: =ROUND($E$8*J15,0) -> 918377
B16: =B15+0.001 -> 3.102 | C16: ICA (Ley 14 6jul1983, Res 219 25feb2004) | J16: =6.9/1000 -> 0.0069 | L16: =ROUND($E$8*J16,0) -> 126736
B17: =B16+0.001 -> 3.103 | C17: GMF (Ley 1739 23dic2014 modifica el Estatuto Tributario) | J17: =(4/1000) -> 0.004 | L17: =ROUND($E$8*J17,0) -> 73470
B18: =B17+0.001 -> 3.104 | C18: Estampilla Universidad Distrital (Acuerdo 53 de 10ene2002) | J18: 0.011 | L18: =ROUND($E$8*J18,0) -> 202043
B19: =B18+0.001 -> 3.105 | C19: Estampilla procultura (Acuerdo 187 20 dic 2005) | J19: 0.005 | L19: =ROUND($E$8*J19,0) -> 91838
B20: =B19+0.001 -> 3.106 | C20: Estampilla pro personas Mayores (Acuerdo 645 de 9 de junio de 2016) | J20: 0.02 | L20: =ROUND($E$8*J20,0) -> 367351
B21: =B20+0.001 -> 3.107 | C21: Estampilla Unipedagógica (Dec 584 de 19 dic 2014) | J21: 0.005 | L21: =ROUND($E$8*J21,0) -> 91838
C22: SUBTOTAL IMPUESTOS | L22: =SUM(L15:L21) -> 1871653
B24: =B13+0.1 -> 3.2 | C24: GARANTIAS
B25: ÍTEM | C25: DESCRIPCIÓN | E25: VR. BASE | G25: % ASEGURADO | I25: VIGENCIA AMPARO (MESES) | J25: TASA ASEGURADORA | L25: VALOR ($)
B26: =B24+0.001 -> 3.201 | C26: Cumplimiento | D26: GARANTIA UNICA | E26: =ROUND(($E$8*ROUND((1+$M$40),4)),0) -> 21534099 | G26: 0.3 | I26: 14 | J26: 0.002 | L26: =ROUND((((((E26*G26)*J26)/12)*I26)+2500)*1.19,0) -> 20913
B27: =B26+0.001 -> 3.202 | C27: Buen Manejo de Anticipo | E27: =ROUND(($E$8*ROUND((1+$M$40),4)),0) -> 21534099 | G27: 1 | I27: 14 | J27: 0.002 | L27: =ROUND((((((E27*G27)*J27)/12)*I27)+2500)*1.19,0) -> 62768
B28: =B27+0.001 -> 3.203 | C28: Salarios y Prestaciones Sociales | E28: =ROUND(($E$8*ROUND((1+$M$40),4)),0) -> 21534099 | G28: 0.1 | I28: 44 | J28: 0.002 | L28: =ROUND((((((E28*G28)*J28)/12)*I28)+2500)*1.19,0) -> 21767
B29: =B28+0.001 -> 3.204 | C29: Estabilidad de la Obra - Calidad del servicio | E29: =ROUND(($E$8*ROUND((1+$M$40),4)),0) -> 21534099 | G29: 0.3 | I29: 60 | J29: 0.002 | L29: =ROUND((((((E29*G29)*J29)/12)*I29)+2500)*1.19,0) -> 79852
B30: =B29+0.001 -> 3.205 | C30: Predios, labores y Operaciones- Vigencia (Decreto 1082 de 2015 Sección III) | D30: RESPONSABILIDAD CIVIL EXTRACONTRACTUAL | E30: =ROUND(($E$8*ROUND((1+$M$40),4)),0) -> 21534099 | G30: 0.3 | I30: 8 | J30: 0.003 | L30: =ROUND((((((E30*G30)*J30)/12)*I30)+2500)*1.19,0) -> 18350
C31: SUBTOTAL GARANTÍAS | L31: =ROUND(SUM(L26:L30),0) -> 203650
C33: TOTAL IMPUESTOS Y GARANTÍAS | L33: =ROUND(L22+L31,0) -> 2075303
C34: TOTAL IMPUESTOS Y GARANTÍAS EN PORCENTAJE DEL COSTO DIRECTO | L34: =+L33/E8 -> 0.11298756
C36: A. ADMINISTRACIÓN (1 + 2 + 3) | L36: =+L34 -> 0.11298756
C37: I. IMPREVISTOS | L37: 0.01
C38: U. UTILIDAD | L38: 0.05
C40: A.I.U. (ADMINISTRACIÓN, IMPREVISTOS Y UTILIDAD) | L40: =+L36+L37+L38 -> 0.17298756 | M40: 0.1724
C43: NOTA:
C44: NOTA:
A47: PLAZO PRELIMINARES | D47: 0
A48: PLAZO CONSTRUCCIÓN | D48: 5

Sheet ACTIVIDADES
C1: Nº | D1: ESPECIFICACIONES | F1: DESCRIPCIÓN | G1: UND. | H1: VALOR UNITARIO
D2: GENERAL | E2: PARTICULAR IDU
C3: PRELIMINARES
C4: 1 | D4: INV-105.2 -13 | E4: 3007 | F4: REPLANTEO GENERAL | G4: M2 | H4: 758
C5: DEMOLICIONES
C6: 2 | D6: INV-201-13 | E6: 5196 | F6: DEMOLICIÓN DE CONCRETO: ESPESORES 8CM A 15CM. (INCLUYE RETIRO DE MATERIAL, TRANSPORTE Y DISPOSICIÓN FINAL DE ESCOMBROS EN SITIO AUTORIZADO). | G6: M3 | H6: =+'[190]PRESUP TOTAL'!$G$16 -> 85531
C7: 3 | D7: INV-201-13 | E7: 5197 | F7: DEMOLICIÓN DE CONCRETO: ESPESORES 16CM A 25CM. (INCLUYE RETIRO DE MATERIAL, TRANSPORTE Y DISPOSICIÓN FINAL DE ESCOMBROS EN SITIO AUTORIZADO). | G7: M3 | H7: =+'[190]PRESUP TOTAL'!$G$17 -> 91446
C8: EXPLANACIONES Y TERRAPLENES
C9: 4 | D9: IDU ET-IC- 300-18 | E9: 3710 | F9: EXCAVACIÓN MECÁNICA EN MATERIAL COMÚN (INCLUYE CARGUE) | G9: M3 | H9: 4920
C10: 5 | D10: IDU ET-IC- 300-18 | E10: 3017 | F10: TRANSPORTE Y DISPOSICIÓN FINAL DE ESCOMBROS EN SITIO AUTORIZADO (DISTANCIA DE TRANSPORTE 21 KM). A DISTANCIA MAYOR DEL ACARREO LIBRE (90 M) EN SITIO AUTORIZADO POR LA ENTIDAD AMBIENTAL COMPETENTE. | G10: M3 | H10: 34896
C11: AFIRMADOS, BASES Y SUBBASES
C12: 6 | D12: IDU ET-IC- 510-18 | E12: 4161 | F12: SUBBASE GRANULAR CLASE A (SBG_A) (SUMINISTRO, EXTENDIDO, NIVELACIÓN, HUMEDECIMIENTO Y COMPACTACIÓN CON VIBROCOMPACTADOR) | G12: M3 | H12: 129602
C13: 7 | D13: IDU ET-IC- 410-18 | E13: 6016 | F13: ESTABILIZACIÓN DE SUBRASANTE CON RAJÓN, INCLUYE EQUIPO DE COMPACTACIÓN (SUMINISTRO, EXTENDIDO, NIVELACIÓN Y COMPACTACIÓN CON EQUIPO MECÁNICO) | G13: M3 | H13: 109965
C14: PAVIMENTOS
C15: 8 | D15: IDU ET-IC- 800-18 | E15: NP1 | F15: LOSA DE CONCRETO MR43 (SUMINISTRO, FORMALETEADO, COLOCACIÓN Y ACABADO. NO INCLUYE ACERO, CURADO, JUNTAS) | G15: M3 | H15: 712870
C16: 9 | D16: IDU ET-IC- 800-18 | E16: NP2 | F16: ACERO DE REFUERZO FY=60000 PSI. SUMINISTRO E INSTALACIÓN. DE ACUERDO A LO ESTIPULADO POR LA NSR-10, NORMA ASTM A-706, ICONTEC 2289 PARA EL ACERO PDR-60. INCLUYE TODOS LOS COSTOS DE SUMINISTRO DE MATERIALES (REFUERZO (G60) FIGURADO, CORRUGADO, INCLUYE EL ALAMBRE DE AMARRE), EQUIPOS, TRANSPORTES, MANEJO, ALMACENAMIENTO, DESPERDICIOS Y MANO DE OBRA. | G16: kg | H16: 7202
C17: 10 | D17: IDU ET-IC- 800-18 | E17: NP3 | F17: CANASTILLA PASAJUNTAS INCLUYE SUMINISTRO E INSTALACIÓN | G17: kg | H17: 7202
C18: GEOTEXTILES
C19: 11 | D19: IDU ET-IC-240-18 | E19: 4671 | F19: GEOTEXTIL NT 2500 PARA SEPARACION SUBRASANTE/CAPAS GRANULARES (INCLUYE SUMINISTRO E INSTALACIÓN) | G19: M2 | H19: 7720
C20: URBANISMO
C21: 12 | D21: IDU ET-IC-301-18 | E21: 4390 | F21: EXCAVACIÓN MANUAL EN MATERIAL COMÚN (INCL CARGUE, TRANSPORTE Y DISPOSICION FINAL) | G21: M3 | H21: 82116
C22: 13 | D22: IDU ET-IC-512-18 | E22: 4159 | F22: SUBBASE GRANULAR CLASE C (SBG_C) (SUMINISTRO, EXTENDIDO, NIVELACIÓN, HUMEDECIMIENTO Y COMPACTACIÓN CON VIBROCOMPACTADOR) | G22: M3 | H22: 128055
C23: 14 | D23: IDU ET-IC-413-18 | E23: 6486 | F23: ESTABILIZACIÓN CON RCD. INCLUYE TRASIEGO INTERNO, NIVELACIÓN Y COMPACTACIÓN. | G23: M3 | H23: 48063
