Workbook
Name \0: #REF!
Name \0: #REF!
Name \0: #REF!
Name \0: #REF!
Name \0: #REF!
Name \0: #REF!
Name \0: #REF!
Name \0: #REF!
Name \0: #REF!
Name \0: #REF!
Name \0: #REF!
Name \0: #REF!
Name \00: #REF!
Name \00: #REF!
Name \00: #REF!
Name \00: #REF!
Name \00: #REF!
Name \00: #REF!
Name \00: #REF!
Name \00: #REF!
Name \00: #REF!
Name \00: #REF!
Name \00: #REF!
Name \00: #REF!
Name \a: #REF!
Name \a: #REF!
Name \a: #REF!
Name \a: #REF!
Name \a: #REF!
Name \a: #REF!
Name \a: #REF!
Name \a: #REF!
Name \a: #REF!
Name \a: #REF!
Name \a: #REF!
Name \a: #REF!
Name \a: #REF!
Name \AA: [1]LIQUIDACION!#REF!
Name \AA: [1]LIQUIDACION!#REF!
Name \AA: [1]LIQUIDACION!#REF!
Name \AA: [1]LIQUIDACION!#REF!
Name \AA: [1]LIQUIDACION!#REF!
Name \AA: [1]LIQUIDACION!#REF!
Name \AA: [1]LIQUIDACION!#REF!
Name \AA: [1]LIQUIDACION!#REF!
Name \AA: [1]LIQUIDACION!#REF!
Name \AA: [1]LIQUIDACION!#REF!
Name \AA: [1]LIQUIDACION!#REF!
Name \AA: [1]LIQUIDACION!#REF!
Name \b: [2]STRSUMM0!#REF!
Name \b: [2]STRSUMM0!#REF!
Name \b: [2]STRSUMM0!#REF!
Name \b: [2]STRSUMM0!#REF!
Name \b: [2]STRSUMM0!#REF!
Name \b: [2]STRSUMM0!#REF!
Name \b: [2]STRSUMM0!#REF!
Name \b: [2]STRSUMM0!#REF!
Name \b: [2]STRSUMM0!#REF!
Name \b: [2]STRSUMM0!#REF!
Name \b: [2]STRSUMM0!#REF!

Sheet PPTTO EDIF 
E3: POLÍTICA DE MANTENIMIENTO DE LA INFRAESTRUCTURA AEROPORTUARIA
E4: PRESUPUESTO DE MANTENIMIENTO O SERVICIO EDIFICACIONES Y URBANISMO
E5: Clave: 6000 | G5: Versión: 0.1 | H5: Fecha de aprobación:
C7: El presente formato continene la información básica para atender las necesidades del mantenimiento rutinario de la infraestructura del aeropuerto.
C9: AEROPUERTO: | E9: EL RIO | H9: REGIONAL: | I9: NOROCCIDENTAL
C10: UBICACIÓN: AMALFI - ANTIOQUIA
C11: ELEMENTOS EDIFICACIONES, URBANISMO Y SISTEMAS ELECTROMECÁNICOS
C12: ÍTEM | D12: TIPO DE INTERVENCIÓN | F12: DESCRIPCIÓN DE LA ACTIVIDAD | H12: UND. | I12: CANTIDAD | J12: VALOR UNITARIO | K12: VALOR TOTAL
D13: MANTTO | E13: SERVICIO
C14: 3 | D14: x | F14: Suministro y aplicación de pintura interna, de primera calidad, sobre columnas, muro o vigas y/o pintura existente, color a definir, en todas las superficies a pintar, se aplicarán cuantas manos de pintura e imprimantes sean necesarios. incluye todo tipo de resanes y preparación de superficie. | H14: m2 | I14: 700 | J14: ='E. MERCADO'!I31 -> #REF! | K14: =I14*J14 -> #REF!
C15: 4 | D15: x | F15: Suministro y aplicación de pintura acrílica para exterior, de primera calidad, sobre columnas, muro o vigas y/o pintura existente, color a definir, en todas las superficies a pintar, se aplicarán cuantas manos de pintura e imprimantes sean necesarios. incluye todo tipo de resanes y preparación de superficie. | H15: m2 | I15: 600 | J15: ='E. MERCADO'!I34 -> #REF! | K15: =I15*J15 -> #REF!
C16: 15 | D16: x | F16: Desmonte de cubierta en teja de barro o teja de fibrocemento. incluye teja de barro, mortero de pega, madera y manto donde sea necesario. | H16: m2 | I16: 963 | J16: ='E. MERCADO'!I89 -> #REF! | K16: =I16*J16 -> #REF!
C17: 16 | D17: x | F17: Suministro e instalación de teja en fribrocemento tipo colonial, incluye accesorios para su correcta instalación | H17: m2 | I17: 963 | J17: ='E. MERCADO'!I93 -> #REF! | K17: =I17*J17 -> #REF!
C18: 17 | D18: x | F18: Suministro e instalación de caballete en fibrocemento tipo colonial, similar al existente en cubiertas construidas, | H18: ml | I18: 54 | J18: ='E. MERCADO'!I89 -> #REF! | K18: =I18*J18 -> #REF!
C19: 18 | D19: x | F19: Encorozado de apoyo para cubierta en teja | H19: ml | I19: 108 | J19: ='E. MERCADO'!I93 -> #REF! | K19: =I19*J19 -> #REF!
C20: 19 | D20: x | F20: Suministro, transporte y colocacion de Tablilla pino 1 cm, alfardas abarco 2*5" y manto 2 mm para adecuacion de cubierta. | H20: m2 | I20: =17*6 -> 102 | J20: ='E. MERCADO'!I98 -> #REF! | K20: =I20*J20 -> #REF!
C21: 20 | D21: x | F21: Suministro, transporte e instalación de perfiles metálicos (50*50*1,5 mm) para apoyo de teja nueva en fibrocemento. Incluye pintura con anticorrosivo, cortes y pernos de fijacion. | H21: ml | I21: 963 | J21: ='E. MERCADO'!I101 -> #REF! | K21: =I21*J21 -> #REF!
C22: 21 | D22: x | F22: Suministro, transporte y colocacion de manto 2 mm para adecuaciones de cubiertas , ruanas o canoas. | H22: m2 | I22: 963 | J22: ='E. MERCADO'!I108 -> #REF! | K22: =I22*J22 -> #REF!
C23: 22 | D23: x | F23: Suministro, transporte y colocacion de canoa cal 24 en "L" con desarrollo de 1,00 m, Incluye soldadura en bronce, pintura con anticorrosivo y esmalte, embudos y tapas laterales, | H23: ml | I23: 108 | J23: =#REF! -> #REF! | K23: =I23*J23 -> #REF!
C24: 23 | D24: x | F24: Suministro, transporte e instalacion de ruana cal 26 con desarrollo de 30 cm. Incluye soldadura, anticorrosivo y esmalte, asi como ranura en muro para su instalacion. | H24: ml | I24: =17*3 -> 51 | J24: =#REF! -> #REF! | K24: =I24*J24 -> #REF!
C25: 24 | D25: x | F25: Instalación de bajantes existentes incluye adecuación, pintura y todo lo necesario para su funcionamiento. | H25: ml | I25: 100 | J25: ='E. MERCADO'!I113 -> #REF! | K25: =I25*J25 -> #REF!
C26: 25 | D26: X | F26: DEMARCACION LINEA CONTINUA CON PINTURA EN FRIO A=0.12M (E=15 MILS, ACRÍLICA BASE AGUA. INC. SUMIN. Y APLIC. CON EQUIPO. INCL. MICROESFERAS) Demarcación para la circulación peatonal | H26: ML | I26: 500 | J26: 2699 | K26: =I26*J26 -> 1349500
C27: 26 | D27: X | F27: DEMARCACION EN PINTURA TIPO TRAFICO BASE SOLVENTE COLOR BLANCO. (INCLUYE SUMINISTRO Y APLICACION CON EQUIPO. INCLUYE MICROESFERAS ). | H27: M2 | I27: 300 | J27: 43433 | K27: =I27*J27 -> 13029900
C28: 27 | D28: X | F28: SEÑALES DE TRÁNSITO INFORMATIVAS (1.4 X 0.95 M) | H28: UND | I28: 15 | J28: 590000 | K28: =I28*J28 -> 8850000
C29: 28 | E29: X | F29: SUMINISTRO DE SEÑALÉTICA PARA EL AEROPUERTO. CONFORME CÓDIGO DE COLORES Y NTC demarcación NTC 6047 ACCESIBILIDAD AL MEDIO FÍSICO. ESPACIOS DE SERVICIO AL CIUDADANO EN LA ADMINISTRACIÓN PÚBLICA. Señalización Táctil. Franjas de circulación con señalización táctil. Señalización táctil de percepción manual. Señalización visual y audible. Circulación sobre Pompeyano. Rampas de circulación peatonal. Implementación de vados peatonales para salvar desniveles NTC 4143. Elementos en la circulación peatonal rasantes con el nivel de piso. Pasamanos y Bordillos en rampas de circulación peatonal. Servicios Sanitarios Accesibles - Servicios Sanitarios Accesibles por género. Implementación del logo símbolo de accesibilidad en el Servicio Sanitario Accesible. Puertas en el baño accesible - Barras de apoyo para el servicio sanitario -Barra de apoyo para lavamanos accesible. Circulación dentro de las salas o zonas de espera generales/empresa/VIP - Señalización áreas administrativas. Escaleras áreas administrativas. Señalización vertical zona(s) estacionamiento especial. Logo símbolo señalización vertical zona(s) estacionamiento especial. Logo símbolo señalización vertical zona(s) estacionamiento especial. Señalización de advertencia en proximidad a elementos entre la circulación peatonal. Señalización y/o contraste de objetos inmersos en la circulación peatonal. Señales instaladas sobre el espacio público NTC 4695 - area publica. | H29: UND | I29: 1 | J29: 20000000 | K29: =I29*J29 -> 20000000
C30: 29 | D30: x | F30: REHABILITACIÓN, ADECUACIÓN Y MANTENIMIENTO DE LOS BAÑOS DE LA TERMINAL | H30: GLB | I30: 1 | J30: 70000000 | K30: =I30*J30 -> 70000000
G33: Valor parcial Mantenimiento: | H33: $ | I33: =SUM(K14:K31) -> #REF!
G34: ADMINISTRACIÒN: | H34: 0.1 | I34: =I33*H34 -> #REF!
G35: IMPREVISTOS: | H35: 0.05 | I35: =I33*H35 -> #REF!
G36: UTILIDAD: | H36: 0.05 | I36: =I33*H36 -> #REF!
G37: VALOR TOTAL MANTENMIENTO | H37: $ | I37: =SUM(I33:K36) -> #REF!
G38: Valor parcial Servicios: | H38: $
G39: IVA | H39: 0.19 | I39: =I36*H39 -> #REF!
G40: VALOR TOTAL SERVICIOS | H40: $
G41: VALOR TOTAL | H41: $ | I41: =I37+I39 -> #REF!
C42: Nota: Las actividades con IVA deben ser subrayadas para diferenciarlas de las actividades de obra de mantenimiento.

Sheet PPTTO  AERÓDROMO
E3: POLÍTICA DE MANTENIMIENTO DE LA INFRAESTRUCTURA AEROPORTUARIA
E4: PRESUPUESTO DE MANTENIMIENTO O SERVICIO AERÓDROMO
E5: Clave: 6000 | G5: Versión: 0.1 | H5: Fecha de aprobación:
C7: El presente formato continene la información básica para atender las necesidades del mantenimiento rutinario de la infraestructura del aeropuerto.
C9: AEROPUERTO: | E9: EL RÍO | H9: REGIONAL: | I9: NOROCCIDENTAL
C10: UBICACIÓN: AMALFI - ANTIOQUIA
C11: ELEMENTOS AERÓDROMO
C12: ÍTEM | D12: TIPO DE INTERVENCIÓN | F12: DESCRIPCIÓN DE LA ACTIVIDAD | H12: UND. | I12: CANTIDAD | J12: VALOR UNITARIO | K12: VALOR TOTAL
D13: MANTTO | E13: SERVICIO
C14: 1 | D14: x | F14: Mantenimiento de zonas verdes. 1. Roceria: zonas de seguridad y demás áreas del aeropuerto. Debe incluir la limpieza de las áreas perimetrales internas (desde las zonas de seguridad hasta el cerramiento). Consistente en desmonte y limpieza de zonas no boscosas. Incluye Aplicación de matamatelezas (combatran, randall o similar) a todas las zonas de seguridad incluida la base del cerramiento. 2. Limpieza manual del cerramiento (mallas), retirando todo elemento orgánico e inorgánico. Se hará además la fumigación con un herbicida químico. Incluye Cargue y disposición de material sobrante al botadero autorizado | H14: Ha | I14: =17.2*4 -> 68.8 | J14: ='E. MERCADO'!I23 -> #REF! | K14: =I14*J14 -> #REF!
C15: 2 | D15: x | F15: Limpieza (desmalezado y evacuación sedimentos) en canales (en tierra o en concreto) de evacuación aguas, retiro y disposición de material sobrante a cualquier distancia en botadero autorizado. Consistente en mantenimiento de taludes, reconstrucción de canales y limpieza de cauce a cualquier ancho de canal. Se debe garantizar por el tiempo de duración del contrato el caudal natural de las aguas retirando todo elemento que le impida al agua su curso normal. | H15: m | I15: =3404*3 -> 10212 | J15: ='E. MERCADO'!I27 -> #REF! | K15: =I15*J15 -> #REF!
C16: 5 | D16: x | F16: Suministro e instalación portón de acceso 2 hojas en tubo galvanizado 2" malla eslabonada 2.20x2.30 y 6x2,3, incluye pintura, soldadura, herraje, anticorrosivos, bisagras y todo lo necesario para su correcto funcionamiento | H16: glb | I16: 2 | J16: ='E. MERCADO'!I37 -> #REF! | K16: =I16*J16 -> #REF!
C17: 6 | D17: x | F17: Excavación manual (concreto ciclópeo, pie de amigo y pedestales). | H17: m3 | I17: =+I21*0.3*0.4+I19 -> 224.4 | J17: ='E. MERCADO'!I42 -> #REF! | K17: =I17*J17 -> #REF!
C18: 7 | D18: x | F18: Viga de amarre concreto 3000PSI Incluye refuerzo. | H18: m3 | I18: =+I21*0.3*0.2 -> 102 | J18: ='E. MERCADO'!I47 -> #REF! | K18: =I18*J18 -> #REF!
C19: 8 | D19: x | F19: Cimiento pie amigo concreto 3000 PSI. Cimiento pedestal concreto 3000 PSI. | H19: m3 | I19: =+(I21/10)*0.3*0.4 -> 20.4 | J19: ='E. MERCADO'!I53 -> #REF! | K19: =I19*J19 -> #REF!
C20: 9 | D20: x | F20: Mortero 1:4. para pie de amigo | H20: m | I20: =I21 -> 1700 | J20: ='E. MERCADO'!I58 -> #REF! | K20: =I20*J20 -> #REF!
C21: 10 | D21: x | F21: Suministro e instalación cerramiento tipo I en malla eslabonada con recubrimiento en PVC, calibre 8" incluyendo el recubrimiento, Incluye tubería (Poste, Pie de apoyo y pie de amigo). Cuatro hilos de alambre de púa y accesorios. | H21: m | I21: 1700 | J21: ='E. MERCADO'!I64 -> #REF! | K21: =I21*J21 -> #REF!
C22: 11 | D22: x | F22: Desmonte de cerramiento en mal estado | H22: m | I22: =I21 -> 1700 | J22: ='E. MERCADO'!I70 -> #REF! | K22: =I22*J22 -> #REF!
C23: 12 | D23: x | F23: Cimiento concreto ciclópeo | H23: m3 | I23: =+I22*0.3*0.4+I19 -> 224.4 | J23: ='E. MERCADO'!I76 -> #REF! | K23: =I23*J23 -> #REF!
C24: 13 | D24: x | F24: Conformación de la calzada existente (especificaciones invias articulo 310 ), incluye ESTABILIZADA CON EMULSION ASFALTICA | H24: m2 | I24: 27974 | J24: ='E. MERCADO'!I80 -> #REF! | K24: =I24*J24 -> #REF!
C25: 14 | F25: SIEMBRA DE GRAMA (incluye suministro e instalacion de grama, incluye 5 cm de Tierra Negra) | H25: m2 | I25: 27974 | J25: ='E. MERCADO'!I85 -> #REF! | K25: =I25*J25 -> #REF!
C26: 30 | D26: X | F26: SUMINISTRO DE CASETA DE SEGURIDAD EN PVC PARA AEROPUERTO | H26: UND | I26: 4 | J26: 23919299 | K26: =I26*J26 -> 95677196
C27: 31 | D27: X | F27: ACTIVIDADES REQUERIDAS PARA LA INSTALACION Y PUESTA EN FUNCIONAMIENTO PARA LAS CASETAS DE SEGURIDAD . INCLUYE TRANSPORTE, MATERIALES Y MANO DE OBRA. | H27: UND | I27: 4 | J27: 2582615 | K27: =I27*J27 -> 10330460
C28: 32 | D28: X | F28: ADECUACIÓN DE BAÑOS PORTÁTILES PARA GARITAS DE VIGILANCIA PERIMETRALES A LA PISTA | H28: UND | I28: 4 | J28: 1200000 | K28: =I28*J28 -> 4800000
C29: 33 | E29: X | F29: LIMPIEZA Y DESINFECCIÓN A BAÑOS PERIMETRALES QUE PRESTAN SERVICIO A LAS GARITAS PERIMETRALES DE PISTA. INCLUYE RECOLECCIÓN, TRANSPORTE, TRATAMIENTO Y DISPOSICIÓN FINAL DE AGUAS RESIDUALES Y RESIDUOS SÓLIDOS (1 VEZ AL MES). ENTREGA DE CERTIFICADO DE GESTIÓN DE RESIDUOS Y AGUAS AVALADO POR AUTORIDAD AMBIENTAL REGIONAL O MUNICIPAL. | H29: UND | I29: 4 | J29: 420000 | K29: =I29*J29 -> 1680000
G33: Valor parcial Mantenimiento: | I33: =SUM(K14:K31) -> #REF!
G34: ADMINISTRACIÒN: | H34: 0.1 | I34: =I33*H34 -> #REF!
G35: IMPREVISTOS: | H35: 0.05 | I35: =I33*H35 -> #REF!
G36: UTILIDAD: | H36: 0.05 | I36: =I33*H36 -> #REF!
G37: VALOR TOTAL MANTENMIENTO | H37: $ | I37: =SUM(I33:K36) -> #REF!
G38: Valor parcial Servicios:
G39: IVA | H39: 0.19 | I39: =I36*H39 -> #REF!
G40: VALOR TOTAL SERVICIOS | H40: $
G41: VALOR TOTAL | H41: $ | I41: =I37+I39 -> #REF!
C42: Nota: Las actividades con IVA deben ser subrayadas para diferenciarlas de las actividades de obra de mantenimiento.
K45: ='PPTTO AERÓDROMO Manto ladoaire'!I31+PPTTOAERÓDROMOCerramientototal!I33+'PPTTO AERÓDROMO pista'!I27 -> #REF!

Sheet PPTTO  AERÓDROMO Manto ladoaire
E3: POLÍTICA DE MANTENIMIENTO DE LA INFRAESTRUCTURA AEROPORTUARIA
E4: PRESUPUESTO DE MANTENIMIENTO O SERVICIO AERÓDROMO
E5: Clave: 6000 | G5: Versión: 0.1 | H5: Fecha de aprobación:
C7: El presente formato continene la información básica para atender las necesidades del mantenimiento rutinario de la infraestructura del aeropuerto.
C9: AEROPUERTO: | E9: EL RÍO | H9: REGIONAL: | I9: NOROCCIDENTAL
C10: UBICACIÓN: AMALFI - ANTIOQUIA
C11: ELEMENTOS AERÓDROMO
C12: ÍTEM | D12: TIPO DE INTERVENCIÓN | F12: DESCRIPCIÓN DE LA ACTIVIDAD | H12: UND. | I12: CANTIDAD | J12: VALOR UNITARIO | K12: VALOR TOTAL
D13: MANTTO | E13: SERVICIO
C14: 1 | D14: x | F14: Mantenimiento de zonas verdes. 1. Roceria: zonas de seguridad y demás áreas del aeropuerto. Debe incluir la limpieza de las áreas perimetrales internas (desde las zonas de seguridad hasta el cerramiento). Consistente en desmonte y limpieza de zonas no boscosas. Incluye Aplicación de matamatelezas (combatran, randall o similar) a todas las zonas de seguridad incluida la base del cerramiento. 2. Limpieza manual del cerramiento (mallas), retirando todo elemento orgánico e inorgánico. Se hará además la fumigación con un herbicida químico. Incluye Cargue y disposición de material sobrante al botadero autorizado | H14: Ha | I14: =17.2*4 -> 68.8 | J14: ='E. MERCADO'!I23 -> #REF! | K14: =I14*J14 -> #REF!
C15: 2 | D15: x | F15: Limpieza (desmalezado y evacuación sedimentos) en canales (en tierra o en concreto) de evacuación aguas, retiro y disposición de material sobrante a cualquier distancia en botadero autorizado. Consistente en mantenimiento de taludes, reconstrucción de canales y limpieza de cauce a cualquier ancho de canal. Se debe garantizar por el tiempo de duración del contrato el caudal natural de las aguas retirando todo elemento que le impida al agua su curso normal. | H15: m | I15: =3404*3 -> 10212 | J15: ='E. MERCADO'!I27 -> #REF! | K15: =I15*J15 -> #REF!
C16: 30 | D16: X | F16: SUMINISTRO DE CASETA DE SEGURIDAD EN PVC PARA AEROPUERTO | H16: UND | I16: 4 | J16: 23919299 | K16: =I16*J16 -> 95677196
C17: 31 | D17: X | F17: ACTIVIDADES REQUERIDAS PARA LA INSTALACION Y PUESTA EN FUNCIONAMIENTO PARA LAS CASETAS DE SEGURIDAD . INCLUYE TRANSPORTE, MATERIALES Y MANO DE OBRA. | H17: UND | I17: 4 | J17: 2582615 | K17: =I17*J17 -> 10330460
C18: 32 | D18: X | F18: ADECUACIÓN DE BAÑOS PORTÁTILES PARA GARITAS DE VIGILANCIA PERIMETRALES A LA PISTA | H18: UND | I18: 4 | J18: 1200000 | K18: =I18*J18 -> 4800000
C19: 33 | E19: X | F19: LIMPIEZA Y DESINFECCIÓN A BAÑOS PERIMETRALES QUE PRESTAN SERVICIO A LAS GARITAS PERIMETRALES DE PISTA. INCLUYE RECOLECCIÓN, TRANSPORTE, TRATAMIENTO Y DISPOSICIÓN FINAL DE AGUAS RESIDUALES Y RESIDUOS SÓLIDOS (1 VEZ AL MES). ENTREGA DE CERTIFICADO DE GESTIÓN DE RESIDUOS Y AGUAS AVALADO POR AUTORIDAD AMBIENTAL REGIONAL O MUNICIPAL. | H19: UND | I19: 4 | J19: 420000 | K19: =I19*J19 -> 1680000
G23: Valor parcial Mantenimiento: | I23: =SUM(K14:K21) -> #REF!
G24: ADMINISTRACIÒN: | H24: 0.1 | I24: =I23*H24 -> #REF!
G25: IMPREVISTOS: | H25: 0.05 | I25: =I23*H25 -> #REF!
G26: UTILIDAD: | H26: 0.05 | I26: =I23*H26 -> #REF!
G27: VALOR TOTAL MANTENMIENTO | H27: $ | I27: =SUM(I23:K26) -> #REF!
G28: Valor parcial Servicios:
G29: IVA | H29: 0.19 | I29: =I26*H29 -> #REF!
G30: VALOR TOTAL SERVICIOS | H30: $
G31: VALOR TOTAL | H31: $ | I31: =I27+I29 -> #REF!
C32: Nota: Las actividades con IVA deben ser subrayadas para diferenciarlas de las actividades de obra de mantenimiento.

Sheet PPTTOAERÓDROMOCerramientototal
E3: POLÍTICA DE MANTENIMIENTO DE LA INFRAESTRUCTURA AEROPORTUARIA
E4: PRESUPUESTO DE MANTENIMIENTO O SERVICIO AERÓDROMO
E5: Clave: 6000 | G5: Versión: 0.1 | H5: Fecha de aprobación:
C7: El presente formato continene la información básica para atender las necesidades del mantenimiento rutinario de la infraestructura del aeropuerto.
C9: AEROPUERTO: | E9: EL RÍO | H9: REGIONAL: | I9: NOROCCIDENTAL
C10: UBICACIÓN: AMALFI - ANTIOQUIA
C11: ELEMENTOS AERÓDROMO
C12: ÍTEM | D12: TIPO DE INTERVENCIÓN | F12: DESCRIPCIÓN DE LA ACTIVIDAD | H12: UND. | I12: CANTIDAD | J12: VALOR UNITARIO | K12: VALOR TOTAL
D13: MANTTO | E13: SERVICIO
C14: 5 | D14: x | F14: Suministro e instalación portón de acceso 2 hojas en tubo galvanizado 2" malla eslabonada 2.20x2.30 y 6x2,3, incluye pintura, soldadura, herraje, anticorrosivos, bisagras y todo lo necesario para su correcto funcionamiento | H14: glb | I14: 2 | J14: ='E. MERCADO'!I37 -> #REF! | K14: =I14*J14 -> #REF!
C15: 6 | D15: x | F15: Excavación manual (concreto ciclópeo, pie de amigo y pedestales). | H15: m3 | I15: =+I19*0.3*0.4+I17 -> 199.32 | J15: ='E. MERCADO'!I42 -> #REF! | K15: =I15*J15 -> #REF!
C16: 7 | D16: x | F16: Viga de amarre concreto 3000PSI Incluye refuerzo. | H16: m3 | I16: =+I19*0.3*0.2 -> 90.6 | J16: ='E. MERCADO'!I47 -> #REF! | K16: =I16*J16 -> #REF!
C17: 8 | D17: x | F17: Cimiento pie amigo concreto 3000 PSI. Cimiento pedestal concreto 3000 PSI. | H17: m3 | I17: =+(I19/10)*0.3*0.4 -> 18.12 | J17: ='E. MERCADO'!I53 -> #REF! | K17: =I17*J17 -> #REF!
C18: 9 | D18: x | F18: Mortero 1:4. para pie de amigo | H18: m | I18: =I19 -> 1510 | J18: ='E. MERCADO'!I58 -> #REF! | K18: =I18*J18 -> #REF!
C19: 10 | D19: x | F19: Suministro e instalación cerramiento tipo I en malla eslabonada con recubrimiento en PVC, calibre 8" incluyendo el recubrimiento, H = 2 m, Incluye tubería (Poste, Pie de apoyo y pie de amigo). Cuatro hilos de alambre de púa y accesorios. | H19: m | I19: 1510 | J19: ='E. MERCADO'!I64 -> #REF! | K19: =I19*J19 -> #REF!
C20: 11 | D20: x | F20: Desmonte de cerramiento en mal estado | H20: m | I20: =I19 -> 1510 | J20: ='E. MERCADO'!I70 -> #REF! | K20: =I20*J20 -> #REF!
C21: 12 | D21: x | F21: Cimiento concreto ciclópeo | H21: m3 | I21: =+I20*0.3*0.4+I17 -> 199.32 | J21: ='E. MERCADO'!I76 -> #REF! | K21: =I21*J21 -> #REF!
G25: Valor parcial Mantenimiento: | I25: =SUM(K14:K23) -> #REF!
G26: ADMINISTRACIÒN: | H26: 0.15 | I26: =I25*H26 -> #REF!
G27: IMPREVISTOS: | H27: 0.05 | I27: =I25*H27 -> #REF!
G28: UTILIDAD: | H28: 0.05 | I28: =I25*H28 -> #REF!
G29: VALOR TOTAL MANTENMIENTO | H29: $ | I29: =SUM(I25:K28) -> #REF!
G30: Valor parcial Servicios:
G31: IVA | H31: 0.19 | I31: =I28*H31 -> #REF!
G32: VALOR TOTAL SERVICIOS | H32: $
G33: VALOR TOTAL | H33: $ | I33: =I29+I31 -> #REF!
C34: Nota: Las actividades con IVA deben ser subrayadas para diferenciarlas de las actividades de obra de mantenimiento.

Sheet PPTTO  AERÓDROMO pista
E3: POLÍTICA DE MANTENIMIENTO DE LA INFRAESTRUCTURA AEROPORTUARIA
E4: PRESUPUESTO DE MANTENIMIENTO O SERVICIO AERÓDROMO
E5: Clave: 6000 | G5: Versión: 0.1 | H5: Fecha de aprobación:
C7: El presente formato continene la información básica para atender las necesidades del mantenimiento rutinario de la infraestructura del aeropuerto.
C9: AEROPUERTO: | E9: EL RÍO | H9: REGIONAL: | I9: NOROCCIDENTAL
C10: UBICACIÓN: AMALFI - ANTIOQUIA
C11: ELEMENTOS AERÓDROMO
C12: ÍTEM | D12: TIPO DE INTERVENCIÓN | F12: DESCRIPCIÓN DE LA ACTIVIDAD | H12: UND. | I12: CANTIDAD | J12: VALOR UNITARIO | K12: VALOR TOTAL
D13: MANTTO | E13: SERVICIO
C14: 13 | D14: x | F14: Conformación de la calzada existente (especificaciones invias articulo 310 ), incluye ESTABILIZADA CON EMULSION ASFALTICA | H14: m2 | I14: 27974 | J14: ='E. MERCADO'!I80 -> #REF! | K14: =I14*J14 -> #REF!
C15: 14 | F15: SIEMBRA DE GRAMA (incluye suministro e instalacion de grama, incluye 5 cm de Tierra Negra) | H15: m2 | I15: 27974 | J15: ='E. MERCADO'!I85 -> #REF! | K15: =I15*J15 -> #REF!
G19: Valor parcial Mantenimiento: | I19: =SUM(K14:K17) -> #REF!
G20: ADMINISTRACIÒN: | H20: 0.1 | I20: =I19*H20 -> #REF!
G21: IMPREVISTOS: | H21: 0.05 | I21: =I19*H21 -> #REF!
G22: UTILIDAD: | H22: 0.05 | I22: =I19*H22 -> #REF!
G23: VALOR TOTAL MANTENMIENTO | H23: $ | I23: =SUM(I19:K22) -> #REF!
G24: Valor parcial Servicios:
G25: IVA | H25: 0.19 | I25: =I22*H25 -> #REF!
G26: VALOR TOTAL SERVICIOS | H26: $
G27: VALOR TOTAL | H27: $ | I27: =I23+I25 -> #REF!
C28: Nota: Las actividades con IVA deben ser subrayadas para diferenciarlas de las actividades de obra de mantenimiento.

Sheet PPTTO AYUDAS
E3: POLÍTICA DE MANTENIMIENTO DE LA INFRAESTRUCTURA AEROPORTUARIA
E4: PRESUPUESTO DE MANTENIMIENTO O SERVICIO AYUDAS VISUALES
E5: Clave: 6000 | G5: Versión: 0.0 | H5: Fecha de aprobación:
C7: El presente formato continene la información básica para atender las necesidades del mantenimiento rutinario de la infraestructura del aeropuerto.
C9: AEROPUERTO: | H9: REGIONAL:
C10: UBICACIÓN:
C11: AYUDAS AEROPORTUARIAS ILUMINADAS
C12: ÍTEM | D12: TIPO DE INTERVENCIÓN | F12: DESCRIPCIÓN DE LA ACTIVIDAD | H12: UND. | I12: CANTIDAD | J12: VALOR UNITARIO
D13: MANTTO | E13: SERVICIO
G49: Valor parcial Mantenimiento: | H49: $
G50: ADMINISTRACIÒN: | H50: %
G51: IMPREVISTOS: | H51: %
G52: UTILIDAD: | H52: %
G53: VALOR TOTAL MANTENMIENTO | H53: $
G54: Valor parcial Servicios: | H54: $
G55: IVA | H55: %
G56: VALOR TOTAL SERVICIOS | H56: $
G57: VALOR TOTAL | H57: $
C58: Nota: Las actividades con IVA deben ser subrayadas para diferenciarlas de las actividades de obra de mantenimiento.

Sheet APU
E3: POLÍTICA DE MANTENIMIENTO DE LA INFRAESTRUCTURA AEROPORTUARIA
E4: ANÁLISIS DE PRECIOS UNITARIOS PARA MANTENIMIENTO
E5: Clave: 6000 | H5: Versión: 0.0 | L5: Fecha de aprobación:
C7: PÁGINA | D7: 1 | E7: DE | L7: FECHA | M7: DD | N7: MM | O7: AA
C11: ÍTEM | D11: DESCRIPCIÓN | M11: UNIDAD | O11: CANTIDAD
C13: I. EQUIPO
C16: DESCRIPCIÓN | H16: MARCA | J16: TIPO | L16: TARIFA/HORA | M16: RENDIMIENTO | O16: Vr. UNITARIO
C20: SUBTOTAL $
C21: II. MATERIALES
C24: DESCRIPCIÓN | K24: UNIDAD | L24: CANTIDAD | M24: PRECIO UNIT. | O24: Vr. UNITARIO
C27: SUBTOTAL $ | O27: 0
C28: III. TRANSPORTES
C31: MATERIAL | J31: VOL. o PESO | K31: DISTANCIA | L31: M3 o Ton/Km | M31: TARIFA | O31: Vr. UNITARIO
C34: SUBTOTAL $
C35: IV. MANO DE OBRA
C38: TRABAJADOR | J38: JORNAL | K38: PRESTACIONES | L38: JORNAL TOTAL | M38: RENDIMIENTO | O38: Vr. UNITARIO
C43: SUBTOTAL $
C45: TOTAL COSTO DIRECTO $
C46: V. COSTOS INDIRECTOS
C49: Descripción | L49: Porcentaje | M49: Valor Total
C50: ADMINISTRACION
C51: IMPREVISTOS
C52: UTILIDAD
C53: SUBTOTAL $
C55: Precio Unitario Total Aproximado al peso $

Sheet MEMORIA
E3: POLÍTICA DE MANTENIMIENTO DE LA INFRAESTRUCTURA AEROPORTUARIA
E4: MEMORIA DE CANTIDADES DE OBRA PARA MANTENIMIENTO
E5: Clave: 6000 | H5: Versión: 0.0 | I5: Fecha de aprobación:
C7: AEROPUERTO: | G7: REGIONAL;
C8: ÍTEM | D8: TIPO DE INTERVENCIÓN DE MANTENIMIENTO | G8: DESCRIPCIÓN;
C9: No.
C10: PLANO DE UBICACIÓN/FOTO DEL ELEMENTO
C16: MEDIDAS DEL ELEMENTO A MANTENER (SEGÚN APLIQUE)
C17: LONGITUD | D17: ALTO | E17: ANCHO | F17: NOMBRE DEL ELEMENTO
C24: ACTIVIDADES Y CANTIDADES DE OBRA DE MANTENIMIENTO
C25: DESCRIPCIÓN DE ACTIVIDADES: | I25: UNIDAD | J25: CANTIDAD

Sheet PRESUPUESTO OFICIAL ECONOMI (3)
C1: Formulario 1 - Propuesta económica - Documento tipo de selección abreviada de menor cuantía - versión 2
C2: Código | D2: CCE-EICP-FM-25 | E2: Versión | F2: 2
C3: FORMULARIO 1
C4: PRESUPUESTO OFICIAL
C5: OBJETO: 33200C1183 REALIZAR LA MANTENIMIENTO DE ZONAS DE SEGURIDAD Y ZONAS VERDES DE LOS AEROPUERTOS DE AMALFI, CIMITARRA, OTU Y PUERTO BERRRIO
C7: Adicionalmente, cuando el proceso de contratación es estructurado por precios unitarios, la Entidad debe aplicar las notas 1, 2 y 3 del presente formulario y las casillas de "Descripción", "Porcentaje" de la Administración, Imprevisto, Utilidad y total A.I.U. resaltadas en colo amarillo. Tratándose de otras modalidades de precio, la Entidad puede o no configurar los mismos aspectos.
C9: Nº | D9: ITEM DE PAGO | E9: ESPECIFICACIONES | G9: DESCRIPCION | H9: UND. | I9: CANTIDAD | J9: VALOR UNITARIO | K9: VALOR TOTAL
E10: GENERAL | F10: PARTICULAR
D11: 1 | G11: AEROPUERTO EL RIO DE AMALFI - ANTIOQUIA
D12: 1.1 | E12: x | G12: Mantenimiento de zonas verdes. 1. Roceria: zonas de seguridad y demás áreas del aeropuerto. Debe incluir la limpieza de las áreas perimetrales internas (desde las zonas de seguridad hasta el cerramiento). Consistente en desmonte y limpieza de zonas no boscosas. Incluye Aplicación de matamatelezas (combatran, randall o similar) a todas las zonas de seguridad incluida la base del cerramiento. 2. Limpieza manual del cerramiento (mallas), retirando todo elemento orgánico e inorgánico. Se hará además la fumigación con un herbicida químico. Incluye Cargue y disposición de material sobrante al botadero autorizado | H12: Ha | I12: 51.6 | J12: 864093 | K12: =ROUND(I12*J12,0) -> 44587199
D13: 1.2 | E13: x | G13: Limpieza (desmalezado y evacuación sedimentos) en canales (en tierra o en concreto) de evacuación aguas, retiro y disposición de material sobrante a cualquier distancia en botadero autorizado. Consistente en mantenimiento de taludes, reconstrucción de canales y limpieza de cauce a cualquier ancho de canal. Se debe garantizar por el tiempo de duración del contrato el caudal natural de las aguas retirando todo elemento que le impida al agua su curso normal. | H13: m | I13: 7308 | J13: 8059 | K13: =ROUND(I13*J13,0) -> 58895172
G14: SUBTOTAL COSTO DIRECTO | K14: =SUM(K12:K13) -> 103482371
G15: SUBTOTAL OBRAS (INCLUYE IVA) | K15: =ROUND(+((K14/1.26)*0.05)*0.19,0) -> 780224
G16: TOTAL AEROPUERTO AEROPUERTO EL RIO DE AMALFI - ANTIOQUIA | K16: =SUM(K14:K15) -> 104262595
D17: 2 | G17: AEROPUERTO ALBERTO JARAMILLO SANCHEZ DE OTU - REMEDIOS - ANTIOQUIA
D18: 2.1 | E18: x | G18: Mantenimiento de zonas verdes. 1. Roceria: zonas de seguridad y demás áreas del aeropuerto. Debe incluir la limpieza de las áreas perimetrales internas (desde las zonas de seguridad hasta el cerramiento). Consistente en desmonte y limpieza de zonas no boscosas. Incluye Aplicación de matamatelezas (combatran, randall o similar) a todas las zonas de seguridad incluida la base del cerramiento. 2. Limpieza manual del cerramiento (mallas), retirando todo elemento orgánico e inorgánico. Se hará además la fumigación con un herbicida químico. Incluye Cargue y disposición de material sobrante al botadero autorizado | H18: Ha | I18: 69 | J18: 864587 | K18: =ROUND(I18*J18,0) -> 59656503
D19: 2.2 | E19: x | G19: Limpieza (desmalezado y evacuación sedimentos) en canales (en tierra o en concreto) de evacuación aguas, retiro y disposición de material sobrante a cualquier distancia en botadero autorizado. Consistente en mantenimiento de taludes, reconstrucción de canales y limpieza de cauce a cualquier ancho de canal. Se debe garantizar por el tiempo de duración del contrato el caudal natural de las aguas retirando todo elemento que le impida al agua su curso normal. | H19: m | I19: 6808 | J19: 8203 | K19: =ROUND(I19*J19,0) -> 55846024
G20: SUBTOTAL COSTO DIRECTO | K20: =SUM(K18:K19) -> 115502527
G21: SUBTOTAL OBRAS (INCLUYE IVA) | K21: =ROUND(+((K20/1.26)*0.05)*0.19,0) -> 870852
G22: TOTAL AEROPUERTO ALBERTO JARAMILLO SANCHEZ DE OTU - REMEDIOS - ANTIOQUIA | K22: =SUM(K20:K21) -> 116373379
D23: 3 | G23: AEROPUERTO GUSTAVO ROJAS PINILLA DE CIMITARRA - SANTANDER
D24: 3.1 | E24: x | G24: Mantenimiento de zonas verdes. 1. Roceria: zonas de seguridad y demás áreas del aeropuerto. Debe incluir la limpieza de las áreas perimetrales internas (desde las zonas de seguridad hasta el cerramiento). Consistente en desmonte y limpieza de zonas no boscosas. Incluye Aplicación de matamatelezas (combatran, randall o similar) a todas las zonas de seguridad incluida la base del cerramiento. 2. Limpieza manual del cerramiento (mallas), retirando todo elemento orgánico e inorgánico. Se hará además la fumigación con un herbicida químico. Incluye Cargue y disposición de material sobrante al botadero autorizado | H24: Ha | I24: 59 | J24: 847652 | K24: =ROUND(I24*J24,0) -> 50011468
D25: 3.2 | E25: x | G25: Limpieza (desmalezado y evacuación sedimentos) en canales (en tierra o en concreto) de evacuación aguas, retiro y disposición de material sobrante a cualquier distancia en botadero autorizado. Consistente en mantenimiento de taludes, reconstrucción de canales y limpieza de cauce a cualquier ancho de canal. Se debe garantizar por el tiempo de duración del contrato el caudal natural de las aguas retirando todo elemento que le impida al agua su curso normal. | H25: m | I25: 4774 | J25: 8510 | K25: =ROUND(I25*J25,0) -> 40626740
G26: SUBTOTAL COSTO DIRECTO | K26: =SUM(K24:K25) -> 90638208
G27: SUBTOTAL OBRAS (INCLUYE IVA) | K27: =ROUND(+((K26/1.26)*0.05)*0.19,0) -> 683383
G28: TOTAL AEROPUERTO GUSTAVO ROJAS PINILLA DE CIMITARRA - SANTANDER | K28: =SUM(K26:K27) -> 91321591
D29: 4 | G29: AEROPUERTO MORELA DE PUERTO BERRIO - ANTIOQUIA
D30: 4.1 | E30: x | G30: Mantenimiento de zonas verdes. 1. Roceria: zonas de seguridad y demás áreas del aeropuerto. Debe incluir la limpieza de las áreas perimetrales internas (desde las zonas de seguridad hasta el cerramiento). Consistente en desmonte y limpieza de zonas no boscosas. Incluye Aplicación de matamatelezas (combatran, randall o similar) a todas las zonas de seguridad incluida la base del cerramiento. 2. Limpieza manual del cerramiento (mallas), retirando todo elemento orgánico e inorgánico. Se hará además la fumigación con un herbicida químico. Incluye Cargue y disposición de material sobrante al botadero autorizado | H30: Ha | I30: 59 | J30: 848126 | K30: =ROUND(I30*J30,0) -> 50039434
D31: 4.2 | E31: x | G31: Limpieza (desmalezado y evacuación sedimentos) en canales (en tierra o en concreto) de evacuación aguas, retiro y disposición de material sobrante a cualquier distancia en botadero autorizado. Consistente en mantenimiento de taludes, reconstrucción de canales y limpieza de cauce a cualquier ancho de canal. Se debe garantizar por el tiempo de duración del contrato el caudal natural de las aguas retirando todo elemento que le impida al agua su curso normal. | H31: m | I31: 4434 | J31: 8422 | K31: =ROUND(I31*J31,0) -> 37343148
G32: SUBTOTAL COSTO DIRECTO | K32: =SUM(K30:K31) -> 87382582
G33: SUBTOTAL OBRAS (INCLUYE IVA) | K33: =ROUND(+((K32/1.26)*0.05)*0.19,0) -> 658837
G34: TOTAL AEROPUERTO AEROPUERTO MORELA DE PUERTO BERRIO - ANTIOQUIA | K34: =SUM(K32:K33) -> 88041419
C35: SUBTOTAL COSTO DIRECTO | K35: =K14+K26+K20+K32 -> 397005688 | O35: =K14+K20+K26+K32 -> 397005688
G38: SUBTOTAL OBRAS (INCLUYE IVA) | K38: =ROUND(+((K35/1.26)*0.05)*0.19,0) -> 2993297
G42: VALOR TOTAL | K42: =SUM(K35:K41) -> 399998985 | O42: =K16+K22+K28+K34 -> 399998984
C45: NOTA 1: Se debe tener en cuenta que el PRECIO UNITARIO incluye el valor de A.I.U. | H45: DESCRIPCION | K45: PORCENTAJE
C46: NOTA 2: Cuando la fracción decimal del peso sea igual o superior a 5 se aproximara por exceso al número entero siguiente del peso y cuando la fracción decimal del peso sea inferior a 5 se aproximará por defecto al número entero del peso. | H46: ADMINISTRACION | J46: =ROUND(K35*K46,0) -> 79401138 | K46: 0.2
C47: NOTA 3: El A.I.U y su discriminación deben estar en porcentaje (%). | H47: IMPREVISTOS | J47: =ROUND(K35*K47,0) -> 3970057 | K47: 0.01
C48: NOTA 4: [Determinar por la Entidad] | H48: UTILIDAD | J48: =ROUND(K35*K48,0) -> 19850284 | K48: 0.05
C49: NOTA 5: [Determinar por la Entidad] | H49: TOTAL A.I.U | J49: =SUM(J46:J48) -> 103221479 | K49: =SUM(K46:K48) -> 0.26
...

Sheet PROPUESTA ECONÓMICA
C1: Formulario 1 - Propuesta económica - Documento tipo de selección abreviada de menor cuantía - versión 2
C2: Código | D2: CCE-EICP-FM-25 | E2: Versión | F2: 2
C3: FORMULARIO 1
C4: PROPUESTA ECONOMICA
C5: OBJETO: 33200C1183 REALIZAR LA MANTENIMIENTO DE ZONAS DE SEGURIDAD Y ZONAS VERDES DE LOS AEROPUERTOS DE AMALFI, CIMITARRA, OTU Y PUERTO BERRRIO
C7: Adicionalmente, cuando el proceso de contratación es estructurado por precios unitarios, la Entidad debe aplicar las notas 1, 2 y 3 del presente formulario y las casillas de "Descripción", "Porcentaje" de la Administración, Imprevisto, Utilidad y total A.I.U. resaltadas en colo amarillo. Tratándose de otras modalidades de precio, la Entidad puede o no configurar los mismos aspectos.
C9: Nº | D9: ITEM DE PAGO | E9: ESPECIFICACIONES | G9: DESCRIPCION | H9: UND. | I9: CANTIDAD | J9: VALOR UNITARIO | K9: VALOR TOTAL
E10: GENERAL | F10: PARTICULAR
D11: 1 | G11: LOTE 1 AEROPUERTO EL RIO DE AMALFI - ANTIOQUIA
D12: 1.1 | E12: x | G12: Mantenimiento de zonas verdes. 1. Roceria: zonas de seguridad y demás áreas del aeropuerto. Debe incluir la limpieza de las áreas perimetrales internas (desde las zonas de seguridad hasta el cerramiento). Consistente en desmonte y limpieza de zonas no boscosas. Incluye Aplicación de matamatelezas (combatran, randall o similar) a todas las zonas de seguridad incluida la base del cerramiento. 2. Limpieza manual del cerramiento (mallas), retirando todo elemento orgánico e inorgánico. Se hará además la fumigación con un herbicida químico. Incluye Cargue y disposición de material sobrante al botadero autorizado | H12: Ha | I12: 51.6 | K12: =ROUND(I12*J12,0) -> 0
D13: 1.2 | E13: x | G13: Limpieza (desmalezado y evacuación sedimentos) en canales (en tierra o en concreto) de evacuación aguas, retiro y disposición de material sobrante a cualquier distancia en botadero autorizado. Consistente en mantenimiento de taludes, reconstrucción de canales y limpieza de cauce a cualquier ancho de canal. Se debe garantizar por el tiempo de duración del contrato el caudal natural de las aguas retirando todo elemento que le impida al agua su curso normal. | H13: m | I13: 7308 | K13: =ROUND(I13*J13,0) -> 0
D14: 2 | G14: LOTE 2 AEROPUERTO ALBERTO JARAMILLO SANCHEZ DE OTU - REMEDIOS - ANTIOQUIA
D15: 2.1 | E15: x | G15: Mantenimiento de zonas verdes. 1. Roceria: zonas de seguridad y demás áreas del aeropuerto. Debe incluir la limpieza de las áreas perimetrales internas (desde las zonas de seguridad hasta el cerramiento). Consistente en desmonte y limpieza de zonas no boscosas. Incluye Aplicación de matamatelezas (combatran, randall o similar) a todas las zonas de seguridad incluida la base del cerramiento. 2. Limpieza manual del cerramiento (mallas), retirando todo elemento orgánico e inorgánico. Se hará además la fumigación con un herbicida químico. Incluye Cargue y disposición de material sobrante al botadero autorizado | H15: Ha | I15: 69 | K15: =ROUND(I15*J15,0) -> 0
D16: 2.2 | E16: x | G16: Limpieza (desmalezado y evacuación sedimentos) en canales (en tierra o en concreto) de evacuación aguas, retiro y disposición de material sobrante a cualquier distancia en botadero autorizado. Consistente en mantenimiento de taludes, reconstrucción de canales y limpieza de cauce a cualquier ancho de canal. Se debe garantizar por el tiempo de duración del contrato el caudal natural de las aguas retirando todo elemento que le impida al agua su curso normal. | H16: m | I16: 6808 | K16: =ROUND(I16*J16,0) -> 0
D17: 3 | G17: LOTE 3 AEROPUERTO GUSTAVO ROJAS PINILLA DE CIMITARRA - SANTANDER
D18: 3.1 | E18: x | G18: Mantenimiento de zonas verdes. 1. Roceria: zonas de seguridad y demás áreas del aeropuerto. Debe incluir la limpieza de las áreas perimetrales internas (desde las zonas de seguridad hasta el cerramiento). Consistente en desmonte y limpieza de zonas no boscosas. Incluye Aplicación de matamatelezas (combatran, randall o similar) a todas las zonas de seguridad incluida la base del cerramiento. 2. Limpieza manual del cerramiento (mallas), retirando todo elemento orgánico e inorgánico. Se hará además la fumigación con un herbicida químico. Incluye Cargue y disposición de material sobrante al botadero autorizado | H18: Ha | I18: 59 | K18: =ROUND(I18*J18,0) -> 0
D19: 3.2 | E19: x | G19: Limpieza (desmalezado y evacuación sedimentos) en canales (en tierra o en concreto) de evacuación aguas, retiro y disposición de material sobrante a cualquier distancia en botadero autorizado. Consistente en mantenimiento de taludes, reconstrucción de canales y limpieza de cauce a cualquier ancho de canal. Se debe garantizar por el tiempo de duración del contrato el caudal natural de las aguas retirando todo elemento que le impida al agua su curso normal. | H19: m | I19: 4774 | K19: =ROUND(I19*J19,0) -> 0
D20: 4 | G20: LOTE 4 AEROPUERTO MORELA DE PUERTO BERRIO - ANTIOQUIA
D21: 4.1 | E21: x | G21: Mantenimiento de zonas verdes. 1. Roceria: zonas de seguridad y demás áreas del aeropuerto. Debe incluir la limpieza de las áreas perimetrales internas (desde las zonas de seguridad hasta el cerramiento). Consistente en desmonte y limpieza de zonas no boscosas. Incluye Aplicación de matamatelezas (combatran, randall o similar) a todas las zonas de seguridad incluida la base del cerramiento. 2. Limpieza manual del cerramiento (mallas), retirando todo elemento orgánico e inorgánico. Se hará además la fumigación con un herbicida químico. Incluye Cargue y disposición de material sobrante al botadero autorizado | H21: Ha | I21: 59 | K21: =ROUND(I21*J21,0) -> 0
D22: 4.2 | E22: x | G22: Limpieza (desmalezado y evacuación sedimentos) en canales (en tierra o en concreto) de evacuación aguas, retiro y disposición de material sobrante a cualquier distancia en botadero autorizado. Consistente en mantenimiento de taludes, reconstrucción de canales y limpieza de cauce a cualquier ancho de canal. Se debe garantizar por el tiempo de duración del contrato el caudal natural de las aguas retirando todo elemento que le impida al agua su curso normal. | H22: m | I22: 4434 | K22: =ROUND(I22*J22,0) -> 0
C23: SUBTOTAL COSTO DIRECTO | K23: =SUM(K12:K22) -> 0
G26: SUBTOTAL OBRAS (INCLUYE IVA) | K26: =ROUND(+((K23/1.26)*0.05)*0.19,0) -> 0
G30: VALOR TOTAL | K30: =SUM(K23:K29) -> 0
C33: NOTA 1: Se debe tener en cuenta que el PRECIO UNITARIO incluye el valor de A.I.U. | H33: DESCRIPCION | K33: PORCENTAJE
C34: NOTA 2: Cuando la fracción decimal del peso sea igual o superior a 5 se aproximara por exceso al número entero siguiente del peso y cuando la fracción decimal del peso sea inferior a 5 se aproximará por defecto al número entero del peso. | H34: ADMINISTRACION | J34: =ROUND(K23*K34,0) -> 0 | K34: 0.2
C35: NOTA 3: El A.I.U y su discriminación deben estar en porcentaje (%). | H35: IMPREVISTOS | J35: =ROUND(K23*K35,0) -> 0 | K35: 0.01
C36: NOTA 4: [Determinar por la Entidad] | H36: UTILIDAD | J36: =ROUND(K23*K36,0) -> 0 | K36: 0.05
C37: NOTA 5: [Determinar por la Entidad] | H37: TOTAL A.I.U | J37: =SUM(J34:J36) -> 0 | K37: =SUM(K34:K36) -> 0.26
C38: NOTA 6: [Determinar por la Entidad]

Sheet PROPUESTA ECONÓMICA LOTE 1
C1: Formulario 1 - Propuesta económica - Documento tipo de selección abreviada de menor cuantía - versión 2
C2: Código | D2: CCE-EICP-FM-25 | E2: Versión | F2: 2
C3: FORMULARIO 1
C4: PROPUESTA ECONOMICA
C5: OBJETO: 33200C1183 REALIZAR LA MANTENIMIENTO DE ZONAS DE SEGURIDAD Y ZONAS VERDES DE LOS AEROPUERTOS DE AMALFI, CIMITARRA, OTU Y PUERTO BERRRIO
C7: Adicionalmente, cuando el proceso de contratación es estructurado por precios unitarios, la Entidad debe aplicar las notas 1, 2 y 3 del presente formulario y las casillas de "Descripción", "Porcentaje" de la Administración, Imprevisto, Utilidad y total A.I.U. resaltadas en colo amarillo. Tratándose de otras modalidades de precio, la Entidad puede o no configurar los mismos aspectos.
C8: LOTE 1 REALIZAR MANTENIMIENTO DE ZONAS DE SEGURIDAD Y ZONAS VERDES DEL AEROPUERTO DE AMALFI
C9: Nº | D9: ITEM DE PAGO | E9: ESPECIFICACIONES | G9: DESCRIPCION | H9: UND. | I9: CANTIDAD | J9: VALOR UNITARIO | K9: VALOR TOTAL
E10: GENERAL | F10: PARTICULAR
D11: 1 | G11: LOTE 1
D12: 1.1 | G12: LOTE 1 AEROPUERTO EL RIO DE AMALFI - ANTIOQUIA
D13: 1,1,1 | E13: x | G13: Mantenimiento de zonas verdes. 1. Roceria: zonas de seguridad y demás áreas del aeropuerto. Debe incluir la limpieza de las áreas perimetrales internas (desde las zonas de seguridad hasta el cerramiento). Consistente en desmonte y limpieza de zonas no boscosas. Incluye Aplicación de matamatelezas (combatran, randall o similar) a todas las zonas de seguridad incluida la base del cerramiento. 2. Limpieza manual del cerramiento (mallas), retirando todo elemento orgánico e inorgánico. Se hará además la fumigación con un herbicida químico. Incluye Cargue y disposición de material sobrante al botadero autorizado | H13: Ha | I13: 51.6 | K13: =ROUND(I13*J13,0) -> 0
D14: 1,1,2 | E14: x | G14: Limpieza (desmalezado y evacuación sedimentos) en canales (en tierra o en concreto) de evacuación aguas, retiro y disposición de material sobrante a cualquier distancia en botadero autorizado. Consistente en mantenimiento de taludes, reconstrucción de canales y limpieza de cauce a cualquier ancho de canal. Se debe garantizar por el tiempo de duración del contrato el caudal natural de las aguas retirando todo elemento que le impida al agua su curso normal. | H14: m | I14: 7308 | K14: =ROUND(I14*J14,0) -> 0
C15: SUBTOTAL COSTO DIRECTO | K15: =SUM(K13:K14) -> 0
G18: SUBTOTAL OBRAS (INCLUYE IVA) | K18: =ROUND(+((K15/1.26)*0.05)*0.19,0) -> 0
G22: VALOR TOTAL | K22: =SUM(K15:K21) -> 0
C25: NOTA 1: Se debe tener en cuenta que el PRECIO UNITARIO incluye el valor de A.I.U. | H25: DESCRIPCION | K25: PORCENTAJE
C26: NOTA 2: Cuando la fracción decimal del peso sea igual o superior a 5 se aproximara por exceso al número entero siguiente del peso y cuando la fracción decimal del peso sea inferior a 5 se aproximará por defecto al número entero del peso. | H26: ADMINISTRACION | J26: =ROUND(K15*K26,0) -> 0 | K26: 0.2
C27: NOTA 3: El A.I.U y su discriminación deben estar en porcentaje (%). | H27: IMPREVISTOS | J27: =ROUND(K15*K27,0) -> 0 | K27: 0.01
C28: NOTA 4: [Determinar por la Entidad] | H28: UTILIDAD | J28: =ROUND(K15*K28,0) -> 0 | K28: 0.05
C29: NOTA 5: [Determinar por la Entidad] | H29: TOTAL A.I.U | J29: =SUM(J26:J28) -> 0 | K29: =SUM(K26:K28) -> 0.26
C30: NOTA 6: [Determinar por la Entidad]

Sheet PROPUESTA ECONÓMICA LOTE 2
C1: Formulario 1 - Propuesta económica - Documento tipo de selección abreviada de menor cuantía - versión 2
C2: Código | D2: CCE-EICP-FM-25 | E2: Versión | F2: 2
C3: FORMULARIO 1
C4: PROPUESTA ECONOMICA
C5: OBJETO: 33200C1183 REALIZAR LA MANTENIMIENTO DE ZONAS DE SEGURIDAD Y ZONAS VERDES DE LOS AEROPUERTOS DE AMALFI, CIMITARRA, OTU Y PUERTO BERRRIO
C7: Adicionalmente, cuando el proceso de contratación es estructurado por precios unitarios, la Entidad debe aplicar las notas 1, 2 y 3 del presente formulario y las casillas de "Descripción", "Porcentaje" de la Administración, Imprevisto, Utilidad y total A.I.U. resaltadas en colo amarillo. Tratándose de otras modalidades de precio, la Entidad puede o no configurar los mismos aspectos.
C8: LOTE 2 REALIZAR MANTENIMIENTO DE ZONAS DE SEGURIDAD Y ZONAS VERDES DEL AEROPUERTO DE OTU
C9: Nº | D9: ITEM DE PAGO | E9: ESPECIFICACIONES | G9: DESCRIPCION | H9: UND. | I9: CANTIDAD | J9: VALOR UNITARIO | K9: VALOR TOTAL
E10: GENERAL | F10: PARTICULAR
D11: 2 | G11: LOTE 2
D12: 2.1 | G12: LOTE 2 AEROPUERTO ALBERTO JARAMILLO SANCHEZ DE OTU - REMEDIOS - ANTIOQUIA
D13: 2,1,1 | E13: x | G13: Mantenimiento de zonas verdes. 1. Roceria: zonas de seguridad y demás áreas del aeropuerto. Debe incluir la limpieza de las áreas perimetrales internas (desde las zonas de seguridad hasta el cerramiento). Consistente en desmonte y limpieza de zonas no boscosas. Incluye Aplicación de matamatelezas (combatran, randall o similar) a todas las zonas de seguridad incluida la base del cerramiento. 2. Limpieza manual del cerramiento (mallas), retirando todo elemento orgánico e inorgánico. Se hará además la fumigación con un herbicida químico. Incluye Cargue y disposición de material sobrante al botadero autorizado | H13: Ha | I13: 69 | K13: =ROUND(I13*J13,0) -> 0
D14: 2,1,2 | E14: x | G14: Limpieza (desmalezado y evacuación sedimentos) en canales (en tierra o en concreto) de evacuación aguas, retiro y disposición de material sobrante a cualquier distancia en botadero autorizado. Consistente en mantenimiento de taludes, reconstrucción de canales y limpieza de cauce a cualquier ancho de canal. Se debe garantizar por el tiempo de duración del contrato el caudal natural de las aguas retirando todo elemento que le impida al agua su curso normal. | H14: m | I14: 6808 | K14: =ROUND(I14*J14,0) -> 0
C15: SUBTOTAL COSTO DIRECTO | K15: =SUM(K12:K14) -> 0
G18: SUBTOTAL OBRAS (INCLUYE IVA) | K18: =ROUND(+((K15/1.26)*0.05)*0.19,0) -> 0
G22: VALOR TOTAL | K22: =SUM(K15:K21) -> 0
C25: NOTA 1: Se debe tener en cuenta que el PRECIO UNITARIO incluye el valor de A.I.U. | H25: DESCRIPCION | K25: PORCENTAJE
C26: NOTA 2: Cuando la fracción decimal del peso sea igual o superior a 5 se aproximara por exceso al número entero siguiente del peso y cuando la fracción decimal del peso sea inferior a 5 se aproximará por defecto al número entero del peso. | H26: ADMINISTRACION | J26: =ROUND(K15*K26,0) -> 0 | K26: 0.2
C27: NOTA 3: El A.I.U y su discriminación deben estar en porcentaje (%). | H27: IMPREVISTOS | J27: =ROUND(K15*K27,0) -> 0 | K27: 0.01
C28: NOTA 4: [Determinar por la Entidad] | H28: UTILIDAD | J28: =ROUND(K15*K28,0) -> 0 | K28: 0.05
C29: NOTA 5: [Determinar por la Entidad] | H29: TOTAL A.I.U | J29: =SUM(J26:J28) -> 0 | K29: =SUM(K26:K28) -> 0.26
C30: NOTA 6: [Determinar por la Entidad]

Sheet PROPUESTA ECONÓMICA LOTE 3
C1: Formulario 1 - Propuesta económica - Documento tipo de selección abreviada de menor cuantía - versión 2
C2: Código | D2: CCE-EICP-FM-25 | E2: Versión | F2: 2
C3: FORMULARIO 1
C4: PROPUESTA ECONOMICA
C5: OBJETO: 33200C1183 REALIZAR LA MANTENIMIENTO DE ZONAS DE SEGURIDAD Y ZONAS VERDES DE LOS AEROPUERTOS DE AMALFI, CIMITARRA, OTU Y PUERTO BERRRIO
C7: Adicionalmente, cuando el proceso de contratación es estructurado por precios unitarios, la Entidad debe aplicar las notas 1, 2 y 3 del presente formulario y las casillas de "Descripción", "Porcentaje" de la Administración, Imprevisto, Utilidad y total A.I.U. resaltadas en colo amarillo. Tratándose de otras modalidades de precio, la Entidad puede o no configurar los mismos aspectos.
C8: LOTE 3 REALIZAR MANTENIMIENTO DE ZONAS DE SEGURIDAD Y ZONAS VERDES DEL AEROPUERTO DE CIMITARRA
C9: Nº | D9: ITEM DE PAGO | E9: ESPECIFICACIONES | G9: DESCRIPCION | H9: UND. | I9: CANTIDAD | J9: VALOR UNITARIO | K9: VALOR TOTAL
E10: GENERAL | F10: PARTICULAR
D11: 3 | G11: LOTE 3
D12: 3.1 | G12: LOTE 3 AEROPUERTO GUSTAVO ROJAS PINILLA DE CIMITARRA - SANTANDER
D13: 3,1,1 | E13: x | G13: Mantenimiento de zonas verdes. 1. Roceria: zonas de seguridad y demás áreas del aeropuerto. Debe incluir la limpieza de las áreas perimetrales internas (desde las zonas de seguridad hasta el cerramiento). Consistente en desmonte y limpieza de zonas no boscosas. Incluye Aplicación de matamatelezas (combatran, randall o similar) a todas las zonas de seguridad incluida la base del cerramiento. 2. Limpieza manual del cerramiento (mallas), retirando todo elemento orgánico e inorgánico. Se hará además la fumigación con un herbicida químico. Incluye Cargue y disposición de material sobrante al botadero autorizado | H13: Ha | I13: 59 | K13: =ROUND(I13*J13,0) -> 0
D14: 3,1,2 | E14: x | G14: Limpieza (desmalezado y evacuación sedimentos) en canales (en tierra o en concreto) de evacuación aguas, retiro y disposición de material sobrante a cualquier distancia en botadero autorizado. Consistente en mantenimiento de taludes, reconstrucción de canales y limpieza de cauce a cualquier ancho de canal. Se debe garantizar por el tiempo de duración del contrato el caudal natural de las aguas retirando todo elemento que le impida al agua su curso normal. | H14: m | I14: 4774 | K14: =ROUND(I14*J14,0) -> 0
C15: SUBTOTAL COSTO DIRECTO | K15: =SUM(K12:K14) -> 0
G18: SUBTOTAL OBRAS (INCLUYE IVA) | K18: =ROUND(+((K15/1.26)*0.05)*0.19,0) -> 0
G22: VALOR TOTAL | K22: =SUM(K15:K21) -> 0
C25: NOTA 1: Se debe tener en cuenta que el PRECIO UNITARIO incluye el valor de A.I.U. | H25: DESCRIPCION | K25: PORCENTAJE
C26: NOTA 2: Cuando la fracción decimal del peso sea igual o superior a 5 se aproximara por exceso al número entero siguiente del peso y cuando la fracción decimal del peso sea inferior a 5 se aproximará por defecto al número entero del peso. | H26: ADMINISTRACION | J26: =ROUND(K15*K26,0) -> 0 | K26: 0.2
C27: NOTA 3: El A.I.U y su discriminación deben estar en porcentaje (%). | H27: IMPREVISTOS | J27: =ROUND(K15*K27,0) -> 0 | K27: 0.01
C28: NOTA 4: [Determinar por la Entidad] | H28: UTILIDAD | J28: =ROUND(K15*K28,0) -> 0 | K28: 0.05
C29: NOTA 5: [Determinar por la Entidad] | H29: TOTAL A.I.U | J29: =SUM(J26:J28) -> 0 | K29: =SUM(K26:K28) -> 0.26
C30: NOTA 6: [Determinar por la Entidad]

Sheet PROPUESTA ECONÓMICA LOTE 4
C1: Formulario 1 - Propuesta económica - Documento tipo de selección abreviada de menor cuantía - versión 2
C2: Código | D2: CCE-EICP-FM-25 | E2: Versión | F2: 2
C3: FORMULARIO 1
C4: PROPUESTA ECONOMICA
C5: OBJETO: 33200C1183 REALIZAR LA MANTENIMIENTO DE ZONAS DE SEGURIDAD Y ZONAS VERDES DE LOS AEROPUERTOS DE AMALFI, CIMITARRA, OTU Y PUERTO BERRRIO
C7: Adicionalmente, cuando el proceso de contratación es estructurado por precios unitarios, la Entidad debe aplicar las notas 1, 2 y 3 del presente formulario y las casillas de "Descripción", "Porcentaje" de la Administración, Imprevisto, Utilidad y total A.I.U. resaltadas en colo amarillo. Tratándose de otras modalidades de precio, la Entidad puede o no configurar los mismos aspectos.
C8: LOTE 4 REALIZAR MANTENIMIENTO DE ZONAS DE SEGURIDAD Y ZONAS VERDES DEL AEROPUERTO DE PUERTO BERRIO
C9: Nº | D9: ITEM DE PAGO | E9: ESPECIFICACIONES | G9: DESCRIPCION | H9: UND. | I9: CANTIDAD | J9: VALOR UNITARIO | K9: VALOR TOTAL
E10: GENERAL | F10: PARTICULAR
D11: 4 | G11: LOTE 4
D12: 4.1 | G12: LOTE 4 AEROPUERTO MORELA DE PUERTO BERRIO - ANTIOQUIA
D13: 4,1,1 | E13: x | G13: Mantenimiento de zonas verdes. 1. Roceria: zonas de seguridad y demás áreas del aeropuerto. Debe incluir la limpieza de las áreas perimetrales internas (desde las zonas de seguridad hasta el cerramiento). Consistente en desmonte y limpieza de zonas no boscosas. Incluye Aplicación de matamatelezas (combatran, randall o similar) a todas las zonas de seguridad incluida la base del cerramiento. 2. Limpieza manual del cerramiento (mallas), retirando todo elemento orgánico e inorgánico. Se hará además la fumigación con un herbicida químico. Incluye Cargue y disposición de material sobrante al botadero autorizado | H13: Ha | I13: 59 | K13: =ROUND(I13*J13,0) -> 0
D14: 4,1,2 | E14: x | G14: Limpieza (desmalezado y evacuación sedimentos) en canales (en tierra o en concreto) de evacuación aguas, retiro y disposición de material sobrante a cualquier distancia en botadero autorizado. Consistente en mantenimiento de taludes, reconstrucción de canales y limpieza de cauce a cualquier ancho de canal. Se debe garantizar por el tiempo de duración del contrato el caudal natural de las aguas retirando todo elemento que le impida al agua su curso normal. | H14: m | I14: 4434 | K14: =ROUND(I14*J14,0) -> 0
C15: SUBTOTAL COSTO DIRECTO | K15: =SUM(K12:K14) -> 0
G18: SUBTOTAL OBRAS (INCLUYE IVA) | K18: =ROUND(+((K15/1.26)*0.05)*0.19,0) -> 0
G22: VALOR TOTAL | K22: =SUM(K15:K21) -> 0
C25: NOTA 1: Se debe tener en cuenta que el PRECIO UNITARIO incluye el valor de A.I.U. | H25: DESCRIPCION | K25: PORCENTAJE
C26: NOTA 2: Cuando la fracción decimal del peso sea igual o superior a 5 se aproximara por exceso al número entero siguiente del peso y cuando la fracción decimal del peso sea inferior a 5 se aproximará por defecto al número entero del peso. | H26: ADMINISTRACION | J26: =ROUND(K15*K26,0) -> 0 | K26: 0.2
C27: NOTA 3: El A.I.U y su discriminación deben estar en porcentaje (%). | H27: IMPREVISTOS | J27: =ROUND(K15*K27,0) -> 0 | K27: 0.01
C28: NOTA 4: [Determinar por la Entidad] | H28: UTILIDAD | J28: =ROUND(K15*K28,0) -> 0 | K28: 0.05
C29: NOTA 5: [Determinar por la Entidad] | H29: TOTAL A.I.U | J29: =SUM(J26:J28) -> 0 | K29: =SUM(K26:K28) -> 0.26
C30: NOTA 6: [Determinar por la Entidad]

Sheet PPTTOAERÓDROMCerramiento2024
E3: POLÍTICA DE MANTENIMIENTO DE LA INFRAESTRUCTURA AEROPORTUARIA
E4: PRESUPUESTO DE MANTENIMIENTO O SERVICIO AERÓDROMO
E5: Clave: 6000 | G5: Versión: 0.1 | H5: Fecha de aprobación:
C7: El presente formato continene la información básica para atender las necesidades del mantenimiento rutinario de la infraestructura del aeropuerto.
C9: AEROPUERTO: | E9: EL RÍO | H9: REGIONAL: | I9: NOROCCIDENTAL
C10: UBICACIÓN: AMALFI - ANTIOQUIA
C11: ELEMENTOS AERÓDROMO
C12: ÍTEM | D12: TIPO DE INTERVENCIÓN | F12: DESCRIPCIÓN DE LA ACTIVIDAD | H12: UND. | I12: CANTIDAD | J12: VALOR UNITARIO | K12: VALOR TOTAL
D13: MANTTO | E13: SERVICIO
C14: 5 | D14: x | F14: Suministro e instalación portón de acceso 2 hojas en tubo galvanizado 2" malla eslabonada 2.20x2.30 y 6x2,3, incluye pintura, soldadura, herraje, anticorrosivos, bisagras y todo lo necesario para su correcto funcionamiento | H14: glb | I14: 2 | J14: ='E. MERCADO'!I37 -> #REF! | K14: =I14*J14 -> #REF!
C15: 6 | D15: x | F15: Excavación manual (concreto ciclópeo, pie de amigo y pedestales). | H15: m3 | I15: =+I19*0.3*0.4+I17 -> 89.76 | J15: ='E. MERCADO'!I42 -> #REF! | K15: =I15*J15 -> #REF!
C16: 7 | D16: x | F16: Viga de amarre concreto 3000PSI Incluye refuerzo. | H16: m3 | I16: =+I19*0.3*0.2 -> 40.8 | J16: ='E. MERCADO'!I47 -> #REF! | K16: =I16*J16 -> #REF!
C17: 8 | D17: x | F17: Cimiento pie amigo concreto 3000 PSI. Cimiento pedestal concreto 3000 PSI. | H17: m3 | I17: =+(I19/10)*0.3*0.4 -> 8.16 | J17: ='E. MERCADO'!I53 -> #REF! | K17: =I17*J17 -> #REF!
C18: 9 | D18: x | F18: Mortero 1:4. para pie de amigo | H18: m | I18: =I19 -> 680 | J18: ='E. MERCADO'!I58 -> #REF! | K18: =I18*J18 -> #REF!
C19: 10 | D19: x | F19: Suministro e instalación cerramiento tipo I en malla eslabonada con recubrimiento en PVC, calibre 8" incluyendo el recubrimiento, H = 2 m, Incluye tubería (Poste, Pie de apoyo y pie de amigo). Cuatro hilos de alambre de púa y accesorios. | H19: m | I19: 680 | J19: ='E. MERCADO'!I64 -> #REF! | K19: =I19*J19 -> #REF!
C20: 11 | D20: x | F20: Desmonte de cerramiento en mal estado | H20: m | I20: =I19 -> 680 | J20: ='E. MERCADO'!I70 -> #REF! | K20: =I20*J20 -> #REF!
C21: 12 | D21: x | F21: Cimiento concreto ciclópeo | H21: m3 | I21: =+I20*0.3*0.4+I17 -> 89.76 | J21: ='E. MERCADO'!I76 -> #REF! | K21: =I21*J21 -> #REF!
G25: Valor parcial Mantenimiento: | I25: =SUM(K14:K23) -> #REF!
G26: ADMINISTRACIÒN: | H26: 0.15 | I26: =I25*H26 -> #REF!
G27: IMPREVISTOS: | H27: 0.05 | I27: =I25*H27 -> #REF!
G28: UTILIDAD: | H28: 0.05 | I28: =I25*H28 -> #REF!
G29: VALOR TOTAL MANTENMIENTO | H29: $ | I29: =SUM(I25:K28) -> #REF!
G30: Valor parcial Servicios:
G31: IVA | H31: 0.19 | I31: =I28*H31 -> #REF!
G32: VALOR TOTAL SERVICIOS | H32: $
G33: VALOR TOTAL | H33: $ | I33: =I29+I31 -> #REF!
C34: Nota: Las actividades con IVA deben ser subrayadas para diferenciarlas de las actividades de obra de mantenimiento.

Sheet E. MERCADO
E3: POLÍTICA DE MANTENIMIENTO DE LA INFRAESTRUCTURA AEROPORTUARIA
E4: ESTUDIO DE MERCADO RESUMIDO
E5: Clave: 6000 | G5: Versión: 0.1 | H5: Fecha de aprobación:
C7: El presente formato continene la información básica para atender las necesidades del mantenimiento rutinario de la infraestructura del aeropuerto.
C9: AEROPUERTO: | E9: EL RIO | H9: REGIONAL: | I9: NOROCCIDENTAL
C10: UBICACIÓN: AMALFI - ANTIOQUIA
C11: ELEMENTOS CON CONTIZACIONES POR ACTIVIDADES
C12: ITEM Nro. | D12: EMPRESA QUE COTIZA | F12: NIT | G12: ACTIVIDAD COTIZADA | I12: VALOR UNITARIO
C20: ELEMENTOS CON COTIZACIONES POR HISTÓRICOS DE MERCADO
C21: ITEM Nro. | D21: EMPRESA QUE COTIZA | F21: NIT | G21: PARCIAL COTIZADADO | I21: VALOR UNITARIO
C23: 1 | D23: Contrato 22001116 H4 | G23: =#REF! -> #REF! | I23: =#REF! -> #REF!
D24: Contrato 21000792 | G24: =#REF! -> #REF!
D25: Contrato 20000584 H4 | G25: =#REF! -> #REF!
D26: Contrato 19000734 H3 | G26: =#REF! -> #REF!
C27: 2 | D27: Contrato 22001116 H4 | G27: =#REF! -> #REF! | I27: =#REF! -> #REF!
D28: Contrato 21000792 | G28: =#REF! -> #REF!
D29: Contrato 20000584 H4 | G29: =#REF! -> #REF!
D30: Contrato 19000734 H3 | G30: =#REF! -> #REF!
C31: 3 | D31: Contrato 22001116 H4 | G31: =#REF! -> #REF! | I31: =#REF! -> #REF!
D32: Contrato 21001029 H4 | G32: =#REF! -> #REF!
D33: Contrato 20000584 H4 | G33: =#REF! -> #REF!
C34: 4 | D34: Contrato 22001116 H4 | G34: =#REF! -> #REF! | I34: =#REF! -> #REF!
D35: Contrato 21001029 H4 | G35: =#REF! -> #REF!
D36: Contrato 20000584 H4 | G36: =#REF! -> #REF!
C37: 5 | D37: Contrato 22000970 H4 | G37: =#REF! -> #REF! | I37: =#REF! -> #REF!
D38: Contrato 22001050 H4 | G38: =#REF! -> #REF!
D39: Contrato 21001029 H4 | G39: =#REF! -> #REF!
D40: Contrato 20001228 H4 | G40: =#REF! -> #REF!
D41: Contrato 20001100 H4 | G41: =#REF! -> #REF!
C42: 6 | D42: Contrato 22001116 H4 | G42: =#REF! -> #REF! | I42: =#REF! -> #REF!
D43: Contrato 22001050 H4 | G43: =#REF! -> #REF!
D44: Contrato 21001029 H4 | G44: =#REF! -> #REF!
D45: Contrato 20001228 H4 | G45: =#REF! -> #REF!
D46: Contrato 20001100 H4 | G46: =#REF! -> #REF!
C47: 7 | D47: Contrato 22001116 H4 | G47: =#REF! -> #REF! | I47: =#REF! -> #REF!
D48: Contrato 22000970 H4 | G48: =#REF! -> #REF!
D49: Contrato 22001050 H4 | G49: =#REF! -> #REF!
D50: Contrato 21001029 H4 | G50: =#REF! -> #REF!
D51: Contrato 20001228 H4 | G51: =#REF! -> #REF!
D52: Contrato 20001100 H4 | G52: =#REF! -> #REF!
...

Sheet PPTTOAERÓDROMCerramiento202 (2)
E3: POLÍTICA DE MANTENIMIENTO DE LA INFRAESTRUCTURA AEROPORTUARIA
E4: PRESUPUESTO DE MANTENIMIENTO O SERVICIO AERÓDROMO
E5: Clave: 6000 | G5: Versión: 0.1 | H5: Fecha de aprobación:
C7: El presente formato continene la información básica para atender las necesidades del mantenimiento rutinario de la infraestructura del aeropuerto.
C9: AEROPUERTO: | E9: EL RÍO | H9: REGIONAL: | I9: NOROCCIDENTAL
C10: UBICACIÓN: AMALFI - ANTIOQUIA
C11: ELEMENTOS AERÓDROMO
C12: ÍTEM | D12: TIPO DE INTERVENCIÓN | F12: DESCRIPCIÓN DE LA ACTIVIDAD | H12: UND. | I12: CANTIDAD | J12: VALOR UNITARIO | K12: VALOR TOTAL
D13: MANTTO | E13: SERVICIO
C14: 1 | D14: x | F14: Suministro e instalación portón de acceso 2 hojas en tubo galvanizado 2" malla eslabonada 2.20x2.30 y 6x2,3, incluye pintura, soldadura, herraje, anticorrosivos, bisagras y todo lo necesario para su correcto funcionamiento | H14: glb | I14: 1 | J14: =#REF! -> #REF! | K14: =ROUND(I14*J14,0) -> #REF! | N14: =ROUND(J14*128%,0) -> #REF! | O14: =ROUND(I14*N14,0) -> #REF!
