Workbook
Name __abr01: [1]Dólar!#REF!
Name __abr01: [1]Dólar!#REF!
Name __abr06: [1]Dólar!#REF!
Name __abr06: [1]Dólar!#REF!
Name __abr97: [1]Dólar!#REF!
Name __abr97: [1]Dólar!#REF!
Name __abr98: [1]Dólar!#REF!
Name __abr98: [1]Dólar!#REF!
Name __abr99: [1]Dólar!#REF!
Name __abr99: [1]Dólar!#REF!
Name __Afe1: '[2]2008 Database'!$D$2:$D$42,'[2]2008 Database'!$D$43:$D$43
Name __ago01: [1]Dólar!#REF!
Name __ago01: [1]Dólar!#REF!
Name __ago06: [1]Dólar!#REF!
Name __ago06: [1]Dólar!#REF!
Name __ago97: [1]Dólar!#REF!
Name __ago97: [1]Dólar!#REF!
Name __ago98: [1]Dólar!#REF!
Name __ago99: [1]Dólar!#REF!
Name __CMU005: #REF!
Name __CMU005: #REF!
Name __cmu05: #REF!
Name __cmu05: #REF!
Name __com06: [1]Gastos!#REF!
Name __com06: [1]Gastos!#REF!
Name __dic01: [1]Dólar!#REF!
Name __dic01: [1]Dólar!#REF!
Name __dic06: [1]Dólar!#REF!
Name __dic97: [1]Dólar!#REF!
Name __dic98: [1]Dólar!#REF!
Name __dic99: [1]Dólar!#REF!
Name __ene01: [1]Dólar!#REF!
Name __ene03: [1]Dólar!#REF!
Name __ene06: [1]Dólar!#REF!
Name __ene97: [1]Dólar!#REF!
Name __ene98: [1]Dólar!#REF!
Name __ene99: [1]Dólar!#REF!
Name __exp06: [1]Gastos!#REF!
Name __feb01: [1]Dólar!#REF!
Name __feb06: [1]Dólar!#REF!
Name __feb97: [1]Dólar!#REF!
Name __feb98: [1]Dólar!#REF!
Name __feb99: [1]Dólar!#REF!
Name __jul01: [1]Dólar!#REF!
Name __jul06: [1]Dólar!#REF!
Name __jul97: [1]Dólar!#REF!
Name __jul98: [1]Dólar!#REF!
Name __jul99: [1]Dólar!#REF!
Name __jun01: [1]Dólar!#REF!
Name __jun06: [1]Dólar!#REF!
Name __jun97: [1]Dólar!#REF!
Name __jun98: [1]Dólar!#REF!
Name __jun99: [1]Dólar!#REF!
Name __lgc1: [1]Gastos!#REF!
Name __lgc2: [1]Gastos!#REF!
Name __lgc3: [1]Gastos!#REF!
Name __mar01: [1]Dólar!#REF!
Name __mar06: [1]Dólar!#REF!
Name __mar97: [1]Dólar!#REF!
Name __mar98: [1]Dólar!#REF!

Sheet PRESUPUESTO 
B1: PRESUPUESTO IED EXPERIENCIAS PEDAGOGICAS
B2: ITEM | C2: DESCRIPCIÓN | D2: UNIDAD | E2: CANTIDAD | F2: VALOR UNITARIO | G2: VALOR TOTAL
B3: 205 | C3: SUMINISTRO E INSTALACION DE CIELO RASO EN LAMINA SUPER BOARD | D3: M2 | E3: =5.8*4.41 -> 25.578 | F3: =APU!I52 -> 64460.65 | G3: =E3*F3 -> 1648774.5
B4: 206 | C4: PINTURA EN VINILO PARA CIELO RASO, A TRES MANOS, TIPO VINILTEX O SIMILAR | D4: M2 | E4: =5.8*4.41 -> 25.578 | F4: =APU!I64 -> 16528.04 | G4: =E4*F4 -> 422754.21
B5: 67 | C5: DESMONTE DE CANALETA Y RETIRO DE MATERIAL | D5: ML | E5: =5.8*3 -> 17.4 | F5: =APU!I119 -> 12202.98 | G5: =E5*F5 -> 212331.85
B6: 113 | C6: SUMINISTRO E INSTALACION CANALETA LAMINA GALVANIZADA PARA AGUAS LLUVIAS | D6: ML | E6: =E5 -> 17.4 | F6: =APU!I843 -> 309270 | G6: =E6*F6 -> 5381298
B7: 207 | C7: IMPERMEABILIZACIÓN CON MANTO EDIL O SIMILAR DE 3MM, ACABADO EN PINTURA BITUMINOSA | D7: M2 | E7: =5.58*8 -> 44.64 | F7: =APU!I226 -> 45699.88 | G7: =E7*F7 -> 2040042.6
B8: 27 | C8: SUMINISTRO E INSTALACION DE LAMINAS DE ICOPOR PARA CIELO RASO CON ACABADO CORRUGADO | D8: M2 | E8: 37.52 | F8: =APU!I281 -> 46876.35 | G8: =E8*F8 -> 1758800.7
B9: 30 | C9: MANTENIMIENTO DE CUBIERTA EN LAMINA ONDULADA INCLUYE AMARRES Y GANCHOS | D9: M2 | E9: 300 | F9: =APU!I335 -> 40432.71 | G9: =E9*F9 -> 12129813
B10: 208 | C10: DESMONTE DE PUERTA METALICA INCLUYE DESMONTE DE MARCO Y RETIRO DE MATERIAL | D10: UND | E10: 1 | F10: =APU!I389 -> 29607.48 | G10: =E10*F10 -> 29607.48
B11: 183 | C11: LEVANTE DE MURO EN BLOQUE VIBRADO DE 0,15 X 0,20 X 0,40 MTS, MORTERO DE PEGA 1:4, | D11: M2 | E11: 2.5 | F11: =APU!I444 -> 77512.95 | G11: =E11*F11 -> 193782.38
B12: 185 | C12: PAÑETE ALLANADO SOBRE MURO CON MORTERO 1:4 | D12: M2 | E12: =E11*2 -> 5 | F12: =APU!I503 -> 18549.22 | G12: =E12*F12 -> 92746.1
B13: 209 | C13: ESTUCO PLASTICO SOBRE MURO CON PAÑETE ALLANADO INCLUYE LIJADO | D13: M2 | E13: =E12+E18 -> 13 | F13: =APU!I563 -> 13818.54 | G13: =E13*F13 -> 179641.02
B14: 49 | C14: PINTURA VINILO PARA MURO INTERIOR | D14: M2 | E14: 13.1012 | F14: =APU!I615 -> 12408 | G14: =E14*F14 -> 162559.69
B15: 210 | C15: PINTURA EXTERIOR EN VINILO TIPO CORAZA, SOBRE MURO, A DOS MANOS | D15: M2 | E15: 13 | F15: 15954 | G15: =E15*F15 -> 207402
B16: 198 | C16: DESMONTE DE CUBIERTA EN LÁMINA, INCLUYE ESTRUCTURA EN MAL ESTADO, RETIRO DE MATERIAL Y DISPOSICION FINAL | D16: M2 | E16: =E9/5 -> 60 | F16: =APU!I669 -> 26161.66 | G16: =E16*F16 -> 1569699.6
B17: 203 | C17: SUMINISTRO E INSTALACIÓN DE CUBIERTA EN LÁMINA ONDULADA DE FIBRO CEMENTO, INCLUYE AMARRES Y GANCHOS DE FIJACIÓN, ESTRUCTURA DE SOPORTE EN MADERA DE ABARCO INCLUYE ACCESORIOS | D17: M2 | E17: 60.15 | F17: =APU!I729 -> 98527.23 | G17: =E17*F17 -> 5926412.9
B18: 44 | C18: ESCARIFICACION DE ESTUCO Y PINTURA | D18: M2 | E18: 8 | F18: =APU!I789 -> 5541.79 | G18: =E18*F18 -> 44334.32
C22: COSTO DIRECTO | G22: =SUM(G3:G21) -> 32000000
C23: A.I.U. 30% | G23: =ROUND(G22*30%,0) -> 9600000
C24: COSTO TOTAL | G24: =G22+G23 -> 41600000

Sheet ESPECIFICACIONES TECNICAS
B3: Ítem: 0205 | C3: ='PRESUPUESTO '!C3 -> SUMINISTRO E INSTALACION DE CIELO RASO EN LAMINA SUPER BOARD
B4: UNIDAD DE MEDIDA | C4: M² – Metro cuadrado.
B5: DESCRIPCIÓN
B6: Este ítem se refiere al suministro e instalación de laminas super board en cielo raso para las zonas que ameriten reposiciones por deterioro indicadas por la interventoría.
B7: PROCEDIMIENTO PARA EJECUCIÓN DEL ÍTEM
B8: Realizar inspección visual de áreas existentes con cielos rasos en lamina super board para la determinación de reposiciones aplicables.
B9: Verificar que la estructura se encuentre en estado optimo para realizar exclusivamente el reemplazo de las laminas en las zonas indicadas.
B10: Realizar el cambio de laminas en estado deteriorado o faltantes.
B11: ALCANCE
B12: · Materiales descritos en la sección “MATERIALES”.
B13: · Herramientas menores descritas en la sección “EQUIPO”
B14: · Mano de obra.
B15: ENSAYOS A REALIZAR
B16: · Verificación de niveles y acomodamiento de láminas.
... B23: · Andamios y tablones
B27: ITEM: 0206 | C27: ='PRESUPUESTO '!C4 -> PINTURA EN VINILO PARA CIELO RASO, A TRES MANOS, TIPO VINILTEX O SIMILAR
B28: UNIDAD DE MEDIDA | C28: un – m2
B29: DESCRIPCIÓN
B30: Este ITEM se refiere a la aplicación de pintura tipo vinilo interior tipo 1 sobre cielos rasos o superficies indicadas por interventoría de acuerdo a las fichas entregadas posteriores a las visitas realizadas con anterioridad.
B31: PROCEDIMIENTO PARA EJECUCIÓN DEL ITEM
B32: · La pintura no deber ostentar un asentamiento excesivo en su recipiente abierto, y deber ser fácilmente redispersada con una paleta hasta alcanzar un estado suave y homogéneo. La pintura no deber mostrar engrumecimiento, decoloración, conglutimiento, ni separación del color y deber estar exenta de terrones y natas.
B33: · La pintura al ser aplicada deber extenderse fácilmente con la brocha, poseer cualidades de enrasamiento y no mostrar tendencias al escurrimiento o corrimiento al ser aplicada en las superficies verticales y lisas.
B34: · La pintura no deber formar nata, en el envase tapado en los periodos de interrupción de la faena de pintado.
B35: · La pintura deber secar dejando un acabado liso y uniforme, exento de asperezas, granos angulosos, partes disparejas y otras imperfecciones de la superficie
B36: ALCANCE
B37: · Materiales descritos en la sección “MATERIALES”.
B38: · Equipos y herramientas descritas en la sección “EQUIPO”
B39: ENSAYOS PARA REALIZAR
B40: · No aplica.
... B49: · andamios
B53: ITEM: 067 | C53: ='PRESUPUESTO '!C5 -> DESMONTE DE CANALETA Y RETIRO DE MATERIAL
B54: UNIDAD DE MEDIDA | C54: ML – Metro lineal
B55: DESCRIPCIÓN
B56: Este ITEM se refiere al retiro de canaleta en donde aplique, con su respectivo retiro.
B57: PROCEDIMIENTO PARA EJECUCIÓN DEL ITEM
B58: Debe tenerse en cuenta el conjunto de operaciones para soltar los soportes.
B59: Desmontar accesorios
B60: Desmontar la canaleta con cuidado de no dañarla si es el caso de reutilizar
B61: ALCANCE
B62: · Materiales descritos en la sección “MATERIALES”.
...

Sheet APU
C3: ANÁLISIS DE PRECIOS UNITARIOS
C9: APU | D9: 205 | E9: SUMINISTRO E INSTALACION DE CIELO RASO EN LAMINA SUPER BOARDS | G9: UNIDAD : M2 | H9: VR. UNITARIO | I9: 66560.65
C12: II. MATERIALES EN OBRA
C13: Descripción | E13: UNIDAD | F13: Precio - Unit. | G13: Cantidad | H13: Desperdicio | I13: Valor - Unit
C14: Masillla Junta Cielo Raso | E14: GAL | F14: 20000 | G14: 0.01 | I14: 200
C15: Lamina Super Board | E15: MT2 | F15: 38000 | G15: 1 | I15: 38000
C16: Cinta Mastic | E16: UND | F16: 10000 | G16: 0.01 | I16: 100
C17: Tornillos Y Arandelas | E17: UND | F17: 1200 | G17: 1 | I17: 1200
H24: Sub-Total | I24: =SUM(I14:I23) -> 39500
C25: I. EQUIPO
C26: Descripción | E26: UNIDAD | F26: Precio - Unit. | G26: Cantidad | H26: Desperdicio | I26: Valor - Unit
C27: HERRAMIENTA MENOR | F27: 12900 | G27: 0.015 | I27: 193.5
C28: ANDAMIOS CERTIFICADOS > 6,00 MTS | E28: DIA | F28: 45000 | G28: 0.1 | I28: 4500
I29: $ -
I30: $ -
I31: $ -
I32: $ -
I33: $ -
H34: Sub-Total | I34: =SUM(I27:I33) -> 4693.5
C35: III. TRANSPORTES
C36: Descripción | E36: UNIDAD | F36: Precio - Unit. | G36: Cantidad | H36: Desperdicio | I36: Valor - Unit
I37: $ -
H44: Sub-Total | I44: $ -
C45: IV. MANO DE OBRA
C46: Trabajador | E46: UNIDAD | F46: Precio - Unit. | G46: Cantidad | H46: Desperdicio | I46: Valor - Unit
C47: OFICIAL | E47: JOR | F47: 121768.4 | G47: 0.103 | I47: 12542.15
C48: AYUDANTE DE OBRA | E48: DIA | F48: 75000 | G48: 0.103 | I48: 7725
H50: Sub-Total | I50: 20267.15
H52: Total | I52: =SUM(I50+I34+I24) -> 64460.65
C58: ANÁLISIS DE PRECIOS UNITARIOS
C64: APU | D64: 206 | E64: PINTURA EN VINILO PARA CIELO RASO, A TRES MANOS, TIPO VINILTEX O SIMILAR | G64: UNIDAD : M2 | H64: VR. UNITARIO | I64: =I107 -> 16528.04
E66: 0
C67: II. MATERIALES EN OBRA
C68: Descripción | E68: UNIDAD | F68: Precio - Unit. | G68: Cantidad | H68: Desperdicio | I68: Valor - Unit
C69: Pintura Viniltex Tipo 1a | E69: GAL | F69: 78277 | G69: 0.05 | I69: 3913.85
C70: Brocha De 4" Eterna China O Sim | E70: UND | F70: 11445 | G70: 0.01 | I70: 114.45
H79: Sub-Total | I79: 4028.3
C80: I. EQUIPO
C81: Descripción | E81: UNIDAD | F81: Precio - Unit. | G81: Cantidad | H81: Desperdicio | I81: Valor - Unit
C82: HERRAMIENTA MENOR | F82: 12900 | G82: 0.01 | I82: 129
...

Sheet PERSONAL
A1: PERSONAL MÍNIMO REQUERIDO PARA EJECUCIÓN DE OBRA
A2: CANTIDAD | B2: CARGO A DESMPEÑAR | C2: FORMACIÓN ACADÉMICA | D2: EXPERIENCIA GENERAL | E2: EXPERENCIA ESPECIFICA | G2: % DE DEDICACIÓN EN LA DURACIÓN TOTAL DE CONTRATACIÓN.
E3: COMO/EN | F3: REQUERIMIENTO/ PARTICULAR
A4: 1 | B4: Coordinador de obra | C4: Ingeniero civil/Arquitecto | D4: 1 AÑO | E4: Proyectos de infraestructura. | F4: n.a | G4: 50
A5: 1 | B5: Responsable SST Y Ambiental. | C5: Profesional/ Especialista/ técnico o tecnólogo en seguridad industrial o ambiental. | D5: 6 Meses | E5: Encargado del seguimiento en seguridad industrial o ambiental en proyectos de obra. | F5: Licencia en seguridad y salud en el trabajo, curso de alturas vigente. | G5: 50
