Workbook
Name \0: #REF!
Name \0: #REF!
Name \a: #REF!
Name \a: #REF!
Name \b: #REF!
Name \b: #REF!
Name \c: '[1]APU PVC'!#REF!
Name \c: '[1]APU PVC'!#REF!
Name \e: '[1]APU PVC'!#REF!
Name \e: '[1]APU PVC'!#REF!
Name \eliminar: [2]RESUM96!#REF!
Name \eliminar: [2]RESUM96!#REF!
Name \eliminar1: [2]RESUM96!#REF!
Name \eliminar1: [2]RESUM96!#REF!
Name \i: [3]INSUMOS!#REF!
Name \i: [3]INSUMOS!#REF!
Name \m: [3]INSUMOS!#REF!
Name \m: [3]INSUMOS!#REF!
Name \q: #REF!
Name \q: #REF!
Name \r: [3]INSUMOS!#REF!
Name \r: [3]INSUMOS!#REF!
Name \t: [3]INSUMOS!#REF!
Name \t: [3]INSUMOS!#REF!
Name \x: [3]INSUMOS!#REF!
Name \x: [3]INSUMOS!#REF!
Name \Z: [4]!ERR
Name \Z: [4]!ERR
Name _: #REF!
Name _: #REF!
Name _________________________________apu1: [3]INSUMOS!#REF!
Name _________________________________apu1: [3]INSUMOS!#REF!
Name ________________________________apu1: [3]INSUMOS!#REF!
Name ________________________________apu1: [3]INSUMOS!#REF!
Name _______________________________apu1: [3]INSUMOS!#REF!
Name _______________________________apu1: [3]INSUMOS!#REF!
Name ______________________________apu1: [3]INSUMOS!#REF!
Name ______________________________apu1: [3]INSUMOS!#REF!
Name ____________________________apu1: [3]INSUMOS!#REF!
Name ____________________________apu1: [3]INSUMOS!#REF!
Name ___________________________apu1: [3]INSUMOS!#REF!
Name ___________________________apu1: [3]INSUMOS!#REF!
Name __________________________apu1: [3]INSUMOS!#REF!
Name __________________________apu1: [3]INSUMOS!#REF!
Name _________________________apu1: [3]INSUMOS!#REF!
Name _________________________apu1: [3]INSUMOS!#REF!
Name ________________________apu1: [3]INSUMOS!#REF!
Name ________________________apu1: [3]INSUMOS!#REF!
Name _______________________apu1: [3]INSUMOS!#REF!
Name _______________________apu1: [3]INSUMOS!#REF!
Name _____________________apu1: [3]INSUMOS!#REF!
Name _____________________apu1: [3]INSUMOS!#REF!
Name ____________________apu1: [3]INSUMOS!#REF!
Name ____________________apu1: [3]INSUMOS!#REF!
Name ___________________apu1: [3]INSUMOS!#REF!
Name ___________________apu1: [3]INSUMOS!#REF!
Name __________________apu1: [3]INSUMOS!#REF!
Name __________________apu1: [3]INSUMOS!#REF!
Name _________________apu1: [3]INSUMOS!#REF!
Name _________________apu1: [3]INSUMOS!#REF!

Sheet PRESUPUESTO OFICIAL DEL PROYEC.
A4: Alcaldía Mayor De Riohacha
A5: Secretaria de Infraestructura y Servicios Públicos Distrital
A6: PRESUPUESTO
A7: Objeto: | B7: MEJORAMIENTO AMBIENTAL Y PAISAJISTICO DE LAS ZONAS VERDES EN LA AVENIDA PRIMERO DE MAYO DEL DISTRITO DE RIOHACHA, DEPARTAMENTO DE LA GUAJIRA
A8: PRESUPUESTO OFICIAL DEL PROYECTO
A9: Capítulo/Ítem | B9: Descripción | C9: Unidad | D9: Cantidad | E9: Precio Unitario | F9: Valor parcial
A10: 1 | B10: FORTALECER LA FORMACIÓN AMBIENTAL DE LA COMUNIDAD ORIENTADA A LA CONSERVACIÓN DE LAS ZONAS VERDES
A11: 1.1 | B11: Realizar talleres de socialización y sensibilizacion ambiental | C11: UN | D11: 3 | E11: =+'1.1'!H32 -> 1150866.5 | F11: =+D11*E11 -> 3452599.5 | G11: =+F11*1.3095 -> 4521179
A12: 1.2 | B12: Realizar divulgación del proyecto | C12: UN | D12: 1 | E12: =+'1.2'!I29 -> 6510000 | F12: =+D12*E12 -> 6510000 | G12: =+F12*1.3095 -> 8524845
A13: 1.3 | B13: Realizar reuniones para acuerdos de conservacion | C13: UN | D13: 2 | E13: =+'1.3'!H36 -> 1825300 | F13: =+D13*E13 -> 3650600 | G13: =+F13*1.3095 -> 4780460.7
A14: SUBTOTAL 1 | F14: =+F11+F12+F13 -> 13613200 | G14: =+F14*1.3095 -> 17826485
A16: 2 | B16: AUMENTAR LAS ZONAS VERDES EN LA AVENIDA PRIMERO DE MAYO
A17: 2.1 | B17: Sembrar Palma cola de zorro (wodyetia bifurcata) | C17: UN | D17: 891 | E17: =+'2.1'!F47 -> 129368.76 | F17: =+D17*E17 -> 1.1526757e+08 | G17: =+F17*1.3095 -> 1.5094288e+08
A18: 2.2 | B18: Sembrar Duranta roja (alternanthera betzickiana) | C18: UN | D18: =1840*1.55 -> 2852 | E18: =+'2.2'!F47 -> 8306.6128 | F18: =+D18*E18 -> 23690460 | G18: =+F18*1.3095 -> 31022657
A19: 2.3 | B19: Sembrar Wedelia (wedelia trilobata) | C19: UN | D19: =1840*1.55 -> 2852 | E19: =+'2.3'!F47 -> 8306.6128 | F19: =+D19*E19 -> 23690460 | G19: =+F19*1.3095 -> 31022657
A20: 2.4 | B20: Sembrar Tu y yo (euphorbia milii) | C20: UN | D20: =1840*1.55 -> 2852 | E20: =+'2.4'!F47 -> 8306.6128 | F20: =+D20*E20 -> 23690460 | G20: =+F20*1.3095 -> 31022657
A21: 2.5 | B21: Sembrar Uva de playa (coccolova uvífera) | C21: UN | D21: =1840*1.55 -> 2852 | E21: =+'2.5'!F48 -> 8306.6128 | F21: =+D21*E21 -> 23690460 | G21: =+F21*1.3095 -> 31022657
A22: 2.6 | B22: Sembrar Pasto verde (pennisetum alba) | C22: UN | D22: =1840*1.55 -> 2852 | E22: =+'2.6'!F46 -> 8306.6128 | F22: =+D22*E22 -> 23690460 | G22: =+F22*1.3095 -> 31022657
A23: 2.7 | B23: Sembrar Agave (agave desmetiana) (alt de 20 cm) | C23: UN | D23: =750*1.55 -> 1162.5 | E23: =+'2.7'!F47 -> 22391.013 | F23: =+D23*E23 -> 26029552 | G23: =+F23*1.3095 -> 34085699
A24: 2.8 | B24: Sembrar Duranta limon (duranta repens) | C24: UN | D24: =1840*1.55 -> 2852 | E24: =+'2.8'!F47 -> 8282.4128 | F24: =+D24*E24 -> 23621441 | G24: =+F24*1.3095 -> 30932277
A25: 2.9 | B25: Sembrar Pasto morado (pennisetum rubrum) | C25: UN | D25: =1840*1.55 -> 2852 | E25: =+'2.9'!F57 -> 9274.6128 | F25: =+D25*E25 -> 26451196 | G25: =+F25*1.3095 -> 34637841
A26: 2.10 | B26: Alquiler de Carro tanque para riego diario (no incluye domingos) | C26: Viajes | D26: 288 | E26: =+'2.10'!H39 -> 250984 | F26: =+D26*E26 -> 72283392 | G26: =+F26*1.3095 -> 94655102
A27: 2.11 | B27: Realizar asistencia técnica y mantenimiento | C27: UN | D27: 1 | E27: =+'2.11'!H39 -> 20054844 | F27: =+D27*E27 -> 20054844 | G27: =+F27*1.3095 -> 26261818
A28: 2.12 | B28: Aplicar Piedra blanca (granito) M3 | C28: M3 | D28: 15 | E28: =+'2.12'!H35 -> 230000 | F28: =+D28*E28 -> 3450000 | G28: =+F28*1.3095 -> 4517775
A29: 2.13 | B29: Realizar la Demolicion de plantilla en cocreto e=5-10 cms (no incluye retiro) | C29: M2 | D29: 1657 | E29: =+'2.13'!H41 -> 10917 | F29: =+D29*E29 -> 18089469 | G29: =+F29*1.3095 -> 23688160
A30: 2.14 | B30: Realizar Demolicion de bordillos de dimensiones de 15cms x30cms | C30: ML | D30: 2465.13 | E30: =+'2.14'!H38 -> 10748 | F30: =+D30*E30 -> 26495217 | G30: =+F30*1.3095 -> 34695487
A31: 2.15 | B31: Construir Bordillos en concreto (15x30)3.000psi incluye ref long 3/8 y ref trasn 1/4*No incluye reparacion del terreno | C31: ML | D31: 2465.13 | E31: =+'2.15'!H39 -> 60812 | F31: =+D31*E31 -> 1.4990949e+08 | G31: =+F31*1.3095 -> 1.9630647e+08
A32: 2.16 | B32: Realizar Transporte de escombros y residuos solidos | C32: M3 | D32: 132.56 | E32: =+'2.16'!H38 -> 40855 | F32: =+D32*E32 -> 5415738.8 | G32: =+F32*1.3095 -> 7091910
A33: 2.17 | B33: Realizar Excavacion en material comun seco de 0-2 m manual | C33: M3 | D33: 546 | E33: =+'2.17'!H39 -> 31814 | F33: =+D33*E33 -> 17370444 | G33: =+F33*1.3095 -> 22746596
A34: SUBTOTAL2 | F34: =+SUM(F17:F33) -> 6.2289065e+08 | G34: =+F34*1.3095 -> 8.156753e+08
B35: TOTAL COSTOS DIRECTOS | F35: =+F34+F14 -> 6.3650384e+08
A36: Administración | E36: 0.24 | F36: =+E36*F35 -> 1.5276092e+08
A37: Imprevistos | E37: 0.01 | F37: =+E37*F35 -> 6365038.4
A38: Utilidad | E38: 0.05 | F38: =+E38*F35 -> 31825192
A39: Iva sobre utilidad | E39: 0.19 | F39: =+F38*E39 -> 6046786.5
A40: TOTAL AIU | E40: =E36+E37+E38 -> 0.3 | F40: =+F36+F37+F38 -> 1.9095115e+08
A41: SUBTOTAL DEL PROYECTO | F41: =+F35+F40+F39 -> 8.3350178e+08 | G41: =+G34+G14 -> 8.3350178e+08
G42: =+F41-F39 -> 8.27455e+08
A43: VALOR COSTO TOTAL DEL PROYECTO | F43: =+F41+F42 -> 8.3350178e+08
A49: _________________________________________________
...

Sheet CADENA DE VALOR
A1: FORMATO CADENA DE VALOR
A2: Nombre del Proyecto | B2: MEJORAMIENTO AMBIENTAL Y PAISAJISTICO DE LAS ZONAS VERDES EN LA AVENIDA PRIMERO DE MAYO DEL DISTRITO DE RIOHACHA, LA GUAJIRA
A3: Código del Proyecto
A4: Objetivo General Proyecto | B4: Mejorar las condiciones ambientales y paisajísticas de la Avenida primero de Mayo, del Distrito de Riohacha, La Guajira.
A5: Articulación del Objetivo General con PND | B5: Sectores comprometidos con la sostenibilidad y la mitigación del cambio climático
A6: Objetivos específicos | B6: Articulación de los Objetivos específicos con PND | C6: Producto | D6: Articulación de los Productos con PND | E6: Indicador de Producto | F6: META INDICADOR DE PRODUCTO | J6: Unidad de Medida | K6: Actividad | L6: Indicador de Gestión | M6: Unidad de medida Ind. Gestion | N6: META INDICADOR DE GESTIÓN | R6: Valor de la distribución de los recursos de la vigencia atual que se debe ingresar al SUIFP de acuerdo a las actividades | V6: Costo por actividad
F7: 2021 | G7: 2022 | H7: 2023 | I7: 2024 | N7: 2021 | O7: 2022 | P7: 2023 | Q7: 2024 | R7: 2021 | S7: 2022 | T7: 2023 | U7: 2024
A8: Fortalecer la formación ambiental de la comunidad orientada a la conservación de las zonas verdes.. | B8: Sectores comprometidos con la sostenibilidad y la mitigación del cambio climático | C8: Servicio de educación informal ambiental | D8: Sectores comprometidos con la sostenibilidad y la mitigación del cambio climático | E8: Personas capacitadas | H8: 30 | J8: Número | K8: =+'PRESUPUESTO OFICIAL DEL PROYEC.'!B11 -> Realizar talleres de socialización y sensibilizacion ambiental | L8: 0500G100 Socializaciones realizadas | M8: UN | P8: 3 | T8: =+V8 -> 4521179 | V8: =+'PRESUPUESTO OFICIAL DEL PROYEC.'!G11 -> 4521179
K9: =+'PRESUPUESTO OFICIAL DEL PROYEC.'!B12 -> Realizar divulgación del proyecto | L9: 0900G162 Elementos de difusión generados para educación ambiental | M9: UN | P9: 1 | T9: =+V9 -> 8524845 | V9: =+'PRESUPUESTO OFICIAL DEL PROYEC.'!G12 -> 8524845
K10: =+'PRESUPUESTO OFICIAL DEL PROYEC.'!B13 -> Realizar reuniones para acuerdos de conservacion | L10: 9900G020 talleres o actividades de capacitacion realizados | M10: UN | P10: 2 | T10: =+V10 -> 4780460.7 | V10: =+'PRESUPUESTO OFICIAL DEL PROYEC.'!G13 -> 4780460.7
A11: Aumentar las zonas verdes en la avenida primero de mayo. | C11: Servicio de acompañamiento a la implementación de estrategias de participación ciudadana en la gestión ambiental | E11: Estrategias de participacion ciudadana en la gestion ambiental implementadas. | H11: 1 | J11: Número de estrategias | K11: =+'PRESUPUESTO OFICIAL DEL PROYEC.'!B17 -> Sembrar Palma cola de zorro (wodyetia bifurcata) | L11: 0900G218 Plántulas sembradas | M11: UN | P11: 891 | T11: =+V11 -> 1.5094288e+08 | V11: =+'PRESUPUESTO OFICIAL DEL PROYEC.'!G17 -> 1.5094288e+08 | W11: =SUM(P11:P19) -> 22018
K12: =+'PRESUPUESTO OFICIAL DEL PROYEC.'!B18 -> Sembrar Duranta roja (alternanthera betzickiana) | L12: 0900G218 Plántulas sembradas | M12: UN | P12: 2852 | T12: =+V12 -> 31022657 | V12: =+'PRESUPUESTO OFICIAL DEL PROYEC.'!G18 -> 31022657
K13: =+'PRESUPUESTO OFICIAL DEL PROYEC.'!B19 -> Sembrar Wedelia (wedelia trilobata) | L13: 0900G218 Plántulas sembradas | M13: UN | P13: 2852 | T13: =+V13 -> 31022657 | V13: =+'PRESUPUESTO OFICIAL DEL PROYEC.'!G19 -> 31022657
K14: =+'PRESUPUESTO OFICIAL DEL PROYEC.'!B20 -> Sembrar Tu y yo (euphorbia milii) | L14: 0900G218 Plántulas sembradas | M14: UN | P14: 2852 | T14: =+V14 -> 31022657 | V14: =+'PRESUPUESTO OFICIAL DEL PROYEC.'!G20 -> 31022657
K15: =+'PRESUPUESTO OFICIAL DEL PROYEC.'!B21 -> Sembrar Uva de playa (coccolova uvífera) | L15: 0900G218 Plántulas sembradas | M15: UN | P15: 2852 | T15: =+V15 -> 31022657 | V15: =+'PRESUPUESTO OFICIAL DEL PROYEC.'!G21 -> 31022657
K16: =+'PRESUPUESTO OFICIAL DEL PROYEC.'!B22 -> Sembrar Pasto verde (pennisetum alba) | L16: 0900G218 Plántulas sembradas | M16: UN | P16: 2852 | T16: =+V16 -> 31022657 | V16: =+'PRESUPUESTO OFICIAL DEL PROYEC.'!G22 -> 31022657
K17: =+'PRESUPUESTO OFICIAL DEL PROYEC.'!B23 -> Sembrar Agave (agave desmetiana) (alt de 20 cm) | L17: 0900G218 Plántulas sembradas | M17: UN | P17: 1163 | T17: =+V17 -> 34085699 | V17: =+'PRESUPUESTO OFICIAL DEL PROYEC.'!G23 -> 34085699
K18: =+'PRESUPUESTO OFICIAL DEL PROYEC.'!B24 -> Sembrar Duranta limon (duranta repens) | L18: 0900G218 Plántulas sembradas | M18: UN | P18: 2852 | T18: =+V18 -> 30932277 | V18: =+'PRESUPUESTO OFICIAL DEL PROYEC.'!G24 -> 30932277
K19: =+'PRESUPUESTO OFICIAL DEL PROYEC.'!B25 -> Sembrar Pasto morado (pennisetum rubrum) | L19: 0900G218 Plántulas sembradas | M19: UN | P19: 2852 | T19: =+V19 -> 34637841 | V19: =+'PRESUPUESTO OFICIAL DEL PROYEC.'!G25 -> 34637841
K20: =+'PRESUPUESTO OFICIAL DEL PROYEC.'!B26 -> Alquiler de Carro tanque para riego diario (no incluye domingos) | L20: 9900G040 Asistencias Técnicas Realizadas | M20: UN | P20: 1 | T20: =+V20 -> 94655102 | V20: =+'PRESUPUESTO OFICIAL DEL PROYEC.'!G26 -> 94655102
K21: =+'PRESUPUESTO OFICIAL DEL PROYEC.'!B27 -> Realizar asistencia técnica y mantenimiento | L21: 9900G040 Asistencias Técnicas Realizadas | M21: UN | P21: 1 | T21: =+V21 -> 26261818 | V21: =+'PRESUPUESTO OFICIAL DEL PROYEC.'!G27 -> 26261818
K22: =+'PRESUPUESTO OFICIAL DEL PROYEC.'!B28 -> Aplicar Piedra blanca (granito) M3 | L22: 9900G001 Obras De Mantenimiento De La Infraestructura Física Realizadas | M22: UN | P22: 0.02 | T22: =+V22 -> 4517775 | V22: =+'PRESUPUESTO OFICIAL DEL PROYEC.'!G28 -> 4517775
K23: =+'PRESUPUESTO OFICIAL DEL PROYEC.'!B29 -> Realizar la Demolicion de plantilla en cocreto e=5-10 cms (no incluye retiro) | L23: 9900G001 Obras De Mantenimiento De La Infraestructura Física Realizadas | M23: UN | P23: 0.08 | T23: =+V23 -> 23688160 | V23: =+'PRESUPUESTO OFICIAL DEL PROYEC.'!G29 -> 23688160
... K27: =+'PRESUPUESTO OFICIAL DEL PROYEC.'!B33 -> Realizar Excavacion en material comun seco de 0-2 m manual | L27: 9900G001 Obras De Mantenimiento De La Infraestructura Física Realizadas | M27: UN | P27: 0.08 | T27: =+V27 -> 22746596 | V27: =+'PRESUPUESTO OFICIAL DEL PROYEC.'!G33 -> 22746596
K28: Realizar interventoria | L28: 9900G054 Informes De Interventoria Realizados | M28: UN | P28: 6 | T28: =+V28 -> 0 | V28: =+'PRESUPUESTO OFICIAL DEL PROYEC.'!F42 -> 0
A29: TOTAL COSTOS | V29: =SUM(V8:V28) -> 8.3350178e+08

Sheet AIU ALCALDIA
A4: Alcaldía Mayor De Riohacha
A5: Secretaria de Infraestructura y Servicios Públicos Distrital
A6: ANÁLISIS DE A.I.U
A7: OBJETO: MEJORAMIENTO AMBIENTAL Y PAISAJISTICO DE LAS ZONAS VERDES EN LA AVENIDA PRIMERO DE MAYO DEL DISTRITO DE RIOHACHA, DEPARTAMENTO DE LA GUAJIRA
A8: VALOR DE LOS COSTOS DIRECTOS | B8: =+'PRESUPUESTO OFICIAL DEL PROYEC.'!F35 -> 6.3650384e+08
A9: A.I.U | B9: =+F41 -> 1.9095115e+08
A10: COSTO TOTAL DE OBRA | B10: =+SUM(B8:B9) -> 8.27455e+08
A11: BASE PARA IMPUESTOS | B11: 8.27455e+08 | F11: ADMINISTRACIÓN | G11: =+G38 -> 0.24
A12: DURACIÓN DE LA EJECUCIÓN DE LA OBRA | B12: 6 MESES | F12: IMPREVISTOS | G12: =+G39 -> 0.01
A13: AUI CALCULADO | B13: =+SUM(G11:G13) -> 0.3 | F13: UTILIDAD | G13: 0.05
A14: TOTAL VALOR A.I.U ADOPTADO | B14: =+ROUND(B13,2) -> 0.3
A15: COSTOS ADMINISTRATIVOS | B15: VALOR MENSUAL + F.M $ | C15: CANTIDAD | D15: DEDICACIÓN MENSUAL % | E15: MESES | F15: VALOR PARCIAL $ | G15: % SOBRE COSTOS DIRECTOS
A16: PERSONAL PROFESIONAL Y TÉCNICO (Incluye Prestaciones sociales) | B16: =SUM(B8:B9) -> 8.27455e+08 | F16: =SUM(F17:F20) -> 40390228 | G16: =SUM(G17:G20) -> 0.063456376
A17: Director de obra (ING. CIVIL ) | B17: 7230059 | C17: 1 | D17: 0.1 | E17: 6 | F17: =+E17*D17*C17*B17 -> 4338035.4 | G17: =+F17/$B$8 -> 0.0068154111
A18: Residente de obra (ING. CIVIL ) | B18: 4079899.8 | C18: 1 | D18: 1 | E18: 6 | F18: =+E18*D18*C18*B18 -> 24479399 | G18: =+F18/$B$8 -> 0.038459153
A19: Ingeniero forestal/agrónomo | B19: 3346833.9 | C19: 1 | D19: 0.4 | E19: 6 | F19: =+E19*D19*C19*B19 -> 8032401.4 | G19: =+F19/$B$8 -> 0.012619565
A20: Trabajadora social | B20: 2950326.7 | C20: 1 | D20: 0.2 | E20: 6 | F20: =+E20*D20*C20*B20 -> 3540392.1 | G20: =+F20/$B$8 -> 0.0055622477
A21: GASTOS GENERALES | F21: =SUM(F22:F22) -> 1500000 | G21: =SUM(G22:G22) -> 0.0023566236
A22: Papeleria, Fotocopias, impresiones y estudios fotograficos | B22: 250000 | C22: 1 | E22: 6 | F22: =+E22*C22*B22 -> 1500000 | G22: =+F22/$B$8 -> 0.0023566236
A23: GASTOS LEGALIZACIÓN | F23: =SUM(F24:F29) -> 3301545.4 | G23: =SUM(G24:G29) -> 0.005187
A24: Poliza de garantía (Cumplimiento, Estabilidad, Prestaciones sociales, Manejo de anticipo, R.Civil E) | B24: Tasa prima sobre el valor del contrato | C24: Valor asegurado
A25: Cumplimiento | B25: =+B11 -> 8.27455e+08 | C25: 0.1 | E25: 0.0015 | F25: =E25*C25*B25 -> 124118.25 | G25: =+F25/$B$8 -> 0.000195
A26: Amparo y prestaciones | B26: =+B25 -> 8.27455e+08 | C26: 0.05 | E26: 0.01 | F26: =E26*C26*B26 -> 413727.5 | G26: =+F26/$B$8 -> 0.00065
A27: Amparo Anticipo | B27: =+B25 -> 8.27455e+08 | C27: 0.5 | E27: 0.002 | F27: =E27*C27*B27 -> 827455 | G27: =+F27/$B$8 -> 0.0013
A28: Responsabilidad civil extracontractual | B28: =+B25 -> 8.27455e+08 | C28: 0.17 | E28: 0.002 | F28: =E28*C28*B28 -> 281334.7 | G28: =+F28/$B$8 -> 0.000442
A29: Estabilidad de la Obra | B29: =+B25 -> 8.27455e+08 | C29: 0.1 | E29: 0.02 | F29: =E29*C29*B29 -> 1654910 | G29: =+F29/$B$8 -> 0.0026 | I29: =+SUM(E25:E37) -> 0.1655
A30: DESCUENTOS AL CONTRATO | F30: =SUM(F32:F37) -> 1.0756915e+08 | G30: =SUM(G32:G37) -> 0.169
A31: Base de liquidacion : valor del contrato sin IVA | B31: =+B11 -> 8.27455e+08
A32: Estampilla procultura | B32: =+B31 -> 8.27455e+08 | E32: 0.015 | F32: =B32*E32 -> 12411825 | G32: =+F32/$B$8 -> 0.0195
A33: Estampilla Pro-Departamental | B33: =B31 -> 8.27455e+08 | E33: 0.02 | F33: =B33*E33 -> 16549100 | G33: =+F33/$B$8 -> 0.026
A34: Estampilla Pro-Universidad | B34: =B33 -> 8.27455e+08 | E34: 0.02 | F34: =B34*E34 -> 16549100 | G34: =+F34/$B$8 -> 0.026
A35: Estampilla Pro-Desarrollo Fronterizo Valor del contrato o adición (sin IVA) cuya cuantia sea superior a 500 SMLV | B35: =B34 -> 8.27455e+08 | E35: 0.02 | F35: =B35*E35 -> 16549100 | G35: =+F35/$B$8 -> 0.026
A36: Estampilla prouniversidad Nal de colombia | B36: =+B31 -> 8.27455e+08 | E36: 0.005 | F36: =B36*E36 -> 4137275 | G36: =+F36/$B$8 -> 0.0065
A37: Contribucion obras | B37: =+B35 -> 8.27455e+08 | E37: 0.05 | F37: =B37*E37 -> 41372750 | G37: =+F37/$B$8 -> 0.065
A38: TOTAL COSTOS ADMINISTRATIVOS | F38: =F30+F23+F21+F16 -> 1.5276092e+08 | G38: =+F38/$B$8 -> 0.24
A39: RESERVA PARA IMPREVISTOS | F39: =G39*B$8 -> 6365038.4 | G39: 0.01
A40: UTILIDAD ESPERADA | F40: =G40*B$8 -> 31825192 | G40: 0.05
A41: TOTAL AIU | F41: =SUM(F38:F40) -> 1.9095115e+08 | G41: =SUM(G38:G40) -> 0.3
A45: __________________________________________
A46: ARQ. KEIDER AGUSTIN FREYLE SARMIENTO
...

Sheet 1.1
B7: ANALISIS DE PRECIOS UNITARIOS
B8: ACTIVIDAD 1.1: | C8: =+'PRESUPUESTO OFICIAL DEL PROYEC.'!B11 -> Realizar talleres de socialización y sensibilizacion ambiental
B9: DESCRIPCIÓN | D9: UNIDAD | E9: CANTIDAD / DEDICACION | G9: COSTO UNITARIO | H9: VALOR TOTAL ($)
B10: 1. EQUIPOS | H10: =+H11+H12+H13 -> 173910
B11: COMPUTADOR | D11: MES | E11: 0.033 | G11: 220000 | H11: =+E11*G11 -> 7260
B12: PROYECTOR | D12: MES | E12: 0.033 | G12: 550000 | H12: =+E12*G12 -> 18150
B13: AMPLIFICACION | D13: MES | E13: 0.033 | G13: 4500000 | H13: =+E13*G13 -> 148500
B14: 2. AUDITORIO Y/O ESCENARIOS | D14: Núm | E14: 1 | G14: 146090 | H14: =+E14*G14 -> 146090
B15: 3. TRANSPORTE
B16: TIPO DE TRANSPORTE: | H16: =+E16*G16 -> 0
B17: 4. ALIMENTACIÓN | H17: =SUM(H18:H18) -> 135000
B18: REFRIGERIOS | D18: Núm | E18: 30 | G18: 4500 | H18: =+E18*G18 -> 135000
B19: 5. HOSPEDAJE | H19: =+E19*G19 -> 0
B20: 6. PERSONAL (mano de obra calificada, aplica sólo para casos especiales) | H20: =+H21+H22+H23+H24+H25 -> 397650
B21: Tallerista | C21: 1 | D21: MES | E21: 0.033 | G21: 3700000 | H21: =+E21*G21*C21 -> 122100
B22: Auxiliar | C22: 1 | D22: MES | E22: 0.033 | G22: 2700000 | H22: =+E22*G22*C22 -> 89100
B23: Personal de enlace comunitario | C23: 1 | D23: MES | E23: 0.033 | G23: 1800000 | H23: =+E23*G23*C23 -> 59400
B24: Otro | H24: =+E24*G24*C24 -> 0
B25: Gastos de viaje para el evento | C25: 1 | D25: MES | E25: 0.033 | G25: 3850000 | H25: =+E25*G25*C25 -> 127050
B26: MATERIALES PARA EL DESARROLLO DEL EVENTO | H26: =+H27+H28 -> 298216.5
B27: Papelería | D27: Núm | E27: 1 | G27: 60000 | H27: =+E27*G27 -> 60000
B28: Otros insumos (pendones, cuñas radiales, entre otros) | D28: Núm | E28: 1 | G28: 238216.5 | H28: =+E28*G28 -> 238216.5
B29: OTROS COSTOS ASOCIADOS A LA EJECUCIÓN DEL EVENTO | H29: 0
H30: =+E30*G30 -> 0
H31: =+E31*G31 -> 0
B32: TOTAL EVENTO | H32: =+H10+H14+H15+H17+H19+H20+H26+H29 -> 1150866.5

Sheet 1.2
B5: ANALISIS DE PRECIOS UNITARIOS
B6: ACTIVIDAD 1.2: | C6: =+'PRESUPUESTO OFICIAL DEL PROYEC.'!B12 -> Realizar divulgación del proyecto
B7: I. EQUIPO
B8: Descripción | E8: Unidad | F8: Tarifa/Hora | G8: Rendimiento | H8: Valor-Unit.
H11: Sub-Total | I11: =+H9*E9 -> 0
B12: II. MATERIALES EN OBRA
B13: Descripción | E13: Unidad | F13: Precio-Unit. | G13: Cantidad | H13: Valor-Unit.
B14: Valla publicitaria | E14: UND | F14: 2400000 | G14: 1 | H14: =+F14*G14 -> 2400000
B15: Difusión en medios escritos local y departamental | E15: UND | F15: 3960000 | G15: 1 | H15: =+F15*G15 -> 3960000
H16: Sub-Total | I16: =SUM(H14:H15) -> 6360000
B17: III. TRANSPORTES
D18: Vol. Peso ó Cant. | E18: Distancia | F18: und-Km | G18: Tarifa | H18: Valor-Unit.
B19: Transporte valla al sitio de la obra | H19: 150000
H22: Sub-Total | I22: =+H19 -> 150000
B23: IV. MANO DE OBRA
B24: Descripción | E24: Unidad | F24: Tarifa/Hora | G24: Rendimiento | H24: Valor-Unit.
H27: Sub-Total | I27: =SUM(H25:H26) -> 0
F29: Total Costo Directo | I29: =ROUND(I11+I16+I22+I27,0) -> 6510000

Sheet 1.3
A4: ACTIVIDAD 1.3: | B4: =+'PRESUPUESTO OFICIAL DEL PROYEC.'!B13 -> Realizar reuniones para acuerdos de conservacion
A7: NÚMERO DE EVENTOS | B7: 2 | D7: NUMERO DE DÍAS DEL EVENTO | F7: 1 | G7: NUMERO DE PERSONAS POR EVENTO | H7: 30
A9: DESCRIPCIÓN | C9: UNIDAD | D9: CANTIDAD / DEDICACION | F9: COSTO UNITARIO | G9: VALOR TOTAL UN EVENTO ($) | H9: VALOR TOTAL EVENTOS ($)
A10: 1. EQUIPOS | G10: =+G11+G12+G13 -> 173910 | H10: =+H11+H12+H13 -> 347820
A11: COMPUTADOR | C11: MES | D11: 0.033 | F11: 220000 | G11: =+D11*F11 -> 7260 | H11: =+G11*B7 -> 14520
A12: PROYECTOR | C12: MES | D12: 0.033 | F12: 550000 | G12: =+D12*F12 -> 18150 | H12: =+G12*B7 -> 36300
A13: AMPLIFICACION | C13: MES | D13: 0.033 | F13: 4500000 | G13: =+D13*F13 -> 148500 | H13: =+G13*B7 -> 297000
A14: 2. AUDITORIO Y/O ESCENARIOS | C14: Núm | D14: 1 | F14: 146090 | G14: =+D14*F14 -> 146090 | H14: =+G14*B7 -> 292180
A15: 3. TRANSPORTE | G15: =+G16 -> 0 | H15: =+H16 -> 0
A16: TIPO DE TRANSPORTE: | G16: =+D16*F16 -> 0 | H16: =+G16*$L$13 -> 0
A17: 4. ALIMENTACIÓN | G17: =SUM(G18:G21) -> 135000 | H17: =2*(H18+H19+H20+H21) -> 270000
A18: DESAYUNO | G18: =+D18*F18 -> 0 | H18: =+G18*$L$13 -> 0
A19: ALMUERZO | G19: =+D19*F19 -> 0 | H19: =+G19*$L$13 -> 0
A20: CENA | G20: =+D20*F20 -> 0 | H20: =+G20*$L$13 -> 0
A21: REFRIGERIOS | C21: Núm | D21: 30 | F21: 4500 | G21: =+D21*F21 -> 135000 | H21: =+G21 -> 135000
A22: 5. HOSPEDAJE | G22: =+D22*F22 -> 0 | H22: =+G22*$L$13 -> 0
A23: 6. PERSONAL (mano de obra calificada, aplica sólo para casos especiales) | G23: =+G24+G25+G26+G27+G28 -> 397650 | H23: =+G23*2 -> 795300
A24: Tallerista | G24: =+D24*F24*B24 -> 0 | H24: =+G24*$L$13 -> 0
A25: Auxiliar | B25: 1 | C25: MES | D25: 0.033 | F25: 2700000 | G25: =+D25*F25*B25 -> 89100 | H25: =+G25*$L$13 -> 0
A26: Personal de enlace comunitario | B26: 1 | C26: MES | D26: 0.033 | F26: 1800000 | G26: =+D26*F26*B26 -> 59400 | H26: =+G26*$L$13 -> 0
A27: Otro (Profesional área ambiental, forestal, agronomia) | B27: 1 | C27: MES | D27: 0.033 | F27: 3700000 | G27: =+D27*F27*B27 -> 122100 | H27: =+G27*$L$13 -> 0
A28: Gastos de viaje para el evento | B28: 1 | C28: MES | D28: 0.033 | F28: 3850000 | G28: =+D28*F28*B28 -> 127050 | H28: =+G28*$L$13 -> 0
A29: MATERIALES PARA EL DESARROLLO DEL EVENTO | G29: =+G30+G31 -> 60000 | H29: =+(H30+H31+H32)*2 -> 120000
A30: Papelería | C30: Núm | D30: 1 | F30: 60000 | G30: =+D30*F30 -> 60000 | H30: =+G30 -> 60000
A31: Otros insumos (pendones, cuñas radiales, entre otros) | G31: =+D31*F31 -> 0 | H31: =+G31*$L$13 -> 0
A32: IPC PROYECTADO | C32: % | G32: =+D32*(G10+G14+G15+G17+G22+G23+G29) -> 0 | H32: =+G32*B7 -> 0
A33: OTROS COSTOS ASOCIADOS A LA EJECUCIÓN DEL EVENTO | H33: =+G33*$L$13 -> 0
G34: 0 | H34: =+G34*$L$13 -> 0
G35: =+D35*F35 -> 0 | H35: =+G35*$L$13 -> 0
A36: TOTAL EVENTO | G36: =+G10+G14+G15+G17+G22+G23+G29+G32+G33 -> 912650 | H36: =+H10+H14+H33+H15+H17+H22+H23+H29+H32 -> 1825300

Sheet 2.1
B7: ANALISIS DE PRECIOS UNITARIOS
B8: ACTIVIDAD 1.3: | C8: =+'PRESUPUESTO OFICIAL DEL PROYEC.'!B17 -> Sembrar Palma cola de zorro (wodyetia bifurcata)
E9: Costo Unitario $
B10: 1. Número de Plántulas | D10: =+'PRESUPUESTO OFICIAL DEL PROYEC.'!D17 -> 891 | E10: 97900 | F10: =D10*E10 -> 87228900
B11: 2. Porcentaje de reposición % | D11: 0.1
B12: 3. Cantidad de Fertilizantes / Arbol (gr.) | C12: 15-15-15 | D12: 70 | E12: 4218
B13: 4. Cantidad de Hidroretenedor / Árbol (gr.) | D13: 5 | E13: 56400
B14: 5. Cantidad de Correctivos / Arbol (gr.) | C14: Cal dolomita | D14: 80 | E14: 860
B15: 6. Cantidad de Microelementos / Arbol (gr.) | C15: Boro natural | D15: 10 | E15: 16200
B16: 7. Cantidad de Insecticida / Ha (Kg - Lt.) | C16: Lorsban polvo | D16: 2 | E16: 8000
B17: 7. Cantidad de abono orgànico / Arbol (m3) | D17: 0.2 | E17: 35105
B18: 8. Costo por Jornal | E18: 56700
B19: 9. Herramientas (2% de la MO) | D19: 0.02
B20: 10. Transporte Insumos ( % de Insumos) | D20: 0.1
B23: CATEGORIA DE INVERSIÓN | C23: Unidad | D23: Cantidad | E23: Valor Unitario ($) | F23: Valor Total ($)
B24: 1. COSTOS DIRECTOS
B25: 1.1. MANO DE OBRA | C25: RENDIMIENTO
B26: Trazado | C26: Arboles | D26: 1 | E26: 255.17552 | F26: =+D26*E26 -> 255.17552
B27: Plateo | C27: Platos | D27: 1 | E27: 609.67742 | F27: =+D27*E27 -> 609.67742
B28: Ahoyado | C28: Hoyo | D28: 1 | E28: 717.72152 | F28: =+D28*E28 -> 717.72152
B29: Aplicación de fertilizantes y correctivos | C29: Arboles | D29: 1 | E29: 102.07021 | F29: =+D29*E29 -> 102.07021
B30: Transporte interno de insumos | C30: Arboles | D30: 1 | E30: 153.10531 | F30: =+D30*E30 -> 153.10531
B31: Plantación (siembra) | C31: Arboles | D31: 1 | E31: 255.40541 | F31: =+D31*E31 -> 255.40541
B32: Control fitosanitario | C32: Arboles | D32: 1 | E32: 102.07021 | F32: =+D32*E32 -> 102.07021
B33: SUBTOTAL MANO DE OBRA | F33: =+SUM(F26:F32) -> 2195.2256
B34: 1.2. INSUMOS
B35: Plántulas + 10% repos. | C35: Plántulas | D35: =330/300 -> 1.1 | E35: =+E10 -> 97900 | F35: =+D35*E35 -> 107690
B36: Fertilizantes | C36: Kgr. | D36: =21/300 -> 0.07 | E36: =+E12 -> 4218 | F36: =+D36*E36 -> 295.26
B37: Hidroretenedor | C37: Kgr. | D37: =1.5/300 -> 0.005 | E37: =+E13 -> 56400 | F37: =+D37*E37 -> 282
B38: Correctivos | C38: Kgr. | D38: =24/300 -> 0.08 | E38: =+E14 -> 860 | F38: =+D38*E38 -> 68.8
B39: Microelementos | C39: Kgr. | D39: =3/300 -> 0.01 | E39: =+E15 -> 16200 | F39: =+D39*E39 -> 162
B40: Insecticidas | C40: Kgr.- Lts. | D40: =2/300 -> 0.0066666667 | E40: =+E16 -> 8000 | F40: =+D40*E40 -> 53.333333
B41: Abono orgànico | C41: m3 | D41: =+D17 -> 0.2 | E41: =+E17 -> 35105 | F41: =+D41*E41 -> 7021
B42: SUBTOTAL INSUMOS | F42: =SUM(F35:F41) -> 115572.39
B43: 2. HERRAMIENTAS - TRANSPORTE
B44: Herramientas | F44: =+F33*D19 -> 43.904512
B45: Transp. Insumos | F45: =+F42*D20 -> 11557.239
B46: SUBTOTAL HERRAMIENTAS - TRANSPORTE | F46: =+F44+F45 -> 11601.144
B47: TOTAL COSTOS DIRECTOS | F47: =+F33+F42+F46 -> 129368.76

Sheet 2.2
B7: ANALISIS DE PRECIOS UNITARIOS
B8: ACTIVIDAD 2.2: | C8: =+'PRESUPUESTO OFICIAL DEL PROYEC.'!B18 -> Sembrar Duranta roja (alternanthera betzickiana)
E9: Costo Unitario $
B10: 1. Número de Plántulas | D10: =+'PRESUPUESTO OFICIAL DEL PROYEC.'!D18 -> 2852 | E10: 1040 | F10: =D10*E10 -> 2966080
B11: 2. Porcentaje de reposición % | D11: 0.1
B12: 3. Cantidad de Fertilizantes / Arbol (gr.) | C12: 15-15-15 | D12: 70 | E12: 4218
B13: 4. Cantidad de Hidroretenedor / Árbol (gr.) | D13: 5 | E13: 56400
B14: 5. Cantidad de Correctivos / Arbol (gr.) | C14: Cal dolomita | D14: 80 | E14: 860
B15: 6. Cantidad de Microelementos / Arbol (gr.) | C15: Boro natural | D15: 10 | E15: 16200
B16: 7. Cantidad de Insecticida / Ha (Kg - Lt.) | C16: Lorsban polvo | D16: 2 | E16: 8000
B17: 7. Cantidad de abono orgànico / Arbol (m3) | D17: 0.1 | E17: 35105
B18: 8. Costo por Jornal | E18: 56700
B19: 9. Herramientas (2% de la MO) | D19: 0.02
B20: 10. Transporte Insumos ( % de Insumos) | D20: 0.1
B23: CATEGORIA DE INVERSIÓN | C23: Unidad | D23: Cantidad | E23: Valor Unitario ($) | F23: Valor Total ($)
B24: 1. COSTOS DIRECTOS
B25: 1.1. MANO DE OBRA | C25: RENDIMIENTO
B26: Trazado | C26: Arboles | D26: 1 | E26: 255.17552 | F26: =+D26*E26 -> 255.17552
B27: Plateo | C27: Platos | D27: 1 | E27: 609.67742 | F27: =+D27*E27 -> 609.67742
B28: Ahoyado | C28: Hoyo | D28: 1 | E28: 717.72152 | F28: =+D28*E28 -> 717.72152
B29: Aplicación de fertilizantes y correctivos | C29: Arboles | D29: 1 | E29: 102.07021 | F29: =+D29*E29 -> 102.07021
B30: Transporte interno de insumos | C30: Arboles | D30: 1 | E30: 153.10531 | F30: =+D30*E30 -> 153.10531
B31: Plantación (siembra) | C31: Arboles | D31: 1 | E31: 255.40541 | F31: =+D31*E31 -> 255.40541
B32: Control fitosanitario | C32: Arboles | D32: 1 | E32: 102.07021 | F32: =+D32*E32 -> 102.07021
B33: SUBTOTAL MANO DE OBRA | F33: =+SUM(F26:F32) -> 2195.2256
B34: 1.2. INSUMOS
B35: Plántulas + 10% repos. | C35: Plántulas | D35: =330/300 -> 1.1 | E35: =+E10 -> 1040 | F35: =+D35*E35 -> 1144
B36: Fertilizantes | C36: Kgr. | D36: =21/300 -> 0.07 | E36: =+E12 -> 4218 | F36: =+D36*E36 -> 295.26
B37: Hidroretenedor | C37: Kgr. | D37: =1.5/300 -> 0.005 | E37: =+E13 -> 56400 | F37: =+D37*E37 -> 282
B38: Correctivos | C38: Kgr. | D38: =24/300 -> 0.08 | E38: =+E14 -> 860 | F38: =+D38*E38 -> 68.8
B39: Microelementos | C39: Kgr. | D39: =3/300 -> 0.01 | E39: =+E15 -> 16200 | F39: =+D39*E39 -> 162
B40: Insecticidas | C40: Kgr.- Lts. | D40: =2/300 -> 0.0066666667 | E40: =+E16 -> 8000 | F40: =+D40*E40 -> 53.333333
B41: Abono orgànico | C41: m3 | D41: =+D17 -> 0.1 | E41: =+E17 -> 35105 | F41: =+D41*E41 -> 3510.5
B42: SUBTOTAL INSUMOS | F42: =SUM(F35:F41) -> 5515.8933
B43: 2. HERRAMIENTAS - TRANSPORTE
B44: Herramientas | F44: =+F33*D19 -> 43.904512
B45: Transp. Insumos | F45: =+F42*D20 -> 551.58933
B46: SUBTOTAL HERRAMIENTAS - TRANSPORTE | F46: =+F44+F45 -> 595.49385
B47: TOTAL COSTOS DIRECTOS | F47: =+F33+F42+F46 -> 8306.6128

Sheet 2.3
B7: ANALISIS DE PRECIOS UNITARIOS
B8: ACTIVIDAD 2.3: | C8: =+'PRESUPUESTO OFICIAL DEL PROYEC.'!B19 -> Sembrar Wedelia (wedelia trilobata)
E9: Costo Unitario $
B10: 1. Número de Plántulas | D10: =+'PRESUPUESTO OFICIAL DEL PROYEC.'!D19 -> 2852 | E10: 1040 | F10: =D10*E10 -> 2966080
B11: 2. Porcentaje de reposición % | D11: 0.1
B12: 3. Cantidad de Fertilizantes / Arbol (gr.) | C12: 15-15-15 | D12: 70 | E12: 4218
B13: 4. Cantidad de Hidroretenedor / Árbol (gr.) | D13: 5 | E13: 56400
B14: 5. Cantidad de Correctivos / Arbol (gr.) | C14: Cal dolomita | D14: 80 | E14: 860
B15: 6. Cantidad de Microelementos / Arbol (gr.) | C15: Boro natural | D15: 10 | E15: 16200
B16: 7. Cantidad de Insecticida / Ha (Kg - Lt.) | C16: Lorsban polvo | D16: 2 | E16: 8000
B17: 7. Cantidad de abono orgànico / Arbol (m3) | D17: 0.1 | E17: 35105
B18: 8. Costo por Jornal | E18: 56700
B19: 9. Herramientas (2% de la MO) | D19: 0.02
B20: 10. Transporte Insumos ( % de Insumos) | D20: 0.1
B23: CATEGORIA DE INVERSIÓN | C23: Unidad | D23: Cantidad | E23: Valor Unitario ($) | F23: Valor Total ($)
B24: 1. COSTOS DIRECTOS
B25: 1.1. MANO DE OBRA | C25: RENDIMIENTO
B26: Trazado | C26: Arboles | D26: 1 | E26: 255.17552 | F26: =+D26*E26 -> 255.17552
B27: Plateo | C27: Platos | D27: 1 | E27: 609.67742 | F27: =+D27*E27 -> 609.67742
B28: Ahoyado | C28: Hoyo | D28: 1 | E28: 717.72152 | F28: =+D28*E28 -> 717.72152
B29: Aplicación de fertilizantes y correctivos | C29: Arboles | D29: 1 | E29: 102.07021 | F29: =+D29*E29 -> 102.07021
B30: Transporte interno de insumos | C30: Arboles | D30: 1 | E30: 153.10531 | F30: =+D30*E30 -> 153.10531
B31: Plantación (siembra) | C31: Arboles | D31: 1 | E31: 255.40541 | F31: =+D31*E31 -> 255.40541
B32: Control fitosanitario | C32: Arboles | D32: 1 | E32: 102.07021 | F32: =+D32*E32 -> 102.07021
B33: SUBTOTAL MANO DE OBRA | F33: =+SUM(F26:F32) -> 2195.2256
B34: 1.2. INSUMOS
B35: Plántulas + 10% repos. | C35: Plántulas | D35: =330/300 -> 1.1 | E35: =+E10 -> 1040 | F35: =+D35*E35 -> 1144
B36: Fertilizantes | C36: Kgr. | D36: =21/300 -> 0.07 | E36: =+E12 -> 4218 | F36: =+D36*E36 -> 295.26
B37: Hidroretenedor | C37: Kgr. | D37: =1.5/300 -> 0.005 | E37: =+E13 -> 56400 | F37: =+D37*E37 -> 282
B38: Correctivos | C38: Kgr. | D38: =24/300 -> 0.08 | E38: =+E14 -> 860 | F38: =+D38*E38 -> 68.8
B39: Microelementos | C39: Kgr. | D39: =3/300 -> 0.01 | E39: =+E15 -> 16200 | F39: =+D39*E39 -> 162
B40: Insecticidas | C40: Kgr.- Lts. | D40: =2/300 -> 0.0066666667 | E40: =+E16 -> 8000 | F40: =+D40*E40 -> 53.333333
B41: Abono orgànico | C41: m3 | D41: =+D17 -> 0.1 | E41: =+E17 -> 35105 | F41: =+D41*E41 -> 3510.5
B42: SUBTOTAL INSUMOS | F42: =SUM(F35:F41) -> 5515.8933
B43: 2. HERRAMIENTAS - TRANSPORTE
B44: Herramientas | F44: =+F33*D19 -> 43.904512
B45: Transp. Insumos | F45: =+F42*D20 -> 551.58933
B46: SUBTOTAL HERRAMIENTAS - TRANSPORTE | F46: =+F44+F45 -> 595.49385
B47: TOTAL COSTOS DIRECTOS | F47: =+F33+F42+F46 -> 8306.6128

Sheet 2.4
B7: ANALISIS DE PRECIOS UNITARIOS
B8: ACTIVIDAD 2.4: | C8: =+'PRESUPUESTO OFICIAL DEL PROYEC.'!B20 -> Sembrar Tu y yo (euphorbia milii)
E9: Costo Unitario $
B10: 1. Número de Plántulas | D10: =+'PRESUPUESTO OFICIAL DEL PROYEC.'!D20 -> 2852 | E10: 1040 | F10: =D10*E10 -> 2966080
B11: 2. Porcentaje de reposición % | D11: 0.1
B12: 3. Cantidad de Fertilizantes / Arbol (gr.) | C12: 15-15-15 | D12: 70 | E12: 4218
B13: 4. Cantidad de Hidroretenedor / Árbol (gr.) | D13: 5 | E13: 56400
B14: 5. Cantidad de Correctivos / Arbol (gr.) | C14: Cal dolomita | D14: 80 | E14: 860
B15: 6. Cantidad de Microelementos / Arbol (gr.) | C15: Boro natural | D15: 10 | E15: 16200
B16: 7. Cantidad de Insecticida / Ha (Kg - Lt.) | C16: Lorsban polvo | D16: 2 | E16: 8000
B17: 7. Cantidad de abono orgànico / Arbol (m3) | D17: 0.1 | E17: 35105
B18: 8. Costo por Jornal | E18: 56700
B19: 9. Herramientas (2% de la MO) | D19: 0.02
B20: 10. Transporte Insumos ( % de Insumos) | D20: 0.1
B23: CATEGORIA DE INVERSIÓN | C23: Unidad | D23: Cantidad | E23: Valor Unitario ($) | F23: Valor Total ($)
B24: 1. COSTOS DIRECTOS
B25: 1.1. MANO DE OBRA | C25: RENDIMIENTO
B26: Trazado | C26: Arboles | D26: 1 | E26: 255.17552 | F26: =+D26*E26 -> 255.17552
B27: Plateo | C27: Platos | D27: 1 | E27: 609.67742 | F27: =+D27*E27 -> 609.67742
B28: Ahoyado | C28: Hoyo | D28: 1 | E28: 717.72152 | F28: =+D28*E28 -> 717.72152
B29: Aplicación de fertilizantes y correctivos | C29: Arboles | D29: 1 | E29: 102.07021 | F29: =+D29*E29 -> 102.07021
B30: Transporte interno de insumos | C30: Arboles | D30: 1 | E30: 153.10531 | F30: =+D30*E30 -> 153.10531
B31: Plantación (siembra) | C31: Arboles | D31: 1 | E31: 255.40541 | F31: =+D31*E31 -> 255.40541
B32: Control fitosanitario | C32: Arboles | D32: 1 | E32: 102.07021 | F32: =+D32*E32 -> 102.07021
B33: SUBTOTAL MANO DE OBRA | F33: =+SUM(F26:F32) -> 2195.2256
B34: 1.2. INSUMOS
B35: Plántulas + 10% repos. | C35: Plántulas | D35: =330/300 -> 1.1 | E35: =+E10 -> 1040 | F35: =+D35*E35 -> 1144
B36: Fertilizantes | C36: Kgr. | D36: =21/300 -> 0.07 | E36: =+E12 -> 4218 | F36: =+D36*E36 -> 295.26
B37: Hidroretenedor | C37: Kgr. | D37: =1.5/300 -> 0.005 | E37: =+E13 -> 56400 | F37: =+D37*E37 -> 282
B38: Correctivos | C38: Kgr. | D38: =24/300 -> 0.08 | E38: =+E14 -> 860 | F38: =+D38*E38 -> 68.8
B39: Microelementos | C39: Kgr. | D39: =3/300 -> 0.01 | E39: =+E15 -> 16200 | F39: =+D39*E39 -> 162
B40: Insecticidas | C40: Kgr.- Lts. | D40: =2/300 -> 0.0066666667 | E40: =+E16 -> 8000 | F40: =+D40*E40 -> 53.333333
B41: Abono orgànico | C41: m3 | D41: =+D17 -> 0.1 | E41: =+E17 -> 35105 | F41: =+D41*E41 -> 3510.5
B42: SUBTOTAL INSUMOS | F42: =SUM(F35:F41) -> 5515.8933
B43: 2. HERRAMIENTAS - TRANSPORTE
B44: Herramientas | F44: =+F33*D19 -> 43.904512
B45: Transp. Insumos | F45: =+F42*D20 -> 551.58933
B46: SUBTOTAL HERRAMIENTAS - TRANSPORTE | F46: =+F44+F45 -> 595.49385
B47: TOTAL COSTOS DIRECTOS | F47: =+F33+F42+F46 -> 8306.6128

Sheet 2.5
B8: ANALISIS DE PRECIOS UNITARIOS
B9: ACTIVIDAD 2.5: | C9: =+'PRESUPUESTO OFICIAL DEL PROYEC.'!B21 -> Sembrar Uva de playa (coccolova uvífera)
E10: Costo Unitario $
B11: 1. Número de Plántulas | D11: =+'PRESUPUESTO OFICIAL DEL PROYEC.'!D21 -> 2852 | E11: 1040 | F11: =D11*E11 -> 2966080
B12: 2. Porcentaje de reposición % | D12: 0.1
B13: 3. Cantidad de Fertilizantes / Arbol (gr.) | C13: 15-15-15 | D13: 70 | E13: 4218
B14: 4. Cantidad de Hidroretenedor / Árbol (gr.) | D14: 5 | E14: 56400
B15: 5. Cantidad de Correctivos / Arbol (gr.) | C15: Cal dolomita | D15: 80 | E15: 860
B16: 6. Cantidad de Microelementos / Arbol (gr.) | C16: Boro natural | D16: 10 | E16: 16200
B17: 7. Cantidad de Insecticida / Ha (Kg - Lt.) | C17: Lorsban polvo | D17: 2 | E17: 8000
B18: 7. Cantidad de abono orgànico / Arbol (m3) | D18: 0.1 | E18: 35105
B19: 8. Costo por Jornal | E19: 56700
B20: 9. Herramientas (2% de la MO) | D20: 0.02
B21: 10. Transporte Insumos ( % de Insumos) | D21: 0.1
B24: CATEGORIA DE INVERSIÓN | C24: Unidad | D24: Cantidad | E24: Valor Unitario ($) | F24: Valor Total ($)
B25: 1. COSTOS DIRECTOS
B26: 1.1. MANO DE OBRA | C26: RENDIMIENTO
B27: Trazado | C27: Arboles | D27: 1 | E27: 255.17552 | F27: =+D27*E27 -> 255.17552
B28: Plateo | C28: Platos | D28: 1 | E28: 609.67742 | F28: =+D28*E28 -> 609.67742
B29: Ahoyado | C29: Hoyo | D29: 1 | E29: 717.72152 | F29: =+D29*E29 -> 717.72152
B30: Aplicación de fertilizantes y correctivos | C30: Arboles | D30: 1 | E30: 102.07021 | F30: =+D30*E30 -> 102.07021
B31: Transporte interno de insumos | C31: Arboles | D31: 1 | E31: 153.10531 | F31: =+D31*E31 -> 153.10531
B32: Plantación (siembra) | C32: Arboles | D32: 1 | E32: 255.40541 | F32: =+D32*E32 -> 255.40541
B33: Control fitosanitario | C33: Arboles | D33: 1 | E33: 102.07021 | F33: =+D33*E33 -> 102.07021
B34: SUBTOTAL MANO DE OBRA | F34: =+SUM(F27:F33) -> 2195.2256
B35: 1.2. INSUMOS
B36: Plántulas + 10% repos. | C36: Plántulas | D36: =330/300 -> 1.1 | E36: =+E11 -> 1040 | F36: =+D36*E36 -> 1144
B37: Fertilizantes | C37: Kgr. | D37: =21/300 -> 0.07 | E37: =+E13 -> 4218 | F37: =+D37*E37 -> 295.26
B38: Hidroretenedor | C38: Kgr. | D38: =1.5/300 -> 0.005 | E38: =+E14 -> 56400 | F38: =+D38*E38 -> 282
B39: Correctivos | C39: Kgr. | D39: =24/300 -> 0.08 | E39: =+E15 -> 860 | F39: =+D39*E39 -> 68.8
B40: Microelementos | C40: Kgr. | D40: =3/300 -> 0.01 | E40: =+E16 -> 16200 | F40: =+D40*E40 -> 162
B41: Insecticidas | C41: Kgr.- Lts. | D41: =2/300 -> 0.0066666667 | E41: =+E17 -> 8000 | F41: =+D41*E41 -> 53.333333
B42: Abono orgànico | C42: m3 | D42: =+D18 -> 0.1 | E42: =+E18 -> 35105 | F42: =+D42*E42 -> 3510.5
B43: SUBTOTAL INSUMOS | F43: =SUM(F36:F42) -> 5515.8933
B44: 2. HERRAMIENTAS - TRANSPORTE
B45: Herramientas | F45: =+F34*D20 -> 43.904512
B46: Transp. Insumos | F46: =+F43*D21 -> 551.58933
B47: SUBTOTAL HERRAMIENTAS - TRANSPORTE | F47: =+F45+F46 -> 595.49385
B48: TOTAL COSTOS DIRECTOS | F48: =+F34+F43+F47 -> 8306.6128

Sheet 2.6
B6: ANALISIS DE PRECIOS UNITARIOS
B7: ACTIVIDAD 2.6: | C7: =+'PRESUPUESTO OFICIAL DEL PROYEC.'!B22 -> Sembrar Pasto verde (pennisetum alba)
E8: Costo Unitario $
B9: 1. Número de Plántulas | D9: =+'PRESUPUESTO OFICIAL DEL PROYEC.'!D22 -> 2852 | E9: 1040 | F9: =D9*E9 -> 2966080
B10: 2. Porcentaje de reposición % | D10: 0.1
B11: 3. Cantidad de Fertilizantes / Arbol (gr.) | C11: 15-15-15 | D11: 70 | E11: 4218
B12: 4. Cantidad de Hidroretenedor / Árbol (gr.) | D12: 5 | E12: 56400
B13: 5. Cantidad de Correctivos / Arbol (gr.) | C13: Cal dolomita | D13: 80 | E13: 860
B14: 6. Cantidad de Microelementos / Arbol (gr.) | C14: Boro natural | D14: 10 | E14: 16200
B15: 7. Cantidad de Insecticida / Ha (Kg - Lt.) | C15: Lorsban polvo | D15: 2 | E15: 8000
B16: 7. Cantidad de abono orgànico / Arbol (m3) | D16: 0.1 | E16: 35105
B17: 8. Costo por Jornal | E17: 56700
B18: 9. Herramientas (2% de la MO) | D18: 0.02
B19: 10. Transporte Insumos ( % de Insumos) | D19: 0.1
B22: CATEGORIA DE INVERSIÓN | C22: Unidad | D22: Cantidad | E22: Valor Unitario ($) | F22: Valor Total ($)
B23: 1. COSTOS DIRECTOS
B24: 1.1. MANO DE OBRA | C24: RENDIMIENTO
B25: Trazado | C25: Arboles | D25: 1 | E25: 255.17552 | F25: =+D25*E25 -> 255.17552
B26: Plateo | C26: Platos | D26: 1 | E26: 609.67742 | F26: =+D26*E26 -> 609.67742
B27: Ahoyado | C27: Hoyo | D27: 1 | E27: 717.72152 | F27: =+D27*E27 -> 717.72152
B28: Aplicación de fertilizantes y correctivos | C28: Arboles | D28: 1 | E28: 102.07021 | F28: =+D28*E28 -> 102.07021
B29: Transporte interno de insumos | C29: Arboles | D29: 1 | E29: 153.10531 | F29: =+D29*E29 -> 153.10531
B30: Plantación (siembra) | C30: Arboles | D30: 1 | E30: 255.40541 | F30: =+D30*E30 -> 255.40541
B31: Control fitosanitario | C31: Arboles | D31: 1 | E31: 102.07021 | F31: =+D31*E31 -> 102.07021
B32: SUBTOTAL MANO DE OBRA | F32: =+SUM(F25:F31) -> 2195.2256
B33: 1.2. INSUMOS
B34: Plántulas + 10% repos. | C34: Plántulas | D34: =330/300 -> 1.1 | E34: =+E9 -> 1040 | F34: =+D34*E34 -> 1144
B35: Fertilizantes | C35: Kgr. | D35: =21/300 -> 0.07 | E35: =+E11 -> 4218 | F35: =+D35*E35 -> 295.26
B36: Hidroretenedor | C36: Kgr. | D36: =1.5/300 -> 0.005 | E36: =+E12 -> 56400 | F36: =+D36*E36 -> 282
B37: Correctivos | C37: Kgr. | D37: =24/300 -> 0.08 | E37: =+E13 -> 860 | F37: =+D37*E37 -> 68.8
B38: Microelementos | C38: Kgr. | D38: =3/300 -> 0.01 | E38: =+E14 -> 16200 | F38: =+D38*E38 -> 162
B39: Insecticidas | C39: Kgr.- Lts. | D39: =2/300 -> 0.0066666667 | E39: =+E15 -> 8000 | F39: =+D39*E39 -> 53.333333
B40: Abono orgànico | C40: m3 | D40: =+D16 -> 0.1 | E40: =+E16 -> 35105 | F40: =+D40*E40 -> 3510.5
B41: SUBTOTAL INSUMOS | F41: =SUM(F34:F40) -> 5515.8933
B42: 2. HERRAMIENTAS - TRANSPORTE
B43: Herramientas | F43: =+F32*D18 -> 43.904512
B44: Transp. Insumos | F44: =+F41*D19 -> 551.58933
B45: SUBTOTAL HERRAMIENTAS - TRANSPORTE | F45: =+F43+F44 -> 595.49385
B46: TOTAL COSTOS DIRECTOS | F46: =+F32+F41+F45 -> 8306.6128

Sheet 2.7
B7: ANALISIS DE PRECIOS UNITARIOS
B8: ACTIVIDAD 2.7: | C8: =+'PRESUPUESTO OFICIAL DEL PROYEC.'!B23 -> Sembrar Agave (agave desmetiana) (alt de 20 cm)
E9: Costo Unitario $
B10: 1. Número de Plántulas | D10: =+'PRESUPUESTO OFICIAL DEL PROYEC.'!D23 -> 1162.5 | E10: 12680 | F10: =D10*E10 -> 14740500
B11: 2. Porcentaje de reposición % | D11: 0.1
B12: 3. Cantidad de Fertilizantes / Arbol (gr.) | C12: 15-15-15 | D12: 70 | E12: 4218
B13: 4. Cantidad de Hidroretenedor / Árbol (gr.) | D13: 5 | E13: 56400
B14: 5. Cantidad de Correctivos / Arbol (gr.) | C14: Cal dolomita | D14: 80 | E14: 860
B15: 6. Cantidad de Microelementos / Arbol (gr.) | C15: Boro natural | D15: 10 | E15: 16200
B16: 7. Cantidad de Insecticida / Ha (Kg - Lt.) | C16: Lorsban polvo | D16: 2 | E16: 8000
B17: 7. Cantidad de abono orgànico / Arbol (m3) | D17: 0.1 | E17: 35105
B18: 8. Costo por Jornal | E18: 56700
B19: 9. Herramientas (2% de la MO) | D19: 0.02
B20: 10. Transporte Insumos ( % de Insumos) | D20: 0.1
B23: CATEGORIA DE INVERSIÓN | C23: Unidad | D23: Cantidad | E23: Valor Unitario ($) | F23: Valor Total ($)
B24: 1. COSTOS DIRECTOS
B25: 1.1. MANO DE OBRA | C25: RENDIMIENTO
B26: Trazado | C26: Arboles | D26: 1 | E26: 255.17552 | F26: =+D26*E26 -> 255.17552
B27: Plateo | C27: Platos | D27: 1 | E27: 609.67742 | F27: =+D27*E27 -> 609.67742
B28: Ahoyado | C28: Hoyo | D28: 1 | E28: 717.72152 | F28: =+D28*E28 -> 717.72152
B29: Aplicación de fertilizantes y correctivos | C29: Arboles | D29: 1 | E29: 102.07021 | F29: =+D29*E29 -> 102.07021
B30: Transporte interno de insumos | C30: Arboles | D30: 1 | E30: 153.10531 | F30: =+D30*E30 -> 153.10531
B31: Plantación (siembra) | C31: Arboles | D31: 1 | E31: 255.40541 | F31: =+D31*E31 -> 255.40541
B32: Control fitosanitario | C32: Arboles | D32: 1 | E32: 102.07021 | F32: =+D32*E32 -> 102.07021
B33: SUBTOTAL MANO DE OBRA | F33: =+SUM(F26:F32) -> 2195.2256
B34: 1.2. INSUMOS
B35: Plántulas + 10% repos. | C35: Plántulas | D35: =330/300 -> 1.1 | E35: =+E10 -> 12680 | F35: =+D35*E35 -> 13948
B36: Fertilizantes | C36: Kgr. | D36: =21/300 -> 0.07 | E36: =+E12 -> 4218 | F36: =+D36*E36 -> 295.26
B37: Hidroretenedor | C37: Kgr. | D37: =1.5/300 -> 0.005 | E37: =+E13 -> 56400 | F37: =+D37*E37 -> 282
B38: Correctivos | C38: Kgr. | D38: =24/300 -> 0.08 | E38: =+E14 -> 860 | F38: =+D38*E38 -> 68.8
B39: Microelementos | C39: Kgr. | D39: =3/300 -> 0.01 | E39: =+E15 -> 16200 | F39: =+D39*E39 -> 162
B40: Insecticidas | C40: Kgr.- Lts. | D40: =2/300 -> 0.0066666667 | E40: =+E16 -> 8000 | F40: =+D40*E40 -> 53.333333
B41: Abono orgànico | C41: m3 | D41: =+D17 -> 0.1 | E41: =+E17 -> 35105 | F41: =+D41*E41 -> 3510.5
B42: SUBTOTAL INSUMOS | F42: =SUM(F35:F41) -> 18319.893
B43: 2. HERRAMIENTAS - TRANSPORTE
B44: Herramientas | F44: =+F33*D19 -> 43.904512
B45: Transp. Insumos | F45: =+F42*D20 -> 1831.9893
B46: SUBTOTAL HERRAMIENTAS - TRANSPORTE | F46: =+F44+F45 -> 1875.8938
B47: TOTAL COSTOS DIRECTOS | F47: =+F33+F42+F46 -> 22391.013

Sheet 2.8
B7: ANALISIS DE PRECIOS UNITARIOS
B8: ACTIVIDAD 2.8: | C8: =+'PRESUPUESTO OFICIAL DEL PROYEC.'!B24 -> Sembrar Duranta limon (duranta repens)
E9: Costo Unitario $
B10: 1. Número de Plántulas | D10: =+'PRESUPUESTO OFICIAL DEL PROYEC.'!D24 -> 2852 | E10: 1020 | F10: =D10*E10 -> 2909040
B11: 2. Porcentaje de reposición % | D11: 0.1
B12: 3. Cantidad de Fertilizantes / Arbol (gr.) | C12: 15-15-15 | D12: 70 | E12: 4218
B13: 4. Cantidad de Hidroretenedor / Árbol (gr.) | D13: 5 | E13: 56400
B14: 5. Cantidad de Correctivos / Arbol (gr.) | C14: Cal dolomita | D14: 80 | E14: 860
B15: 6. Cantidad de Microelementos / Arbol (gr.) | C15: Boro natural | D15: 10 | E15: 16200
B16: 7. Cantidad de Insecticida / Ha (Kg - Lt.) | C16: Lorsban polvo | D16: 2 | E16: 8000
B17: 7. Cantidad de abono orgànico / Arbol (m3) | D17: 0.1 | E17: 35105
B18: 8. Costo por Jornal | E18: 56700
B19: 9. Herramientas (2% de la MO) | D19: 0.02
B20: 10. Transporte Insumos ( % de Insumos) | D20: 0.1
B23: CATEGORIA DE INVERSIÓN | C23: Unidad | D23: Cantidad | E23: Valor Unitario ($) | F23: Valor Total ($)
B24: 1. COSTOS DIRECTOS
B25: 1.1. MANO DE OBRA | C25: RENDIMIENTO
B26: Trazado | C26: Arboles | D26: 1 | E26: 255.17552 | F26: =+D26*E26 -> 255.17552
B27: Plateo | C27: Platos | D27: 1 | E27: 609.67742 | F27: =+D27*E27 -> 609.67742
B28: Ahoyado | C28: Hoyo | D28: 1 | E28: 717.72152 | F28: =+D28*E28 -> 717.72152
B29: Aplicación de fertilizantes y correctivos | C29: Arboles | D29: 1 | E29: 102.07021 | F29: =+D29*E29 -> 102.07021
B30: Transporte interno de insumos | C30: Arboles | D30: 1 | E30: 153.10531 | F30: =+D30*E30 -> 153.10531
B31: Plantación (siembra) | C31: Arboles | D31: 1 | E31: 255.40541 | F31: =+D31*E31 -> 255.40541
B32: Control fitosanitario | C32: Arboles | D32: 1 | E32: 102.07021 | F32: =+D32*E32 -> 102.07021
B33: SUBTOTAL MANO DE OBRA | F33: =+SUM(F26:F32) -> 2195.2256
B34: 1.2. INSUMOS
B35: Plántulas + 10% repos. | C35: Plántulas | D35: =330/300 -> 1.1 | E35: =+E10 -> 1020 | F35: =+D35*E35 -> 1122
B36: Fertilizantes | C36: Kgr. | D36: =21/300 -> 0.07 | E36: =+E12 -> 4218 | F36: =+D36*E36 -> 295.26
B37: Hidroretenedor | C37: Kgr. | D37: =1.5/300 -> 0.005 | E37: =+E13 -> 56400 | F37: =+D37*E37 -> 282
B38: Correctivos | C38: Kgr. | D38: =24/300 -> 0.08 | E38: =+E14 -> 860 | F38: =+D38*E38 -> 68.8
B39: Microelementos | C39: Kgr. | D39: =3/300 -> 0.01 | E39: =+E15 -> 16200 | F39: =+D39*E39 -> 162
B40: Insecticidas | C40: Kgr.- Lts. | D40: =2/300 -> 0.0066666667 | E40: =+E16 -> 8000 | F40: =+D40*E40 -> 53.333333
B41: Abono orgànico | C41: m3 | D41: =+D17 -> 0.1 | E41: =+E17 -> 35105 | F41: =+D41*E41 -> 3510.5
B42: SUBTOTAL INSUMOS | F42: =SUM(F35:F41) -> 5493.8933
B43: 2. HERRAMIENTAS - TRANSPORTE
B44: Herramientas | F44: =+F33*D19 -> 43.904512
B45: Transp. Insumos | F45: =+F42*D20 -> 549.38933
B46: SUBTOTAL HERRAMIENTAS - TRANSPORTE | F46: =+F44+F45 -> 593.29385
B47: TOTAL COSTOS DIRECTOS | F47: =+F33+F42+F46 -> 8282.4128

Sheet 2.9
B6: APU ACTIVIDAD 1.10
B8: Actividades | C8: Insumos | D8: Descripcion | E8: Unidad | F8: Valor Unitario | G8: Cantidad | H8: Dedicacion | I8: F.M | J8: Total
B9: Sembrar Pasto morado (pennisetum rubrum) | C9: Mano de obra calificada | D9: m.o. alb 1 ayudante-1 ofi | E9: jornal | F9: 30738 | G9: 1 | H9: 0.2 | I9: 1.8 | J9: =F9*G9*I9*H9 -> 11065.68
C10: Equipos y herramientas | D10: herramienta menor | E10: numero | F10: =+J9 -> 11065.68 | G10: 1 | H10: 0.05 | I10: 1 | J10: =+F10*G10*H10*I10 -> 553.284
C11: Materiales | D11: PASTO MORADO 0,20 M (PENNISETUM RUBRUM) | E11: numero | F11: 1840 | G11: 1 | H11: 1 | I11: 1 | J11: =F11*G11*I11*H11 -> 1840
D12: DESESTRESANTE QUIMICO PARA SIEMBRA | E12: LTS | F12: 60000 | G12: 1 | H12: 0.0001 | I12: 1 | J12: =F12*G12*I12*H12 -> 6
D13: ABONO ORGANICO | E13: M3 | F13: 35105 | G13: 1 | H13: 0.2 | I13: 1 | J13: =F13*G13*I13*H13 -> 7021
D14: DESPERDICIOS | E14: % | F14: 32021 | G14: 1 | H14: 0.05 | I14: 1 | J14: =F14*G14*I14*H14 -> 1601.05
B15: SUBTOTAL | J15: =SUM(J9:J14) -> 22087.014
B17: ANALISIS DE PRECIOS UNITARIOS
B18: ACTIVIDAD 2.9: | C18: =+'PRESUPUESTO OFICIAL DEL PROYEC.'!B25 -> Sembrar Pasto morado (pennisetum rubrum)
E19: Costo Unitario $
B20: 1. Número de Plántulas | D20: =+'PRESUPUESTO OFICIAL DEL PROYEC.'!D25 -> 2852 | E20: 1840 | F20: =D20*E20 -> 5247680
B21: 2. Porcentaje de reposición % | D21: 0.1
B22: 3. Cantidad de Fertilizantes / Arbol (gr.) | C22: 15-15-15 | D22: 70 | E22: 4218
B23: 4. Cantidad de Hidroretenedor / Árbol (gr.) | D23: 5 | E23: 56400
B24: 5. Cantidad de Correctivos / Arbol (gr.) | C24: Cal dolomita | D24: 80 | E24: 860
B25: 6. Cantidad de Microelementos / Arbol (gr.) | C25: Boro natural | D25: 10 | E25: 16200
B26: 7. Cantidad de Insecticida / Ha (Kg - Lt.) | C26: Lorsban polvo | D26: 2 | E26: 8000
B27: 7. Cantidad de abono orgànico / Arbol (m3) | D27: 0.1 | E27: 35105
B28: 8. Costo por Jornal | E28: 56700
B29: 9. Herramientas (2% de la MO) | D29: 0.02
B30: 10. Transporte Insumos ( % de Insumos) | D30: 0.1
B33: CATEGORIA DE INVERSIÓN | C33: Unidad | D33: Cantidad | E33: Valor Unitario ($) | F33: Valor Total ($)
B34: 1. COSTOS DIRECTOS
B35: 1.1. MANO DE OBRA | C35: RENDIMIENTO
B36: Trazado | C36: Arboles | D36: 1 | E36: 255.17552 | F36: =+D36*E36 -> 255.17552
B37: Plateo | C37: Platos | D37: 1 | E37: 609.67742 | F37: =+D37*E37 -> 609.67742
B38: Ahoyado | C38: Hoyo | D38: 1 | E38: 717.72152 | F38: =+D38*E38 -> 717.72152
B39: Aplicación de fertilizantes y correctivos | C39: Arboles | D39: 1 | E39: 102.07021 | F39: =+D39*E39 -> 102.07021
B40: Transporte interno de insumos | C40: Arboles | D40: 1 | E40: 153.10531 | F40: =+D40*E40 -> 153.10531
B41: Plantación (siembra) | C41: Arboles | D41: 1 | E41: 255.40541 | F41: =+D41*E41 -> 255.40541
B42: Control fitosanitario | C42: Arboles | D42: 1 | E42: 102.07021 | F42: =+D42*E42 -> 102.07021
B43: SUBTOTAL MANO DE OBRA | F43: =+SUM(F36:F42) -> 2195.2256
B44: 1.2. INSUMOS
B45: Plántulas + 10% repos. | C45: Plántulas | D45: =330/300 -> 1.1 | E45: =+E20 -> 1840 | F45: =+D45*E45 -> 2024
B46: Fertilizantes | C46: Kgr. | D46: =21/300 -> 0.07 | E46: =+E22 -> 4218 | F46: =+D46*E46 -> 295.26
B47: Hidroretenedor | C47: Kgr. | D47: =1.5/300 -> 0.005 | E47: =+E23 -> 56400 | F47: =+D47*E47 -> 282
B48: Correctivos | C48: Kgr. | D48: =24/300 -> 0.08 | E48: =+E24 -> 860 | F48: =+D48*E48 -> 68.8
B49: Microelementos | C49: Kgr. | D49: =3/300 -> 0.01 | E49: =+E25 -> 16200 | F49: =+D49*E49 -> 162
...

Sheet 2.10
B5: REPUBLICA DE COLOMBIA
B6: DISTRITO DE RIOHACHA | E6: ANÁLISIS DE PRECIOS UNITARIOS
B9: OBRA: | F9: ESPECIFICACIÓN:
A10: CODIGO | B10: ITEM: | G10: UNIDAD
A11: 0110 | B11: ='PRESUPUESTO OFICIAL DEL PROYEC.'!B26 -> Alquiler de Carro tanque para riego diario (no incluye domingos) | G11: M3 | H11: =+H39 -> 250984
B12: I. EQUIPO
B13: Descripción | D13: Unidad | E13: Tarifa/Hr | F13: Rendimiento | G13: Valor-Total
G17: Sub-Total | H17: =SUM(G14:G16) -> 0
B18: II. MATERIALES EN OBRA
B19: Descripción | D19: Unidad | E19: Precio-Unit. | F19: Cantidad | G19: Valor-Unit.
B20: UN DE CARRO TANQUE | D20: viaje | E20: 1 | F20: 210000 | G20: =+E20*F20 -> 210000
H25: =SUM(G20:G24) -> 210000
B26: III. TRANSPORTES
B27: Material | C27: Vol. Peso ó Cant. | D27: Distancia | E27: M3-Km | F27: Tarifa | G27: Valor-Unit.
G31: Sub-Total | H31: =SUM(G28:G30) -> 0
B32: IV. MANO DE OBRA
B33: Trabajador | C33: Unidad | D33: Cantidad | E33: V. Unitario. | F33: Rendimiento/dia | G33: Valor-Unit.
A34: ='[161]M.O.'!$A$117 -> 080580 | B34: =+VLOOKUP(A34,'[161]M.O.'!$A$5:$G$3860,2,FALSE) -> m.o. ayu-practico | C34: =+VLOOKUP(A34,'[161]M.O.'!A$5:H3614,5,FALSE) -> HC | D34: 2 | E34: =+VLOOKUP(A34,'[161]M.O.'!$A$5:G3861,6,FALSE) -> 20492 | F34: =1/D34*8 -> 4 | G34: =+E34*D34 -> 40984
G37: Sub-Total | H37: =SUM(G34:G36) -> 40984
E39: Total Costo Directo | H39: =+ROUND(SUM(H16:H37),0) -> 250984

Sheet 2.11
B5: REPUBLICA DE COLOMBIA
B6: DISTRITO DE RIOHACHA | E6: ANÁLISIS DE PRECIOS UNITARIOS
B9: OBRA: | F9: ESPECIFICACIÓN:
A10: CODIGO | B10: ITEM: | G10: UNIDAD
A11: 0110 | B11: ='PRESUPUESTO OFICIAL DEL PROYEC.'!B27 -> Realizar asistencia técnica y mantenimiento | G11: UN | H11: =+H39 -> 20054844
B12: I. EQUIPO
B13: Descripción | D13: Unidad | E13: Tarifa/Hr | F13: Rendimiento | G13: Valor-Total
A14: =[161]INSUMOS!$A$1538 -> 071170 | B14: Guadañadora, Cilindraje 41.5 cm3, Longitud del mango 1450 mm, Peso 7.4 kg | D14: h | E14: 3742.28 | F14: 48 | G14: =+F14*E14 -> 179629.44
A15: =+[161]EQUIPOS!A184 -> E00101600 | B15: =+VLOOKUP(A15,[161]EQUIPOS!$A$5:$G$3877,2,FALSE) -> Herramienta menor | D15: =+VLOOKUP(A15,[161]EQUIPOS!$A$5:$G$3877,3,FALSE) -> % s.m.o. | E15: =+G34 -> 8505000 | F15: 0.042287909 | G15: =+F15*E15 -> 359658.67
B16: Corta setos | D16: h | E16: 2000 | F16: 50 | G16: =+F16*E16 -> 100000
G17: Sub-Total | H17: =SUM(G14:G16) -> 639288.11
B18: II. MATERIALES EN OBRA
B19: Descripción | D19: Unidad | E19: Precio-Unit. | F19: Cantidad | G19: Valor-Unit.
B20: FUNGICIDA | D20: KG | E20: 4 | F20: 20000 | G20: =+E20*F20 -> 80000
B21: INSECTICIDA | D21: CC | E21: 1600 | F21: 300 | G21: =+E21*F21 -> 480000
B22: ABONO ORGANICO | D22: KG | E22: 200 | F22: 350 | G22: =+E22*F22 -> 70000
B23: ABONO QUIMICO | D23: KG | E23: =+((15+10+200+100)/3)*4/12 -> 36.111111 | F23: 5000 | G23: =+E23*F23 -> 180555.56
B24: COMBUSTIBLE | D24: GLB | E24: =0.5*4 -> 2 | F24: 50000 | G24: =+E24*F24 -> 100000
B25: BOLSAS DE BASURA | D25: UN | E25: 800 | F25: 250 | G25: =+E25*F25 -> 200000 | H25: =SUM(G20:G24) -> 910555.56
B26: III. TRANSPORTES
B27: Material | C27: Vol. Peso ó Cant. | D27: Distancia | E27: M3-Km | F27: Tarifa | G27: Valor-Unit.
G31: Sub-Total | H31: =SUM(G28:G30) -> 0
B32: IV. MANO DE OBRA
B33: Trabajador | C33: Unidad | D33: Cantidad | E33: V. Unitario. | F33: Rendimiento/dia | G33: Valor-Unit.
A34: ='[161]M.O.'!$A$82 -> 080270 | B34: Jardinero | C34: Jornal | D34: 150 | E34: 56700 | G34: =+E34*D34 -> 8505000
B35: Tecnico operativo | C35: Mes | D35: 4 | E35: 2500000 | G35: =+D35*E35 -> 10000000
G37: Sub-Total | H37: =SUM(G34:G36) -> 18505000
D38: =150/4 -> 37.5
E39: Total Costo Directo | H39: =+ROUND(SUM(H16:H37),0) -> 20054844

Sheet 2.12
B5: REPUBLICA DE COLOMBIA
B6: DISTRITO DE RIOHACHA | E6: ANÁLISIS DE PRECIOS UNITARIOS
B9: OBRA: | F9: ESPECIFICACIÓN:
A10: CODIGO | B10: ITEM: | G10: UNIDAD
A11: 0688 | B11: =+'PRESUPUESTO OFICIAL DEL PROYEC.'!B28 -> Aplicar Piedra blanca (granito) M3 | G11: M3 | H11: =+'PRESUPUESTO OFICIAL DEL PROYEC.'!E28 -> 230000
B12: I. EQUIPO
B13: Descripción | D13: Unidad | E13: Tarifa/Hr | F13: Rendimiento | G13: Valor-Total
G17: Sub-Total | H17: =SUM(G14:G16) -> 0
B18: II. MATERIALES EN OBRA
B19: Descripción | D19: Unidad | E19: Precio-Unit. | F19: Cantidad | G19: Valor-Unit.
B20: Material piedra blanca (gravilla) incluye transporte | D20: M3 | E20: 176134.62 | F20: 1.3 | G20: =+E20*F20 -> 228975.01
H21: =SUM(G20:G20) -> 228975.01
B22: III. TRANSPORTES
B23: Material | C23: Vol. Peso ó Cant. | D23: Distancia | E23: M3-Km | F23: Tarifa | G23: Valor-Unit.
G27: Sub-Total | H27: =SUM(G24:G26) -> 0
B28: IV. MANO DE OBRA
B29: Trabajador | C29: Unidad | D29: Cantidad | E29: V. Unitario. | F29: Rendimiento/dia | G29: Valor-Unit.
A30: ='[161]M.O.'!$A$117 -> 080580 | B30: =+VLOOKUP(A30,'[161]M.O.'!$A$5:$G$3860,2,FALSE) -> m.o. ayu-practico | C30: =+VLOOKUP(A30,'[161]M.O.'!A$5:H3614,5,FALSE) -> HC | D30: 0.1 | E30: 10246 | F30: =1/D30*8 -> 80 | G30: =+E30*D30 -> 1024.6
G33: Sub-Total | H33: =SUM(G30:G32) -> 1024.6
E35: Total Costo Directo | H35: =+ROUND(SUM(H16:H33),0) -> 230000

Sheet 2.13
B5: REPUBLICA DE COLOMBIA
B6: DISTRITO DE RIOHACHA | E6: ANÁLISIS DE PRECIOS UNITARIOS
B9: OBRA: | F9: ESPECIFICACIÓN:
A10: CODIGO | B10: ITEM: | G10: UNIDAD
A11: 092 | B11: Demolicion de plantilla en concreto e= 5-10 cms (no incluye retiro) | G11: M2 | H11: =+H41 -> 10917
B12: I. EQUIPO
B13: Descripción | D13: Unidad | E13: Tarifa/Hr | F13: Rendimiento | G13: Valor-Total
A14: =+[161]EQUIPOS!A110 -> E00100941 | B14: =+VLOOKUP(A14,[161]EQUIPOS!$A$5:$G$3878,2,FALSE) -> Minicargador con martillo | D14: =+VLOOKUP(A14,[161]EQUIPOS!A$5:I3611,3,FALSE) -> h | E14: =+VLOOKUP(B14,[161]EQUIPOS!B$5:J3611,3,FALSE) -> 85600 | F14: 0.1 | G14: =+F14*E14 -> 8560
A15: =+[161]EQUIPOS!A185 -> E00101601 | B15: =+VLOOKUP(A15,[161]EQUIPOS!$A$5:$G$3878,2,FALSE) -> Acarreo horizontal | D15: =+VLOOKUP(A15,[161]EQUIPOS!A$5:I3612,3,FALSE) -> % s.m.o. | E15: =+E16 -> 2049.2 | F15: =+VLOOKUP(B15,[161]EQUIPOS!B$5:J3612,3,FALSE) -> 0.1 | G15: =+F15*E15 -> 204.92
A16: =+[161]EQUIPOS!A184 -> E00101600 | B16: =+VLOOKUP(A16,[161]EQUIPOS!$A$5:$G$3878,2,FALSE) -> Herramienta menor | D16: =+VLOOKUP(A16,[161]EQUIPOS!A$5:I3613,3,FALSE) -> % s.m.o. | E16: =+G35 -> 2049.2 | F16: =+VLOOKUP(A16,[161]EQUIPOS!$A$5:$G$3878,4,FALSE) -> 0.05 | G16: =+F16*E16 -> 102.46
G18: Sub-Total | H18: =SUM(G14:G16) -> 8867.38
B19: II. MATERIALES EN OBRA
B20: Descripción | D20: Unidad | E20: Precio-Unit. | F20: Cantidad | G20: Valor-Unit.
G26: Sub-Total | H26: =SUM(G21:G25) -> 0
B27: III. TRANSPORTES
B28: Material | C28: Vol. Peso ó Cant. | D28: Distancia | E28: M3-Km | F28: Tarifa | G28: Valor-Unit.
G32: Sub-Total | H32: =SUM(G29:G31) -> 0
B33: IV. MANO DE OBRA
B34: Trabajador | C34: Unidad | D34: Cantidad | E34: V. Unitario. | F34: Rendimiento/dia | G34: Valor-Unit.
A35: =+'[161]M.O.'!A75 -> 080200 | B35: =+VLOOKUP(A35,'[161]M.O.'!$A$5:$G$3860,2,FALSE) -> m.o. alb 1 ayudante | C35: =+VLOOKUP(A35,'[161]M.O.'!A$5:H3614,5,FALSE) -> HH | D35: 0.2 | E35: =+VLOOKUP(A35,'[161]M.O.'!$A$5:G3861,6,FALSE) -> 10246 | F35: =1/D35*8 -> 40 | G35: =+E35*D35 -> 2049.2
G39: Sub-Total | H39: =SUM(G35:G38) -> 2049.2
E41: Total Costo Directo | H41: =+ROUND(SUM(H17:H39),0) -> 10917

Sheet 2.14
B5: REPUBLICA DE COLOMBIA
B6: DISTRITO DE RIOHACHA | E6: ANÁLISIS DE PRECIOS UNITARIOS
B9: OBRA: | F9: ESPECIFICACIÓN:
A10: CODIGO | B10: ITEM: | G10: UNIDAD :
A11: 051 | B11: =+'PRESUPUESTO OFICIAL DEL PROYEC.'!B30 -> Realizar Demolicion de bordillos de dimensiones de 15cms x30cms | G11: ML | H11: 10748
B12: I. EQUIPOS
B13: Descripción | D13: Unidad | E13: Tarifa/Hr | F13: Rendimiento | G13: Valor-Total
A14: E00101601 | B14: =+VLOOKUP(A14,[161]EQUIPOS!$A$5:$G$3516,2,FALSE) -> Acarreo horizontal | D14: =+VLOOKUP(A14,[161]EQUIPOS!A$5:I3245,3,FALSE) -> % s.m.o. | E14: 0 | F14: 0.1 | G14: =+F14*E14 -> 0
A15: E00101600 | B15: =+VLOOKUP(A15,[161]EQUIPOS!$A$5:$G$3874,2,FALSE) -> Herramienta menor | D15: =+VLOOKUP(A15,[161]EQUIPOS!$A$5:$G$3874,3,FALSE) -> % s.m.o. | E15: 10244.98 | F15: 0.05 | G15: =+F15*E15 -> 512.249
G17: Sub-Total | H17: =SUM(G14:G16) -> 512.249
B18: II. MATERIALES EN OBRA
B19: Descripción | D19: Unidad | E19: Precio-Unit. | F19: Cantidad | G19: Valor-Unit.
G24: Sub-Total | H24: =SUM(G20:G23) -> 0
B25: III. TRANSPORTES
B26: Material | C26: Vol. Peso ó Cant. | D26: Distancia | E26: M3-Km | F26: Tarifa | G26: Valor-Unit.
G30: Sub-Total | H30: =SUM(G27:G29) -> 0
B31: IV. MANO DE OBRA
B32: Trabajador | C32: Unidad | D32: Cantidad | E32: V. Unitario. | F32: Rendimiento/dia | G32: Valor-Unit.
A33: 80210 | B33: m.o. alb 1 ayudante | C33: HC | D33: 0.333 | E33: 30738 | F33: 1 | G33: =+D33*E33 -> 10235.754 | K33: =+G33/(E33*D33) -> 1
G36: Sub-Total | H36: =SUM(G33:G35) -> 10235.754
