Workbook

Sheet Inicio

Sheet Hoja1
A1: Salario mínimo legal en Colombia
A2: 1.1.1. Serie histórica en pesos colombianos_periodicidad anual
A4: Información disponible desde el 1 de julio de 1984.
A6: Banco de la República - Gerencia Técnica - información extraída de la bodega de datos -Serankua- el 08/10/2018 09:13:42
A8: Año | B8: Salario mínimo diario | C8: Salario mínimo mensual | D8: Variación porcentual anual ¹ | E8: Decretos del Gobierno Nacional
A9: 1984 | B9: 376.6 | C9: 11298 | D9: 0 | E9: N/A
A10: 1985 | B10: 451.92 | C10: 13558 | D10: 0.2 | E10: 0001 de enero de 1985
A11: 1986 | B11: 560.38 | C11: 16811 | D11: 0.24 | E11: 3754 de diciembre de 1985
A12: 1987 | B12: 683.66 | C12: 20510 | D12: 0.22 | E12: 3732 de diciembre de 1986
A13: 1988 | B13: 854.58 | C13: 25637 | D13: 0.25 | E13: 2545 de diciembre de 1987
A14: 1989 | B14: 1085.32 | C14: 32560 | D14: 0.27 | E14: 2662 de diciembre de 1988
A15: 1990 | B15: 1367.5 | C15: 41025 | D15: 0.26 | E15: 3000 de diciembre de 1989
A16: 1991 | B16: 1723.87 | C16: 51716 | D16: 0.261 | E16: 3074 de diciembre de 1990
A17: 1992 | B17: 2173 | C17: 65190 | D17: 0.261 | E17: 2867 de diciembre de 1991
A18: 1993 | B18: 2717 | C18: 81510 | D18: 0.25 | E18: 2061 de diciembre de 1992
A19: 1994 | B19: 3290 | C19: 98700 | D19: 0.211 | E19: 2548 de diciembre de 1993
A20: 1995 | B20: 3964.45 | C20: 118934 | D20: 0.205 | E20: 2872 de diciembre de 1994
... A43: 2018 | B43: 26041.4 | C43: 781242 | D43: 0.059 | E43: 2269 de diciembre 30 de 2017
A44: 2019 | B44: 27603.867 | C44: 828116
A49: Fuente: Ministerio del Trabajo (www.mintrabajo.gov.co) y decretos del Gobierno Nacional (www.presidencia.gov.co).
A51: Nota: desde el 1 de julio de 1984 se unificó el salario mínimo para todos los sectores de la economía.
A53: ¹ Variación porcentual con respecto al dato del año imediatamente anterior.
A55: (N/A) No aplica
A57: Banco de la República - Gerencia Técnica - información extraída de la bodega de datos -Serankua- el 08/10/2018 09:13:42

Sheet PROPONENTE (10)
B3: NOMBRE DEL PROPONENTE: | C3: GRUPO ONE S.A.S
B4: “PRESTAR LOS SERVICIOS PARA DESARROLLAR PLANES DE MEDIOS DE LAS ESTRATEGIAS DE COMUNICACIÓN DEFINIDAS POR LA SECRETARÍA DISTRITAL DE SEGURIDAD, CONVIVENCIA Y JUSTICIA DE BOGOTÁ, CON EL FIN DE PROMOCIONAR TODOS LOS SERVICIOS Y PROGRAMAS QUE TIENE LA ENTIDAD”
B5: FECHA DE CIERRE DEL PROCESO | C5: 43672
B6: PRESUPUESTO OFICIAL: | C6: 900000000
B7: PRESUPUESTO OFICIAL EN SMMLV | C7: =C6/Hoja1!C44 -> 1086.8043
B9: Columna1 | C9: Columna2 | D9: Columna3 | E9: Columna4 | F9: Columna5 | G9: Columna6
B10: 3.6 REQUISITOS HABILITANTES TÉCNICOS
B11: 3.6.1 EXPERIENCIA DEL PROPONENTE
B13: NOMBRE DEL PROPONENTE: | C13: =C3 -> GRUPO ONE S.A.S
B14: Contrato 1 - | C14: GRUPO ONE S.A.S
B15: Objeto: | C15: Contratar una Central de Medios para que preste los servicios de publicación y ordenación de avisos de prensa, televisión nacional y pauta en portales digitales
B16: Contratante: | C16: TICKET FAST S.A.S.
B17: Porcentaje de Participación Consorcios /UT: | C17: 1
C18: Requisito | D18: Acreditado | E18: Consecutivo RUP | F18: Cumple/No cumple | G18: Observaciones
B19: Códigos del Clasificador de Bienes y Servicios | C19: 82101500 | F19: =IF(K23>=1,"CUMPLE","NO CUMPLE") -> CUMPLE | J19: x | K19: =IF(D19="X",1,0) -> 0
C20: 82101600 | D20: x | E20: 29 | K20: =IF(D20="X",1,0) -> 1
C21: 82101800 | D21: x | E21: 29 | K21: =IF(D21="X",1,0) -> 1
C22: 82101900 | D22: x | E22: 29 | K22: =IF(D22="X",1,0) -> 1
B23: Fecha de suscripción del contrato | D23: 43041 | F23: =IF(D23="","NO CUMPLE","CUMPLE") -> CUMPLE | H23: =YEAR(D23) -> 2017 | K23: =SUM(K19:K22) -> 3
B24: Valor del proyecto o contrato | D24: 1785000000 | F24: =IF(D24="","NO CUMPLE","CUMPLE") -> CUMPLE
B25: Fecha de terminación del contrato | D25: 43185 | F25: =IF(D25="","",IF(OR(D25>$C$5,D25<$K$25,),"NO CUMPLE","CUMPLE")) -> CUMPLE | K25: 41846
B26: SMMLV - a la fecha de suscripción del contrato | D26: =IFERROR((D24/(VLOOKUP(H23,Hoja1!$A$9:$C$44,3,0)))*C17,"PENDIENTE") -> 2419.627 | F26: =IF(D26=0,"NO CUMPLE","CUMPLE") -> CUMPLE
B27: TIPO DE PLAN DE MEDIOS ACREDITADO | C27: RADIO | D27: x | F27: =IF(K32>=1,"CUMPLE","NO CUMPLE") -> CUMPLE | J27: x | K27: =IF(D27="X",1,0) -> 1
C28: PRENSA | D28: x | K28: =IF(D28="X",1,0) -> 1
C29: TELEVISIÓN | D29: x | K29: =IF(D29="X",1,0) -> 1
C30: DIGITALES | D30: x | K30: =IF(D30="X",1,0) -> 1
C31: MEDIOS ALTERNATIVOS | K31: =IF(D31="X",1,0) -> 0
B32: Valoración de la experiencia acreditada mediante el presente contrato | F32: =IF(F27="","PENDIENTE",IF(F26="","PENDIENTE",IF(F25="","PENDIENTE",IF(F24="","PENDIENTE",IF(F23="","PENDIENTE",IF(F19="","PENDIENTE",IF(F27="NO CUMPLE","NO CUMPLE",IF(F26="NO CUMPLE","NO CUMPLE",IF(F25="NO CUMPLE","NO CUMPLE",IF(F24="NO CUMPLE","NO CUMPLE",(IF(F23="NO CUMPLE","NO CUMPLE",IF(F19="NO CUMPLE","NO CUMPLE","CUMPLE"))))))))))))) -> CUMPLE | H32: NO | K32: =SUM(K27:K31) -> 4
B34: Contrato 2 | C34: GRUPO ONE S.A.S.
B35: Objeto: | C35: Ejecutar actividades de divulgación en medios de comunicación con el fin de difundir la gestión institucional, las metas y objetivos formulados en el plan comercial y de Mercado de la Lotería de Bogotá así como las campañas para combatir el juego ilegal de chance y Lotería.
B36: Contratante: | C36: LOTERÍA DE BOGOTÁ
B37: Porcentaje de Participación Consorcios /UT: | C37: 1
C38: Requisito | D38: Acreditado | E38: Consecutivo RUP | F38: Cumple/No cumple | G38: Observaciones
B39: Códigos del Clasificador de Bienes y Servicios | C39: 82101500 | F39: =IF(K43>=1,"CUMPLE","NO CUMPLE") -> CUMPLE | J39: x | K39: =IF(D39="X",1,0) -> 0
C40: 82101600 | D40: x | E40: 30 | K40: =IF(D40="X",1,0) -> 1
C41: 82101800 | D41: x | E41: 30 | K41: =IF(D41="X",1,0) -> 1
C42: 82101900 | D42: x | E42: 30 | K42: =IF(D42="X",1,0) -> 1
B43: Fecha de suscripción del contrato | D43: 43097 | F43: =IF(D43="","NO CUMPLE","CUMPLE") -> CUMPLE | H43: =YEAR(D43) -> 2017 | K43: =SUM(K39:K42) -> 3
B44: Valor del proyecto o contrato | D44: 601610446 | F44: =IF(D44="","NO CUMPLE","CUMPLE") -> CUMPLE
B45: Fecha de terminación del contrato | D45: 43465 | F45: =IF(D45="","",IF(OR(D45>$C$5,D45<$K$25,),"NO CUMPLE","CUMPLE")) -> CUMPLE | K45: 41846
...

Sheet PROPONENTE (9)
B3: NOMBRE DEL PROPONENTE: | C3: BIG MEDIA PUBLICIDAD S.A.S.
B4: “PRESTAR LOS SERVICIOS PARA DESARROLLAR PLANES DE MEDIOS DE LAS ESTRATEGIAS DE COMUNICACIÓN DEFINIDAS POR LA SECRETARÍA DISTRITAL DE SEGURIDAD, CONVIVENCIA Y JUSTICIA DE BOGOTÁ, CON EL FIN DE PROMOCIONAR TODOS LOS SERVICIOS Y PROGRAMAS QUE TIENE LA ENTIDAD”
B5: FECHA DE CIERRE DEL PROCESO | C5: 43672
B6: PRESUPUESTO OFICIAL: | C6: 900000000
B7: PRESUPUESTO OFICIAL EN SMMLV | C7: =C6/Hoja1!C44 -> 1086.8043
B9: Columna1 | C9: Columna2 | D9: Columna3 | E9: Columna4 | F9: Columna5 | G9: Columna6
B10: 3.6 REQUISITOS HABILITANTES TÉCNICOS
B11: 3.6.1 EXPERIENCIA DEL PROPONENTE
B13: NOMBRE DEL PROPONENTE: | C13: =C3 -> BIG MEDIA PUBLICIDAD S.A.S.
B14: Contrato 1 - | C14: BIG MEDIA PUBLICIDAD S.A.S. (00011)
B15: Objeto: | C15: Prestar el servicio de desarrollo de campañas publicitarias, a través de la elaboración, diseño, negociación y ejecución de planes de medios a nivel nacional y regional, en el cual se incluyen publicaciones de avisos en prensa, revistas, televisiónnacional, regional y por suscripción, cuñas radiales, publicidad exterior, medios digitales, suscripciones y en general todos los medios de comunicación ATL y BTL, así como la asesoría, planificación, producción, postproducción e investigación de medios.
B16: Contratante: | C16: Compañía Manufacturera Manisol S.A.
B17: Porcentaje de Participación Consorcios /UT: | C17: 1
C18: Requisito | D18: Acreditado | E18: Consecutivo RUP | F18: Cumple/No cumple | G18: Observaciones
B19: Códigos del Clasificador de Bienes y Servicios | C19: 82101500 | D19: x | E19: 5 | F19: =IF(K23>=1,"CUMPLE","NO CUMPLE") -> CUMPLE | J19: x | K19: =IF(D19="X",1,0) -> 1
C20: 82101600 | D20: x | E20: 5 | K20: =IF(D20="X",1,0) -> 1
C21: 82101800 | D21: x | E21: 5 | K21: =IF(D21="X",1,0) -> 1
C22: 82101900 | D22: x | E22: 5 | K22: =IF(D22="X",1,0) -> 1
B23: Fecha de suscripción del contrato | D23: 42374 | E23: 0.05 | F23: =IF(D23="","NO CUMPLE","CUMPLE") -> CUMPLE | H23: =YEAR(D23) -> 2016 | K23: =SUM(K19:K22) -> 4
B24: Valor del proyecto o contrato | D24: 1955432759 | F24: =IF(D24="","NO CUMPLE","CUMPLE") -> CUMPLE
B25: Fecha de terminación del contrato | D25: 43465 | F25: =IF(D25="","",IF(OR(D25>$C$5,D25<$K$25,),"NO CUMPLE","CUMPLE")) -> CUMPLE | K25: 41846
B26: SMMLV - a la fecha de suscripción del contrato | D26: =IFERROR((D24/(VLOOKUP(H23,Hoja1!$A$9:$C$44,3,0)))*C17,"PENDIENTE") -> 2836.2007 | F26: =IF(D26=0,"NO CUMPLE","CUMPLE") -> CUMPLE
B27: TIPO DE PLAN DE MEDIOS ACREDITADO | C27: RADIO | D27: x | F27: =IF(K32>=1,"CUMPLE","NO CUMPLE") -> CUMPLE | J27: x | K27: =IF(D27="X",1,0) -> 1
C28: PRENSA | D28: x | K28: =IF(D28="X",1,0) -> 1
C29: TELEVISIÓN | D29: x | K29: =IF(D29="X",1,0) -> 1
C30: DIGITALES | K30: =IF(D30="X",1,0) -> 0
C31: MEDIOS ALTERNATIVOS | D31: x | K31: =IF(D31="X",1,0) -> 1
B32: Valoración de la experiencia acreditada mediante el presente contrato | F32: =IF(F27="","PENDIENTE",IF(F26="","PENDIENTE",IF(F25="","PENDIENTE",IF(F24="","PENDIENTE",IF(F23="","PENDIENTE",IF(F19="","PENDIENTE",IF(F27="NO CUMPLE","NO CUMPLE",IF(F26="NO CUMPLE","NO CUMPLE",IF(F25="NO CUMPLE","NO CUMPLE",IF(F24="NO CUMPLE","NO CUMPLE",(IF(F23="NO CUMPLE","NO CUMPLE",IF(F19="NO CUMPLE","NO CUMPLE","CUMPLE"))))))))))))) -> CUMPLE | H32: NO | K32: =SUM(K27:K31) -> 4
B34: Contrato 2 | C34: BIG MEDIA PUBLICIDAD S.A.S.
B35: Objeto: | C35: Prestar el servicio de agencia y/o central de medios para la producción, negociación y ejecución de planes de medios a nivel nacional y regional, en los cuales se incluyen publicaciones de avisos en prensa, revistas, televisión nacional, regional y por suscripción, cuñas radiales, publicidad exterior, medios digitales, suscripciones en general todos los medios de comunicación ATL y BTL, así como la asesoría, planificación, producción, postproducción e investigación de medios
B36: Contratante: | C36: OUR BAG S.A.S BOOTS" BAGS
B37: Porcentaje de Participación Consorcios /UT: | C37: 1
C38: Requisito | D38: Acreditado | E38: Consecutivo RUP | F38: Cumple/No cumple | G38: Observaciones
B39: Códigos del Clasificador de Bienes y Servicios | C39: 82101500 | D39: x | E39: 6 | F39: =IF(K43>=1,"CUMPLE","NO CUMPLE") -> CUMPLE | J39: x | K39: =IF(D39="X",1,0) -> 1
C40: 82101600 | D40: x | E40: 6 | K40: =IF(D40="X",1,0) -> 1
C41: 82101800 | D41: x | E41: 6 | K41: =IF(D41="X",1,0) -> 1
C42: 82101900 | D42: x | E42: 6 | K42: =IF(D42="X",1,0) -> 1
B43: Fecha de suscripción del contrato | D43: 42380 | F43: =IF(D43="","NO CUMPLE","CUMPLE") -> CUMPLE | H43: =YEAR(D43) -> 2016 | K43: =SUM(K39:K42) -> 4
B44: Valor del proyecto o contrato | D44: 1736900128 | F44: =IF(D44="","NO CUMPLE","CUMPLE") -> CUMPLE
B45: Fecha de terminación del contrato | D45: 43465 | F45: =IF(D45="","",IF(OR(D45>$C$5,D45<$K$25,),"NO CUMPLE","CUMPLE")) -> CUMPLE | K45: 41846
...

Sheet PROPONENTE (8)
B3: NOMBRE DEL PROPONENTE: | C3: LINKTIC S.A.S.
B4: “PRESTAR LOS SERVICIOS PARA DESARROLLAR PLANES DE MEDIOS DE LAS ESTRATEGIAS DE COMUNICACIÓN DEFINIDAS POR LA SECRETARÍA DISTRITAL DE SEGURIDAD, CONVIVENCIA Y JUSTICIA DE BOGOTÁ, CON EL FIN DE PROMOCIONAR TODOS LOS SERVICIOS Y PROGRAMAS QUE TIENE LA ENTIDAD”
B5: FECHA DE CIERRE DEL PROCESO | C5: 43672
B6: PRESUPUESTO OFICIAL: | C6: 900000000
B7: PRESUPUESTO OFICIAL EN SMMLV | C7: =C6/Hoja1!C44 -> 1086.8043
B9: Columna1 | C9: Columna2 | D9: Columna3 | E9: Columna4 | F9: Columna5 | G9: Columna6
B10: 3.6 REQUISITOS HABILITANTES TÉCNICOS
B11: 3.6.1 EXPERIENCIA DEL PROPONENTE
B13: NOMBRE DEL PROPONENTE: | C13: =C3 -> LINKTIC S.A.S.
B14: Contrato 1 - | C14: LINKTIC S.A.S.
B15: Objeto: | C15: Desarrollo de software, soporte y mantenimiento e Integración de plataformas BI y diseño e implementación de planes de medios
B16: Contratante: | C16: PREPACOL S.A.S
B17: Porcentaje de Participación Consorcios /UT: | C17: 1
C18: Requisito | D18: Acreditado | E18: Consecutivo RUP | F18: Cumple/No cumple | G18: Observaciones
B19: Códigos del Clasificador de Bienes y Servicios | C19: 82101500 | D19: x | E19: 73 | F19: =IF(K23>=1,"CUMPLE","NO CUMPLE") -> CUMPLE | J19: x | K19: =IF(D19="X",1,0) -> 1
C20: 82101600 | D20: x | E20: 73 | K20: =IF(D20="X",1,0) -> 1
C21: 82101800 | D21: x | E21: 73 | K21: =IF(D21="X",1,0) -> 1
C22: 82101900 | D22: x | E22: 73 | K22: =IF(D22="X",1,0) -> 1
B23: Fecha de suscripción del contrato | D23: 43088 | F23: =IF(D23="","NO CUMPLE","CUMPLE") -> CUMPLE | H23: =YEAR(D23) -> 2017 | K23: =SUM(K19:K22) -> 4
B24: Valor del proyecto o contrato | D24: 2050000000 | F24: =IF(D24="","NO CUMPLE","CUMPLE") -> CUMPLE
B25: Fecha de terminación del contrato | D25: 43453 | F25: =IF(D25="","",IF(OR(D25>$C$5,D25<$K$25,),"NO CUMPLE","CUMPLE")) -> CUMPLE | K25: 41846
B26: SMMLV - a la fecha de suscripción del contrato | D26: =IFERROR((D24/(VLOOKUP(H23,Hoja1!$A$9:$C$44,3,0)))*C17,"PENDIENTE") -> 2778.8434 | F26: =IF(D26=0,"NO CUMPLE","CUMPLE") -> CUMPLE
B27: TIPO DE PLAN DE MEDIOS ACREDITADO | C27: RADIO | F27: =IF(K32>=1,"CUMPLE","NO CUMPLE") -> CUMPLE | J27: x | K27: =IF(D27="X",1,0) -> 0
C28: PRENSA | K28: =IF(D28="X",1,0) -> 0
C29: TELEVISIÓN | K29: =IF(D29="X",1,0) -> 0
C30: DIGITALES | D30: x | K30: =IF(D30="X",1,0) -> 1
C31: MEDIOS ALTERNATIVOS | D31: x | K31: =IF(D31="X",1,0) -> 1
B32: Valoración de la experiencia acreditada mediante el presente contrato | F32: =IF(F27="","PENDIENTE",IF(F26="","PENDIENTE",IF(F25="","PENDIENTE",IF(F24="","PENDIENTE",IF(F23="","PENDIENTE",IF(F19="","PENDIENTE",IF(F27="NO CUMPLE","NO CUMPLE",IF(F26="NO CUMPLE","NO CUMPLE",IF(F25="NO CUMPLE","NO CUMPLE",IF(F24="NO CUMPLE","NO CUMPLE",(IF(F23="NO CUMPLE","NO CUMPLE",IF(F19="NO CUMPLE","NO CUMPLE","CUMPLE"))))))))))))) -> CUMPLE | H32: NO | K32: =SUM(K27:K31) -> 2
B34: Contrato 2 | C34: LINKTIC S.A.S.
B35: Objeto: | C35: La prestación de los servicios civiles por parte de la sociedad LINKTIC S.A.S., para la asesoría en el manejo y monitoreo de Medios, Publicidad, Mercadeo y la presentación de una estrategia en marketing digital, desarrollo, implementación y manejo del sitio web; servicios que se prestan según el desarrollo de la actividad comercial del CONTRATANTE, y en los términos y condiciones estipulados en la propuesta comercial presentada por parte del Contratista – LINKTIC S.A.S.
B36: Contratante: | C36: MI ÁGUILA GROUP S.A.S.
B37: Porcentaje de Participación Consorcios /UT: | C37: 1
C38: Requisito | D38: Acreditado | E38: Consecutivo RUP | F38: Cumple/No cumple | G38: Observaciones
B39: Códigos del Clasificador de Bienes y Servicios | C39: 82101500 | D39: x | E39: 29 | F39: =IF(K43>=1,"CUMPLE","NO CUMPLE") -> CUMPLE | G39: Dentro del escrito de subsanación de requisitos habilitantes, el proponente allega la certificación de un segundo contrato suscrito con la sociedad MI AGUILA GROUP S.A.S. Así mismo, adjunta el Formato No. 2 debidamente diligenciado | J39: x | K39: =IF(D39="X",1,0) -> 1
C40: 82101600 | D40: x | E40: 29 | K40: =IF(D40="X",1,0) -> 1
C41: 82101800 | D41: x | E41: 29 | K41: =IF(D41="X",1,0) -> 1
C42: 82101900 | D42: x | E42: 29 | K42: =IF(D42="X",1,0) -> 1
B43: Fecha de suscripción del contrato | D43: 42095 | F43: =IF(D43="","NO CUMPLE","CUMPLE") -> CUMPLE | H43: =YEAR(D43) -> 2015 | K43: =SUM(K39:K42) -> 4
B44: Valor del proyecto o contrato | D44: 237000000 | F44: =IF(D44="","NO CUMPLE","CUMPLE") -> CUMPLE
B45: Fecha de terminación del contrato | D45: 42353 | F45: =IF(D45="","",IF(OR(D45>$C$5,D45<$K$25,),"NO CUMPLE","CUMPLE")) -> CUMPLE | K45: 41846
...

Sheet PROPONENTE (7)
B3: NOMBRE DEL PROPONENTE: | C3: UNIÓN TEMPORAL-UT LIFECPM YCENTRAL PROMOTORA DE MEDIOS S.A.S.
B4: “PRESTAR LOS SERVICIOS PARA DESARROLLAR PLANES DE MEDIOS DE LAS ESTRATEGIAS DE COMUNICACIÓN DEFINIDAS POR LA SECRETARÍA DISTRITAL DE SEGURIDAD, CONVIVENCIA Y JUSTICIA DE BOGOTÁ, CON EL FIN DE PROMOCIONAR TODOS LOS SERVICIOS Y PROGRAMAS QUE TIENE LA ENTIDAD”
B5: FECHA DE CIERRE DEL PROCESO | C5: 43672
B6: PRESUPUESTO OFICIAL: | C6: 900000000
B7: PRESUPUESTO OFICIAL EN SMMLV | C7: =C6/Hoja1!C44 -> 1086.8043
B9: Columna1 | C9: Columna2 | D9: Columna3 | E9: Columna4 | F9: Columna5 | G9: Columna6
B10: 3.6 REQUISITOS HABILITANTES TÉCNICOS
B11: 3.6.1 EXPERIENCIA DEL PROPONENTE
B13: NOMBRE DEL PROPONENTE: | C13: =C3 -> UNIÓN TEMPORAL-UT LIFECPM YCENTRAL PROMOTORA DE MEDIOS S.A.S.
B14: Contrato 1 - | C14: CENTRAL PROMOTORA DE MEDIOS S.A.S.
B15: Objeto: | C15: "Contratatar la prestación de servicios para realizar la formulación y puesta en marcha de la estrategía de comunicaciones sobre seguridad víal por medio de comunicados masivos y/ o locales y/o alternativos asi como la estrategía de medios masivos de comunicación a favor de la ANSV"
B16: Contratante: | C16: AGENCIA NACIONAL VÍAL
B17: Porcentaje de Participación Consorcios /UT: | C17: 0.98
C18: Requisito | D18: Acreditado | E18: Consecutivo RUP | F18: Cumple/No cumple | G18: Observaciones
B19: Códigos del Clasificador de Bienes y Servicios | C19: 82101500 | D19: x | E19: 50 | F19: =IF(K23>=1,"CUMPLE","NO CUMPLE") -> CUMPLE | J19: x | K19: =IF(D19="X",1,0) -> 1
C20: 82101600 | D20: x | E20: 50 | K20: =IF(D20="X",1,0) -> 1
C21: 82101800 | D21: x | E21: 50 | K21: =IF(D21="X",1,0) -> 1
C22: 82101900 | D22: x | E22: 50 | K22: =IF(D22="X",1,0) -> 1
B23: Fecha de suscripción del contrato | D23: 42695 | F23: =IF(D23="","NO CUMPLE","CUMPLE") -> CUMPLE | H23: =YEAR(D23) -> 2016 | K23: =SUM(K19:K22) -> 4
B24: Valor del proyecto o contrato | D24: 3746457543 | F24: =IF(D24="","NO CUMPLE","CUMPLE") -> CUMPLE
B25: Fecha de terminación del contrato | D25: 42855 | F25: =IF(D25="","",IF(OR(D25>$C$5,D25<$K$25,),"NO CUMPLE","CUMPLE")) -> CUMPLE | K25: 41846
B26: SMMLV - a la fecha de suscripción del contrato | D26: =IFERROR((D24/(VLOOKUP(H23,Hoja1!$A$9:$C$44,3,0)))*C17,"PENDIENTE") -> 5325.2618 | F26: =IF(D26=0,"NO CUMPLE","CUMPLE") -> CUMPLE
B27: TIPO DE PLAN DE MEDIOS ACREDITADO | C27: RADIO | F27: =IF(K32>=1,"CUMPLE","NO CUMPLE") -> CUMPLE | J27: x | K27: =IF(D27="X",1,0) -> 0
C28: PRENSA | D28: x | K28: =IF(D28="X",1,0) -> 1
C29: TELEVISIÓN | D29: x | K29: =IF(D29="X",1,0) -> 1
C30: DIGITALES | D30: x | K30: =IF(D30="X",1,0) -> 1
C31: MEDIOS ALTERNATIVOS | D31: x | K31: =IF(D31="X",1,0) -> 1
B32: Valoración de la experiencia acreditada mediante el presente contrato | F32: =IF(F27="","PENDIENTE",IF(F26="","PENDIENTE",IF(F25="","PENDIENTE",IF(F24="","PENDIENTE",IF(F23="","PENDIENTE",IF(F19="","PENDIENTE",IF(F27="NO CUMPLE","NO CUMPLE",IF(F26="NO CUMPLE","NO CUMPLE",IF(F25="NO CUMPLE","NO CUMPLE",IF(F24="NO CUMPLE","NO CUMPLE",(IF(F23="NO CUMPLE","NO CUMPLE",IF(F19="NO CUMPLE","NO CUMPLE","CUMPLE"))))))))))))) -> CUMPLE | H32: NO | K32: =SUM(K27:K31) -> 4
B34: Contrato 2 | C34: CENTRAL PROMOTORA DE MEDIOS S.A.S.
B35: Objeto: | C35: Prestación del servicio de central de medios para el desarrollo, ejecución, contratación, evaluación de estrategias de evaluación, plan de medios y ejecución de estrategias de difusión de información de la Alcaldía del Municipio de santiago Cali según ficha EBI 22-038561
B36: Contratante: | C36: Alcaldía del Municipio de Santiago de Cali
B37: Porcentaje de Participación Consorcios /UT: | C37: 0.8
C38: Requisito | D38: Acreditado | E38: Consecutivo RUP | F38: Cumple/No cumple | G38: Observaciones
B39: Códigos del Clasificador de Bienes y Servicios | C39: 82101500 | D39: x | E39: 25 | F39: =IF(K43>=1,"CUMPLE","NO CUMPLE") -> CUMPLE | J39: x | K39: =IF(D39="X",1,0) -> 1
C40: 82101600 | D40: x | E40: 25 | K40: =IF(D40="X",1,0) -> 1
C41: 82101800 | D41: x | E41: 25 | K41: =IF(D41="X",1,0) -> 1
C42: 82101900 | D42: x | E42: 25 | K42: =IF(D42="X",1,0) -> 1
B43: Fecha de suscripción del contrato | D43: 41841 | F43: =IF(D43="","NO CUMPLE","CUMPLE") -> CUMPLE | H43: =YEAR(D43) -> 2014 | K43: =SUM(K39:K42) -> 4
B44: Valor del proyecto o contrato | D44: 3294000000 | F44: =IF(D44="","NO CUMPLE","CUMPLE") -> CUMPLE
B45: Fecha de terminación del contrato | D45: 42004 | F45: =IF(D45="","",IF(OR(D45>$C$5,D45<$K$25,),"NO CUMPLE","CUMPLE")) -> CUMPLE | K45: 41846
...

Sheet PROPONENTE (6)
B3: NOMBRE DEL PROPONENTE: | C3: SERVIMEDIOS
B4: “PRESTAR LOS SERVICIOS PARA DESARROLLAR PLANES DE MEDIOS DE LAS ESTRATEGIAS DE COMUNICACIÓN DEFINIDAS POR LA SECRETARÍA DISTRITAL DE SEGURIDAD, CONVIVENCIA Y JUSTICIA DE BOGOTÁ, CON EL FIN DE PROMOCIONAR TODOS LOS SERVICIOS Y PROGRAMAS QUE TIENE LA ENTIDAD”
B5: FECHA DE CIERRE DEL PROCESO | C5: 43672
B6: PRESUPUESTO OFICIAL: | C6: 900000000
B7: PRESUPUESTO OFICIAL EN SMMLV | C7: =C6/Hoja1!C44 -> 1086.8043
B9: Columna1 | C9: Columna2 | D9: Columna3 | E9: Columna4 | F9: Columna5 | G9: Columna6
B10: 3.6 REQUISITOS HABILITANTES TÉCNICOS
B11: 3.6.1 EXPERIENCIA DEL PROPONENTE
B13: NOMBRE DEL PROPONENTE: | C13: SERVIMEDIOS
B14: Contrato 1 -
B15: Objeto: | C15: Actuar como agencvia y central de medios, prestando el servicio de desarrollo de campañas publicitarias a traves de la producción, diseño y ejecución del plan de medios a nivel internacional, nacional y regional que incluyo la publicación de avisos en prensa, revistas, comerciales para televisión, cuñas radiales, medios digitales y en general todos los mediosATL y BTL, necesarios para el posicionamiento de la marca, asi como el desarrollo creativo de las campañas publicitarias, asesoria, planificación e investigación, desarrollo grafico y creativo como apoyo a las acciones de mercadeo
B16: Contratante: | C16: MEDPLUS
B17: Porcentaje de Participación Consorcios /UT: | C17: 1
C18: Requisito | D18: Acreditado | E18: Consecutivo RUP | F18: Cumple/No cumple | G18: Observaciones
B19: Códigos del Clasificador de Bienes y Servicios | C19: 82101500 | D19: x | E19: 40 | F19: =IF(K23>=1,"CUMPLE","NO CUMPLE") -> CUMPLE | G19: el consecutivo del RUP en este contrato no es el 19 como lo certifican en el formato n°2, sino el 40. | J19: x | K19: =IF(D19="X",1,0) -> 1
C20: 82101600 | D20: x | E20: 40 | K20: =IF(D20="X",1,0) -> 1
C21: 82101800 | D21: x | E21: 40 | K21: =IF(D21="X",1,0) -> 1
C22: 82101900 | D22: x | E22: 40 | K22: =IF(D22="X",1,0) -> 1
B23: Fecha de suscripción del contrato | D23: 43210 | F23: =IF(D23="","NO CUMPLE","CUMPLE") -> CUMPLE | H23: =YEAR(D23) -> 2018 | K23: =SUM(K19:K22) -> 4
B24: Valor del proyecto o contrato | D24: 1073898728 | F24: =IF(D24="","NO CUMPLE","CUMPLE") -> CUMPLE
B25: Fecha de terminación del contrato | D25: 43465 | F25: =IF(D25="","",IF(OR(D25>$C$5,D25<$K$25,),"NO CUMPLE","CUMPLE")) -> CUMPLE | K25: 41846
B26: SMMLV - a la fecha de suscripción del contrato | D26: =IFERROR((D24/(VLOOKUP(H23,Hoja1!$A$9:$C$44,3,0)))*C17,"PENDIENTE") -> 1374.6044 | F26: =IF(D26=0,"NO CUMPLE","CUMPLE") -> CUMPLE
B27: TIPO DE PLAN DE MEDIOS ACREDITADO | C27: RADIO | D27: x | F27: =IF(K32>=1,"CUMPLE","NO CUMPLE") -> CUMPLE | J27: x | K27: =IF(D27="X",1,0) -> 1
C28: PRENSA | D28: x | K28: =IF(D28="X",1,0) -> 1
C29: TELEVISIÓN | D29: x | K29: =IF(D29="X",1,0) -> 1
C30: DIGITALES | D30: x | K30: =IF(D30="X",1,0) -> 1
C31: MEDIOS ALTERNATIVOS | D31: x | K31: =IF(D31="X",1,0) -> 1
B32: Valoración de la experiencia acreditada mediante el presente contrato | F32: =IF(F27="","PENDIENTE",IF(F26="","PENDIENTE",IF(F25="","PENDIENTE",IF(F24="","PENDIENTE",IF(F23="","PENDIENTE",IF(F19="","PENDIENTE",IF(F27="NO CUMPLE","NO CUMPLE",IF(F26="NO CUMPLE","NO CUMPLE",IF(F25="NO CUMPLE","NO CUMPLE",IF(F24="NO CUMPLE","NO CUMPLE",(IF(F23="NO CUMPLE","NO CUMPLE",IF(F19="NO CUMPLE","NO CUMPLE","CUMPLE"))))))))))))) -> CUMPLE | H32: NO | K32: =SUM(K27:K31) -> 5
B34: Contrato 2 | C34: SERVIMEDIOS
B35: Objeto: | C35: Prestar el servicio de agencia de medios para l a publicación y producción de información de carácter institucional de los Planes y Programas de la Secretaria de Cultura Recreación y Deporte en los diferentes medios de Comunicación y otros espacio publicitarios
B36: Contratante: | C36: SECRETARÍA DISTRITAL DE CULTURA Y RECREACIÓN Y DEPORTE
B37: Porcentaje de Participación Consorcios /UT: | C37: 1
C38: Requisito | D38: Acreditado | E38: Consecutivo RUP | F38: Cumple/No cumple | G38: Observaciones
B39: Códigos del Clasificador de Bienes y Servicios | C39: 82101500 | D39: x | E39: 35 | F39: =IF(K43>=1,"CUMPLE","NO CUMPLE") -> CUMPLE | G39: El consecutivo del RUP para este contrato no es el 17 como lo indica el formato N°2, sino el 35 | J39: x | K39: =IF(D39="X",1,0) -> 1
C40: 82101600 | D40: x | E40: 35 | K40: =IF(D40="X",1,0) -> 1
C41: 82101800 | D41: x | E41: 35 | K41: =IF(D41="X",1,0) -> 1
C42: 82101900 | D42: x | E42: 35 | K42: =IF(D42="X",1,0) -> 1
B43: Fecha de suscripción del contrato | D43: 43290 | F43: =IF(D43="","NO CUMPLE","CUMPLE") -> CUMPLE | H43: =YEAR(D43) -> 2018 | K43: =SUM(K39:K42) -> 4
B44: Valor del proyecto o contrato | D44: 1077355140 | F44: =IF(D44="","NO CUMPLE","CUMPLE") -> CUMPLE
B45: Fecha de terminación del contrato | D45: 43447 | F45: =IF(D45="","",IF(OR(D45>$C$5,D45<$K$25,),"NO CUMPLE","CUMPLE")) -> CUMPLE | K45: 41846
...

Sheet PROPONENTE (5)
B3: NOMBRE DEL PROPONENTE: | C3: OPTIMA TM S.A.S
B4: “PRESTAR LOS SERVICIOS PARA DESARROLLAR PLANES DE MEDIOS DE LAS ESTRATEGIAS DE COMUNICACIÓN DEFINIDAS POR LA SECRETARÍA DISTRITAL DE SEGURIDAD, CONVIVENCIA Y JUSTICIA DE BOGOTÁ, CON EL FIN DE PROMOCIONAR TODOS LOS SERVICIOS Y PROGRAMAS QUE TIENE LA ENTIDAD”
B5: FECHA DE CIERRE DEL PROCESO | C5: 43672
B6: PRESUPUESTO OFICIAL: | C6: 900000000
B7: PRESUPUESTO OFICIAL EN SMMLV | C7: =C6/Hoja1!C44 -> 1086.8043
B9: Columna1 | C9: Columna2 | D9: Columna3 | E9: Columna4 | F9: Columna5 | G9: Columna6
B10: 3.6 REQUISITOS HABILITANTES TÉCNICOS
B11: 3.6.1 EXPERIENCIA DEL PROPONENTE
B13: NOMBRE DEL PROPONENTE: | C13: =C3 -> OPTIMA TM S.A.S
B14: Contrato 1 - | C14: 994-2015-OPTIMA TM S.A.S.
B15: Objeto: | C15: Prestación de servicios para la emisión de mensajes de reintegración en medios masivos, alternativos, tradicionales y no tradicionales como respaldo al fortalecimiento del posicionamiento del proceso de reintegración en el marco de la estrategía de counicaciones para la reintegración de la ACR
B16: Contratante: | C16: ACR
B17: Porcentaje de Participación Consorcios /UT: | C17: 1
C18: Requisito | D18: Acreditado | E18: Consecutivo RUP | F18: Cumple/No cumple | G18: Observaciones
B19: Códigos del Clasificador de Bienes y Servicios | C19: 82101500 | D19: x | E19: 142 | F19: =IF(K23>=1,"CUMPLE","NO CUMPLE") -> CUMPLE | J19: x | K19: =IF(D19="X",1,0) -> 1
C20: 82101600 | D20: x | E20: 142 | K20: =IF(D20="X",1,0) -> 1
C21: 82101800 | D21: x | E21: 142 | K21: =IF(D21="X",1,0) -> 1
C22: 82101900 | D22: x | E22: 142 | K22: =IF(D22="X",1,0) -> 1
B23: Fecha de suscripción del contrato | D23: 42208 | F23: =IF(D23="","NO CUMPLE","CUMPLE") -> CUMPLE | H23: =YEAR(D23) -> 2015 | K23: =SUM(K19:K22) -> 4
B24: Valor del proyecto o contrato | D24: 2200000000 | F24: =IF(D24="","NO CUMPLE","CUMPLE") -> CUMPLE
B25: Fecha de terminación del contrato | D25: 42369 | F25: =IF(D25="","",IF(OR(D25>$C$5,D25<$K$25,),"NO CUMPLE","CUMPLE")) -> CUMPLE | K25: 41846
B26: SMMLV - a la fecha de suscripción del contrato | D26: =IFERROR((D24/(VLOOKUP(H23,Hoja1!$A$9:$C$44,3,0)))*C17,"PENDIENTE") -> 3414.2935 | F26: =IF(D26=0,"NO CUMPLE","CUMPLE") -> CUMPLE
B27: TIPO DE PLAN DE MEDIOS ACREDITADO | C27: RADIO | D27: x | F27: =IF(K32>=1,"CUMPLE","NO CUMPLE") -> CUMPLE | J27: x | K27: =IF(D27="X",1,0) -> 1
C28: PRENSA | D28: x | K28: =IF(D28="X",1,0) -> 1
C29: TELEVISIÓN | D29: x | K29: =IF(D29="X",1,0) -> 1
C30: DIGITALES | D30: x | K30: =IF(D30="X",1,0) -> 1
C31: MEDIOS ALTERNATIVOS | D31: x | K31: =IF(D31="X",1,0) -> 1
B32: Valoración de la experiencia acreditada mediante el presente contrato | F32: =IF(F27="","PENDIENTE",IF(F26="","PENDIENTE",IF(F25="","PENDIENTE",IF(F24="","PENDIENTE",IF(F23="","PENDIENTE",IF(F19="","PENDIENTE",IF(F27="NO CUMPLE","NO CUMPLE",IF(F26="NO CUMPLE","NO CUMPLE",IF(F25="NO CUMPLE","NO CUMPLE",IF(F24="NO CUMPLE","NO CUMPLE",(IF(F23="NO CUMPLE","NO CUMPLE",IF(F19="NO CUMPLE","NO CUMPLE","CUMPLE"))))))))))))) -> CUMPLE | H32: NO | K32: =SUM(K27:K31) -> 5
B34: Contrato 2 | C34: OPTIMA TM S.A.S.
B35: Objeto: | C35: Pautar en medios de comunicación las estrategías de comunicación del Ministerio a propósito del interés público en Salud y en Protección Social
B36: Contratante: | C36: MINISTERIO DE SALUD Y PROTECCIÓN SOCIAL
B37: Porcentaje de Participación Consorcios /UT: | C37: 1
C38: Requisito | D38: Acreditado | E38: Consecutivo RUP | F38: Cumple/No cumple | G38: Observaciones
B39: Códigos del Clasificador de Bienes y Servicios | C39: 82101500 | D39: x | E39: 158 | F39: =IF(K43>=1,"CUMPLE","NO CUMPLE") -> CUMPLE | J39: x | K39: =IF(D39="X",1,0) -> 1
C40: 82101600 | D40: x | E40: 158 | K40: =IF(D40="X",1,0) -> 1
C41: 82101800 | D41: x | E41: 158 | K41: =IF(D41="X",1,0) -> 1
C42: 82101900 | D42: x | E42: 158 | K42: =IF(D42="X",1,0) -> 1
B43: Fecha de suscripción del contrato | D43: 42620 | F43: =IF(D43="","NO CUMPLE","CUMPLE") -> CUMPLE | H43: =YEAR(D43) -> 2016 | K43: =SUM(K39:K42) -> 4
B44: Valor del proyecto o contrato | D44: 8925000000 | F44: =IF(D44="","NO CUMPLE","CUMPLE") -> CUMPLE
B45: Fecha de terminación del contrato | D45: 42824 | F45: =IF(D45="","",IF(OR(D45>$C$5,D45<$K$25,),"NO CUMPLE","CUMPLE")) -> CUMPLE | K45: 41846
...

Sheet PROPONENTE (4)
B3: NOMBRE DEL PROPONENTE: | C3: ADD MEDIA
B4: “PRESTAR LOS SERVICIOS PARA DESARROLLAR PLANES DE MEDIOS DE LAS ESTRATEGIAS DE COMUNICACIÓN DEFINIDAS POR LA SECRETARÍA DISTRITAL DE SEGURIDAD, CONVIVENCIA Y JUSTICIA DE BOGOTÁ, CON EL FIN DE PROMOCIONAR TODOS LOS SERVICIOS Y PROGRAMAS QUE TIENE LA ENTIDAD”
B5: FECHA DE CIERRE DEL PROCESO | C5: 43672
B6: PRESUPUESTO OFICIAL: | C6: 900000000
B7: PRESUPUESTO OFICIAL EN SMMLV | C7: =C6/Hoja1!C44 -> 1086.8043
B9: Columna1 | C9: Columna2 | D9: Columna3 | E9: Columna4 | F9: Columna5 | G9: Columna6
B10: 3.6 REQUISITOS HABILITANTES TÉCNICOS
B11: 3.6.1 EXPERIENCIA DEL PROPONENTE
B13: NOMBRE DEL PROPONENTE: | C13: =C3 -> ADD MEDIA
B14: Contrato 1 - | C14: ADD MEDIA
B15: Objeto: | C15: Prestar el servicio de central de medios para la producción y divulgación de las estrategías de comunicación de los planes, programas y proyectos de la Alcaldía de Santiago de Cali, como parte de l proyecto "Fortalecimiento delas acciones institucionales de comunicación hacia la comunidad de Santiago de Cali.
B16: Contratante: | C16: Municipio de Santiago de Cali- Oficina de Comunicaciones
B17: Porcentaje de Participación Consorcios /UT: | C17: 1
C18: Requisito | D18: Acreditado | E18: Consecutivo RUP | F18: Cumple/No cumple | G18: Observaciones
B19: Códigos del Clasificador de Bienes y Servicios | C19: 82101500 | D19: x | E19: 47 | F19: =IF(K23>=1,"CUMPLE","NO CUMPLE") -> CUMPLE | J19: x | K19: =IF(D19="X",1,0) -> 1
C20: 82101600 | D20: x | E20: 47 | K20: =IF(D20="X",1,0) -> 1
C21: 82101800 | D21: x | E21: 47 | K21: =IF(D21="X",1,0) -> 1
C22: 82101900 | D22: x | E22: 47 | K22: =IF(D22="X",1,0) -> 1
B23: Fecha de suscripción del contrato | D23: 43216 | F23: =IF(D23="","NO CUMPLE","CUMPLE") -> CUMPLE | H23: =YEAR(D23) -> 2018 | K23: =SUM(K19:K22) -> 4
B24: Valor del proyecto o contrato | D24: 6150000000 | F24: =IF(D24="","NO CUMPLE","CUMPLE") -> CUMPLE
B25: Fecha de terminación del contrato | D25: 43465 | F25: =IF(D25="","",IF(OR(D25>$C$5,D25<$K$25,),"NO CUMPLE","CUMPLE")) -> CUMPLE | K25: 41846
B26: SMMLV - a la fecha de suscripción del contrato | D26: =IFERROR((D24/(VLOOKUP(H23,Hoja1!$A$9:$C$44,3,0)))*C17,"PENDIENTE") -> 7872.0806 | F26: =IF(D26=0,"NO CUMPLE","CUMPLE") -> CUMPLE
B27: TIPO DE PLAN DE MEDIOS ACREDITADO | C27: RADIO | D27: x | F27: =IF(K32>=1,"CUMPLE","NO CUMPLE") -> CUMPLE | J27: x | K27: =IF(D27="X",1,0) -> 1
C28: PRENSA | D28: x | K28: =IF(D28="X",1,0) -> 1
C29: TELEVISIÓN | D29: x | K29: =IF(D29="X",1,0) -> 1
C30: DIGITALES | D30: x | K30: =IF(D30="X",1,0) -> 1
C31: MEDIOS ALTERNATIVOS | D31: x | K31: =IF(D31="X",1,0) -> 1
B32: Valoración de la experiencia acreditada mediante el presente contrato | F32: =IF(F27="","PENDIENTE",IF(F26="","PENDIENTE",IF(F25="","PENDIENTE",IF(F24="","PENDIENTE",IF(F23="","PENDIENTE",IF(F19="","PENDIENTE",IF(F27="NO CUMPLE","NO CUMPLE",IF(F26="NO CUMPLE","NO CUMPLE",IF(F25="NO CUMPLE","NO CUMPLE",IF(F24="NO CUMPLE","NO CUMPLE",(IF(F23="NO CUMPLE","NO CUMPLE",IF(F19="NO CUMPLE","NO CUMPLE","CUMPLE"))))))))))))) -> CUMPLE | H32: NO | K32: =SUM(K27:K31) -> 5
B34: Contrato 2 | C34: ADD MEDIA
B35: Objeto: | C35: Prestacióndeservicios decentral de medios para vinculación de medios, plan de medios,y ejecución de estrategías de difución de información de la Alcaldía del Municipio de Santiago de Cali, como parte del proyecto "Fortalecimiento de la comunicación entre la Alcaldía y la comunidad del Municipio de Santiago de Cali
B36: Contratante: | C36: Municipio Santiago de Cali
B37: Porcentaje de Participación Consorcios /UT: | C37: 1
C38: Requisito | D38: Acreditado | E38: Consecutivo RUP | F38: Cumple/No cumple | G38: Observaciones
B39: Códigos del Clasificador de Bienes y Servicios | C39: 82101500 | D39: x | E39: 42 | F39: =IF(K43>=1,"CUMPLE","NO CUMPLE") -> CUMPLE | J39: x | K39: =IF(D39="X",1,0) -> 1
C40: 82101600 | D40: x | E40: 42 | K40: =IF(D40="X",1,0) -> 1
C41: 82101800 | D41: x | E41: 42 | K41: =IF(D41="X",1,0) -> 1
C42: 82101900 | D42: x | E42: 42 | K42: =IF(D42="X",1,0) -> 1
B43: Fecha de suscripción del contrato | D43: 42860 | F43: =IF(D43="","NO CUMPLE","CUMPLE") -> CUMPLE | H43: =YEAR(D43) -> 2017 | K43: =SUM(K39:K42) -> 4
B44: Valor del proyecto o contrato | D44: 73771700 | F44: =IF(D44="","NO CUMPLE","CUMPLE") -> CUMPLE
B45: Fecha de terminación del contrato | D45: 43100 | F45: =IF(D45="","",IF(OR(D45>$C$5,D45<$K$25,),"NO CUMPLE","CUMPLE")) -> CUMPLE | K45: 41846
...

Sheet PROPONENTE (3)
B3: NOMBRE DEL PROPONENTE: | C3: UNIÓN TEMPORAL ERCA Y UNIVERSAL GROUP
B4: “PRESTAR LOS SERVICIOS PARA DESARROLLAR PLANES DE MEDIOS DE LAS ESTRATEGIAS DE COMUNICACIÓN DEFINIDAS POR LA SECRETARÍA DISTRITAL DE SEGURIDAD, CONVIVENCIA Y JUSTICIA DE BOGOTÁ, CON EL FIN DE PROMOCIONAR TODOS LOS SERVICIOS Y PROGRAMAS QUE TIENE LA ENTIDAD”
B5: FECHA DE CIERRE DEL PROCESO | C5: 43672
B6: PRESUPUESTO OFICIAL: | C6: 900000000
B7: PRESUPUESTO OFICIAL EN SMMLV | C7: =C6/Hoja1!C44 -> 1086.8043
B9: Columna1 | C9: Columna2 | D9: Columna3 | E9: Columna4 | F9: Columna5 | G9: Columna6
B10: 3.6 REQUISITOS HABILITANTES TÉCNICOS
B11: 3.6.1 EXPERIENCIA DEL PROPONENTE
B13: NOMBRE DEL PROPONENTE: | C13: Universal Group
B14: Contrato 1 - | C14: 311-2018
B15: Objeto: | C15: Prestar el servicio de ejecución del plan de medios, en virtud del contrato interadministrativo 016 de 2018 suscrito con la Agencia Nacional De Seguridad Vial
B16: Contratante: | C16: Canal Regional de Televisión Teveandina LTDA
B17: Porcentaje de Participación Consorcios /UT: | C17: 0.55
C18: Requisito | D18: Acreditado | E18: Consecutivo RUP | F18: Cumple/No cumple | G18: Observaciones
B19: Códigos del Clasificador de Bienes y Servicios | C19: 82101500 | D19: x | E19: 64 | F19: =IF(K23>=1,"CUMPLE","NO CUMPLE") -> CUMPLE | J19: x | K19: =IF(D19="X",1,0) -> 1
C20: 82101600 | D20: x | E20: 64 | K20: =IF(D20="X",1,0) -> 1
C21: 82101800 | D21: x | E21: 64 | K21: =IF(D21="X",1,0) -> 1
C22: 82101900 | D22: x | E22: 64 | K22: =IF(D22="X",1,0) -> 1
B23: Fecha de suscripción del contrato | D23: 43269 | F23: =IF(D23="","NO CUMPLE","CUMPLE") -> CUMPLE | H23: =YEAR(D23) -> 2018 | K23: =SUM(K19:K22) -> 4
B24: Valor del proyecto o contrato | D24: 8144623257 | F24: =IF(D24="","NO CUMPLE","CUMPLE") -> CUMPLE
B25: Fecha de terminación del contrato | D25: 43327 | F25: =IF(D25="","",IF(OR(D25>$C$5,D25<$K$25,),"NO CUMPLE","CUMPLE")) -> CUMPLE | K25: 41846
B26: SMMLV - a la fecha de suscripción del contrato | D26: =IFERROR((D24/(VLOOKUP(H23,Hoja1!$A$9:$C$44,3,0)))*C17,"PENDIENTE") -> 5733.8735 | F26: =IF(D26=0,"NO CUMPLE","CUMPLE") -> CUMPLE
B27: TIPO DE PLAN DE MEDIOS ACREDITADO | C27: RADIO | F27: =IF(K32>=1,"CUMPLE","NO CUMPLE") -> CUMPLE | J27: x | K27: =IF(D27="X",1,0) -> 0
C28: PRENSA | K28: =IF(D28="X",1,0) -> 0
C29: TELEVISIÓN | D29: x | K29: =IF(D29="X",1,0) -> 1
C30: DIGITALES | K30: =IF(D30="X",1,0) -> 0
C31: MEDIOS ALTERNATIVOS | K31: =IF(D31="X",1,0) -> 0
B32: Valoración de la experiencia acreditada mediante el presente contrato | F32: =IF(F27="","PENDIENTE",IF(F26="","PENDIENTE",IF(F25="","PENDIENTE",IF(F24="","PENDIENTE",IF(F23="","PENDIENTE",IF(F19="","PENDIENTE",IF(F27="NO CUMPLE","NO CUMPLE",IF(F26="NO CUMPLE","NO CUMPLE",IF(F25="NO CUMPLE","NO CUMPLE",IF(F24="NO CUMPLE","NO CUMPLE",(IF(F23="NO CUMPLE","NO CUMPLE",IF(F19="NO CUMPLE","NO CUMPLE","CUMPLE"))))))))))))) -> CUMPLE | H32: NO | K32: =SUM(K27:K31) -> 1
B34: Contrato 2 | C34: 071-2015 (UNIVERSAL GROUP)
B35: Objeto: | C35: Realizar el cubrimiento en medios de la campaña de la Policia Nacional "Un compromiso de Corazón"
B36: Contratante: | C36: Imprenta Nacional de Colombia
B37: Porcentaje de Participación Consorcios /UT: | C37: 0.7
C38: Requisito | D38: Acreditado | E38: Consecutivo RUP | F38: Cumple/No cumple | G38: Observaciones
B39: Códigos del Clasificador de Bienes y Servicios | C39: 82101500 | D39: x | E39: 35 | F39: =IF(K43>=1,"CUMPLE","NO CUMPLE") -> CUMPLE | J39: x | K39: =IF(D39="X",1,0) -> 1
C40: 82101600 | D40: x | E40: 35 | K40: =IF(D40="X",1,0) -> 1
C41: 82101800 | D41: x | E41: 35 | K41: =IF(D41="X",1,0) -> 1
C42: 82101900 | D42: x | E42: 35 | K42: =IF(D42="X",1,0) -> 1
B43: Fecha de suscripción del contrato | D43: 42257 | F43: =IF(D43="","NO CUMPLE","CUMPLE") -> CUMPLE | H43: =YEAR(D43) -> 2015 | K43: =SUM(K39:K42) -> 4
B44: Valor del proyecto o contrato | D44: 2093337808 | F44: =IF(D44="","NO CUMPLE","CUMPLE") -> CUMPLE
B45: Fecha de terminación del contrato | D45: 42369 | F45: =IF(D45="","",IF(OR(D45>$C$5,D45<$K$25,),"NO CUMPLE","CUMPLE")) -> CUMPLE | K45: 41846
...

Sheet PROPONENTE (2)
B3: NOMBRE DEL PROPONENTE: | C3: CONSORCIO NACIONAL DE MEDIOS
B4: “PRESTAR LOS SERVICIOS PARA DESARROLLAR PLANES DE MEDIOS DE LAS ESTRATEGIAS DE COMUNICACIÓN DEFINIDAS POR LA SECRETARÍA DISTRITAL DE SEGURIDAD, CONVIVENCIA Y JUSTICIA DE BOGOTÁ, CON EL FIN DE PROMOCIONAR TODOS LOS SERVICIOS Y PROGRAMAS QUE TIENE LA ENTIDAD”
B5: FECHA DE CIERRE DEL PROCESO | C5: 43672
B6: PRESUPUESTO OFICIAL: | C6: 900000000
B7: PRESUPUESTO OFICIAL EN SMMLV | C7: =C6/Hoja1!C44 -> 1086.8043
B9: Columna1 | C9: Columna2 | D9: Columna3 | E9: Columna4 | F9: Columna5 | G9: Columna6
B10: 3.6 REQUISITOS HABILITANTES TÉCNICOS
B11: 3.6.1 EXPERIENCIA DEL PROPONENTE
B13: NOMBRE DEL PROPONENTE: | C13: =C3 -> CONSORCIO NACIONAL DE MEDIOS
B14: Contrato 1 - | C14: CONSORCIO NACIONAL DE MEDIOS
B15: Objeto: | C15: SERVICIOS RELACIONADOS CON PALEACIÓN, DISEÑO E IMPLEMENTACIÓN DE ESTRATEGÍAS EN MEDIOS DE COMUNICACIÓN (TELEVISIÓN, RADIO, EUCOLES, DIGITAL REVISTAS Y VALLAS LED)
B16: Contratante: | C16: CORREDOR EMPRESARIAL S.A.
B17: Porcentaje de Participación Consorcios /UT: | C17: 1
C18: Requisito | D18: Acreditado | E18: Consecutivo RUP | F18: Cumple/No cumple | G18: Observaciones
B19: Códigos del Clasificador de Bienes y Servicios | C19: 82101500 | D19: x | E19: 96 | F19: =IF(K23>=1,"CUMPLE","NO CUMPLE") -> CUMPLE | G19: El consecutivo del RUP para este contrato no es el 98 como lo certifican en el formato N°2, sino el 96 | J19: x | K19: =IF(D19="X",1,0) -> 1
C20: 82101600 | D20: x | E20: 96 | K20: =IF(D20="X",1,0) -> 1
C21: 82101800 | D21: x | E21: 96 | K21: =IF(D21="X",1,0) -> 1
C22: 82101900 | D22: x | E22: 96 | K22: =IF(D22="X",1,0) -> 1
B23: Fecha de suscripción del contrato | D23: 42736 | F23: =IF(D23="","NO CUMPLE","CUMPLE") -> CUMPLE | H23: =YEAR(D23) -> 2017 | K23: =SUM(K19:K22) -> 4
B24: Valor del proyecto o contrato | D24: 6499001322 | F24: =IF(D24="","NO CUMPLE","CUMPLE") -> CUMPLE
B25: Fecha de terminación del contrato | D25: 43100 | F25: =IF(D25="","",IF(OR(D25>$C$5,D25<$K$25,),"NO CUMPLE","CUMPLE")) -> CUMPLE | K25: 41846
B26: SMMLV - a la fecha de suscripción del contrato | D26: =IFERROR((D24/(VLOOKUP(H23,Hoja1!$A$9:$C$44,3,0)))*C17,"PENDIENTE") -> 8809.6131 | F26: =IF(D26=0,"NO CUMPLE","CUMPLE") -> CUMPLE
B27: TIPO DE PLAN DE MEDIOS ACREDITADO | C27: RADIO | D27: x | F27: =IF(K32>=1,"CUMPLE","NO CUMPLE") -> CUMPLE | J27: x | K27: =IF(D27="X",1,0) -> 1
C28: PRENSA | D28: x | K28: =IF(D28="X",1,0) -> 1
C29: TELEVISIÓN | D29: x | K29: =IF(D29="X",1,0) -> 1
C30: DIGITALES | D30: x | K30: =IF(D30="X",1,0) -> 1
C31: MEDIOS ALTERNATIVOS | D31: x | K31: =IF(D31="X",1,0) -> 1
B32: Valoración de la experiencia acreditada mediante el presente contrato | F32: =IF(F27="","PENDIENTE",IF(F26="","PENDIENTE",IF(F25="","PENDIENTE",IF(F24="","PENDIENTE",IF(F23="","PENDIENTE",IF(F19="","PENDIENTE",IF(F27="NO CUMPLE","NO CUMPLE",IF(F26="NO CUMPLE","NO CUMPLE",IF(F25="NO CUMPLE","NO CUMPLE",IF(F24="NO CUMPLE","NO CUMPLE",(IF(F23="NO CUMPLE","NO CUMPLE",IF(F19="NO CUMPLE","NO CUMPLE","CUMPLE"))))))))))))) -> CUMPLE | H32: NO | K32: =SUM(K27:K31) -> 5
B34: Contrato 2 | C34: CONSORCIO NACIONAL DE MEDIOS
B35: Objeto: | C35: SERVICIOS RELACIONADOS CON PALEACIÓN, DISEÑO E IMPLEMENTACIÓN DE ESTRATEGÍAS EN MEDIOS DE COMUNICACIÓN (TELEVISIÓN, RADIO, EUCOLES, DIGITAL REVISTAS Y VALLAS LED)
B36: Contratante: | C36: CORREDOR EMPRESARIAL S.A.
B37: Porcentaje de Participación Consorcios /UT: | C37: 1
C38: Requisito | D38: Acreditado | E38: Consecutivo RUP | F38: Cumple/No cumple | G38: Observaciones
B39: Códigos del Clasificador de Bienes y Servicios | C39: 82101500 | D39: x | E39: 97 | F39: =IF(K43>=1,"CUMPLE","NO CUMPLE") -> CUMPLE | J39: x | K39: =IF(D39="X",1,0) -> 1
C40: 82101600 | D40: x | E40: 97 | K40: =IF(D40="X",1,0) -> 1
C41: 82101800 | D41: x | E41: 97 | K41: =IF(D41="X",1,0) -> 1
C42: 82101900 | D42: x | E42: 97 | K42: =IF(D42="X",1,0) -> 1
B43: Fecha de suscripción del contrato | D43: 43101 | F43: =IF(D43="","NO CUMPLE","CUMPLE") -> CUMPLE | H43: =YEAR(D43) -> 2018 | K43: =SUM(K39:K42) -> 4
B44: Valor del proyecto o contrato | D44: 8149365261 | F44: =IF(D44="","NO CUMPLE","CUMPLE") -> CUMPLE
B45: Fecha de terminación del contrato | D45: 43465 | F45: =IF(D45="","",IF(OR(D45>$C$5,D45<$K$25,),"NO CUMPLE","CUMPLE")) -> CUMPLE | K45: 41846
...

Sheet PROPONENTE (1)
B3: NOMBRE DEL PROPONENTE: | C3: CENTURY MEDIA S.A.S.
B4: “PRESTAR LOS SERVICIOS PARA DESARROLLAR PLANES DE MEDIOS DE LAS ESTRATEGIAS DE COMUNICACIÓN DEFINIDAS POR LA SECRETARÍA DISTRITAL DE SEGURIDAD, CONVIVENCIA Y JUSTICIA DE BOGOTÁ, CON EL FIN DE PROMOCIONAR TODOS LOS SERVICIOS Y PROGRAMAS QUE TIENE LA ENTIDAD”
B5: FECHA DE CIERRE DEL PROCESO | C5: 43672
B6: PRESUPUESTO OFICIAL: | C6: 900000000
B7: PRESUPUESTO OFICIAL EN SMMLV | C7: =C6/Hoja1!C44 -> 1086.8043
B9: Columna1 | C9: Columna2 | D9: Columna3 | E9: Columna4 | F9: Columna5 | G9: Columna6
B10: 3.6 REQUISITOS HABILITANTES TÉCNICOS
B11: 3.6.1 EXPERIENCIA DEL PROPONENTE
B13: NOMBRE DEL PROPONENTE: | C13: CENTURY MEDIA S.A.S.
B14: Contrato 1 - | C14: 838-2015
B15: Objeto: | C15: "PAUTAR EN MEDIOS DE COMUNICACIÓN LAS ESTRATEGÍAS DE COMUNICACIÓN DEL MINISTERIO, A PROPÓSITO DEL INTERÉS PÚBLICO EN SALUD Y PROTECCIÓN SOCIAL
B16: Contratante: | C16: MINISTERIO DE SALUD Y PROTECCIÓN SOCIAL
B17: Porcentaje de Participación Consorcios /UT: | C17: 1
C18: Requisito | D18: Acreditado | E18: Consecutivo RUP | F18: Cumple/No cumple | G18: Observaciones
B19: Códigos del Clasificador de Bienes y Servicios | C19: 82101500 | D19: x | E19: 72 | F19: =IF(K23>=1,"CUMPLE","NO CUMPLE") -> CUMPLE | J19: x | K19: =IF(D19="X",1,0) -> 1
C20: 82101600 | D20: x | E20: 72 | K20: =IF(D20="X",1,0) -> 1
C21: 82101800 | D21: x | E21: 72 | K21: =IF(D21="X",1,0) -> 1
C22: 82101900 | D22: x | E22: 72 | K22: =IF(D22="X",1,0) -> 1
B23: Fecha de suscripción del contrato | D23: 42342 | F23: =IF(D23="","NO CUMPLE","CUMPLE") -> CUMPLE | H23: =YEAR(D23) -> 2015 | K23: =SUM(K19:K22) -> 4
B24: Valor del proyecto o contrato | D24: 12138461704 | F24: =IF(D24="","NO CUMPLE","CUMPLE") -> CUMPLE
B25: Fecha de terminación del contrato | D25: 42459 | F25: =IF(D25="","",IF(OR(D25>$C$5,D25<$K$25,),"NO CUMPLE","CUMPLE")) -> CUMPLE | K25: 41846
B26: SMMLV - a la fecha de suscripción del contrato | D26: =IFERROR((D24/(VLOOKUP(H23,Hoja1!$A$9:$C$44,3,0)))*C17,"PENDIENTE") -> 18838.305 | F26: =IF(D26=0,"NO CUMPLE","CUMPLE") -> CUMPLE
B27: TIPO DE PLAN DE MEDIOS ACREDITADO | C27: RADIO | D27: x | F27: =IF(K32>=1,"CUMPLE","NO CUMPLE") -> CUMPLE | J27: x | K27: =IF(D27="X",1,0) -> 1
C28: PRENSA | D28: x | K28: =IF(D28="X",1,0) -> 1
C29: TELEVISIÓN | D29: x | K29: =IF(D29="X",1,0) -> 1
C30: DIGITALES | D30: x | K30: =IF(D30="X",1,0) -> 1
C31: MEDIOS ALTERNATIVOS | D31: x | K31: =IF(D31="X",1,0) -> 1
B32: Valoración de la experiencia acreditada mediante el presente contrato | F32: =IF(F27="","PENDIENTE",IF(F26="","PENDIENTE",IF(F25="","PENDIENTE",IF(F24="","PENDIENTE",IF(F23="","PENDIENTE",IF(F19="","PENDIENTE",IF(F27="NO CUMPLE","NO CUMPLE",IF(F26="NO CUMPLE","NO CUMPLE",IF(F25="NO CUMPLE","NO CUMPLE",IF(F24="NO CUMPLE","NO CUMPLE",(IF(F23="NO CUMPLE","NO CUMPLE",IF(F19="NO CUMPLE","NO CUMPLE","CUMPLE"))))))))))))) -> CUMPLE | H32: NO | K32: =SUM(K27:K31) -> 5
B34: Contrato 2 | C34: 161-2015
B35: Objeto: | C35: "CONTRATAR LOS SERVICIOS DE UNA CENTRAL DE MEDIOS PARA QUE REALICE LA DIFUSIÓN DE LA ESTRATEGÍA DE COMUNICACIÓN A TRAVÉS DE LOS DIFERENTES MEDIOS DE COMUNICACIÓN MASIVOS, DE ACUERDO A LAS NECESIDADES DE LA SUPERINTENDENCIA NACIONAL DE SALUD, EL ANEXO N°1 ESPECIFICACIONES TÉCNICAS DEL PRESENTE CONTRATO Y LA PROPUESTA DEL CONTRATISTA"
B36: Contratante: | C36: SUPERINTENDENCIA DE SALUD
B37: Porcentaje de Participación Consorcios /UT: | C37: 1
C38: Requisito | D38: Acreditado | E38: Consecutivo RUP | F38: Cumple/No cumple | G38: Observaciones
B39: Códigos del Clasificador de Bienes y Servicios | C39: 82101500 | D39: x | E39: 68 | F39: =IF(K43>=1,"CUMPLE","NO CUMPLE") -> CUMPLE | J39: x | K39: =IF(D39="X",1,0) -> 1
C40: 82101600 | D40: x | E40: 68 | K40: =IF(D40="X",1,0) -> 1
C41: 82101800 | D41: x | E41: 68 | K41: =IF(D41="X",1,0) -> 1
C42: 82101900 | D42: x | E42: 68 | K42: =IF(D42="X",1,0) -> 1
B43: Fecha de suscripción del contrato | D43: 42293 | F43: =IF(D43="","NO CUMPLE","CUMPLE") -> CUMPLE | H43: =YEAR(D43) -> 2015 | K43: =SUM(K39:K42) -> 4
B44: Valor del proyecto o contrato | D44: 2799999946 | F44: =IF(D44="","NO CUMPLE","CUMPLE") -> CUMPLE
B45: Fecha de terminación del contrato | D45: 42369 | F45: =IF(D45="","",IF(OR(D45>$C$5,D45<$K$25,),"NO CUMPLE","CUMPLE")) -> CUMPLE | K45: 41846
...

Sheet CONSOLIDADO
B1: LICITACIÓN PÚBLICA
B2: PROCESO CONTRACTUAL Nro. SCJ-SIF-LP-004-2019
B3: No. | C3: NOMBRE | D3: RESULTADO | E3: PUNTAJE
B4: 1 | C4: ='PROPONENTE (1)'!C3:G3 -> CENTURY MEDIA S.A.S. | D4: ='PROPONENTE (1)'!G247 -> HABILITADO | E4: ='PROPONENTE (1)'!G245 -> 50
B5: 2 | C5: ='PROPONENTE (2)'!C3:G3 -> CONSORCIO NACIONAL DE MEDIOS | D5: ='PROPONENTE (2)'!G247 -> HABILITADO | E5: ='PROPONENTE (2)'!G245 -> 50
B6: 3 | C6: ='PROPONENTE (3)'!C3:G3 -> UNIÓN TEMPORAL ERCA Y UNIVERSAL GROUP | D6: RECHAZADO Ver respuesta a observaciones al Informe Preliminar de Evaluación | E6: ='PROPONENTE (3)'!G245 -> 50
B7: 4 | C7: ='PROPONENTE (4)'!C3:G3 -> ADD MEDIA | D7: ='PROPONENTE (4)'!G247 -> HABILITADO | E7: ='PROPONENTE (4)'!G245 -> 50
B8: 5 | C8: ='PROPONENTE (5)'!C3:G3 -> OPTIMA TM S.A.S | D8: ='PROPONENTE (5)'!G247 -> HABILITADO | E8: ='PROPONENTE (5)'!G245 -> 49
B9: 6 | C9: ='PROPONENTE (6)'!C3:G3 -> SERVIMEDIOS | D9: ='PROPONENTE (6)'!G247 -> NO HABILITADO | E9: ='PROPONENTE (6)'!G245 -> 49
B10: 7 | C10: ='PROPONENTE (7)'!C3:G3 -> UNIÓN TEMPORAL-UT LIFECPM YCENTRAL PROMOTORA DE MEDIOS S.A.S. | D10: ='PROPONENTE (7)'!G247 -> HABILITADO | E10: ='PROPONENTE (7)'!G245 -> 49
B11: 8 | C11: ='PROPONENTE (8)'!C3:G3 -> LINKTIC S.A.S. | D11: ='PROPONENTE (8)'!G247 -> HABILITADO | E11: ='PROPONENTE (8)'!G245 -> 49
B12: 9 | C12: ='PROPONENTE (9)'!C3:G3 -> BIG MEDIA PUBLICIDAD S.A.S. | D12: ='PROPONENTE (9)'!G247 -> HABILITADO | E12: ='PROPONENTE (9)'!G245 -> 49
B13: 10 | C13: ='PROPONENTE (10)'!C3:G3 -> GRUPO ONE S.A.S | D13: ='PROPONENTE (10)'!G247 -> NO HABILITADO | E13: ='PROPONENTE (10)'!G245 -> 50
C17: Original Firmado | D17: Original Firmado
C18: Camilo Ernesto Restrepo Romero | D18: Drayan Camilo Serna Moreno
C19: INTEGRANTE COMITÉ EVALUADOR TÉCNICO | D19: INTEGRANTE COMITÉ EVALUADOR TÉCNICO
